{"text_format":"1","workbook":"xlsx","n_sheets":15,"sheets":["Zmeny","Soutez","Kp","Pilot","Region","Temp","Data","Zebrik G","Zebrik W","KB PMRg 2022","KB PMRg 2023","KB PMRg 2024","N PMČR 2025","N PMČRj 2025","N PMRg 2025"],"not_rendered":{"charts":0,"images":0,"macros":1,"external_links":1,"defined_names":42,"comments":2,"pivot_tables":2},"unopened":[],"bounds":{"document_bytes":16777216,"sheet_cells":100000,"rows_first":2000,"rows_last":500,"rows_between":2000,"halvings":0,"cell_chars":16384,"cell_head_chars":4096},"cells_cut":0,"cells_raw":0,"read":"whole","date_system":"1900"}

{"sheet":"Zmeny","index":0,"n_rows":6,"n_cols":3,"rows_kept":6,"cut":false,"hidden":false,"merged":[[0,1,0,2]]}
[null,"Změna"]
["Datum","Rev","Popis"]
["2024-12-20","00","První draft"]
["2025-01-19","01","Druhý draft"]
["2025-01-21","02","Třetí draft"]
["2025-02-05","03","Final: opravy od soutěžících, přidáno WGC 2024 v Uvalde, odstraněno HOP 2024"]

{"sheet":"Soutez","index":1,"n_rows":138,"n_cols":15,"rows_kept":138,"cut":false,"hidden":false,"merged":[]}
["Soutěž","Stát","Rok","Místo","Termín","Poč. disc.","Poč. pilotů","Ki","Kn1","Kn2","Kp","Kinp","dKinp","Poznámka","Results"]
["Zařazené soutěže 2022:"]
["PMČR 2022 - Klub","CZ",2022,"Zbraslavice","22.5.-4.6.22",9,16,1,2.5000000000000001E-2,0,{"$f":"VLOOKUP(F3,Kp!$A$4:$B$24,2,FALSE)","v":2.5000000000000001E-2},{"$f":"IF(H3=0,0,IF(OR(F3=0,F3=1,F3=2),0,IF(G3<10,0,SUM(H3:K3))))","v":1.0499999999999998},{"$f":"L3-H3","v":4.9999999999999822E-2},null,"https://www.soaringspot.com/en_gb/plachtarske-mistrovstvi-ceske-republiky-2022-zbraslavice-2022/results/klub#"]
["PMČR 2022 - Kombi 15m","CZ",2022,"Zbraslavice","22.5.-4.6.22",8,13,1,0.02,0.02,{"$f":"VLOOKUP(F4,Kp!$A$4:$B$24,2,FALSE)","v":0.02},{"$f":"IF(H4=0,0,IF(OR(F4=0,F4=1,F4=2),0,IF(G4<10,0,SUM(H4:K4))))","v":1.06},6.0000000000000053E-2,null,"https://www.soaringspot.com/en_gb/plachtarske-mistrovstvi-ceske-republiky-2022-zbraslavice-2022/results/kombi-15#"]
["PMČR 2022 - Kombi Open","CZ",2022,"Zbraslavice","22.5.-4.6.22",7,19,1,0.05,0.01,{"$f":"VLOOKUP(F5,Kp!$A$4:$B$24,2,FALSE)","v":1.4999999999999999E-2},1.075,7.4999999999999956E-2,null,"https://www.soaringspot.com/en_gb/plachtarske-mistrovstvi-ceske-republiky-2022-zbraslavice-2022/results/kombi-open#"]
["JPJ 2022 - Klub","CZ",2022,"Šumperk","7.5.-14.5.22",5,39,0.9,0,0,{"$f":"VLOOKUP(F6,Kp!$A$4:$B$24,2,FALSE)","v":5.0000000000000001E-3},0.90500000000000003,5.0000000000000044E-3,null,"https://www.soaringspot.com/en_gb/jpj2022/results/klubova-trida#"]
["JPJ 2022 - Kombi","CZ",2022,"Šumperk","7.5.-14.5.22",5,20,0.9,5.0000000000000001E-3,0,{"$f":"VLOOKUP(F7,Kp!$A$4:$B$24,2,FALSE)","v":5.0000000000000001E-3},0.91,1.0000000000000009E-2,null,"https://www.soaringspot.com/en_gb/jpj2022/results/kombi-trida#"]
["PMRg 2022 - Klub","CZ",2022,"Hodkovice","14.8.-26.8.22",6,13,0.9,5.0000000000000001E-3,0,{"$f":"VLOOKUP(F8,Kp!$A$4:$B$24,2,FALSE)","v":0.01},0.91500000000000004,1.5000000000000013E-2,null,"https://www.soaringspot.com/en_gb/mistrovstvi-ceske-republiky-regionu-2022-hodkovice-2022/results/klubova-trida#"]
["PMRg 2022 - Kombi","CZ",2022,"Hodkovice","14.8.-26.8.22",6,11,0.9,0,0,{"$f":"VLOOKUP(F9,Kp!$A$4:$B$24,2,FALSE)","v":0.01},0.91,1.0000000000000009E-2,null,"https://www.soaringspot.com/en_gb/mistrovstvi-ceske-republiky-regionu-2022-hodkovice-2022/results/kombi-open#"]
["PMČRj 2022 - Klub","CZ",2022,"Hodkovice","3.7.-16.7.22",6,29,0.9,5.0000000000000001E-3,0,{"$f":"VLOOKUP(F10,Kp!$A$4:$B$24,2,FALSE)","v":0.01},0.91500000000000004,1.5000000000000013E-2,null,"https://www.soaringspot.com/en_gb/plachtarske-mistrovstvi-cr-junioru-hodkovice-nad-mohelkou-2022/results/klubova-trida#"]
["GGP MB 2022 - Klub GP","CZ",2022,"Mladá Boleslav","27.8.-3.9.22",5,15,0.9,"0.005",0,{"$f":"VLOOKUP(F11,Kp!$A$4:$B$24,2,FALSE)","v":5.0000000000000001E-3},0.90500000000000003,5.0000000000000044E-3,null,"https://www.soaringspot.com/en_gb/ggp2022/results/club-gp"]
["GGP MB 2022 - Pohár MV - Kombi","CZ",2022,"Mladá Boleslav","27.8.-3.9.22",5,11,0.9,0.01,0,{"$f":"VLOOKUP(F12,Kp!$A$4:$B$24,2,FALSE)","v":5.0000000000000001E-3},0.91500000000000004,1.5000000000000013E-2,null,"https://www.soaringspot.com/en_gb/ggp2022/results/pohar-metodeje-vlach#"]
["Rakovnická Dlaždice 2022 - Klub","CZ",2022,"Rakovník","6.8-14.8.22",6,14,0,0,0,{"$f":"VLOOKUP(F13,Kp!$A$4:$B$24,2,FALSE)","v":0.01},0,{"$f":"L13-H13","v":0},"Rozhodnutím PK AeČR","https://www.soaringspot.com/en_gb/rakovnicka-dlazdice-2022-rakovnik1-2022/results/open#"]
["HOP 2022 - Klub","CZ",2022,"Velké Poříčí","13.8.-20.8.22",4,23,0.75,5.0000000000000001E-3,0,{"$f":"VLOOKUP(F14,Kp!$A$4:$B$24,2,FALSE)","v":0},0.755,5.0000000000000044E-3,null,"https://www.soaringspot.com/en_gb/21-hop-2022-velke-porici-2022/results/klub-hop#"]
["HOP 2022 - Kombi","CZ",2022,"Velké Poříčí","13.8.-20.8.22",4,19,0.75,"0.005",0,{"$f":"VLOOKUP(F15,Kp!$A$4:$B$24,2,FALSE)","v":0},0.75,0,null,"https://www.soaringspot.com/en_gb/21-hop-2022-velke-porici-2022/results/kombi-ppf"]
["Pohár Českého Ráje 2022 - Klub","CZ",2022,"Jičín","23.7.-30.7.22",3,17,0,0,0,{"$f":"VLOOKUP(F16,Kp!$A$4:$B$24,2,FALSE)","v":-0.02},0,0,"Rozhodnutím PK AeČR","https://www.soaringspot.com/en_gb/pohar-ceskeho-raje-2022-jicin-2022/results/klub#"]
["Ranský pohár 2022 - Klub","CZ",2022,"Jičín","30.7.-6.8.22",6,21,0,0,0,{"$f":"VLOOKUP(F17,Kp!$A$4:$B$24,2,FALSE)","v":0.01},0,0,"Rozhodnutím PK AeČR","https://www.soaringspot.com/en_gb/ransky-pohar-2022-rana-loumy-2022/results/combi#"]
["Ranský pohár 2022 - Kombi","CZ",2022,"Raná","30.7.-6.8.22",6,7,0,0,0,{"$f":"VLOOKUP(F18,Kp!$A$4:$B$24,2,FALSE)","v":0.01},0,0,"Rozhodnutím PK AeČR, méně jak 10 soutěžících ve třídě","https://www.soaringspot.com/en_gb/ransky-pohar-2022-rana-loumy-2022/results/super-combi"]
["Safari 2022 - Duo","CZ",2022,"Dvůr Králové","2.7.-16.7.22",4,9,0,0,0,{"$f":"VLOOKUP(F19,Kp!$A$4:$B$24,2,FALSE)","v":0},0,{"$f":"L19-H19","v":0},"Rozhodnutím PK AeČR, méně jak 10 soutěžících ve třídě","https://www.soaringspot.com/en_gb/safari-cup-2022-dvur-kralove-nad-labem-2022/results/duo#"]
["Safari 2022 - Klub","CZ",2022,"Dvůr Králové","2.7.-16.7.22",5,26,0.75,0,0,{"$f":"VLOOKUP(F20,Kp!$A$4:$B$24,2,FALSE)","v":5.0000000000000001E-3},0.755,5.0000000000000044E-3,null,"https://www.soaringspot.com/en_gb/safari-cup-2022-dvur-kralove-nad-labem-2022/results/klub"]
["Safari 2022 - Kombi","CZ",2022,"Dvůr Králové","2.7.-16.7.22",5,10,0.75,0,0,{"$f":"VLOOKUP(F21,Kp!$A$4:$B$24,2,FALSE)","v":5.0000000000000001E-3},0.755,5.0000000000000044E-3,null,"https://www.soaringspot.com/en_gb/safari-cup-2022-dvur-kralove-nad-labem-2022/results/volna"]
["Toužim Cup 2022 - Klub","CZ",2022,"Toužim","9.7.-17.7.22",5,26,0.9,0.01,0,{"$f":"VLOOKUP(F22,Kp!$A$4:$B$24,2,FALSE)","v":5.0000000000000001E-3},0.91500000000000004,1.5000000000000013E-2,null,"https://www.soaringspot.com/en_gb/t-cup-2022-touzim-2022/results/club# "]
["Toužim Cup 2022 - Kombi","CZ",2022,"Toužim","9.7.-17.7.22",5,26,0.9,5.0000000000000001E-3,0,{"$f":"VLOOKUP(F23,Kp!$A$4:$B$24,2,FALSE)","v":5.0000000000000001E-3},0.91,1.0000000000000009E-2,null,"https://www.soaringspot.com/en_gb/t-cup-2022-touzim-2022/results/kombi"]
["FL 2022 - Kombi","CZ",2022,"Frýdlant n/Ostr.","1.7.-9.7.22",3,15,0.75,5.0000000000000001E-3,0,{"$f":"VLOOKUP(F24,Kp!$A$4:$B$24,2,FALSE)","v":-0.02},0.73499999999999999,-1.5000000000000013E-2,null,"https://www.soaringspot.com/en_gb/fl-2022-adrenalin-grand-prix-frydlant-2022/results/fl#"]
["Adrenalin GP 2022 - Klub GP","CZ",2022,"Frýdlant n/Ostr.","1.7.-9.7.22",4,12,0.9,0,0,{"$f":"VLOOKUP(F25,Kp!$A$4:$B$24,2,FALSE)","v":0},0.9,0,null,"https://www.soaringspot.com/en_gb/fl-2022-adrenalin-grand-prix-frydlant-2022/results/adrenalin-grand-prix"]
["Ulfův memoriál","CZ",2022,"Raná","21.5.-28.5.22",3,10,0,0,0,{"$f":"VLOOKUP(F26,Kp!$A$4:$B$24,2,FALSE)","v":-0.02},{"$f":"IF(H26=0,0,IF(OR(F26=0,F26=1,F26=2),0,IF(G26<10,0,SUM(H26:K26))))","v":0},0,"Rozhodnutím PK AeČR","https://www.soaringspot.com/en_gb/ulfuv-memorial-zavody-historickych-kluzaku-rana-loumy-2022/results/oldtimer"]
["Podbrdský pohár","CZ",2022,"Letkov","30.4.-7.5.22",4,20,0,0,0,{"$f":"VLOOKUP(F27,Kp!$A$4:$B$24,2,FALSE)","v":0},0,0,"Rozhodnutím PK AeČR","https://www.soaringspot.com/en_gb/pp2022/results/kombi#"]
["AZ Cup 2022 - Klub","CZ",2022,"Zbraslavice","22.4.-30.4.22",6,22,0.9,5.0000000000000001E-3,0,{"$f":"VLOOKUP(F28,Kp!$A$4:$B$24,2,FALSE)","v":0.01},0.91500000000000004,1.5000000000000013E-2,null,"https://www.soaringspot.com/en_gb/az-cup-2022-zbraslavice-2022/results/klub#"]
["AZ Cup 2022 - Kombi ","CZ",2022,"Zbraslavice","22.4.-30.4.22",6,24,0.9,3.5000000000000003E-2,0.01,{"$f":"VLOOKUP(F29,Kp!$A$4:$B$24,2,FALSE)","v":0.01},0.95500000000000007,5.5000000000000049E-2,null,"https://www.soaringspot.com/en_gb/az-cup-2022-zbraslavice-2022/results/kombi-a"]
["PPV 2022 - Klub","CZ",2022,"Havlíčkův Brod","23.7-30.7.22",3,37,0.9,5.0000000000000001E-3,0,{"$f":"VLOOKUP(F30,Kp!$A$4:$B$24,2,FALSE)","v":-0.02},0.88500000000000001,-1.5000000000000013E-2,null,"https://www.soaringspot.com/en_gb/ppv-2022-lkhb/results/klub#"]
["PPV 2022 - Kombi","CZ",2022,"Havlíčkův Brod","23.7-30.7.22",4,25,0.9,0.02,0,{"$f":"VLOOKUP(F31,Kp!$A$4:$B$24,2,FALSE)","v":0},0.92,2.0000000000000018E-2,null,"https://www.soaringspot.com/en_gb/ppv-2022-lkhb/results/kombi"]
["WGC 2022 - 18m","HU",2022,"Szeged","24.7.-5.8.22",10,42,1,0.05,0.01,{"$f":"VLOOKUP(F32,Kp!$A$4:$B$24,2,FALSE)","v":0.03},1.0900000000000001,{"$f":"L32-H32","v":9.000000000000008E-2},null,"https://www.soaringspot.com/en_gb/37th-fai-world-gliding-championships-2022-szeged-2022/results/18m#"]
["WGC 2022 - Open","HU",2022,"Szeged","24.7.-5.8.22",10,22,1,0.05,0.02,{"$f":"VLOOKUP(F33,Kp!$A$4:$B$24,2,FALSE)","v":0.03},1.1000000000000001,0.10000000000000009,null,"https://www.soaringspot.com/en_gb/37th-fai-world-gliding-championships-2022-szeged-2022/results/open#"]
["WGC 2022 - Duo 20m","HU",2022,"Szeged","24.7.-5.8.22",10,19,1,0.05,0.01,{"$f":"VLOOKUP(F34,Kp!$A$4:$B$24,2,FALSE)","v":0.03},1.0900000000000001,9.000000000000008E-2,null,"https://www.soaringspot.com/en_gb/37th-fai-world-gliding-championships-2022-szeged-2022/results/20m-multi-seat"]
["EGC 2022 - Klub","LT",2022,"Pociunai","3.7.-15.7.22",8,28,1,3.5000000000000003E-2,0.02,{"$f":"VLOOKUP(F35,Kp!$A$4:$B$24,2,FALSE)","v":0.02},1.075,7.4999999999999956E-2,null,"https://www.soaringspot.com/en_gb/21st-fai-european-gliding-championships-pociunai-2022/results/club#"]
["EGC 2022 - Std","LT",2022,"Pociunai","3.7.-15.7.22",7,28,1,4.4999999999999998E-2,0.03,{"$f":"VLOOKUP(F36,Kp!$A$4:$B$24,2,FALSE)","v":1.4999999999999999E-2},1.0899999999999999,8.9999999999999858E-2,null,"https://www.soaringspot.com/en_gb/21st-fai-european-gliding-championships-pociunai-2022/results/standard#"]
["EGC 2022 - 15m","LT",2022,"Pociunai","3.7.-15.7.22",8,26,1,0.02,0.02,{"$f":"VLOOKUP(F37,Kp!$A$4:$B$24,2,FALSE)","v":0.02},1.06,6.0000000000000053E-2,null,"https://www.soaringspot.com/en_gb/21st-fai-european-gliding-championships-pociunai-2022/results/15-meter#"]
["JWGC 2022 - Klub","CZ",2022,"Tabor","30.7.-12.8.22",10,45,1,1.4999999999999999E-2,0.03,{"$f":"VLOOKUP(F38,Kp!$A$4:$B$24,2,FALSE)","v":0.03},1.075,7.4999999999999956E-2,null,"https://www.soaringspot.com/en_gb/junior-world-gliding-championships-2022-tabor-2022/results/class-club#"]
["JWGC 2022 - Std","CZ",2022,"Tabor","30.7.-12.8.22",10,29,1,1.4999999999999999E-2,0.03,{"$f":"VLOOKUP(F39,Kp!$A$4:$B$24,2,FALSE)","v":0.03},1.075,7.4999999999999956E-2,null,"https://www.soaringspot.com/en_gb/junior-world-gliding-championships-2022-tabor-2022/results/class-standard#"]
["WWGC 2022 - Klub","UK",2022,"Husbands Bosworth","14.8.-26.8.22",6,18,1,0.01,0.02,{"$f":"VLOOKUP(F40,Kp!$A$4:$B$24,2,FALSE)","v":0.01},1.04,4.0000000000000036E-2,null,"https://www.soaringspot.com/en_gb/11th-fai-womens-world-gliding-championship-2022/results/club#"]
["WWGC 2022 - Std","UK",2022,"Husbands Bosworth","14.8.-26.8.22",8,13,1,5.0000000000000001E-3,0.01,{"$f":"VLOOKUP(F41,Kp!$A$4:$B$24,2,FALSE)","v":0.02},1.0349999999999999,3.499999999999992E-2,null,"https://www.soaringspot.com/en_gb/11th-fai-womens-world-gliding-championship-2022/results/standard#"]
["WWGC 2022 - 18m","UK",2022,"Husbands Bosworth","14.8.-26.8.22",8,12,1,5.0000000000000001E-3,0.03,{"$f":"VLOOKUP(F42,Kp!$A$4:$B$24,2,FALSE)","v":0.02},1.0549999999999999,5.4999999999999938E-2,null,"https://www.soaringspot.com/en_gb/11th-fai-womens-world-gliding-championship-2022/results/18-meter"]
["PMSR 2022 - Klub","SK",2022,"Martin","12.6.-26.6.22",11,16,0.9,5.0000000000000001E-3,0,{"$f":"VLOOKUP(F43,Kp!$A$4:$B$24,2,FALSE)","v":0.03},0.93500000000000005,3.5000000000000031E-2,null,"https://www.soaringspot.com/en_gb/65majstrovstva-sr-v-bezmotorovom-lietani-2022-martin-2022/results/klubova-trieda#"]
["PMSR 2022 - Kombi A+B","SK",2022,"Martin","12.6.-26.6.22",10,24,0.9,5.0000000000000001E-3,0,{"$f":"VLOOKUP(F44,Kp!$A$4:$B$24,2,FALSE)","v":0.03},0.93500000000000005,3.5000000000000031E-2,null,"https://www.soaringspot.com/en_gb/65majstrovstva-sr-v-bezmotorovom-lietani-2022-martin-2022/results/kombinovana-b-trieda#"]
["Oldtimer Pribina Star 2022 - Klub","SK",2022,"Nitra","6.8.-13.8.22",4,16,0.75,0,0,{"$f":"VLOOKUP(F45,Kp!$A$4:$B$24,2,FALSE)","v":0},0.75,0,null,"https://www.soaringspot.com/en_gb/oldtimer-pribina-star-2022-nitra-2022/results/club#"]
["Fatraglide 2022 - Klub","SK",2022,"Martin","21.5.-28.5.22",6,16,0.75,0,0,{"$f":"VLOOKUP(F46,Kp!$A$4:$B$24,2,FALSE)","v":0.01},0.76,1.0000000000000009E-2,null,"https://www.soaringspot.com/en_gb/20-fatraglide-2022-martin-2022/results/club#"]
["Fatraglide 2022 - Kombi","SK",2022,"Martin","21.5.-28.5.22",6,10,0.75,5.0000000000000001E-3,0,{"$f":"VLOOKUP(F47,Kp!$A$4:$B$24,2,FALSE)","v":0.01},0.76500000000000001,1.5000000000000013E-2,null,"https://www.soaringspot.com/en_gb/20-fatraglide-2022-martin-2022/results/kombinovana-trieda#"]
["FCC 2022 - Klub","SK",2022,"Prievidza","24.4.-5.5.22",7,43,0.9,1.4999999999999999E-2,0.01,{"$f":"VLOOKUP(F48,Kp!$A$4:$B$24,2,FALSE)","v":1.4999999999999999E-2},0.94000000000000006,4.0000000000000036E-2,null,"https://www.soaringspot.com/en_gb/fcc-gliding-2022-prievidza-2022/results/club"]
["FCC 2022 - Kombi 15m","SK",2022,"Prievidza","24.4.-5.5.22",7,28,0.9,1.4999999999999999E-2,0.03,{"$f":"VLOOKUP(F49,Kp!$A$4:$B$24,2,FALSE)","v":1.4999999999999999E-2},0.96000000000000008,6.0000000000000053E-2,null,"https://www.soaringspot.com/en_gb/fcc-gliding-2022-prievidza-2022/results/15m#"]
["FCC 2022 - Kombi Open","SK",2022,"Prievidza","24.4.-5.5.22",7,45,0.9,0.03,0.02,{"$f":"VLOOKUP(F50,Kp!$A$4:$B$24,2,FALSE)","v":1.4999999999999999E-2},0.96500000000000008,6.5000000000000058E-2,null,"https://www.soaringspot.com/en_gb/fcc-gliding-2022-prievidza-2022/results/combi#"]
["Pribina Cup 2022 - Klub","SK",2022,"Nitra","15.4.-23.4.22",5,28,0.9,2.5000000000000001E-2,0.01,{"$f":"VLOOKUP(F51,Kp!$A$4:$B$24,2,FALSE)","v":5.0000000000000001E-3},0.94000000000000006,4.0000000000000036E-2,null,"https://www.soaringspot.com/en_gb/pribina-cup-2022-nitra-2022/results/club#"]
["Pribina Cup 2022 - Kombi 15m","SK",2022,"Nitra","15.4.-23.4.22",5,26,0.9,1.4999999999999999E-2,0.01,{"$f":"VLOOKUP(F52,Kp!$A$4:$B$24,2,FALSE)","v":5.0000000000000001E-3},0.93,3.0000000000000027E-2,null,"https://www.soaringspot.com/en_gb/pribina-cup-2022-nitra-2022/results/15-meter#"]
["Pribina Cup 2022 - Kombi Open","SK",2022,"Nitra","15.4.-23.4.22",5,46,0.9,4.4999999999999998E-2,0,{"$f":"VLOOKUP(F53,Kp!$A$4:$B$24,2,FALSE)","v":5.0000000000000001E-3},0.95000000000000007,5.0000000000000044E-2,null,"https://www.soaringspot.com/en_gb/pribina-cup-2022-nitra-2022/results/open#"]
["Flatland Cup 2022 - Klub","SK",2022,"Szeged","1.7.-9.7.22",6,33,0.9,0.03,0,{"$f":"VLOOKUP(F54,Kp!$A$4:$B$24,2,FALSE)","v":0.01},0.94000000000000006,{"$f":"L54-H54","v":4.0000000000000036E-2},null,"https://www.soaringspot.com/en_gb/xii-flatland-cup-szeged-2022/results/fai-club#"]
["Flatland Cup 2022 - Kombi Open","SK",2022,"Szeged","1.7.-9.7.22",7,22,0.9,0.03,0,{"$f":"VLOOKUP(F55,Kp!$A$4:$B$24,2,FALSE)","v":1.4999999999999999E-2},0.94500000000000006,4.500000000000004E-2,null,"https://www.soaringspot.com/en_gb/xii-flatland-cup-szeged-2022/results/mixed-15m#"]
["SGP Sweden 2022 - 18m GP","SE",2022,"Boras","8.5.-14.5.22",3,15,0.9,5.0000000000000001E-3,0,{"$f":"VLOOKUP(F56,Kp!$A$4:$B$24,2,FALSE)","v":-0.02},0.88500000000000001,-1.5000000000000013E-2,null,"https://sweden22.sgp.aero/race-results"]
["Zařazené soutěže 2023:"]
["SGP Final 2023","IT",2023,"Pavullo","16.4.-27.4.23",4,19,1,3.5000000000000003E-2,0.03,{"$f":"VLOOKUP(F58,Kp!$A$4:$B$24,2,FALSE)","v":0},{"$f":"IF(H58=0,0,IF(OR(F58=0,F58=1,F58=2),0,IF(G58<10,0,SUM(H58:K58))))","v":1.0649999999999999},{"$f":"L58-H58","v":6.4999999999999947E-2},null,"https://sgpfinal23.sgp.aero/results"]
["FCC Gliding 2023 - Klub","SK",2023,"Prievidza","16.4.-27.4.23",7,21,0.9,0.01,0.01,{"$f":"VLOOKUP(F59,Kp!$A$4:$B$24,2,FALSE)","v":1.4999999999999999E-2},0.93500000000000005,3.5000000000000031E-2,null,"https://www.soaringspot.com/cs/fcc-gliding-2023-prievidza-2023/results/club"]
["FCC Gliding 2023 - Kombi 15m","SK",2023,"Prievidza","16.4.-27.4.23",7,31,0.9,0.05,0.02,{"$f":"VLOOKUP(F60,Kp!$A$4:$B$24,2,FALSE)","v":1.4999999999999999E-2},0.9850000000000001,8.5000000000000075E-2,null,"https://www.soaringspot.com/cs/fcc-gliding-2023-prievidza-2023/results/15m"]
["FCC Gliding 2023 - Kombi Open","SK",2023,"Prievidza","16.4.-27.4.23",7,39,0.9,0.02,0.02,{"$f":"VLOOKUP(F61,Kp!$A$4:$B$24,2,FALSE)","v":1.4999999999999999E-2},0.95500000000000007,5.5000000000000049E-2,null,"https://www.soaringspot.com/cs/fcc-gliding-2023-prievidza-2023/results/combi"]
["Fatraglide 2023 - Klub","SK",2023,"Martin","29.4.-6.5.23",4,19,0.75,5.0000000000000001E-3,0,{"$f":"VLOOKUP(F62,Kp!$A$4:$B$24,2,FALSE)","v":0},0.755,5.0000000000000044E-3,null,"https://www.soaringspot.com/cs/21-fatraglide-2023-martin-2023/results/klubova-trieda"]
["Fatraglide 2023 - Kombi","SK",2023,"Martin","29.4.-6.5.23",4,15,0.75,5.0000000000000001E-3,0,{"$f":"VLOOKUP(F63,Kp!$A$4:$B$24,2,FALSE)","v":0},0.755,5.0000000000000044E-3,null,"https://www.soaringspot.com/cs/21-fatraglide-2023-martin-2023/results/kombi-trieda"]
["AZ Cup 2023 - Klub","CZ",2023,"Zbraslavice","25.5.-3.6.23",9,27,0.9,0.02,0.01,{"$f":"VLOOKUP(F64,Kp!$A$4:$B$24,2,FALSE)","v":2.5000000000000001E-2},0.95500000000000007,5.5000000000000049E-2,null,"https://www.soaringspot.com/en_gb/azcup/results/klub"]
["AZ Cup 2023 - Kombi ","CZ",2023,"Zbraslavice","25.5.-3.6.23",9,32,0.9,4.4999999999999998E-2,0.03,{"$f":"VLOOKUP(F65,Kp!$A$4:$B$24,2,FALSE)","v":2.5000000000000001E-2},1,9.9999999999999978E-2,null,"https://www.soaringspot.com/en_gb/azcup/results/kombi"]
["FL 2023 - Kombi","CZ",2023,"Frýdlant n/Ostr.","30.6.-9.7.23",7,11,0.9,0,0,{"$f":"VLOOKUP(F66,Kp!$A$4:$B$24,2,FALSE)","v":1.4999999999999999E-2},0.91500000000000004,1.5000000000000013E-2,null,"https://www.soaringspot.com/cs/fl-2023-frydlant-2023/results/fl-kombi"]
["FL 2023 - Klub","CZ",2023,"Frýdlant n/Ostr.","30.6.-9.7.23",7,9,0,0,0,{"$f":"VLOOKUP(F67,Kp!$A$4:$B$24,2,FALSE)","v":1.4999999999999999E-2},0,0,null,"https://www.soaringspot.com/cs/fl-2023-frydlant-2023/results/fl-klub"]
["JPJ 2023 - Klub","CZ",2023,"Šumperk","6.5.-13.5.23",4,40,0.9,5.0000000000000001E-3,0,{"$f":"VLOOKUP(F68,Kp!$A$4:$B$24,2,FALSE)","v":0},0.90500000000000003,5.0000000000000044E-3,null,"https://www.soaringspot.com/cs/jpj2023/results/klubova-trida"]
["JPJ 2023 - Kombi","CZ",2023,"Šumperk","6.5.-13.5.23",4,19,0.9,5.0000000000000001E-3,0.01,{"$f":"VLOOKUP(F69,Kp!$A$4:$B$24,2,FALSE)","v":0},0.91500000000000004,1.5000000000000013E-2,null,"https://www.soaringspot.com/cs/jpj2023/results/kombi-trida"]
["Alpe Adria Cup 2023 - 113","AT",2023,"Feldkirchen","10.6.-17.6.23",5,17,0.75,0,0,{"$f":"VLOOKUP(F70,Kp!$A$4:$B$24,2,FALSE)","v":5.0000000000000001E-3},{"$f":"IF(H70=0,0,IF(OR(F70=0,F70=1,F70=2),0,IF(G70<10,0,SUM(H70:K70))))","v":0.755},{"$f":"L70-H70","v":5.0000000000000044E-3},null,"https://www.soaringspot.com/en_gb/aac2023/results/113er"]
["Alpe Adria Cup 2023 - Kombi Open","AT",2023,"Feldkirchen","10.6.-17.6.23",5,24,0.75,0,0,{"$f":"VLOOKUP(F71,Kp!$A$4:$B$24,2,FALSE)","v":5.0000000000000001E-3},{"$f":"IF(H71=0,0,IF(OR(F71=0,F71=1,F71=2),0,IF(G71<10,0,SUM(H71:K71))))","v":0.755},{"$f":"L71-H71","v":5.0000000000000044E-3},null,"https://www.soaringspot.com/en_gb/aac2023/results/offene"]
["PMRg 2023 - Klub","CZ",2023,"Hosín","1.7.-15.7.23",10,13,0.9,0,0,{"$f":"VLOOKUP(F72,Kp!$A$4:$B$24,2,FALSE)","v":0.03},0.93,3.0000000000000027E-2,null,"https://www.soaringspot.com/cs/plachtarske-mistrovstvi-regionu-cr-2023-hosin-2023/results/klub"]
["PMRg, PMČRj 2023 - Kombi","CZ",2023,"Hosín","1.7.-15.7.23",10,11,0.9,0.02,0,{"$f":"VLOOKUP(F73,Kp!$A$4:$B$24,2,FALSE)","v":0.03},0.95000000000000007,5.0000000000000044E-2,null,"https://www.soaringspot.com/cs/plachtarske-mistrovstvi-regionu-cr-2023-hosin-2023/results/kombi"]
["PMČRj 2023 - Klub","CZ",2023,"Hosín","1.7.-15.7.23",10,25,0.9,0.01,0,{"$f":"VLOOKUP(F74,Kp!$A$4:$B$24,2,FALSE)","v":0.03},0.94000000000000006,4.0000000000000036E-2,null,"https://www.soaringspot.com/en_gb/plachtarske-mistrovstvi-cr-junioru-2023-hosin-2023/results/klub"]
["WWGC 2023 - Klub","SP",2023,"Garray","2.7.-14.7.23",8,19,1,1.4999999999999999E-2,0.01,{"$f":"VLOOKUP(F75,Kp!$A$4:$B$24,2,FALSE)","v":0.02},1.0449999999999999,4.4999999999999929E-2,null,"https://www.soaringspot.com/cs/12th-fai-womens-world-gliding-championship-garray-2023/results/club"]
["WWGC 2023 - Std","SP",2023,"Garray","2.7.-14.7.23",10,16,1,1.4999999999999999E-2,0.01,{"$f":"VLOOKUP(F76,Kp!$A$4:$B$24,2,FALSE)","v":0.03},1.0549999999999999,5.4999999999999938E-2,null,"https://www.soaringspot.com/cs/12th-fai-womens-world-gliding-championship-garray-2023/results/standard"]
["WWGC 2023 - 18m","SP",2023,"Garray","2.7.-14.7.23",10,12,1,0.01,"0, 03",{"$f":"VLOOKUP(F77,Kp!$A$4:$B$24,2,FALSE)","v":0.03},1.04,4.0000000000000036E-2,null,"https://www.soaringspot.com/cs/12th-fai-womens-world-gliding-championship-garray-2023/results/18-meter"]
["Safari Cup 2023 - Klub","CZ",2023,"Dvůr Králové","2.7.-15.7.23",9,25,0.75,0,0,{"$f":"VLOOKUP(F78,Kp!$A$4:$B$24,2,FALSE)","v":2.5000000000000001E-2},{"$f":"IF(H78=0,0,IF(OR(F78=0,F78=1,F78=2),0,IF(G78<10,0,SUM(H78:K78))))","v":0.77500000000000002},{"$f":"L78-H78","v":2.5000000000000022E-2},null,"https://www.soaringspot.com/en_gb/safari-and-blanik-cup-dvur-kralove-nad-labem-2023/results/dvousedadlovky"]
["Safari Cup 2023 - Kombi","CZ",2023,"Dvůr Králové","2.7.-15.7.23",9,10,0.75,0,0,{"$f":"VLOOKUP(F79,Kp!$A$4:$B$24,2,FALSE)","v":2.5000000000000001E-2},{"$f":"IF(H79=0,0,IF(OR(F79=0,F79=1,F79=2),0,IF(G79<10,0,SUM(H79:K79))))","v":0.77500000000000002},{"$f":"L79-H79","v":2.5000000000000022E-2},null,"https://www.soaringspot.com/en_gb/safari-and-blanik-cup-dvur-kralove-nad-labem-2023/results/unknown"]
["Toužim Cup 2023 - Klub","CZ",2023,"Toužim","8.7.-16.7.23",6,18,0.9,5.0000000000000001E-3,0,{"$f":"VLOOKUP(F80,Kp!$A$4:$B$24,2,FALSE)","v":0.01},{"$f":"IF(H80=0,0,IF(OR(F80=0,F80=1,F80=2),0,IF(G80<10,0,SUM(H80:K80))))","v":0.91500000000000004},{"$f":"L80-H80","v":1.5000000000000013E-2},null,"https://www.soaringspot.com/en_gb/tcup2023/results/klub"]
["Toužim Cup 2023 - Kombi","CZ",2023,"Toužim","8.7.-16.7.23",6,26,0.9,1.4999999999999999E-2,0,{"$f":"VLOOKUP(F81,Kp!$A$4:$B$24,2,FALSE)","v":0.01},0.92500000000000004,2.5000000000000022E-2,null,"https://www.soaringspot.com/en_gb/tcup2023/results/kombi"]
["PMSR 2023 - Kombi Open","SK",2023,"Prievidza","9.7.-22.7.23",10,14,0.9,0.02,0,{"$f":"VLOOKUP(F82,Kp!$A$4:$B$24,2,FALSE)","v":0.03},{"$f":"IF(H82=0,0,IF(OR(F82=0,F82=1,F82=2),0,IF(G82<10,0,SUM(H82:K82))))","v":0.95000000000000007},{"$f":"L82-H82","v":5.0000000000000044E-2},null,"https://www.soaringspot.com/cs/slovak-gliding-nationals-pmsr-2023-prievidza-2023/results/kombi-b"]
["Cirrus GP 2023 - Klub","CZ",2023,"Křižanov","15.7.-22.7.23",5,12,0.75,0,0,{"$f":"VLOOKUP(F83,Kp!$A$4:$B$24,2,FALSE)","v":5.0000000000000001E-3},0.755,5.0000000000000044E-3,null,"https://www.soaringspot.com/en_gb/cgp2023/results/cirrus-grand-prix"]
["Cirrus GP 2023 - Kombi 15m","CZ",2023,"Křižanov","15.7.-22.7.23",4,9,0,0,0,{"$f":"VLOOKUP(F84,Kp!$A$4:$B$24,2,FALSE)","v":0},{"$f":"IF(H84=0,0,IF(OR(F84=0,F84=1,F84=2),0,IF(G84<10,0,SUM(H84:K84))))","v":0},{"$f":"L84-H84","v":0},null,"https://www.soaringspot.com/en_gb/cgp2023/results/15m-grand-prix"]
["PPV 2023 - Klub","CZ",2023,"Havlíčkův Brod","22.7-30.7.23",4,42,0.9,0,0,{"$f":"VLOOKUP(F85,Kp!$A$4:$B$24,2,FALSE)","v":0},0.9,0,null,"https://www.soaringspot.com/en_gb/ppv2023-lkhb/results/klub"]
["PPV 2023 - Kombi","CZ",2023,"Havlíčkův Brod","22.7-30.7.23",4,19,0.9,0.02,0,{"$f":"VLOOKUP(F86,Kp!$A$4:$B$24,2,FALSE)","v":0},0.92,2.0000000000000018E-2,null,"https://www.soaringspot.com/en_gb/ppv2023-lkhb/results/kombi"]
["EGC 2023 - 18m","PL",2023,"Leszno","26.7.-11.8.23",7,36,1,0.06,0.02,{"$f":"VLOOKUP(F87,Kp!$A$4:$B$24,2,FALSE)","v":1.4999999999999999E-2},1.095,9.4999999999999973E-2,null,"https://www.soaringspot.com/cs/egc2023/results/18m"]
["EGC 2023 - Open","PL",2023,"Leszno","26.7.-11.8.23",8,15,1,0.03,0.01,{"$f":"VLOOKUP(F88,Kp!$A$4:$B$24,2,FALSE)","v":0.02},{"$f":"IF(H88=0,0,IF(OR(F88=0,F88=1,F88=2),0,IF(G88<10,0,SUM(H88:K88))))","v":1.06},{"$f":"L88-H88","v":6.0000000000000053E-2},null,"https://www.soaringspot.com/cs/egc2023/results/open"]
["EGC 2023 - Duo 20m","PL",2023,"Leszno","26.7.-11.8.23",8,22,1,3.5000000000000003E-2,0.03,{"$f":"VLOOKUP(F89,Kp!$A$4:$B$24,2,FALSE)","v":0.02},1.085,8.4999999999999964E-2,null,"https://www.soaringspot.com/cs/egc2023/results/20m-multi-seat"]
["JEGC 2023 - Klub","DK",2023,"Arnborg","29.7.-12.8.23",4,36,1,0.01,0.01,{"$f":"VLOOKUP(F90,Kp!$A$4:$B$24,2,FALSE)","v":0},1.02,2.0000000000000018E-2,null,"https://www.soaringspot.com/cs/6th-fai-junior-european-gliding-championship-2023/results/club"]
["JEGC 2023 - Std","DK",2023,"Arnborg","29.7.-12.8.23",4,20,1,0,0.02,{"$f":"VLOOKUP(F91,Kp!$A$4:$B$24,2,FALSE)","v":0},1.02,2.0000000000000018E-2,null,"https://www.soaringspot.com/cs/6th-fai-junior-european-gliding-championship-2023/results/standard"]
["PMČR 2023 - Klub","CZ",2023,"Moravská Třebová","14.8.-25.8.23",9,16,1,1.4999999999999999E-2,0.01,{"$f":"VLOOKUP(F92,Kp!$A$4:$B$24,2,FALSE)","v":2.5000000000000001E-2},1.0499999999999998,4.9999999999999822E-2,null,"https://www.soaringspot.com/en_gb/plachtarske-mistrovstvi-cr-2023-moravska-trebova-2023/results/klubova-trida"]
["PMČR 2023 - Kombi 15m","CZ",2023,"Moravská Třebová","14.8.-25.8.23",9,10,1,0.02,0,{"$f":"VLOOKUP(F93,Kp!$A$4:$B$24,2,FALSE)","v":2.5000000000000001E-2},1.0449999999999999,4.4999999999999929E-2,null,"https://www.soaringspot.com/en_gb/plachtarske-mistrovstvi-cr-2023-moravska-trebova-2023/results/kombi-15m"]
["PMČR 2023 - Kombi Open","CZ",2023,"Moravská Třebová","14.8.-25.8.23",9,11,1,2.5000000000000001E-2,0.01,{"$f":"VLOOKUP(F94,Kp!$A$4:$B$24,2,FALSE)","v":2.5000000000000001E-2},1.0599999999999998,5.9999999999999831E-2,null,"https://www.soaringspot.com/en_gb/plachtarske-mistrovstvi-cr-2023-moravska-trebova-2023/results/kombi-open"]
["WGC 2023 - Klub","AU",2023,"Narromine","2.12.-17.12.23",10,30,1,0.05,0.03,{"$f":"VLOOKUP(F95,Kp!$A$4:$B$24,2,FALSE)","v":0.03},1.1100000000000001,0.1100000000000001,null,"https://www.soaringspot.com/cs/37th-fai-world-gliding-championships-narromine-2023/results/club"]
["WGC 2023 - Std","AU",2023,"Narromine","2.12.-17.12.23",10,21,1,4.4999999999999998E-2,0.03,{"$f":"VLOOKUP(F96,Kp!$A$4:$B$24,2,FALSE)","v":0.03},1.105,0.10499999999999998,null,"https://www.soaringspot.com/cs/37th-fai-world-gliding-championships-narromine-2023/results/standard"]
["WGC 2023 - 15m","AU",2023,"Narromine","2.12.-17.12.23",10,27,1,6.5000000000000002E-2,0.03,{"$f":"VLOOKUP(F97,Kp!$A$4:$B$24,2,FALSE)","v":0.03},1.125,0.125,null,"https://www.soaringspot.com/cs/37th-fai-world-gliding-championships-narromine-2023/results/15m"]
["Zařazené soutěže 2024:"]
["Podbrdský pohár 2024 - Kombi","CZ",2024,"Letkov","27.4.-4.5.24",3,10,0.75,0,0,{"$f":"VLOOKUP(F99,Kp!$A$4:$B$24,2,FALSE)","v":-0.02},{"$f":"IF(H99=0,0,IF(OR(F99=0,F99=1,F99=2),0,IF(G99<10,0,SUM(H99:K99))))","v":0.73},{"$f":"L99-H99","v":-2.0000000000000018E-2},null,"https://www.soaringspot.com/en_gb/pp2024/results/kombi"]
["JPJ 2024 - Klub","CZ",2024,"Šumperk","4.5.-11.5.24",4,32,0.9,0,0,{"$f":"VLOOKUP(F100,Kp!$A$4:$B$24,2,FALSE)","v":0},0.9,0,null,"https://www.soaringspot.com/en_gb/jpj2024/results/klubova-trida"]
["JPJ 2024 - Kombi","CZ",2024,"Šumperk","4.5.-11.5.24",5,24,0.9,0.01,0.01,{"$f":"VLOOKUP(F101,Kp!$A$4:$B$24,2,FALSE)","v":5.0000000000000001E-3},0.92500000000000004,2.5000000000000022E-2,null,"https://www.soaringspot.com/en_gb/jpj2024/results/kombi-trida"]
["AZ Cup 2024 - Klub","CZ",2024,"Zbraslavice","24.5.-1.6.24",3,28,0.9,0.02,0.02,{"$f":"VLOOKUP(F102,Kp!$A$4:$B$24,2,FALSE)","v":-0.02},0.92,2.0000000000000018E-2,null,"https://www.soaringspot.com/en_gb/az-cup-2024-zbraslavice-2024/results/club"]
["AZ Cup 2024 - Kombi 15m","CZ",2024,"Zbraslavice","24.5.-1.6.24",3,15,0.9,1.4999999999999999E-2,0.03,{"$f":"VLOOKUP(F103,Kp!$A$4:$B$24,2,FALSE)","v":-0.02},0.92500000000000004,2.5000000000000022E-2,null,"https://www.soaringspot.com/en_gb/az-cup-2024-zbraslavice-2024/results/klub"]
["AZ Cup 2024 - Kombi Open","CZ",2024,"Zbraslavice","24.5.-1.6.24",2,39,0,0,0,{"$f":"VLOOKUP(F104,Kp!$A$4:$B$24,2,FALSE)","v":0},0,0,null,"https://www.soaringspot.com/en_gb/az-cup-2024-zbraslavice-2024/results/open-mixed"]
["PMČR 2024 - Klub","CZ",2024,"Toužim","8.6.-21.6.24",6,27,1,0.03,0.02,{"$f":"VLOOKUP(F105,Kp!$A$4:$B$24,2,FALSE)","v":0.01},1.06,6.0000000000000053E-2,null,"https://www.soaringspot.com/en_gb/plachtarske-mistrovstvi-cr-2024-touzim-2024/results/klub"]
["PMČR 2024 - Kombi 15m","CZ",2024,"Toužim","8.6.-21.6.24",6,11,1,2.5000000000000001E-2,0.01,{"$f":"VLOOKUP(F106,Kp!$A$4:$B$24,2,FALSE)","v":0.01},1.0449999999999999,4.4999999999999929E-2,null,"https://www.soaringspot.com/en_gb/plachtarske-mistrovstvi-cr-2024-touzim-2024/results/15m"]
["PMČR 2024 - Kombi Open","CZ",2024,"Toužim","8.6.-21.6.24",6,21,1,0.05,0.03,{"$f":"VLOOKUP(F107,Kp!$A$4:$B$24,2,FALSE)","v":0.01},1.0900000000000001,9.000000000000008E-2,null,"https://www.soaringspot.com/en_gb/plachtarske-mistrovstvi-cr-2024-touzim-2024/results/open"]
["PMRg 2024 - Klub","CZ",2024,"Hodkovice","27.6.-6.7.24",3,23,0.9,0,0,{"$f":"VLOOKUP(F108,Kp!$A$4:$B$24,2,FALSE)","v":-0.02},{"$f":"IF(H108=0,0,IF(OR(F108=0,F108=1,F108=2),0,IF(G108<10,0,SUM(H108:K108))))","v":0.88},{"$f":"L108-H108","v":-2.0000000000000018E-2},null,"https://www.soaringspot.com/en_gb/mistrovstvi-ceske-republiky-regionu-2024-hodkovice/results/klubova-trida"]
["PMRg 2024 - Kombi","CZ",2024,"Hodkovice","27.6.-6.7.24",3,10,0.9,0.02,0,{"$f":"VLOOKUP(F109,Kp!$A$4:$B$24,2,FALSE)","v":-0.02},{"$f":"IF(H109=0,0,IF(OR(F109=0,F109=1,F109=2),0,IF(G109<10,0,SUM(H109:K109))))","v":0.9},{"$f":"L109-H109","v":0},null,"https://www.soaringspot.com/en_gb/mistrovstvi-ceske-republiky-regionu-2024-hodkovice/results/kombi-open"]
["PMČRj 2024 - Klub","CZ",2024,"Hodkovice","27.6.-6.7.24",3,34,0.9,0.01,0.02,{"$f":"VLOOKUP(F110,Kp!$A$4:$B$24,2,FALSE)","v":-0.02},0.91,1.0000000000000009E-2,null,"https://www.soaringspot.com/en_gb/plachtarske-mistrovstvi-cr-junioru-2024-hodkovice/results/klubova-trida"]
["FL 2024 - Klub","CZ",2024,"Frýdlant n/Ostr.","28.6.-6.7.24",5,16,0.75,0,0,{"$f":"VLOOKUP(F111,Kp!$A$4:$B$24,2,FALSE)","v":5.0000000000000001E-3},{"$f":"IF(H111=0,0,IF(OR(F111=0,F111=1,F111=2),0,IF(G111<10,0,SUM(H111:K111))))","v":0.755},{"$f":"L111-H111","v":5.0000000000000044E-3},null,"https://www.soaringspot.com/en_gb/fl-2024-frydlant-2024/results/fl-klub"]
["FL 2024 - Kombi","CZ",2024,"Frýdlant n/Ostr.","28.6.-6.7.24",3,7,0,0.01,0,{"$f":"VLOOKUP(F112,Kp!$A$4:$B$24,2,FALSE)","v":-0.02},0,0,null,"https://www.soaringspot.com/en_gb/fl-2024-frydlant-2024/results/fl-kombi"]
["Safari Cup 2024 - Klub","CZ",2024,"Dvůr Králové","4.7.-14.7.24",3,27,0.75,0,0,{"$f":"VLOOKUP(F113,Kp!$A$4:$B$24,2,FALSE)","v":-0.02},{"$f":"IF(H113=0,0,IF(OR(F113=0,F113=1,F113=2),0,IF(G113<10,0,SUM(H113:K113))))","v":0.73},{"$f":"L113-H113","v":-2.0000000000000018E-2},null,"https://www.soaringspot.com/en_gb/safari-2024-dvur-kralove-nad-labem-2024/results/klub"]
["Safari Cup 2024 - Kombi","CZ",2024,"Dvůr Králové","4.7.-14.7.24",4,10,0.75,0,0,{"$f":"VLOOKUP(F114,Kp!$A$4:$B$24,2,FALSE)","v":0},{"$f":"IF(H114=0,0,IF(OR(F114=0,F114=1,F114=2),0,IF(G114<10,0,SUM(H114:K114))))","v":0.75},{"$f":"L114-H114","v":0},null,"https://www.soaringspot.com/en_gb/safari-2024-dvur-kralove-nad-labem-2024/results/volna"]
["Toužim Cup 2024 - Klub","CZ",2024,"Toužim","5.7.-13.7.24",4,23,0.9,0.01,0,{"$f":"VLOOKUP(F115,Kp!$A$4:$B$24,2,FALSE)","v":0},{"$f":"IF(H115=0,0,IF(OR(F115=0,F115=1,F115=2),0,IF(G115<10,0,SUM(H115:K115))))","v":0.91},{"$f":"L115-H115","v":1.0000000000000009E-2},null,"https://www.soaringspot.com/en_gb/tcup2024/results/klub"]
["Toužim Cup 2024 - Kombi","CZ",2024,"Toužim","5.7.-13.7.24",4,32,0.9,1.4999999999999999E-2,0,{"$f":"VLOOKUP(F116,Kp!$A$4:$B$24,2,FALSE)","v":0},{"$f":"IF(H116=0,0,IF(OR(F116=0,F116=1,F116=2),0,IF(G116<10,0,SUM(H116:K116))))","v":0.91500000000000004},{"$f":"L116-H116","v":1.5000000000000013E-2},null,"https://www.soaringspot.com/en_gb/tcup2024/results/kombi"]
["PPV 2024 - Klub","CZ",2024,"Havlíčkův Brod","20.7.-27.7.24",6,30,0.9,0.05,0,{"$f":"VLOOKUP(F117,Kp!$A$4:$B$24,2,FALSE)","v":0.01},{"$f":"IF(H117=0,0,IF(OR(F117=0,F117=1,F117=2),0,IF(G117<10,0,SUM(H117:K117))))","v":0.96000000000000008},{"$f":"L117-H117","v":6.0000000000000053E-2},null,"https://www.soaringspot.com/en_gb/plachtarsky-pohar-vysociny-2024-havlickuv-brod-2024/results/klubova-trida"]
["PPV 2024 - Kombi","CZ",2024,"Havlíčkův Brod","20.7.-27.7.24",6,31,0.9,1.4999999999999999E-2,0,{"$f":"VLOOKUP(F118,Kp!$A$4:$B$24,2,FALSE)","v":0.01},0.92500000000000004,2.5000000000000022E-2,null,"https://www.soaringspot.com/en_gb/plachtarsky-pohar-vysociny-2024-havlickuv-brod-2024/results/kombinovana-trida"]
["Pohár Českého Ráje 2024 - Klub","CZ",2024,"Jičín","26.7.-3.8.24",3,14,0.75,0,0,{"$f":"VLOOKUP(F119,Kp!$A$4:$B$24,2,FALSE)","v":-0.02},{"$f":"IF(H119=0,0,IF(OR(F119=0,F119=1,F119=2),0,IF(G119<10,0,SUM(H119:K119))))","v":0.73},{"$f":"L119-H119","v":-2.0000000000000018E-2},null,"https://www.soaringspot.com/en_gb/pohar-ceskeho-raje-2024-jicin-2024/results/club"]
["Ranský pohár 2024 - Klub","CZ",2024,"Raná","27.7.-3.8.24",7,22,0.75,0,0,{"$f":"VLOOKUP(F120,Kp!$A$4:$B$24,2,FALSE)","v":1.4999999999999999E-2},{"$f":"IF(H120=0,0,IF(OR(F120=0,F120=1,F120=2),0,IF(G120<10,0,SUM(H120:K120))))","v":0.76500000000000001},{"$f":"L120-H120","v":1.5000000000000013E-2},null,"https://www.soaringspot.com/en_gb/ransky-pohar-2024-rana-loumy-2024/results/combi"]
["Rakovnická Dlaždice 2024 - Kombi","CZ",2024,"Rakovník","3.8.-10.8.24",5,20,0.75,0,0,{"$f":"VLOOKUP(F121,Kp!$A$4:$B$24,2,FALSE)","v":5.0000000000000001E-3},{"$f":"IF(H121=0,0,IF(OR(F121=0,F121=1,F121=2),0,IF(G121<10,0,SUM(H121:K121))))","v":0.755},{"$f":"L121-H121","v":5.0000000000000044E-3},null,"https://www.soaringspot.com/en_gb/rakovnicka-dlazdice-2024-rakovnik-2024/results/club"]
["EGC 2024 - Klub","CZ",2024,"Tábor","3.8.-17.8.24",11,40,1,0.05,0.02,{"$f":"VLOOKUP(F122,Kp!$A$4:$B$24,2,FALSE)","v":0.03},{"$f":"IF(H122=0,0,IF(OR(F122=0,F122=1,F122=2),0,IF(G122<10,0,SUM(H122:K122))))","v":1.1000000000000001},{"$f":"L122-H122","v":0.10000000000000009},null,"https://www.soaringspot.com/en_gb/22nd-fai-european-gliding-championships-tabor-2024/results/club"]
["EGC 2024 - Std","CZ",2024,"Tábor","3.8.-17.8.24",11,33,1,6.5000000000000002E-2,0.03,{"$f":"VLOOKUP(F123,Kp!$A$4:$B$24,2,FALSE)","v":0.03},{"$f":"IF(H123=0,0,IF(OR(F123=0,F123=1,F123=2),0,IF(G123<10,0,SUM(H123:K123))))","v":1.125},{"$f":"L123-H123","v":0.125},null,"https://www.soaringspot.com/en_gb/22nd-fai-european-gliding-championships-tabor-2024/results/standard"]
["EGC 2024 - 15m","CZ",2024,"Tábor","3.8.-17.8.24",11,27,1,0.03,0.03,{"$f":"VLOOKUP(F124,Kp!$A$4:$B$24,2,FALSE)","v":0.03},1.0900000000000001,9.000000000000008E-2,null,"https://www.soaringspot.com/en_gb/22nd-fai-european-gliding-championships-tabor-2024/results/15-meter"]
["GGP MB 2024 - Klub GP","CZ",2024,"Mladá Boleslav","24.8.-31.8.24",3,12,0.9,0,0,{"$f":"VLOOKUP(F125,Kp!$A$4:$B$24,2,FALSE)","v":-0.02},{"$f":"IF(H125=0,0,IF(OR(F125=0,F125=1,F125=2),0,IF(G125<10,0,SUM(H125:K125))))","v":0.88},{"$f":"L125-H125","v":-2.0000000000000018E-2},null,"https://www.soaringspot.com/en_gb/ggp2024/results/club-gp"]
["GGP MB 2024 - Pohár MV - Kombi","CZ",2024,"Mladá Boleslav","24.8.-31.8.24",3,13,0.75,1.4999999999999999E-2,0,{"$f":"VLOOKUP(F126,Kp!$A$4:$B$24,2,FALSE)","v":-0.02},{"$f":"IF(H126=0,0,IF(OR(F126=0,F126=1,F126=2),0,IF(G126<10,0,SUM(H126:K126))))","v":0.745},{"$f":"L126-H126","v":-5.0000000000000044E-3},null,"https://www.soaringspot.com/en_gb/ggp2024/results/pohar-metodeje-vlach"]
["JWGC 2024 - Klub","PL",2024,"Ostrow Wielkopolski","14.7.-26.7.24",11,44,1,0.01,0.03,{"$f":"VLOOKUP(F127,Kp!$A$4:$B$24,2,FALSE)","v":0.03},{"$f":"IF(H127=0,0,IF(OR(F127=0,F127=1,F127=2),0,IF(G127<10,0,SUM(H127:K127))))","v":1.07},{"$f":"L127-H127","v":7.0000000000000062E-2},null,"https://www.soaringspot.com/en_gb/jwgc2024/results/club"]
["JWGC 2024 - Std","PL",2024,"Ostrow Wielkopolski","14.7.-26.7.24",11,23,1,0.03,0.03,{"$f":"VLOOKUP(F128,Kp!$A$4:$B$24,2,FALSE)","v":0.03},1.0900000000000001,9.000000000000008E-2,null,"https://www.soaringspot.com/en_gb/jwgc2024/results/standard"]
["Pribina Cup 2024 - Klub","SK",2024,"Nitra","29.3.-6.4.24",6,11,0.9,5.0000000000000001E-3,0,{"$f":"VLOOKUP(F129,Kp!$A$4:$B$24,2,FALSE)","v":0.01},{"$f":"IF(H129=0,0,IF(OR(F129=0,F129=1,F129=2),0,IF(G129<10,0,SUM(H129:K129))))","v":0.91500000000000004},{"$f":"L129-H129","v":1.5000000000000013E-2},null,"https://www.soaringspot.com/en_gb/pribina-cup-2024-nitra-2024/results/15-meter"]
["Pribina Cup 2024 - Kombi Open","SK",2024,"Nitra","29.3.-6.4.24",6,21,0.9,0.03,0.01,{"$f":"VLOOKUP(F130,Kp!$A$4:$B$24,2,FALSE)","v":0.01},{"$f":"IF(H130=0,0,IF(OR(F130=0,F130=1,F130=2),0,IF(G130<10,0,SUM(H130:K130))))","v":0.95000000000000007},{"$f":"L130-H130","v":5.0000000000000044E-2},null,"https://www.soaringspot.com/en_gb/pribina-cup-2024-nitra-2024/results/open"]
["Fatraglide 2024 - Klub","SK",2024,"Martin","28.4.-7.5.24",7,29,0.75,0,0,{"$f":"VLOOKUP(F131,Kp!$A$4:$B$24,2,FALSE)","v":1.4999999999999999E-2},{"$f":"IF(H131=0,0,IF(OR(F131=0,F131=1,F131=2),0,IF(G131<10,0,SUM(H131:K131))))","v":0.76500000000000001},{"$f":"L131-H131","v":1.5000000000000013E-2},null,"https://www.soaringspot.com/en_gb/fatraglide24/results/club"]
["Fatraglide 2024 - Kombi","SK",2024,"Martin","28.4.-7.5.24",7,28,0.75,0,0,{"$f":"VLOOKUP(F132,Kp!$A$4:$B$24,2,FALSE)","v":1.4999999999999999E-2},{"$f":"IF(H132=0,0,IF(OR(F132=0,F132=1,F132=2),0,IF(G132<10,0,SUM(H132:K132))))","v":0.76500000000000001},{"$f":"L132-H132","v":1.5000000000000013E-2},null,"https://www.soaringspot.com/en_gb/fatraglide24/results/combi"]
["PMSR 2024 - Kombi","SK",2024,"Prievidza","23.6.-6.7.24",8,20,0.9,5.0000000000000001E-3,0.01,{"$f":"VLOOKUP(F133,Kp!$A$4:$B$24,2,FALSE)","v":0.02},{"$f":"IF(H133=0,0,IF(OR(F133=0,F133=1,F133=2),0,IF(G133<10,0,SUM(H133:K133))))","v":0.93500000000000005},{"$f":"L133-H133","v":3.5000000000000031E-2},null,"https://www.soaringspot.com/en_gb/slovak-gliding-nationals-pmsr-2024-pre-jegc2025-prievidza/results/kombi"]
["Lilienthal Glide 2024 - Duo 20m","DE",2024,"Lüsse","3.8.-11.8.24",5,28,0.75,5.0000000000000001E-3,0,{"$f":"VLOOKUP(F134,Kp!$A$4:$B$24,2,FALSE)","v":5.0000000000000001E-3},{"$f":"IF(H134=0,0,IF(OR(F134=0,F134=1,F134=2),0,IF(G134<10,0,SUM(H134:K134))))","v":0.76},{"$f":"L134-H134","v":1.0000000000000009E-2},null,"https://www.soaringspot.com/en_gb/lilienthal-glide-2024/results/doppelsitzer-klasse"]
["Hahnweide 2024 - Duo 20m","DE",2024,"Hahnweide","4.5.-11.5.24",4,20,0.9,0.03,0,{"$f":"VLOOKUP(F135,Kp!$A$4:$B$24,2,FALSE)","v":0},0.93,3.0000000000000027E-2,null,"https://www.soaringspot.com/en_gb/56-hww/results/dosi"]
["WGC 2024 - 18m","US",2024,"Uvalde","18.8.-31.8.24",11,32,1,7.4999999999999997E-2,0.03,{"$f":"VLOOKUP(F136,Kp!$A$4:$B$24,2,FALSE)","v":0.03},{"$f":"IF(H136=0,0,IF(OR(F136=0,F136=1,F136=2),0,IF(G136<10,0,SUM(H136:K136))))","v":1.135},{"$f":"L136-H136","v":0.13500000000000001},null,"https://www.soaringspot.com/en_gb/38th-fai-world-gliding-championship-uvalde-garner-field-2024/results/18-meter"]
["WGC 2024 - Duo 20m","US",2024,"Uvalde","18.8.-31.8.24",11,16,1,0.02,3.5000000000000003E-2,{"$f":"VLOOKUP(F137,Kp!$A$4:$B$24,2,FALSE)","v":0.03},1.085,8.4999999999999964E-2,null,"https://www.soaringspot.com/en_gb/38th-fai-world-gliding-championship-uvalde-garner-field-2024/results/double-seater"]
["WGC 2024 - Open","US",2024,"Uvalde","18.8.-31.8.24",12,17,1,0.03,0.03,{"$f":"VLOOKUP(F138,Kp!$A$4:$B$24,2,FALSE)","v":0.03},1.0900000000000001,9.000000000000008E-2,null,"https://www.soaringspot.com/en_gb/38th-fai-world-gliding-championship-uvalde-garner-field-2024/results/open"]

{"sheet":"Kp","index":2,"n_rows":24,"n_cols":2,"rows_kept":24,"cut":false,"hidden":true,"merged":[]}
["Korekce na počet platných disciplín"]
[]
["Počet platných disciplín","Korekce Kp"]
[0,0]
[1,0]
[2,0]
[3,-0.02]
[4,0]
[5,5.0000000000000001E-3]
[6,0.01]
[7,1.4999999999999999E-2]
[8,0.02]
[9,2.5000000000000001E-2]
[10,0.03]
[11,0.03]
[12,0.03]
[13,0.03]
[14,0.03]
[15,0.03]
[16,0.03]
[17,0.03]
[18,0.03]
[19,0.03]
[20,0.03]

{"sheet":"Pilot","index":3,"n_rows":1060,"n_cols":17,"rows_kept":1060,"cut":false,"hidden":false,"merged":[]}
["Jmeno","Rok nar.","Aeroklub","Region","M/F","Junior v roce",2025,"Hranice pro juniory:\n/ Poznámka:",{"$f":"G1-25","v":2000},"Počet Jun:",{"$f":"COUNTIF(F2:F2226,\"Junior v roce \"&G1)","v":67},"Počet F:",{"$f":"COUNTIF(E2:E2226,\"F\")","v":78},"Počet M:",{"$f":"COUNTIF(E2:E2226,\"M\")","v":980},"Počet celk:",{"$f":"COUNTIF(A2:A2226,\"<>\")","v":1059}]
["-"," "," ","Region"," "," "]
["Adam Hepal",2004,"Moravská Třebová",{"$f":"VLOOKUP(C3,Region,2,0)","v":"CZ/M"},"M",{"$f":"IF(A3=\"(prázdné)\",\"\",IF(($G$1-B3)>25,\"\",\"Junior v roce \"&$G$1))","v":"Junior v roce 2025"},null,"Kolín do 2022"]
["Adam Jandora",1992,"Medlánky",{"$f":"VLOOKUP(C4,Region,2,0)","v":"CZ/M"},"M",{"$f":"IF(A4=\"(prázdné)\",\"\",IF(($G$1-B4)>25,\"\",\"Junior v roce \"&$G$1))","v":""}]
["Adam Laburda",2005,"Raná",{"$f":"VLOOKUP(C5,Region,2,0)","v":"CZ/C2"},"M",{"$f":"IF(A5=\"(prázdné)\",\"\",IF(($G$1-B5)>25,\"\",\"Junior v roce \"&$G$1))","v":"Junior v roce 2025"}]
["Adam Olejar",1991,"Medlánky","CZ/M","M",{"$f":"IF(A6=\"(prázdné)\",\"\",IF(($G$1-B6)>25,\"\",\"Junior v roce \"&$G$1))","v":""}]
["Adam Pergner",2002,"Rakovník",{"$f":"VLOOKUP(C7,Region,2,0)","v":"CZ/C1"},"M",{"$f":"IF(A7=\"(prázdné)\",\"\",IF(($G$1-B7)>25,\"\",\"Junior v roce \"&$G$1))","v":"Junior v roce 2025"}]
["Adam Sostaric",1991,"Chrudim","CZ/C2","M",""]
["Adam Sugl",1987,"Vyškov","CZ/M","M",""]
["Albert Schneider",1967,"Hranice",{"$f":"VLOOKUP(C10,Region,2,0)","v":"CZ/M"},"M",""]
["Alena Netusilova",1970,"Zbraslavice","CZ/C1","F",""]
["Ales Cervenka",1981,"Soběslav","CZ/C1","M",""]
["Ales Hajek",1958,"Mladá Boleslav","CZ/C1","M",""]
["Ales Hala",1994,"Tábor","CZ/C1","M",""]
["Ales Holoubek",1966,"Jičín","CZ/C2","M",""]
["Ales Nestrojil",1980,"Medlánky",{"$f":"VLOOKUP(C16,Region,2,0)","v":"CZ/M"},"M",{"$f":"IF(A16=\"(prázdné)\",\"\",IF(($G$1-B16)>25,\"\",\"Junior v roce \"&$G$1))","v":""}]
["Ales Tresl",1958,"Raná","CZ/C2","M",""]
["Ales Vorac",1985,"Křižanov","CZ/M","M",""]
["Ales Vyhnal",1989,"Kralupy","CZ/C1","M",""]
["Alex Gulich",2005,"Slaný",{"$f":"VLOOKUP(C20,Region,2,0)","v":"CZ/C1"},"M","Junior v roce 2025"]
["Alexander Nerandzic",1966,"Raná","CZ/C2","M",""]
["Alois Cmajdalka",1963,"Kunovice","CZ/M","M",""]
["Alois Sohr",1939,"Hranice","CZ/M","M",""]
["Andrea Bensova",1978,"Zbraslavice","CZ/C1","F",""]
["Aneta Prachtova",1991,"Kralupy","CZ/C1","F",""]
["Anna Bordovska",1989,"Mladá Boleslav","CZ/C1","F",""]
["Anna Lanzendorfova",2005,"Letkov",{"$f":"VLOOKUP(C27,Region,2,0)","v":"CZ/C1"},"F",{"$f":"IF(A27=\"(prázdné)\",\"\",IF(($G$1-B27)>25,\"\",\"Junior v roce \"&$G$1))","v":"Junior v roce 2025"}]
["Antonin Bordovsky",1951,"Krnov","CZ/M","M",""]
["Antonin Bruna",1945,"GAC Benešov","CZ/C1","M",""]
["Antonin Burger",1943,"Panenský Týnec","CZ/C1","M",""]
["Antonin Konicek",1973,"Kunovice","CZ/M","M",""]
["Antonin Kutalek",1943,"Zábřeh","CZ/M","M",""]
["Antonin Novotny",1972,"Luhačovice","CZ/M","M",""]
["Antonin Otrusina",1948,"Křižanov","CZ/M","M",""]
["Antonin Pilat",1971,"Vyškov","CZ/M","M",""]
["Antonin Teichmann",1965,"Hronov","CZ/C2","M",""]
["Barbora Kubickova",1993,"Medlánky","CZ/M","F",""]
["Barbora Moravcova",1994,"Zbraslavice","CZ/C1","F",""]
["Barbora Nahodilova",1989,"Hosín","CZ/C1","F",""]
["Beat Albrecht",1953,"Šumperk",{"$f":"VLOOKUP(C40,Region,2,0)","v":"CZ/M"},"M",{"$f":"IF(A40=\"(prázdné)\",\"\",IF(($G$1-B40)>25,\"\",\"Junior v roce \"&$G$1))","v":""}]
["Bedrich Honzicek",1972,"Letňany",{"$f":"VLOOKUP(C41,Region,2,0)","v":"CZ/C1"},"M",""]
["Bedrich Prochazka",1957,"Rakovník","CZ/C1","M",""]
["Bohdan Sebestik",1957,"Kroměříž","CZ/M","M",""]
["Bohumil Kunc",1983,"Kunovice","CZ/M","M",""]
["Bohumil Rikal",1946,"Hronov","CZ/C2","M",""]
["Bohumil Svec",1985,"Roudnice","CZ/C2","M",""]
["Bohumir Zajdl",1950,"Dvůr Králové","CZ/C2","M",""]
["Bohus Marcinik",1947,"Příbram","CZ/C1","M",""]
["Boris Bachraty",1974,"Kyjov","CZ/M","M","",null,"Dříve Břeclav"]
["Boris Guic",1966,"Zbraslavice",{"$f":"VLOOKUP(C50,Region,2,0)","v":"CZ/C1"},"M",{"$f":"IF(A50=\"(prázdné)\",\"\",IF(($G$1-B50)>25,\"\",\"Junior v roce \"&$G$1))","v":""}]
["Bronislav Smatana",1970,"Zbraslavice","CZ/C1","M",""]
["Carsten Tietz",1966,"Hronov",{"$f":"VLOOKUP(C52,Region,2,0)","v":"CZ/C2"},"M",""]
["Christof Madoery",1958,"Šumperk",{"$f":"VLOOKUP(C53,Region,2,0)","v":"CZ/M"},"M",""]
["Dalibor Daricek",1993,"Kunovice","CZ/M","M",""]
["Dalibor Fencl",1966,"Zbraslavice","CZ/C1","M",""]
["Dalibor Pek",1968,"Raná","CZ/C2","M",""]
["Dana Novakova",1965,"Mladá Boleslav","CZ/C1","F",""]
["Danes Grula",1961,"Medlánky","CZ/M","M",""]
["Daniel Adamec",1977,"Hranice","CZ/M","M",""]
["Daniel Brichta",1962,"GAC Benešov",{"$f":"VLOOKUP(C60,Region,2,0)","v":"CZ/C1"},"M",""]
["Daniel Devecka",1981,"Vlašim",{"$f":"VLOOKUP(C61,Region,2,0)","v":"CZ/C1"},"M",{"$f":"IF(A61=\"(prázdné)\",\"\",IF(($G$1-B61)>25,\"\",\"Junior v roce \"&$G$1))","v":""}]
["Daniel Dvorak",1980,"Letkov","CZ/C1","M",""]
["Daniel Krasnicky",1984,"Příbram","CZ/C1","M",""]
["Daniel Marek",1983,"Hosín",{"$f":"VLOOKUP(C64,Region,2,0)","v":"CZ/C1"},"M",""]
["Daniel Moravek",1973,"Hodkovice","CZ/C2","M",""]
["Daniel Novak",1971,"Letkov","CZ/C1","M",""]
["Daniel Ryba",1994,"Dvůr Králové","CZ/C2","M",""]
["Daniel Suchy",1995,"Hranice","CZ/M","M",""]
["Daniela Frankova",1997,"Jaroměř","CZ/C2","M",""]
["Daniela Stepankova",1988,"Hosín","CZ/C1","F",""]
["David Benda",1974,"Letňany",{"$f":"VLOOKUP(C71,Region,2,0)","v":"CZ/C1"},"M",{"$f":"IF(A71=\"(prázdné)\",\"\",IF(($G$1-B71)>25,\"\",\"Junior v roce \"&$G$1))","v":""}]
["David Cisar",1987,"Křižanov","CZ/M","M",""]
["David Darnady",1987,"Zbraslavice",{"$f":"VLOOKUP(C73,Region,2,0)","v":"CZ/C1"},"M",{"$f":"IF(A73=\"(prázdné)\",\"\",IF(($G$1-B73)>25,\"\",\"Junior v roce \"&$G$1))","v":""}]
["David Kaspar",1993,"Jaroměř",{"$f":"VLOOKUP(C74,Region,2,0)","v":"CZ/C2"},"M",""]
["David Kraus",1990,"Olomouc",{"$f":"VLOOKUP(C75,Region,2,0)","v":"CZ/M"},"M",{"$f":"IF(A75=\"(prázdné)\",\"\",IF(($G$1-B75)>25,\"\",\"Junior v roce \"&$G$1))","v":""}]
["David Krcil",1976,"Raná",{"$f":"VLOOKUP(C76,Region,2,0)","v":"CZ/C2"},"M",""]
["David Londa",1973,"Mladá Boleslav","CZ/C1","M",""]
["David Mach",1994,"Hronov","CZ/C2","M",""]
["David Marek",1991,"Křižanov","CZ/M","M",""]
["David Nenicka",2005,"Hranice",{"$f":"VLOOKUP(C80,Region,2,0)","v":"CZ/M"},"M",{"$f":"IF(A80=\"(prázdné)\",\"\",IF(($G$1-B80)>25,\"\",\"Junior v roce \"&$G$1))","v":"Junior v roce 2025"}]
["David Novotny",1984,"Polička","CZ/C2","M",""]
["David Popovsky",1976,"Rakovník","CZ/C1","M",{"$f":"IF(A82=\"(prázdné)\",\"\",IF(($G$1-B82)>25,\"\",\"Junior v roce \"&$G$1))","v":""}]
["David Prihoda",1994,"Hranice","CZ/M","M",""]
["David Rozporka",1994,"Hronov","CZ/C2","M",""]
["David Rytina",1983,"Zbraslavice","CZ/C1","M",""]
["David Riha",1983,"Vlašim","CZ/C1","M",""]
["David Sachl",1978,"Kralupy","CZ/C1","M",""]
["David Tejnora",1982,"Jaroměř","CZ/C2","M",""]
["David Trnecka",1979,"Medlánky","CZ/M","M",""]
["David Vrchota",1976,"Jaroměř",{"$f":"VLOOKUP(C90,Region,2,0)","v":"CZ/C2"},"M",""]
["David Zapletal",1970,"Mladá Boleslav","CZ/C1","M",""]
["David Zatecka",1993,"GAC Benešov",{"$f":"VLOOKUP(C92,Region,2,0)","v":"CZ/C1"},"M",""]
["Dusan Gadas",1960,"Hranice","CZ/M","M",""]
["Dusan Kmet",1972,"Křižanov","CZ/M","M",""]
["Dusan Patocka",1972,"Vrchlabí",{"$f":"VLOOKUP(C95,Region,2,0)","v":"CZ/C2"},"M",{"$f":"IF(A95=\"(prázdné)\",\"\",IF(($G$1-B95)>25,\"\",\"Junior v roce \"&$G$1))","v":""}]
["Dusan Sys",1977,"Šumperk","CZ/M","M",""]
["Dusan Zerzan",1970,"Šumperk","CZ/M","M",""]
["Eduard Niko",1988,"Zbraslavice",{"$f":"VLOOKUP(C98,Region,2,0)","v":"CZ/C1"},"M",{"$f":"IF(A98=\"(prázdné)\",\"\",IF(($G$1-B98)>25,\"\",\"Junior v roce \"&$G$1))","v":""}]
["Eduard Svoboda",1957,"Raná","CZ/C2","M",""]
["Eliska Bohunovska",2001,"Hranice",{"$f":"VLOOKUP(C100,Region,2,0)","v":"CZ/M"},"F","Junior v roce 2025"]
["Eliska Kudejova",2006,"Strakonice",{"$f":"VLOOKUP(C101,Region,2,0)","v":"CZ/C1"},"F",{"$f":"IF(A101=\"(prázdné)\",\"\",IF(($G$1-B101)>25,\"\",\"Junior v roce \"&$G$1))","v":"Junior v roce 2025"}]
["Eva Cerna",1964,"Příbram","CZ/C1","F",""]
["Eva Klapkova",1993,"Raná",{"$f":"VLOOKUP(C103,Region,2,0)","v":"CZ/C2"},"F",{"$f":"IF(A103=\"(prázdné)\",\"\",IF(($G$1-B103)>25,\"\",\"Junior v roce \"&$G$1))","v":""}]
["Evzen Skala",1954,"Vrchlabí","CZ/C2","M",""]
["Fabian Curda",2004,"Zábřeh",{"$f":"VLOOKUP(C105,Region,2,0)","v":"CZ/M"},"M","Junior v roce 2025"]
["Filip Borůvka",2004,"Nové Město nad Metují",{"$f":"VLOOKUP(C106,Region,2,0)","v":"CZ/C2"},"M",{"$f":"IF(A106=\"(prázdné)\",\"\",IF(($G$1-B106)>25,\"\",\"Junior v roce \"&$G$1))","v":"Junior v roce 2025"}]
["Filip Graf",1981,"Křižanov","CZ/M","M",""]
["Filip Malik",2001,"Letňany",{"$f":"VLOOKUP(C108,Region,2,0)","v":"CZ/C1"},"M","Junior v roce 2025"]
["Filip Mrstny",2006,"Beroun",{"$f":"VLOOKUP(C109,Region,2,0)","v":"CZ/C1"},"M","Junior v roce 2025"]
["Filip Neumann",1977,"GAC Benešov","CZ/C1","M",""]
["Filip Riabec",2006,"Broumov",{"$f":"VLOOKUP(C111,Region,2,0)","v":"CZ/C2"},"M",{"$f":"IF(A111=\"(prázdné)\",\"\",IF(($G$1-B111)>25,\"\",\"Junior v roce \"&$G$1))","v":"Junior v roce 2025"}]
["Filip Sklenar",1990,"Žamberk","CZ/C2","M",""]
["Filip Sirc",1993,"Letňany","CZ/C1","M",""]
["Filip Vita",2001,"Kroměříž","CZ/M","M","Junior v roce 2025"]
["Frantisek Brozman",1960,"Tachov","CZ/C1","M",""]
["Frantisek Filandr",1956,"Most","CZ/C2","M",""]
["Frantisek Hubacek",1978,"Točná","CZ/C1","M",""]
["Frantisek Komarek",1985,"Zbraslavice","CZ/C1","M",""]
["Frantisek Kriz",1961,"Toužim","CZ/C1","M",""]
["Frantisek Marek",1960,"Křižanov","CZ/M","M",""]
["Frantisek Matousek",1937,"Nové Město nad Metují","CZ/C2","M",""]
["Frantisek Myska",1968,"Most","CZ/C2","M",""]
["Frantisek Pycha",1972,"Chrudim","CZ/C2","M",""]
["Frantisek Soucek",1945,"Dvůr Králové","CZ/C2","M",""]
["Frantisek Sindelar",1954,"Kralupy","CZ/C1","M",""]
["Frantisek Suna",1983,"Hosín",{"$f":"VLOOKUP(C126,Region,2,0)","v":"CZ/C1"},"M",""]
["Frantisek Vancura",1966,"Hranice","CZ/M","M",""]
["Gabriela Cervena",1966,"Jaroměř","CZ/C2","F",""]
["Gustav Vrbacky",1933,"Medlánky","CZ/M","M",""]
["Hana Treslova",1991,"Raná","CZ/C2","F",""]
["Hana Vokrinkova",1958,"Hodkovice","CZ/C2","F",""]
["Hynek Pokorny",1991,"Letňany","CZ/C1","M",""]
["Christof Madory",1958,"Šumperk","CZ/M","M",""]
["Ilja Kopacek",1943,"Jičín",{"$f":"VLOOKUP(C134,Region,2,0)","v":"CZ/C2"},"M",""]
["Ivan Filakovsky",1965,"Medlánky","CZ/M","M",""]
["Ivan Harasta 65",1965,"Toužim","CZ/C1","M",""]
["Ivan Harasta 98",1998,"Toužim","CZ/C1","M",""]
["Ivan Kuzelka",1945,"Havlíčkův Brod","CZ/C2","M",""]
["Ivan Ladr",1940,"Dvůr Králové","CZ/C2","M",""]
["Ivan Morkovsky",2008,"Polička",{"$f":"VLOOKUP(C140,Region,2,0)","v":"CZ/C2"},"M",{"$f":"IF(A140=\"(prázdné)\",\"\",IF(($G$1-B140)>25,\"\",\"Junior v roce \"&$G$1))","v":"Junior v roce 2025"}]
["Ivan Novak",1962,"Mladá Boleslav","CZ/C1","M",""]
["Ivan Tvrdik",1997,"Letňany","CZ/C1","M",""]
["Ivo Burda",1962,"Zbraslavice","CZ/C1","M",""]
["Ivo Nezval",1964,"Šumperk","CZ/M","M",""]
["Ivo Vudarcik",1994,"Rakovník","CZ/C1","M",""]
["Jacek Kerum",1943,"Příbram","CZ/C1","M",""]
["Jakub Brotanek",1985,"Roudnice","CZ/C2","M",""]
["Jakub Hlavacek",1991,"Letkov","CZ/C1","M",""]
["Jakub Jezek",2002,"Ústí nad Orlicí",{"$f":"VLOOKUP(C149,Region,2,0)","v":"CZ/C2"},"M",{"$f":"IF(A149=\"(prázdné)\",\"\",IF(($G$1-B149)>25,\"\",\"Junior v roce \"&$G$1))","v":"Junior v roce 2025"}]
["Jakub Kmosek",1978,"Zbraslavice","CZ/C1","M",""]
["Jakub Kohn",1992,"Prostějov","CZ/M","M",""]
["Jakub Koudelka",2000,"Křižanov",{"$f":"VLOOKUP(C152,Region,2,0)","v":"CZ/M"},"M","Junior v roce 2025"]
["Jakub Malik",1999,"Letňany","CZ/C1","M",""]
["Jakub Michalicka",1993,"Rakovník","CZ/C1","M",""]
["Jakub Safar",1990,"Olomouc",{"$f":"VLOOKUP(C155,Region,2,0)","v":"CZ/M"},"M",{"$f":"IF(A155=\"(prázdné)\",\"\",IF(($G$1-B155)>25,\"\",\"Junior v roce \"&$G$1))","v":""}]
["Jakub Sachl",2006,"Kralupy",{"$f":"VLOOKUP(C156,Region,2,0)","v":"CZ/C1"},"M",{"$f":"IF(A156=\"(prázdné)\",\"\",IF(($G$1-B156)>25,\"\",\"Junior v roce \"&$G$1))","v":"Junior v roce 2025"}]
["Jakub Spanger",2002,"Jeseník",{"$f":"VLOOKUP(C157,Region,2,0)","v":"CZ/M"},"M","Junior v roce 2025"]
["Jakub Tiller",1987,"Broumov","CZ/C2","M",""]
["Jakub Vimr",1975,"GAC Benešov","CZ/C1","M",{"$f":"IF(A159=\"(prázdné)\",\"\",IF(($G$1-B159)>25,\"\",\"Junior v roce \"&$G$1))","v":""}]
["Jan Adam",2002,"Podhořany",{"$f":"VLOOKUP(C160,Region,2,0)","v":"CZ/C2"},"M","Junior v roce 2025"]
["Jan Bejdl",1978,"Zbraslavice",{"$f":"VLOOKUP(C161,Region,2,0)","v":"CZ/C1"},"M",""]
["Jan Belina",1979,"Hořice","CZ/C2","M",""]
["Jan Beran",1999,"Kladno",{"$f":"VLOOKUP(C163,Region,2,0)","v":"CZ/C1"},"M",""]
["Jan Beranek",1976,"Jihlava","CZ/M","M",""]
["Jan Blaha",1983,"Kyjov",{"$f":"VLOOKUP(C165,Region,2,0)","v":"CZ/M"},"M",{"$f":"IF(A165=\"(prázdné)\",\"\",IF(($G$1-B165)>25,\"\",\"Junior v roce \"&$G$1))","v":""}]
["Jan Boruvka",1984,"Jičín","CZ/C2","M",""]
["Jan Camr",2002,"Jaroměř",{"$f":"VLOOKUP(C167,Region,2,0)","v":"CZ/C2"},"M","Junior v roce 2025"]
["Jan Cerveny",1984,"Jaroměř","CZ/C2","M",""]
["Jan Cibulka",2002,"Letňany",{"$f":"VLOOKUP(C169,Region,2,0)","v":"CZ/C1"},"M","Junior v roce 2025"]
["Jan Dersak 69",1969,"Kralupy","CZ/C1","M",""]
["Jan Dersak 92",1992,"Kralupy","CZ/C1","M",""]
["Jan Drahota",1988,"Rakovník","CZ/C1","M",""]
["Jan Drbohlav",1999,"Hodkovice",{"$f":"VLOOKUP(C173,Region,2,0)","v":"CZ/C2"},"M",""]
["Jan Florian",1992,"Zbraslavice","CZ/C1","M",""]
["Jan Habermann",1975,"Vlašim",{"$f":"VLOOKUP(C175,Region,2,0)","v":"CZ/C1"},"M",""]
["Jan Hejret",1976,"Jaroměř","CZ/C2","M",""]
["Jan Heroudek",1970,"Rakovník",{"$f":"VLOOKUP(C177,Region,2,0)","v":"CZ/C1"},"M",""]
["Jan Hlavacek 65",1965,"Rakovník","CZ/C1","M",""]
["Jan Hlavacek 04",2004,"Hosín",{"$f":"VLOOKUP(C179,Region,2,0)","v":"CZ/C1"},"M",{"$f":"IF(A179=\"(prázdné)\",\"\",IF(($G$1-B179)>25,\"\",\"Junior v roce \"&$G$1))","v":"Junior v roce 2025"}]
["Jan Horak",1971,"Zbraslavice","CZ/C1","M",""]
["Jan Horky",1968,"Medlánky","CZ/M","M",""]
["Jan Hrbatsch",1989,"Hodkovice","CZ/C2","M",""]
["Jan Hruska",1988,"Tábor","CZ/C1","M",""]
["Jan Hybner",1977,"Liberec",{"$f":"VLOOKUP(C184,Region,2,0)","v":"CZ/C2"},"M",""]
["Jan Jicha",1984,"Podhořany","CZ/C2","M",""]
["Jan Jindra",1981,"Roudnice","CZ/C2","M",""]
["Jan Kantor",1983,"Letňany","CZ/C1","M",""]
["Jan Kapralek",1991,"Kladno","CZ/C1","M",""]
["Jan Karabec",2000,"Podhořany",{"$f":"VLOOKUP(C189,Region,2,0)","v":"CZ/C2"},"M","Junior v roce 2025"]
["Jan Karas",1985,"Jihlava","CZ/M","M",""]
["Jan Karnik",1976,"Letkov",{"$f":"VLOOKUP(C191,Region,2,0)","v":"CZ/C1"},"M",""]
["Jan Kaspar",1994,"Letňany",{"$f":"VLOOKUP(C192,Region,2,0)","v":"CZ/C1"},"M",""]
["Jan Kohout",1970,"Žamberk","CZ/C2","M",""]
["Jan Konecny",1972,"Rakovník","CZ/C1","M",""]
["Jan Kostka",1996,"Kladno","CZ/C1","M",""]
["Jan Kotan",1982,"Letňany","CZ/C1","M",""]
["Jan Kralik",1991,"Letkov","CZ/C1","M",""]
["Jan Kristof",1962,"Frýdlant","CZ/M","M",""]
["Jan Kulistak",1990,"Kunovice","CZ/M","M",""]
["Jan Lancdorf",1988,"Panenský Týnec","CZ/C1","M",""]
["Jan Louda",1986,"Mladá Boleslav","CZ/C1","M",""]
["Jan Mareth",1979,"Frýdlant","CZ/M","M",""]
["Jan Masek",1977,"Kladno","CZ/C1","M",""]
["Jan Matejovsky",1972,"Hranice","CZ/M","M",""]
["Jan Merta",1952,"Šumperk","CZ/M","M",""]
["Jan Mittner",1986,"Zbraslavice",{"$f":"VLOOKUP(C206,Region,2,0)","v":"CZ/C1"},"M",""]
["Jan Moravec",1979,"Zábřeh","CZ/M","M",""]
["Jan Mrozek",1982,"Frýdlant",{"$f":"VLOOKUP(C208,Region,2,0)","v":"CZ/M"},"M",""]
["Jan Muknsnabl",1992,"Letkov",{"$f":"VLOOKUP(C209,Region,2,0)","v":"CZ/C1"},"M",{"$f":"IF(A209=\"(prázdné)\",\"\",IF(($G$1-B209)>25,\"\",\"Junior v roce \"&$G$1))","v":""}]
["Jan Nyc",1943,"Dvůr Králové",{"$f":"VLOOKUP(C210,Region,2,0)","v":"CZ/C2"},"M",""]
["Jan Obrucnik",1991,"Kralupy","CZ/C1","M",""]
["Jan Oscatka",1990,"Jaroměř",{"$f":"VLOOKUP(C212,Region,2,0)","v":"CZ/C2"},"M",""]
["Jan Otrusina",1976,"Křižanov","CZ/M","M",""]
["Jan Ourada",1978,"Točná","CZ/C1","M",""]
["Jan Pavlik",1987,"Křižanov","CZ/M","M",""]
["Jan Pazour",1979,"Dvůr Králové",{"$f":"VLOOKUP(C216,Region,2,0)","v":"CZ/C2"},"M",""]
["Jan Platenik",1981,"Krnov","CZ/M","M",""]
["Jan Plechac",1966,"Slaný",{"$f":"VLOOKUP(C218,Region,2,0)","v":"CZ/C1"},"M",{"$f":"IF(A218=\"(prázdné)\",\"\",IF(($G$1-B218)>25,\"\",\"Junior v roce \"&$G$1))","v":""}]
["Jan Podhrazsky",1976,"Šumperk","CZ/M","M",""]
["Jan Pokluda",1973,"Šumperk","CZ/M","M",""]
["Jan Pubec",1979,"Plzeň Bory","CZ/C1","M",""]
["Jan Ratz",1987,"Zbraslavice","CZ/C1","M",""]
["Jan Rensa",1980,"Polička","CZ/C2","M",""]
["Jan Rolinek",1973,"Luhačovice","CZ/M","M",""]
["Jan Rott",1962,"Hronov","CZ/C2","M",""]
["Jan Repka",1959,"Liberec","CZ/C2","M",""]
["Jan Seifert",1948,"Raná","CZ/C2","M",""]
["Jan Simon",1970,"Kralupy","CZ/C1","M",""]
["Jan Sindelar",1946,"Kunovice","CZ/M","M",{"$f":"IF(A229=\"(prázdné)\",\"\",IF(($G$1-B229)>25,\"\",\"Junior v roce \"&$G$1))","v":""}]
["Jan Smaha",1958,"Česká Lípa","CZ/C2","M",""]
["Jan Smekal",1976,"Zbraslavice",{"$f":"VLOOKUP(C231,Region,2,0)","v":"CZ/C1"},"M",""]
["Jan Sobotka",1973,"Vyškov",{"$f":"VLOOKUP(C232,Region,2,0)","v":"CZ/M"},"M",""]
["Jan Sobek",2004,"Hranice",{"$f":"VLOOKUP(C233,Region,2,0)","v":"CZ/M"},"M",{"$f":"IF(A233=\"(prázdné)\",\"\",IF(($G$1-B233)>25,\"\",\"Junior v roce \"&$G$1))","v":"Junior v roce 2025"}]
["Jan Sponer",1988,"Medlánky","CZ/M","M",""]
["Jan Stastny",2003,"Medlánky",{"$f":"VLOOKUP(C235,Region,2,0)","v":"CZ/M"},"M","Junior v roce 2025"]
["Jan Stepan",1991,"Hronov","CZ/C2","M",""]
["Jan Sustr 76",1976,"Raná","CZ/C2","M",""]
["Jan Sustr 77",1977,"Staňkov","CZ/C1","M",""]
["Jan Svarc",1977,"Raná","CZ/C2","M",""]
["Jan Svestka",2005,"Křižanov",{"$f":"VLOOKUP(C240,Region,2,0)","v":"CZ/M"},"M",{"$f":"IF(A240=\"(prázdné)\",\"\",IF(($G$1-B240)>25,\"\",\"Junior v roce \"&$G$1))","v":"Junior v roce 2025"}]
["Jan Terrich",1978,"Liberec","CZ/C2","M",""]
["Jan Tomasek",1970,"Dvůr Králové","CZ/C2","M",""]
["Jan Turek",1987,"Toužim","CZ/C1","M",""]
["Jan Vacik",1977,"Staňkov",{"$f":"VLOOKUP(C244,Region,2,0)","v":"CZ/C1"},"M",{"$f":"IF(A244=\"(prázdné)\",\"\",IF(($G$1-B244)>25,\"\",\"Junior v roce \"&$G$1))","v":""}]
["Jan Vavrin",1987,"Vysoké Mýto","CZ/C2","M",""]
["Jan Viskot",1995,"Břeclav","CZ/M","M",""]
["Jan Vozeh",1995,"Rakovník","CZ/C1","M",""]
["Jan Zahradka",1981,"Hodkovice","CZ/C2","M",""]
["Jan Zapletal",1997,"Břeclav","CZ/M","M",""]
["Jan Zdvorak",1980,"Roudnice","CZ/C2","M",""]
["Jan Zezula",1979,"Letňany","CZ/C1","M",""]
["Jan Zona",1965,"Kroměříž","CZ/M","M",""]
["Jan Zanda",1983,"Letkov","CZ/C1","M",""]
["Jana Dvorakova",1953,"Raná","CZ/C2","F",""]
["Jana Kantorova",1980,"Hosín","CZ/C1","F",""]
["Jana Krejcova",1972,"Křižanov","CZ/M","F",""]
["Jana Mezerova",1975,"Raná","CZ/C2","F",""]
["Jana Treslova",1963,"Raná","CZ/C2","F",""]
["Jana Veprekova",1961,"Dvůr Králové","CZ/C2","F",""]
["Jarmila Zatykova",1959,"Kralupy","CZ/C1","F",""]
["Jaromir Hammer",1965,"Křižanov","CZ/M","M",""]
["Jaromir Hendrych",1954,"Raná","CZ/C2","M",""]
["Jaromir Jedlicka",1972,"Letňany","CZ/C1","M",""]
["Jaromir Macoun",1999,"Jičín","CZ/C2","M",""]
["Jaromir Pauer",1974,"Hosín",{"$f":"VLOOKUP(C265,Region,2,0)","v":"CZ/C1"},"M",""]
["Jaromir Prokes",1984,"Tábor","CZ/C1","M",""]
["Jaromir Simunek",1975,"Rakovník",{"$f":"VLOOKUP(C267,Region,2,0)","v":"CZ/C1"},"M",{"$f":"IF(A267=\"(prázdné)\",\"\",IF(($G$1-B267)>25,\"\",\"Junior v roce \"&$G$1))","v":""}]
["Jaromir Vlk",1959,"Šumperk","CZ/M","M",""]
["Jaroslav Bocek",1962,"Turnov","CZ/C2","M",""]
["Jaroslav Buryan",1953,"Zábřeh","CZ/M","M",""]
["Jaroslav Cempirek 51",1951,"Jindřichův Hradec","CZ/C1","M",""]
["Jaroslav Cempirek 77",1977,"Jihlava",{"$f":"VLOOKUP(C272,Region,2,0)","v":"CZ/M"},"M",""]
["Jaroslav Cejka",1952,"Letkov","CZ/C1","M",""]
["Jaroslav Deml",1986,"Hořice","CZ/C2","M",""]
["Jaroslav Florian",1977,"Medlánky","CZ/M","M",""]
["Jaroslav Hendrych",1946,"Příbram","CZ/C1","M",""]
["Jaroslav Hot",1965,"Toužim","CZ/C1","M",""]
["Jaroslav Juracka",1971,"Křižanov","CZ/M","M",""]
["Jaroslav Kacer",1978,"Raná","CZ/C2","M",""]
["Jaroslav Kares",1962,"Olomouc","CZ/M","M",""]
["Jaroslav Kral",1961,"Přibyslav",{"$f":"VLOOKUP(C281,Region,2,0)","v":"CZ/C2"},"M",""]
["Jaroslav Marek",1938,"Luhačovice","CZ/M","M",""]
["Jaroslav Nedorost",1986,"Letňany",{"$f":"VLOOKUP(C283,Region,2,0)","v":"CZ/C1"},"M",""]
["Jaroslav Palicka",1992,"Frýdlant","CZ/M","M",""]
["Jaroslav Petrasek",1976,"Jičín","CZ/C2","M",""]
["Jaroslav Potmesil",1964,"Zbraslavice","CZ/C1","M",""]
["Jaroslav Rapac",1977,"Dvůr Králové","CZ/C2","M",""]
["Jaroslav Sefc",1971,"Broumov",{"$f":"VLOOKUP(C288,Region,2,0)","v":"CZ/C2"},"M",{"$f":"IF(A288=\"(prázdné)\",\"\",IF(($G$1-B288)>25,\"\",\"Junior v roce \"&$G$1))","v":""}]
["Jaroslav Sima",1972,"Chomutov","CZ/C2","M",""]
["Jaroslav Simek",1968,"Letkov","CZ/C1","M",""]
["Jaroslav Szakal",1955,"Jaroměř",{"$f":"VLOOKUP(C291,Region,2,0)","v":"CZ/C2"},"M",{"$f":"IF(A291=\"(prázdné)\",\"\",IF(($G$1-B291)>25,\"\",\"Junior v roce \"&$G$1))","v":""}]
["Jaroslav Tomana",1975,"Zbraslavice","CZ/C1","M",""]
["Jaroslav Tyls",1941,"Hronov","CZ/C2","M",""]
["Jaroslav Vancata",1985,"Raná",{"$f":"VLOOKUP(C294,Region,2,0)","v":"CZ/C2"},"M",""]
["Jaroslav Zavrel",1971,"Medlánky","CZ/M","M",""]
["Jindrich Hala",1989,"Rakovník","CZ/C1","M",""]
["Jindrich Hruska",1986,"Soběslav","CZ/C1","M",""]
["Jindrich Svorc",1978,"Letňany","CZ/C1","M",""]
["Jindriska Sloukova",1973,"Medlánky","CZ/M","F",{"$f":"IF(A299=\"(prázdné)\",\"\",IF(($G$1-B299)>25,\"\",\"Junior v roce \"&$G$1))","v":""}]
["Jirka Rybar",1958,"Hodkovice","CZ/C2","M",""]
["Jiri Balak",1978,"Zbraslavice",{"$f":"VLOOKUP(C301,Region,2,0)","v":"CZ/C1"},"M",""]
["Jiri Bartak",1978,"Letkov",{"$f":"VLOOKUP(C302,Region,2,0)","v":"CZ/C1"},"M",{"$f":"IF(A302=\"(prázdné)\",\"\",IF(($G$1-B302)>25,\"\",\"Junior v roce \"&$G$1))","v":""}]
["Jiri Bartunek",1982,"Mladá Boleslav",{"$f":"VLOOKUP(C303,Region,2,0)","v":"CZ/C1"},"M",{"$f":"IF(A303=\"(prázdné)\",\"\",IF(($G$1-B303)>25,\"\",\"Junior v roce \"&$G$1))","v":""}]
["Jiri Bastl",1944,"Turnov","CZ/C2","M",""]
["Jiri Bergman",1978,"Mladá Boleslav",{"$f":"VLOOKUP(C305,Region,2,0)","v":"CZ/C1"},"M",{"$f":"IF(A305=\"(prázdné)\",\"\",IF(($G$1-B305)>25,\"\",\"Junior v roce \"&$G$1))","v":""}]
["Jiri Bojko",1959,"Krnov","CZ/M","M",""]
["Jiri Bulanek",1983,"Rakovník",{"$f":"VLOOKUP(C307,Region,2,0)","v":"CZ/C1"},"M",{"$f":"IF(A307=\"(prázdné)\",\"\",IF(($G$1-B307)>25,\"\",\"Junior v roce \"&$G$1))","v":""}]
["Jiri Cincera",1966,"Toužim","CZ/C1","M",""]
["Jiri Dockal",1982,"Letňany","CZ/C1","M",""]
["Jiri Donat",1983,"Letňany","CZ/C1","M","",null,"Chrudim do 2022"]
["Jiri Fousek",1990,"Raná","CZ/C2","M",""]
["Jiri Hendrych",1943,"Točná","CZ/C1","M",""]
["Jiri Hodan",1959,"Zbraslavice","CZ/C1","M",""]
["Jiri Holcman",1976,"Hosín","CZ/C1","M",""]
["Jiri Horak",1971,"Kladno","CZ/C1","M",""]
["Jiri Hula",1973,"Slaný","CZ/C1","M",""]
["Jiri Janda",1966,"Letňany","CZ/C1","M",""]
["Jiri Jirmus",2003,"Tábor",{"$f":"VLOOKUP(C318,Region,2,0)","v":"CZ/C1"},"M","Junior v roce 2025"]
["Jiri Klicnar",1965,"Medlánky","CZ/M","M",""]
["Jiri Kobik",1952,"Hořice","CZ/C2","M",""]
["Jiri Kohoutek",1983,"Olomouc",{"$f":"VLOOKUP(C321,Region,2,0)","v":"CZ/M"},"M",""]
["Jiri Kokrment",1950,"Frýdlant","CZ/M","M",""]
["Jiri Koudela",1974,"Vyškov","CZ/M","M",""]
["Jiri Kratochvil",2003,"Podhořany",{"$f":"VLOOKUP(C324,Region,2,0)","v":"CZ/C2"},"M",{"$f":"IF(A324=\"(prázdné)\",\"\",IF(($G$1-B324)>25,\"\",\"Junior v roce \"&$G$1))","v":"Junior v roce 2025"}]
["Jiri Krofta",1988,"Hosín",{"$f":"VLOOKUP(C325,Region,2,0)","v":"CZ/C1"},"M",""]
["Jiri Krticka",1965,"Jaroměř","CZ/C2","M",""]
["Jiri Krzanowski",1944,"Letkov","CZ/C1","M",""]
["Jiri Kupec",1960,"Medlánky","CZ/M","M",""]
["Jiri Kusbach",1959,"Luhačovice","CZ/M","M",""]
["Jiri Kyslik",1968,"Česká Lípa","CZ/C2","M",""]
["Jiri Lenik",1947,"Raná","CZ/C2","M",""]
["Jiri Maier 66",1966,"Raná","CZ/C2","M",""]
["Jiri Maier 99",1999,"Raná","CZ/C2","M",""]
["Jiri Mlejnek",1984,"Mladá Boleslav","CZ/C1","M",""]
["Jiri Obst",1964,"Vrchlabí","CZ/C2","M",""]
["Jiri Pajer",1977,"Zbraslavice","CZ/C1","M",""]
["Jiri Pelucha",1984,"Frýdlant","CZ/M","M",""]
["Jiri Pesta",1973,"Dvůr Králové","CZ/C2","M",""]
["Jiri Peterka",1951,"Křižanov",{"$f":"VLOOKUP(C339,Region,2,0)","v":"CZ/M"},"M",""]
["Jiri Piskaty",1962,"Kunovice","CZ/M","M",""]
["Jiri Pixa",1968,"Slaný","CZ/C1","M",""]
["Jiri Prochazka",1971,"Toužim","CZ/C1","M",""]
["Jiri Prucha",1963,"Chomutov","CZ/C2","M",""]
["Jiri Skarka",1965,"Chomutov",{"$f":"VLOOKUP(C344,Region,2,0)","v":"CZ/C2"},"M",""]
["Jiri Slouka",1967,"Medlánky",{"$f":"VLOOKUP(C345,Region,2,0)","v":"CZ/M"},"M",""]
["Jiri Sohr",1960,"Šumperk",{"$f":"VLOOKUP(C346,Region,2,0)","v":"CZ/M"},"M",""]
["Jiri Steiger",1969,"Olomouc","CZ/M","M",""]
["Jiri Suchomel",1950,"Broumov",{"$f":"VLOOKUP(C348,Region,2,0)","v":"CZ/C2"},"M",""]
["Jiri Slemr",1979,"Vysoké Mýto","CZ/C2","M",""]
["Jiri Stepanek",1956,"Moravská Třebová","CZ/M","M",""]
["Jiri Tomicek",1947,"Dvůr Králové","CZ/C2","M",""]
["Jiri Valentr",1947,"Rakovník","CZ/C1","M",""]
["Jiri Vavrina",1958,"Kyjov","CZ/M","M",""]
["Jiri Veprek",1959,"Dvůr Králové",{"$f":"VLOOKUP(C354,Region,2,0)","v":"CZ/C2"},"M",{"$f":"IF(A354=\"(prázdné)\",\"\",IF(($G$1-B354)>25,\"\",\"Junior v roce \"&$G$1))","v":""}]
["Jiri Vokrinek",1965,"Hodkovice","CZ/C2","M",""]
["Jiri Vondracek",1989,"Kladno","CZ/C1","M",""]
["Jiri Zablatzky",1978,"Hranice","CZ/M","M",""]
["Jitka Hromkova",1985,"Šumperk","CZ/M","F",""]
["Jitka Skalova",1955,"Zbraslavice","CZ/C1","F",""]
["Jitka Zimova",1981,"Hodkovice","CZ/C2","F",""]
["Josef Andrasovsky",1954,"Jaroměř","CZ/C2","M",""]
["Josef Bacina",1976,"Vysoké Mýto","CZ/C2","M",""]
["Josef Barta",1977,"Vysoké Mýto","CZ/C2","M",""]
["Josef Beran",1982,"Slaný",{"$f":"VLOOKUP(C364,Region,2,0)","v":"CZ/C1"},"M",{"$f":"IF(A364=\"(prázdné)\",\"\",IF(($G$1-B364)>25,\"\",\"Junior v roce \"&$G$1))","v":""}]
["Josef Bostik",1963,"GAC Benešov","CZ/C1","M",""]
["Josef Busek",1967,"Hosín","CZ/C1","M",""]
["Josef Hlusek",1993,"Kunovice","CZ/M","M",""]
["Josef Kolman",1983,"Letňany","CZ/C1","M",""]
["Josef Krejsa",1938,"Hranice","CZ/M","M",""]
["Josef Kreutzer",1992,"Letkov","CZ/C1","M",{"$f":"IF(A370=\"(prázdné)\",\"\",IF(($G$1-B370)>25,\"\",\"Junior v roce \"&$G$1))","v":""}]
["Josef Linhart",1972,"Medlánky","CZ/M","M",""]
["Josef Macicek",1949,"Frýdlant","CZ/M","M",""]
["Josef Mezera",1951,"Raná","CZ/C2","M",""]
["Josef Novak",1981,"Kunovice","CZ/M","M",""]
["Josef Novotny",1983,"Přibyslav","CZ/C2","M",""]
["Josef Plechac",1942,"Hronov","CZ/C2","M",""]
["Josef Rydl",1940,"Turnov","CZ/C2","M",""]
["Josef Sedlacek",1968,"Zbraslavice","CZ/C1","M",""]
["Jozef Hartinger",1987,"Medlánky","CZ/M","M",""]
["Juraj Dudas",1990,"Křižanov",{"$f":"VLOOKUP(C380,Region,2,0)","v":"CZ/M"},"M",""]
["Jurij Sikorsky",1975,"Hodkovice","CZ/C2","M",""]
["Kamil Hejda",1973,"Jičín",{"$f":"VLOOKUP(C382,Region,2,0)","v":"CZ/C2"},"M",{"$f":"IF(A382=\"(prázdné)\",\"\",IF(($G$1-B382)>25,\"\",\"Junior v roce \"&$G$1))","v":""}]
["Kamil Novak",1970,"Jaroměř","CZ/C2","M",""]
["Kamil Sohr",1973,"Šumperk","CZ/M","M",""]
["Karel Balatka",1965,"Liberec","CZ/C2","M",""]
["Karel Benes",1980,"Polička","CZ/C2","M",""]
["Karel Benisek 48",1948,"Toužim","CZ/C1","M",""]
["Karel Benisek 76",1976,"Toužim","CZ/C1","M",""]
["Karel Cerny",1943,"Beroun","CZ/C1","M",""]
["Karel Elsnic",1974,"Křižanov","CZ/M","M",""]
["Karel Ertl",1939,"LK Břeclav","CZ/M","M",""]
["Karel Grotz",1934,"Toužim","CZ/C1","M",""]
["Karel Horalek",1976,"Olomouc",{"$f":"VLOOKUP(C393,Region,2,0)","v":"CZ/M"},"M",""]
["Karel Knotek",1961,"Soběslav","CZ/C1","M",""]
["Karel Kolomaznik",1955,"Šumperk","CZ/M","M",""]
["Karel Kotlan",1957,"Medlánky","CZ/M","M",""]
["Karel Lang",1967,"Medlánky","CZ/M","M",""]
["Karel Mares",1974,"Slaný","CZ/C1","M",""]
["Karel Minarik",1965,"Hranice","CZ/M","M",""]
["Karel Mrazek",1954,"Slaný",{"$f":"VLOOKUP(C400,Region,2,0)","v":"CZ/C1"},"M",{"$f":"IF(A400=\"(prázdné)\",\"\",IF(($G$1-B400)>25,\"\",\"Junior v roce \"&$G$1))","v":""}]
["Karel Novak",1993,"Mladá Boleslav","CZ/C1","M",""]
["Karel Policky",1950,"Kolín","CZ/C1","M",""]
["Karel Stach",1963,"Letňany","CZ/C1","M",""]
["Karel Toman",1976,"Letňany","CZ/C1","M",""]
["Karel Vagenknecht",1960,"Šumperk","CZ/M","M",""]
["Karel Vladar",1972,"Hodkovice","CZ/C2","M",""]
["Katerina Dvorakova",1984,"Most","CZ/C2","F",""]
["Katerina Kardosova",1988,"Kunovice","CZ/M","F",""]
["Katerina Vancurova",2002,"Hranice",{"$f":"VLOOKUP(C409,Region,2,0)","v":"CZ/M"},"F","Junior v roce 2025"]
["Katerina Vojtova",1983,"Slaný","CZ/C1","F",""]
["Klara Teichmannova",1993,"Hronov","CZ/C2","F",""]
["Kristina Santruckova",1996,"Podhořany",{"$f":"VLOOKUP(C412,Region,2,0)","v":"CZ/C2"},"F",""]
["Krystof Mimra",1992,"Most",{"$f":"VLOOKUP(C413,Region,2,0)","v":"CZ/C2"},"M",""]
["Krystof Urban",1999,"Jindřichův Hradec","CZ/C1","M",""]
["Kuk",1900,"Dvůr Králové",{"$f":"VLOOKUP(C415,Region,2,0)","v":"CZ/C2"},"M",""]
["Ladislav Berger",1970,"Kralupy","CZ/C1","M",""]
["Ladislav Durnik",1974,"Kunovice","CZ/M","M",""]
["Ladislav Hybl",1955,"Šumperk","CZ/M","M",""]
["Ladislav Jozsa",1981,"Medlánky","CZ/M","M",""]
["Ladislav Krecbach",1985,"Jaroměř","CZ/C2","M",""]
["Ladislav Krizek",1982,"Šumperk",{"$f":"VLOOKUP(C421,Region,2,0)","v":"CZ/M"},"M",""]
["Ladislav Prokes",1954,"Vrchlabí",{"$f":"VLOOKUP(C422,Region,2,0)","v":"CZ/C2"},"M",""]
["Ladislav Valenta",1961,"Žamberk","CZ/C2","M",""]
["Ladislav Vratny",1959,"Jaroměř","CZ/C2","M",""]
["Lenka Hajkova",1982,"Raná","CZ/C2","F",""]
["Lenka Kuthanova",1960,"Tábor","CZ/C1","F",""]
["Lenka Stovickova",1963,"Hořice","CZ/C2","F",""]
["Leos Nosek",1958,"Křižanov",{"$f":"VLOOKUP(C428,Region,2,0)","v":"CZ/M"},"M",""]
["Leos Strnadek",1983,"Hodkovice","CZ/C2","M",""]
["Libor Bednarik",1972,"Kunovice","CZ/M","M",""]
["Libor Danhel",1966,"Kunovice","CZ/M","M",""]
["Libor Hyps",1988,"Chrudim","CZ/C2","M",""]
["Libor Kovarik",1966,"Mladá Boleslav","CZ/C1","M","",null,"Dříve Hosín"]
["Libor Kovarnik",1968,"Mladá Boleslav",{"$f":"VLOOKUP(C434,Region,2,0)","v":"CZ/C1"},"M",""]
["Linda Vasatova",1990,"Mladá Boleslav","CZ/C1","F",""]
["Lubomir Doupal",1975,"Kroměříž","CZ/M","M",{"$f":"IF(A436=\"(prázdné)\",\"\",IF(($G$1-B436)>25,\"\",\"Junior v roce \"&$G$1))","v":""}]
["Lubomir Mekota",1956,"Plasy",{"$f":"VLOOKUP(C437,Region,2,0)","v":"CZ/C1"},"M",{"$f":"IF(A437=\"(prázdné)\",\"\",IF(($G$1-B437)>25,\"\",\"Junior v roce \"&$G$1))","v":""}]
["Lubomir Motl",1959,"Kyjov","CZ/M","M",""]
["Lubomir Papezik",1951,"Luhačovice","CZ/M","M",""]
["Lubomir Svoboda",1959,"Letkov","CZ/C1","M",""]
["Lubomir Vrba",1955,"Toužim","CZ/C1","M",""]
["Lubor Sobek",1979,"Frýdlant","CZ/M","M",""]
["Lubor Vyhlid",1972,"Kroměříž","CZ/M","M",""]
["Lubor Zeleny",1957,"Přibyslav","CZ/C2","M",""]
["Lubos Florian",1966,"Jičín",{"$f":"VLOOKUP(C445,Region,2,0)","v":"CZ/C2"},"M",""]
["Lubos Kunc 56",1956,"Dvůr Králové","CZ/C2","M",""]
["Lubos Kunc 85",1985,"Vrchlabí","CZ/C2","M",""]
["Lubos Stiburek",1954,"Raná","CZ/C2","M",""]
["Lubos Svoboda",1959,"Letkov","CZ/C1","M",""]
["Ludek Kluger",1963,"Tábor","CZ/C1","M",""]
["Ludek Mikl",1963,"Šumperk",{"$f":"VLOOKUP(C451,Region,2,0)","v":"CZ/M"},"M","",null,"Dříve Kroměříž"]
["Ludek Souhrada",1974,"Raná","CZ/C2","M",""]
["Lukas Capek",1992,"Letňany","CZ/C1","M",""]
["Lukas Fiala",1976,"Kralupy","CZ/C1","M",""]
["Lukas Fronek",1989,"Kyjov",{"$f":"VLOOKUP(C455,Region,2,0)","v":"CZ/M"},"M",""]
["Lukas Hykl",1985,"Kolín",{"$f":"VLOOKUP(C456,Region,2,0)","v":"CZ/C1"},"M",""]
["Lukas Hynek",1979,"Dvůr Králové","CZ/C2","M",""]
["Lukas Jezek",1975,"Jičín","CZ/C2","M",""]
["Lukas Kotek",1994,"Frýdlant","CZ/M","M",""]
["Lukas Koukal",1991,"Letkov","CZ/C1","M",""]
["Lukas Kriz",2003,"Křižanov",{"$f":"VLOOKUP(C461,Region,2,0)","v":"CZ/M"},"M","Junior v roce 2025"]
["Lukas Mach",1988,"Hronov",{"$f":"VLOOKUP(C462,Region,2,0)","v":"CZ/C2"},"M",{"$f":"IF(A462=\"(prázdné)\",\"\",IF(($G$1-B462)>25,\"\",\"Junior v roce \"&$G$1))","v":""}]
["Lukas Maly",1998,"Vysoké Mýto","CZ/C2","M",""]
["Lukas Nalos",1976,"Letkov",{"$f":"VLOOKUP(C464,Region,2,0)","v":"CZ/C1"},"M",{"$f":"IF(A464=\"(prázdné)\",\"\",IF(($G$1-B464)>25,\"\",\"Junior v roce \"&$G$1))","v":""}]
["Lukas Petrzela",1987,"Olomouc",{"$f":"VLOOKUP(C465,Region,2,0)","v":"CZ/M"},"M",""]
["Lukas Plocek",1990,"Mladá Boleslav","CZ/C1","M",""]
["Lukas Popelka",1977,"Polička","CZ/C2","M",""]
["Lukas Volek",2004,"Hodkovice",{"$f":"VLOOKUP(C468,Region,2,0)","v":"CZ/C2"},"M","Junior v roce 2025"]
["Lukas Zach",1987,"Vyškov",{"$f":"VLOOKUP(C469,Region,2,0)","v":"CZ/M"},"M",""]
["Lukas Zeman",2000,"Rakovník",{"$f":"VLOOKUP(C470,Region,2,0)","v":"CZ/C1"},"M","Junior v roce 2025"]
["Lukas Zemek",1994,"Letkov",{"$f":"VLOOKUP(C471,Region,2,0)","v":"CZ/C1"},"M",""]
["Lumir Motyka",1955,"Frýdlant","CZ/M","M",""]
["Marcel Skarohlid",1972,"Hodkovice","CZ/C2","M",""]
["Marek Blatak",1969,"Šumperk","CZ/M","M",""]
["Marek Csukas",1982,"Podhořany","CZ/C2","M",""]
["Marek Cacky",1971,"Kladno","CZ/C1","M",""]
["Marek Cerveny",1989,"Jaroměř","CZ/C2","M",""]
["Marek Kornec",1957,"Dvůr Králové","CZ/C2","M",""]
["Marek Loukota",2000,"Letkov",{"$f":"VLOOKUP(C479,Region,2,0)","v":"CZ/C1"},"M","Junior v roce 2025"]
["Marek Malinsky",1985,"Chrudim","CZ/C2","M",""]
["Marek Novotny",2004,"Kladno",{"$f":"VLOOKUP(C481,Region,2,0)","v":"CZ/C1"},"M",{"$f":"IF(A481=\"(prázdné)\",\"\",IF(($G$1-B481)>25,\"\",\"Junior v roce \"&$G$1))","v":"Junior v roce 2025"}]
["Marek Novy",1973,"Roudnice","CZ/C2","M",""]
["Marek Pechanec",1970,"Luhačovice","CZ/M","M",""]
["Marek Pechar",1995,"Chrudim","CZ/C2","M",""]
["Marek Seitl",1995,"Dvůr Králové","CZ/C2","M",""]
["Marek Sild",1976,"Kunovice","CZ/M","M",""]
["Marek Simon",1998,"Kralupy",{"$f":"VLOOKUP(C487,Region,2,0)","v":"CZ/C1"},"M",""]
["Marek Svancara",1976,"GAC Benešov","CZ/C1","M",""]
["Marek Vinar",1976,"Letňany","CZ/C1","M",""]
["Marie Vesela",1999,"Staňkov","CZ/C1","F",""]
["Martin Adamec",1971,"Medlánky",{"$f":"VLOOKUP(C491,Region,2,0)","v":"CZ/M"},"M",""]
["Martin Babak",1976,"Hořice",{"$f":"VLOOKUP(C492,Region,2,0)","v":"CZ/C2"},"M",""]
["Martin Balik",1982,"Kralupy","CZ/C1","M",""]
["Martin Benesovsky",1975,"Kolín",{"$f":"VLOOKUP(C494,Region,2,0)","v":"CZ/C1"},"M",""]
["Martin Cicvarek",1966,"Liberec","CZ/C2","M",""]
["Martin Donek",1976,"Beroun","CZ/C1","M",""]
["Martin Dundr",1968,"Hořice","CZ/C2","M",""]
["Martin Ficnar",1971,"Šumperk","CZ/M","M",""]
["Martin Fric",1967,"Raná","CZ/C2","M",""]
["Martin Gedeon",1989,"Letkov","CZ/C1","M",""]
["Martin Grmela",1989,"Zbraslavice",{"$f":"VLOOKUP(C501,Region,2,0)","v":"CZ/C1"},"M",""]
["Martin Hejny",1984,"Šumperk","CZ/M","M",""]
["Martin Holik",1959,"Letňany","CZ/C1","M",""]
["Martin Horacek",1985,"Dvůr Králové","CZ/C2","M",""]
["Martin Hrivna",1978,"Zbraslavice","CZ/C1","M",{"$f":"IF(A505=\"(prázdné)\",\"\",IF(($G$1-B505)>25,\"\",\"Junior v roce \"&$G$1))","v":""}]
["Martin Chovan",1973,"Zbraslavice","CZ/C1","M",""]
["Martin Janousek",1985,"Turnov","CZ/C2","M",""]
["Martin Koci",1975,"Ústí nad Orlicí","CZ/C2","M",""]
["Martin Kozina",1970,"Křižanov",{"$f":"VLOOKUP(C509,Region,2,0)","v":"CZ/M"},"M",""]
["Martin Kriz",1968,"Přibyslav",{"$f":"VLOOKUP(C510,Region,2,0)","v":"CZ/C2"},"M",""]
["Martin Krizovic",1971,"Přibyslav","CZ/C2","M",""]
["Martin Liptak",1970,"Toužim","CZ/C1","M",""]
["Martin Marek",1967,"Roudnice","CZ/C2","M",""]
["Martin Marhefka",1975,"Kyjov","CZ/M","M",""]
["Martin Markl",1960,"Kolín","CZ/C1","M",""]
["Martin Molnar",1986,"Šumperk","CZ/M","M",""]
["Martin Nejezchleb",1979,"Plzeň Bory","CZ/C1","M",""]
["Martin Neuvirt",2001,"Přibyslav",{"$f":"VLOOKUP(C518,Region,2,0)","v":"CZ/C2"},"M",{"$f":"IF(A518=\"(prázdné)\",\"\",IF(($G$1-B518)>25,\"\",\"Junior v roce \"&$G$1))","v":"Junior v roce 2025"}]
["Martin Novak",1976,"Slaný","CZ/C1","M",""]
["Martin Pehe",1978,"Soběslav","CZ/C1","M",""]
["Martin Pekar",1973,"Šumperk","CZ/M","M",""]
["Martin Picka",1974,"Tábor","CZ/C1","M","",null,"Tábor od roku 2018, dříve Letkov"]
["Martin Piskacek",1991,"Křižanov","CZ/M","M",""]
["Martin Sehnoutka",1970,"Dvůr Králové","CZ/C2","M",""]
["Martin Skala",1985,"Vrchlabí","CZ/C2","M",""]
["Martin Soldan",2001,"Hronov",{"$f":"VLOOKUP(C526,Region,2,0)","v":"CZ/C2"},"M","Junior v roce 2025"]
["Martin Soucek",1975,"Mladá Boleslav","CZ/C1","M",""]
["Martin Stastny",2005,"Medlánky",{"$f":"VLOOKUP(C528,Region,2,0)","v":"CZ/M"},"M",{"$f":"IF(A528=\"(prázdné)\",\"\",IF(($G$1-B528)>25,\"\",\"Junior v roce \"&$G$1))","v":"Junior v roce 2025"}]
["Martin Suchy",1969,"Hranice","CZ/M","M",""]
["Martin Svacina",1965,"Frýdlant","CZ/M","M",""]
["Martin Svoboda",1989,"Letkov","CZ/C1","M",""]
["Martin Sonka",1978,"Tábor","CZ/C1","M",""]
["Martin Stepanek",1987,"Moravská Třebová","CZ/M","M",""]
["Martin Stepka",1966,"Turnov","CZ/C2","M",""]
["Martin Stransky",1964,"Jičín",{"$f":"VLOOKUP(C535,Region,2,0)","v":"CZ/C2"},"M",{"$f":"IF(A535=\"(prázdné)\",\"\",IF(($G$1-B535)>25,\"\",\"Junior v roce \"&$G$1))","v":""}]
["Martin Svarc",1981,"Olomouc","CZ/M","M",""]
["Martin Tison",2000,"Hosín",{"$f":"VLOOKUP(C537,Region,2,0)","v":"CZ/C1"},"M","Junior v roce 2025"]
["Martin Urban",1971,"Frýdlant","CZ/M","M",""]
["Martin Urner",1974,"Letňany","CZ/C1","M",""]
["Martin Valenta",1969,"Toužim","CZ/C1","M",""]
["Martin Vana",1979,"Mladá Boleslav","CZ/C1","M",""]
["Martin Vnoucek",1972,"Vlašim","CZ/C1","M",""]
["Martin Vondracek",1967,"Hronov","CZ/C2","M",""]
["Martin Vrba",1977,"Toužim","CZ/C1","M",""]
["Martin Vyskocil",1981,"Hodkovice","CZ/C2","M",""]
["Martin Zahalka",1987,"Staňkov","CZ/C1","M",""]
["Martin Zvonicek",1972,"Raná","CZ/C2","M",""]
["Martina Bartonikova",1990,"Luhačovice","CZ/M","F",""]
["Martina Kloubova",1991,"Hodkovice","CZ/C2","F",""]
["Martina Voráčová",1988,"Křižanov","CZ/M","F","",null,"Dříve Kubátová, AK Kyjov"]
["Matej Bartos",1998,"Hodkovice",{"$f":"VLOOKUP(C551,Region,2,0)","v":"CZ/C2"},"M",""]
["Matej Dolejs",2004,"Beroun",{"$f":"VLOOKUP(C552,Region,2,0)","v":"CZ/C1"},"M",{"$f":"IF(A552=\"(prázdné)\",\"\",IF(($G$1-B552)>25,\"\",\"Junior v roce \"&$G$1))","v":"Junior v roce 2025"}]
["Matej Charouz",1993,"Hodkovice","CZ/C2","M",""]
["Matej Jelinek",1999,"Hronov",{"$f":"VLOOKUP(C554,Region,2,0)","v":"CZ/C2"},"M",""]
["Matej Kiss",1990,"Točná","CZ/C1","M",""]
["Matej Krestes",1986,"Slaný","CZ/C1","M",""]
["Matej Plch",1987,"Letkov","CZ/C1","M",""]
["Matej Rendla",2000,"Zbraslavice","CZ/C1","M","Junior v roce 2025"]
["Matej Uhlik",1995,"Letkov","CZ/C1","M",""]
["Matous Schmidt",1981,"Letňany","CZ/C1","M",""]
["Michael Cernes",1997,"Letňany","CZ/C1","M",""]
["Michael Fik",1972,"Strakonice","CZ/C1","M",""]
["Michaela Houskova",1978,"Letkov","CZ/C1","F",""]
["Michaela Krizova",2001,"Přibyslav",{"$f":"VLOOKUP(C564,Region,2,0)","v":"CZ/C2"},"F","Junior v roce 2025"]
["Michaela Rendlova",2004,"Toužim",{"$f":"VLOOKUP(C565,Region,2,0)","v":"CZ/C1"},"F","Junior v roce 2025"]
["Michaela Sirmerova",2000,"Jihlava",{"$f":"VLOOKUP(C566,Region,2,0)","v":"CZ/M"},"F","Junior v roce 2025"]
["MIchaela Vlacilikova",1993,"Luhačovice","CZ/M","F",""]
["Michal Budejovsky",1991,"Letkov","CZ/C1","M",""]
["Michal Buryan",1977,"Vysoké Mýto","CZ/C2","M",""]
["Michal Coufal",1999,"Jičín",{"$f":"VLOOKUP(C570,Region,2,0)","v":"CZ/C2"},"M",""]
["Michal Cupak",1991,"Medlánky","CZ/M","M",""]
["Michal Cechmanek",1978,"Kroměříž","CZ/M","M","",null,"Luhačovice do 2022"]
["Michal Drab",1969,"Letkov","CZ/C1","M",{"$f":"IF(A573=\"(prázdné)\",\"\",IF(($G$1-B573)>25,\"\",\"Junior v roce \"&$G$1))","v":""}]
["Michal Dvorak",1986,"Zbraslavice","CZ/C1","M",""]
["Michal Fortik",1976,"Točná","CZ/C1","M",""]
["Michal Hemrle",1974,"Česká Lípa",{"$f":"VLOOKUP(C576,Region,2,0)","v":"CZ/C2"},"M",""]
["Michal Janda",1972,"Broumov","CZ/C2","M",""]
["Michal Kares",1987,"Ústí nad Orlicí","CZ/C2","M",""]
["Michal Kodousek",1983,"Jaroměř","CZ/C2","M",""]
["Michal Kratochvil",1984,"Slaný","CZ/C1","M",""]
["Michal Krupicka",1975,"Most","CZ/C2","M",""]
["Michal Lesinger",1966,"Moravská Třebová","CZ/M","M",""]
["Michal Linhart",1982,"Vyškov","CZ/M","M",""]
["Michal Maly",1982,"Broumov","CZ/C2","M",""]
["Michal Marek",1982,"Křižanov","CZ/M","M",""]
["Michal Navratil",1985,"Křižanov","CZ/M","M",""]
["Michal Nutil",1966,"Náchod",{"$f":"VLOOKUP(C587,Region,2,0)","v":"CZ/C2"},"M",""]
["Michal Ondracek",1966,"Medlánky",{"$f":"VLOOKUP(C588,Region,2,0)","v":"CZ/M"},"M",""]
["Michal Posluzny",1968,"Medlánky",{"$f":"VLOOKUP(C589,Region,2,0)","v":"CZ/M"},"M",""]
["Michal Prochazka",2006,"Beroun",{"$f":"VLOOKUP(C590,Region,2,0)","v":"CZ/C1"},"M",{"$f":"IF(A590=\"(prázdné)\",\"\",IF(($G$1-B590)>25,\"\",\"Junior v roce \"&$G$1))","v":"Junior v roce 2025"}]
["Michal Rancak",1984,"Mladá Boleslav","CZ/C1","M",""]
["Michal Richter",1983,"Kolín","CZ/C1","M",""]
["Michal Sebek",1998,"Letňany","CZ/C1","M",""]
["Michal Sich",1979,"Mladá Boleslav","CZ/C1","M",""]
["Michal Stastny",1970,"Medlánky","CZ/M","M",""]
["Michal Trylc",1987,"Plasy","CZ/C1","M",""]
["Michal Vopalensky",1974,"Letňany",{"$f":"VLOOKUP(C597,Region,2,0)","v":"CZ/C1"},"M",""]
["Michal Vorlicek",1995,"Kolín",{"$f":"VLOOKUP(C598,Region,2,0)","v":"CZ/C1"},"M",{"$f":"IF(A598=\"(prázdné)\",\"\",IF(($G$1-B598)>25,\"\",\"Junior v roce \"&$G$1))","v":""}]
["Michal Vrana",1999,"Vyškov",{"$f":"VLOOKUP(C599,Region,2,0)","v":"CZ/M"},"M",""]
["Michal Vranek",1993,"Hosín",{"$f":"VLOOKUP(C600,Region,2,0)","v":"CZ/C1"},"M",""]
["Milada Moudra",1991,"Hodkovice","CZ/C2","F",""]
["Milan Bado",1975,"Kolín","CZ/C1","M",{"$f":"IF(A602=\"(prázdné)\",\"\",IF(($G$1-B602)>25,\"\",\"Junior v roce \"&$G$1))","v":""}]
["Milan Benes",1953,"Raná",{"$f":"VLOOKUP(C603,Region,2,0)","v":"CZ/C2"},"M",""]
["Milan Dvorak",1965,"Liberec","CZ/C2","M",""]
["Milan Kuk",1950,"Dvůr Králové","CZ/C2","M",""]
["Milan Meisner",1961,"Dvůr Králové","CZ/C2","M",""]
["Milan Riha",1973,"Zbraslavice",{"$f":"VLOOKUP(C607,Region,2,0)","v":"CZ/C1"},"M",""]
["Milan Svoboda 34",1934,"Letkov","CZ/C1","M",""]
["Milan Svoboda 80",1980,"Havlíčkův Brod","CZ/C2","M","",null,"Dříve Chotěboř"]
["Milan Svorc",1955,"Podhořany","CZ/C2","M",""]
["Miloslav Cindr",1974,"Ústí nad Orlicí","CZ/C2","M",""]
["Miloslav Cink",1987,"Letkov","CZ/C1","M","",null,"Dříve Letkov"]
["Miloslav Fiser",1974,"Hodkovice","CZ/C2","M",""]
["Miloslav Hulmak",1963,"Hosín","CZ/C1","M",""]
["Miloslav Krch",1988,"Zbraslavice","CZ/C1","M",""]
["Milos Dedera",1956,"Jihlava","CZ/M","M",""]
["Milos Eichler",1964,"Dvůr Králové","CZ/C2","M",""]
["Milos Houha",1954,"Plzeň Bory","CZ/C1","M",""]
["Milos Hrabe",1979,"Letňany","CZ/C1","M",""]
["Milos Matejka",1956,"Beroun","CZ/C1","M",""]
["Milos Novotny",1973,"Hronov",{"$f":"VLOOKUP(C621,Region,2,0)","v":"CZ/C2"},"M",""]
["Milos Nyvlt",1963,"Hronov",{"$f":"VLOOKUP(C622,Region,2,0)","v":"CZ/C2"},"M",{"$f":"IF(A622=\"(prázdné)\",\"\",IF(($G$1-B622)>25,\"\",\"Junior v roce \"&$G$1))","v":""}]
["Milos Pajr",1966,"Jičín","CZ/C2","M",""]
["Milos Pospisil",1952,"Frýdlant","CZ/M","M",""]
["Milos Rejzl",1962,"Klatovy","CZ/C1","M",""]
["Miroslav Burdych",1973,"Nové Město nad Metují","CZ/C2","M",""]
["Miroslav Burian",1969,"Křižanov","CZ/M","M",""]
["Miroslav Cervenka",1980,"Křižanov","CZ/M","M",""]
["Miroslav Filip",1959,"Křižanov","CZ/M","M",""]
["Miroslav Horinek",1976,"Křižanov","CZ/M","M",""]
["Miroslav Jezek",1973,"Žamberk","CZ/C2","M",""]
["Miroslav Koci",1961,"Žamberk","CZ/C2","M",""]
["Miroslav Kudlacek",1986,"Polička",{"$f":"VLOOKUP(C633,Region,2,0)","v":"CZ/C2"},"M",""]
["Miroslav Macik",1983,"Rakovník","CZ/C1","M",""]
["Miroslav Major",1968,"Kralupy","CZ/C1","M",""]
["Miroslav Mancik",1976,"Kyjov","CZ/M","M",""]
["Miroslav Mitrus",1972,"GAC Benešov",{"$f":"VLOOKUP(C637,Region,2,0)","v":"CZ/C1"},"M",""]
["Miroslav Odlozilik",1973,"Křižanov","CZ/M","M",""]
["Miroslav Ofukany",1951,"Kolín","CZ/C1","M",""]
["Miroslav Plechac",1969,"Hronov","CZ/C2","M",""]
["Miroslav Sklenar",1964,"Žamberk","CZ/C2","M",{"$f":"IF(A641=\"(prázdné)\",\"\",IF(($G$1-B641)>25,\"\",\"Junior v roce \"&$G$1))","v":""}]
["Miroslav Streda",1945,"Vrchlabí","CZ/C2","M",""]
["Miroslav Sedivy",1974,"Letkov","CZ/C1","M",""]
["Miroslav Stepan",1955,"Žamberk","CZ/C2","M",""]
["Miroslav Trybucek",1965,"Jičín","CZ/C2","M",""]
["Monika Bezdekova",1988,"Letňany","CZ/C1","F","",null,"Dříve Bubnová"]
["Monika Jiraskova",1994,"Hronov","CZ/C2","F",""]
["Monika Klovanicova",1992,"Kunovice","CZ/M","F",""]
["Nikola Zizkovsky",1980,"Kralupy","CZ/C1","M",""]
["Oldrich Bartonik",1961,"Luhačovice","CZ/M","M",""]
["Oldrich Hlavacek",1973,"Medlánky","CZ/M","M",""]
["Oldrich Houzvicka",1975,"Frýdlant","CZ/M","M",""]
["Oldrich Kounovsky",1976,"Medlánky",{"$f":"VLOOKUP(C653,Region,2,0)","v":"CZ/M"},"M",""]
["Oldrich Slavicek",1959,"Hronov","CZ/C2","M",""]
["Oldrich Stumbauer",1992,"Prachatice",{"$f":"VLOOKUP(C655,Region,2,0)","v":"CZ/C1"},"M",""]
["Olga Mokosova",1970,"Jihlava","CZ/M","F",""]
["Ondrej Bartos",1975,"Točná","CZ/C1","M",""]
["Ondrej Belohlavek",1978,"Vysoké Mýto","CZ/C2","M",""]
["Ondrej Blaha",1976,"Letňany","CZ/C1","M",""]
["Ondrej Bordovsky",1983,"Krnov","CZ/M","M",""]
["Ondrej Dostal",null,null,"CZ","M",{"$f":"IF(A661=\"(prázdné)\",\"\",IF(($G$1-B661)>25,\"\",\"Junior v roce \"&$G$1))","v":""}]
["Ondrej Dupal",1966,"GAC Benešov","CZ/C1","M",""]
["Ondrej Dvorak 58",1958,"Raná","CZ/C2","M",""]
["Ondrej Dvorak 87",1987,"Raná","CZ/C2","M",""]
["Ondrej Dvorak 98",1998,"Mladá Boleslav","CZ/C1","M",""]
["Ondrej Hart",1990,"Letňany",{"$f":"VLOOKUP(C666,Region,2,0)","v":"CZ/C1"},"M",""]
["Ondrej Holas",1989,"Česká Lípa","CZ/C2","M",""]
["Ondrej Hurina",2003,"Zábřeh",{"$f":"VLOOKUP(C668,Region,2,0)","v":"CZ/M"},"M",{"$f":"IF(A668=\"(prázdné)\",\"\",IF(($G$1-B668)>25,\"\",\"Junior v roce \"&$G$1))","v":"Junior v roce 2025"}]
["Ondrej Jung",1976,"Zbraslavice","CZ/C1","M",""]
["Ondrej Kluger",1990,"LK Břeclav",{"$f":"VLOOKUP(C670,Region,2,0)","v":"CZ/M"},"M",""]
["Ondrej Kover",1993,"Šumperk","CZ/M","M",""]
["Ondrej Krejci",1974,"Chotěboř","CZ/C2","M",""]
["Ondrej Prazsky",1978,"Zbraslavice",{"$f":"VLOOKUP(C673,Region,2,0)","v":"CZ/C1"},"M",""]
["Ondrej Marek",1989,"Žamberk","CZ/C2","M",""]
["Ondrej Skala",1982,"Vrchlabí","CZ/C2","M",""]
["Ondrej Sindelar",1979,"Mladá Boleslav","CZ/C1","M",""]
["Ondrej Stepan",1984,"Žamberk",{"$f":"VLOOKUP(C677,Region,2,0)","v":"CZ/C2"},"M",{"$f":"IF(A677=\"(prázdné)\",\"\",IF(($G$1-B677)>25,\"\",\"Junior v roce \"&$G$1))","v":""}]
["Ondrej Supka",1994,"Kunovice","CZ/M","M",""]
["Ondrej Teichman",1984,"Dvůr Králové","CZ/C2","M",""]
["Ondrej Trkal",1991,"Vysoké Mýto","CZ/C2","M",""]
["Ondrej Valach",1986,"Točná","CZ/C1","M",""]
["Ondrej Vyskocil",1991,"Letkov","CZ/C1","M",""]
["Ondrej Zeman",1980,"Letňany","CZ/C1","M",""]
["Ota Vavrin",1947,"Vysoké Mýto","CZ/C2","M",""]
["Otakar Tucek",1947,"Raná","CZ/C2","M",""]
["Patrik Cebis",1972,"Kralupy","CZ/C1","M",""]
["Pavel Brodsky",1992,"Hořice","CZ/C2","M",""]
["Pavel Cerny",1996,"Příbram","CZ/C1","M",""]
["Pavel Derda",1952,"Dvůr Králové","CZ/C2","M",""]
["Pavel Dostal",1944,"Turnov","CZ/C2","M",""]
["Pavel Foldyna",1976,"Frýdlant","CZ/M","M",""]
["Pavel Franc",1974,"Hronov","CZ/C2","M",""]
["Pavel Haluza",1966,"Prostějov","CZ/M","M",""]
["Pavel Handl",1971,"Kroměříž",{"$f":"VLOOKUP(C694,Region,2,0)","v":"CZ/M"},"M",""]
["Pavel Hartman",1963,"Jaroměř","CZ/C2","M",""]
["Pavel Jiranek",1993,"Toužim","CZ/C1","M",""]
["Pavel Jurak",1986,"Kunovice","CZ/M","M",""]
["Pavel Jurka",1955,"Moravská Třebová","CZ/M","M",""]
["Pavel Kalous",1921,"Frýdlant","CZ/M","M",""]
["Pavel Kostkan",1952,"Dvůr Králové","CZ/C2","M",""]
["Pavel Koudelka",1973,"Křižanov","CZ/M","M",""]
["Pavel Kuriscak",1987,"Beroun",{"$f":"VLOOKUP(C702,Region,2,0)","v":"CZ/C1"},"M",""]
["Pavel Kyzivat",1973,"Zbraslavice",{"$f":"VLOOKUP(C703,Region,2,0)","v":"CZ/C1"},"M",""]
["Pavel Laznicka",1955,"Letňany","CZ/C1","M",""]
["Pavel Liska",1965,"Roudnice","CZ/C2","M",""]
["Pavel Louzecky",1957,"Přibyslav","CZ/C2","M",""]
["Pavel Melichar",1983,"Vlašim",{"$f":"VLOOKUP(C707,Region,2,0)","v":"CZ/C1"},"M",{"$f":"IF(A707=\"(prázdné)\",\"\",IF(($G$1-B707)>25,\"\",\"Junior v roce \"&$G$1))","v":""}]
["Pavel Nemec",1988,"Šumperk","CZ/M","M",""]
["Pavel Opat",1975,"Rakovník",{"$f":"VLOOKUP(C709,Region,2,0)","v":"CZ/C1"},"M",{"$f":"IF(A709=\"(prázdné)\",\"\",IF(($G$1-B709)>25,\"\",\"Junior v roce \"&$G$1))","v":""}]
["Pavel Paces",1972,"Kladno","CZ/C1","M",""]
["Pavel Pittner",1980,"Polička","CZ/C2","M",""]
["Pavel Rericha",1967,"Moravská Třebová","CZ/M","M",""]
["Pavel Schejbal",1967,"Vrchlabí",{"$f":"VLOOKUP(C713,Region,2,0)","v":"CZ/C2"},"M",{"$f":"IF(A713=\"(prázdné)\",\"\",IF(($G$1-B713)>25,\"\",\"Junior v roce \"&$G$1))","v":""}]
["Pavel Schor",1985,"Medlánky","CZ/M","M",""]
["Pavel Svoboda",1938,"Letňany","CZ/C1","M",""]
["Pavel Simek",1957,"Vyškov","CZ/M","M",""]
["Pavel Skrabal",1969,"Šumperk","CZ/M","M",""]
["Pavel Sulc",1976,"Hodkovice",{"$f":"VLOOKUP(C718,Region,2,0)","v":"CZ/C2"},"M",""]
["Pavel Svejkovsky",1968,"Česká Lípa",{"$f":"VLOOKUP(C719,Region,2,0)","v":"CZ/C2"},"M",""]
["Pavel Svetlik",1968,"Kunovice",{"$f":"VLOOKUP(C720,Region,2,0)","v":"CZ/M"},"M",{"$f":"IF(A720=\"(prázdné)\",\"\",IF(($G$1-B720)>25,\"\",\"Junior v roce \"&$G$1))","v":""}]
["Pavel Svrcek",1972,"Frýdlant","CZ/M","M",""]
["Pavel Trojan",1960,"Chrudim","CZ/C2","M",""]
["Pavel Trybenekr",1990,"Hořice","CZ/C2","M",""]
["Pavel Zima",1979,"Břeclav","CZ/M","M",""]
["Pavla Seifertova",1981,"Raná","CZ/C2","F",""]
["Pavlina Hanusova",1970,"Turnov","CZ/C2","F",""]
["Pavlina Horackova",1965,"Šumperk","CZ/M","F",""]
["Peter Kaspar",1980,"Vyškov",{"$f":"VLOOKUP(C728,Region,2,0)","v":"CZ/M"},"M",""]
["Petr Babak",1973,"Hořice",{"$f":"VLOOKUP(C729,Region,2,0)","v":"CZ/C2"},"M",""]
["Petr Baros",1974,"Hranice","CZ/M","M",""]
["Petr Bartak",1984,"Letkov","CZ/C1","M",""]
["Petr Brezina",1963,"Frýdlant","CZ/M","M",""]
["Petr Benes",1980,"Raná",{"$f":"VLOOKUP(C733,Region,2,0)","v":"CZ/C2"},"M",{"$f":"IF(A733=\"(prázdné)\",\"\",IF(($G$1-B733)>25,\"\",\"Junior v roce \"&$G$1))","v":""}]
["Petr Bezdek",1965,"Letňany","CZ/C1","M",""]
["Petr Cernicky",1974,"Toužim",{"$f":"VLOOKUP(C735,Region,2,0)","v":"CZ/C1"},"M",""]
["Petr Doubek",1974,"Kralupy","CZ/C1","M",""]
["Petr Filip",1982,"Zbraslavice","CZ/C1","M",""]
["Petr Fisar",1974,"Ústí nad Orlicí","CZ/C2","M",""]
["Petr Fousek",1958,"Zbraslavice","CZ/C1","M",""]
["Petr Frycek",1960,"Most","CZ/C2","M",""]
["Petr Gebauer",1999,"Mladá Boleslav","CZ/C1","M",""]
["Petr Gryc",1949,"Medlánky","CZ/M","M",""]
["Petr Hanacek",1962,"Jeseník","CZ/M","M",""]
["Petr Havelka",1997,"Zbraslavice",{"$f":"VLOOKUP(C744,Region,2,0)","v":"CZ/C1"},"M",""]
["Petr Havrlant",1965,"Šumperk","CZ/M","M",""]
["Petr Herold",1970,"Vlašim",{"$f":"VLOOKUP(C746,Region,2,0)","v":"CZ/C1"},"M",{"$f":"IF(A746=\"(prázdné)\",\"\",IF(($G$1-B746)>25,\"\",\"Junior v roce \"&$G$1))","v":""}]
["Petr Hodulak",1974,"Beroun","CZ/C1","M",""]
["Petr Hofman",1984,"Letňany","CZ/C1","M",""]
["Petr Homola",1974,"GAC Benešov",{"$f":"VLOOKUP(C749,Region,2,0)","v":"CZ/C1"},"M",""]
["Petr Hora",1948,"Hodkovice","CZ/C2","M",""]
["Petr Hosek",2001,"Beroun",{"$f":"VLOOKUP(C751,Region,2,0)","v":"CZ/C1"},"M","Junior v roce 2025"]
["Petr Hotovy",1958,"Česká Lípa",{"$f":"VLOOKUP(C752,Region,2,0)","v":"CZ/C2"},"M",""]
["Petr Houstek 49",1949,"Jaroměř","CZ/C2","M",""]
["Petr Houstek 79",1979,"Jaroměř","CZ/C2","M",""]
["Petr Hrebec",1972,"Točná","CZ/C1","M",""]
["Petr Humlicek",1973,"Medlánky","CZ/M","M",""]
["Petr Hybner",1951,"Liberec","CZ/C2","M",""]
["Petr Jasan",1960,"Medlánky","CZ/M","M",""]
["Petr Jedlicka",1987,"Medlánky","CZ/M","M",""]
["Petr Jiranek 63",1962,"Toužim","CZ/C1","M",""]
["Petr Jiranek 91",1991,"Toužim","CZ/C1","M",""]
["Petr Jirasek",1968,"Hronov","CZ/C2","M",""]
["Petr Kachlik",1954,"GAC Benešov","CZ/C1","M",""]
["Petr Kapounek",1977,"Kroměříž","CZ/M","M",""]
["Petr Kaufmann",1958,"Nové Město nad Metují","CZ/C2","M",""]
["Petr Kejr",1959,"Kralupy","CZ/C1","M",""]
["Petr Kolacek",1965,"Šumperk","CZ/M","M",""]
["Petr Kolomaznik",1981,"Šumperk","CZ/M","M",""]
["Petr Kotal",1975,"Točná","CZ/C1","M",""]
["Petr Koutny",1971,"Křižanov","CZ/M","M",""]
["Petr Kohr",1970,"Raná","CZ/C2","M",""]
["Petr Krejcirik",1960,"Hranice","CZ/M","M",""]
["Petr Kubik 74",1974,"Křižanov","CZ/M","M",""]
["Petr Kubik 75",1975,"Moravská Třebová","CZ/M","M",""]
["Petr Kyzivat",1970,"Jičín","CZ/C2","M",""]
["Petr Lonsky",1965,"Toužim","CZ/C1","M",""]
["Petr Los",1961,"Toužim","CZ/C1","M",{"$f":"IF(A777=\"(prázdné)\",\"\",IF(($G$1-B777)>25,\"\",\"Junior v roce \"&$G$1))","v":""}]
["Petr Macicek",1976,"Frýdlant","CZ/M","M",""]
["Petr Malcek",1965,"Letňany","CZ/C1","M",""]
["Petr Masik",2001,"Zábřeh",{"$f":"VLOOKUP(C780,Region,2,0)","v":"CZ/M"},"M",{"$f":"IF(A780=\"(prázdné)\",\"\",IF(($G$1-B780)>25,\"\",\"Junior v roce \"&$G$1))","v":"Junior v roce 2025"}]
["Petr Mitas",1993,"Kunovice","CZ/M","M",""]
["Petr Omelka",1970,"Vyškov",{"$f":"VLOOKUP(C782,Region,2,0)","v":"CZ/M"},"M",""]
["Petr Panek",1975,"Dvůr Králové","CZ/C2","M",""]
["Petr Petricka",1972,"Soběslav","CZ/C1","M",""]
["Petr Prichystal",1973,"Moravská Třebová","CZ/M","M",""]
["Petr Rajda",1970,"Křižanov","CZ/M","M",""]
["Petr Rozhon",1972,"Hosín","CZ/C1","M",""]
["Petr Rygl",1966,"Jičín","CZ/C2","M",""]
["Petr Seibrt",1974,"Náchod","CZ/C2","M",""]
["Petr Sloupensky",1959,"Ústí nad Orlicí","CZ/C2","M",""]
["Petr Starek",1974,"Zbraslavice","CZ/C1","M",""]
["Petr Striz",1980,"Točná","CZ/C1","M",""]
["Petr Svoboda",1988,"Letkov","CZ/C1","M",""]
["Petr Safar",1978,"Ústí nad Orlicí","CZ/C2","M",""]
["Petr Senkyr",1965,"Kunovice","CZ/M","M",""]
["Petr Setka",1971,"Letkov","CZ/C1","M",""]
["Petr Sindelar 45",1945,"Rakovník",{"$f":"VLOOKUP(C797,Region,2,0)","v":"CZ/C1"},"M",{"$f":"IF(A797=\"(prázdné)\",\"\",IF(($G$1-B797)>25,\"\",\"Junior v roce \"&$G$1))","v":""}]
["Petr Sindelar 80",1980,"Letkov",{"$f":"VLOOKUP(C798,Region,2,0)","v":"CZ/C1"},"M",{"$f":"IF(A798=\"(prázdné)\",\"\",IF(($G$1-B798)>25,\"\",\"Junior v roce \"&$G$1))","v":""}]
["Petr Sochor",1986,"Hosín",{"$f":"VLOOKUP(C799,Region,2,0)","v":"CZ/C1"},"M",""]
["Petr Spunar",1966,"Mladá Boleslav","CZ/C1","M",""]
["Petr Stepanek",1989,"Moravská Třebová","CZ/M","M",""]
["Petr Styblo",1975,"Letňany",{"$f":"VLOOKUP(C802,Region,2,0)","v":"CZ/C1"},"M",{"$f":"IF(A802=\"(prázdné)\",\"\",IF(($G$1-B802)>25,\"\",\"Junior v roce \"&$G$1))","v":""}]
["Petr Tax",1968,"Jičín",{"$f":"VLOOKUP(C803,Region,2,0)","v":"CZ/C2"},"M",""]
["Petr Tichy",1973,"Zbraslavice","CZ/C1","M",""]
["Petr Traeger",1983,"Vrchlabí",{"$f":"VLOOKUP(C805,Region,2,0)","v":"CZ/C2"},"M",{"$f":"IF(A805=\"(prázdné)\",\"\",IF(($G$1-B805)>25,\"\",\"Junior v roce \"&$G$1))","v":""}]
["Petr Uhrincko",1969,"Kladno","CZ/C1","M",""]
["Petr Valenta 94",1994,"Kunovice","CZ/M","M",""]
["Petr Valenta 76",1976,"Jaroměř",{"$f":"VLOOKUP(C808,Region,2,0)","v":"CZ/C2"},"M",""]
["Petr Velek",1975,"GAC Benešov",{"$f":"VLOOKUP(C809,Region,2,0)","v":"CZ/C1"},"M",""]
["Petr Vezda",1974,"Medlánky",{"$f":"VLOOKUP(C810,Region,2,0)","v":"CZ/M"},"M",""]
["Petr Vlasak",1974,"Medlánky","CZ/M","M",""]
["Petr Vodicka",1965,"Jaroměř","CZ/C2","M",""]
["Petr Weinhauer",1977,"Tábor",{"$f":"VLOOKUP(C813,Region,2,0)","v":"CZ/C1"},"M",{"$f":"IF(A813=\"(prázdné)\",\"\",IF(($G$1-B813)>25,\"\",\"Junior v roce \"&$G$1))","v":""}]
["Petr Zajic",1962,"Liberec","CZ/C2","M",""]
["Petra Benesova",1985,"Beroun","CZ/C1","F",""]
["Petra Ctibor",1991,"Medlánky",{"$f":"VLOOKUP(C816,Region,2,0)","v":"CZ/M"},"F",{"$f":"IF(A816=\"(prázdné)\",\"\",IF(($G$1-B816)>25,\"\",\"Junior v roce \"&$G$1))","v":""}]
["Petra Diepoldova",1978,"Vysoké Mýto","CZ/C2","F",""]
["Petra Piskata",1989,"Luhačovice","CZ/M","F",""]
["Petra Pinkova",1988,"Letkov","CZ/C1","F",""]
["Petra Retamozova",1990,"Kralupy","CZ/C1","F",""]
["Premek Popovsky",1966,"Kyjov","CZ/M","M",""]
["Premysl Chvoj",2003,"Zbraslavice",{"$f":"VLOOKUP(C822,Region,2,0)","v":"CZ/C1"},"M","Junior v roce 2025"]
["Premysl Muzik",1990,"Tábor","CZ/C1","M",""]
["Radek Bares",1963,"Jičín",{"$f":"VLOOKUP(C824,Region,2,0)","v":"CZ/C2"},"M",{"$f":"IF(A824=\"(prázdné)\",\"\",IF(($G$1-B824)>25,\"\",\"Junior v roce \"&$G$1))","v":""}]
["Radek Bartos",1971,"Kolín",{"$f":"VLOOKUP(C825,Region,2,0)","v":"CZ/C1"},"M",{"$f":"IF(A825=\"(prázdné)\",\"\",IF(($G$1-B825)>25,\"\",\"Junior v roce \"&$G$1))","v":""}]
["Radek Gadas",1998,"Hodkovice",{"$f":"VLOOKUP(C826,Region,2,0)","v":"CZ/C2"},"M",""]
["Radek Hamrla",1973,"Vyškov",{"$f":"VLOOKUP(C827,Region,2,0)","v":"CZ/M"},"M",""]
["Radek Hybl",1980,"Šumperk","CZ/M","M",""]
["Radek Chmela",1984,"Luhačovice","CZ/M","M",""]
["Radek Jaksa",1979,"Prostějov","CZ/M","M",""]
["Radek Krejcirik",1991,"Hranice","CZ/M","M",""]
["Radek Kucirek",1973,"Havlíčkův Brod","CZ/C2","M",""]
["Radek Laga",1997,"Kunovice",{"$f":"VLOOKUP(C833,Region,2,0)","v":"CZ/M"},"M",""]
["Radek Munzar",1976,"Jaroměř","CZ/C2","M",""]
["Radek Tobolka",1977,"Jičín",{"$f":"VLOOKUP(C835,Region,2,0)","v":"CZ/C2"},"M",""]
["Radek Trunec",1989,"Letkov","CZ/C1","M",""]
["Radek Vlcek",1982,"Šumperk","CZ/M","M",""]
["Radek Zima 78",1978,"Hodkovice","CZ/C2","M",""]
["Radek Zima 75",1975,"Břeclav","CZ/M","M",""]
["Radim Bradac",1995,"Letňany","CZ/C1","M",""]
["Radim Hahn",1972,"Zábřeh","CZ/M","M",""]
["Radim Hauptmann",1963,"Jičín","CZ/C2","M",""]
["Radim Jordan",1976,"Žamberk","CZ/C2","M",""]
["Radim Krofta",1984,"Rakovník","CZ/C1","M",""]
["Radim Malatek",1978,"Beroun","CZ/C1","M",""]
["Radim Sobek",1977,"Hranice",{"$f":"VLOOKUP(C846,Region,2,0)","v":"CZ/M"},"M",{"$f":"IF(A846=\"(prázdné)\",\"\",IF(($G$1-B846)>25,\"\",\"Junior v roce \"&$G$1))","v":""}]
["Radim Tomala",1972,"Prostějov",{"$f":"VLOOKUP(C847,Region,2,0)","v":"CZ/M"},"M",{"$f":"IF(A847=\"(prázdné)\",\"\",IF(($G$1-B847)>25,\"\",\"Junior v roce \"&$G$1))","v":""}]
["Radim Vadasz",1989,"Soběslav","CZ/C1","M",""]
["Radim Zielinski",1969,"Frýdlant","CZ/M","M",""]
["Radmila Horacek Filakovska",1963,"Dvůr Králové","CZ/C2","F",""]
["Radoslav Pur",1973,"Hosín","CZ/C1","M",""]
["Radovan Otto",1968,"Ústí nad Labem","CZ/C2","M",{"$f":"IF(A852=\"(prázdné)\",\"\",IF(($G$1-B852)>25,\"\",\"Junior v roce \"&$G$1))","v":""}]
["Radovan Sohr",1965,"Hranice","CZ/M","M","",null,"Dříve Jičín"]
["Rene Hudak",1972,"Kunovice","CZ/M","M",""]
["Rene Picha",1970,"Vlašim","CZ/C1","M",""]
["Richard Jensen",1965,"Zbraslavice","CZ/C1","M",""]
["Richard Svarovsky",1976,"Zábřeh","CZ/M","M",""]
["Richard Vlcek",1993,"Kunovice","CZ/M","M",""]
["Robert Jandera",1976,"Hodkovice","CZ/C2","M",""]
["Robert Sima",1971,"GAC Benešov","CZ/C1","M",""]
["Robin Stichenwirth",1984,"Letkov",{"$f":"VLOOKUP(C861,Region,2,0)","v":"CZ/C1"},"M",{"$f":"IF(A861=\"(prázdné)\",\"\",IF(($G$1-B861)>25,\"\",\"Junior v roce \"&$G$1))","v":""}]
["Roman Bradac",1974,"Rakovník",{"$f":"VLOOKUP(C862,Region,2,0)","v":"CZ/C1"},"M",{"$f":"IF(A862=\"(prázdné)\",\"\",IF(($G$1-B862)>25,\"\",\"Junior v roce \"&$G$1))","v":""}]
["Roman Cerny",1971,"Hranice","CZ/M","M",""]
["Roman Huszar",1963,"Letňany","CZ/C1","M",""]
["Roman Jokl",1979,"Letkov","CZ/C1","M",""]
["Roman Konarik",1976,"Luhačovice","CZ/M","M",""]
["Roman Lanzendorf",1964,"Letkov","CZ/C1","M",""]
["Roman Lengal",1987,"Břeclav",{"$f":"VLOOKUP(C868,Region,2,0)","v":"CZ/M"},"M",""]
["Roman Lukes",1979,"Přibyslav",{"$f":"VLOOKUP(C869,Region,2,0)","v":"CZ/C2"},"M",""]
["Roman Michalek",1974,"Toužim","CZ/C1","M",""]
["Roman Mracek",1980,"Letkov","CZ/C1","M",""]
["Roman Schotli",1970,"Hranice","CZ/M","M",""]
["Roman Stoklasa",1984,"Medlánky","CZ/M","M",""]
["Rostislav Broz",1968,"Vrchlabí","CZ/C2","M",""]
["Rostislav Fric",1973,"Raná","CZ/C2","M","",null,"Dříve Jičín"]
["Rostislav Konderla",1972,"Rakovník",{"$f":"VLOOKUP(C876,Region,2,0)","v":"CZ/C1"},"M",{"$f":"IF(A876=\"(prázdné)\",\"\",IF(($G$1-B876)>25,\"\",\"Junior v roce \"&$G$1))","v":""}]
["Rostislav Matl",1972,"Vyškov","CZ/M","M",""]
["Rostislav Stryk",1972,"Frýdlant","CZ/M","M",""]
["Rostislav Subert",1982,"Šumperk","CZ/M","M",""]
["Rudolf Ferbar",1969,"Moravská Třebová","CZ/M","M",""]
["Rudolf Jung",1954,"Zbraslavice","CZ/C1","M",""]
["Sabina Vitova",1998,"Kroměříž","CZ/M","F",""]
["Slavomir Piskaty 58",1958,"Kunovice","CZ/M","M",""]
["Slavomir Piskaty 84",1984,"Kunovice","CZ/M","M",""]
["Slavomir Tanglmajer",1966,"Chomutov","CZ/C2","M",""]
["Slavomir Valecko",1960,"Hranice","CZ/M","M",""]
["Sona Fortova",1980,"GAC Benešov","CZ/C1","F",""]
["Stanislav Doskocil",1978,"Medlánky","CZ/M","M",""]
["Stanislav Hanus",1970,"Vrchlabí","CZ/C2","M",""]
["Stanislav Honzatko",1952,"Slaný","CZ/C1","M",""]
["Stanislav John",1974,"Hosín",{"$f":"VLOOKUP(C891,Region,2,0)","v":"CZ/C1"},"M",""]
["Stanislav Kubicek",1960,"Medlánky","CZ/M","M",""]
["Stanislav Poslusny",1965,"GAC Benešov","CZ/C1","M",""]
["Stanislav Vrabec",1975,"Česká Lípa",{"$f":"VLOOKUP(C894,Region,2,0)","v":"CZ/C2"},"M",""]
["Stanislava Zemlickova",2000,"Vyškov",{"$f":"VLOOKUP(C895,Region,2,0)","v":"CZ/M"},"F","Junior v roce 2025"]
["Svatopluk Tomsu",1973,"Jaroměř","CZ/C2","M",""]
["Sarka Lochova",1966,"Šumperk","CZ/M","F",""]
["Stefan Uher",1968,"Turnov","CZ/C2","M",""]
["Stepan Bartos",2004,"Kolín",{"$f":"VLOOKUP(C899,Region,2,0)","v":"CZ/C1"},"M",{"$f":"IF(A899=\"(prázdné)\",\"\",IF(($G$1-B899)>25,\"\",\"Junior v roce \"&$G$1))","v":"Junior v roce 2025"}]
["Stepan Capek",1960,"Jičín",{"$f":"VLOOKUP(C900,Region,2,0)","v":"CZ/C2"},"M",{"$f":"IF(A900=\"(prázdné)\",\"\",IF(($G$1-B900)>25,\"\",\"Junior v roce \"&$G$1))","v":""}]
["Stepan Filakovsky",2005,"Medlánky",{"$f":"VLOOKUP(C901,Region,2,0)","v":"CZ/M"},"M",{"$f":"IF(A901=\"(prázdné)\",\"\",IF(($G$1-B901)>25,\"\",\"Junior v roce \"&$G$1))","v":"Junior v roce 2025"}]
["Stepan Matous",1980,"Dvůr Králové","CZ/C2","M",""]
["Stepan Obrovsky",1990,"Frýdlant",{"$f":"VLOOKUP(C903,Region,2,0)","v":"CZ/M"},"M",""]
["Teodor Skoda",1998,"Hronov",{"$f":"VLOOKUP(C904,Region,2,0)","v":"CZ/C2"},"M",""]
["Tereza Jirsakova",1997,"Hronov","CZ/C2","F",""]
["Tereza Koubkova",1999,"Vysoké Mýto","CZ/C2","F",""]
["Tereza Krcilova Spalenkova",1981,"Raná",{"$f":"VLOOKUP(C907,Region,2,0)","v":"CZ/C2"},"F",""]
["Tereza Ludvikova",1997,"Jaroměř",{"$f":"VLOOKUP(C908,Region,2,0)","v":"CZ/C2"},"F",{"$f":"IF(A908=\"(prázdné)\",\"\",IF(($G$1-B908)>25,\"\",\"Junior v roce \"&$G$1))","v":""}]
["Tereza Novakova",1993,"Chrudim",{"$f":"VLOOKUP(C909,Region,2,0)","v":"CZ/C2"},"F",""]
["Tibor Hezina",2002,"Křižanov",{"$f":"VLOOKUP(C910,Region,2,0)","v":"CZ/M"},"M","Junior v roce 2025"]
["Tibor Hruza",1970,"Letkov","CZ/C1","M",""]
["Tim Raasch",2000,"Polička",{"$f":"VLOOKUP(C912,Region,2,0)","v":"CZ/C2"},"M","Junior v roce 2025"]
["Tomas Barton",1982,"Hosín","CZ/C1","M",""]
["Tomas Buben",1971,"Jaroměř","CZ/C2","M",""]
["Tomas Ditrt",1969,"Podhořany","CZ/C2","M",""]
["Tomas Fiala 72",1972,"Křižanov","CZ/M","M",""]
["Tomas Fiala 77",1977,"Luhačovice","CZ/M","M",""]
["Tomas Fila",1987,"Beroun","CZ/C1","M",""]
["Tomas Flegl",1987,"Hodkovice",{"$f":"VLOOKUP(C919,Region,2,0)","v":"CZ/C2"},"M",""]
["Tomas Frinta",1970,"Hodkovice","CZ/C2","M",""]
["Tomas Hlavacek",1984,"Mladá Boleslav",{"$f":"VLOOKUP(C921,Region,2,0)","v":"CZ/C1"},"M",""]
["Tomas Hlavenka",1987,"Luhačovice","CZ/M","M",""]
["Tomas Holenda",1956,"Havlíčkův Brod",{"$f":"VLOOKUP(C923,Region,2,0)","v":"CZ/C2"},"M",{"$f":"IF(A923=\"(prázdné)\",\"\",IF(($G$1-B923)>25,\"\",\"Junior v roce \"&$G$1))","v":""}]
["Tomas Holzapfel",1975,"Mladá Boleslav","CZ/C1","M",""]
["Tomas Hulmak",1999,"Hosín","CZ/C1","M",""]
["Tomas Hynek",2002,"Dvůr Králové",{"$f":"VLOOKUP(C926,Region,2,0)","v":"CZ/C2"},"M","Junior v roce 2025"]
["Tomas Charvat",1981,"Vysoké Mýto","CZ/C2","M",""]
["Tomas Jakoubek",2000,"Hronov",{"$f":"VLOOKUP(C928,Region,2,0)","v":"CZ/C2"},"M","Junior v roce 2025"]
["Tomas Jedlicka",1959,"Karlštejn","CZ/C1","M",""]
["Tomas Jilek",1995,"Raná","CZ/C2","M",""]
["Tomas Jiricny",1981,"Hodkovice","CZ/C2","M",""]
["Tomas Jung",1950,"Zbraslavice","CZ/C1","M",""]
["Tomas Kohout",1981,"Slaný","CZ/C1","M",""]
["Tomas Koutnik",1985,"Jaroměř","CZ/C2","M",""]
["Tomas Kovarik",1965,"Zbraslavice","CZ/C1","M",""]
["Tomas Kubac",1993,"Roudnice","CZ/C2","M",""]
["Tomas Kulhavy",2001,"Liberec",{"$f":"VLOOKUP(C937,Region,2,0)","v":"CZ/C2"},"M","Junior v roce 2025"]
["Tomas Lisec",1984,"Točná","CZ/C1","M",""]
["Tomas Magnusek",1988,"Frýdlant","CZ/M","M",""]
["Tomas Malik",1972,"Letňany","CZ/C1","M",""]
["Tomas Malinsky",1988,"Křižanov","CZ/M","M",""]
["Tomas Manasek",1980,"Kunovice","CZ/M","M",""]
["Tomas Mezera",1973,"Raná","CZ/C2","M",""]
["Tomas Michna",1989,"Šumperk","CZ/M","M",""]
["Tomas Moravec",2000,"Žamberk","CZ/C2","M","Junior v roce 2025"]
["Tomas Morch",1981,"Raná","CZ/C2","M",""]
["Tomas Novak",1974,"Česká Lípa",{"$f":"VLOOKUP(C947,Region,2,0)","v":"CZ/C2"},"M",""]
["Tomas Ohera",1977,"Letňany","CZ/C1","M",""]
["Tomas Ondrusek",1994,"Letkov","CZ/C1","M",""]
["Tomas Ondrisek",1970,"Kunovice","CZ/M","M",""]
["Tomas Palata",1966,"Liberec","CZ/C2","M",""]
["Tomas Podolak",1986,"Kralupy","CZ/C1","M",""]
["Tomas Profeld",1964,"Jičín","CZ/C2","M",""]
["Tomas Prokop",1972,"Šumperk","CZ/M","M",""]
["Tomas Prikryl",1973,"Vyškov","CZ/M","M",""]
["Tomas Ptacovsky",1981,"Letňany","CZ/C1","M",""]
["Tomas Rendla",1973,"Zbraslavice","CZ/C1","M",""]
["Tomas Rysavy",1959,"Medlánky","CZ/M","M",""]
["Tomas Sedlacek",1972,"Zbraslavice","CZ/C1","M",""]
["Tomas Seifert",1972,"Raná","CZ/C2","M",""]
["Tomas Shrbeny",1968,"Točná","CZ/C1","M",""]
["Tomas Suchanek",1964,"GAC Benešov","CZ/C1","M",""]
["Tomas Talanda",1988,"Křižanov","CZ/M","M",""]
["Tomas Turek",1988,"Zbraslavice",{"$f":"VLOOKUP(C964,Region,2,0)","v":"CZ/C1"},"M",""]
["Tomas Vaclavik",1974,"Hosín",{"$f":"VLOOKUP(C965,Region,2,0)","v":"CZ/C1"},"M",""]
["Tomas Vrbsky",1964,"Letkov","CZ/C1","M",""]
["Tomas Zamecnik",1988,"Zbraslavice","CZ/C1","M",""]
["Ulf Kern",1958,"Raná","CZ/C2","M",""]
["Vaclav Cerny",1949,"Slaný","CZ/C1","M",""]
["Vaclav Halek",1966,"Toužim",{"$f":"VLOOKUP(C970,Region,2,0)","v":"CZ/C1"},"M",""]
["Vaclav Hrdina",1984,"Letkov",{"$f":"VLOOKUP(C971,Region,2,0)","v":"CZ/C1"},"M",""]
["Vaclav Hruza",1965,"Břeclav","CZ/M","M",""]
["Vaclav Koudelka",1997,"Jičín","CZ/C2","M",""]
["Vaclav Krejcar",1943,"Hořice","CZ/C2","M",""]
["Vaclav Kult",1973,"Broumov","CZ/C2","M",""]
["Vaclav Kunasek",1987,"Zbraslavice","CZ/C1","M",""]
["Vaclav Kysilka",1979,"GAC Benešov",{"$f":"VLOOKUP(C977,Region,2,0)","v":"CZ/C1"},"M",""]
["Vaclav Marel",1974,"Jaroměř","CZ/C2","M",""]
["Vaclav Ochotny",1966,"Kunovice",{"$f":"VLOOKUP(C979,Region,2,0)","v":"CZ/M"},"M",""]
["Vaclav Petru",1974,"Letňany","CZ/C1","M",""]
["Vaclav Sehnal",1962,"Kolín","CZ/C1","M",""]
["Vaclav Svoboda",1970,"Letkov","CZ/C1","M",""]
["Vaclav Trnka",1939,"Ústí nad Orlicí","CZ/C2","M",""]
["Vaclav Zeman",1984,"Zbraslavice","CZ/C1","M",""]
["Vaclav Zak",1962,"GAC Benešov","CZ/C1","M",""]
["Vera Vavrinova",1949,"Vysoké Mýto","CZ/C2","F",""]
["Veronika Ambrozova",1984,"Křižanov","CZ/M","F",""]
["Veronika Jezkova",1986,"Mladá Boleslav","CZ/C1","F",{"$f":"IF(A988=\"(prázdné)\",\"\",IF(($G$1-B988)>25,\"\",\"Junior v roce \"&$G$1))","v":""}]
["Veronika Mullerova",1983,"Letňany","CZ/C1","F",""]
["Viktor Becan",1979,"Vlašim","CZ/C1","M","",null,"GAC Benešov do 2022"]
["Viktor Tvrdik",1977,"Rakovník",{"$f":"VLOOKUP(C991,Region,2,0)","v":"CZ/C1"},"M",{"$f":"IF(A991=\"(prázdné)\",\"\",IF(($G$1-B991)>25,\"\",\"Junior v roce \"&$G$1))","v":""}]
["Viktor Zimcik",1976,"Kunovice",{"$f":"VLOOKUP(C992,Region,2,0)","v":"CZ/M"},"M",""]
["Vilem Riha",1990,"Letňany","CZ/C1","M",""]
["Vit Grossmann",1977,"Hranice",{"$f":"VLOOKUP(C994,Region,2,0)","v":"CZ/M"},"M",""]
["Vit Hrdlicka",1960,"Medlánky","CZ/M","M",""]
["Vit Morkovsky",2000,"Polička","CZ/C2","M","Junior v roce 2025"]
["Vit Novak",1985,"Olomouc","CZ/M","M",""]
["Vit Pavelka",2004,"Moravská Třebová",{"$f":"VLOOKUP(C998,Region,2,0)","v":"CZ/M"},"M",{"$f":"IF(A998=\"(prázdné)\",\"\",IF(($G$1-B998)>25,\"\",\"Junior v roce \"&$G$1))","v":"Junior v roce 2025"}]
["Vit Prokop",1987,"Medlánky",{"$f":"VLOOKUP(C999,Region,2,0)","v":"CZ/M"},"M",""]
["Vit Rydl",1969,"Turnov","CZ/C2","M",""]
["Vit Tvrdik",2000,"Letňany","CZ/C1","M","Junior v roce 2025"]
["Vit Udatny",1997,"Broumov",{"$f":"VLOOKUP(C1002,Region,2,0)","v":"CZ/C2"},"M",{"$f":"IF(A1002=\"(prázdné)\",\"\",IF(($G$1-B1002)>25,\"\",\"Junior v roce \"&$G$1))","v":""}]
["Vladimir Abraham",1962,"Raná","CZ/C2","M",""]
["Vladimir Baran",1949,"Frýdlant","CZ/M","M",""]
["Vladimir Dostal",1943,"Hronov","CZ/C2","M",""]
["Vladimir Fousek",1964,"Raná","CZ/C2","M",""]
["Vladimir Fux",1963,"Křižanov","CZ/M","M",""]
["Vladimir Hammer",2000,"Letkov",{"$f":"VLOOKUP(C1008,Region,2,0)","v":"CZ/C1"},"M","Junior v roce 2025"]
["Vladimir Hampl",1970,"Dvůr Králové","CZ/C2","M",""]
["Vladimir Jirka",1965,"Zábřeh","CZ/M","M",""]
["Vladimir Kamensky",1983,"Břeclav","CZ/M","M",""]
["Vladimir Kramosil",1937,"Most","CZ/C2","M",""]
["Vladimir Maca",1982,"Jihlava","CZ/M","M",""]
["Vladimir Nemec",1976,"Jeseník","CZ/M","M",""]
["Vladimir Prihoda",1953,"Kralupy","CZ/C1","M",""]
["Vladimir Spilka",1940,"Hranice","CZ/M","M",""]
["Vladislav Cadsky",1975,"Kolín",{"$f":"VLOOKUP(C1017,Region,2,0)","v":"CZ/C1"},"M",{"$f":"IF(A1017=\"(prázdné)\",\"\",IF(($G$1-B1017)>25,\"\",\"Junior v roce \"&$G$1))","v":""}]
["Vlastislav Picka",1948,"Jindřichův Hradec","CZ/C1","M",""]
["Vojtech Bartos",1970,"Medlánky","CZ/M","M",""]
["Vojtech Bystricky",2004,"Strakonice",{"$f":"VLOOKUP(C1020,Region,2,0)","v":"CZ/C1"},"M",{"$f":"IF(A1020=\"(prázdné)\",\"\",IF(($G$1-B1020)>25,\"\",\"Junior v roce \"&$G$1))","v":"Junior v roce 2025"}]
["Vojtech Flidr",2003,"Dvůr Králové",{"$f":"VLOOKUP(C1021,Region,2,0)","v":"CZ/C2"},"M","Junior v roce 2025"]
["Vojtech Hajek",1987,"Mladá Boleslav","CZ/C1","M",""]
["Vojtech Karlik",1982,"Kunovice","CZ/M","M",""]
["Vojtech Kostejn",1974,"Česká Lípa","CZ/C2","M",""]
["Vojtech Labuda",1980,"Příbram","CZ/C1","M",""]
["Vojtech Novotny",1992,"Kralupy","CZ/C1","M",""]
["Vojtech Pavek",2000,"Medlánky",{"$f":"VLOOKUP(C1027,Region,2,0)","v":"CZ/M"},"M",{"$f":"IF(A1027=\"(prázdné)\",\"\",IF(($G$1-B1027)>25,\"\",\"Junior v roce \"&$G$1))","v":"Junior v roce 2025"}]
["Vojtech Petrovicky",1986,"Mladá Boleslav","CZ/C1","M",""]
["Vojtech Pivonka",1976,"Vrchlabí","CZ/C2","M",""]
["Vojtech Sehnal",1994,"Kolín","CZ/C1","M",""]
["Vojtech Stavny",1962,"Letkov","CZ/C1","M",""]
["Vojtech Svoboda",1994,"Zbraslavice",{"$f":"VLOOKUP(C1032,Region,2,0)","v":"CZ/C1"},"M",""]
["Vojtech Vach 76",1976,"Nové Město nad Metují","CZ/C2","M",""]
["Vojtech Vach 03",2003,"Vrchlabí",{"$f":"VLOOKUP(C1034,Region,2,0)","v":"CZ/C2"},"M",{"$f":"IF(A1034=\"(prázdné)\",\"\",IF(($G$1-B1034)>25,\"\",\"Junior v roce \"&$G$1))","v":"Junior v roce 2025"}]
["Vratislav Orlita",1946,"Kunovice","CZ/M","M",""]
["Vratislav Sram",1966,"Broumov","CZ/C2","M",""]
["Wolfgang Sluka",1942,"Liberec","CZ/C2","M",""]
["Yvona Vyhnankova",1963,"Olomouc","CZ/M","F",""]
["Zbynek Bican",1961,"Raná","CZ/C2","M",""]
["Zbynek Fuksa",1956,"Jičín",{"$f":"VLOOKUP(C1040,Region,2,0)","v":"CZ/C2"},"M",""]
["Zbynek Zdrahal",1965,"Medlánky","CZ/M","M",""]
["Zbynek Koudelka",1991,"Křižanov","CZ/M","M",""]
["Zbynek Kuchta",1976,"Klatovy",{"$f":"VLOOKUP(C1043,Region,2,0)","v":"CZ/C1"},"M",""]
["Zdenek Balcarek",1967,"Kroměříž","CZ/M","M",""]
["Zdenek Bohm",1963,"Kolín","CZ/C1","M",""]
["Zdenek Boruvka 54",1954,"Jičín","CZ/C2","M",""]
["Zdenek Boruvka 86",1986,"Jičín","CZ/C2","M",""]
["Zdenek Buben",1978,"Hodkovice","CZ/C2","M",""]
["Zdenek Kropac",1981,"Kladno","CZ/C1","M",""]
["Zdenek Krivanek",1967,"Kolín","CZ/C1","M",""]
["Zdenek Mach",1976,"Broumov","CZ/C2","M",""]
["Zdenek Parizek",1984,"Raná","CZ/C2","M",""]
["Zdenek Schenk",1972,"Hranice","CZ/M","M",""]
["Zdenek Setek",1980,"Kolín","CZ/C1","M",""]
["Zdenek Spacek",1980,"Přibyslav","CZ/C2","M",""]
["Zdenek Zabloudil",1962,"Medlánky","CZ/M","M",""]
["Zdenek Zerzan",1968,"Šumperk",{"$f":"VLOOKUP(C1057,Region,2,0)","v":"CZ/M"},"M",""]
["Zuzana Kutilkova",1993,"Křižanov",{"$f":"VLOOKUP(C1058,Region,2,0)","v":"CZ/M"},"F",""]
["Zuzana Markesova",2001,"Medlánky",{"$f":"VLOOKUP(C1059,Region,2,0)","v":"CZ/M"},"F","Junior v roce 2025"]
["Zitomir Krepinsky",1987,"Chrudim",{"$f":"VLOOKUP(C1060,Region,2,0)","v":"CZ/C2"},"M",{"$f":"IF(A1060=\"(prázdné)\",\"\",IF(($G$1-B1060)>25,\"\",\"Junior v roce \"&$G$1))","v":""}]

{"sheet":"Region","index":4,"n_rows":116,"n_cols":4,"rows_kept":116,"cut":false,"hidden":true,"merged":[]}
["Aeroklub","Region","Počet",{"$f":"C70+C37+C2","v":89}]
["Benešov","CZ/C1",{"$f":"COUNTIF(B2:B35,B2)","v":34}]
["Beroun","CZ/C1"]
["Bystřice u Benešova","CZ/C1"]
["Erpužice","CZ/C1"]
["GAC Benešov","CZ/C1"]
["Hořovice","CZ/C1"]
["Hosín","CZ/C1"]
["Jindřichův Hradec","CZ/C1"]
["Karlovy Vary","CZ/C1"]
["Karlštejn","CZ/C1"]
["Kladno","CZ/C1"]
["Klatovy","CZ/C1"]
["Kolín","CZ/C1"]
["Kralupy","CZ/C1"]
["Letkov","CZ/C1"]
["Letňany","CZ/C1"]
["Mladá Boleslav","CZ/C1"]
["Nesvačily","CZ/C1"]
["Panenský Týnec","CZ/C1"]
["Plasy","CZ/C1"]
["Plzeň Bory","CZ/C1"]
["Prachatice","CZ/C1"]
["Příbram","CZ/C1"]
["Rakovník","CZ/C1"]
["Slaný","CZ/C1"]
["Soběslav","CZ/C1"]
["Staňkov","CZ/C1"]
["Strakonice","CZ/C1"]
["Tábor","CZ/C1"]
["Tachov","CZ/C1"]
["Točná","CZ/C1"]
["Toužim","CZ/C1"]
["Vlašim","CZ/C1"]
["Zbraslavice","CZ/C1"]
["-","-"]
["Broumov","CZ/C2",{"$f":"COUNTIF(B37:B68,B37)","v":32}]
["Česká Lípa","CZ/C2"]
["Dvůr Králové","CZ/C2"]
["Havlíčkův Brod","CZ/C2"]
["Hodkovice","CZ/C2"]
["Hořice","CZ/C2"]
["Hradčany","CZ/C2"]
["Hronov","CZ/C2"]
["Chomutov","CZ/C2"]
["Chotěboř","CZ/C2"]
["Chrudim","CZ/C2"]
["Jaroměř","CZ/C2"]
["Jičín","CZ/C2"]
["Letecká společnost na Vysočině","CZ/C2"]
["Liberec","CZ/C2"]
["Mnichovo Hradiště","CZ/C2"]
["Most","CZ/C2"]
["Náchod","CZ/C2"]
["Nové Město nad Metují","CZ/C2"]
["Pardubice","CZ/C2"]
["Podhořany","CZ/C2"]
["Polička","CZ/C2"]
["Přibyslav","CZ/C2"]
["Raná","CZ/C2"]
["Roudnice","CZ/C2"]
["Skuteč","CZ/C2"]
["Turnov","CZ/C2"]
["Ústí nad Labem","CZ/C2"]
["Ústí nad Orlicí","CZ/C2"]
["Vrchlabí","CZ/C2"]
["Vysoké Mýto","CZ/C2"]
["Žamberk","CZ/C2"]
["-","-"]
["Bohuňovice","CZ/M",{"$f":"COUNTIF(B70:B92,B70)","v":23}]
["Břeclav","CZ/M"]
["LK Břeclav","CZ/M"]
["Frýdlant","CZ/M"]
["Hranice","CZ/M"]
["Jeseník","CZ/M"]
["Jihlava","CZ/M"]
["Krnov","CZ/M"]
["Kroměříž","CZ/M"]
["Křižanov","CZ/M"]
["Kunovice","CZ/M"]
["Kyjov","CZ/M"]
["Luhačovice","CZ/M"]
["Medlánky","CZ/M"]
["Moravská Třebová","CZ/M"]
["Olomouc","CZ/M"]
["Prostějov","CZ/M"]
["Slatina","CZ/M"]
["Slavičín","CZ/M"]
["Stichovice","CZ/M"]
["Šumperk","CZ/M"]
["Vyškov","CZ/M"]
["Zábřeh","CZ/M"]
[]
["Aalborg","DK"]
["Air Sympatia","SK"]
["Akaflieg Dresden","DE"]
["Bad Nauheim","DE"]
["Bratislava","SK"]
["Dánsko","DK"]
["Greiz","DE"]
["Japonsko","JP"]
["Jelenia Góra","PL"]
["Martin","SK"]
["Německo","DE"]
["Nitra","SK"]
["Novo Mesto","SI"]
["Poprad","SK"]
["Prešov","SK"]
["Prievidza","SK"]
["Rakousko","AT"]
["Ružomberok","SK"]
["SGC Martin","SK"]
["Slovinsko","SI"]
["Trenčín","SK"]
["Trnava","SK"]
["Žilina","SK"]

{"sheet":"Temp","index":5,"n_rows":1,"n_cols":19,"rows_kept":1,"cut":false,"hidden":false,"merged":[]}
["Jmeno","Rok narození","M/F","Aeroklub","Region","Soutěž","Stát","Rok","Pořadí ve třídě","Body ve třídě","Kinp","Bi","Bi×Kinp","G","W","Typ","CN","Junior","Poznámka"]

{"sheet":"Data","index":6,"n_rows":2987,"n_cols":19,"rows_kept":2987,"cut":false,"hidden":false,"merged":[]}
[null,null,null,null,null,null,null,null,null,null,null,null,"Počet X filtr:",{"$f":"SUBTOTAL(103,N7:N9235)","v":28},{"$f":"SUBTOTAL(103,O7:O9235)","v":4}]
["*",null,null,null,null,null,null,null,null,null,null,null,"Počet X:",{"$f":"COUNTIFS(N$7:N$9235,\"x\",$A$7:$A$9235,$A$2)","v":961},{"$f":"COUNTIFS(O$7:O$9235,\"x\",$A$7:$A$9235,$A$2)","v":61}]
[null,null,null,null,null,null,null,2024,null,null,null,null,null,{"$f":"COUNTIFS(H7:H9934,$H3,N7:N9934,\"x\",A7:A9934,$A$2)","v":352},{"$f":"COUNTIFS(H7:H9934,$H3,O7:O9934,\"x\",A7:A9934,$A$2)","v":20}]
[null,null,null,null,null,null,null,2023,null,null,null,null,null,{"$f":"COUNTIFS(H7:H9934,$H4,N7:N9934,\"x\",A7:A9934,$A$2)","v":303},{"$f":"COUNTIFS(H7:H9934,$H4,O7:O9934,\"x\",A7:A9934,$A$2)","v":23}]
[null,null,null,null,null,null,null,2022,null,null,null,null,null,{"$f":"COUNTIFS(H7:H9934,$H5,N7:N9934,\"x\",A7:A9934,$A$2)","v":306},{"$f":"COUNTIFS(H7:H9934,$H5,O7:O9934,\"x\",A7:A9934,$A$2)","v":18}]
["Jméno","Rok narození","M/F","Aeroklub","Region","Soutěž","Stát","Rok","Pořadí ve třídě","Body ve třídě","Kinp","Bi","Bi×Kinp","G","W","Typ","CN","Junior","Poznámka"]
["Michal Lesinger",{"$f":"VLOOKUP(A7,Pilot,2,0)","v":1966},{"$f":"VLOOKUP(A7,Pilot,5,0)","v":"M"},{"$f":"VLOOKUP(A7,Pilot,3,0)","v":"Moravská Třebová"},{"$f":"VLOOKUP(A7,Pilot,4,0)","v":"CZ/M"},"PMČR 2022 - Klub",{"$f":"VLOOKUP(F7,Soutez!A:B,2,FALSE)","v":"CZ"},{"$f":"VLOOKUP(F7,Soutez!A:C,3,FALSE)","v":2022},1,6305,{"$f":"VLOOKUP(F7,Soutez,12,0)","v":1.0499999999999998},{"$f":"ROUND(J7/MAX($J$7:$J$22)*10000*0.7+(MAX($I$7:$I$22)-I7)/(MAX($I$7:$I$22)-1)*10000*0.3,0)","v":10000},{"$f":"ROUND(K7*L7,0)","v":10500},"x",null,"ASW20","LL",{"$f":"IF(ISERROR(VLOOKUP(A7,Pilot,6,0)),\"Není v databázi\",VLOOKUP(A7,Pilot,6,0))","v":""}]
["Tomas Suchanek",1964,"M","GAC Benešov","CZ/C1","PMČR 2022 - Klub",{"$f":"VLOOKUP(F8,Soutez!A:B,2,FALSE)","v":"CZ"},{"$f":"VLOOKUP(F8,Soutez!A:C,3,FALSE)","v":2022},2,6051,1.0499999999999998,9518,{"$f":"ROUND(K8*L8,0)","v":9994},null,null,"ASW20","CX",""]
["Pavel Trybenekr",1990,"M","Hořice","CZ/C2","PMČR 2022 - Klub",{"$f":"VLOOKUP(F9,Soutez!A:B,2,FALSE)","v":"CZ"},{"$f":"VLOOKUP(F9,Soutez!A:C,3,FALSE)","v":2022},3,5758,1.0499999999999998,8993,9443,"x",null,"LS4","PF",""]
["Jiri Kusbach",1959,"M","Luhačovice","CZ/M","PMČR 2022 - Klub",{"$f":"VLOOKUP(F10,Soutez!A:B,2,FALSE)","v":"CZ"},{"$f":"VLOOKUP(F10,Soutez!A:C,3,FALSE)","v":2022},4,5754,1.0499999999999998,8788,9227,"x",null,"KKB15FES","B",""]
["David Darnady",1987,"M","Zbraslavice","CZ/C1","PMČR 2022 - Klub",{"$f":"VLOOKUP(F11,Soutez!A:B,2,FALSE)","v":"CZ"},{"$f":"VLOOKUP(F11,Soutez!A:C,3,FALSE)","v":2022},5,5734,1.0499999999999998,8566,8994,"x",null,"ASW20","EW",""]
["Ivan Novak",1962,"M","Mladá Boleslav","CZ/C1","PMČR 2022 - Klub",{"$f":"VLOOKUP(F12,Soutez!A:B,2,FALSE)","v":"CZ"},{"$f":"VLOOKUP(F12,Soutez!A:C,3,FALSE)","v":2022},6,5394,1.0499999999999998,7989,8388,null,null,"Std.Cirrus","DI",""]
["Jan Louda",1986,"M","Mladá Boleslav","CZ/C1","PMČR 2022 - Klub",{"$f":"VLOOKUP(F13,Soutez!A:B,2,FALSE)","v":"CZ"},{"$f":"VLOOKUP(F13,Soutez!A:C,3,FALSE)","v":2022},7,5158,1.0499999999999998,7527,{"$f":"ROUND(K13*L13,0)","v":7903},null,null,"ASW19b","XS",""]
["Jan Vavrin",1987,"M","Vysoké Mýto","CZ/C2","PMČR 2022 - Klub",{"$f":"VLOOKUP(F14,Soutez!A:B,2,FALSE)","v":"CZ"},{"$f":"VLOOKUP(F14,Soutez!A:C,3,FALSE)","v":2022},8,5072,1.0499999999999998,7231,7593,"x",null,"ASW19b",56,""]
["Jan Stastny",2003,"M","Medlánky","CZ/M","PMČR 2022 - Klub",{"$f":"VLOOKUP(F15,Soutez!A:B,2,FALSE)","v":"CZ"},{"$f":"VLOOKUP(F15,Soutez!A:C,3,FALSE)","v":2022},9,5049,1.0499999999999998,7006,7356,null,null,"LS4","IX","Junior v roce 2025"]
["Ivan Tvrdik",1997,"M","Letňany","CZ/C1","PMČR 2022 - Klub",{"$f":"VLOOKUP(F16,Soutez!A:B,2,FALSE)","v":"CZ"},{"$f":"VLOOKUP(F16,Soutez!A:C,3,FALSE)","v":2022},10,4729,1.0499999999999998,6450,6773,null,null,"ASW19b","KZ",""]
["Zdenek Balcarek",1967,"M","Kroměříž","CZ/M","PMČR 2022 - Klub",{"$f":"VLOOKUP(F17,Soutez!A:B,2,FALSE)","v":"CZ"},{"$f":"VLOOKUP(F17,Soutez!A:C,3,FALSE)","v":2022},11,4685,1.0499999999999998,6201,6511,null,null,"Discus b","OS",""]
["Slavomir Piskaty 84",1984,"M","Kunovice","CZ/M","PMČR 2022 - Klub",{"$f":"VLOOKUP(F18,Soutez!A:B,2,FALSE)","v":"CZ"},{"$f":"VLOOKUP(F18,Soutez!A:C,3,FALSE)","v":2022},12,4047,1.0499999999999998,5293,5558,"x",null,"Discus cs","KAL",""]
["Zdenek Boruvka 86",1986,"M","Jičín","CZ/C2","PMČR 2022 - Klub",{"$f":"VLOOKUP(F19,Soutez!A:B,2,FALSE)","v":"CZ"},{"$f":"VLOOKUP(F19,Soutez!A:C,3,FALSE)","v":2022},13,3810,1.0499999999999998,4830,5072,null,null,"Std.Cirrus","BJ",""]
["Martin Kriz",1968,"M","Přibyslav","CZ/C2","PMČR 2022 - Klub",{"$f":"VLOOKUP(F20,Soutez!A:B,2,FALSE)","v":"CZ"},{"$f":"VLOOKUP(F20,Soutez!A:C,3,FALSE)","v":2022},14,3583,1.0499999999999998,4378,{"$f":"ROUND(K20*L20,0)","v":4597},null,null,"ASW20",67,""]
["Pavlina Horackova",1965,"F","Šumperk","CZ/M","PMČR 2022 - Klub",{"$f":"VLOOKUP(F21,Soutez!A:B,2,FALSE)","v":"CZ"},{"$f":"VLOOKUP(F21,Soutez!A:C,3,FALSE)","v":2022},15,3271,1.0499999999999998,3832,4024,null,null,"SZD48 Jantar Std2","SU",""]
["Daniel Ryba",1994,"M","Dvůr Králové","CZ/C2","PMČR 2022 - Klub",{"$f":"VLOOKUP(F22,Soutez!A:B,2,FALSE)","v":"CZ"},{"$f":"VLOOKUP(F22,Soutez!A:C,3,FALSE)","v":2022},16,2661,1.0499999999999998,2954,3102,"x",null,"ASW19b","L7",""]
["Miloslav Cink",1987,"M",{"$f":"VLOOKUP(A23,Pilot,3,0)","v":"Letkov"},{"$f":"VLOOKUP(A23,Pilot,4,0)","v":"CZ/C1"},"PMČR 2022 - Kombi 15m",{"$f":"VLOOKUP(F23,Soutez!A:B,2,FALSE)","v":"CZ"},{"$f":"VLOOKUP(F23,Soutez!A:C,3,FALSE)","v":2022},1,5461,1.06,{"$f":"ROUND(J23/MAX($J$23:$J$35)*10000*0.7+(MAX($I$23:$I$35)-I23)/(MAX($I$23:$I$35)-1)*10000*0.3,0)","v":10000},{"$f":"ROUND(K23*L23,0)","v":10600},"x",null,"LS8","JB",""]
["Pavel Louzecky",1957,"M","Přibyslav","CZ/C2","PMČR 2022 - Kombi 15m",{"$f":"VLOOKUP(F24,Soutez!A:B,2,FALSE)","v":"CZ"},{"$f":"VLOOKUP(F24,Soutez!A:C,3,FALSE)","v":2022},2,5261,1.06,9494,{"$f":"ROUND(K24*L24,0)","v":10064},"x",null,"LS8","FX",""]
["Jan Pavlik",1987,"M","Křižanov","CZ/M","PMČR 2022 - Kombi 15m",{"$f":"VLOOKUP(F25,Soutez!A:B,2,FALSE)","v":"CZ"},{"$f":"VLOOKUP(F25,Soutez!A:C,3,FALSE)","v":2022},3,5096,1.06,9032,9574,null,null,"LS8","JW",""]
["Barbora Moravcova",1994,"F","Zbraslavice","CZ/C1","PMČR 2022 - Kombi 15m",{"$f":"VLOOKUP(F26,Soutez!A:B,2,FALSE)","v":"CZ"},{"$f":"VLOOKUP(F26,Soutez!A:C,3,FALSE)","v":2022},4,5028,1.06,8695,9217,null,null,"LS8","EU",""]
["Jana Veprekova",1961,"F","Dvůr Králové","CZ/C2","PMČR 2022 - Kombi 15m",{"$f":"VLOOKUP(F27,Soutez!A:B,2,FALSE)","v":"CZ"},{"$f":"VLOOKUP(F27,Soutez!A:C,3,FALSE)","v":2022},5,4754,1.06,8094,8580,"x",null,"LS8","W8",""]
["Lukas Kriz",2003,"M","Křižanov","CZ/M","PMČR 2022 - Kombi 15m",{"$f":"VLOOKUP(F28,Soutez!A:B,2,FALSE)","v":"CZ"},{"$f":"VLOOKUP(F28,Soutez!A:C,3,FALSE)","v":2022},6,4634,1.06,7690,8151,null,null,"LS8","SK","Junior v roce 2025"]
["Dana Novakova",1965,"F","Mladá Boleslav","CZ/C1","PMČR 2022 - Kombi 15m",{"$f":"VLOOKUP(F29,Soutez!A:B,2,FALSE)","v":"CZ"},{"$f":"VLOOKUP(F29,Soutez!A:C,3,FALSE)","v":2022},7,4525,1.06,7300,{"$f":"ROUND(K29*L29,0)","v":7738},null,null,"LS8","AU",""]
["Eduard Niko",1988,"M","Zbraslavice","CZ/C1","PMČR 2022 - Kombi 15m",{"$f":"VLOOKUP(F30,Soutez!A:B,2,FALSE)","v":"CZ"},{"$f":"VLOOKUP(F30,Soutez!A:C,3,FALSE)","v":2022},8,4496,1.06,7013,7434,null,null,"DuoDiscus XLT","DUO",""]
["Jan Kotan",1982,"M","Letňany","CZ/C1","PMČR 2022 - Kombi 15m",{"$f":"VLOOKUP(F31,Soutez!A:B,2,FALSE)","v":"CZ"},{"$f":"VLOOKUP(F31,Soutez!A:C,3,FALSE)","v":2022},9,4230,1.06,6422,6807,null,null,"Ventus 2bx","YA",""]
["Hana Treslova",1991,"F","Raná","CZ/C2","PMČR 2022 - Kombi 15m",{"$f":"VLOOKUP(F32,Soutez!A:B,2,FALSE)","v":"CZ"},{"$f":"VLOOKUP(F32,Soutez!A:C,3,FALSE)","v":2022},10,4015,1.06,5896,6250,null,null,"Ventus 2ax","AX",""]
["Jan Zapletal",1997,"M","Břeclav","CZ/M","PMČR 2022 - Kombi 15m",{"$f":"VLOOKUP(F33,Soutez!A:B,2,FALSE)","v":"CZ"},{"$f":"VLOOKUP(F33,Soutez!A:C,3,FALSE)","v":2022},11,3833,1.06,5413,5738,"x",null,"LS8","JS",""]
["Karel Novak",1993,"M","Mladá Boleslav","CZ/C1","PMČR 2022 - Kombi 15m",{"$f":"VLOOKUP(F34,Soutez!A:B,2,FALSE)","v":"CZ"},{"$f":"VLOOKUP(F34,Soutez!A:C,3,FALSE)","v":2022},12,3768,1.06,5080,5385,null,null,"JS3","ZE",""]
["Jana Treslova",1963,"F","Raná","CZ/C2","PMČR 2022 - Kombi 15m",{"$f":"VLOOKUP(F35,Soutez!A:B,2,FALSE)","v":"CZ"},{"$f":"VLOOKUP(F35,Soutez!A:C,3,FALSE)","v":2022},13,3421,1.06,4385,4648,null,null,"Discus 2a","GX",""]
["Radek Kucirek",1973,"M",{"$f":"VLOOKUP(A36,Pilot,3,0)","v":"Havlíčkův Brod"},{"$f":"VLOOKUP(A36,Pilot,4,0)","v":"CZ/C2"},"PMČR 2022 - Kombi Open",{"$f":"VLOOKUP(F36,Soutez!A:B,2,FALSE)","v":"CZ"},{"$f":"VLOOKUP(F36,Soutez!A:C,3,FALSE)","v":2022},1,5360,1.075,{"$f":"ROUND(J36/MAX($J$36:$J$54)*10000*0.7+(MAX($I$36:$I$54)-I36)/(MAX($I$36:$I$54)-1)*10000*0.3,0)","v":10000},{"$f":"ROUND(K36*L36,0)","v":10750},"x",null,"EB28 Edition","NA",""]
["Tomas Rendla",1973,"M","Zbraslavice","CZ/C1","PMČR 2022 - Kombi Open",{"$f":"VLOOKUP(F37,Soutez!A:B,2,FALSE)","v":"CZ"},{"$f":"VLOOKUP(F37,Soutez!A:C,3,FALSE)","v":2022},2,5341,1.075,9809,{"$f":"ROUND(K37*L37,0)","v":10545},"x",null,"EB29R","EX",""]
["Petr Hotovy",1958,"M","Česká Lípa","CZ/C2","PMČR 2022 - Kombi Open",{"$f":"VLOOKUP(F38,Soutez!A:B,2,FALSE)","v":"CZ"},{"$f":"VLOOKUP(F38,Soutez!A:C,3,FALSE)","v":2022},3,5163,1.075,9409,10115,"x",null,"JS1B","IGC",""]
["Alena Netusilova",1970,"F","Zbraslavice","CZ/C1","PMČR 2022 - Kombi Open",{"$f":"VLOOKUP(F39,Soutez!A:B,2,FALSE)","v":"CZ"},{"$f":"VLOOKUP(F39,Soutez!A:C,3,FALSE)","v":2022},4,5123,{"$f":"VLOOKUP(F39,Soutez,12,0)","v":1.075},9190,9879,"x",null,"JS1C 21m","JX",""]
["Radek Krejcirik",1991,"M","Hranice","CZ/M","PMČR 2022 - Kombi Open",{"$f":"VLOOKUP(F40,Soutez!A:B,2,FALSE)","v":"CZ"},{"$f":"VLOOKUP(F40,Soutez!A:C,3,FALSE)","v":2022},5,5093,1.075,8985,9659,null,null,"JS1C EVO","ZF",""]
["Petr Tichy",1973,"M","Zbraslavice","CZ/C1","PMČR 2022 - Kombi Open",{"$f":"VLOOKUP(F41,Soutez!A:B,2,FALSE)","v":"CZ"},{"$f":"VLOOKUP(F41,Soutez!A:C,3,FALSE)","v":2022},6,5083,1.075,8805,9465,"x",null,"ASG29E","AJ",""]
["Pavel Jiranek",1993,"M","Toužim","CZ/C1","PMČR 2022 - Kombi Open",{"$f":"VLOOKUP(F42,Soutez!A:B,2,FALSE)","v":"CZ"},{"$f":"VLOOKUP(F42,Soutez!A:C,3,FALSE)","v":2022},7,4963,1.075,8482,9118,"x",null,"Ventus c","CS",""]
["Vladimir Foltin",null,"M","Nitra","SK","PMČR 2022 - Kombi Open",{"$f":"VLOOKUP(F43,Soutez!A:B,2,FALSE)","v":"CZ"},{"$f":"VLOOKUP(F43,Soutez!A:C,3,FALSE)","v":2022},8,4841,1.075,8156,8768,null,null,"JS3",3,"Není v databázi"]
["Ondrej Bordovsky",1983,"M",{"$f":"VLOOKUP(A44,Pilot,3,0)","v":"Krnov"},{"$f":"VLOOKUP(A44,Pilot,4,0)","v":"CZ/M"},"PMČR 2022 - Kombi Open",{"$f":"VLOOKUP(F44,Soutez!A:B,2,FALSE)","v":"CZ"},{"$f":"VLOOKUP(F44,Soutez!A:C,3,FALSE)","v":2022},9,4650,1.075,7739,8319,null,null,"Ventus c","AD",""]
["Marek Pechanec",1970,"M","Luhačovice","CZ/M","PMČR 2022 - Kombi Open",{"$f":"VLOOKUP(F45,Soutez!A:B,2,FALSE)","v":"CZ"},{"$f":"VLOOKUP(F45,Soutez!A:C,3,FALSE)","v":2022},10,4619,1.075,7532,8097,"x",null,"JS3","Q1",""]
["Jan Boruvka",1984,"M","Jičín","CZ/C2","PMČR 2022 - Kombi Open",{"$f":"VLOOKUP(F46,Soutez!A:B,2,FALSE)","v":"CZ"},{"$f":"VLOOKUP(F46,Soutez!A:C,3,FALSE)","v":2022},11,4567,1.075,7298,7845,null,null,"Ventus c","EG",""]
["Radek Zima 78",1978,"M","Hodkovice","CZ/C2","PMČR 2022 - Kombi Open",{"$f":"VLOOKUP(F47,Soutez!A:B,2,FALSE)","v":"CZ"},{"$f":"VLOOKUP(F47,Soutez!A:C,3,FALSE)","v":2022},12,4556,1.075,7117,7651,"x",null,"ASG29E","XZ",""]
["David Mach",1994,"M","Hronov","CZ/C2","PMČR 2022 - Kombi Open",{"$f":"VLOOKUP(F48,Soutez!A:B,2,FALSE)","v":"CZ"},{"$f":"VLOOKUP(F48,Soutez!A:C,3,FALSE)","v":2022},13,4188,1.075,6469,6954,null,null,"ASG29E","QZ",""]
["Ondrej Dupal",1966,"M","GAC Benešov","CZ/C1","PMČR 2022 - Kombi Open",{"$f":"VLOOKUP(F49,Soutez!A:B,2,FALSE)","v":"CZ"},{"$f":"VLOOKUP(F49,Soutez!A:C,3,FALSE)","v":2022},14,4080,1.075,6162,{"$f":"ROUND(K49*L49,0)","v":6624},null,null,"ASG29E","GO",""]
["Michaela Rendlova",2004,"F","Toužim","CZ/C1","PMČR 2022 - Kombi Open",{"$f":"VLOOKUP(F50,Soutez!A:B,2,FALSE)","v":"CZ"},{"$f":"VLOOKUP(F50,Soutez!A:C,3,FALSE)","v":2022},15,4050,1.075,5956,6403,null,null,"AS33ES","EA","Junior v roce 2025"]
["Petr Koutny",1971,"M","Křižanov","CZ/M","PMČR 2022 - Kombi Open",{"$f":"VLOOKUP(F51,Soutez!A:B,2,FALSE)","v":"CZ"},{"$f":"VLOOKUP(F51,Soutez!A:C,3,FALSE)","v":2022},16,3940,1.075,5646,6069,null,null,"JS3","XM",""]
["Martin Hrivna",1978,"M","Zbraslavice","CZ/C1","PMČR 2022 - Kombi Open",{"$f":"VLOOKUP(F52,Soutez!A:B,2,FALSE)","v":"CZ"},{"$f":"VLOOKUP(F52,Soutez!A:C,3,FALSE)","v":2022},17,3276,1.075,4612,4958,null,null,"ASG29E","NX",""]
["Petr Krejcirik",{"$f":"VLOOKUP(A53,Pilot,2,0)","v":1960},{"$f":"VLOOKUP(A53,Pilot,5,0)","v":"M"},"Hranice","CZ/M","PMČR 2022 - Kombi Open",{"$f":"VLOOKUP(F53,Soutez!A:B,2,FALSE)","v":"CZ"},{"$f":"VLOOKUP(F53,Soutez!A:C,3,FALSE)","v":2022},18,3100,1.075,4215,4531,null,null,"AS33ES",12,""]
["Takeshi Maruyama",null,"M","Japan Soaring Club","JP","PMČR 2022 - Kombi Open",{"$f":"VLOOKUP(F54,Soutez!A:B,2,FALSE)","v":"CZ"},{"$f":"VLOOKUP(F54,Soutez!A:C,3,FALSE)","v":2022},19,1373,1.075,1793,1927,null,null,"JS3","AXI","Není v databázi"]
["Josef Novotny",1983,"M",{"$f":"VLOOKUP(A55,Pilot,3,0)","v":"Přibyslav"},{"$f":"VLOOKUP(A55,Pilot,4,0)","v":"CZ/C2"},"JPJ 2022 - Klub",{"$f":"VLOOKUP(F55,Soutez!A:B,2,FALSE)","v":"CZ"},{"$f":"VLOOKUP(F55,Soutez!A:C,3,FALSE)","v":2022},1,3897,0.90500000000000003,{"$f":"ROUND(J55/MAX($J$55:$J$93)*10000*0.7+(MAX($I$55:$I$93)-I55)/(MAX($I$55:$I$93)-1)*10000*0.3,0)","v":10000},{"$f":"ROUND(K55*L55,0)","v":9050},"x",null,"Std. Cirrus","AW",""]
["Martin Ficnar",1971,"M","Šumperk","CZ/M","JPJ 2022 - Klub",{"$f":"VLOOKUP(F56,Soutez!A:B,2,FALSE)","v":"CZ"},{"$f":"VLOOKUP(F56,Soutez!A:C,3,FALSE)","v":2022},2,3838,0.90500000000000003,9815,{"$f":"ROUND(K56*L56,0)","v":8883},"x",null,"LS-3a","S20",{"$f":"IF(ISERROR(VLOOKUP(A56,Pilot,6,0)),\"Není v databázi\",VLOOKUP(A56,Pilot,6,0))","v":""}]
["Josef Novak",1981,"M","Kunovice","CZ/M","JPJ 2022 - Klub",{"$f":"VLOOKUP(F57,Soutez!A:B,2,FALSE)","v":"CZ"},{"$f":"VLOOKUP(F57,Soutez!A:C,3,FALSE)","v":2022},3,3745,0.90500000000000003,9569,8660,"x",null,"LS-1f","JT",""]
["Jan Podhrazsky",1976,"M","Šumperk","CZ/M","JPJ 2022 - Klub",{"$f":"VLOOKUP(F58,Soutez!A:B,2,FALSE)","v":"CZ"},{"$f":"VLOOKUP(F58,Soutez!A:C,3,FALSE)","v":2022},4,3657,0.90500000000000003,9332,8445,"x",null,"Discus b","SJ",""]
["Rene Hudak",1972,"M","Kunovice","CZ/M","JPJ 2022 - Klub",{"$f":"VLOOKUP(F59,Soutez!A:B,2,FALSE)","v":"CZ"},{"$f":"VLOOKUP(F59,Soutez!A:C,3,FALSE)","v":2022},5,3627,0.90500000000000003,9199,8325,"x",null,"Std. Cirrus WL","NK",""]
["Radim Sobek",1977,"M","Hranice","CZ/M","JPJ 2022 - Klub",{"$f":"VLOOKUP(F60,Soutez!A:B,2,FALSE)","v":"CZ"},{"$f":"VLOOKUP(F60,Soutez!A:C,3,FALSE)","v":2022},6,3620,0.90500000000000003,9108,8243,"x",null,"TST-10M Atlas",7,""]
["Jaroslav Buryan",1953,"M","Zábřeh","CZ/M","JPJ 2022 - Klub",{"$f":"VLOOKUP(F61,Soutez!A:B,2,FALSE)","v":"CZ"},{"$f":"VLOOKUP(F61,Soutez!A:C,3,FALSE)","v":2022},7,3579,0.90500000000000003,8955,8104,"x",null,"ASW-20 (A) WL","NS",""]
["Martin Urner",1974,"M","Letňany","CZ/C1","JPJ 2022 - Klub",{"$f":"VLOOKUP(F62,Soutez!A:B,2,FALSE)","v":"CZ"},{"$f":"VLOOKUP(F62,Soutez!A:C,3,FALSE)","v":2022},8,3575,0.90500000000000003,8869,8026,"x",null,"ASW-15B","JJ",""]
["Rostislav Stryk",1972,"M","Frýdlant","CZ/M","JPJ 2022 - Klub",{"$f":"VLOOKUP(F63,Soutez!A:B,2,FALSE)","v":"CZ"},{"$f":"VLOOKUP(F63,Soutez!A:C,3,FALSE)","v":2022},9,3412,0.90500000000000003,8497,7690,"x",null,"Std. Cirrus",22,""]
["Martin Kriz",1968,"M","Přibyslav","CZ/C2","JPJ 2022 - Klub",{"$f":"VLOOKUP(F64,Soutez!A:B,2,FALSE)","v":"CZ"},{"$f":"VLOOKUP(F64,Soutez!A:C,3,FALSE)","v":2022},10,3342,0.90500000000000003,8293,7505,"x",null,"ASW-20 (A) WL",67,""]
["Stepan Obrovsky",1990,"M","Frýdlant","CZ/M","JPJ 2022 - Klub",{"$f":"VLOOKUP(F65,Soutez!A:B,2,FALSE)","v":"CZ"},{"$f":"VLOOKUP(F65,Soutez!A:C,3,FALSE)","v":2022},11,3306,0.90500000000000003,8149,{"$f":"ROUND(K65*L65,0)","v":7375},"x",null,"LS-1f","EM",""]
["Martin Svarc",1981,"M","Olomouc","CZ/M","JPJ 2022 - Klub",{"$f":"VLOOKUP(F66,Soutez!A:B,2,FALSE)","v":"CZ"},{"$f":"VLOOKUP(F66,Soutez!A:C,3,FALSE)","v":2022},12,3089,0.90500000000000003,7680,6950,"x",null,"DG-101 G","IL",""]
["Petr Kolomaznik",1981,"M","Šumperk","CZ/M","JPJ 2022 - Klub",{"$f":"VLOOKUP(F67,Soutez!A:B,2,FALSE)","v":"CZ"},{"$f":"VLOOKUP(F67,Soutez!A:C,3,FALSE)","v":2022},13,3014,0.90500000000000003,7467,6758,"x",null,"Discus b","VE",""]
["Vojtech Novotny",1992,"M","Kralupy","CZ/C1","JPJ 2022 - Klub",{"$f":"VLOOKUP(F68,Soutez!A:B,2,FALSE)","v":"CZ"},{"$f":"VLOOKUP(F68,Soutez!A:C,3,FALSE)","v":2022},14,2991,0.90500000000000003,7346,6648,"x",null,"LS-1f","EF",""]
["Petr Havrlant",1965,"M","Šumperk","CZ/M","JPJ 2022 - Klub",{"$f":"VLOOKUP(F69,Soutez!A:B,2,FALSE)","v":"CZ"},{"$f":"VLOOKUP(F69,Soutez!A:C,3,FALSE)","v":2022},15,2942,0.90500000000000003,7179,6497,"x",null,"ASW-15B","Q1",""]
["David Vrchota",1976,"M","Jaroměř","CZ/C2","JPJ 2022 - Klub",{"$f":"VLOOKUP(F70,Soutez!A:B,2,FALSE)","v":"CZ"},{"$f":"VLOOKUP(F70,Soutez!A:C,3,FALSE)","v":2022},16,2904,0.90500000000000003,7032,6364,null,null,"Janus b","BV",""]
["Jiri Koudela",1974,"M","Vyškov","CZ/M","JPJ 2022 - Klub",{"$f":"VLOOKUP(F71,Soutez!A:B,2,FALSE)","v":"CZ"},{"$f":"VLOOKUP(F71,Soutez!A:C,3,FALSE)","v":2022},17,2799,{"$f":"VLOOKUP(F71,Soutez,12,0)","v":0.90500000000000003},6765,6122,null,null,"ASW-19B","JK",""]
["Petr Lonsky",1965,"M","Toužim","CZ/C1","JPJ 2022 - Klub",{"$f":"VLOOKUP(F72,Soutez!A:B,2,FALSE)","v":"CZ"},{"$f":"VLOOKUP(F72,Soutez!A:C,3,FALSE)","v":2022},18,2778,0.90500000000000003,6648,6016,null,null,"Cirrus","JP",""]
["Karel Horalek",1976,"M","Olomouc","CZ/M","JPJ 2022 - Klub",{"$f":"VLOOKUP(F73,Soutez!A:B,2,FALSE)","v":"CZ"},{"$f":"VLOOKUP(F73,Soutez!A:C,3,FALSE)","v":2022},19,2758,0.90500000000000003,6533,5912,"x",null,"LS-3","Y1",""]
["Jiri Prochazka",1971,"M","Toužim","CZ/C1","JPJ 2022 - Klub",{"$f":"VLOOKUP(F74,Soutez!A:B,2,FALSE)","v":"CZ"},{"$f":"VLOOKUP(F74,Soutez!A:C,3,FALSE)","v":2022},20,2727,0.90500000000000003,6398,5790,null,null,"Janus CM","J59",""]
["Jan Vozeh",1995,"M","Rakovník","CZ/C1","JPJ 2022 - Klub",{"$f":"VLOOKUP(F75,Soutez!A:B,2,FALSE)","v":"CZ"},{"$f":"VLOOKUP(F75,Soutez!A:C,3,FALSE)","v":2022},21,2714,0.90500000000000003,6296,5698,"x",null,"Std. Cirrus","OG",""]
["Roman Schotli",1970,"M","Hranice","CZ/M","JPJ 2022 - Klub",{"$f":"VLOOKUP(F76,Soutez!A:B,2,FALSE)","v":"CZ"},{"$f":"VLOOKUP(F76,Soutez!A:C,3,FALSE)","v":2022},22,2573,0.90500000000000003,5964,5397,"x",null,"ASW-19B",19,""]
["Jakub Kohn",1992,"M","Prostějov","CZ/M","JPJ 2022 - Klub",{"$f":"VLOOKUP(F77,Soutez!A:B,2,FALSE)","v":"CZ"},{"$f":"VLOOKUP(F77,Soutez!A:C,3,FALSE)","v":2022},23,2410,0.90500000000000003,5592,5061,null,null,"ASW-15B","FK",""]
["Jan Zezula",1979,"M","Letňany","CZ/C1","JPJ 2022 - Klub",{"$f":"VLOOKUP(F78,Soutez!A:B,2,FALSE)","v":"CZ"},{"$f":"VLOOKUP(F78,Soutez!A:C,3,FALSE)","v":2022},24,2384,0.90500000000000003,5466,4947,"x",null,"ASW-19B","HD",""]
["Boris Bachraty",1974,"M",{"$f":"VLOOKUP(A79,Pilot,3,0)","v":"Kyjov"},{"$f":"VLOOKUP(A79,Pilot,4,0)","v":"CZ/M"},"JPJ 2022 - Klub",{"$f":"VLOOKUP(F79,Soutez!A:B,2,FALSE)","v":"CZ"},{"$f":"VLOOKUP(F79,Soutez!A:C,3,FALSE)","v":2022},25,2256,0.90500000000000003,5158,4668,"x",null,"Std. Cirrus",90,""]
["Radim Tomala",1972,"M","Prostějov","CZ/M","JPJ 2022 - Klub",{"$f":"VLOOKUP(F80,Soutez!A:B,2,FALSE)","v":"CZ"},{"$f":"VLOOKUP(F80,Soutez!A:C,3,FALSE)","v":2022},26,2106,0.90500000000000003,4809,4352,"x",null,"Std. Cirrus","RT",""]
["Peter Kaspar",1980,"M","Vyškov","CZ/M","JPJ 2022 - Klub",{"$f":"VLOOKUP(F81,Soutez!A:B,2,FALSE)","v":"CZ"},{"$f":"VLOOKUP(F81,Soutez!A:C,3,FALSE)","v":2022},27,2003,0.90500000000000003,4545,4113,"x",null,"G-102 Astir 77","AP",""]
["Lukas Petrzela",1987,"M","Olomouc","CZ/M","JPJ 2022 - Klub",{"$f":"VLOOKUP(F82,Soutez!A:B,2,FALSE)","v":"CZ"},{"$f":"VLOOKUP(F82,Soutez!A:C,3,FALSE)","v":2022},28,1740,0.90500000000000003,3994,3615,"x",null,"G-102 Astir CS","AL",""]
["Adam Sugl",1987,"M","Vyškov","CZ/M","JPJ 2022 - Klub",{"$f":"VLOOKUP(F83,Soutez!A:B,2,FALSE)","v":"CZ"},{"$f":"VLOOKUP(F83,Soutez!A:C,3,FALSE)","v":2022},29,1649,0.90500000000000003,3751,3395,"x",null,"Std. Cirrus","GT",""]
["Yvona Vyhnankova",1963,"F","Olomouc","CZ/M","JPJ 2022 - Klub",{"$f":"VLOOKUP(F84,Soutez!A:B,2,FALSE)","v":"CZ"},{"$f":"VLOOKUP(F84,Soutez!A:C,3,FALSE)","v":2022},30,1480,0.90500000000000003,3369,3049,"x","x","ASW-15","YZ",""]
["Michal Linhart",1982,"M","Vyškov","CZ/M","JPJ 2022 - Klub",{"$f":"VLOOKUP(F85,Soutez!A:B,2,FALSE)","v":"CZ"},{"$f":"VLOOKUP(F85,Soutez!A:C,3,FALSE)","v":2022},31,1429,0.90500000000000003,3198,2894,"x",null,"DG-1000S 18m",66,""]
["Jan Blaha",1983,"M","Kyjov","CZ/M","JPJ 2022 - Klub",{"$f":"VLOOKUP(F86,Soutez!A:B,2,FALSE)","v":"CZ"},{"$f":"VLOOKUP(F86,Soutez!A:C,3,FALSE)","v":2022},32,1384,0.90500000000000003,3039,2750,"x",null,"ASW-15B","E",""]
["Jiri Vavrina",1958,"M","Kyjov","CZ/M","JPJ 2022 - Klub",{"$f":"VLOOKUP(F87,Soutez!A:B,2,FALSE)","v":"CZ"},{"$f":"VLOOKUP(F87,Soutez!A:C,3,FALSE)","v":2022},33,1322,0.90500000000000003,2848,2577,"x",null,"LS-1f","BS",""]
["Ludek Mikl",1963,"M",{"$f":"VLOOKUP(A88,Pilot,3,0)","v":"Šumperk"},{"$f":"VLOOKUP(A88,Pilot,4,0)","v":"CZ/M"},"JPJ 2022 - Klub",{"$f":"VLOOKUP(F88,Soutez!A:B,2,FALSE)","v":"CZ"},{"$f":"VLOOKUP(F88,Soutez!A:C,3,FALSE)","v":2022},34,1292,0.90500000000000003,2715,2457,"x",null,"Std. Cirrus",16,""]
["Karel Ertl",1939,"M","LK Břeclav","CZ/M","JPJ 2022 - Klub",{"$f":"VLOOKUP(F89,Soutez!A:B,2,FALSE)","v":"CZ"},{"$f":"VLOOKUP(F89,Soutez!A:C,3,FALSE)","v":2022},35,1228,0.90500000000000003,2522,2282,null,null,"TST-10M Atlas","KE",""]
["Miroslav Mancik",1976,"M","Kyjov","CZ/M","JPJ 2022 - Klub",{"$f":"VLOOKUP(F90,Soutez!A:B,2,FALSE)","v":"CZ"},{"$f":"VLOOKUP(F90,Soutez!A:C,3,FALSE)","v":2022},36,1014,0.90500000000000003,2058,1862,"x",null,"G-103 Twin Astir","KW",""]
["Lukas Zach",1987,"M","Vyškov","CZ/M","JPJ 2022 - Klub",{"$f":"VLOOKUP(F91,Soutez!A:B,2,FALSE)","v":"CZ"},{"$f":"VLOOKUP(F91,Soutez!A:C,3,FALSE)","v":2022},37,937,0.90500000000000003,1841,{"$f":"ROUND(K91*L91,0)","v":1666},"x",null,"G-102 Astir 77","AS",""]
["Josef Hlusek",1993,"M","Kunovice","CZ/M","JPJ 2022 - Klub",{"$f":"VLOOKUP(F92,Soutez!A:B,2,FALSE)","v":"CZ"},{"$f":"VLOOKUP(F92,Soutez!A:C,3,FALSE)","v":2022},38,806,0.90500000000000003,1527,1382,"x",null,"Std. Cirrus","WO",""]
["Jan Florian",1992,"M","Zbraslavice","CZ/C1","JPJ 2022 - Klub",{"$f":"VLOOKUP(F93,Soutez!A:B,2,FALSE)","v":"CZ"},{"$f":"VLOOKUP(F93,Soutez!A:C,3,FALSE)","v":2022},39,667,0.90500000000000003,1198,1084,null,null,"Std. Cirrus","C1",""]
["Radek Hybl",1980,"M",{"$f":"VLOOKUP(A94,Pilot,3,0)","v":"Šumperk"},{"$f":"VLOOKUP(A94,Pilot,4,0)","v":"CZ/M"},"JPJ 2022 - Kombi",{"$f":"VLOOKUP(F94,Soutez!A:B,2,FALSE)","v":"CZ"},{"$f":"VLOOKUP(F94,Soutez!A:C,3,FALSE)","v":2022},1,4147,0.91,{"$f":"ROUND(J94/MAX($J$94:$J$113)*10000*0.7+(MAX($I$94:$I$113)-I94)/(MAX($I$94:$I$113)-1)*10000*0.3,0)","v":10000},{"$f":"ROUND(K94*L94,0)","v":9100},"x",null,"Ventus cm 17,6m","IHH",""]
["Frantisek Vancura",1966,"M","Hranice","CZ/M","JPJ 2022 - Kombi",{"$f":"VLOOKUP(F95,Soutez!A:B,2,FALSE)","v":"CZ"},{"$f":"VLOOKUP(F95,Soutez!A:C,3,FALSE)","v":2022},2,4071,0.91,9714,{"$f":"ROUND(K95*L95,0)","v":8840},"x",null,"Nimbus 3T 24,5m WL 750kg","A1",""]
["Michal Cechmanek",1978,"M","Kroměříž","CZ/M","JPJ 2022 - Kombi",{"$f":"VLOOKUP(F96,Soutez!A:B,2,FALSE)","v":"CZ"},{"$f":"VLOOKUP(F96,Soutez!A:C,3,FALSE)","v":2022},3,4020,0.91,9470,8618,"x",null,"ASW-20 L+F 16,6m","MK",""]
["Jan Dersak 69",1969,"M","Kralupy","CZ/C1","JPJ 2022 - Kombi",{"$f":"VLOOKUP(F97,Soutez!A:B,2,FALSE)","v":"CZ"},{"$f":"VLOOKUP(F97,Soutez!A:C,3,FALSE)","v":2022},4,3962,0.91,9214,8385,"x",null,"HpH 304JS 18m 573kg","DJ",""]
["Marek Blatak",1969,"M","Šumperk","CZ/M","JPJ 2022 - Kombi",{"$f":"VLOOKUP(F98,Soutez!A:B,2,FALSE)","v":"CZ"},{"$f":"VLOOKUP(F98,Soutez!A:C,3,FALSE)","v":2022},5,3911,0.91,8970,8163,"x",null,"DG-808 S 18m WL","W",""]
["Jiri Steiger",1969,"M","Olomouc","CZ/M","JPJ 2022 - Kombi",{"$f":"VLOOKUP(F99,Soutez!A:B,2,FALSE)","v":"CZ"},{"$f":"VLOOKUP(F99,Soutez!A:C,3,FALSE)","v":2022},6,3887,0.91,8772,7983,"x",null,"Ventus 3M 18m","JS",""]
["Jan Simon",1970,"M","Kralupy","CZ/C1","JPJ 2022 - Kombi",{"$f":"VLOOKUP(F100,Soutez!A:B,2,FALSE)","v":"CZ"},{"$f":"VLOOKUP(F100,Soutez!A:C,3,FALSE)","v":2022},7,3440,0.91,7859,7152,null,null,"Duo Discus T 700kg","ZS",""]
["Ladislav Jozsa",1981,"M","Medlánky","CZ/M","JPJ 2022 - Kombi",{"$f":"VLOOKUP(F101,Soutez!A:B,2,FALSE)","v":"CZ"},{"$f":"VLOOKUP(F101,Soutez!A:C,3,FALSE)","v":2022},8,3359,0.91,7565,6884,"x",null,"Ventus c 17,6m","WW",""]
["Zdenek Schenk",1972,"M","Hranice","CZ/M","JPJ 2022 - Kombi",{"$f":"VLOOKUP(F102,Soutez!A:B,2,FALSE)","v":"CZ"},{"$f":"VLOOKUP(F102,Soutez!A:C,3,FALSE)","v":2022},9,3304,0.91,7314,6656,"x",null,"Ventus cm 17,6m","ŠNeK",""]
["Miroslav Koci",1961,"M","Žamberk","CZ/C2","JPJ 2022 - Kombi",{"$f":"VLOOKUP(F103,Soutez!A:B,2,FALSE)","v":"CZ"},{"$f":"VLOOKUP(F103,Soutez!A:C,3,FALSE)","v":2022},10,3089,{"$f":"VLOOKUP(F103,Soutez,12,0)","v":0.91},6793,6182,"x",null,"Ventus 2cxm 18m 565kg","E8",""]
["Tomas Prikryl",1973,"M","Vyškov","CZ/M","JPJ 2022 - Kombi",{"$f":"VLOOKUP(F104,Soutez!A:B,2,FALSE)","v":"CZ"},{"$f":"VLOOKUP(F104,Soutez!A:C,3,FALSE)","v":2022},11,2976,0.91,6444,5864,"x",null,"Ventus 2cm 18m 525kg","FN",""]
["Petr Babak",1973,"M","Hořice","CZ/C2","JPJ 2022 - Kombi",{"$f":"VLOOKUP(F105,Soutez!A:B,2,FALSE)","v":"CZ"},{"$f":"VLOOKUP(F105,Soutez!A:C,3,FALSE)","v":2022},12,2747,0.91,5900,5369,null,null,"Ventus c 17,6m","LS",""]
["Antonin Kutalek",1943,"M","Zábřeh","CZ/M","JPJ 2022 - Kombi",{"$f":"VLOOKUP(F106,Soutez!A:B,2,FALSE)","v":"CZ"},{"$f":"VLOOKUP(F106,Soutez!A:C,3,FALSE)","v":2022},13,2675,0.91,5621,{"$f":"ROUND(K106*L106,0)","v":5115},null,null,"LAK-17AT 18m","GLK",""]
["Beat Albrecht",{"$f":"VLOOKUP(A107,Pilot,2,0)","v":1953},{"$f":"VLOOKUP(A107,Pilot,5,0)","v":"M"},"Šumperk","CZ/M","JPJ 2022 - Kombi",{"$f":"VLOOKUP(F107,Soutez!A:B,2,FALSE)","v":"CZ"},{"$f":"VLOOKUP(F107,Soutez!A:C,3,FALSE)","v":2022},14,2550,0.91,5252,4779,"x",null,"LS-8-18 18m","GL",""]
["Miroslav Sklenar",1964,"M","Žamberk","CZ/C2","JPJ 2022 - Kombi",{"$f":"VLOOKUP(F108,Soutez!A:B,2,FALSE)","v":"CZ"},{"$f":"VLOOKUP(F108,Soutez!A:C,3,FALSE)","v":2022},15,2475,0.91,4967,4520,"x",null,"Duo Discus 700kg","VP",""]
["Pavel Haluza",1966,"M","Prostějov","CZ/M","JPJ 2022 - Kombi",{"$f":"VLOOKUP(F109,Soutez!A:B,2,FALSE)","v":"CZ"},{"$f":"VLOOKUP(F109,Soutez!A:C,3,FALSE)","v":2022},16,2223,0.91,4384,3989,"x",null,"Nimbus 2b","HT",""]
["Vit Grossmann",1977,"M","Hranice","CZ/M","JPJ 2022 - Kombi",{"$f":"VLOOKUP(F110,Soutez!A:B,2,FALSE)","v":"CZ"},{"$f":"VLOOKUP(F110,Soutez!A:C,3,FALSE)","v":2022},17,2096,0.91,4012,3651,"x",null,"Duo Discus 700kg","OK",""]
["Michal Hemrle",1974,"M","Česká Lípa","CZ/C2","JPJ 2022 - Kombi",{"$f":"VLOOKUP(F111,Soutez!A:B,2,FALSE)","v":"CZ"},{"$f":"VLOOKUP(F111,Soutez!A:C,3,FALSE)","v":2022},18,1826,0.91,3398,3092,"x",null,"ASG-29E 18m","ET",""]
["Olga Mokosova",1970,"F","Jihlava","CZ/M","JPJ 2022 - Kombi",{"$f":"VLOOKUP(F112,Soutez!A:B,2,FALSE)","v":"CZ"},{"$f":"VLOOKUP(F112,Soutez!A:C,3,FALSE)","v":2022},19,1736,0.91,3088,2810,null,null,"LS-6c 18m WL","MM",""]
["Pavel Handl",1971,"M","Kroměříž","CZ/M","JPJ 2022 - Kombi",{"$f":"VLOOKUP(F113,Soutez!A:B,2,FALSE)","v":"CZ"},{"$f":"VLOOKUP(F113,Soutez!A:C,3,FALSE)","v":2022},20,641,0.91,1082,985,"x",null,"Ventus 2cm 18m 525kg","VJ",""]
["Michal Lesinger",1966,"M",{"$f":"VLOOKUP(A114,Pilot,3,0)","v":"Moravská Třebová"},{"$f":"VLOOKUP(A114,Pilot,4,0)","v":"CZ/M"},"PMRg 2022 - Klub",{"$f":"VLOOKUP(F114,Soutez!A:B,2,FALSE)","v":"CZ"},{"$f":"VLOOKUP(F114,Soutez!A:C,3,FALSE)","v":2022},1,3948,0.91500000000000004,{"$f":"ROUND(J114/MAX($J$114:$J$126)*10000*0.7+(MAX($I$114:$I$126)-I114)/(MAX($I$114:$I$126)-1)*10000*0.3,0)","v":10000},{"$f":"ROUND(K114*L114,0)","v":9150},null,null,"ASW 20","LL",{"$f":"IF(ISERROR(VLOOKUP(A114,Pilot,6,0)),\"Není v databázi\",VLOOKUP(A114,Pilot,6,0))","v":""}]
["Jiri Kusbach",1959,"M","Luhačovice","CZ/M","PMRg 2022 - Klub",{"$f":"VLOOKUP(F115,Soutez!A:B,2,FALSE)","v":"CZ"},{"$f":"VLOOKUP(F115,Soutez!A:C,3,FALSE)","v":2022},2,3831,0.91500000000000004,9543,{"$f":"ROUND(K115*L115,0)","v":8732},null,null,"KKB-15E FES","B",""]
["Jan Smaha",1958,"M","Česká Lípa","CZ/C2","PMRg 2022 - Klub",{"$f":"VLOOKUP(F116,Soutez!A:B,2,FALSE)","v":"CZ"},{"$f":"VLOOKUP(F116,Soutez!A:C,3,FALSE)","v":2022},3,3458,0.91500000000000004,8631,7897,"x",null,"ASW 15 B","CW",""]
["Lukas Maly",1998,"M","Vysoké Mýto","CZ/C2","PMRg 2022 - Klub",{"$f":"VLOOKUP(F117,Soutez!A:B,2,FALSE)","v":"CZ"},{"$f":"VLOOKUP(F117,Soutez!A:C,3,FALSE)","v":2022},4,3447,0.91500000000000004,8362,7651,"x",null,"Discus b",65,""]
["Jiri Stepanek",1956,"M","Moravská Třebová","CZ/M","PMRg 2022 - Klub",{"$f":"VLOOKUP(F118,Soutez!A:B,2,FALSE)","v":"CZ"},{"$f":"VLOOKUP(F118,Soutez!A:C,3,FALSE)","v":2022},5,3387,0.91500000000000004,8005,7325,"x",null,"ASW 15 B","LE",""]
["Martin Stepanek",1987,"M","Moravská Třebová","CZ/M","PMRg 2022 - Klub",{"$f":"VLOOKUP(F119,Soutez!A:B,2,FALSE)","v":"CZ"},{"$f":"VLOOKUP(F119,Soutez!A:C,3,FALSE)","v":2022},6,3361,0.91500000000000004,7709,{"$f":"ROUND(K119*L119,0)","v":7054},"x",null,"ASW 19 B","AE",""]
["Tomas Hynek",2002,"M","Dvůr Králové","CZ/C2","PMRg 2022 - Klub",{"$f":"VLOOKUP(F120,Soutez!A:B,2,FALSE)","v":"CZ"},{"$f":"VLOOKUP(F120,Soutez!A:C,3,FALSE)","v":2022},7,3190,0.91500000000000004,7156,6548,null,null,"DG 200","HL","Junior v roce 2025"]
["Pavel Koudelka",1973,"M","Křižanov","CZ/M","PMRg 2022 - Klub",{"$f":"VLOOKUP(F121,Soutez!A:B,2,FALSE)","v":"CZ"},{"$f":"VLOOKUP(F121,Soutez!A:C,3,FALSE)","v":2022},8,3156,0.91500000000000004,6846,6264,"x",null,"Std. Cirrus","ZL",""]
["Michaela Krizova",2001,"F","Přibyslav","CZ/C2","PMRg 2022 - Klub",{"$f":"VLOOKUP(F122,Soutez!A:B,2,FALSE)","v":"CZ"},{"$f":"VLOOKUP(F122,Soutez!A:C,3,FALSE)","v":2022},9,2951,0.91500000000000004,6232,5702,null,null,"ASW 15 B","BE","Junior v roce 2025"]
["Pavlina Horackova",1965,"F","Šumperk","CZ/M","PMRg 2022 - Klub",{"$f":"VLOOKUP(F123,Soutez!A:B,2,FALSE)","v":"CZ"},{"$f":"VLOOKUP(F123,Soutez!A:C,3,FALSE)","v":2022},10,2618,0.91500000000000004,5392,4934,"x","x","SZD-48 Jantar Std. 2","SU",""]
["Katerina Vancurova",2002,"F","Hranice","CZ/M","PMRg 2022 - Klub",{"$f":"VLOOKUP(F124,Soutez!A:B,2,FALSE)","v":"CZ"},{"$f":"VLOOKUP(F124,Soutez!A:C,3,FALSE)","v":2022},11,2331,0.91500000000000004,4633,4239,"x","x","Discus b","HD","Junior v roce 2025"]
["Jan Florian",1992,"M","Zbraslavice","CZ/C1","PMRg 2022 - Klub",{"$f":"VLOOKUP(F125,Soutez!A:B,2,FALSE)","v":"CZ"},{"$f":"VLOOKUP(F125,Soutez!A:C,3,FALSE)","v":2022},12,2188,0.91500000000000004,4129,3778,null,null,"Std. Cirrus","C1",""]
["Jiri Krofta",1988,"M","Hosín","CZ/C1","PMRg 2022 - Klub",{"$f":"VLOOKUP(F126,Soutez!A:B,2,FALSE)","v":"CZ"},{"$f":"VLOOKUP(F126,Soutez!A:C,3,FALSE)","v":2022},13,1904,0.91500000000000004,3376,3089,"x",null,"Std. Cirrus","YU",""]
["Lukas Capek",1992,"M",{"$f":"VLOOKUP(A127,Pilot,3,0)","v":"Letňany"},{"$f":"VLOOKUP(A127,Pilot,4,0)","v":"CZ/C1"},"PMRg 2022 - Kombi",{"$f":"VLOOKUP(F127,Soutez!A:B,2,FALSE)","v":"CZ"},{"$f":"VLOOKUP(F127,Soutez!A:C,3,FALSE)","v":2022},1,3354,0.91,{"$f":"ROUND(J127/MAX($J$127:$J$137)*10000*0.7+(MAX($I$127:$I$137)-I127)/(MAX($I$127:$I$137)-1)*10000*0.3,0)","v":10000},{"$f":"ROUND(K127*L127,0)","v":9100},"x",null,"Mosquito","LC",""]
["Jaroslav Potmesil",1964,"M","Zbraslavice","CZ/C1","PMRg 2022 - Kombi",{"$f":"VLOOKUP(F128,Soutez!A:B,2,FALSE)","v":"CZ"},{"$f":"VLOOKUP(F128,Soutez!A:C,3,FALSE)","v":2022},2,2942,0.91,8807,{"$f":"ROUND(K128*L128,0)","v":8014},"x",null,"HpH 304 TS Twin Shark","TS",""]
["Petr Hora",1948,"M","Hodkovice","CZ/C2","PMRg 2022 - Kombi",{"$f":"VLOOKUP(F129,Soutez!A:B,2,FALSE)","v":"CZ"},{"$f":"VLOOKUP(F129,Soutez!A:C,3,FALSE)","v":2022},3,2515,0.91,7582,6900,"x",null,"HpH 304 MS Shark","B1",""]
["Tomas Kulhavy",2001,"M","Liberec","CZ/C2","PMRg 2022 - Kombi",{"$f":"VLOOKUP(F130,Soutez!A:B,2,FALSE)","v":"CZ"},{"$f":"VLOOKUP(F130,Soutez!A:C,3,FALSE)","v":2022},4,2500,0.91,7218,6568,"x",null,"HpH 304 CZ 17.4m","IH","Junior v roce 2025"]
["Antonin Kutalek",1943,"M","Zábřeh","CZ/M","PMRg 2022 - Kombi",{"$f":"VLOOKUP(F131,Soutez!A:B,2,FALSE)","v":"CZ"},{"$f":"VLOOKUP(F131,Soutez!A:C,3,FALSE)","v":2022},5,2340,0.91,6550,5961,"x",null,"LAK-17A T 18m","GL",""]
["Radek Zima 78",1978,"M","Hodkovice","CZ/C2","PMRg 2022 - Kombi",{"$f":"VLOOKUP(F132,Soutez!A:B,2,FALSE)","v":"CZ"},{"$f":"VLOOKUP(F132,Soutez!A:C,3,FALSE)","v":2022},6,1372,0.91,4197,3819,null,null,"ASG 29 E 18m","XZ",""]
["Jaromir Macoun",1999,"M","Jičín","CZ/C2","PMRg 2022 - Kombi",{"$f":"VLOOKUP(F133,Soutez!A:B,2,FALSE)","v":"CZ"},{"$f":"VLOOKUP(F133,Soutez!A:C,3,FALSE)","v":2022},7,225,0.91,1470,1338,null,null,"LS 8","EU",""]
["Ivan Tvrdik",1997,"M","Letňany","CZ/C1","PMRg 2022 - Kombi",{"$f":"VLOOKUP(F134,Soutez!A:B,2,FALSE)","v":"CZ"},{"$f":"VLOOKUP(F134,Soutez!A:C,3,FALSE)","v":2022},8,221,0.91,1128,{"$f":"ROUND(K134*L134,0)","v":1026},null,null,"ASW 20 16.6m","NW",""]
["Jan Drbohlav",1999,"M","Hodkovice","CZ/C2","PMRg 2022 - Kombi",{"$f":"VLOOKUP(F135,Soutez!A:B,2,FALSE)","v":"CZ"},{"$f":"VLOOKUP(F135,Soutez!A:C,3,FALSE)","v":2022},9,1,{"$f":"VLOOKUP(F135,Soutez,12,0)","v":0.91},335,305,"x",null,"G 103 Twin Astir","BL",""]
["Vojtech Hajek",1987,"M","Mladá Boleslav","CZ/C1","PMRg 2022 - Kombi",{"$f":"VLOOKUP(F136,Soutez!A:B,2,FALSE)","v":"CZ"},{"$f":"VLOOKUP(F136,Soutez!A:C,3,FALSE)","v":2022},10,0,0.91,0,0,null,null,"Duo Discus",777,""]
["Karel Novak",1993,"M","Mladá Boleslav","CZ/C1","PMRg 2022 - Kombi",{"$f":"VLOOKUP(F137,Soutez!A:B,2,FALSE)","v":"CZ"},{"$f":"VLOOKUP(F137,Soutez!A:C,3,FALSE)","v":2022},10,0,0.91,0,0,null,null,"LS 8","ID",""]
["Lukas Kriz",2003,"M",{"$f":"VLOOKUP(A138,Pilot,3,0)","v":"Křižanov"},{"$f":"VLOOKUP(A138,Pilot,4,0)","v":"CZ/M"},"PMČRj 2022 - Klub",{"$f":"VLOOKUP(F138,Soutez!A:B,2,FALSE)","v":"CZ"},{"$f":"VLOOKUP(F138,Soutez!A:C,3,FALSE)","v":2022},1,4452,0.91500000000000004,{"$f":"ROUND(J138/MAX($J$138:$J$166)*10000*0.7+(MAX($I$138:$I$166)-I138)/(MAX($I$138:$I$166)-1)*10000*0.3,0)","v":10000},{"$f":"ROUND(K138*L138,0)","v":9150},null,null,"LS 8a 15m","AU","Junior v roce 2025"]
["Vladimir Hammer",2000,"M","Letkov","CZ/C1","PMČRj 2022 - Klub",{"$f":"VLOOKUP(F139,Soutez!A:B,2,FALSE)","v":"CZ"},{"$f":"VLOOKUP(F139,Soutez!A:C,3,FALSE)","v":2022},2,4170,0.91500000000000004,9449,{"$f":"ROUND(K139*L139,0)","v":8646},"x",null,"Std. Cirrus","SB","Junior v roce 2025"]
["Jan Stastny",2003,"M","Medlánky","CZ/M","PMČRj 2022 - Klub",{"$f":"VLOOKUP(F140,Soutez!A:B,2,FALSE)","v":"CZ"},{"$f":"VLOOKUP(F140,Soutez!A:C,3,FALSE)","v":2022},3,4073,0.91500000000000004,9190,8409,null,null,"Std. Cirrus","CX","Junior v roce 2025"]
["Vit Morkovsky",2000,"M","Polička","CZ/C2","PMČRj 2022 - Klub",{"$f":"VLOOKUP(F141,Soutez!A:B,2,FALSE)","v":"CZ"},{"$f":"VLOOKUP(F141,Soutez!A:C,3,FALSE)","v":2022},4,4051,0.91500000000000004,9048,8279,null,null,"ASW 24 A WL","SM","Junior v roce 2025"]
["Lukas Volek",2004,"M","Hodkovice","CZ/C2","PMČRj 2022 - Klub",{"$f":"VLOOKUP(F142,Soutez!A:B,2,FALSE)","v":"CZ"},{"$f":"VLOOKUP(F142,Soutez!A:C,3,FALSE)","v":2022},5,3982,0.91500000000000004,8832,8081,"x",null,"Std. Cirrus","UB","Junior v roce 2025"]
["Tomas Hynek",2002,"M","Dvůr Králové","CZ/C2","PMČRj 2022 - Klub",{"$f":"VLOOKUP(F143,Soutez!A:B,2,FALSE)","v":"CZ"},{"$f":"VLOOKUP(F143,Soutez!A:C,3,FALSE)","v":2022},6,3980,0.91500000000000004,8722,7981,null,null,"Std. Cirrus","HT","Junior v roce 2025"]
["Ivan Tvrdik",1997,"M","Letňany","CZ/C1","PMČRj 2022 - Klub",{"$f":"VLOOKUP(F144,Soutez!A:B,2,FALSE)","v":"CZ"},{"$f":"VLOOKUP(F144,Soutez!A:C,3,FALSE)","v":2022},7,3976,0.91500000000000004,8609,7877,"x",null,"ASW 19B","KZ",""]
["Michaela Krizova",2001,"F","Přibyslav","CZ/C2","PMČRj 2022 - Klub",{"$f":"VLOOKUP(F145,Soutez!A:B,2,FALSE)","v":"CZ"},{"$f":"VLOOKUP(F145,Soutez!A:C,3,FALSE)","v":2022},8,3975,0.91500000000000004,8500,7778,"x","x","ASW 15B","BE","Junior v roce 2025"]
["Jan Beran",1999,"M","Kladno","CZ/C1","PMČRj 2022 - Klub",{"$f":"VLOOKUP(F146,Soutez!A:B,2,FALSE)","v":"CZ"},{"$f":"VLOOKUP(F146,Soutez!A:C,3,FALSE)","v":2022},9,3935,0.91500000000000004,8330,7622,"x",null,"ASW 19B","HB",""]
["Petr Havelka",1997,"M","Zbraslavice","CZ/C1","PMČRj 2022 - Klub",{"$f":"VLOOKUP(F147,Soutez!A:B,2,FALSE)","v":"CZ"},{"$f":"VLOOKUP(F147,Soutez!A:C,3,FALSE)","v":2022},10,3908,0.91500000000000004,8180,7485,"x",null,"ASW 19B","PH",""]
["Jaromir Macoun",1999,"M","Jičín","CZ/C2","PMČRj 2022 - Klub",{"$f":"VLOOKUP(F148,Soutez!A:B,2,FALSE)","v":"CZ"},{"$f":"VLOOKUP(F148,Soutez!A:C,3,FALSE)","v":2022},11,3856,0.91500000000000004,7991,7312,null,null,"LS 8a 15m","EU",""]
["Tereza Koubkova",1999,"F","Vysoké Mýto","CZ/C2","PMČRj 2022 - Klub",{"$f":"VLOOKUP(F149,Soutez!A:B,2,FALSE)","v":"CZ"},{"$f":"VLOOKUP(F149,Soutez!A:C,3,FALSE)","v":2022},12,3814,0.91500000000000004,7818,7153,null,null,"ASW 19 B","XP",""]
["Tomas Kulhavy",2001,"M","Liberec","CZ/C2","PMČRj 2022 - Klub",{"$f":"VLOOKUP(F150,Soutez!A:B,2,FALSE)","v":"CZ"},{"$f":"VLOOKUP(F150,Soutez!A:C,3,FALSE)","v":2022},13,3053,0.91500000000000004,6515,{"$f":"ROUND(K150*L150,0)","v":5961},null,null,"LS 3 15m","R9","Junior v roce 2025"]
["Stepan Filakovsky",2005,"M","Medlánky","CZ/M","PMČRj 2022 - Klub",{"$f":"VLOOKUP(F151,Soutez!A:B,2,FALSE)","v":"CZ"},{"$f":"VLOOKUP(F151,Soutez!A:C,3,FALSE)","v":2022},14,2964,0.91500000000000004,6268,5735,null,null,"LS 1 f","FD","Junior v roce 2025"]
["Jakub Malik",1999,"M","Letňany","CZ/C1","PMČRj 2022 - Klub",{"$f":"VLOOKUP(F152,Soutez!A:B,2,FALSE)","v":"CZ"},{"$f":"VLOOKUP(F152,Soutez!A:C,3,FALSE)","v":2022},15,2905,0.91500000000000004,6068,5552,null,null,"Discus b WL","DP",""]
["Jiri Maier 99",1999,"M","Raná","CZ/C2","PMČRj 2022 - Klub",{"$f":"VLOOKUP(F153,Soutez!A:B,2,FALSE)","v":"CZ"},{"$f":"VLOOKUP(F153,Soutez!A:C,3,FALSE)","v":2022},16,2746,0.91500000000000004,5710,5225,"x",null,"Discus bt WL","TAL",""]
["Lukas Maly",1998,"M","Vysoké Mýto","CZ/C2","PMČRj 2022 - Klub",{"$f":"VLOOKUP(F154,Soutez!A:B,2,FALSE)","v":"CZ"},{"$f":"VLOOKUP(F154,Soutez!A:C,3,FALSE)","v":2022},17,2601,0.91500000000000004,5375,4918,null,null,"Discus b",65,""]
["Adam Hepal",2004,"M","Moravská Třebová","CZ/M","PMČRj 2022 - Klub",{"$f":"VLOOKUP(F155,Soutez!A:B,2,FALSE)","v":"CZ"},{"$f":"VLOOKUP(F155,Soutez!A:C,3,FALSE)","v":2022},18,2570,0.91500000000000004,5219,4775,"x",null,"ASW 19B","AE","Junior v roce 2025"]
["Fabian Curda",{"$f":"VLOOKUP(A156,Pilot,2,0)","v":2004},{"$f":"VLOOKUP(A156,Pilot,5,0)","v":"M"},"Zábřeh","CZ/M","PMČRj 2022 - Klub",{"$f":"VLOOKUP(F156,Soutez!A:B,2,FALSE)","v":"CZ"},{"$f":"VLOOKUP(F156,Soutez!A:C,3,FALSE)","v":2022},19,2461,0.91500000000000004,4941,4521,"x",null,"DG 300","U7","Junior v roce 2025"]
["Martin Stastny",2005,"M","Medlánky","CZ/M","PMČRj 2022 - Klub",{"$f":"VLOOKUP(F157,Soutez!A:B,2,FALSE)","v":"CZ"},{"$f":"VLOOKUP(F157,Soutez!A:C,3,FALSE)","v":2022},20,2330,0.91500000000000004,4628,4235,"x",null,"ASW 15B","TW","Junior v roce 2025"]
["Katerina Vancurova",2002,"F","Hranice","CZ/M","PMČRj 2022 - Klub",{"$f":"VLOOKUP(F158,Soutez!A:B,2,FALSE)","v":"CZ"},{"$f":"VLOOKUP(F158,Soutez!A:C,3,FALSE)","v":2022},21,2190,0.91500000000000004,4301,3935,null,null,"Discus cs","HD","Junior v roce 2025"]
["Tibor Hezina",2002,"M","Křižanov","CZ/M","PMČRj 2022 - Klub",{"$f":"VLOOKUP(F159,Soutez!A:B,2,FALSE)","v":"CZ"},{"$f":"VLOOKUP(F159,Soutez!A:C,3,FALSE)","v":2022},22,2174,0.91500000000000004,4168,3814,"x",null,"Std. Cirrus","IJ","Junior v roce 2025"]
["Vojtech Vach 03",2003,"M","Vrchlabí","CZ/C2","PMČRj 2022 - Klub",{"$f":"VLOOKUP(F160,Soutez!A:B,2,FALSE)","v":"CZ"},{"$f":"VLOOKUP(F160,Soutez!A:C,3,FALSE)","v":2022},23,2077,0.91500000000000004,3909,3577,null,null,"Cirrus VTC","1W","Junior v roce 2025"]
["Petr Hosek",2001,"M","Beroun","CZ/C1","PMČRj 2022 - Klub",{"$f":"VLOOKUP(F161,Soutez!A:B,2,FALSE)","v":"CZ"},{"$f":"VLOOKUP(F161,Soutez!A:C,3,FALSE)","v":2022},24,2010,0.91500000000000004,3696,3382,"x",null,"VSO-10","B1","Junior v roce 2025"]
["Vit Pavelka",2004,"M","Moravská Třebová","CZ/M","PMČRj 2022 - Klub",{"$f":"VLOOKUP(F162,Soutez!A:B,2,FALSE)","v":"CZ"},{"$f":"VLOOKUP(F162,Soutez!A:C,3,FALSE)","v":2022},25,1924,0.91500000000000004,3454,3160,"x",null,"ASW 15B","LE","Junior v roce 2025"]
["Jan Svestka",2005,"M","Křižanov","CZ/M","PMČRj 2022 - Klub",{"$f":"VLOOKUP(F163,Soutez!A:B,2,FALSE)","v":"CZ"},{"$f":"VLOOKUP(F163,Soutez!A:C,3,FALSE)","v":2022},26,1811,0.91500000000000004,3169,2900,"x",null,"Std. Cirrus","EJ","Junior v roce 2025"]
["Petr Masik",2001,"M","Zábřeh","CZ/M","PMČRj 2022 - Klub",{"$f":"VLOOKUP(F164,Soutez!A:B,2,FALSE)","v":"CZ"},{"$f":"VLOOKUP(F164,Soutez!A:C,3,FALSE)","v":2022},27,1769,0.91500000000000004,2996,2741,null,null,"ASW 15","ET",{"$f":"IF(ISERROR(VLOOKUP(A164,Pilot,6,0)),\"Není v databázi\",VLOOKUP(A164,Pilot,6,0))","v":"Junior v roce 2025"}]
["Vojtech Pavek",2000,"M","Medlánky","CZ/M","PMČRj 2022 - Klub",{"$f":"VLOOKUP(F165,Soutez!A:B,2,FALSE)","v":"CZ"},{"$f":"VLOOKUP(F165,Soutez!A:C,3,FALSE)","v":2022},28,1619,0.91500000000000004,2653,2427,null,null,"Std. Cirrus","MP","Junior v roce 2025"]
["David Nenicka",2005,"M","Hranice","CZ/M","PMČRj 2022 - Klub",{"$f":"VLOOKUP(F166,Soutez!A:B,2,FALSE)","v":"CZ"},{"$f":"VLOOKUP(F166,Soutez!A:C,3,FALSE)","v":2022},29,919,0.91500000000000004,1445,1322,"x",null,"Std. Cirrus","HC","Junior v roce 2025"]
["Jaroslav Tomana",{"$f":"VLOOKUP(A167,Pilot,2,0)","v":1975},{"$f":"VLOOKUP(A167,Pilot,5,0)","v":"M"},{"$f":"VLOOKUP(A167,Pilot,3,0)","v":"Zbraslavice"},{"$f":"VLOOKUP(A167,Pilot,4,0)","v":"CZ/C1"},"GGP MB 2022 - Klub GP",{"$f":"VLOOKUP(F167,Soutez!A:B,2,FALSE)","v":"CZ"},{"$f":"VLOOKUP(F167,Soutez!A:C,3,FALSE)","v":2022},1,41,{"$f":"VLOOKUP(F167,Soutez,12,0)","v":0.90500000000000003},{"$f":"ROUND((MAX($I$167:$I$181)-I167)/(MAX($I$167:$I$181)-1)*10000,0)","v":10000},{"$f":"ROUND(K167*L167,0)","v":9050},null,null,"Pegase Centair C-101BC+WL","RT",{"$f":"IF(ISERROR(VLOOKUP(A167,Pilot,6,0)),\"Není v databázi\",VLOOKUP(A167,Pilot,6,0))","v":""}]
["Jan Louda",1986,"M","Mladá Boleslav","CZ/C1","GGP MB 2022 - Klub GP",{"$f":"VLOOKUP(F168,Soutez!A:B,2,FALSE)","v":"CZ"},{"$f":"VLOOKUP(F168,Soutez!A:C,3,FALSE)","v":2022},2,30,0.90500000000000003,9231,{"$f":"ROUND(K168*L168,0)","v":8354},"x",null,"ASW15b","MB",""]
["David Vrchota",1976,"M","Jaroměř","CZ/C2","GGP MB 2022 - Klub GP",{"$f":"VLOOKUP(F169,Soutez!A:B,2,FALSE)","v":"CZ"},{"$f":"VLOOKUP(F169,Soutez!A:C,3,FALSE)","v":2022},3,29,0.90500000000000003,8462,7658,"x",null,"Std.Cirrus 16m","GO",""]
["David Sachl",1978,"M","Kralupy","CZ/C1","GGP MB 2022 - Klub GP",{"$f":"VLOOKUP(F170,Soutez!A:B,2,FALSE)","v":"CZ"},{"$f":"VLOOKUP(F170,Soutez!A:C,3,FALSE)","v":2022},4,24,0.90500000000000003,7692,6961,null,null,"DG 300 Klub Elan WL","BK",""]
["Michal Coufal",1999,"M","Jičín","CZ/C2","GGP MB 2022 - Klub GP",{"$f":"VLOOKUP(F171,Soutez!A:B,2,FALSE)","v":"CZ"},{"$f":"VLOOKUP(F171,Soutez!A:C,3,FALSE)","v":2022},5,23,0.90500000000000003,6923,6265,"x",null,"Janus B 18,2m","JC",""]
["Jiri Hula",1973,"M","Slaný","CZ/C1","GGP MB 2022 - Klub GP",{"$f":"VLOOKUP(F172,Soutez!A:B,2,FALSE)","v":"CZ"},{"$f":"VLOOKUP(F172,Soutez!A:C,3,FALSE)","v":2022},6,20,0.90500000000000003,6154,5569,"x",null,"Std.Cirrus","IT",""]
["Matej Krestes",1986,"M","Slaný","CZ/C1","GGP MB 2022 - Klub GP",{"$f":"VLOOKUP(F173,Soutez!A:B,2,FALSE)","v":"CZ"},{"$f":"VLOOKUP(F173,Soutez!A:C,3,FALSE)","v":2022},7,18,0.90500000000000003,5385,4873,"x",null,"Std.Cirrus","CON",""]
["Lukas Plocek",1990,"M","Mladá Boleslav","CZ/C1","GGP MB 2022 - Klub GP",{"$f":"VLOOKUP(F174,Soutez!A:B,2,FALSE)","v":"CZ"},{"$f":"VLOOKUP(F174,Soutez!A:C,3,FALSE)","v":2022},8,12,0.90500000000000003,4615,{"$f":"ROUND(K174*L174,0)","v":4177},"x",null,"ASW19b","AH",""]
["Linda Vasatova",1990,"F","Mladá Boleslav","CZ/C1","GGP MB 2022 - Klub GP",{"$f":"VLOOKUP(F175,Soutez!A:B,2,FALSE)","v":"CZ"},{"$f":"VLOOKUP(F175,Soutez!A:C,3,FALSE)","v":2022},9,10,0.90500000000000003,3846,3481,null,null,"ASW19b","XS",""]
["Katerina Vojtova",1983,"F","Slaný","CZ/C1","GGP MB 2022 - Klub GP",{"$f":"VLOOKUP(F176,Soutez!A:B,2,FALSE)","v":"CZ"},{"$f":"VLOOKUP(F176,Soutez!A:C,3,FALSE)","v":2022},9,10,0.90500000000000003,3846,3481,null,null,"Std.Cirrus","KAC",""]
["Jan Hejret",1976,"M","Jaroměř","CZ/C2","GGP MB 2022 - Klub GP",{"$f":"VLOOKUP(F177,Soutez!A:B,2,FALSE)","v":"CZ"},{"$f":"VLOOKUP(F177,Soutez!A:C,3,FALSE)","v":2022},11,6,0.90500000000000003,2308,2089,null,null,"Std.Cirrus","LW",""]
["Vojtech Vach 76",1976,"M","Nové Město nad Metují","CZ/C2","GGP MB 2022 - Klub GP",{"$f":"VLOOKUP(F178,Soutez!A:B,2,FALSE)","v":"CZ"},{"$f":"VLOOKUP(F178,Soutez!A:C,3,FALSE)","v":2022},11,6,0.90500000000000003,2308,2089,"x",null,"VSO10","I8",""]
["Martin Marek",1967,"M","Roudnice","CZ/C2","GGP MB 2022 - Klub GP",{"$f":"VLOOKUP(F179,Soutez!A:B,2,FALSE)","v":"CZ"},{"$f":"VLOOKUP(F179,Soutez!A:C,3,FALSE)","v":2022},13,1,0.90500000000000003,769,696,"x",null,"Std.Cirrus","2X",""]
["Libor Kovarik",1966,"M","Mladá Boleslav","CZ/C1","GGP MB 2022 - Klub GP",{"$f":"VLOOKUP(F180,Soutez!A:B,2,FALSE)","v":"CZ"},{"$f":"VLOOKUP(F180,Soutez!A:C,3,FALSE)","v":2022},14,0,0.90500000000000003,0,0,null,null,"VSO10","C3",""]
["Karel Policky",1950,"M","Kolín","CZ/C1","GGP MB 2022 - Klub GP",{"$f":"VLOOKUP(F181,Soutez!A:B,2,FALSE)","v":"CZ"},{"$f":"VLOOKUP(F181,Soutez!A:C,3,FALSE)","v":2022},14,0,0.90500000000000003,0,0,null,null,"VSO10",93,""]
["Jan Kotan",1982,"M",{"$f":"VLOOKUP(A182,Pilot,3,0)","v":"Letňany"},{"$f":"VLOOKUP(A182,Pilot,4,0)","v":"CZ/C1"},"GGP MB 2022 - Pohár MV - Kombi",{"$f":"VLOOKUP(F182,Soutez!A:B,2,FALSE)","v":"CZ"},{"$f":"VLOOKUP(F182,Soutez!A:C,3,FALSE)","v":2022},1,2886,0.91500000000000004,{"$f":"ROUND(J182/MAX($J$182:$J$192)*10000*0.7+(MAX($I$182:$I$192)-I182)/(MAX($I$182:$I$192)-1)*10000*0.3,0)","v":10000},{"$f":"ROUND(K182*L182,0)","v":9150},"x",null,"Ventus 2bx","YA",""]
["Dana Novakova",1965,"F","Mladá Boleslav","CZ/C1","GGP MB 2022 - Pohár MV - Kombi",{"$f":"VLOOKUP(F183,Soutez!A:B,2,FALSE)","v":"CZ"},{"$f":"VLOOKUP(F183,Soutez!A:C,3,FALSE)","v":2022},2,2878,0.91500000000000004,9681,{"$f":"ROUND(K183*L183,0)","v":8858},"x","x","LS8 /18m","FX",""]
["Michal Kratochvil",1984,"M","Slaný","CZ/C1","GGP MB 2022 - Pohár MV - Kombi",{"$f":"VLOOKUP(F184,Soutez!A:B,2,FALSE)","v":"CZ"},{"$f":"VLOOKUP(F184,Soutez!A:C,3,FALSE)","v":2022},3,2845,0.91500000000000004,9301,8510,"x",null,"Ventus b/16,6m","MK",""]
["Jan Dersak 69",1969,"M","Kralupy","CZ/C1","GGP MB 2022 - Pohár MV - Kombi",{"$f":"VLOOKUP(F185,Soutez!A:B,2,FALSE)","v":"CZ"},{"$f":"VLOOKUP(F185,Soutez!A:C,3,FALSE)","v":2022},4,2656,0.91500000000000004,8542,7816,null,null,"HpH 304 Shark/18m","DJ",""]
["Karel Novak",1993,"M","Mladá Boleslav","CZ/C1","GGP MB 2022 - Pohár MV - Kombi",{"$f":"VLOOKUP(F186,Soutez!A:B,2,FALSE)","v":"CZ"},{"$f":"VLOOKUP(F186,Soutez!A:C,3,FALSE)","v":2022},5,2651,0.91500000000000004,8230,{"$f":"ROUND(K186*L186,0)","v":7530},null,null,"LS8 /18m","ID",""]
["Martin Soucek",1975,"M","Mladá Boleslav","CZ/C1","GGP MB 2022 - Pohár MV - Kombi",{"$f":"VLOOKUP(F187,Soutez!A:B,2,FALSE)","v":"CZ"},{"$f":"VLOOKUP(F187,Soutez!A:C,3,FALSE)","v":2022},6,2490,0.91500000000000004,7540,6899,"x",null,"DG-200/17m","MS",""]
["Radek Zima 78",1978,"M","Hodkovice","CZ/C2","GGP MB 2022 - Pohár MV - Kombi",{"$f":"VLOOKUP(F188,Soutez!A:B,2,FALSE)","v":"CZ"},{"$f":"VLOOKUP(F188,Soutez!A:C,3,FALSE)","v":2022},7,1897,0.91500000000000004,5801,5308,null,null,"ASG 29 E /18m","XZ",""]
["Antonin Bordovsky",1951,"M","Krnov","CZ/M","GGP MB 2022 - Pohár MV - Kombi",{"$f":"VLOOKUP(F189,Soutez!A:B,2,FALSE)","v":"CZ"},{"$f":"VLOOKUP(F189,Soutez!A:C,3,FALSE)","v":2022},8,1810,0.91500000000000004,5290,4840,"x",null,"Ventus c /17,6m","AD",""]
["Jan Horak",1971,"M","Zbraslavice","CZ/C1","GGP MB 2022 - Pohár MV - Kombi",{"$f":"VLOOKUP(F190,Soutez!A:B,2,FALSE)","v":"CZ"},{"$f":"VLOOKUP(F190,Soutez!A:C,3,FALSE)","v":2022},9,1463,0.91500000000000004,4149,3796,null,null,"ASW20a /15m","WX",""]
["Jan Smekal",1976,"M","Zbraslavice","CZ/C1","GGP MB 2022 - Pohár MV - Kombi",{"$f":"VLOOKUP(F191,Soutez!A:B,2,FALSE)","v":"CZ"},{"$f":"VLOOKUP(F191,Soutez!A:C,3,FALSE)","v":2022},10,1217,0.91500000000000004,3252,2976,null,null,"Ventus 2a","AX",""]
["Zdenek Boruvka 86",1986,"M","Jičín","CZ/C2","GGP MB 2022 - Pohár MV - Kombi",{"$f":"VLOOKUP(F192,Soutez!A:B,2,FALSE)","v":"CZ"},{"$f":"VLOOKUP(F192,Soutez!A:C,3,FALSE)","v":2022},11,0,0.91500000000000004,0,0,null,null,"Ventus c /17,6m","VV",""]
["Viktor Tvrdik",1977,"M",{"$f":"VLOOKUP(A193,Pilot,3,0)","v":"Rakovník"},{"$f":"VLOOKUP(A193,Pilot,4,0)","v":"CZ/C1"},"Rakovnická Dlaždice 2022 - Klub",{"$f":"VLOOKUP(F193,Soutez!A:B,2,FALSE)","v":"CZ"},{"$f":"VLOOKUP(F193,Soutez!A:C,3,FALSE)","v":2022},1,4392,0,{"$f":"ROUND(J193/MAX($J$193:$J$206)*10000*0.7+(MAX($I$193:$I$206)-I193)/(MAX($I$193:$I$206)-1)*10000*0.3,0)","v":10000},{"$f":"ROUND(K193*L193,0)","v":0},null,null,"DG 800SW/18m","HF",""]
["Jaromir Simunek",1975,"M","Rakovník","CZ/C1","Rakovnická Dlaždice 2022 - Klub",{"$f":"VLOOKUP(F194,Soutez!A:B,2,FALSE)","v":"CZ"},{"$f":"VLOOKUP(F194,Soutez!A:C,3,FALSE)","v":2022},2,4049,0,9223,{"$f":"ROUND(K194*L194,0)","v":0},null,null,"DG 800SW/18m","HC",""]
["Jan Heroudek",1970,"M","Rakovník","CZ/C1","Rakovnická Dlaždice 2022 - Klub",{"$f":"VLOOKUP(F195,Soutez!A:B,2,FALSE)","v":"CZ"},{"$f":"VLOOKUP(F195,Soutez!A:C,3,FALSE)","v":2022},3,3780,0,8563,0,null,null,"dg 100",75,""]
["Jiri Vondracek",1989,"M","Kladno","CZ/C1","Rakovnická Dlaždice 2022 - Klub",{"$f":"VLOOKUP(F196,Soutez!A:B,2,FALSE)","v":"CZ"},{"$f":"VLOOKUP(F196,Soutez!A:C,3,FALSE)","v":2022},4,3575,0,8006,0,null,null,"ASW-15b","2P",""]
["Jan Konecny",1972,"M","Rakovník","CZ/C1","Rakovnická Dlaždice 2022 - Klub",{"$f":"VLOOKUP(F197,Soutez!A:B,2,FALSE)","v":"CZ"},{"$f":"VLOOKUP(F197,Soutez!A:C,3,FALSE)","v":2022},5,3550,0,7735,0,null,null,"LS 7",72,""]
["Jakub Kmosek",1978,"M","Zbraslavice","CZ/C1","Rakovnická Dlaždice 2022 - Klub",{"$f":"VLOOKUP(F198,Soutez!A:B,2,FALSE)","v":"CZ"},{"$f":"VLOOKUP(F198,Soutez!A:C,3,FALSE)","v":2022},6,3508,0,7437,0,null,null,"std. cirrus","ST",""]
["Jan Hlavacek",{"$error":"#N/A"},{"$error":"#N/A"},{"$error":"#N/A"},{"$error":"#N/A"},"Rakovnická Dlaždice 2022 - Klub",{"$f":"VLOOKUP(F199,Soutez!A:B,2,FALSE)","v":"CZ"},{"$f":"VLOOKUP(F199,Soutez!A:C,3,FALSE)","v":2022},7,3498,{"$f":"VLOOKUP(F199,Soutez,12,0)","v":0},7191,0,null,null,"Discus","SJ","Není v databázi"]
["Jan Vozeh",1995,"M","Rakovník","CZ/C1","Rakovnická Dlaždice 2022 - Klub",{"$f":"VLOOKUP(F200,Soutez!A:B,2,FALSE)","v":"CZ"},{"$f":"VLOOKUP(F200,Soutez!A:C,3,FALSE)","v":2022},8,3495,0,6955,0,null,null,"Std. Cirrus","OG",""]
["Josef Hlusek",1993,"M","Kunovice","CZ/M","Rakovnická Dlaždice 2022 - Klub",{"$f":"VLOOKUP(F201,Soutez!A:B,2,FALSE)","v":"CZ"},{"$f":"VLOOKUP(F201,Soutez!A:C,3,FALSE)","v":2022},9,3010,0,5951,0,null,null,"std. cirrus","WO",""]
["Jiri Bulanek",1983,"M","Rakovník","CZ/C1","Rakovnická Dlaždice 2022 - Klub",{"$f":"VLOOKUP(F202,Soutez!A:B,2,FALSE)","v":"CZ"},{"$f":"VLOOKUP(F202,Soutez!A:C,3,FALSE)","v":2022},10,2899,0,5544,{"$f":"ROUND(K202*L202,0)","v":0},null,null,"DG-101 G","MK",""]
["Pavel Kuriscak",{"$f":"VLOOKUP(A203,Pilot,2,0)","v":1987},{"$f":"VLOOKUP(A203,Pilot,5,0)","v":"M"},"Beroun","CZ/C1","Rakovnická Dlaždice 2022 - Klub",{"$f":"VLOOKUP(F203,Soutez!A:B,2,FALSE)","v":"CZ"},{"$f":"VLOOKUP(F203,Soutez!A:C,3,FALSE)","v":2022},11,2584,0,4811,0,null,null,"Std. Cirrus 16m","BU",""]
["Petr Hosek",2001,"M","Beroun","CZ/C1","Rakovnická Dlaždice 2022 - Klub",{"$f":"VLOOKUP(F204,Soutez!A:B,2,FALSE)","v":"CZ"},{"$f":"VLOOKUP(F204,Soutez!A:C,3,FALSE)","v":2022},12,2359,0,4221,0,null,null,"VSO-10","B1","Junior v roce 2025"]
["Rostislav Konderla",1972,"M","Rakovník","CZ/C1","Rakovnická Dlaždice 2022 - Klub",{"$f":"VLOOKUP(F205,Soutez!A:B,2,FALSE)","v":"CZ"},{"$f":"VLOOKUP(F205,Soutez!A:C,3,FALSE)","v":2022},13,1997,0,3414,0,null,null,"LS 1-d","HV",""]
["Matej Dolejs",2004,"M","Beroun","CZ/C1","Rakovnická Dlaždice 2022 - Klub",{"$f":"VLOOKUP(F206,Soutez!A:B,2,FALSE)","v":"CZ"},{"$f":"VLOOKUP(F206,Soutez!A:C,3,FALSE)","v":2022},14,0,0,0,0,null,null,"solo L 33",11,"Junior v roce 2025"]
["Oldrich Slavicek",1959,"M",{"$f":"VLOOKUP(A207,Pilot,3,0)","v":"Hronov"},{"$f":"VLOOKUP(A207,Pilot,4,0)","v":"CZ/C2"},"HOP 2022 - Klub",{"$f":"VLOOKUP(F207,Soutez!A:B,2,FALSE)","v":"CZ"},{"$f":"VLOOKUP(F207,Soutez!A:C,3,FALSE)","v":2022},1,2256,{"$f":"VLOOKUP(F207,Soutez,12,0)","v":0.755},{"$f":"ROUND(J207/MAX($J$207:$J$229)*10000*0.7+(MAX($I$207:$I$229)-I207)/(MAX($I$207:$I$229)-1)*10000*0.3,0)","v":10000},{"$f":"ROUND(K207*L207,0)","v":7550},"x",null,"VT-116 Orlik 2",4310,{"$f":"IF(ISERROR(VLOOKUP(A207,Pilot,6,0)),\"Není v databázi\",VLOOKUP(A207,Pilot,6,0))","v":""}]
["Ondrej Teichman",1984,"M","Dvůr Králové","CZ/C2","HOP 2022 - Klub",{"$f":"VLOOKUP(F208,Soutez!A:B,2,FALSE)","v":"CZ"},{"$f":"VLOOKUP(F208,Soutez!A:C,3,FALSE)","v":2022},2,2030,0.755,{"$f":"ROUND(J208/MAX($J$207:$J$229)*10000*0.7+(MAX($I$207:$I$229)-I208)/(MAX($I$207:$I$229)-1)*10000*0.3,0)","v":9162},{"$f":"ROUND(K208*L208,0)","v":6917},null,null,"VT-116 Orlik 2",6445,""]
["Milan Svoboda 80",1980,"M","Havlíčkův Brod","CZ/C2","HOP 2022 - Klub",{"$f":"VLOOKUP(F209,Soutez!A:B,2,FALSE)","v":"CZ"},{"$f":"VLOOKUP(F209,Soutez!A:C,3,FALSE)","v":2022},3,2003,0.755,8942,6751,null,null,"VT-116 Orlik 2",6446,""]
["Miroslav Stepan",1955,"M","Žamberk","CZ/C2","HOP 2022 - Klub",{"$f":"VLOOKUP(F210,Soutez!A:B,2,FALSE)","v":"CZ"},{"$f":"VLOOKUP(F210,Soutez!A:C,3,FALSE)","v":2022},4,1871,0.755,8396,6339,"x",null,"VT-116 Orlik 2",8412,""]
["Ondrej Blaha",1976,"M","Letňany","CZ/C1","HOP 2022 - Klub",{"$f":"VLOOKUP(F211,Soutez!A:B,2,FALSE)","v":"CZ"},{"$f":"VLOOKUP(F211,Soutez!A:C,3,FALSE)","v":2022},5,1831,0.755,8136,6143,"x",null,"VT-116 Orlik 2",6444,""]
["Petr Seibrt",1974,"M","Náchod","CZ/C2","HOP 2022 - Klub",{"$f":"VLOOKUP(F212,Soutez!A:B,2,FALSE)","v":"CZ"},{"$f":"VLOOKUP(F212,Soutez!A:C,3,FALSE)","v":2022},6,1789,0.755,7869,5941,"x",null,"VT-16 Orlik",2412,""]
["Tomas Mezera",1973,"M","Raná","CZ/C2","HOP 2022 - Klub",{"$f":"VLOOKUP(F213,Soutez!A:B,2,FALSE)","v":"CZ"},{"$f":"VLOOKUP(F213,Soutez!A:C,3,FALSE)","v":2022},7,1736,0.755,7568,5714,"x",null,"VT-116 Orlik 2",8401,""]
["Oldrich Hlavacek",1973,"M","Medlánky","CZ/M","HOP 2022 - Klub",{"$f":"VLOOKUP(F214,Soutez!A:B,2,FALSE)","v":"CZ"},{"$f":"VLOOKUP(F214,Soutez!A:C,3,FALSE)","v":2022},8,1704,0.755,7333,5536,"x",null,"VT-116 Orlik 2",4307,""]
["Wolfgang Sluka",1942,"M","Liberec","CZ/C2","HOP 2022 - Klub",{"$f":"VLOOKUP(F215,Soutez!A:B,2,FALSE)","v":"CZ"},{"$f":"VLOOKUP(F215,Soutez!A:C,3,FALSE)","v":2022},9,1682,0.755,7128,5382,"x",null,"VT-116 Orlik 2",8425,""]
["Matej Jelinek",1999,"M","Hronov","CZ/C2","HOP 2022 - Klub",{"$f":"VLOOKUP(F216,Soutez!A:B,2,FALSE)","v":"CZ"},{"$f":"VLOOKUP(F216,Soutez!A:C,3,FALSE)","v":2022},10,1651,0.755,6896,5206,"x",null,"VT-116 Orlik 2",6922,""]
["Ivan Kuzelka",1945,"M","Havlíčkův Brod","CZ/C2","HOP 2022 - Klub",{"$f":"VLOOKUP(F217,Soutez!A:B,2,FALSE)","v":"CZ"},{"$f":"VLOOKUP(F217,Soutez!A:C,3,FALSE)","v":2022},11,1550,0.755,6446,4867,"x",null,"VT-116 Orlik 2",4314,""]
["Petr Vezda",1974,"M","Medlánky","CZ/M","HOP 2022 - Klub",{"$f":"VLOOKUP(F218,Soutez!A:B,2,FALSE)","v":"CZ"},{"$f":"VLOOKUP(F218,Soutez!A:C,3,FALSE)","v":2022},12,1521,0.755,6219,4695,"x",null,"VT-116 Orlik 2",4321,""]
["Jaromir Vlk",1959,"M","Šumperk","CZ/M","HOP 2022 - Klub",{"$f":"VLOOKUP(F219,Soutez!A:B,2,FALSE)","v":"CZ"},{"$f":"VLOOKUP(F219,Soutez!A:C,3,FALSE)","v":2022},13,1503,0.755,6027,4550,"x",null,"VT-116 Orlik 2",8436,""]
["L.Vyhlid / J.Vojta",null,null,null,null,"HOP 2022 - Klub",{"$f":"VLOOKUP(F220,Soutez!A:B,2,FALSE)","v":"CZ"},{"$f":"VLOOKUP(F220,Soutez!A:C,3,FALSE)","v":2022},14,1432,0.755,5671,4282,null,null,"VT-116 Orlik 2",8431,"Není v databázi"]
["Jaromir Hendrych",1954,"M","Raná","CZ/C2","HOP 2022 - Klub",{"$f":"VLOOKUP(F221,Soutez!A:B,2,FALSE)","v":"CZ"},{"$f":"VLOOKUP(F221,Soutez!A:C,3,FALSE)","v":2022},15,1294,0.755,5106,3855,"x",null,"M-35",2403,""]
["Sarka Lochova",1966,"F","Šumperk","CZ/M","HOP 2022 - Klub",{"$f":"VLOOKUP(F222,Soutez!A:B,2,FALSE)","v":"CZ"},{"$f":"VLOOKUP(F222,Soutez!A:C,3,FALSE)","v":2022},16,1267,0.755,4886,3689,"x","x","VT-116 Orlik 2",7445,""]
["Jana Mezerova",1975,"F","Raná","CZ/C2","HOP 2022 - Klub",{"$f":"VLOOKUP(F223,Soutez!A:B,2,FALSE)","v":"CZ"},{"$f":"VLOOKUP(F223,Soutez!A:C,3,FALSE)","v":2022},17,1203,0.755,4551,3436,"x","x","VT-116 Orlik 2",7425,""]
["Michal Ondracek",1966,"M","Medlánky","CZ/M","HOP 2022 - Klub",{"$f":"VLOOKUP(F224,Soutez!A:B,2,FALSE)","v":"CZ"},{"$f":"VLOOKUP(F224,Soutez!A:C,3,FALSE)","v":2022},18,1069,0.755,3999,3019,"x",null,"Ka 6 E",9781,""]
["Tomas Holenda",1956,"M","Havlíčkův Brod","CZ/C2","HOP 2022 - Klub",{"$f":"VLOOKUP(F225,Soutez!A:B,2,FALSE)","v":"CZ"},{"$f":"VLOOKUP(F225,Soutez!A:C,3,FALSE)","v":2022},19,1063,0.755,3844,2902,"x",null,"VT-116 Orlik 2",7403,""]
["Michal Janda",1972,"M","Broumov","CZ/C2","HOP 2022 - Klub",{"$f":"VLOOKUP(F226,Soutez!A:B,2,FALSE)","v":"CZ"},{"$f":"VLOOKUP(F226,Soutez!A:C,3,FALSE)","v":2022},20,1029,0.755,3602,2720,"x",null,"VT-116 Orlik 2",7402,""]
["Miroslav Major",1968,"M","Kralupy","CZ/C1","HOP 2022 - Klub",{"$f":"VLOOKUP(F227,Soutez!A:B,2,FALSE)","v":"CZ"},{"$f":"VLOOKUP(F227,Soutez!A:C,3,FALSE)","v":2022},21,959,0.755,3248,2452,"x",null,"VT-116 Orlik 2",8430,""]
["Michal Nutil",1966,"M","Náchod","CZ/C2","HOP 2022 - Klub",{"$f":"VLOOKUP(F228,Soutez!A:B,2,FALSE)","v":"CZ"},{"$f":"VLOOKUP(F228,Soutez!A:C,3,FALSE)","v":2022},22,920,0.755,2991,2258,"x",null,"M-35",2901,""]
["Petr Vlasak",1974,"M","Medlánky","CZ/M","HOP 2022 - Klub",{"$f":"VLOOKUP(F229,Soutez!A:B,2,FALSE)","v":"CZ"},{"$f":"VLOOKUP(F229,Soutez!A:C,3,FALSE)","v":2022},23,570,0.755,1769,1336,"x",null,"VT-16 Orlik",2909,""]
["Zdenek Boruvka 54",1954,"M",{"$f":"VLOOKUP(A230,Pilot,3,0)","v":"Jičín"},{"$f":"VLOOKUP(A230,Pilot,4,0)","v":"CZ/C2"},"HOP 2022 - Kombi",{"$f":"VLOOKUP(F230,Soutez!A:B,2,FALSE)","v":"CZ"},{"$f":"VLOOKUP(F230,Soutez!A:C,3,FALSE)","v":2022},1,2638,0.75,{"$f":"ROUND(J230/MAX($J$230:$J$248)*10000*0.7+(MAX($I$230:$I$248)-I230)/(MAX($I$230:$I$248)-1)*10000*0.3,0)","v":10000},{"$f":"ROUND(K230*L230,0)","v":7500},"x",null,"LS 8 15 m (voda)","ZB",""]
["Vratislav Sram",1966,"M","Broumov","CZ/C2","HOP 2022 - Kombi",{"$f":"VLOOKUP(F231,Soutez!A:B,2,FALSE)","v":"CZ"},{"$f":"VLOOKUP(F231,Soutez!A:C,3,FALSE)","v":2022},2,2621,0.75,9788,{"$f":"ROUND(K231*L231,0)","v":7341},null,null,"Nimbus 4DM",7,""]
["Michal Maly",1982,"M","Broumov","CZ/C2","HOP 2022 - Kombi",{"$f":"VLOOKUP(F232,Soutez!A:B,2,FALSE)","v":"CZ"},{"$f":"VLOOKUP(F232,Soutez!A:C,3,FALSE)","v":2022},3,2489,0.75,9271,6953,"x",null,"Ventus c 17,6 (voda)","JN",""]
["Jan Kohout",1970,"M","Žamberk","CZ/C2","HOP 2022 - Kombi",{"$f":"VLOOKUP(F233,Soutez!A:B,2,FALSE)","v":"CZ"},{"$f":"VLOOKUP(F233,Soutez!A:C,3,FALSE)","v":2022},4,2486,0.75,9097,6823,"x",null,"JS1C EVO 18m (voda)","SK",""]
["Vaclav Kult",1973,"M","Broumov","CZ/C2","HOP 2022 - Kombi",{"$f":"VLOOKUP(F234,Soutez!A:B,2,FALSE)","v":"CZ"},{"$f":"VLOOKUP(F234,Soutez!A:C,3,FALSE)","v":2022},5,2454,0.75,8845,6634,"x",null,"Nimbus 2 b WL (voda)","VK",""]
["Zdenek Schenk",1972,"M","Hranice","CZ/M","HOP 2022 - Kombi",{"$f":"VLOOKUP(F235,Soutez!A:B,2,FALSE)","v":"CZ"},{"$f":"VLOOKUP(F235,Soutez!A:C,3,FALSE)","v":2022},6,2364,0.75,8440,6330,null,null,"Ventus cm 17,6m (bez vody)","SNeK",""]
["Petr Babak",1973,"M","Hořice","CZ/C2","HOP 2022 - Kombi",{"$f":"VLOOKUP(F236,Soutez!A:B,2,FALSE)","v":"CZ"},{"$f":"VLOOKUP(F236,Soutez!A:C,3,FALSE)","v":2022},7,2363,0.75,8270,6203,"x",null,"Ventus c 17,6 (voda)","LS",""]
["Jan Cerveny",1984,"M","Jaroměř","CZ/C2","HOP 2022 - Kombi",{"$f":"VLOOKUP(F237,Soutez!A:B,2,FALSE)","v":"CZ"},{"$f":"VLOOKUP(F237,Soutez!A:C,3,FALSE)","v":2022},8,2315,0.75,7976,5982,"x",null,"LS 3a (bez vody)","EI",""]
["Jan Rott",1962,"M","Hronov","CZ/C2","HOP 2022 - Kombi",{"$f":"VLOOKUP(F238,Soutez!A:B,2,FALSE)","v":"CZ"},{"$f":"VLOOKUP(F238,Soutez!A:C,3,FALSE)","v":2022},9,2244,0.75,7621,5716,"x",null,"HPH 304 cz 17,4 (bez vody)","Jou",""]
["Petr Fisar",1974,"M","Ústí nad Orlicí","CZ/C2","HOP 2022 - Kombi",{"$f":"VLOOKUP(F239,Soutez!A:B,2,FALSE)","v":"CZ"},{"$f":"VLOOKUP(F239,Soutez!A:C,3,FALSE)","v":2022},10,2178,0.75,7279,5459,"x",null,"Mosquito b (bez vody)","PF",""]
["David Mach",1994,"M","Hronov","CZ/C2","HOP 2022 - Kombi",{"$f":"VLOOKUP(F240,Soutez!A:B,2,FALSE)","v":"CZ"},{"$f":"VLOOKUP(F240,Soutez!A:C,3,FALSE)","v":2022},11,2064,0.75,6810,5108,null,null,"ASG 29 E 18m (bez vody)","QZ",""]
["M.Plechac / J.Plechac",null,null,null,null,"HOP 2022 - Kombi",{"$f":"VLOOKUP(F241,Soutez!A:B,2,FALSE)","v":"CZ"},{"$f":"VLOOKUP(F241,Soutez!A:C,3,FALSE)","v":2022},12,1961,0.75,6370,4778,null,null,"Nimbus 2 WL ( voda )","PM","Není v databázi"]
["Zdenek Mach",1976,"M","Broumov","CZ/C2","HOP 2022 - Kombi",{"$f":"VLOOKUP(F242,Soutez!A:B,2,FALSE)","v":"CZ"},{"$f":"VLOOKUP(F242,Soutez!A:C,3,FALSE)","v":2022},13,1876,0.75,5978,4484,"x",null,"LS 1-d (bez vody)","MZ",""]
["Tomas Talanda",1988,"M","Křižanov","CZ/M","HOP 2022 - Kombi",{"$f":"VLOOKUP(F243,Soutez!A:B,2,FALSE)","v":"CZ"},{"$f":"VLOOKUP(F243,Soutez!A:C,3,FALSE)","v":2022},14,1736,0.75,5440,4080,null,null,"ASW 19 B (voda)","DS",""]
["Milos Nyvlt",{"$f":"VLOOKUP(A244,Pilot,2,0)","v":1963},{"$f":"VLOOKUP(A244,Pilot,5,0)","v":"M"},"Hronov","CZ/C2","HOP 2022 - Kombi",{"$f":"VLOOKUP(F244,Soutez!A:B,2,FALSE)","v":"CZ"},{"$f":"VLOOKUP(F244,Soutez!A:C,3,FALSE)","v":2022},15,1575,0.75,4846,3635,"x",null,"Arcus M","AR",""]
["Jiri Suchomel",{"$f":"VLOOKUP(A245,Pilot,2,0)","v":1950},{"$f":"VLOOKUP(A245,Pilot,5,0)","v":"M"},"Broumov","CZ/C2","HOP 2022 - Kombi",{"$f":"VLOOKUP(F245,Soutez!A:B,2,FALSE)","v":"CZ"},{"$f":"VLOOKUP(F245,Soutez!A:C,3,FALSE)","v":2022},16,1338,0.75,4050,3038,"x",null,"Janus 18.2m (bez vody)","V1",""]
["Milos Eichler",1964,"M","Dvůr Králové","CZ/C2","HOP 2022 - Kombi",{"$f":"VLOOKUP(F246,Soutez!A:B,2,FALSE)","v":"CZ"},{"$f":"VLOOKUP(F246,Soutez!A:C,3,FALSE)","v":2022},17,693,0.75,2172,1629,"x",null,"Cirrus VTC 17.74 m (bez vody)","G7",""]
["Pilotky UO / G.Jakl",null,null,null,null,"HOP 2022 - Kombi",{"$f":"VLOOKUP(F247,Soutez!A:B,2,FALSE)","v":"CZ"},{"$f":"VLOOKUP(F247,Soutez!A:C,3,FALSE)","v":2022},18,581,0.75,1708,{"$f":"ROUND(K247*L247,0)","v":1281},null,null,"Janus 18.2m ( bez vody)","GJ","Není v databázi"]
["Martin Koci",1975,"M","Ústí nad Orlicí","CZ/C2","HOP 2022 - Kombi",{"$f":"VLOOKUP(F248,Soutez!A:B,2,FALSE)","v":"CZ"},{"$f":"VLOOKUP(F248,Soutez!A:C,3,FALSE)","v":2022},19,283,0.75,751,563,"x",null,"Discus b (bez vody)","XE",""]
["Michal Coufal",1999,"M",{"$f":"VLOOKUP(A249,Pilot,3,0)","v":"Jičín"},{"$f":"VLOOKUP(A249,Pilot,4,0)","v":"CZ/C2"},"Pohár Českého Ráje 2022 - Klub",{"$f":"VLOOKUP(F249,Soutez!A:B,2,FALSE)","v":"CZ"},{"$f":"VLOOKUP(F249,Soutez!A:C,3,FALSE)","v":2022},1,1855,0,{"$f":"ROUND(J249/MAX($J$249:$J$265)*10000*0.7+(MAX($I$249:$I$265)-I249)/(MAX($I$249:$I$265)-1)*10000*0.3,0)","v":10000},{"$f":"ROUND(K249*L249,0)","v":0},null,null,"Janus","JC",""]
["Petr Kyzivat",1970,"M","Jičín","CZ/C2","Pohár Českého Ráje 2022 - Klub",{"$f":"VLOOKUP(F250,Soutez!A:B,2,FALSE)","v":"CZ"},{"$f":"VLOOKUP(F250,Soutez!A:C,3,FALSE)","v":2022},2,1586,0,8785,{"$f":"ROUND(K250*L250,0)","v":0},null,null,"Ventus c 17,6 m","GE",""]
["Ales Holoubek",1966,"M","Jičín","CZ/C2","Pohár Českého Ráje 2022 - Klub",{"$f":"VLOOKUP(F251,Soutez!A:B,2,FALSE)","v":"CZ"},{"$f":"VLOOKUP(F251,Soutez!A:C,3,FALSE)","v":2022},3,1506,0,8283,0,null,null,"ASW-15b NG","T",""]
["Ilja Kopacek",1943,"M","Jičín","CZ/C2","Pohár Českého Ráje 2022 - Klub",{"$f":"VLOOKUP(F252,Soutez!A:B,2,FALSE)","v":"CZ"},{"$f":"VLOOKUP(F252,Soutez!A:C,3,FALSE)","v":2022},4,1478,0,7977,0,null,null,"Std. Cirrus","SC",""]
["Petr Rygl",{"$f":"VLOOKUP(A253,Pilot,2,0)","v":1966},{"$f":"VLOOKUP(A253,Pilot,5,0)","v":"M"},"Jičín","CZ/C2","Pohár Českého Ráje 2022 - Klub",{"$f":"VLOOKUP(F253,Soutez!A:B,2,FALSE)","v":"CZ"},{"$f":"VLOOKUP(F253,Soutez!A:C,3,FALSE)","v":2022},5,1401,0,7487,0,null,null,"ASW-15","A18",""]
["Kamil Hejda",1973,"M","Jičín","CZ/C2","Pohár Českého Ráje 2022 - Klub",{"$f":"VLOOKUP(F254,Soutez!A:B,2,FALSE)","v":"CZ"},{"$f":"VLOOKUP(F254,Soutez!A:C,3,FALSE)","v":2022},6,1293,0,6879,0,null,null,"Std. Cirrus","FS",""]
["Miroslav Trybucek",1965,"M","Jičín","CZ/C2","Pohár Českého Ráje 2022 - Klub",{"$f":"VLOOKUP(F255,Soutez!A:B,2,FALSE)","v":"CZ"},{"$f":"VLOOKUP(F255,Soutez!A:C,3,FALSE)","v":2022},7,1213,0,6377,0,null,null,"Ventus 2 cm /18 m (600kg)","OZ",""]
["Zbynek Fuksa",1956,"M","Jičín","CZ/C2","Pohár Českého Ráje 2022 - Klub",{"$f":"VLOOKUP(F256,Soutez!A:B,2,FALSE)","v":"CZ"},{"$f":"VLOOKUP(F256,Soutez!A:C,3,FALSE)","v":2022},8,1086,0,5698,0,null,null,"Duo Discus XLT",88,""]
["Jan Plechac",1966,"M","Slaný","CZ/C1","Pohár Českého Ráje 2022 - Klub",{"$f":"VLOOKUP(F257,Soutez!A:B,2,FALSE)","v":"CZ"},{"$f":"VLOOKUP(F257,Soutez!A:C,3,FALSE)","v":2022},9,1067,0,5426,0,null,null,"Std. Cirrus","TI",""]
["Stepan Capek",1960,"M","Jičín","CZ/C2","Pohár Českého Ráje 2022 - Klub",{"$f":"VLOOKUP(F258,Soutez!A:B,2,FALSE)","v":"CZ"},{"$f":"VLOOKUP(F258,Soutez!A:C,3,FALSE)","v":2022},10,951,0,4789,0,null,null,"Banjo","ZF",""]
["Lukas Jezek",1975,"M","Jičín","CZ/C2","Pohár Českého Ráje 2022 - Klub",{"$f":"VLOOKUP(F259,Soutez!A:B,2,FALSE)","v":"CZ"},{"$f":"VLOOKUP(F259,Soutez!A:C,3,FALSE)","v":2022},11,901,0,4400,0,null,null,"L-13 Blanik",13,""]
["Radek Tobolka",1977,"M","Jičín","CZ/C2","Pohár Českého Ráje 2022 - Klub",{"$f":"VLOOKUP(F260,Soutez!A:B,2,FALSE)","v":"CZ"},{"$f":"VLOOKUP(F260,Soutez!A:C,3,FALSE)","v":2022},12,691,0,3408,{"$f":"ROUND(K260*L260,0)","v":0},null,null,"TST-10 Atlas M",10,""]
["Petr Tax",1968,"M","Jičín","CZ/C2","Pohár Českého Ráje 2022 - Klub",{"$f":"VLOOKUP(F261,Soutez!A:B,2,FALSE)","v":"CZ"},{"$f":"VLOOKUP(F261,Soutez!A:C,3,FALSE)","v":2022},13,596,0,2849,0,null,null,"Terej","TB",{"$f":"IF(ISERROR(VLOOKUP(A261,Pilot,6,0)),\"Není v databázi\",VLOOKUP(A261,Pilot,6,0))","v":""}]
["Dusan Patocka",1972,"M","Vrchlabí","CZ/C2","Pohár Českého Ráje 2022 - Klub",{"$f":"VLOOKUP(F262,Soutez!A:B,2,FALSE)","v":"CZ"},{"$f":"VLOOKUP(F262,Soutez!A:C,3,FALSE)","v":2022},14,118,0,845,0,null,null,"VT-116 Orlik 2",116,""]
["Jiri Pixa",1968,"M","Slaný","CZ/C1","Pohár Českého Ráje 2022 - Klub",{"$f":"VLOOKUP(F263,Soutez!A:B,2,FALSE)","v":"CZ"},{"$f":"VLOOKUP(F263,Soutez!A:C,3,FALSE)","v":2022},15,45,0,370,0,null,null,"VSO-10","G9",""]
["Pavel Kyzivat",1973,"M","Zbraslavice","CZ/C1","Pohár Českého Ráje 2022 - Klub",{"$f":"VLOOKUP(F264,Soutez!A:B,2,FALSE)","v":"CZ"},{"$f":"VLOOKUP(F264,Soutez!A:C,3,FALSE)","v":2022},16,0,0,0,0,null,null,"ASW-19","PM",""]
["Radek Bartos",1971,"M","Kolín","CZ/C1","Pohár Českého Ráje 2022 - Klub",{"$f":"VLOOKUP(F265,Soutez!A:B,2,FALSE)","v":"CZ"},{"$f":"VLOOKUP(F265,Soutez!A:C,3,FALSE)","v":2022},16,0,0,0,0,null,null,"DG-300 -525 kg","DG",""]
["David Riha",1983,"M",{"$f":"VLOOKUP(A266,Pilot,3,0)","v":"Vlašim"},{"$f":"VLOOKUP(A266,Pilot,4,0)","v":"CZ/C1"},"Ranský pohár 2022 - Klub",{"$f":"VLOOKUP(F266,Soutez!A:B,2,FALSE)","v":"CZ"},{"$f":"VLOOKUP(F266,Soutez!A:C,3,FALSE)","v":2022},1,3996,0,{"$f":"ROUND(J266/MAX($J$266:$J$286)*10000*0.7+(MAX($I$266:$I$286)-I266)/(MAX($I$266:$I$286)-1)*10000*0.3,0)","v":10000},{"$f":"ROUND(K266*L266,0)","v":0},null,null,"ASW 15 B","XE",""]
["Petr Benes",1980,"M","Raná","CZ/C2","Ranský pohár 2022 - Klub",{"$f":"VLOOKUP(F267,Soutez!A:B,2,FALSE)","v":"CZ"},{"$f":"VLOOKUP(F267,Soutez!A:C,3,FALSE)","v":2022},2,3882,0,9650,{"$f":"ROUND(K267*L267,0)","v":0},null,null,"Std. Cirrus","EX",""]
["David Sachl",1978,"M","Kralupy","CZ/C1","Ranský pohár 2022 - Klub",{"$f":"VLOOKUP(F268,Soutez!A:B,2,FALSE)","v":"CZ"},{"$f":"VLOOKUP(F268,Soutez!A:C,3,FALSE)","v":2022},3,3838,0,9423,0,null,null,"DG 300 WL","BK",""]
["Marek Svancara",1976,"M","GAC Benešov","CZ/C1","Ranský pohár 2022 - Klub",{"$f":"VLOOKUP(F269,Soutez!A:B,2,FALSE)","v":"CZ"},{"$f":"VLOOKUP(F269,Soutez!A:C,3,FALSE)","v":2022},4,3493,0,8669,0,null,null,"Std. Cirrus","GT",""]
["Daniel Devecka",1981,"M","Vlašim","CZ/C1","Ranský pohár 2022 - Klub",{"$f":"VLOOKUP(F270,Soutez!A:B,2,FALSE)","v":"CZ"},{"$f":"VLOOKUP(F270,Soutez!A:C,3,FALSE)","v":2022},5,3446,0,8437,0,null,null,"LS 3a","2G",""]
["Jan Sustr 76",1976,"M","Raná","CZ/C2","Ranský pohár 2022 - Klub",{"$f":"VLOOKUP(F271,Soutez!A:B,2,FALSE)","v":"CZ"},{"$f":"VLOOKUP(F271,Soutez!A:C,3,FALSE)","v":2022},6,3343,{"$f":"VLOOKUP(F271,Soutez,12,0)","v":0},8106,0,null,null,"DG 300","WL",""]
["Jan Smaha",1958,"M","Česká Lípa","CZ/C2","Ranský pohár 2022 - Klub",{"$f":"VLOOKUP(F272,Soutez!A:B,2,FALSE)","v":"CZ"},{"$f":"VLOOKUP(F272,Soutez!A:C,3,FALSE)","v":2022},7,3302,0,7884,0,null,null,"ASW 15 B","CW",""]
["Pavel Derda",1952,"M","Dvůr Králové","CZ/C2","Ranský pohár 2022 - Klub",{"$f":"VLOOKUP(F273,Soutez!A:B,2,FALSE)","v":"CZ"},{"$f":"VLOOKUP(F273,Soutez!A:C,3,FALSE)","v":2022},8,2994,0,7195,0,null,null,"Cirrus/Cirrus VTC 17.74","VE",""]
["Dalibor Pek",1968,"M","Raná","CZ/C2","Ranský pohár 2022 - Klub",{"$f":"VLOOKUP(F274,Soutez!A:B,2,FALSE)","v":"CZ"},{"$f":"VLOOKUP(F274,Soutez!A:C,3,FALSE)","v":2022},9,2890,0,6863,0,null,null,"Std. Cirrus","GP",""]
["Krystof Mimra",1992,"M","Most","CZ/C2","Ranský pohár 2022 - Klub",{"$f":"VLOOKUP(F275,Soutez!A:B,2,FALSE)","v":"CZ"},{"$f":"VLOOKUP(F275,Soutez!A:C,3,FALSE)","v":2022},10,2879,0,6693,0,null,null,"VSO-10",51,""]
["Martin Fric",1967,"M","Raná","CZ/C2","Ranský pohár 2022 - Klub",{"$f":"VLOOKUP(F276,Soutez!A:B,2,FALSE)","v":"CZ"},{"$f":"VLOOKUP(F276,Soutez!A:C,3,FALSE)","v":2022},11,2763,0,6340,0,null,null,"DG 100","E2",""]
["Jaromir Hendrych",1954,"M","Raná","CZ/C2","Ranský pohár 2022 - Klub",{"$f":"VLOOKUP(F277,Soutez!A:B,2,FALSE)","v":"CZ"},{"$f":"VLOOKUP(F277,Soutez!A:C,3,FALSE)","v":2022},12,2714,0,6104,0,null,null,"M-35",36,""]
["Tomas Mezera",1973,"M","Raná","CZ/C2","Ranský pohár 2022 - Klub",{"$f":"VLOOKUP(F278,Soutez!A:B,2,FALSE)","v":"CZ"},{"$f":"VLOOKUP(F278,Soutez!A:C,3,FALSE)","v":2022},13,2558,0,5681,{"$f":"ROUND(K278*L278,0)","v":0},null,null,"VSO-10",59,""]
["Jaromir Vlk",1959,"M","Šumperk","CZ/M","Ranský pohár 2022 - Klub",{"$f":"VLOOKUP(F279,Soutez!A:B,2,FALSE)","v":"CZ"},{"$f":"VLOOKUP(F279,Soutez!A:C,3,FALSE)","v":2022},14,2451,0,5344,0,null,null,"ASW 15 B","R5",""]
["Vojtech Kostejn",1974,"M","Česká Lípa","CZ/C2","Ranský pohár 2022 - Klub",{"$f":"VLOOKUP(F280,Soutez!A:B,2,FALSE)","v":"CZ"},{"$f":"VLOOKUP(F280,Soutez!A:C,3,FALSE)","v":2022},15,2353,0,5022,0,null,null,"ASW 15 B","I",""]
["Petr Herold",1970,"M","Vlašim","CZ/C1","Ranský pohár 2022 - Klub",{"$f":"VLOOKUP(F281,Soutez!A:B,2,FALSE)","v":"CZ"},{"$f":"VLOOKUP(F281,Soutez!A:C,3,FALSE)","v":2022},16,2294,0,4769,0,null,null,"VSO-10",77,""]
["Sarka Lochova",1966,"F","Šumperk","CZ/M","Ranský pohár 2022 - Klub",{"$f":"VLOOKUP(F282,Soutez!A:B,2,FALSE)","v":"CZ"},{"$f":"VLOOKUP(F282,Soutez!A:C,3,FALSE)","v":2022},17,2085,0,4252,0,null,null,"M-35",35,""]
["Eva Klapkova",1993,"F","Raná","CZ/C2","Ranský pohár 2022 - Klub",{"$f":"VLOOKUP(F283,Soutez!A:B,2,FALSE)","v":"CZ"},{"$f":"VLOOKUP(F283,Soutez!A:C,3,FALSE)","v":2022},18,1801,0,3605,0,null,null,"ASW 15","TZ",""]
["Jana Mezerova",1975,"F","Raná","CZ/C2","Ranský pohár 2022 - Klub",{"$f":"VLOOKUP(F284,Soutez!A:B,2,FALSE)","v":"CZ"},{"$f":"VLOOKUP(F284,Soutez!A:C,3,FALSE)","v":2022},19,1555,0,3024,0,null,null,"LS 1-0","AL",""]
["Stanislav Vrabec",1975,"M","Česká Lípa","CZ/C2","Ranský pohár 2022 - Klub",{"$f":"VLOOKUP(F285,Soutez!A:B,2,FALSE)","v":"CZ"},{"$f":"VLOOKUP(F285,Soutez!A:C,3,FALSE)","v":2022},20,1204,0,2259,0,null,null,"Std. Cirrus","CV",""]
["Petr Gryc",1949,"M","Medlánky","CZ/M","Ranský pohár 2022 - Klub",{"$f":"VLOOKUP(F286,Soutez!A:B,2,FALSE)","v":"CZ"},{"$f":"VLOOKUP(F286,Soutez!A:C,3,FALSE)","v":2022},21,74,0,130,0,null,null,"Std. Cirrus",11,""]
["Jiri Maier 99",1999,"M",{"$f":"VLOOKUP(A287,Pilot,3,0)","v":"Raná"},{"$f":"VLOOKUP(A287,Pilot,4,0)","v":"CZ/C2"},"Ranský pohár 2022 - Kombi",{"$f":"VLOOKUP(F287,Soutez!A:B,2,FALSE)","v":"CZ"},{"$f":"VLOOKUP(F287,Soutez!A:C,3,FALSE)","v":2022},1,4558,0,{"$f":"ROUND(J287/MAX($J$287:$J$293)*10000*0.7+(MAX($I$287:$I$293)-I287)/(MAX($I$287:$I$293)-1)*10000*0.3,0)","v":10000},{"$f":"ROUND(K287*L287,0)","v":0},null,null,"Discus bT WL","TAL",""]
["Jiri Maier 66",1966,"M","Raná","CZ/C2","Ranský pohár 2022 - Kombi",{"$f":"VLOOKUP(F288,Soutez!A:B,2,FALSE)","v":"CZ"},{"$f":"VLOOKUP(F288,Soutez!A:C,3,FALSE)","v":2022},2,4487,0,9391,{"$f":"ROUND(K288*L288,0)","v":0},null,null,"ASW 24E WL","JM",""]
["Jaroslav Vancata",1985,"M","Raná","CZ/C2","Ranský pohár 2022 - Kombi",{"$f":"VLOOKUP(F289,Soutez!A:B,2,FALSE)","v":"CZ"},{"$f":"VLOOKUP(F289,Soutez!A:C,3,FALSE)","v":2022},3,3870,0,7943,0,null,null,"LS 7 WL","2B",""]
["Radovan Otto",1968,"M","Ústí nad Labem","CZ/C2","Ranský pohár 2022 - Kombi",{"$f":"VLOOKUP(F290,Soutez!A:B,2,FALSE)","v":"CZ"},{"$f":"VLOOKUP(F290,Soutez!A:C,3,FALSE)","v":2022},4,3635,0,7082,0,null,null,"HPH 304MS Shark 18m","XX",""]
["Petr Lonsky",1965,"M","Toužim","CZ/C1","Ranský pohár 2022 - Kombi",{"$f":"VLOOKUP(F291,Soutez!A:B,2,FALSE)","v":"CZ"},{"$f":"VLOOKUP(F291,Soutez!A:C,3,FALSE)","v":2022},5,3344,0,6136,{"$f":"ROUND(K291*L291,0)","v":0},null,null,"Cirrus/Cirrus VTC 17.74","JP",""]
["Michal Hemrle",1974,"M","Česká Lípa","CZ/C2","Ranský pohár 2022 - Kombi",{"$f":"VLOOKUP(F292,Soutez!A:B,2,FALSE)","v":"CZ"},{"$f":"VLOOKUP(F292,Soutez!A:C,3,FALSE)","v":2022},6,2953,0,5035,0,null,null,"ASG 29Es 18m","ET",""]
["Tomas Novak",1974,"M","Česká Lípa","CZ/C2","Ranský pohár 2022 - Kombi",{"$f":"VLOOKUP(F293,Soutez!A:B,2,FALSE)","v":"CZ"},{"$f":"VLOOKUP(F293,Soutez!A:C,3,FALSE)","v":2022},7,360,0,553,0,null,null,"Ventus c 17.6m","XF",""]
["Wolfgang Sluka",1942,"M",{"$f":"VLOOKUP(A294,Pilot,3,0)","v":"Liberec"},{"$f":"VLOOKUP(A294,Pilot,4,0)","v":"CZ/C2"},"Safari 2022 - Duo",{"$f":"VLOOKUP(F294,Soutez!A:B,2,FALSE)","v":"CZ"},{"$f":"VLOOKUP(F294,Soutez!A:C,3,FALSE)","v":2022},1,1460,0,{"$f":"ROUND(J294/MAX($J$294:$J$302)*10000*0.7+(MAX($I$294:$I$302)-I294)/(MAX($I$294:$I$302)-1)*10000*0.3,0)","v":10000},{"$f":"ROUND(K294*L294,0)","v":0},null,null,"L-13 Blanik dvoji",13,""]
["Jan Sindelar",1946,"M","Kunovice","CZ/M","Safari 2022 - Duo",{"$f":"VLOOKUP(F295,Soutez!A:B,2,FALSE)","v":"CZ"},{"$f":"VLOOKUP(F295,Soutez!A:C,3,FALSE)","v":2022},2,1271,0,8719,{"$f":"ROUND(K295*L295,0)","v":0},null,null,"L-13 Blanik dvoji",4,""]
["Jiri Obst",1964,"M","Vrchlabí","CZ/C2","Safari 2022 - Duo",{"$f":"VLOOKUP(F296,Soutez!A:B,2,FALSE)","v":"CZ"},{"$f":"VLOOKUP(F296,Soutez!A:C,3,FALSE)","v":2022},3,1171,0,7864,0,null,null,"L-13 Blanik dvoji","AY",""]
["Vladimir Prihoda",1953,"M","Kralupy","CZ/C1","Safari 2022 - Duo",{"$f":"VLOOKUP(F297,Soutez!A:B,2,FALSE)","v":"CZ"},{"$f":"VLOOKUP(F297,Soutez!A:C,3,FALSE)","v":2022},4,1034,0,6833,0,null,null,"L-23 Super Blanik dvoji","I",""]
["Petr Hybner",1951,"M","Liberec","CZ/C2","Safari 2022 - Duo",{"$f":"VLOOKUP(F298,Soutez!A:B,2,FALSE)","v":"CZ"},{"$f":"VLOOKUP(F298,Soutez!A:C,3,FALSE)","v":2022},5,822,0,5441,0,null,null,"L-23 Super Blanik dvoji",23,""]
["Michal Richter",1983,"M","Kolín","CZ/C1","Safari 2022 - Duo",{"$f":"VLOOKUP(F299,Soutez!A:B,2,FALSE)","v":"CZ"},{"$f":"VLOOKUP(F299,Soutez!A:C,3,FALSE)","v":2022},6,569,0,3853,0,null,null,"L-13 Blaník dvoji","FI",""]
["Martin Sehnoutka",1970,"M","Dvůr Králové","CZ/C2","Safari 2022 - Duo",{"$f":"VLOOKUP(F300,Soutez!A:B,2,FALSE)","v":"CZ"},{"$f":"VLOOKUP(F300,Soutez!A:C,3,FALSE)","v":2022},7,563,0,3449,0,null,null,"L-13 Blanik dvoji","ET",""]
["Jiri Tomicek",1947,"M","Dvůr Králové","CZ/C2","Safari 2022 - Duo",{"$f":"VLOOKUP(F301,Soutez!A:B,2,FALSE)","v":"CZ"},{"$f":"VLOOKUP(F301,Soutez!A:C,3,FALSE)","v":2022},8,545,0,2988,{"$f":"ROUND(K301*L301,0)","v":0},null,null,"L-23 Super Blanik dvoji","T",""]
["Josef Andrasovsky",{"$f":"VLOOKUP(A302,Pilot,2,0)","v":1954},{"$f":"VLOOKUP(A302,Pilot,5,0)","v":"M"},"Jaroměř","CZ/C2","Safari 2022 - Duo",{"$f":"VLOOKUP(F302,Soutez!A:B,2,FALSE)","v":"CZ"},{"$f":"VLOOKUP(F302,Soutez!A:C,3,FALSE)","v":2022},9,73,0,350,0,null,null,"L-13 Blanik dvoji","SG1",""]
["Milan Dvorak",1965,"M",{"$f":"VLOOKUP(A303,Pilot,3,0)","v":"Liberec"},{"$f":"VLOOKUP(A303,Pilot,4,0)","v":"CZ/C2"},"Safari 2022 - Klub",{"$f":"VLOOKUP(F303,Soutez!A:B,2,FALSE)","v":"CZ"},{"$f":"VLOOKUP(F303,Soutez!A:C,3,FALSE)","v":2022},1,2996,0.755,{"$f":"ROUND(J303/MAX($J$303:$J$328)*10000*0.7+(MAX($I$303:$I$328)-I303)/(MAX($I$303:$I$328)-1)*10000*0.3,0)","v":10000},{"$f":"ROUND(K303*L303,0)","v":7550},"x",null,"HpH 304cz 15m","IH",""]
["Ondrej Teichman",1984,"M","Dvůr Králové","CZ/C2","Safari 2022 - Klub",{"$f":"VLOOKUP(F304,Soutez!A:B,2,FALSE)","v":"CZ"},{"$f":"VLOOKUP(F304,Soutez!A:C,3,FALSE)","v":2022},2,2837,0.755,9509,{"$f":"ROUND(K304*L304,0)","v":7179},"x",null,"Cirrus VTC","VTC",""]
["Jaroslav Sima",1972,"M","Chomutov","CZ/C2","Safari 2022 - Klub",{"$f":"VLOOKUP(F305,Soutez!A:B,2,FALSE)","v":"CZ"},{"$f":"VLOOKUP(F305,Soutez!A:C,3,FALSE)","v":2022},3,2665,0.755,8987,6785,"x",null,"G-104 Speed Astir II","V2",""]
["Martin Cicvarek",1966,"M","Liberec","CZ/C2","Safari 2022 - Klub",{"$f":"VLOOKUP(F306,Soutez!A:B,2,FALSE)","v":"CZ"},{"$f":"VLOOKUP(F306,Soutez!A:C,3,FALSE)","v":2022},4,2589,0.755,8689,6560,"x",null,"DG-400 15m","AC",{"$f":"IF(ISERROR(VLOOKUP(A306,Pilot,6,0)),\"Není v databázi\",VLOOKUP(A306,Pilot,6,0))","v":""}]
["Marek Kornec",1957,"M","Dvůr Králové","CZ/C2","Safari 2022 - Klub",{"$f":"VLOOKUP(F307,Soutez!A:B,2,FALSE)","v":"CZ"},{"$f":"VLOOKUP(F307,Soutez!A:C,3,FALSE)","v":2022},5,2537,0.755,8448,6378,"x",null,"Janus C (FG)","KSS",""]
["Petr Lonsky",1965,"M","Toužim","CZ/C1","Safari 2022 - Klub",{"$f":"VLOOKUP(F308,Soutez!A:B,2,FALSE)","v":"CZ"},{"$f":"VLOOKUP(F308,Soutez!A:C,3,FALSE)","v":2022},6,2432,0.755,8082,6102,"x",null,"Cirrus VTC","JP2",""]
["Jan Hybner",1977,"M","Liberec","CZ/C2","Safari 2022 - Klub",{"$f":"VLOOKUP(F309,Soutez!A:B,2,FALSE)","v":"CZ"},{"$f":"VLOOKUP(F309,Soutez!A:C,3,FALSE)","v":2022},7,2418,0.755,7930,5987,"x",null,"HpH 304cz 15m","LB",""]
["Pavel Derda",1952,"M","Dvůr Králové","CZ/C2","Safari 2022 - Klub",{"$f":"VLOOKUP(F310,Soutez!A:B,2,FALSE)","v":"CZ"},{"$f":"VLOOKUP(F310,Soutez!A:C,3,FALSE)","v":2022},8,2203,0.755,7307,5517,"x",null,"Cirrus VTC","VE",""]
["Renata Dabrowska",null,null,"Czestochowa / KSS",null,"Safari 2022 - Klub",{"$f":"VLOOKUP(F311,Soutez!A:B,2,FALSE)","v":"CZ"},{"$f":"VLOOKUP(F311,Soutez!A:C,3,FALSE)","v":2022},9,2191,0.755,7159,5405,null,null,"LS-4","V4","Není v databázi"]
["Szlachta & kopiloti",null,null,"KSS",null,"Safari 2022 - Klub",{"$f":"VLOOKUP(F312,Soutez!A:B,2,FALSE)","v":"CZ"},{"$f":"VLOOKUP(F312,Soutez!A:C,3,FALSE)","v":2022},10,1595,0.755,5647,4263,null,null,"SZD-54-2 Perkoz 20m dvojí","SZD","Není v databázi"]
["Lukas Hykl",1985,"M",{"$f":"VLOOKUP(A313,Pilot,3,0)","v":"Kolín"},{"$f":"VLOOKUP(A313,Pilot,4,0)","v":"CZ/C1"},"Safari 2022 - Klub",{"$f":"VLOOKUP(F313,Soutez!A:B,2,FALSE)","v":"CZ"},{"$f":"VLOOKUP(F313,Soutez!A:C,3,FALSE)","v":2022},11,1510,0.755,5328,4023,"x",null,"Discus b","LD",""]
["Karel Policky",1950,"M","Kolín","CZ/C1","Safari 2022 - Klub",{"$f":"VLOOKUP(F314,Soutez!A:B,2,FALSE)","v":"CZ"},{"$f":"VLOOKUP(F314,Soutez!A:C,3,FALSE)","v":2022},12,1437,0.755,5037,3803,"x",null,"VSO-10",3,""]
["Franciszek Mazur",null,null,"AZL",null,"Safari 2022 - Klub",{"$f":"VLOOKUP(F315,Soutez!A:B,2,FALSE)","v":"CZ"},{"$f":"VLOOKUP(F315,Soutez!A:C,3,FALSE)","v":2022},13,1432,0.755,4906,3704,null,null,"Pik-20B","TT","Není v databázi"]
["Martin Markl",1960,"M",{"$f":"VLOOKUP(A316,Pilot,3,0)","v":"Kolín"},{"$f":"VLOOKUP(A316,Pilot,4,0)","v":"CZ/C1"},"Safari 2022 - Klub",{"$f":"VLOOKUP(F316,Soutez!A:B,2,FALSE)","v":"CZ"},{"$f":"VLOOKUP(F316,Soutez!A:C,3,FALSE)","v":2022},14,1370,0.755,4641,3504,"x",null,"ASK-21 dvoji","AK",""]
["Vojtech Sehnal",1994,"M","Kolín","CZ/C1","Safari 2022 - Klub",{"$f":"VLOOKUP(F317,Soutez!A:B,2,FALSE)","v":"CZ"},{"$f":"VLOOKUP(F317,Soutez!A:C,3,FALSE)","v":2022},15,1363,0.755,4505,{"$f":"ROUND(K317*L317,0)","v":3401},"x",null,"DG-300","DG",""]
["Krzysztof Pienkowski",null,null,null,null,"Safari 2022 - Klub",{"$f":"VLOOKUP(F318,Soutez!A:B,2,FALSE)","v":"CZ"},{"$f":"VLOOKUP(F318,Soutez!A:C,3,FALSE)","v":2022},16,1120,0.755,3817,2882,null,null,"LS-4","KP","Není v databázi"]
["Karel Ertl",1939,"M",{"$f":"VLOOKUP(A319,Pilot,3,0)","v":"LK Břeclav"},{"$f":"VLOOKUP(A319,Pilot,4,0)","v":"CZ/M"},"Safari 2022 - Klub",{"$f":"VLOOKUP(F319,Soutez!A:B,2,FALSE)","v":"CZ"},{"$f":"VLOOKUP(F319,Soutez!A:C,3,FALSE)","v":2022},17,1074,0.755,3589,2710,"x",null,"TST-10M Atlas","KE",""]
["Martin Benesovsky",1975,"M","Kolín","CZ/C1","Safari 2022 - Klub",{"$f":"VLOOKUP(F320,Soutez!A:B,2,FALSE)","v":"CZ"},{"$f":"VLOOKUP(F320,Soutez!A:C,3,FALSE)","v":2022},18,786,0.755,2796,2111,"x",null,"G-104 Speed Astir IIb","M2",""]
["Leos Nosek",1958,"M","Křižanov","CZ/M","Safari 2022 - Klub",{"$f":"VLOOKUP(F321,Soutez!A:B,2,FALSE)","v":"CZ"},{"$f":"VLOOKUP(F321,Soutez!A:C,3,FALSE)","v":2022},19,778,0.755,2658,2007,"x",null,"G-104 Speed Astir IIb","LE",""]
["Jerzy Mikolajczyk",null,null,"AZM / KSS",null,"Safari 2022 - Klub",{"$f":"VLOOKUP(F322,Soutez!A:B,2,FALSE)","v":"CZ"},{"$f":"VLOOKUP(F322,Soutez!A:C,3,FALSE)","v":2022},20,493,0.755,1872,1413,null,null,"LS-4","YL","Není v databázi"]
["Ryszard Bendkowski",null,null,"Warszava",null,"Safari 2022 - Klub",{"$f":"VLOOKUP(F323,Soutez!A:B,2,FALSE)","v":"CZ"},{"$f":"VLOOKUP(F323,Soutez!A:C,3,FALSE)","v":2022},21,485,0.755,1733,1308,null,null,"SZD-41A Jantar Std.","Fili","Není v databázi"]
["Romuald Dorofiejczyk",null,null,"AJ / KSS",null,"Safari 2022 - Klub",{"$f":"VLOOKUP(F324,Soutez!A:B,2,FALSE)","v":"CZ"},{"$f":"VLOOKUP(F324,Soutez!A:C,3,FALSE)","v":2022},22,368,0.755,1340,1012,null,null,"DG-300","N5","Není v databázi"]
["Radek Bartos",1971,"M",{"$f":"VLOOKUP(A325,Pilot,3,0)","v":"Kolín"},{"$f":"VLOOKUP(A325,Pilot,4,0)","v":"CZ/C1"},"Safari 2022 - Klub",{"$f":"VLOOKUP(F325,Soutez!A:B,2,FALSE)","v":"CZ"},{"$f":"VLOOKUP(F325,Soutez!A:C,3,FALSE)","v":2022},23,218,0.755,869,656,"x",null,"DG-300","DG",""]
["Vaclav Sehnal",1962,"M","Kolín","CZ/C1","Safari 2022 - Klub",{"$f":"VLOOKUP(F326,Soutez!A:B,2,FALSE)","v":"CZ"},{"$f":"VLOOKUP(F326,Soutez!A:C,3,FALSE)","v":2022},24,72,0.755,408,308,null,null,"ASK-21 dvoji","AK",""]
["Milan Bado",1975,"M","Kolín","CZ/C1","Safari 2022 - Klub",{"$f":"VLOOKUP(F327,Soutez!A:B,2,FALSE)","v":"CZ"},{"$f":"VLOOKUP(F327,Soutez!A:C,3,FALSE)","v":2022},25,57,0.755,253,191,null,null,"SZD-48 Jantar std. 2 WL","VS",""]
["Vladislav Cadsky",1975,"M","Kolín","CZ/C1","Safari 2022 - Klub",{"$f":"VLOOKUP(F328,Soutez!A:B,2,FALSE)","v":"CZ"},{"$f":"VLOOKUP(F328,Soutez!A:C,3,FALSE)","v":2022},26,0,0.755,0,0,null,null,"G-102 Astir Jeans","VI",""]
["Jan Pazour",1979,"M",{"$f":"VLOOKUP(A329,Pilot,3,0)","v":"Dvůr Králové"},{"$f":"VLOOKUP(A329,Pilot,4,0)","v":"CZ/C2"},"Safari 2022 - Kombi",{"$f":"VLOOKUP(F329,Soutez!A:B,2,FALSE)","v":"CZ"},{"$f":"VLOOKUP(F329,Soutez!A:C,3,FALSE)","v":2022},1,3414,0.755,{"$f":"ROUND(J329/MAX($J$329:$J$338)*10000*0.7+(MAX($I$329:$I$338)-I329)/(MAX($I$329:$I$338)-1)*10000*0.3,0)","v":10000},{"$f":"ROUND(K329*L329,0)","v":7550},"x",null,"ASW-20 L +FL 16,6m","JP",""]
["Tomas Ditrt",1969,"M","Podhořany","CZ/C2","Safari 2022 - Kombi",{"$f":"VLOOKUP(F330,Soutez!A:B,2,FALSE)","v":"CZ"},{"$f":"VLOOKUP(F330,Soutez!A:C,3,FALSE)","v":2022},2,3310,0.755,9453,{"$f":"ROUND(K330*L330,0)","v":7137},"x",null,"HpH 304MS SHARK 18m","TDi",""]
["Ladislav Prokes",1954,"M","Vrchlabí","CZ/C2","Safari 2022 - Kombi",{"$f":"VLOOKUP(F331,Soutez!A:B,2,FALSE)","v":"CZ"},{"$f":"VLOOKUP(F331,Soutez!A:C,3,FALSE)","v":2022},3,3245,0.755,8987,6785,"x",null,"Discus b (voda)","VR",""]
["Jana Veprekova",1961,"F","Dvůr Králové","CZ/C2","Safari 2022 - Kombi",{"$f":"VLOOKUP(F332,Soutez!A:B,2,FALSE)","v":"CZ"},{"$f":"VLOOKUP(F332,Soutez!A:C,3,FALSE)","v":2022},4,3117,0.755,8391,6335,null,null,"LS-8-18 15m (voda)","W8",""]
["Zdenek Boruvka 54",1954,"M","Jičín","CZ/C2","Safari 2022 - Kombi",{"$f":"VLOOKUP(F333,Soutez!A:B,2,FALSE)","v":"CZ"},{"$f":"VLOOKUP(F333,Soutez!A:C,3,FALSE)","v":2022},5,2876,0.755,7564,{"$f":"ROUND(K333*L333,0)","v":5711},null,null,"LS 8-18 15m (voda)","ZB",""]
["Peter Janoska",null,null,null,null,"Safari 2022 - Kombi",{"$f":"VLOOKUP(F334,Soutez!A:B,2,FALSE)","v":"CZ"},{"$f":"VLOOKUP(F334,Soutez!A:C,3,FALSE)","v":2022},6,2769,0.755,7011,5293,null,null,"LS-6c 17,5m (voda)","N6","Není v databázi"]
["Milan Meisner",1961,"M",{"$f":"VLOOKUP(A335,Pilot,3,0)","v":"Dvůr Králové"},{"$f":"VLOOKUP(A335,Pilot,4,0)","v":"CZ/C2"},"Safari 2022 - Kombi",{"$f":"VLOOKUP(F335,Soutez!A:B,2,FALSE)","v":"CZ"},{"$f":"VLOOKUP(F335,Soutez!A:C,3,FALSE)","v":2022},7,2293,{"$f":"VLOOKUP(F335,Soutez,12,0)","v":0.755},5702,4305,"x",null,"Ventus c 17,6m (voda)","VV",""]
["Slavomir Tanglmajer",1966,"M","Chomutov","CZ/C2","Safari 2022 - Kombi",{"$f":"VLOOKUP(F336,Soutez!A:B,2,FALSE)","v":"CZ"},{"$f":"VLOOKUP(F336,Soutez!A:C,3,FALSE)","v":2022},8,2292,0.755,5366,4051,"x",null,"DG 400 17m","ST",""]
["Petr Omelka",1970,"M","Vyškov","CZ/M","Safari 2022 - Kombi",{"$f":"VLOOKUP(F337,Soutez!A:B,2,FALSE)","v":"CZ"},{"$f":"VLOOKUP(F337,Soutez!A:C,3,FALSE)","v":2022},9,906,0.755,2191,1654,null,null,"DG-400 17m","MR",""]
["Jiri Veprek",1959,"M","Dvůr Králové","CZ/C2","Safari 2022 - Kombi",{"$f":"VLOOKUP(F338,Soutez!A:B,2,FALSE)","v":"CZ"},{"$f":"VLOOKUP(F338,Soutez!A:C,3,FALSE)","v":2022},10,860,0.755,1763,1331,"x",null,"HpH 304cz 17,4m (voda)","KN",""]
["Jaroslav Tomana",1975,"M",{"$f":"VLOOKUP(A339,Pilot,3,0)","v":"Zbraslavice"},{"$f":"VLOOKUP(A339,Pilot,4,0)","v":"CZ/C1"},"Toužim Cup 2022 - Klub",{"$f":"VLOOKUP(F339,Soutez!A:B,2,FALSE)","v":"CZ"},{"$f":"VLOOKUP(F339,Soutez!A:C,3,FALSE)","v":2022},1,3652,0.91500000000000004,{"$f":"ROUND(J339/MAX($J$339:$J$364)*10000*0.7+(MAX($I$339:$I$364)-I339)/(MAX($I$339:$I$364)-1)*10000*0.3,0)","v":10000},{"$f":"ROUND(K339*L339,0)","v":9150},null,null,"Centrair C-101BC Pegase","RT",""]
["Jan Viskot",1995,"M",{"$f":"VLOOKUP(A340,Pilot,3,0)","v":"Břeclav"},{"$f":"VLOOKUP(A340,Pilot,4,0)","v":"CZ/M"},"Toužim Cup 2022 - Klub",{"$f":"VLOOKUP(F340,Soutez!A:B,2,FALSE)","v":"CZ"},{"$f":"VLOOKUP(F340,Soutez!A:C,3,FALSE)","v":2022},2,3315,0.91500000000000004,9234,{"$f":"ROUND(K340*L340,0)","v":8449},"x",null,"Std. Cirrus","W",""]
["Roman Jokl",1979,"M","Letkov","CZ/C1","Toužim Cup 2022 - Klub",{"$f":"VLOOKUP(F341,Soutez!A:B,2,FALSE)","v":"CZ"},{"$f":"VLOOKUP(F341,Soutez!A:C,3,FALSE)","v":2022},3,3254,0.91500000000000004,8997,8232,"x",null,"ASW-19","JL",""]
["Hana Treslova",1991,"F","Raná","CZ/C2","Toužim Cup 2022 - Klub",{"$f":"VLOOKUP(F342,Soutez!A:B,2,FALSE)","v":"CZ"},{"$f":"VLOOKUP(F342,Soutez!A:C,3,FALSE)","v":2022},4,3251,0.91500000000000004,8871,8117,null,null,"Std. Cirrus","WY",""]
["Martin Zahalka",1987,"M","Staňkov","CZ/C1","Toužim Cup 2022 - Klub",{"$f":"VLOOKUP(F343,Soutez!A:B,2,FALSE)","v":"CZ"},{"$f":"VLOOKUP(F343,Soutez!A:C,3,FALSE)","v":2022},5,3147,0.91500000000000004,8552,7825,"x",null,"DG-100","8B",""]
["Vit Prokop",1987,"M","Medlánky","CZ/M","Toužim Cup 2022 - Klub",{"$f":"VLOOKUP(F344,Soutez!A:B,2,FALSE)","v":"CZ"},{"$f":"VLOOKUP(F344,Soutez!A:C,3,FALSE)","v":2022},6,3104,0.91500000000000004,8350,7640,"x",null,"Std. Cirrus","MF",""]
["Tomas Talanda",1988,"M","Křižanov","CZ/M","Toužim Cup 2022 - Klub",{"$f":"VLOOKUP(F345,Soutez!A:B,2,FALSE)","v":"CZ"},{"$f":"VLOOKUP(F345,Soutez!A:C,3,FALSE)","v":2022},7,3078,0.91500000000000004,8180,7485,"x",null,"ASW-19B","DS",""]
["Jiri Vondracek",1989,"M","Kladno","CZ/C1","Toužim Cup 2022 - Klub",{"$f":"VLOOKUP(F346,Soutez!A:B,2,FALSE)","v":"CZ"},{"$f":"VLOOKUP(F346,Soutez!A:C,3,FALSE)","v":2022},8,3000,0.91500000000000004,7910,7238,"x",null,"ASW-15B","2P",""]
["Daniel Dvorak",1980,"M","Letkov","CZ/C1","Toužim Cup 2022 - Klub",{"$f":"VLOOKUP(F347,Soutez!A:B,2,FALSE)","v":"CZ"},{"$f":"VLOOKUP(F347,Soutez!A:C,3,FALSE)","v":2022},9,2933,0.91500000000000004,7662,7011,"x",null,"Std. Cirrus","LD",""]
["Jiri Prochazka",1971,"M","Toužim","CZ/C1","Toužim Cup 2022 - Klub",{"$f":"VLOOKUP(F348,Soutez!A:B,2,FALSE)","v":"CZ"},{"$f":"VLOOKUP(F348,Soutez!A:C,3,FALSE)","v":2022},10,2903,0.91500000000000004,7484,{"$f":"ROUND(K348*L348,0)","v":6848},"x",null,"Janus CM","J59",""]
["Ivan Harasta 65",1965,"M","Toužim","CZ/C1","Toužim Cup 2022 - Klub",{"$f":"VLOOKUP(F349,Soutez!A:B,2,FALSE)","v":"CZ"},{"$f":"VLOOKUP(F349,Soutez!A:C,3,FALSE)","v":2022},11,2801,0.91500000000000004,7169,6560,null,null,"LS-1d","CL",""]
["Martin Fric",1967,"M","Raná","CZ/C2","Toužim Cup 2022 - Klub",{"$f":"VLOOKUP(F350,Soutez!A:B,2,FALSE)","v":"CZ"},{"$f":"VLOOKUP(F350,Soutez!A:C,3,FALSE)","v":2022},12,2694,0.91500000000000004,6844,6262,"x",null,"DG-100","E2",""]
["Jiri Fousek",1990,"M","Raná","CZ/C2","Toužim Cup 2022 - Klub",{"$f":"VLOOKUP(F351,Soutez!A:B,2,FALSE)","v":"CZ"},{"$f":"VLOOKUP(F351,Soutez!A:C,3,FALSE)","v":2022},13,2651,0.91500000000000004,6641,6077,"x",null,"Std. Cirrus","LW",""]
["Michal Drab",1969,"M","Letkov","CZ/C1","Toužim Cup 2022 - Klub",{"$f":"VLOOKUP(F352,Soutez!A:B,2,FALSE)","v":"CZ"},{"$f":"VLOOKUP(F352,Soutez!A:C,3,FALSE)","v":2022},14,2387,0.91500000000000004,6015,5504,"x",null,"LS-1c","S3",""]
["Michal Cupak",{"$f":"VLOOKUP(A353,Pilot,2,0)","v":1991},{"$f":"VLOOKUP(A353,Pilot,5,0)","v":"M"},"Medlánky","CZ/M","Toužim Cup 2022 - Klub",{"$f":"VLOOKUP(F353,Soutez!A:B,2,FALSE)","v":"CZ"},{"$f":"VLOOKUP(F353,Soutez!A:C,3,FALSE)","v":2022},15,2229,0.91500000000000004,5592,5117,null,null,"Std. Cirrus","A7",""]
["Josef Kreutzer",1992,"M","Letkov","CZ/C1","Toužim Cup 2022 - Klub",{"$f":"VLOOKUP(F354,Soutez!A:B,2,FALSE)","v":"CZ"},{"$f":"VLOOKUP(F354,Soutez!A:C,3,FALSE)","v":2022},16,2044,0.91500000000000004,5118,4683,"x",null,"Std. Cirrus","AL",""]
["Jan Sustr 76",1976,"M","Raná","CZ/C2","Toužim Cup 2022 - Klub",{"$f":"VLOOKUP(F355,Soutez!A:B,2,FALSE)","v":"CZ"},{"$f":"VLOOKUP(F355,Soutez!A:C,3,FALSE)","v":2022},17,1937,0.91500000000000004,4793,4386,"x",null,"DG-300 WL","WL",""]
["Jiri Cincera",1966,"M","Toužim","CZ/C1","Toužim Cup 2022 - Klub",{"$f":"VLOOKUP(F356,Soutez!A:B,2,FALSE)","v":"CZ"},{"$f":"VLOOKUP(F356,Soutez!A:C,3,FALSE)","v":2022},18,1780,0.91500000000000004,4372,4000,"x",null,"ASW-15B","TT",""]
["Tomas Seifert",1972,"M","Raná","CZ/C2","Toužim Cup 2022 - Klub",{"$f":"VLOOKUP(F357,Soutez!A:B,2,FALSE)","v":"CZ"},{"$f":"VLOOKUP(F357,Soutez!A:C,3,FALSE)","v":2022},19,1749,0.91500000000000004,4192,3836,"x",null,"ASW-15B","MC",""]
["Martin Valenta",1969,"M","Toužim","CZ/C1","Toužim Cup 2022 - Klub",{"$f":"VLOOKUP(F358,Soutez!A:B,2,FALSE)","v":"CZ"},{"$f":"VLOOKUP(F358,Soutez!A:C,3,FALSE)","v":2022},20,1405,0.91500000000000004,3413,3123,"x",null,"LS-1c","P2",""]
["Tomas Jung",1950,"M","Zbraslavice","CZ/C1","Toužim Cup 2022 - Klub",{"$f":"VLOOKUP(F359,Soutez!A:B,2,FALSE)","v":"CZ"},{"$f":"VLOOKUP(F359,Soutez!A:C,3,FALSE)","v":2022},21,1064,0.91500000000000004,2639,2415,"x",null,"ASW-19B","O2",""]
["Jaroslav Hot",1965,"M","Toužim","CZ/C1","Toužim Cup 2022 - Klub",{"$f":"VLOOKUP(F360,Soutez!A:B,2,FALSE)","v":"CZ"},{"$f":"VLOOKUP(F360,Soutez!A:C,3,FALSE)","v":2022},22,1009,0.91500000000000004,2414,2209,"x",null,"Pik-20D","HJ",""]
["Petr Cernicky",1974,"M","Toužim","CZ/C1","Toužim Cup 2022 - Klub",{"$f":"VLOOKUP(F361,Soutez!A:B,2,FALSE)","v":"CZ"},{"$f":"VLOOKUP(F361,Soutez!A:C,3,FALSE)","v":2022},23,760,0.91500000000000004,1817,1663,"x",null,"G-102 Astir cs","LS",{"$f":"IF(ISERROR(VLOOKUP(A361,Pilot,6,0)),\"Není v databázi\",VLOOKUP(A361,Pilot,6,0))","v":""}]
["Rudolf Jung",1954,"M","Zbraslavice","CZ/C1","Toužim Cup 2022 - Klub",{"$f":"VLOOKUP(F362,Soutez!A:B,2,FALSE)","v":"CZ"},{"$f":"VLOOKUP(F362,Soutez!A:C,3,FALSE)","v":2022},24,480,0.91500000000000004,1160,1061,"x",null,"G-103 Twin III dvojí (pevný podvozek)","TO",""]
["Frantisek Brozman",1960,"M","Tachov","CZ/C1","Toužim Cup 2022 - Klub",{"$f":"VLOOKUP(F363,Soutez!A:B,2,FALSE)","v":"CZ"},{"$f":"VLOOKUP(F363,Soutez!A:C,3,FALSE)","v":2022},25,402,0.91500000000000004,891,815,"x",null,"L-13 Blaník","L13",""]
["Vaclav Halek",1966,"M","Toužim","CZ/C1","Toužim Cup 2022 - Klub",{"$f":"VLOOKUP(F364,Soutez!A:B,2,FALSE)","v":"CZ"},{"$f":"VLOOKUP(F364,Soutez!A:C,3,FALSE)","v":2022},26,170,0.91500000000000004,326,298,"x",null,"Std. Cirrus","IYD",""]
["Michaela Rendlova",2004,"F",{"$f":"VLOOKUP(A365,Pilot,3,0)","v":"Toužim"},{"$f":"VLOOKUP(A365,Pilot,4,0)","v":"CZ/C1"},"Toužim Cup 2022 - Kombi",{"$f":"VLOOKUP(F365,Soutez!A:B,2,FALSE)","v":"CZ"},{"$f":"VLOOKUP(F365,Soutez!A:C,3,FALSE)","v":2022},1,3194,0.91,{"$f":"ROUND(J365/MAX($J$365:$J$390)*10000*0.7+(MAX($I$365:$I$390)-I365)/(MAX($I$365:$I$390)-1)*10000*0.3,0)","v":10000},{"$f":"ROUND(K365*L365,0)","v":9100},"x","x","AS 33 Es /18m","EA","Junior v roce 2025"]
["Pavel Jiranek",1993,"M","Toužim","CZ/C1","Toužim Cup 2022 - Kombi",{"$f":"VLOOKUP(F366,Soutez!A:B,2,FALSE)","v":"CZ"},{"$f":"VLOOKUP(F366,Soutez!A:C,3,FALSE)","v":2022},2,3126,0.91,9731,{"$f":"ROUND(K366*L366,0)","v":8855},null,null,"Ventus c /17,6m","CS",""]
["Petr Tichy",1973,"M","Zbraslavice","CZ/C1","Toužim Cup 2022 - Kombi",{"$f":"VLOOKUP(F367,Soutez!A:B,2,FALSE)","v":"CZ"},{"$f":"VLOOKUP(F367,Soutez!A:C,3,FALSE)","v":2022},3,3012,0.91,9361,8519,null,null,"ASG-29E /18m","AJ",""]
["Karel Benisek 76",1976,"M","Toužim","CZ/C1","Toužim Cup 2022 - Kombi",{"$f":"VLOOKUP(F368,Soutez!A:B,2,FALSE)","v":"CZ"},{"$f":"VLOOKUP(F368,Soutez!A:C,3,FALSE)","v":2022},3,3012,0.91,9361,8519,"x",null,"Ventus ct /17,6m","KB",""]
["Petr Hotovy",1958,"M","Česká Lípa","CZ/C2","Toužim Cup 2022 - Kombi",{"$f":"VLOOKUP(F369,Soutez!A:B,2,FALSE)","v":"CZ"},{"$f":"VLOOKUP(F369,Soutez!A:C,3,FALSE)","v":2022},5,2931,0.91,8944,8139,null,null,"JS1-BTJ 18","IGC",""]
["Vratislav Sram",1966,"M","Broumov","CZ/C2","Toužim Cup 2022 - Kombi",{"$f":"VLOOKUP(F370,Soutez!A:B,2,FALSE)","v":"CZ"},{"$f":"VLOOKUP(F370,Soutez!A:C,3,FALSE)","v":2022},6,2806,0.91,8550,7781,"x",null,"Nimbus 2M WL","NB",""]
["Tomas Rendla",1973,"M","Zbraslavice","CZ/C1","Toužim Cup 2022 - Kombi",{"$f":"VLOOKUP(F371,Soutez!A:B,2,FALSE)","v":"CZ"},{"$f":"VLOOKUP(F371,Soutez!A:C,3,FALSE)","v":2022},7,2600,0.91,7978,7260,null,null,"Arcus M","EY",""]
["Roman Lanzendorf",1964,"M","Letkov","CZ/C1","Toužim Cup 2022 - Kombi",{"$f":"VLOOKUP(F372,Soutez!A:B,2,FALSE)","v":"CZ"},{"$f":"VLOOKUP(F372,Soutez!A:C,3,FALSE)","v":2022},8,2555,0.91,7760,7062,"x",null,"Duo Discus T (700kg)","ZS",""]
["Lubomir Motl",1959,"M","Kyjov","CZ/M","Toužim Cup 2022 - Kombi",{"$f":"VLOOKUP(F373,Soutez!A:B,2,FALSE)","v":"CZ"},{"$f":"VLOOKUP(F373,Soutez!A:C,3,FALSE)","v":2022},9,2523,0.91,7569,6888,null,null,"Nimbus 4DM","AM",""]
["Michal Cechmanek",1978,"M","Kroměříž","CZ/M","Toužim Cup 2022 - Kombi",{"$f":"VLOOKUP(F374,Soutez!A:B,2,FALSE)","v":"CZ"},{"$f":"VLOOKUP(F374,Soutez!A:C,3,FALSE)","v":2022},10,2492,0.91,7381,6717,null,null,"ASW-20 L +FL /16,6m","MK",""]
["Frantisek Myska",1968,"M","Most","CZ/C2","Toužim Cup 2022 - Kombi",{"$f":"VLOOKUP(F375,Soutez!A:B,2,FALSE)","v":"CZ"},{"$f":"VLOOKUP(F375,Soutez!A:C,3,FALSE)","v":2022},11,2475,0.91,7224,6574,"x",null,"Ventus bt /16,6m","SK",""]
["Radim Hahn",1972,"M","Zábřeh","CZ/M","Toužim Cup 2022 - Kombi",{"$f":"VLOOKUP(F376,Soutez!A:B,2,FALSE)","v":"CZ"},{"$f":"VLOOKUP(F376,Soutez!A:C,3,FALSE)","v":2022},12,2224,0.91,6554,5964,"x",null,"Ventus 3M - 18m","I3",""]
["Tomas Profeld",1964,"M","Jičín","CZ/C2","Toužim Cup 2022 - Kombi",{"$f":"VLOOKUP(F377,Soutez!A:B,2,FALSE)","v":"CZ"},{"$f":"VLOOKUP(F377,Soutez!A:C,3,FALSE)","v":2022},13,2220,0.91,6425,5847,"x",null,"Ventus 2cm /18m 525 kg","OZ",""]
["Ondrej Dupal",1966,"M","GAC Benešov","CZ/C1","Toužim Cup 2022 - Kombi",{"$f":"VLOOKUP(F378,Soutez!A:B,2,FALSE)","v":"CZ"},{"$f":"VLOOKUP(F378,Soutez!A:C,3,FALSE)","v":2022},14,2217,0.91,6299,5732,null,null,"ASG-29E /18m","GO",""]
["Zdenek Schenk",1972,"M","Hranice","CZ/M","Toužim Cup 2022 - Kombi",{"$f":"VLOOKUP(F379,Soutez!A:B,2,FALSE)","v":"CZ"},{"$f":"VLOOKUP(F379,Soutez!A:C,3,FALSE)","v":2022},15,2171,0.91,6078,{"$f":"ROUND(K379*L379,0)","v":5531},null,null,"Ventus cm /17,6m","SNK",""]
["Karl Schiffleithner",null,null,"SFC Tulln","AT","Toužim Cup 2022 - Kombi",{"$f":"VLOOKUP(F380,Soutez!A:B,2,FALSE)","v":"CZ"},{"$f":"VLOOKUP(F380,Soutez!A:C,3,FALSE)","v":2022},16,2102,0.91,5807,5284,null,null,"Ventus 2cxt /18m -600 kg","IX","Není v databázi"]
["Jana Treslova",1963,"F",{"$f":"VLOOKUP(A381,Pilot,3,0)","v":"Raná"},{"$f":"VLOOKUP(A381,Pilot,4,0)","v":"CZ/C2"},"Toužim Cup 2022 - Kombi",{"$f":"VLOOKUP(F381,Soutez!A:B,2,FALSE)","v":"CZ"},{"$f":"VLOOKUP(F381,Soutez!A:C,3,FALSE)","v":2022},17,2031,0.91,5531,5033,null,null,"Discus 2a /15m","GX",""]
["Petr Jiranek 63",1962,"M","Toužim","CZ/C1","Toužim Cup 2022 - Kombi",{"$f":"VLOOKUP(F382,Soutez!A:B,2,FALSE)","v":"CZ"},{"$f":"VLOOKUP(F382,Soutez!A:C,3,FALSE)","v":2022},18,1928,0.91,5185,4718,null,null,"Ventus ct /17,6m","EB",""]
["Olga Mokosova",1970,"F","Jihlava","CZ/M","Toužim Cup 2022 - Kombi",{"$f":"VLOOKUP(F383,Soutez!A:B,2,FALSE)","v":"CZ"},{"$f":"VLOOKUP(F383,Soutez!A:C,3,FALSE)","v":2022},19,1879,0.91,4958,4512,"x","x","LS-6c /18m WL","MM",""]
["David Zapletal",1970,"M","Mladá Boleslav","CZ/C1","Toužim Cup 2022 - Kombi",{"$f":"VLOOKUP(F384,Soutez!A:B,2,FALSE)","v":"CZ"},{"$f":"VLOOKUP(F384,Soutez!A:C,3,FALSE)","v":2022},20,1842,0.91,4757,4329,null,null,"Ventus c /17,6m","PUP",""]
["Vaclav Svoboda",1970,"M","Letkov","CZ/C1","Toužim Cup 2022 - Kombi",{"$f":"VLOOKUP(F385,Soutez!A:B,2,FALSE)","v":"CZ"},{"$f":"VLOOKUP(F385,Soutez!A:C,3,FALSE)","v":2022},21,1587,0.91,4078,3711,"x",null,"LS-8-18 /18m",301,""]
["Jan Zanda",1983,"M","Letkov","CZ/C1","Toužim Cup 2022 - Kombi",{"$f":"VLOOKUP(F386,Soutez!A:B,2,FALSE)","v":"CZ"},{"$f":"VLOOKUP(F386,Soutez!A:C,3,FALSE)","v":2022},22,1527,0.91,3827,3483,"x",null,"Duo Discus (700 kg)","DL",""]
["Karel Krobath",null,null,"FRA","AT","Toužim Cup 2022 - Kombi",{"$f":"VLOOKUP(F387,Soutez!A:B,2,FALSE)","v":"CZ"},{"$f":"VLOOKUP(F387,Soutez!A:C,3,FALSE)","v":2022},23,1494,0.91,3634,3307,null,null,"HpH 304 TS Twin Shark S","Q","Není v databázi"]
["Roman Michalek",1974,"M",{"$f":"VLOOKUP(A388,Pilot,3,0)","v":"Toužim"},{"$f":"VLOOKUP(A388,Pilot,4,0)","v":"CZ/C1"},"Toužim Cup 2022 - Kombi",{"$f":"VLOOKUP(F388,Soutez!A:B,2,FALSE)","v":"CZ"},{"$f":"VLOOKUP(F388,Soutez!A:C,3,FALSE)","v":2022},24,1395,0.91,3297,3000,"x",null,"DG-400 17m","TK",""]
["Ludek Kluger",1963,"M","Tábor","CZ/C1","Toužim Cup 2022 - Kombi",{"$f":"VLOOKUP(F389,Soutez!A:B,2,FALSE)","v":"CZ"},{"$f":"VLOOKUP(F389,Soutez!A:C,3,FALSE)","v":2022},25,630,0.91,1501,1366,"x",null,"HpH 304 TS Twin Shark S","LK",""]
["Frantisek Kriz",1961,"M","Toužim","CZ/C1","Toužim Cup 2022 - Kombi",{"$f":"VLOOKUP(F390,Soutez!A:B,2,FALSE)","v":"CZ"},{"$f":"VLOOKUP(F390,Soutez!A:C,3,FALSE)","v":2022},26,590,0.91,1293,1177,"x",null,"DG-400 17m","FK",""]
["Frantisek Vancura",1966,"M",{"$f":"VLOOKUP(A391,Pilot,3,0)","v":"Hranice"},{"$f":"VLOOKUP(A391,Pilot,4,0)","v":"CZ/M"},"FL 2022 - Kombi",{"$f":"VLOOKUP(F391,Soutez!A:B,2,FALSE)","v":"CZ"},{"$f":"VLOOKUP(F391,Soutez!A:C,3,FALSE)","v":2022},1,1283,0.73499999999999999,{"$f":"ROUND(J391/MAX($J$391:$J$405)*10000*0.7+(MAX($I$391:$I$405)-I391)/(MAX($I$391:$I$405)-1)*10000*0.3,0)","v":10000},{"$f":"ROUND(K391*L391,0)","v":7350},null,null,"Nimbus 3T 24.5m","A1",""]
["Martin Suchy",1969,"M","Hranice","CZ/M","FL 2022 - Kombi",{"$f":"VLOOKUP(F392,Soutez!A:B,2,FALSE)","v":"CZ"},{"$f":"VLOOKUP(F392,Soutez!A:C,3,FALSE)","v":2022},2,1232,0.73499999999999999,9507,{"$f":"ROUND(K392*L392,0)","v":6988},"x",null,"DG 500M 22m","T1",""]
["Michal Buryan",1977,"M","Vysoké Mýto","CZ/C2","FL 2022 - Kombi",{"$f":"VLOOKUP(F393,Soutez!A:B,2,FALSE)","v":"CZ"},{"$f":"VLOOKUP(F393,Soutez!A:C,3,FALSE)","v":2022},3,1098,0.73499999999999999,8562,6293,"x",null,"duo discus",777,""]
["Milos Matejka",1956,"M","Beroun","CZ/C1","FL 2022 - Kombi",{"$f":"VLOOKUP(F394,Soutez!A:B,2,FALSE)","v":"CZ"},{"$f":"VLOOKUP(F394,Soutez!A:C,3,FALSE)","v":2022},4,1095,0.73499999999999999,8331,6123,"x",null,"Discus b WL","SH",""]
["Lumir Motyka",1955,"M","Frýdlant","CZ/M","FL 2022 - Kombi",{"$f":"VLOOKUP(F395,Soutez!A:B,2,FALSE)","v":"CZ"},{"$f":"VLOOKUP(F395,Soutez!A:C,3,FALSE)","v":2022},5,1068,0.73499999999999999,7970,5858,null,null,"LAK-12","DE",""]
["Lukas Benedikt",null,null,"AK Trnava","SK","FL 2022 - Kombi",{"$f":"VLOOKUP(F396,Soutez!A:B,2,FALSE)","v":"CZ"},{"$f":"VLOOKUP(F396,Soutez!A:C,3,FALSE)","v":2022},6,863,0.73499999999999999,6637,4878,null,null,"Ventus 3F 18m","LB","Není v databázi"]
["Jaroslav Buryan",1953,"M",{"$f":"VLOOKUP(A397,Pilot,3,0)","v":"Zábřeh"},{"$f":"VLOOKUP(A397,Pilot,4,0)","v":"CZ/M"},"FL 2022 - Kombi",{"$f":"VLOOKUP(F397,Soutez!A:B,2,FALSE)","v":"CZ"},{"$f":"VLOOKUP(F397,Soutez!A:C,3,FALSE)","v":2022},7,800,0.73499999999999999,6079,4468,null,null,"ASW 20 WL","NS",""]
["Vladimir Jirka",1965,"M","Zábřeh","CZ/M","FL 2022 - Kombi",{"$f":"VLOOKUP(F398,Soutez!A:B,2,FALSE)","v":"CZ"},{"$f":"VLOOKUP(F398,Soutez!A:C,3,FALSE)","v":2022},8,715,0.73499999999999999,5401,3970,"x",null,"HpH 304 TS Twin Shark",11,""]
["Antonin Kutalek",1943,"M","Zábřeh","CZ/M","FL 2022 - Kombi",{"$f":"VLOOKUP(F399,Soutez!A:B,2,FALSE)","v":"CZ"},{"$f":"VLOOKUP(F399,Soutez!A:C,3,FALSE)","v":2022},9,689,{"$f":"VLOOKUP(F399,Soutez,12,0)","v":0.73499999999999999},5045,{"$f":"ROUND(K399*L399,0)","v":3708},null,null,"LAK-17A T 18m","GL",""]
["Roman Cerny",1971,"M","Hranice","CZ/M","FL 2022 - Kombi",{"$f":"VLOOKUP(F400,Soutez!A:B,2,FALSE)","v":"CZ"},{"$f":"VLOOKUP(F400,Soutez!A:C,3,FALSE)","v":2022},9,689,0.73499999999999999,5045,3708,"x",null,"Nimbus 3 25.5m","RF",""]
["Martin Urban",1971,"M","Frýdlant","CZ/M","FL 2022 - Kombi",{"$f":"VLOOKUP(F401,Soutez!A:B,2,FALSE)","v":"CZ"},{"$f":"VLOOKUP(F401,Soutez!A:C,3,FALSE)","v":2022},11,687,0.73499999999999999,4605,3385,null,null,"LS 3a","SJ",""]
["Jan Kristof",1962,"M","Frýdlant","CZ/M","FL 2022 - Kombi",{"$f":"VLOOKUP(F402,Soutez!A:B,2,FALSE)","v":"CZ"},{"$f":"VLOOKUP(F402,Soutez!A:C,3,FALSE)","v":2022},12,617,0.73499999999999999,4009,2947,"x",null,"LS 3","TX",""]
["Petr Brezina",1963,"M","Frýdlant","CZ/M","FL 2022 - Kombi",{"$f":"VLOOKUP(F403,Soutez!A:B,2,FALSE)","v":"CZ"},{"$f":"VLOOKUP(F403,Soutez!A:C,3,FALSE)","v":2022},13,553,0.73499999999999999,3446,2533,null,null,"DG 200","AK",""]
["Radim Hahn",1972,"M","Zábřeh","CZ/M","FL 2022 - Kombi",{"$f":"VLOOKUP(F404,Soutez!A:B,2,FALSE)","v":"CZ"},{"$f":"VLOOKUP(F404,Soutez!A:C,3,FALSE)","v":2022},14,519,0.73499999999999999,3046,2239,null,null,"Ventus 3M 18m","I3",""]
["Zdenek Schenk",1972,"M","Hranice","CZ/M","FL 2022 - Kombi",{"$f":"VLOOKUP(F405,Soutez!A:B,2,FALSE)","v":"CZ"},{"$f":"VLOOKUP(F405,Soutez!A:C,3,FALSE)","v":2022},15,424,0.73499999999999999,2313,1700,null,null,"Ventus cM 17.6m","ŠNeK",""]
["David Sachl",{"$f":"VLOOKUP(A406,Pilot,2,0)","v":1978},{"$f":"VLOOKUP(A406,Pilot,5,0)","v":"M"},{"$f":"VLOOKUP(A406,Pilot,3,0)","v":"Kralupy"},{"$f":"VLOOKUP(A406,Pilot,4,0)","v":"CZ/C1"},"Adrenalin GP 2022 - Klub GP",{"$f":"VLOOKUP(F406,Soutez!A:B,2,FALSE)","v":"CZ"},{"$f":"VLOOKUP(F406,Soutez!A:C,3,FALSE)","v":2022},1,26,0.9,{"$f":"ROUND((MAX($I$406:$I$417)-I406)/(MAX($I$406:$I$417)-1)*10000,0)","v":10000},{"$f":"ROUND(K406*L406,0)","v":9000},null,null,"DG-300 Club ELAN WL (450kg)","BK",""]
["Jan Mareth",1979,"M","Frýdlant","CZ/M","Adrenalin GP 2022 - Klub GP",{"$f":"VLOOKUP(F407,Soutez!A:B,2,FALSE)","v":"CZ"},{"$f":"VLOOKUP(F407,Soutez!A:C,3,FALSE)","v":2022},2,25,0.9,9091,{"$f":"ROUND(K407*L407,0)","v":8182},"x",null,"ASW 15 B","PA",""]
["Jan Sponer",1988,"M","Medlánky","CZ/M","Adrenalin GP 2022 - Klub GP",{"$f":"VLOOKUP(F408,Soutez!A:B,2,FALSE)","v":"CZ"},{"$f":"VLOOKUP(F408,Soutez!A:C,3,FALSE)","v":2022},3,13,0.9,8182,7364,"x",null,"Std. Cirrus","EX",""]
["Stepan Obrovsky",1990,"M","Frýdlant","CZ/M","Adrenalin GP 2022 - Klub GP",{"$f":"VLOOKUP(F409,Soutez!A:B,2,FALSE)","v":"CZ"},{"$f":"VLOOKUP(F409,Soutez!A:C,3,FALSE)","v":2022},4,11,0.9,7273,6546,null,null,"LS 1-f","JT",""]
["Pavel Foldyna",1976,"M","Frýdlant","CZ/M","Adrenalin GP 2022 - Klub GP",{"$f":"VLOOKUP(F410,Soutez!A:B,2,FALSE)","v":"CZ"},{"$f":"VLOOKUP(F410,Soutez!A:C,3,FALSE)","v":2022},5,8,0.9,6364,{"$f":"ROUND(K410*L410,0)","v":5728},"x",null,"g 102 Astir CS","BH",""]
["Rostislav Stryk",1972,"M","Frýdlant","CZ/M","Adrenalin GP 2022 - Klub GP",{"$f":"VLOOKUP(F411,Soutez!A:B,2,FALSE)","v":"CZ"},{"$f":"VLOOKUP(F411,Soutez!A:C,3,FALSE)","v":2022},6,7,0.9,5455,4910,null,null,"Std. Cirrus",22,""]
["Daniel Suchy",1995,"M","Hranice","CZ/M","Adrenalin GP 2022 - Klub GP",{"$f":"VLOOKUP(F412,Soutez!A:B,2,FALSE)","v":"CZ"},{"$f":"VLOOKUP(F412,Soutez!A:C,3,FALSE)","v":2022},7,6,0.9,4545,4091,"x",null,"g 102 Astir CS","W7",{"$f":"IF(ISERROR(VLOOKUP(A412,Pilot,6,0)),\"Není v databázi\",VLOOKUP(A412,Pilot,6,0))","v":""}]
["Radim Zielinski",1969,"M","Frýdlant","CZ/M","Adrenalin GP 2022 - Klub GP",{"$f":"VLOOKUP(F413,Soutez!A:B,2,FALSE)","v":"CZ"},{"$f":"VLOOKUP(F413,Soutez!A:C,3,FALSE)","v":2022},8,5,0.9,3636,3272,"x",null,"LS 1-f","EM",""]
["Jan Matejovsky",1972,"M","Hranice","CZ/M","Adrenalin GP 2022 - Klub GP",{"$f":"VLOOKUP(F414,Soutez!A:B,2,FALSE)","v":"CZ"},{"$f":"VLOOKUP(F414,Soutez!A:C,3,FALSE)","v":2022},9,4,0.9,2727,2454,"x",null,"Std. Cirrus","BY",""]
["Martin Svacina",1965,"M","Frýdlant","CZ/M","Adrenalin GP 2022 - Klub GP",{"$f":"VLOOKUP(F415,Soutez!A:B,2,FALSE)","v":"CZ"},{"$f":"VLOOKUP(F415,Soutez!A:C,3,FALSE)","v":2022},10,3,0.9,1818,1636,"x",null,"Std. Cirrus","E",""]
["Stanislav Doskocil",1978,"M","Medlánky","CZ/M","Adrenalin GP 2022 - Klub GP",{"$f":"VLOOKUP(F416,Soutez!A:B,2,FALSE)","v":"CZ"},{"$f":"VLOOKUP(F416,Soutez!A:C,3,FALSE)","v":2022},11,2,0.9,909,818,"x",null,"Std. Cirrus","SD",""]
["Lukas Kotek",1994,"M","Frýdlant","CZ/M","Adrenalin GP 2022 - Klub GP",{"$f":"VLOOKUP(F417,Soutez!A:B,2,FALSE)","v":"CZ"},{"$f":"VLOOKUP(F417,Soutez!A:C,3,FALSE)","v":2022},12,0,0.9,0,0,null,null,"vso-10","B6",""]
["Miroslav Mitrus",1972,"M",{"$f":"VLOOKUP(A418,Pilot,3,0)","v":"GAC Benešov"},{"$f":"VLOOKUP(A418,Pilot,4,0)","v":"CZ/C1"},"Ulfův memoriál",{"$f":"VLOOKUP(F418,Soutez!A:B,2,FALSE)","v":"CZ"},{"$f":"VLOOKUP(F418,Soutez!A:C,3,FALSE)","v":2022},1,436,0,{"$f":"ROUND(J418/MAX($J$418:$J$427)*10000*0.7+(MAX($I$418:$I$427)-I418)/(MAX($I$418:$I$427)-1)*10000*0.3,0)","v":10000},{"$f":"ROUND(K418*L418,0)","v":0},null,null,"VT-125 Sohaj",68,""]
["Michal Ondracek",1966,"M","Medlánky","CZ/M","Ulfův memoriál",{"$f":"VLOOKUP(F419,Soutez!A:B,2,FALSE)","v":"CZ"},{"$f":"VLOOKUP(F419,Soutez!A:C,3,FALSE)","v":2022},2,360,0,8446,{"$f":"ROUND(K419*L419,0)","v":0},null,null,"Ka 6 E","2W",""]
["piloti AK Nachod",null,null,null,null,"Ulfův memoriál",{"$f":"VLOOKUP(F420,Soutez!A:B,2,FALSE)","v":"CZ"},{"$f":"VLOOKUP(F420,Soutez!A:C,3,FALSE)","v":2022},3,343,0,7840,0,null,null,"Bergfalke IV","RZ2","Není v databázi"]
["Tomas Mezera",1973,"M","Raná","CZ/C2","Ulfův memoriál",{"$f":"VLOOKUP(F421,Soutez!A:B,2,FALSE)","v":"CZ"},{"$f":"VLOOKUP(F421,Soutez!A:C,3,FALSE)","v":2022},4,256,0,6110,0,null,null,"VT-425 Sohaj","T",""]
["Jiri Lenik",1947,"M","Raná","CZ/C2","Ulfův memoriál",{"$f":"VLOOKUP(F422,Soutez!A:B,2,FALSE)","v":"CZ"},{"$f":"VLOOKUP(F422,Soutez!A:C,3,FALSE)","v":2022},5,243,0,5568,0,null,null,"Skylark 2b","CRX",""]
["Jaromir Hendrych",1954,"M","Raná","CZ/C2","Ulfův memoriál",{"$f":"VLOOKUP(F423,Soutez!A:B,2,FALSE)","v":"CZ"},{"$f":"VLOOKUP(F423,Soutez!A:C,3,FALSE)","v":2022},6,235,0,5106,{"$f":"ROUND(K423*L423,0)","v":0},null,null,"VT-125 Sohaj",37,""]
["Vladimir Abraham",1962,"M","Raná","CZ/C2","Ulfův memoriál",{"$f":"VLOOKUP(F424,Soutez!A:B,2,FALSE)","v":"CZ"},{"$f":"VLOOKUP(F424,Soutez!A:C,3,FALSE)","v":2022},7,234,0,4757,0,null,null,"Ka 6","Y7",""]
["Sarka Lochova",1966,"F","Šumperk","CZ/M","Ulfův memoriál",{"$f":"VLOOKUP(F425,Soutez!A:B,2,FALSE)","v":"CZ"},{"$f":"VLOOKUP(F425,Soutez!A:C,3,FALSE)","v":2022},8,217,0,4151,0,null,null,"Ka 6",22,""]
["Zbynek Bican",1961,"M","Raná","CZ/C2","Ulfův memoriál",{"$f":"VLOOKUP(F426,Soutez!A:B,2,FALSE)","v":"CZ"},{"$f":"VLOOKUP(F426,Soutez!A:C,3,FALSE)","v":2022},9,157,0,2854,0,null,null,"LG-130","K",""]
["piloti AK Rana",null,null,null,null,"Ulfův memoriál",{"$f":"VLOOKUP(F427,Soutez!A:B,2,FALSE)","v":"CZ"},{"$f":"VLOOKUP(F427,Soutez!A:C,3,FALSE)","v":2022},10,104,0,1670,0,null,null,"Ka 8",78,"Není v databázi"]
["Michal Drab",1969,"M",{"$f":"VLOOKUP(A428,Pilot,3,0)","v":"Letkov"},{"$f":"VLOOKUP(A428,Pilot,4,0)","v":"CZ/C1"},"Podbrdský pohár",{"$f":"VLOOKUP(F428,Soutez!A:B,2,FALSE)","v":"CZ"},{"$f":"VLOOKUP(F428,Soutez!A:C,3,FALSE)","v":2022},1,2517,0,{"$f":"ROUND(J428/MAX($J$428:$J$447)*10000*0.7+(MAX($I$428:$I$447)-I428)/(MAX($I$428:$I$447)-1)*10000*0.3,0)","v":10000},{"$f":"ROUND(K428*L428,0)","v":0},null,null,"LS 1c","S3",""]
["Lubomir Svoboda",1959,"M","Letkov","CZ/C1","Podbrdský pohár",{"$f":"VLOOKUP(F429,Soutez!A:B,2,FALSE)","v":"CZ"},{"$f":"VLOOKUP(F429,Soutez!A:C,3,FALSE)","v":2022},2,1811,0,7860,{"$f":"ROUND(K429*L429,0)","v":0},null,null,"LAK 19,T 18m WL (voda)","LT",""]
["Vratislav Sram",1966,"M","Broumov","CZ/C2","Podbrdský pohár",{"$f":"VLOOKUP(F430,Soutez!A:B,2,FALSE)","v":"CZ"},{"$f":"VLOOKUP(F430,Soutez!A:C,3,FALSE)","v":2022},3,1778,0,7592,0,null,null,"Nimbus 4DM (voda)",7,""]
["Robin Stichenwirth",1984,"M","Letkov","CZ/C1","Podbrdský pohár",{"$f":"VLOOKUP(F431,Soutez!A:B,2,FALSE)","v":"CZ"},{"$f":"VLOOKUP(F431,Soutez!A:C,3,FALSE)","v":2022},4,1744,0,7321,0,null,null,"LS 1c","VY",""]
["Vaclav Svoboda",1970,"M","Letkov","CZ/C1","Podbrdský pohár",{"$f":"VLOOKUP(F432,Soutez!A:B,2,FALSE)","v":"CZ"},{"$f":"VLOOKUP(F432,Soutez!A:C,3,FALSE)","v":2022},5,1664,0,6922,0,null,null,"LS 8b,18 18m (voda)",301,""]
["Miroslav Koci",1961,"M","Žamberk","CZ/C2","Podbrdský pohár",{"$f":"VLOOKUP(F433,Soutez!A:B,2,FALSE)","v":"CZ"},{"$f":"VLOOKUP(F433,Soutez!A:C,3,FALSE)","v":2022},6,1525,0,6359,0,null,null,"Ventus 2cxm 18m 565kg (voda)","E8",""]
["Jan Muknsnabl",1992,"M","Letkov","CZ/C1","Podbrdský pohár",{"$f":"VLOOKUP(F434,Soutez!A:B,2,FALSE)","v":"CZ"},{"$f":"VLOOKUP(F434,Soutez!A:C,3,FALSE)","v":2022},7,1474,0,6041,0,null,null,"Std. Cirrus","SB",""]
["Roman Jokl",1979,"M","Letkov","CZ/C1","Podbrdský pohár",{"$f":"VLOOKUP(F435,Soutez!A:B,2,FALSE)","v":"CZ"},{"$f":"VLOOKUP(F435,Soutez!A:C,3,FALSE)","v":2022},8,1344,0,5502,0,null,null,"ASW-19B (voda)","JL",""]
["Milos Matejka",1956,"M","Beroun","CZ/C1","Podbrdský pohár",{"$f":"VLOOKUP(F436,Soutez!A:B,2,FALSE)","v":"CZ"},{"$f":"VLOOKUP(F436,Soutez!A:C,3,FALSE)","v":2022},9,1335,0,5301,0,null,null,"Discus b +W(voda)","SH",""]
["Daniel Dvorak",1980,"M","Letkov","CZ/C1","Podbrdský pohár",{"$f":"VLOOKUP(F437,Soutez!A:B,2,FALSE)","v":"CZ"},{"$f":"VLOOKUP(F437,Soutez!A:C,3,FALSE)","v":2022},10,1277,0,4963,0,null,null,"Std. Cirrus","LD",""]
["Petr Setka",1971,"M","Letkov","CZ/C1","Podbrdský pohár",{"$f":"VLOOKUP(F438,Soutez!A:B,2,FALSE)","v":"CZ"},{"$f":"VLOOKUP(F438,Soutez!A:C,3,FALSE)","v":2022},11,717,0,3229,{"$f":"ROUND(K438*L438,0)","v":0},null,null,"Ventus 2cxm 18m 565kg (voda)","RS",""]
["Marek Blatak",1969,"M","Šumperk","CZ/M","Podbrdský pohár",{"$f":"VLOOKUP(F439,Soutez!A:B,2,FALSE)","v":"CZ"},{"$f":"VLOOKUP(F439,Soutez!A:C,3,FALSE)","v":2022},12,378,0,2110,0,null,null,"DG-808 S Competition 18m+W (voda)","MS",""]
["Vaclav Hrdina",1984,"M","Letkov","CZ/C1","Podbrdský pohár",{"$f":"VLOOKUP(F440,Soutez!A:B,2,FALSE)","v":"CZ"},{"$f":"VLOOKUP(F440,Soutez!A:C,3,FALSE)","v":2022},13,309,0,1742,0,null,null,"LS 1c","AN",""]
["Lukas Nalos",1976,"M","Letkov","CZ/C1","Podbrdský pohár",{"$f":"VLOOKUP(F441,Soutez!A:B,2,FALSE)","v":"CZ"},{"$f":"VLOOKUP(F441,Soutez!A:C,3,FALSE)","v":2022},14,253,0,1409,0,null,null,"DG-300 (450 kg) (voda)","LN",""]
["Jan Zanda",1983,"M","Letkov","CZ/C1","Podbrdský pohár",{"$f":"VLOOKUP(F442,Soutez!A:B,2,FALSE)","v":"CZ"},{"$f":"VLOOKUP(F442,Soutez!A:C,3,FALSE)","v":2022},15,250,0,1225,0,null,null,"Std. Cirrus","AL",""]
["Petr Kolomaznik",1981,"M","Šumperk","CZ/M","Podbrdský pohár",{"$f":"VLOOKUP(F443,Soutez!A:B,2,FALSE)","v":"CZ"},{"$f":"VLOOKUP(F443,Soutez!A:C,3,FALSE)","v":2022},16,226,0,981,0,null,null,"Discus b +W(voda)","VE",""]
["Jiri Bartak",1978,"M","Letkov","CZ/C1","Podbrdský pohár",{"$f":"VLOOKUP(F444,Soutez!A:B,2,FALSE)","v":"CZ"},{"$f":"VLOOKUP(F444,Soutez!A:C,3,FALSE)","v":2022},17,19,0,229,0,null,null,"Std. Cirrus","SR",""]
["Lukas Koukal",1991,"M","Letkov","CZ/C1","Podbrdský pohár",{"$f":"VLOOKUP(F445,Soutez!A:B,2,FALSE)","v":"CZ"},{"$f":"VLOOKUP(F445,Soutez!A:C,3,FALSE)","v":2022},18,0,0,0,0,null,null,"ASW-15B","T1",""]
["Petr Bartak",1984,"M","Letkov","CZ/C1","Podbrdský pohár",{"$f":"VLOOKUP(F446,Soutez!A:B,2,FALSE)","v":"CZ"},{"$f":"VLOOKUP(F446,Soutez!A:C,3,FALSE)","v":2022},18,0,0,0,0,null,null,"LS 6c 18m+W (voda)","BL",""]
["Roman Lanzendorf",1964,"M","Letkov","CZ/C1","Podbrdský pohár",{"$f":"VLOOKUP(F447,Soutez!A:B,2,FALSE)","v":"CZ"},{"$f":"VLOOKUP(F447,Soutez!A:C,3,FALSE)","v":2022},18,0,0,0,0,null,null,"Ventus ct 17,6m (voda)","AW",""]
["Zdenek Boruvka 86",1986,"M",{"$f":"VLOOKUP(A448,Pilot,3,0)","v":"Jičín"},{"$f":"VLOOKUP(A448,Pilot,4,0)","v":"CZ/C2"},"AZ Cup 2022 - Klub",{"$f":"VLOOKUP(F448,Soutez!A:B,2,FALSE)","v":"CZ"},{"$f":"VLOOKUP(F448,Soutez!A:C,3,FALSE)","v":2022},1,4700,0.91500000000000004,{"$f":"ROUND(J448/MAX($J$448:$J$469)*10000*0.7+(MAX($I$448:$I$469)-I448)/(MAX($I$448:$I$469)-1)*10000*0.3,0)","v":10000},{"$f":"ROUND(K448*L448,0)","v":9150},"x",null,"STD. Cirrus","BJ",""]
["Eduard Niko",1988,"M","Zbraslavice","CZ/C1","AZ Cup 2022 - Klub",{"$f":"VLOOKUP(F449,Soutez!A:B,2,FALSE)","v":"CZ"},{"$f":"VLOOKUP(F449,Soutez!A:C,3,FALSE)","v":2022},2,4631,0.91500000000000004,9754,{"$f":"ROUND(K449*L449,0)","v":8925},"x",null,"ASW 20","EW",""]
["David Popovsky",1976,"M","Rakovník","CZ/C1","AZ Cup 2022 - Klub",{"$f":"VLOOKUP(F450,Soutez!A:B,2,FALSE)","v":"CZ"},{"$f":"VLOOKUP(F450,Soutez!A:C,3,FALSE)","v":2022},3,4440,0.91500000000000004,9327,8534,"x",null,"ASW 24",76,""]
["Jan Horak",1971,"M","Zbraslavice","CZ/C1","AZ Cup 2022 - Klub",{"$f":"VLOOKUP(F451,Soutez!A:B,2,FALSE)","v":"CZ"},{"$f":"VLOOKUP(F451,Soutez!A:C,3,FALSE)","v":2022},4,4374,0.91500000000000004,9086,8314,"x",null,"ASW 20 W","WX",""]
["Martin Urban",1971,"M","Frýdlant","CZ/M","AZ Cup 2022 - Klub",{"$f":"VLOOKUP(F452,Soutez!A:B,2,FALSE)","v":"CZ"},{"$f":"VLOOKUP(F452,Soutez!A:C,3,FALSE)","v":2022},5,4369,0.91500000000000004,8936,8176,"x",null,"LS-3a","SJ",""]
["Jakub Kmosek",{"$f":"VLOOKUP(A453,Pilot,2,0)","v":1978},{"$f":"VLOOKUP(A453,Pilot,5,0)","v":"M"},"Zbraslavice","CZ/C1","AZ Cup 2022 - Klub",{"$f":"VLOOKUP(F453,Soutez!A:B,2,FALSE)","v":"CZ"},{"$f":"VLOOKUP(F453,Soutez!A:C,3,FALSE)","v":2022},6,4029,0.91500000000000004,8286,7582,"x",null,"STD. Cirrus","ST",""]
["Petr Havelka",1997,"M","Zbraslavice","CZ/C1","AZ Cup 2022 - Klub",{"$f":"VLOOKUP(F454,Soutez!A:B,2,FALSE)","v":"CZ"},{"$f":"VLOOKUP(F454,Soutez!A:C,3,FALSE)","v":2022},7,3895,0.91500000000000004,7944,7269,null,null,"ASW 19","PH",""]
["Jakub Malik",1999,"M","Letňany","CZ/C1","AZ Cup 2022 - Klub",{"$f":"VLOOKUP(F455,Soutez!A:B,2,FALSE)","v":"CZ"},{"$f":"VLOOKUP(F455,Soutez!A:C,3,FALSE)","v":2022},8,3648,0.91500000000000004,7433,6801,"x",null,"Discus BW","DP",""]
["Tomas Malik",1972,"M","Letňany","CZ/C1","AZ Cup 2022 - Klub",{"$f":"VLOOKUP(F456,Soutez!A:B,2,FALSE)","v":"CZ"},{"$f":"VLOOKUP(F456,Soutez!A:C,3,FALSE)","v":2022},9,3570,0.91500000000000004,7174,6564,"x",null,"Discus B","LH",""]
["Jan Smekal",1976,"M","Zbraslavice","CZ/C1","AZ Cup 2022 - Klub",{"$f":"VLOOKUP(F457,Soutez!A:B,2,FALSE)","v":"CZ"},{"$f":"VLOOKUP(F457,Soutez!A:C,3,FALSE)","v":2022},10,3434,0.91500000000000004,6829,6249,"x",null,"ASW 20","NW",""]
["Jan Florian",1992,"M","Zbraslavice","CZ/C1","AZ Cup 2022 - Klub",{"$f":"VLOOKUP(F458,Soutez!A:B,2,FALSE)","v":"CZ"},{"$f":"VLOOKUP(F458,Soutez!A:C,3,FALSE)","v":2022},11,3413,0.91500000000000004,6655,6089,"x",null,"Std. cirrus","C1",""]
["Vaclav Sehnal",1962,"M","Kolín","CZ/C1","AZ Cup 2022 - Klub",{"$f":"VLOOKUP(F459,Soutez!A:B,2,FALSE)","v":"CZ"},{"$f":"VLOOKUP(F459,Soutez!A:C,3,FALSE)","v":2022},12,2942,0.91500000000000004,5810,5316,"x",null,"Jantar STD 2","VS",""]
["Jan Zahradka",1981,"M","Hodkovice","CZ/C2","AZ Cup 2022 - Klub",{"$f":"VLOOKUP(F460,Soutez!A:B,2,FALSE)","v":"CZ"},{"$f":"VLOOKUP(F460,Soutez!A:C,3,FALSE)","v":2022},13,2900,0.91500000000000004,5605,{"$f":"ROUND(K460*L460,0)","v":5129},"x",null,"STD. Cirrus","AR",""]
["Linda Vasatova",1990,"F","Mladá Boleslav","CZ/C1","AZ Cup 2022 - Klub",{"$f":"VLOOKUP(F461,Soutez!A:B,2,FALSE)","v":"CZ"},{"$f":"VLOOKUP(F461,Soutez!A:C,3,FALSE)","v":2022},14,2866,0.91500000000000004,5411,4951,"x","x","ASW 19","XS",{"$f":"IF(ISERROR(VLOOKUP(A461,Pilot,6,0)),\"Není v databázi\",VLOOKUP(A461,Pilot,6,0))","v":""}]
["David Sachl",1978,"M","Kralupy","CZ/C1","AZ Cup 2022 - Klub",{"$f":"VLOOKUP(F462,Soutez!A:B,2,FALSE)","v":"CZ"},{"$f":"VLOOKUP(F462,Soutez!A:C,3,FALSE)","v":2022},15,2627,0.91500000000000004,4913,4495,null,null,"DG-300 WL","BK",""]
["Ales Holoubek",1966,"M","Jičín","CZ/C2","AZ Cup 2022 - Klub",{"$f":"VLOOKUP(F463,Soutez!A:B,2,FALSE)","v":"CZ"},{"$f":"VLOOKUP(F463,Soutez!A:C,3,FALSE)","v":2022},16,2609,{"$f":"VLOOKUP(F463,Soutez,12,0)","v":0.91500000000000004},4743,4340,"x",null,"ASW 15B NG","T",""]
["Frantisek Pycha",1972,"M","Chrudim","CZ/C2","AZ Cup 2022 - Klub",{"$f":"VLOOKUP(F464,Soutez!A:B,2,FALSE)","v":"CZ"},{"$f":"VLOOKUP(F464,Soutez!A:C,3,FALSE)","v":2022},17,2331,0.91500000000000004,4186,3830,"x",null,"STD.Cirrus","JE",""]
["Frantisek Komarek",1985,"M","Zbraslavice","CZ/C1","AZ Cup 2022 - Klub",{"$f":"VLOOKUP(F465,Soutez!A:B,2,FALSE)","v":"CZ"},{"$f":"VLOOKUP(F465,Soutez!A:C,3,FALSE)","v":2022},18,2308,0.91500000000000004,4009,3668,"x",null,"ASW 19 B","PM",""]
["Petr Brezina",1963,"M","Frýdlant","CZ/M","AZ Cup 2022 - Klub",{"$f":"VLOOKUP(F466,Soutez!A:B,2,FALSE)","v":"CZ"},{"$f":"VLOOKUP(F466,Soutez!A:C,3,FALSE)","v":2022},19,2113,0.91500000000000004,3576,3272,"x",null,"DG 200","AK",""]
["Matous Schmidt",1981,"M","Letňany","CZ/C1","AZ Cup 2022 - Klub",{"$f":"VLOOKUP(F467,Soutez!A:B,2,FALSE)","v":"CZ"},{"$f":"VLOOKUP(F467,Soutez!A:C,3,FALSE)","v":2022},20,1927,0.91500000000000004,3156,2888,"x",null,"STD. Cirrus","IMI",""]
["Jiri Hodan",1959,"M","Zbraslavice","CZ/C1","AZ Cup 2022 - Klub",{"$f":"VLOOKUP(F468,Soutez!A:B,2,FALSE)","v":"CZ"},{"$f":"VLOOKUP(F468,Soutez!A:C,3,FALSE)","v":2022},21,1897,0.91500000000000004,2968,2716,"x",null,"G 103 dvojí","RB",""]
["Tomas Jung",1950,"M","Zbraslavice","CZ/C1","AZ Cup 2022 - Klub",{"$f":"VLOOKUP(F469,Soutez!A:B,2,FALSE)","v":"CZ"},{"$f":"VLOOKUP(F469,Soutez!A:C,3,FALSE)","v":2022},22,1299,0.91500000000000004,1935,1771,null,null,"ASW 19","O2",""]
["Martin Hrivna",1978,"M",{"$f":"VLOOKUP(A470,Pilot,3,0)","v":"Zbraslavice"},{"$f":"VLOOKUP(A470,Pilot,4,0)","v":"CZ/C1"},"AZ Cup 2022 - Kombi ",{"$f":"VLOOKUP(F470,Soutez!A:B,2,FALSE)","v":"CZ"},{"$f":"VLOOKUP(F470,Soutez!A:C,3,FALSE)","v":2022},1,4537,0.95500000000000007,{"$f":"ROUND(J470/MAX($J$470:$J$493)*10000*0.7+(MAX($I$470:$I$493)-I470)/(MAX($I$470:$I$493)-1)*10000*0.3,0)","v":10000},{"$f":"ROUND(K470*L470,0)","v":9550},"x",null,"ASG 29E-18M","NX",""]
["Petr Tichy",1973,"M","Zbraslavice","CZ/C1","AZ Cup 2022 - Kombi ",{"$f":"VLOOKUP(F471,Soutez!A:B,2,FALSE)","v":"CZ"},{"$f":"VLOOKUP(F471,Soutez!A:C,3,FALSE)","v":2022},2,4530,0.95500000000000007,9859,{"$f":"ROUND(K471*L471,0)","v":9415},null,null,"ASG 29 E 18m","AJ",""]
["Tomas Suchanek",1964,"M","GAC Benešov","CZ/C1","AZ Cup 2022 - Kombi ",{"$f":"VLOOKUP(F472,Soutez!A:B,2,FALSE)","v":"CZ"},{"$f":"VLOOKUP(F472,Soutez!A:C,3,FALSE)","v":2022},3,4493,0.95500000000000007,9671,9236,null,null,"Ventus C 17,6m","UP",""]
["Jan Kotan",1982,"M","Letňany","CZ/C1","AZ Cup 2022 - Kombi ",{"$f":"VLOOKUP(F473,Soutez!A:B,2,FALSE)","v":"CZ"},{"$f":"VLOOKUP(F473,Soutez!A:C,3,FALSE)","v":2022},4,4423,0.95500000000000007,9433,9009,null,null,"Ventus 2bx 15m","YA",""]
["Tomas Rendla",1973,"M","Zbraslavice","CZ/C1","AZ Cup 2022 - Kombi ",{"$f":"VLOOKUP(F474,Soutez!A:B,2,FALSE)","v":"CZ"},{"$f":"VLOOKUP(F474,Soutez!A:C,3,FALSE)","v":2022},5,4416,0.95500000000000007,9292,8874,null,null,"EB29R","EX",""]
["Radek Kucirek",1973,"M","Havlíčkův Brod","CZ/C2","AZ Cup 2022 - Kombi ",{"$f":"VLOOKUP(F475,Soutez!A:B,2,FALSE)","v":"CZ"},{"$f":"VLOOKUP(F475,Soutez!A:C,3,FALSE)","v":2022},6,4408,0.95500000000000007,9149,8737,null,null,"EB 28 Edition 28m","NA",""]
["Alena Netusilova",1970,"F","Zbraslavice","CZ/C1","AZ Cup 2022 - Kombi ",{"$f":"VLOOKUP(F476,Soutez!A:B,2,FALSE)","v":"CZ"},{"$f":"VLOOKUP(F476,Soutez!A:C,3,FALSE)","v":2022},7,4374,0.95500000000000007,8966,8563,null,null,"JS1 18","JX",""]
["Michaela Rendlova",2004,"F","Toužim","CZ/C1","AZ Cup 2022 - Kombi ",{"$f":"VLOOKUP(F477,Soutez!A:B,2,FALSE)","v":"CZ"},{"$f":"VLOOKUP(F477,Soutez!A:C,3,FALSE)","v":2022},8,4367,0.95500000000000007,8825,8428,null,null,"AS33 18m","EA","Junior v roce 2025"]
["Jan Dersak 69",1969,"M","Kralupy","CZ/C1","AZ Cup 2022 - Kombi ",{"$f":"VLOOKUP(F478,Soutez!A:B,2,FALSE)","v":"CZ"},{"$f":"VLOOKUP(F478,Soutez!A:C,3,FALSE)","v":2022},9,4014,0.95500000000000007,8150,7783,null,null,"HPH 304SJ","DJ",""]
["Karel Krobath",null,null,"FRA","AT","AZ Cup 2022 - Kombi ",{"$f":"VLOOKUP(F479,Soutez!A:B,2,FALSE)","v":"CZ"},{"$f":"VLOOKUP(F479,Soutez!A:C,3,FALSE)","v":2022},10,3893,0.95500000000000007,7832,7480,null,null,"HPH TWINSHARK","Q","Není v databázi"]
["Vratislav Sram",1966,"M",{"$f":"VLOOKUP(A480,Pilot,3,0)","v":"Broumov"},{"$f":"VLOOKUP(A480,Pilot,4,0)","v":"CZ/C2"},"AZ Cup 2022 - Kombi ",{"$f":"VLOOKUP(F480,Soutez!A:B,2,FALSE)","v":"CZ"},{"$f":"VLOOKUP(F480,Soutez!A:C,3,FALSE)","v":2022},11,3842,0.95500000000000007,7623,7280,null,null,"Nimbus 4DM",7,""]
["Ondrej Dupal",1966,"M","GAC Benešov","CZ/C1","AZ Cup 2022 - Kombi ",{"$f":"VLOOKUP(F481,Soutez!A:B,2,FALSE)","v":"CZ"},{"$f":"VLOOKUP(F481,Soutez!A:C,3,FALSE)","v":2022},12,3790,0.95500000000000007,7413,7079,null,null,"ASG 29 E 18m","GO",""]
["Karel Benisek 76",1976,"M","Toužim","CZ/C1","AZ Cup 2022 - Kombi ",{"$f":"VLOOKUP(F482,Soutez!A:B,2,FALSE)","v":"CZ"},{"$f":"VLOOKUP(F482,Soutez!A:C,3,FALSE)","v":2022},13,3683,0.95500000000000007,7117,6797,null,null,"VENTUS CT 17,6","KB",""]
["Pavel Jiranek",1993,"M","Toužim","CZ/C1","AZ Cup 2022 - Kombi ",{"$f":"VLOOKUP(F483,Soutez!A:B,2,FALSE)","v":"CZ"},{"$f":"VLOOKUP(F483,Soutez!A:C,3,FALSE)","v":2022},14,3566,0.95500000000000007,6806,6500,null,null,"VENTUS C 17,6m","CS",""]
["Petr Starek",1974,"M","Zbraslavice","CZ/C1","AZ Cup 2022 - Kombi ",{"$f":"VLOOKUP(F484,Soutez!A:B,2,FALSE)","v":"CZ"},{"$f":"VLOOKUP(F484,Soutez!A:C,3,FALSE)","v":2022},15,3495,0.95500000000000007,6566,6271,"x",null,"HPH 304 JS 18m",66,""]
["Danes Grula",1961,"M","Medlánky","CZ/M","AZ Cup 2022 - Kombi ",{"$f":"VLOOKUP(F485,Soutez!A:B,2,FALSE)","v":"CZ"},{"$f":"VLOOKUP(F485,Soutez!A:C,3,FALSE)","v":2022},16,3021,0.95500000000000007,5704,5447,"x",null,"ASG32MI","DX",""]
["Dusan Bernat",null,null,"Martin","SK","AZ Cup 2022 - Kombi ",{"$f":"VLOOKUP(F486,Soutez!A:B,2,FALSE)","v":"CZ"},{"$f":"VLOOKUP(F486,Soutez!A:C,3,FALSE)","v":2022},17,2987,0.95500000000000007,5522,{"$f":"ROUND(K486*L486,0)","v":5274},null,null,"DG-808B","JD","Není v databázi"]
["Petr Malcek",1965,"M",{"$f":"VLOOKUP(A487,Pilot,3,0)","v":"Letňany"},{"$f":"VLOOKUP(A487,Pilot,4,0)","v":"CZ/C1"},"AZ Cup 2022 - Kombi ",{"$f":"VLOOKUP(F487,Soutez!A:B,2,FALSE)","v":"CZ"},{"$f":"VLOOKUP(F487,Soutez!A:C,3,FALSE)","v":2022},18,2984,0.95500000000000007,5387,5145,null,null,"LS6C 18m","F5",""]
["Petr Jiranek 63",1962,"M","Toužim","CZ/C1","AZ Cup 2022 - Kombi ",{"$f":"VLOOKUP(F488,Soutez!A:B,2,FALSE)","v":"CZ"},{"$f":"VLOOKUP(F488,Soutez!A:C,3,FALSE)","v":2022},19,2902,0.95500000000000007,5130,4899,"x",null,"VENTUS CT 17.6m","EB",""]
["Zdenek Schenk",1972,"M","Hranice","CZ/M","AZ Cup 2022 - Kombi ",{"$f":"VLOOKUP(F489,Soutez!A:B,2,FALSE)","v":"CZ"},{"$f":"VLOOKUP(F489,Soutez!A:C,3,FALSE)","v":2022},20,2694,0.95500000000000007,4678,4467,null,null,"Ventus CM 17,6m","ŠNEK",""]
["Jaromir Jedlicka",1972,"M","Letňany","CZ/C1","AZ Cup 2022 - Kombi ",{"$f":"VLOOKUP(F490,Soutez!A:B,2,FALSE)","v":"CZ"},{"$f":"VLOOKUP(F490,Soutez!A:C,3,FALSE)","v":2022},21,2634,0.95500000000000007,4455,4255,"x",null,"SHARK 304MS","TJ",""]
["Ivo Burda",1962,"M","Zbraslavice","CZ/C1","AZ Cup 2022 - Kombi ",{"$f":"VLOOKUP(F491,Soutez!A:B,2,FALSE)","v":"CZ"},{"$f":"VLOOKUP(F491,Soutez!A:C,3,FALSE)","v":2022},22,2316,0.95500000000000007,3834,3661,"x",null,"VENTUS 2CXM","IB",""]
["Karl Schiffleithner",null,null,"SFC Tulin","AT","AZ Cup 2022 - Kombi ",{"$f":"VLOOKUP(F492,Soutez!A:B,2,FALSE)","v":"CZ"},{"$f":"VLOOKUP(F492,Soutez!A:C,3,FALSE)","v":2022},23,2002,0.95500000000000007,3219,3074,null,null,"Ventus 2CXT 18m","IX","Není v databázi"]
["Ivan Harasta 65",1965,"M",{"$f":"VLOOKUP(A493,Pilot,3,0)","v":"Toužim"},{"$f":"VLOOKUP(A493,Pilot,4,0)","v":"CZ/C1"},"AZ Cup 2022 - Kombi ",{"$f":"VLOOKUP(F493,Soutez!A:B,2,FALSE)","v":"CZ"},{"$f":"VLOOKUP(F493,Soutez!A:C,3,FALSE)","v":2022},24,1311,0.95500000000000007,2023,1932,null,null,"NIMBUS 2M","NB",""]
["Jindrich Svorc",1978,"M",{"$f":"VLOOKUP(A494,Pilot,3,0)","v":"Letňany"},{"$f":"VLOOKUP(A494,Pilot,4,0)","v":"CZ/C1"},"PPV 2022 - Klub",{"$f":"VLOOKUP(F494,Soutez!A:B,2,FALSE)","v":"CZ"},{"$f":"VLOOKUP(F494,Soutez!A:C,3,FALSE)","v":2022},1,2210,0.88500000000000001,{"$f":"ROUND(J494/MAX($J$494:$J$530)*10000*0.7+(MAX($I$494:$I$530)-I494)/(MAX($I$494:$I$530)-1)*10000*0.3,0)","v":10000},{"$f":"ROUND(K494*L494,0)","v":8850},"x",null,"std. cirrus","IMI",""]
["Petr Hofman",1984,"M","Letňany","CZ/C1","PPV 2022 - Klub",{"$f":"VLOOKUP(F495,Soutez!A:B,2,FALSE)","v":"CZ"},{"$f":"VLOOKUP(F495,Soutez!A:C,3,FALSE)","v":2022},2,2129,0.88500000000000001,9660,{"$f":"ROUND(K495*L495,0)","v":8549},"x",null,"asw 15 B","MA",""]
["Vaclav Marel",1974,"M","Jaroměř","CZ/C2","PPV 2022 - Klub",{"$f":"VLOOKUP(F496,Soutez!A:B,2,FALSE)","v":"CZ"},{"$f":"VLOOKUP(F496,Soutez!A:C,3,FALSE)","v":2022},3,1984,0.88500000000000001,9117,8069,"x",null,"Std. Cirrus","IF",""]
["Vojtech Hajek",1987,"M","Mladá Boleslav","CZ/C1","PPV 2022 - Klub",{"$f":"VLOOKUP(F497,Soutez!A:B,2,FALSE)","v":"CZ"},{"$f":"VLOOKUP(F497,Soutez!A:C,3,FALSE)","v":2022},4,1931,0.88500000000000001,8866,7846,"x",null,"Std. Cirrus","BB",""]
["Josef Kolman",1983,"M","Letňany","CZ/C1","PPV 2022 - Klub",{"$f":"VLOOKUP(F498,Soutez!A:B,2,FALSE)","v":"CZ"},{"$f":"VLOOKUP(F498,Soutez!A:C,3,FALSE)","v":2022},5,1930,0.88500000000000001,8780,7770,"x",null,"ASW 15 B","BA4",""]
["Radek Zima 75",1975,"M","Břeclav","CZ/M","PPV 2022 - Klub",{"$f":"VLOOKUP(F499,Soutez!A:B,2,FALSE)","v":"CZ"},{"$f":"VLOOKUP(F499,Soutez!A:C,3,FALSE)","v":2022},6,1922,0.88500000000000001,8671,7674,"x",null,"DG 100","M",""]
["Milan Svoboda 80",1980,"M","Havlíčkův Brod","CZ/C2","PPV 2022 - Klub",{"$f":"VLOOKUP(F500,Soutez!A:B,2,FALSE)","v":"CZ"},{"$f":"VLOOKUP(F500,Soutez!A:C,3,FALSE)","v":2022},7,1880,0.88500000000000001,8455,7483,"x",null,"VT-116 Orlik 2",46,""]
["Tomas Ptacovsky",1981,"M","Letňany","CZ/C1","PPV 2022 - Klub",{"$f":"VLOOKUP(F501,Soutez!A:B,2,FALSE)","v":"CZ"},{"$f":"VLOOKUP(F501,Soutez!A:C,3,FALSE)","v":2022},7,1880,0.88500000000000001,8455,7483,"x",null,"ASW 19 B","BU",""]
["Jiri Koudela",1974,"M","Vyškov","CZ/M","PPV 2022 - Klub",{"$f":"VLOOKUP(F502,Soutez!A:B,2,FALSE)","v":"CZ"},{"$f":"VLOOKUP(F502,Soutez!A:C,3,FALSE)","v":2022},9,1849,0.88500000000000001,8190,7248,"x",null,"ASW 19 B","JK",""]
["Martin Urner",1974,"M","Letňany","CZ/C1","PPV 2022 - Klub",{"$f":"VLOOKUP(F503,Soutez!A:B,2,FALSE)","v":"CZ"},{"$f":"VLOOKUP(F503,Soutez!A:C,3,FALSE)","v":2022},10,1840,0.88500000000000001,8078,7149,null,null,"ASW 15 B","JJ",""]
["David Vrchota",1976,"M","Jaroměř","CZ/C2","PPV 2022 - Klub",{"$f":"VLOOKUP(F504,Soutez!A:B,2,FALSE)","v":"CZ"},{"$f":"VLOOKUP(F504,Soutez!A:C,3,FALSE)","v":2022},11,1828,0.88500000000000001,7957,7042,null,null,"Std. Cirrus","GO",""]
["Miloslav Hulmak",1963,"M","Hosín","CZ/C1","PPV 2022 - Klub",{"$f":"VLOOKUP(F505,Soutez!A:B,2,FALSE)","v":"CZ"},{"$f":"VLOOKUP(F505,Soutez!A:C,3,FALSE)","v":2022},12,1792,0.88500000000000001,7759,6867,"x",null,"ASW 15 B","HH",""]
["Petr Rozhon",1972,"M","Hosín","CZ/C1","PPV 2022 - Klub",{"$f":"VLOOKUP(F506,Soutez!A:B,2,FALSE)","v":"CZ"},{"$f":"VLOOKUP(F506,Soutez!A:C,3,FALSE)","v":2022},13,1770,0.88500000000000001,7606,6731,"x",null,"VSO-10",9,""]
["Jakub Malik",1999,"M","Letňany","CZ/C1","PPV 2022 - Klub",{"$f":"VLOOKUP(F507,Soutez!A:B,2,FALSE)","v":"CZ"},{"$f":"VLOOKUP(F507,Soutez!A:C,3,FALSE)","v":2022},14,1673,0.88500000000000001,7216,6386,null,null,"Discus b WL","DP",""]
["David Tejnora",{"$f":"VLOOKUP(A508,Pilot,2,0)","v":1982},{"$f":"VLOOKUP(A508,Pilot,5,0)","v":"M"},"Jaroměř","CZ/C2","PPV 2022 - Klub",{"$f":"VLOOKUP(F508,Soutez!A:B,2,FALSE)","v":"CZ"},{"$f":"VLOOKUP(F508,Soutez!A:C,3,FALSE)","v":2022},15,1614,0.88500000000000001,6946,6147,"x",null,"Std. Cirrus",17,""]
["Frantisek Suna",1983,"M","Hosín","CZ/C1","PPV 2022 - Klub",{"$f":"VLOOKUP(F509,Soutez!A:B,2,FALSE)","v":"CZ"},{"$f":"VLOOKUP(F509,Soutez!A:C,3,FALSE)","v":2022},16,1608,0.88500000000000001,6843,6056,"x",null,"DG 100",78,""]
["Tomas Hulmak",1999,"M","Hosín","CZ/C1","PPV 2022 - Klub",{"$f":"VLOOKUP(F510,Soutez!A:B,2,FALSE)","v":"CZ"},{"$f":"VLOOKUP(F510,Soutez!A:C,3,FALSE)","v":2022},17,1560,0.88500000000000001,6608,5848,"x",null,"ASW 15 B","XI",""]
["Zdenek Boruvka 86",1986,"M","Jičín","CZ/C2","PPV 2022 - Klub",{"$f":"VLOOKUP(F511,Soutez!A:B,2,FALSE)","v":"CZ"},{"$f":"VLOOKUP(F511,Soutez!A:C,3,FALSE)","v":2022},18,1490,0.88500000000000001,6303,5578,null,null,"Std. Cirrus","BJ",""]
["Radoslav Pur",1973,"M","Hosín","CZ/C1","PPV 2022 - Klub",{"$f":"VLOOKUP(F512,Soutez!A:B,2,FALSE)","v":"CZ"},{"$f":"VLOOKUP(F512,Soutez!A:C,3,FALSE)","v":2022},19,1489,0.88500000000000001,6216,5501,"x",null,"DG 200","EK",""]
["Petr Malcek",1965,"M","Letňany","CZ/C1","PPV 2022 - Klub",{"$f":"VLOOKUP(F513,Soutez!A:B,2,FALSE)","v":"CZ"},{"$f":"VLOOKUP(F513,Soutez!A:C,3,FALSE)","v":2022},20,1468,0.88500000000000001,6066,5368,"x",null,"Discus b","LH",""]
["Michal Vranek",1993,"M","Hosín","CZ/C1","PPV 2022 - Klub",{"$f":"VLOOKUP(F514,Soutez!A:B,2,FALSE)","v":"CZ"},{"$f":"VLOOKUP(F514,Soutez!A:C,3,FALSE)","v":2022},21,1461,0.88500000000000001,5961,5275,"x",null,"DG 100","8W",""]
["Martin Piskacek",1991,"M","Křižanov","CZ/M","PPV 2022 - Klub",{"$f":"VLOOKUP(F515,Soutez!A:B,2,FALSE)","v":"CZ"},{"$f":"VLOOKUP(F515,Soutez!A:C,3,FALSE)","v":2022},22,1380,0.88500000000000001,5621,4975,"x",null,"Std. Cirrus",75,""]
["Pavel Liska",1965,"M","Roudnice","CZ/C2","PPV 2022 - Klub",{"$f":"VLOOKUP(F516,Soutez!A:B,2,FALSE)","v":"CZ"},{"$f":"VLOOKUP(F516,Soutez!A:C,3,FALSE)","v":2022},23,1360,0.88500000000000001,5474,{"$f":"ROUND(K516*L516,0)","v":4844},"x",null,"ASW 19 B","RCE",{"$f":"IF(ISERROR(VLOOKUP(A516,Pilot,6,0)),\"Není v databázi\",VLOOKUP(A516,Pilot,6,0))","v":""}]
["Filip Malik",2001,"M","Letňany","CZ/C1","PPV 2022 - Klub",{"$f":"VLOOKUP(F517,Soutez!A:B,2,FALSE)","v":"CZ"},{"$f":"VLOOKUP(F517,Soutez!A:C,3,FALSE)","v":2022},24,1268,0.88500000000000001,5100,4514,"x",null,"vso-10","L5","Junior v roce 2025"]
["Jan Zezula",1979,"M","Letňany","CZ/C1","PPV 2022 - Klub",{"$f":"VLOOKUP(F518,Soutez!A:B,2,FALSE)","v":"CZ"},{"$f":"VLOOKUP(F518,Soutez!A:C,3,FALSE)","v":2022},25,1234,0.88500000000000001,4909,4344,null,null,"ASW 19 B","HD",""]
["Petr Valenta 76",1976,"M","Jaroměř","CZ/C2","PPV 2022 - Klub",{"$f":"VLOOKUP(F519,Soutez!A:B,2,FALSE)","v":"CZ"},{"$f":"VLOOKUP(F519,Soutez!A:C,3,FALSE)","v":2022},26,1134,0.88500000000000001,4509,3990,"x",null,"Discus b","JA",""]
["Jiri Donat",1983,"M","Letňany","CZ/C1","PPV 2022 - Klub",{"$f":"VLOOKUP(F520,Soutez!A:B,2,FALSE)","v":"CZ"},{"$f":"VLOOKUP(F520,Soutez!A:C,3,FALSE)","v":2022},27,1028,0.88500000000000001,4089,3619,"x",null,"Std. Cirrus WL","JE",""]
["Jiri Janda",1966,"M","Letňany","CZ/C1","PPV 2022 - Klub",{"$f":"VLOOKUP(F521,Soutez!A:B,2,FALSE)","v":"CZ"},{"$f":"VLOOKUP(F521,Soutez!A:C,3,FALSE)","v":2022},28,925,0.88500000000000001,3680,3257,"x",null,"Std. Cirrus","ZT",""]
["Petr Sochor",1986,"M","Hosín","CZ/C1","PPV 2022 - Klub",{"$f":"VLOOKUP(F522,Soutez!A:B,2,FALSE)","v":"CZ"},{"$f":"VLOOKUP(F522,Soutez!A:C,3,FALSE)","v":2022},29,901,0.88500000000000001,3521,3116,"x",null,"ASW 15 B","6Y",""]
["Ivan Kuzelka",1945,"M","Havlíčkův Brod","CZ/C2","PPV 2022 - Klub",{"$f":"VLOOKUP(F523,Soutez!A:B,2,FALSE)","v":"CZ"},{"$f":"VLOOKUP(F523,Soutez!A:C,3,FALSE)","v":2022},30,899,0.88500000000000001,3431,3036,null,null,"VT-116 Orlik 2",43,""]
["Ondrej Hart",1990,"M","Letňany","CZ/C1","PPV 2022 - Klub",{"$f":"VLOOKUP(F524,Soutez!A:B,2,FALSE)","v":"CZ"},{"$f":"VLOOKUP(F524,Soutez!A:C,3,FALSE)","v":2022},31,896,0.88500000000000001,3338,2954,"x",null,"G 102 Astir CS","PJ",""]
["Tereza Novakova",1993,"F","Chrudim","CZ/C2","PPV 2022 - Klub",{"$f":"VLOOKUP(F525,Soutez!A:B,2,FALSE)","v":"CZ"},{"$f":"VLOOKUP(F525,Soutez!A:C,3,FALSE)","v":2022},32,870,0.88500000000000001,3172,2807,"x","x","Std. Cirrus","FF",""]
["Tomas Holenda",1956,"M","Havlíčkův Brod","CZ/C2","PPV 2022 - Klub",{"$f":"VLOOKUP(F526,Soutez!A:B,2,FALSE)","v":"CZ"},{"$f":"VLOOKUP(F526,Soutez!A:C,3,FALSE)","v":2022},33,757,0.88500000000000001,2731,2417,null,null,"VT-116 Orlik 2","I",""]
["Jiri Dockal",1982,"M","Letňany","CZ/C1","PPV 2022 - Klub",{"$f":"VLOOKUP(F527,Soutez!A:B,2,FALSE)","v":"CZ"},{"$f":"VLOOKUP(F527,Soutez!A:C,3,FALSE)","v":2022},34,706,{"$f":"VLOOKUP(F527,Soutez,12,0)","v":0.88500000000000001},2486,2200,"x",null,"vso-10","L9",""]
["Vaclav Petru",1974,"M","Letňany","CZ/C1","PPV 2022 - Klub",{"$f":"VLOOKUP(F528,Soutez!A:B,2,FALSE)","v":"CZ"},{"$f":"VLOOKUP(F528,Soutez!A:C,3,FALSE)","v":2022},35,699,0.88500000000000001,2381,2107,"x",null,"Alpin T","AI",""]
["Milos Hrabe",1979,"M","Letňany","CZ/C1","PPV 2022 - Klub",{"$f":"VLOOKUP(F529,Soutez!A:B,2,FALSE)","v":"CZ"},{"$f":"VLOOKUP(F529,Soutez!A:C,3,FALSE)","v":2022},36,265,0.88500000000000001,923,817,"x",null,"VT-116 Orlik 2",44,""]
["Petr Lonsky",1965,"M","Toužim","CZ/C1","PPV 2022 - Klub",{"$f":"VLOOKUP(F530,Soutez!A:B,2,FALSE)","v":"CZ"},{"$f":"VLOOKUP(F530,Soutez!A:C,3,FALSE)","v":2022},37,0,0.88500000000000001,0,0,null,null,"Std. Cirrus","JP",""]
["Ondrej Bordovsky",1983,"M",{"$f":"VLOOKUP(A531,Pilot,3,0)","v":"Krnov"},{"$f":"VLOOKUP(A531,Pilot,4,0)","v":"CZ/M"},"PPV 2022 - Kombi",{"$f":"VLOOKUP(F531,Soutez!A:B,2,FALSE)","v":"CZ"},{"$f":"VLOOKUP(F531,Soutez!A:C,3,FALSE)","v":2022},1,2993,0.92,{"$f":"ROUND(J531/MAX($J$531:$J$555)*10000*0.7+(MAX($I$531:$I$555)-I531)/(MAX($I$531:$I$555)-1)*10000*0.3,0)","v":10000},{"$f":"ROUND(K531*L531,0)","v":9200},"x",null,"Ventus c 17.6m","SeX",""]
["Jan Boruvka",1984,"M","Jičín","CZ/C2","PPV 2022 - Kombi",{"$f":"VLOOKUP(F532,Soutez!A:B,2,FALSE)","v":"CZ"},{"$f":"VLOOKUP(F532,Soutez!A:C,3,FALSE)","v":2022},2,2938,0.92,9746,{"$f":"ROUND(K532*L532,0)","v":8966},"x",null,"Ventus C 17.6m","EG",""]
["Pavel Zima",1979,"M","Břeclav","CZ/M","PPV 2022 - Kombi",{"$f":"VLOOKUP(F533,Soutez!A:B,2,FALSE)","v":"CZ"},{"$f":"VLOOKUP(F533,Soutez!A:C,3,FALSE)","v":2022},3,2906,0.92,9547,8783,"x",null,"Ventus cM 17.6m","RK",""]
["Jan Kotan",1982,"M","Letňany","CZ/C1","PPV 2022 - Kombi",{"$f":"VLOOKUP(F534,Soutez!A:B,2,FALSE)","v":"CZ"},{"$f":"VLOOKUP(F534,Soutez!A:C,3,FALSE)","v":2022},4,2862,0.92,9319,8573,null,null,"Ventus 2bx","YA",""]
["Hana Treslova",1991,"F","Raná","CZ/C2","PPV 2022 - Kombi",{"$f":"VLOOKUP(F535,Soutez!A:B,2,FALSE)","v":"CZ"},{"$f":"VLOOKUP(F535,Soutez!A:C,3,FALSE)","v":2022},5,2774,0.92,8988,8269,null,null,"Ventus 2ax","AX",""]
["David Zapletal",1970,"M","Mladá Boleslav","CZ/C1","PPV 2022 - Kombi",{"$f":"VLOOKUP(F536,Soutez!A:B,2,FALSE)","v":"CZ"},{"$f":"VLOOKUP(F536,Soutez!A:C,3,FALSE)","v":2022},6,2665,0.92,8608,7919,"x",null,"Ventus C 17.6m","PUP",""]
["Marek Blatak",1969,"M","Šumperk","CZ/M","PPV 2022 - Kombi",{"$f":"VLOOKUP(F537,Soutez!A:B,2,FALSE)","v":"CZ"},{"$f":"VLOOKUP(F537,Soutez!A:C,3,FALSE)","v":2022},7,2628,0.92,8396,7724,null,null,"DG 808C Competition 18m WL","W",""]
["Josef Busek",1967,"M","Hosín","CZ/C1","PPV 2022 - Kombi",{"$f":"VLOOKUP(F538,Soutez!A:B,2,FALSE)","v":"CZ"},{"$f":"VLOOKUP(F538,Soutez!A:C,3,FALSE)","v":2022},8,2624,0.92,8262,7601,null,null,"Duo Discus X","BB",""]
["Antonin Konicek",1973,"M","Kunovice","CZ/M","PPV 2022 - Kombi",{"$f":"VLOOKUP(F539,Soutez!A:B,2,FALSE)","v":"CZ"},{"$f":"VLOOKUP(F539,Soutez!A:C,3,FALSE)","v":2022},9,2619,0.92,8125,7475,"x",null,"HpH 304 MS Shark","KK",""]
["Anna Bordovska",1989,"F","Mladá Boleslav","CZ/C1","PPV 2022 - Kombi",{"$f":"VLOOKUP(F540,Soutez!A:B,2,FALSE)","v":"CZ"},{"$f":"VLOOKUP(F540,Soutez!A:C,3,FALSE)","v":2022},10,2602,0.92,7961,7324,"x","x","Ventus c 17.6m","AD",""]
["Radek Kucirek",1973,"M","Havlíčkův Brod","CZ/C2","PPV 2022 - Kombi",{"$f":"VLOOKUP(F541,Soutez!A:B,2,FALSE)","v":"CZ"},{"$f":"VLOOKUP(F541,Soutez!A:C,3,FALSE)","v":2022},11,2565,0.92,7749,7129,null,null,"EB 28 edition","NA",""]
["Jan Dersak 69",1969,"M","Kralupy","CZ/C1","PPV 2022 - Kombi",{"$f":"VLOOKUP(F542,Soutez!A:B,2,FALSE)","v":"CZ"},{"$f":"VLOOKUP(F542,Soutez!A:C,3,FALSE)","v":2022},12,2490,0.92,7449,6853,null,null,"HpH 304 SJ Shark","DJ",""]
["Vaclav Hruza",1965,"M","Břeclav","CZ/M","PPV 2022 - Kombi",{"$f":"VLOOKUP(F543,Soutez!A:B,2,FALSE)","v":"CZ"},{"$f":"VLOOKUP(F543,Soutez!A:C,3,FALSE)","v":2022},13,2469,0.92,7274,6692,"x",null,"HpH 304 MS Shark","TH",""]
["Martin Jurovic",null,null,"Bratislava","SK","PPV 2022 - Kombi",{"$f":"VLOOKUP(F544,Soutez!A:B,2,FALSE)","v":"CZ"},{"$f":"VLOOKUP(F544,Soutez!A:C,3,FALSE)","v":2022},14,2350,0.92,6871,6321,null,null,"Ventus c 17.6m","JQ","Není v databázi"]
["Zdenek Boruvka 54",1954,"M",{"$f":"VLOOKUP(A545,Pilot,3,0)","v":"Jičín"},{"$f":"VLOOKUP(A545,Pilot,4,0)","v":"CZ/C2"},"PPV 2022 - Kombi",{"$f":"VLOOKUP(F545,Soutez!A:B,2,FALSE)","v":"CZ"},{"$f":"VLOOKUP(F545,Soutez!A:C,3,FALSE)","v":2022},15,2309,0.92,6650,{"$f":"ROUND(K545*L545,0)","v":6118},null,null,"LS 8","ZB",""]
["Jan Simon",1970,"M","Kralupy","CZ/C1","PPV 2022 - Kombi",{"$f":"VLOOKUP(F546,Soutez!A:B,2,FALSE)","v":"CZ"},{"$f":"VLOOKUP(F546,Soutez!A:C,3,FALSE)","v":2022},16,2306,0.92,6518,5997,null,null,"Ventus cT 17.6m","KR",""]
["Ladislav Jozsa",1981,"M","Medlánky","CZ/M","PPV 2022 - Kombi",{"$f":"VLOOKUP(F547,Soutez!A:B,2,FALSE)","v":"CZ"},{"$f":"VLOOKUP(F547,Soutez!A:C,3,FALSE)","v":2022},17,2300,0.92,6379,5869,null,null,"Ventus c 17.6m","WW",""]
["Petr Babak",1973,"M","Hořice","CZ/C2","PPV 2022 - Kombi",{"$f":"VLOOKUP(F548,Soutez!A:B,2,FALSE)","v":"CZ"},{"$f":"VLOOKUP(F548,Soutez!A:C,3,FALSE)","v":2022},18,2296,0.92,6245,5745,null,null,"Ventus c 17.6m","LS",""]
["Lukas Capek",1992,"M","Letňany","CZ/C1","PPV 2022 - Kombi",{"$f":"VLOOKUP(F549,Soutez!A:B,2,FALSE)","v":"CZ"},{"$f":"VLOOKUP(F549,Soutez!A:C,3,FALSE)","v":2022},19,2263,0.92,6043,5560,null,null,"Mosquito","LC",""]
["Jaromir Pauer",1974,"M","Hosín","CZ/C1","PPV 2022 - Kombi",{"$f":"VLOOKUP(F550,Soutez!A:B,2,FALSE)","v":"CZ"},{"$f":"VLOOKUP(F550,Soutez!A:C,3,FALSE)","v":2022},20,2260,0.92,5911,5438,"x",null,"Ventus b 16.6m WL","7F",""]
["Martin Vnoucek",1972,"M","Vlašim","CZ/C1","PPV 2022 - Kombi",{"$f":"VLOOKUP(F551,Soutez!A:B,2,FALSE)","v":"CZ"},{"$f":"VLOOKUP(F551,Soutez!A:C,3,FALSE)","v":2022},21,2204,0.92,5655,5203,"x",null,"ASG 29 E 18m","QX",""]
["Ales Vyhnal",1989,"M","Kralupy","CZ/C1","PPV 2022 - Kombi",{"$f":"VLOOKUP(F552,Soutez!A:B,2,FALSE)","v":"CZ"},{"$f":"VLOOKUP(F552,Soutez!A:C,3,FALSE)","v":2022},22,1983,0.92,5013,4612,"x",null,"Nimbus 3 22.9m","HS",""]
["Zdenek Schenk",1972,"M","Hranice","CZ/M","PPV 2022 - Kombi",{"$f":"VLOOKUP(F553,Soutez!A:B,2,FALSE)","v":"CZ"},{"$f":"VLOOKUP(F553,Soutez!A:C,3,FALSE)","v":2022},23,1967,0.92,4850,4462,null,null,"Ventus cM 17.6m","ŠNeK",""]
["Martin Holik",1959,"M","Letňany","CZ/C1","PPV 2022 - Kombi",{"$f":"VLOOKUP(F554,Soutez!A:B,2,FALSE)","v":"CZ"},{"$f":"VLOOKUP(F554,Soutez!A:C,3,FALSE)","v":2022},24,1719,0.92,4145,3813,"x",null,"LS 6 18m","F5",""]
["Michal Hemrle",1974,"M","Česká Lípa","CZ/C2","PPV 2022 - Kombi",{"$f":"VLOOKUP(F555,Soutez!A:B,2,FALSE)","v":"CZ"},{"$f":"VLOOKUP(F555,Soutez!A:C,3,FALSE)","v":2022},25,1378,0.92,3223,2965,null,null,"ASG 29 Es 18m","ET",""]
["Christophe Abadie",null,null,null,null,"WGC 2022 - 18m",{"$f":"VLOOKUP(F556,Soutez!A:B,2,FALSE)","v":"HU"},{"$f":"VLOOKUP(F556,Soutez!A:C,3,FALSE)","v":2022},1,8957,1.0900000000000001,{"$f":"ROUND(J556/MAX($J$556:$J$597)*10000*0.7+(MAX($I$556:$I$597)-I556)/(MAX($I$556:$I$597)-1)*10000*0.3,0)","v":10000},{"$f":"ROUND(K556*L556,0)","v":10900},null,null,"Jonker JS3","2L","Není v databázi"]
["Riccardo Brigliadori",null,null,null,null,"WGC 2022 - 18m",{"$f":"VLOOKUP(F557,Soutez!A:B,2,FALSE)","v":"HU"},{"$f":"VLOOKUP(F557,Soutez!A:C,3,FALSE)","v":2022},2,8865,1.0900000000000001,9855,{"$f":"ROUND(K557*L557,0)","v":10742},null,null,"Jonker JS3","LEO","Není v databázi"]
["Davide Schiavotto",null,null,null,null,"WGC 2022 - 18m",{"$f":"VLOOKUP(F558,Soutez!A:B,2,FALSE)","v":"HU"},{"$f":"VLOOKUP(F558,Soutez!A:C,3,FALSE)","v":2022},3,8843,1.0900000000000001,9765,10644,null,null,"Jonker JS3","8D","Není v databázi"]
["Jeroen Verkuijl",null,null,null,null,"WGC 2022 - 18m",{"$f":"VLOOKUP(F559,Soutez!A:B,2,FALSE)","v":"HU"},{"$f":"VLOOKUP(F559,Soutez!A:C,3,FALSE)","v":2022},4,8788,1.0900000000000001,9648,10516,null,null,"MD JS3 RES","JV","Není v databázi"]
["Uys Jonker",null,null,null,null,"WGC 2022 - 18m",{"$f":"VLOOKUP(F560,Soutez!A:B,2,FALSE)","v":"HU"},{"$f":"VLOOKUP(F560,Soutez!A:C,3,FALSE)","v":2022},5,8784,1.0900000000000001,9572,10433,null,null,"Jonker JS3","BK","Není v databázi"]
["Adrien Henry",null,null,null,null,"WGC 2022 - 18m",{"$f":"VLOOKUP(F561,Soutez!A:B,2,FALSE)","v":"HU"},{"$f":"VLOOKUP(F561,Soutez!A:C,3,FALSE)","v":2022},6,8775,1.0900000000000001,9492,10346,null,null,"Jonker JS3","LB","Není v databázi"]
["Wolfgang Janowitsch",null,null,null,null,"WGC 2022 - 18m",{"$f":"VLOOKUP(F562,Soutez!A:B,2,FALSE)","v":"HU"},{"$f":"VLOOKUP(F562,Soutez!A:C,3,FALSE)","v":2022},7,8718,1.0900000000000001,9374,10218,null,null,"Ventus 3TS","WO","Není v databázi"]
["Arne J. Boye-Møller",null,null,null,null,"WGC 2022 - 18m",{"$f":"VLOOKUP(F563,Soutez!A:B,2,FALSE)","v":"HU"},{"$f":"VLOOKUP(F563,Soutez!A:C,3,FALSE)","v":2022},8,8711,1.0900000000000001,9296,10133,null,null,"Jonker JS3 Jet","AB","Není v databázi"]
["Tomasz Rubaj",null,null,null,null,"WGC 2022 - 18m",{"$f":"VLOOKUP(F564,Soutez!A:B,2,FALSE)","v":"HU"},{"$f":"VLOOKUP(F564,Soutez!A:C,3,FALSE)","v":2022},9,8600,1.0900000000000001,9136,9958,null,null,"Schleicher AS 33 ES",12,"Není v databázi"]
["Bert Schmelzer",null,null,null,null,"WGC 2022 - 18m",{"$f":"VLOOKUP(F565,Soutez!A:B,2,FALSE)","v":"HU"},{"$f":"VLOOKUP(F565,Soutez!A:C,3,FALSE)","v":2022},10,8595,1.0900000000000001,9059,9874,null,null,"Ventus 3T",21,"Není v databázi"]
["Roman Mracek",{"$f":"VLOOKUP(A566,Pilot,2,0)","v":1980},{"$f":"VLOOKUP(A566,Pilot,5,0)","v":"M"},{"$f":"VLOOKUP(A566,Pilot,3,0)","v":"Letkov"},{"$f":"VLOOKUP(A566,Pilot,4,0)","v":"CZ/C1"},"WGC 2022 - 18m",{"$f":"VLOOKUP(F566,Soutez!A:B,2,FALSE)","v":"HU"},{"$f":"VLOOKUP(F566,Soutez!A:C,3,FALSE)","v":2022},11,8575,1.0900000000000001,8970,9777,"x",null,"Jonker JS3","ZE",""]
["Attie Jonker",null,null,null,null,"WGC 2022 - 18m",{"$f":"VLOOKUP(F567,Soutez!A:B,2,FALSE)","v":"HU"},{"$f":"VLOOKUP(F567,Soutez!A:C,3,FALSE)","v":2022},12,8537,1.0900000000000001,8867,9665,null,null,"Jonker JS3","FA","Není v databázi"]
["Holger Karow",null,null,null,null,"WGC 2022 - 18m",{"$f":"VLOOKUP(F568,Soutez!A:B,2,FALSE)","v":"HU"},{"$f":"VLOOKUP(F568,Soutez!A:C,3,FALSE)","v":2022},13,8465,1.0900000000000001,8737,9523,null,null,"Jonker JS3","JS3","Není v databázi"]
["Melanie Gadoulet",null,null,null,null,"WGC 2022 - 18m",{"$f":"VLOOKUP(F569,Soutez!A:B,2,FALSE)","v":"HU"},{"$f":"VLOOKUP(F569,Soutez!A:C,3,FALSE)","v":2022},14,8460,1.0900000000000001,8660,9439,null,null,"Jonker JS3","KW","Není v databázi"]
["György Gulyas",null,null,null,null,"WGC 2022 - 18m",{"$f":"VLOOKUP(F570,Soutez!A:B,2,FALSE)","v":"HU"},{"$f":"VLOOKUP(F570,Soutez!A:C,3,FALSE)","v":2022},15,8445,1.0900000000000001,8575,9347,null,null,"Jonker JS3","7A","Není v databázi"]
["Rasmus Ørskov",null,null,null,null,"WGC 2022 - 18m",{"$f":"VLOOKUP(F571,Soutez!A:B,2,FALSE)","v":"HU"},{"$f":"VLOOKUP(F571,Soutez!A:C,3,FALSE)","v":2022},16,8413,1.0900000000000001,8477,9240,null,null,"Ventus 3T","EK",{"$f":"IF(ISERROR(VLOOKUP(A571,Pilot,6,0)),\"Není v databázi\",VLOOKUP(A571,Pilot,6,0))","v":"Není v databázi"}]
["Michael Rass",null,null,null,null,"WGC 2022 - 18m",{"$f":"VLOOKUP(F572,Soutez!A:B,2,FALSE)","v":"HU"},{"$f":"VLOOKUP(F572,Soutez!A:C,3,FALSE)","v":2022},17,8365,1.0900000000000001,8367,9120,null,null,"Schleicher AS 33 ES","MR","Není v databázi"]
["Thomas Melde",null,null,null,null,"WGC 2022 - 18m",{"$f":"VLOOKUP(F573,Soutez!A:B,2,FALSE)","v":"HU"},{"$f":"VLOOKUP(F573,Soutez!A:C,3,FALSE)","v":2022},18,8217,1.0900000000000001,8178,8914,null,null,"Jonker JS1 BTJ","ZP","Není v databázi"]
["Peter Szabó",null,null,null,null,"WGC 2022 - 18m",{"$f":"VLOOKUP(F574,Soutez!A:B,2,FALSE)","v":"HU"},{"$f":"VLOOKUP(F574,Soutez!A:C,3,FALSE)","v":2022},19,8027,1.0900000000000001,7956,8672,null,null,"Jonker JS3","BX","Není v databázi"]
["Petri Sucksdorff",null,null,null,null,"WGC 2022 - 18m",{"$f":"VLOOKUP(F575,Soutez!A:B,2,FALSE)","v":"HU"},{"$f":"VLOOKUP(F575,Soutez!A:C,3,FALSE)","v":2022},20,7979,1.0900000000000001,7845,8551,null,null,"Schleicher AS 33 ES","WS","Není v databázi"]
["Zoran Frenc",null,null,null,null,"WGC 2022 - 18m",{"$f":"VLOOKUP(F576,Soutez!A:B,2,FALSE)","v":"HU"},{"$f":"VLOOKUP(F576,Soutez!A:C,3,FALSE)","v":2022},21,7929,1.0900000000000001,7733,8429,null,null,"Jonker JS3","ZF","Není v databázi"]
["Hadriaan van Nes",null,null,null,null,"WGC 2022 - 18m",{"$f":"VLOOKUP(F577,Soutez!A:B,2,FALSE)","v":"HU"},{"$f":"VLOOKUP(F577,Soutez!A:C,3,FALSE)","v":2022},22,7905,1.0900000000000001,7641,8329,null,null,"Jonker JS1 BTJ","JS","Není v databázi"]
["Teet Jagomägi",null,null,null,null,"WGC 2022 - 18m",{"$f":"VLOOKUP(F578,Soutez!A:B,2,FALSE)","v":"HU"},{"$f":"VLOOKUP(F578,Soutez!A:C,3,FALSE)","v":2022},23,7904,1.0900000000000001,7567,8248,null,null,"Jonker JS1 C",56,"Není v databázi"]
["Markus Ganev",null,null,null,null,"WGC 2022 - 18m",{"$f":"VLOOKUP(F579,Soutez!A:B,2,FALSE)","v":"HU"},{"$f":"VLOOKUP(F579,Soutez!A:C,3,FALSE)","v":2022},24,7840,1.0900000000000001,7444,8114,null,null,"Ventus 3T","7X","Není v databázi"]
["Joris Vainius",null,null,null,null,"WGC 2022 - 18m",{"$f":"VLOOKUP(F580,Soutez!A:B,2,FALSE)","v":"HU"},{"$f":"VLOOKUP(F580,Soutez!A:C,3,FALSE)","v":2022},25,7770,1.0900000000000001,7316,7974,null,null,"ASG-29","M7","Není v databázi"]
["Vladimir Foltin",null,null,null,null,"WGC 2022 - 18m",{"$f":"VLOOKUP(F581,Soutez!A:B,2,FALSE)","v":"HU"},{"$f":"VLOOKUP(F581,Soutez!A:C,3,FALSE)","v":2022},26,7726,1.0900000000000001,7209,7858,null,null,"Jonker JS3",3,"Není v databázi"]
["Tijl Schmelzer",null,null,null,null,"WGC 2022 - 18m",{"$f":"VLOOKUP(F582,Soutez!A:B,2,FALSE)","v":"HU"},{"$f":"VLOOKUP(F582,Soutez!A:C,3,FALSE)","v":2022},27,7676,1.0900000000000001,7096,7735,null,null,"Ventus 3T","2X","Není v databázi"]
["Luka Znidarsic",null,null,null,null,"WGC 2022 - 18m",{"$f":"VLOOKUP(F583,Soutez!A:B,2,FALSE)","v":"HU"},{"$f":"VLOOKUP(F583,Soutez!A:C,3,FALSE)","v":2022},28,7599,1.0900000000000001,6963,7590,null,null,"Ventus 3 FES","LZ","Není v databázi"]
["Zdzislaw Bednarczuk",null,null,null,null,"WGC 2022 - 18m",{"$f":"VLOOKUP(F584,Soutez!A:B,2,FALSE)","v":"HU"},{"$f":"VLOOKUP(F584,Soutez!A:C,3,FALSE)","v":2022},29,7570,1.0900000000000001,6867,7485,null,null,"Jonker JS3","ZB","Není v databázi"]
["Derren Francis",null,null,null,null,"WGC 2022 - 18m",{"$f":"VLOOKUP(F585,Soutez!A:B,2,FALSE)","v":"HU"},{"$f":"VLOOKUP(F585,Soutez!A:C,3,FALSE)","v":2022},30,7531,1.0900000000000001,6764,7373,null,null,"Ventus 3TS","F2","Není v databázi"]
["Hannu Halonen",null,null,null,null,"WGC 2022 - 18m",{"$f":"VLOOKUP(F586,Soutez!A:B,2,FALSE)","v":"HU"},{"$f":"VLOOKUP(F586,Soutez!A:C,3,FALSE)","v":2022},31,7477,1.0900000000000001,6648,7246,null,null,"Ventus 3TS","W","Není v databázi"]
["Takeshi Maruyama",null,null,null,null,"WGC 2022 - 18m",{"$f":"VLOOKUP(F587,Soutez!A:B,2,FALSE)","v":"HU"},{"$f":"VLOOKUP(F587,Soutez!A:C,3,FALSE)","v":2022},32,7366,1.0900000000000001,6488,{"$f":"ROUND(K587*L587,0)","v":7072},null,null,"Jonker JS3","AX","Není v databázi"]
["Andreas Spielmann",null,null,null,null,"WGC 2022 - 18m",{"$f":"VLOOKUP(F588,Soutez!A:B,2,FALSE)","v":"HU"},{"$f":"VLOOKUP(F588,Soutez!A:C,3,FALSE)","v":2022},33,7301,1.0900000000000001,6364,6937,null,null,"Jonker JS3","AS","Není v databázi"]
["Petr Koutny",{"$f":"VLOOKUP(A589,Pilot,2,0)","v":1971},{"$f":"VLOOKUP(A589,Pilot,5,0)","v":"M"},{"$f":"VLOOKUP(A589,Pilot,3,0)","v":"Křižanov"},{"$f":"VLOOKUP(A589,Pilot,4,0)","v":"CZ/M"},"WGC 2022 - 18m",{"$f":"VLOOKUP(F589,Soutez!A:B,2,FALSE)","v":"HU"},{"$f":"VLOOKUP(F589,Soutez!A:C,3,FALSE)","v":2022},34,7211,1.0900000000000001,6221,6781,"x",null,"Jonker JS3","XM",""]
["Philip Jones",null,null,null,null,"WGC 2022 - 18m",{"$f":"VLOOKUP(F590,Soutez!A:B,2,FALSE)","v":"HU"},{"$f":"VLOOKUP(F590,Soutez!A:C,3,FALSE)","v":2022},35,7110,1.0900000000000001,6069,6615,null,null,"Ventus 3TS",210,"Není v databázi"]
["Peter Johansson",null,null,null,null,"WGC 2022 - 18m",{"$f":"VLOOKUP(F591,Soutez!A:B,2,FALSE)","v":"HU"},{"$f":"VLOOKUP(F591,Soutez!A:C,3,FALSE)","v":2022},36,7101,{"$f":"VLOOKUP(F591,Soutez,12,0)","v":1.0900000000000001},5989,6528,null,null,"ASG-29","2T","Není v databázi"]
["Makoto Ichikawa",null,null,null,null,"WGC 2022 - 18m",{"$f":"VLOOKUP(F592,Soutez!A:B,2,FALSE)","v":"HU"},{"$f":"VLOOKUP(F592,Soutez!A:C,3,FALSE)","v":2022},37,6673,1.0900000000000001,5581,6083,null,null,"Schleicher AS 33 ES","JL","Není v databázi"]
["Branko Blagojevic",null,null,null,null,"WGC 2022 - 18m",{"$f":"VLOOKUP(F593,Soutez!A:B,2,FALSE)","v":"HU"},{"$f":"VLOOKUP(F593,Soutez!A:C,3,FALSE)","v":2022},38,6415,1.0900000000000001,5306,5784,null,null,"Jonker JS3","AI","Není v databázi"]
["Viktoras Kukcikaitis",null,null,null,null,"WGC 2022 - 18m",{"$f":"VLOOKUP(F594,Soutez!A:B,2,FALSE)","v":"HU"},{"$f":"VLOOKUP(F594,Soutez!A:C,3,FALSE)","v":2022},39,6282,1.0900000000000001,5129,5591,null,null,"Jonker JS1 B","LR","Není v databázi"]
["Bruno Herencic",null,null,null,null,"WGC 2022 - 18m",{"$f":"VLOOKUP(F595,Soutez!A:B,2,FALSE)","v":"HU"},{"$f":"VLOOKUP(F595,Soutez!A:C,3,FALSE)","v":2022},40,6261,1.0900000000000001,5039,5493,null,null,"Ventus 3M","EM","Není v databázi"]
["Mark Käppeli",null,null,null,null,"WGC 2022 - 18m",{"$f":"VLOOKUP(F596,Soutez!A:B,2,FALSE)","v":"HU"},{"$f":"VLOOKUP(F596,Soutez!A:C,3,FALSE)","v":2022},41,5656,1.0900000000000001,4493,4897,null,null,"Jonker JS3","MK","Není v databázi"]
["Rune Hovda",null,null,null,null,"WGC 2022 - 18m",{"$f":"VLOOKUP(F597,Soutez!A:B,2,FALSE)","v":"HU"},{"$f":"VLOOKUP(F597,Soutez!A:C,3,FALSE)","v":2022},42,4817,1.0900000000000001,3765,4104,null,null,"Ventus 3M","RH","Není v databázi"]
["Felipe Levin",null,null,null,null,"WGC 2022 - Open",{"$f":"VLOOKUP(F598,Soutez!A:B,2,FALSE)","v":"HU"},{"$f":"VLOOKUP(F598,Soutez!A:C,3,FALSE)","v":2022},1,9088,1.1000000000000001,{"$f":"ROUND(J598/MAX($J$598:$J$619)*10000*0.7+(MAX($I$598:$I$619)-I598)/(MAX($I$598:$I$619)-1)*10000*0.3,0)","v":10000},{"$f":"ROUND(K598*L598,0)","v":11000},null,null,"EB-29 R","FL","Není v databázi"]
["Oscar Goudriaan",null,null,null,null,"WGC 2022 - Open",{"$f":"VLOOKUP(F599,Soutez!A:B,2,FALSE)","v":"HU"},{"$f":"VLOOKUP(F599,Soutez!A:C,3,FALSE)","v":2022},2,9016,1.1000000000000001,9802,{"$f":"ROUND(K599*L599,0)","v":10782},null,null,"EB-29 DR","AC","Není v databázi"]
["Radek Krejcirik",{"$f":"VLOOKUP(A600,Pilot,2,0)","v":1991},{"$f":"VLOOKUP(A600,Pilot,5,0)","v":"M"},{"$f":"VLOOKUP(A600,Pilot,3,0)","v":"Hranice"},{"$f":"VLOOKUP(A600,Pilot,4,0)","v":"CZ/M"},"WGC 2022 - Open",{"$f":"VLOOKUP(F600,Soutez!A:B,2,FALSE)","v":"HU"},{"$f":"VLOOKUP(F600,Soutez!A:C,3,FALSE)","v":2022},3,8646,1.1000000000000001,9374,10311,"x",null,"Jonker JS1 C 21m","Z",""]
["Sylvain Gerbaud",null,null,null,null,"WGC 2022 - Open",{"$f":"VLOOKUP(F601,Soutez!A:B,2,FALSE)","v":"HU"},{"$f":"VLOOKUP(F601,Soutez!A:C,3,FALSE)","v":2022},4,8626,1.1000000000000001,9216,10138,null,null,"EB-29 R",72,"Není v databázi"]
["Andrew John Davis",null,null,null,null,"WGC 2022 - Open",{"$f":"VLOOKUP(F602,Soutez!A:B,2,FALSE)","v":"HU"},{"$f":"VLOOKUP(F602,Soutez!A:C,3,FALSE)","v":2022},5,8600,1.1000000000000001,9053,9958,null,null,"MD JS1 C 21m",80,"Není v databázi"]
["Alberto Sironi",null,null,null,null,"WGC 2022 - Open",{"$f":"VLOOKUP(F603,Soutez!A:B,2,FALSE)","v":"HU"},{"$f":"VLOOKUP(F603,Soutez!A:C,3,FALSE)","v":2022},6,8521,1.1000000000000001,8849,9734,null,null,"EB-29 R","FJ","Není v databázi"]
["Yves Gerster",null,null,null,null,"WGC 2022 - Open",{"$f":"VLOOKUP(F604,Soutez!A:B,2,FALSE)","v":"HU"},{"$f":"VLOOKUP(F604,Soutez!A:C,3,FALSE)","v":2022},7,8478,1.1000000000000001,8673,9540,null,null,"Jonker JS1 C 21m","EVO","Není v databázi"]
["Daan Spruyt",null,null,null,null,"WGC 2022 - Open",{"$f":"VLOOKUP(F605,Soutez!A:B,2,FALSE)","v":"HU"},{"$f":"VLOOKUP(F605,Soutez!A:C,3,FALSE)","v":2022},8,8456,1.1000000000000001,8513,9364,null,null,"EB-29 DR","IP","Není v databázi"]
["Russell Cheetham",null,null,null,null,"WGC 2022 - Open",{"$f":"VLOOKUP(F606,Soutez!A:B,2,FALSE)","v":"HU"},{"$f":"VLOOKUP(F606,Soutez!A:C,3,FALSE)","v":2022},9,8328,1.1000000000000001,8272,{"$f":"ROUND(K606*L606,0)","v":9099},null,null,"Jonker JS1 C 21m","XS","Není v databázi"]
["Łukasz Wójcik",null,null,null,null,"WGC 2022 - Open",{"$f":"VLOOKUP(F607,Soutez!A:B,2,FALSE)","v":"HU"},{"$f":"VLOOKUP(F607,Soutez!A:C,3,FALSE)","v":2022},10,8288,1.1000000000000001,8098,8908,null,null,"EB-29 R","XR","Není v databázi"]
["Michael Sommer",null,null,null,null,"WGC 2022 - Open",{"$f":"VLOOKUP(F608,Soutez!A:B,2,FALSE)","v":"HU"},{"$f":"VLOOKUP(F608,Soutez!A:C,3,FALSE)","v":2022},11,8270,1.1000000000000001,7941,8735,null,null,"EB-29 R","FE","Není v databázi"]
["Bas Seijffert",null,null,null,null,"WGC 2022 - Open",{"$f":"VLOOKUP(F609,Soutez!A:B,2,FALSE)","v":"HU"},{"$f":"VLOOKUP(F609,Soutez!A:C,3,FALSE)","v":2022},12,8201,1.1000000000000001,7745,8520,null,null,"Jonker JS1 C 21m","BJ","Není v databázi"]
["Philippe de Pechy",null,null,null,null,"WGC 2022 - Open",{"$f":"VLOOKUP(F610,Soutez!A:B,2,FALSE)","v":"HU"},{"$f":"VLOOKUP(F610,Soutez!A:C,3,FALSE)","v":2022},13,8035,1.1000000000000001,7475,8223,null,null,"Jonker JS1 C 21m","EJ","Není v databázi"]
["Alena Netusilova",{"$f":"VLOOKUP(A611,Pilot,2,0)","v":1970},{"$f":"VLOOKUP(A611,Pilot,5,0)","v":"F"},{"$f":"VLOOKUP(A611,Pilot,3,0)","v":"Zbraslavice"},{"$f":"VLOOKUP(A611,Pilot,4,0)","v":"CZ/C1"},"WGC 2022 - Open",{"$f":"VLOOKUP(F611,Soutez!A:B,2,FALSE)","v":"HU"},{"$f":"VLOOKUP(F611,Soutez!A:C,3,FALSE)","v":2022},14,7952,1.1000000000000001,7268,7995,null,null,"Jonker JS1 C 21m","JX",""]
["Harri Hirvola",null,null,null,null,"WGC 2022 - Open",{"$f":"VLOOKUP(F612,Soutez!A:B,2,FALSE)","v":"HU"},{"$f":"VLOOKUP(F612,Soutez!A:C,3,FALSE)","v":2022},15,7657,1.1000000000000001,6898,7588,null,null,"EB-28 Evolution","EX","Není v databázi"]
["Alberto Pozzi",null,null,null,null,"WGC 2022 - Open",{"$f":"VLOOKUP(F613,Soutez!A:B,2,FALSE)","v":"HU"},{"$f":"VLOOKUP(F613,Soutez!A:C,3,FALSE)","v":2022},16,7487,1.1000000000000001,6624,7286,null,null,"Jonker JS1 21mT","IEO","Není v databázi"]
["Christian Hynek",null,null,null,null,"WGC 2022 - Open",{"$f":"VLOOKUP(F614,Soutez!A:B,2,FALSE)","v":"HU"},{"$f":"VLOOKUP(F614,Soutez!A:C,3,FALSE)","v":2022},17,7323,1.1000000000000001,6355,6991,null,null,"EB-29 DR","DD","Není v databázi"]
["Peter Eriksen",null,null,null,null,"WGC 2022 - Open",{"$f":"VLOOKUP(F615,Soutez!A:B,2,FALSE)","v":"HU"},{"$f":"VLOOKUP(F615,Soutez!A:C,3,FALSE)","v":2022},18,7029,1.1000000000000001,5985,6584,null,null,"EB-29 R","A","Není v databázi"]
["Zoltan Kóre",null,null,null,null,"WGC 2022 - Open",{"$f":"VLOOKUP(F616,Soutez!A:B,2,FALSE)","v":"HU"},{"$f":"VLOOKUP(F616,Soutez!A:C,3,FALSE)","v":2022},19,6955,1.1000000000000001,5786,6365,null,null,"Jonker JS1 21m","JB","Není v databázi"]
["Poul Kim Larsen",null,null,null,null,"WGC 2022 - Open",{"$f":"VLOOKUP(F617,Soutez!A:B,2,FALSE)","v":"HU"},{"$f":"VLOOKUP(F617,Soutez!A:C,3,FALSE)","v":2022},20,6879,1.1000000000000001,5584,6142,null,null,"ASH 31MI","CE","Není v databázi"]
["Rene Schönmann",null,null,null,null,"WGC 2022 - Open",{"$f":"VLOOKUP(F618,Soutez!A:B,2,FALSE)","v":"HU"},{"$f":"VLOOKUP(F618,Soutez!A:C,3,FALSE)","v":2022},21,6506,1.1000000000000001,5154,5669,null,null,"Jonker JS1 C 21m","LI","Není v databázi"]
["Zoltan Hamar",null,null,null,null,"WGC 2022 - Open",{"$f":"VLOOKUP(F619,Soutez!A:B,2,FALSE)","v":"HU"},{"$f":"VLOOKUP(F619,Soutez!A:C,3,FALSE)","v":2022},22,6472,1.1000000000000001,4985,5484,null,null,"Jonker JS1 21m","AAD","Není v databázi"]
["Ivan Novak",{"$f":"VLOOKUP(A620,Pilot,2,0)","v":1962},{"$f":"VLOOKUP(A620,Pilot,5,0)","v":"M"},{"$f":"VLOOKUP(A620,Pilot,3,0)","v":"Mladá Boleslav"},{"$f":"VLOOKUP(A620,Pilot,4,0)","v":"CZ/C1"},"WGC 2022 - Duo 20m",{"$f":"VLOOKUP(F620,Soutez!A:B,2,FALSE)","v":"HU"},{"$f":"VLOOKUP(F620,Soutez!A:C,3,FALSE)","v":2022},1,8898,1.0900000000000001,{"$f":"ROUND(J620/MAX($J$620:$J$638)*10000*0.7+(MAX($I$620:$I$638)-I620)/(MAX($I$620:$I$638)-1)*10000*0.3,0)","v":10000},{"$f":"ROUND(K620*L620,0)","v":10900},"x",null,"Arcus M","CAR",""]
["Jakub Barszcz / Lukasz Kornacki",null,null,null,null,"WGC 2022 - Duo 20m",{"$f":"VLOOKUP(F621,Soutez!A:B,2,FALSE)","v":"HU"},{"$f":"VLOOKUP(F621,Soutez!A:C,3,FALSE)","v":2022},2,8783,1.0900000000000001,9743,{"$f":"ROUND(K621*L621,0)","v":10620},null,null,"HpH 304 TS Twin Shark","FNC","Není v databázi"]
["Steve Jones / Garry Coppin",null,null,null,null,"WGC 2022 - Duo 20m",{"$f":"VLOOKUP(F622,Soutez!A:B,2,FALSE)","v":"HU"},{"$f":"VLOOKUP(F622,Soutez!A:C,3,FALSE)","v":2022},3,8666,1.0900000000000001,9484,10338,null,null,"Arcus 20T",66,"Není v databázi"]
["Erik Borgmann / Joost Wolff",null,null,null,null,"WGC 2022 - Duo 20m",{"$f":"VLOOKUP(F623,Soutez!A:B,2,FALSE)","v":"HU"},{"$f":"VLOOKUP(F623,Soutez!A:C,3,FALSE)","v":2022},4,8663,1.0900000000000001,9315,10153,null,null,"Arcus T","DX","Není v databázi"]
["Louis Bouderlique / Ulysse Merlin",null,null,null,null,"WGC 2022 - Duo 20m",{"$f":"VLOOKUP(F624,Soutez!A:B,2,FALSE)","v":"HU"},{"$f":"VLOOKUP(F624,Soutez!A:C,3,FALSE)","v":2022},5,8630,1.0900000000000001,9122,9943,null,null,"Arcus 20T","MG","Není v databázi"]
["Aku Jaakkola / Juha Sorri",null,null,null,null,"WGC 2022 - Duo 20m",{"$f":"VLOOKUP(F625,Soutez!A:B,2,FALSE)","v":"HU"},{"$f":"VLOOKUP(F625,Soutez!A:C,3,FALSE)","v":2022},6,8613,1.0900000000000001,8942,9747,null,null,"Arcus M","AM",{"$f":"IF(ISERROR(VLOOKUP(A625,Pilot,6,0)),\"Není v databázi\",VLOOKUP(A625,Pilot,6,0))","v":"Není v databázi"}]
["Stefano Ghiorzo / Federico Mangano",null,null,null,null,"WGC 2022 - Duo 20m",{"$f":"VLOOKUP(F626,Soutez!A:B,2,FALSE)","v":"HU"},{"$f":"VLOOKUP(F626,Soutez!A:C,3,FALSE)","v":2022},7,8472,1.0900000000000001,8665,9445,null,null,"Arcus T","BRA","Není v databázi"]
["Peter Hartmann / Karel Krobath",null,null,null,null,"WGC 2022 - Duo 20m",{"$f":"VLOOKUP(F627,Soutez!A:B,2,FALSE)","v":"HU"},{"$f":"VLOOKUP(F627,Soutez!A:C,3,FALSE)","v":2022},8,8316,1.0900000000000001,8375,9129,null,null,"HpH 304 TS Twin Shark","Q","Není v databázi"]
["Sarah Arnold / Karl Striedieck",null,null,null,null,"WGC 2022 - Duo 20m",{"$f":"VLOOKUP(F628,Soutez!A:B,2,FALSE)","v":"HU"},{"$f":"VLOOKUP(F628,Soutez!A:C,3,FALSE)","v":2022},9,8300,1.0900000000000001,8196,8934,null,null,"Arcus T","N1","Není v databázi"]
["Ferenc Tamas / Attila Korom",null,null,null,null,"WGC 2022 - Duo 20m",{"$f":"VLOOKUP(F629,Soutez!A:B,2,FALSE)","v":"HU"},{"$f":"VLOOKUP(F629,Soutez!A:C,3,FALSE)","v":2022},10,8157,1.0900000000000001,7917,8630,null,null,"Arcus T","HUX","Není v databázi"]
["Anton Šibanc / Sandi Kavalič",null,null,null,null,"WGC 2022 - Duo 20m",{"$f":"VLOOKUP(F630,Soutez!A:B,2,FALSE)","v":"HU"},{"$f":"VLOOKUP(F630,Soutez!A:C,3,FALSE)","v":2022},11,7993,1.0900000000000001,7621,{"$f":"ROUND(K630*L630,0)","v":8307},null,null,"Arcus M","ET","Není v databázi"]
["Tom Jorgensen / Henning K. Nielsen",null,null,null,null,"WGC 2022 - Duo 20m",{"$f":"VLOOKUP(F631,Soutez!A:B,2,FALSE)","v":"HU"},{"$f":"VLOOKUP(F631,Soutez!A:C,3,FALSE)","v":2022},12,7851,1.0900000000000001,7343,8004,null,null,"Arcus T","JT","Není v databázi"]
["Rainer Cronjäger / Guido Halter",null,null,null,null,"WGC 2022 - Duo 20m",{"$f":"VLOOKUP(F632,Soutez!A:B,2,FALSE)","v":"HU"},{"$f":"VLOOKUP(F632,Soutez!A:C,3,FALSE)","v":2022},13,7823,1.0900000000000001,7154,7798,null,null,"Arcus T","KA","Není v databázi"]
["Dawid Pretorius / Nico le Roux",null,null,null,null,"WGC 2022 - Duo 20m",{"$f":"VLOOKUP(F633,Soutez!A:B,2,FALSE)","v":"HU"},{"$f":"VLOOKUP(F633,Soutez!A:C,3,FALSE)","v":2022},14,7607,1.0900000000000001,6818,7432,null,null,"Arcus M","4Y","Není v databázi"]
["Markus Geisen / Michael Pfennig",null,null,null,null,"WGC 2022 - Duo 20m",{"$f":"VLOOKUP(F634,Soutez!A:B,2,FALSE)","v":"HU"},{"$f":"VLOOKUP(F634,Soutez!A:C,3,FALSE)","v":2022},15,7534,1.0900000000000001,6594,7187,null,null,"Arcus M","WK","Není v databázi"]
["Igor Volkov / Vladas Motuza",null,null,null,null,"WGC 2022 - Duo 20m",{"$f":"VLOOKUP(F635,Soutez!A:B,2,FALSE)","v":"HU"},{"$f":"VLOOKUP(F635,Soutez!A:C,3,FALSE)","v":2022},16,7430,1.0900000000000001,6345,6916,null,null,"ASG 32 MI","IV","Není v databázi"]
["Jan Kovalcik / Miroslav Beliansky",null,null,null,null,"WGC 2022 - Duo 20m",{"$f":"VLOOKUP(F636,Soutez!A:B,2,FALSE)","v":"HU"},{"$f":"VLOOKUP(F636,Soutez!A:C,3,FALSE)","v":2022},17,6953,1.0900000000000001,5803,6325,null,null,"HpH 304 TS Twin Shark","TS","Není v databázi"]
["Allan Barnes / Harry Medlicott",null,null,null,null,"WGC 2022 - Duo 20m",{"$f":"VLOOKUP(F637,Soutez!A:B,2,FALSE)","v":"HU"},{"$f":"VLOOKUP(F637,Soutez!A:C,3,FALSE)","v":2022},18,6508,1.0900000000000001,5286,5762,null,null,"Arcus M",13,"Není v databázi"]
["Pierre de Broqueville / Arnaud de Broqueville",null,null,null,null,"WGC 2022 - Duo 20m",{"$f":"VLOOKUP(F638,Soutez!A:B,2,FALSE)","v":"HU"},{"$f":"VLOOKUP(F638,Soutez!A:C,3,FALSE)","v":2022},19,5241,1.0900000000000001,4123,4494,null,null,"Arcus 2T","2AS","Není v databázi"]
["Tomas Suchanek",{"$f":"VLOOKUP(A639,Pilot,2,0)","v":1964},{"$f":"VLOOKUP(A639,Pilot,5,0)","v":"M"},{"$f":"VLOOKUP(A639,Pilot,3,0)","v":"GAC Benešov"},{"$f":"VLOOKUP(A639,Pilot,4,0)","v":"CZ/C1"},"EGC 2022 - Klub",{"$f":"VLOOKUP(F639,Soutez!A:B,2,FALSE)","v":"LT"},{"$f":"VLOOKUP(F639,Soutez!A:C,3,FALSE)","v":2022},1,3816,{"$f":"VLOOKUP(F639,Soutez,12,0)","v":1.075},{"$f":"ROUND(J639/MAX($J$639:$J$666)*10000*0.7+(MAX($I$639:$I$666)-I639)/(MAX($I$639:$I$666)-1)*10000*0.3,0)","v":10000},{"$f":"ROUND(K639*L639,0)","v":10750},"x",null,"ASW 20","CX",""]
["Thies Bruins",null,null,"Netherlands",null,"EGC 2022 - Klub",{"$f":"VLOOKUP(F640,Soutez!A:B,2,FALSE)","v":"LT"},{"$f":"VLOOKUP(F640,Soutez!A:C,3,FALSE)","v":2022},2,3508,{"$f":"VLOOKUP(F640,Soutez,12,0)","v":1.075},9324,{"$f":"ROUND(K640*L640,0)","v":10023},null,null,"ASW 20","IV","Není v databázi"]
["Tom Arscott",null,null,"United Kingdom",null,"EGC 2022 - Klub",{"$f":"VLOOKUP(F641,Soutez!A:B,2,FALSE)","v":"LT"},{"$f":"VLOOKUP(F641,Soutez!A:C,3,FALSE)","v":2022},3,3434,1.075,9077,9758,null,null,"LS 7",768,"Není v databázi"]
["Tapio Tourula",null,null,"Finland",null,"EGC 2022 - Klub",{"$f":"VLOOKUP(F642,Soutez!A:B,2,FALSE)","v":"LT"},{"$f":"VLOOKUP(F642,Soutez!A:C,3,FALSE)","v":2022},4,3380,1.075,8867,9532,null,null,"LS 7 WL",70,"Není v databázi"]
["Michael Mix",null,null,"Denmark",null,"EGC 2022 - Klub",{"$f":"VLOOKUP(F643,Soutez!A:B,2,FALSE)","v":"LT"},{"$f":"VLOOKUP(F643,Soutez!A:C,3,FALSE)","v":2022},5,3347,1.075,8695,9347,null,null,"LS 3 a","TM","Není v databázi"]
["Lukas Blattmann",null,null,"Germany",null,"EGC 2022 - Klub",{"$f":"VLOOKUP(F644,Soutez!A:B,2,FALSE)","v":"LT"},{"$f":"VLOOKUP(F644,Soutez!A:C,3,FALSE)","v":2022},6,3272,1.075,8447,9081,null,null,"LS 4 b","ED","Není v databázi"]
["Jake Brattle",null,null,"United Kingdom",null,"EGC 2022 - Klub",{"$f":"VLOOKUP(F645,Soutez!A:B,2,FALSE)","v":"LT"},{"$f":"VLOOKUP(F645,Soutez!A:C,3,FALSE)","v":2022},7,3242,1.075,8280,8901,null,null,"LS 7",25,"Není v databázi"]
["Hugo Corbille",null,null,"France",null,"EGC 2022 - Klub",{"$f":"VLOOKUP(F646,Soutez!A:B,2,FALSE)","v":"LT"},{"$f":"VLOOKUP(F646,Soutez!A:C,3,FALSE)","v":2022},8,3181,1.075,8057,8661,null,null,"LS 4",79,"Není v databázi"]
["Andrej Lebedev",null,null,"Lithuania",null,"EGC 2022 - Klub",{"$f":"VLOOKUP(F647,Soutez!A:B,2,FALSE)","v":"LT"},{"$f":"VLOOKUP(F647,Soutez!A:C,3,FALSE)","v":2022},9,3164,1.075,7915,8509,null,null,"ASW 20","WU","Není v databázi"]
["Uwe Melzer",null,null,"Germany",null,"EGC 2022 - Klub",{"$f":"VLOOKUP(F648,Soutez!A:B,2,FALSE)","v":"LT"},{"$f":"VLOOKUP(F648,Soutez!A:C,3,FALSE)","v":2022},10,3149,1.075,7776,8359,null,null,"LS 4","UWE","Není v databázi"]
["Jan Ratz",{"$f":"VLOOKUP(A649,Pilot,2,0)","v":1987},{"$f":"VLOOKUP(A649,Pilot,5,0)","v":"M"},{"$f":"VLOOKUP(A649,Pilot,3,0)","v":"Zbraslavice"},{"$f":"VLOOKUP(A649,Pilot,4,0)","v":"CZ/C1"},"EGC 2022 - Klub",{"$f":"VLOOKUP(F649,Soutez!A:B,2,FALSE)","v":"LT"},{"$f":"VLOOKUP(F649,Soutez!A:C,3,FALSE)","v":2022},11,3148,1.075,7664,8239,"x",null,"ASW 20","NW",""]
["Arturas Pilvinis",null,null,"Lithuania",null,"EGC 2022 - Klub",{"$f":"VLOOKUP(F650,Soutez!A:B,2,FALSE)","v":"LT"},{"$f":"VLOOKUP(F650,Soutez!A:C,3,FALSE)","v":2022},12,3129,1.075,7518,8082,null,null,"ASW 20 F","VJ","Není v databázi"]
["Roelof Corporaal",null,null,"Netherlands",null,"EGC 2022 - Klub",{"$f":"VLOOKUP(F651,Soutez!A:B,2,FALSE)","v":"LT"},{"$f":"VLOOKUP(F651,Soutez!A:C,3,FALSE)","v":2022},13,3127,1.075,7403,7958,null,null,"LS 7 neo","LK","Není v databázi"]
["Lasse Edslev",null,null,"Denmark",null,"EGC 2022 - Klub",{"$f":"VLOOKUP(F652,Soutez!A:B,2,FALSE)","v":"LT"},{"$f":"VLOOKUP(F652,Soutez!A:C,3,FALSE)","v":2022},14,3107,{"$f":"VLOOKUP(F652,Soutez,12,0)","v":1.075},7255,7799,null,null,"LS 4 a","LE","Není v databázi"]
["Miroslaw Izydorczak",null,null,"Poland",null,"EGC 2022 - Klub",{"$f":"VLOOKUP(F653,Soutez!A:B,2,FALSE)","v":"LT"},{"$f":"VLOOKUP(F653,Soutez!A:C,3,FALSE)","v":2022},15,3068,1.075,7072,7602,null,null,"ASW 20 F","SB","Není v databázi"]
["Zbigniew Górecki",null,null,"Poland",null,"EGC 2022 - Klub",{"$f":"VLOOKUP(F654,Soutez!A:B,2,FALSE)","v":"LT"},{"$f":"VLOOKUP(F654,Soutez!A:C,3,FALSE)","v":2022},16,3008,1.075,6851,{"$f":"ROUND(K654*L654,0)","v":7365},null,null,"Mini Nimbus B","CHI","Není v databázi"]
["Ionut Tudor",null,null,"Romania",null,"EGC 2022 - Klub",{"$f":"VLOOKUP(F655,Soutez!A:B,2,FALSE)","v":"LT"},{"$f":"VLOOKUP(F655,Soutez!A:C,3,FALSE)","v":2022},17,2894,1.075,6531,7021,null,null,"LS 4 WL","8M","Není v databázi"]
["Robert Alin Simion",null,null,"Romania",null,"EGC 2022 - Klub",{"$f":"VLOOKUP(F656,Soutez!A:B,2,FALSE)","v":"LT"},{"$f":"VLOOKUP(F656,Soutez!A:C,3,FALSE)","v":2022},18,2837,1.075,6315,6789,null,null,"LS 4 a","Y2","Není v databázi"]
["Sakari Pyorre",null,null,"Finland",null,"EGC 2022 - Klub",{"$f":"VLOOKUP(F657,Soutez!A:B,2,FALSE)","v":"LT"},{"$f":"VLOOKUP(F657,Soutez!A:C,3,FALSE)","v":2022},19,2836,1.075,6202,6667,null,null,"LS 7","PF","Není v databázi"]
["Zoltan Meszaros",null,null,"Hungary",null,"EGC 2022 - Klub",{"$f":"VLOOKUP(F658,Soutez!A:B,2,FALSE)","v":"LT"},{"$f":"VLOOKUP(F658,Soutez!A:C,3,FALSE)","v":2022},20,2778,1.075,5985,6434,null,null,"ASW 20","BA","Není v databázi"]
["Szabolcs Veigli",null,null,"Hungary",null,"EGC 2022 - Klub",{"$f":"VLOOKUP(F659,Soutez!A:B,2,FALSE)","v":"LT"},{"$f":"VLOOKUP(F659,Soutez!A:C,3,FALSE)","v":2022},21,2776,1.075,5870,6310,null,null,"ASW 20 L","AC","Není v databázi"]
["Claudia Hill",null,null,"United Kingdom",null,"EGC 2022 - Klub",{"$f":"VLOOKUP(F660,Soutez!A:B,2,FALSE)","v":"LT"},{"$f":"VLOOKUP(F660,Soutez!A:C,3,FALSE)","v":2022},22,2752,1.075,5715,6144,null,null,"LS 1-f neo","CH","Není v databázi"]
["Martin Sabla",null,null,"Slovakia",null,"EGC 2022 - Klub",{"$f":"VLOOKUP(F661,Soutez!A:B,2,FALSE)","v":"LT"},{"$f":"VLOOKUP(F661,Soutez!A:C,3,FALSE)","v":2022},23,2669,1.075,5452,5861,null,null,"Discus b","70I","Není v databázi"]
["Oleg Bondarchuk",null,null,"Ukraine",null,"EGC 2022 - Klub",{"$f":"VLOOKUP(F662,Soutez!A:B,2,FALSE)","v":"LT"},{"$f":"VLOOKUP(F662,Soutez!A:C,3,FALSE)","v":2022},24,2477,1.075,4988,5362,null,null,"Pegase 101A","PL","Není v databázi"]
["Maxence Stawski",null,null,"France",null,"EGC 2022 - Klub",{"$f":"VLOOKUP(F663,Soutez!A:B,2,FALSE)","v":"LT"},{"$f":"VLOOKUP(F663,Soutez!A:C,3,FALSE)","v":2022},25,2457,1.075,4840,5203,null,null,"LS 4","V78","Není v databázi"]
["Robin Selfslagh",null,null,"Belgium",null,"EGC 2022 - Klub",{"$f":"VLOOKUP(F664,Soutez!A:B,2,FALSE)","v":"LT"},{"$f":"VLOOKUP(F664,Soutez!A:C,3,FALSE)","v":2022},26,2372,1.075,4573,4916,null,null,"LS 1-f","1T","Není v databázi"]
["Frane Franic",null,null,"Croatia",null,"EGC 2022 - Klub",{"$f":"VLOOKUP(F665,Soutez!A:B,2,FALSE)","v":"LT"},{"$f":"VLOOKUP(F665,Soutez!A:C,3,FALSE)","v":2022},27,1846,1.075,3497,3759,null,null,"ASW 24","HR3","Není v databázi"]
["Luca Urbani",null,null,"Italy",null,"EGC 2022 - Klub",{"$f":"VLOOKUP(F666,Soutez!A:B,2,FALSE)","v":"LT"},{"$f":"VLOOKUP(F666,Soutez!A:C,3,FALSE)","v":2022},28,1404,1.075,2575,2768,null,null,"LS 3 a","CE","Není v databázi"]
["Jan-Ola Nordh",null,null,"Sweden",null,"EGC 2022 - Std",{"$f":"VLOOKUP(F667,Soutez!A:B,2,FALSE)","v":"LT"},{"$f":"VLOOKUP(F667,Soutez!A:C,3,FALSE)","v":2022},1,3611,{"$f":"VLOOKUP(F667,Soutez,12,0)","v":1.0899999999999999},{"$f":"ROUND(J667/MAX($J$667:$J$694)*10000*0.7+(MAX($I$667:$I$694)-I667)/(MAX($I$667:$I$694)-1)*10000*0.3,0)","v":10000},{"$f":"ROUND(K667*L667,0)","v":10900},null,null,"Discus 2 T","TA","Není v databázi"]
["Lukasz Blaszczyk",null,null,"Poland",null,"EGC 2022 - Std",{"$f":"VLOOKUP(F668,Soutez!A:B,2,FALSE)","v":"LT"},{"$f":"VLOOKUP(F668,Soutez!A:C,3,FALSE)","v":2022},2,3578,{"$f":"VLOOKUP(F668,Soutez,12,0)","v":1.0899999999999999},9825,{"$f":"ROUND(K668*L668,0)","v":10709},null,null,"Discus 2a","I","Není v databázi"]
["Dennis Huybreckx",null,null,"Belgium",null,"EGC 2022 - Std",{"$f":"VLOOKUP(F669,Soutez!A:B,2,FALSE)","v":"LT"},{"$f":"VLOOKUP(F669,Soutez!A:C,3,FALSE)","v":2022},3,3575,1.0899999999999999,9708,10582,null,null,"LS 8","CM","Není v databázi"]
["Sami Rissanen",null,null,"Finland",null,"EGC 2022 - Std",{"$f":"VLOOKUP(F670,Soutez!A:B,2,FALSE)","v":"LT"},{"$f":"VLOOKUP(F670,Soutez!A:C,3,FALSE)","v":2022},4,3491,1.0899999999999999,9434,10283,null,null,"LS 8","ES","Není v databázi"]
["Jeroen Jennen",null,null,"Belgium",null,"EGC 2022 - Std",{"$f":"VLOOKUP(F671,Soutez!A:B,2,FALSE)","v":"LT"},{"$f":"VLOOKUP(F671,Soutez!A:C,3,FALSE)","v":2022},5,3483,1.0899999999999999,9307,10145,null,null,"LS 8","LT","Není v databázi"]
["Gvidas Sabeckis",null,null,"Lithuania",null,"EGC 2022 - Std",{"$f":"VLOOKUP(F672,Soutez!A:B,2,FALSE)","v":"LT"},{"$f":"VLOOKUP(F672,Soutez!A:C,3,FALSE)","v":2022},5,3483,1.0899999999999999,9307,10145,null,null,"LS 8","H8","Není v databázi"]
["Miloslav Cink",{"$f":"VLOOKUP(A673,Pilot,2,0)","v":1987},{"$f":"VLOOKUP(A673,Pilot,5,0)","v":"M"},{"$f":"VLOOKUP(A673,Pilot,3,0)","v":"Letkov"},{"$f":"VLOOKUP(A673,Pilot,4,0)","v":"CZ/C1"},"EGC 2022 - Std",{"$f":"VLOOKUP(F673,Soutez!A:B,2,FALSE)","v":"LT"},{"$f":"VLOOKUP(F673,Soutez!A:C,3,FALSE)","v":2022},7,3433,1.0899999999999999,8988,9797,null,null,"LS 8 b","J3",""]
["Jan Pavlik",1987,"M","Křižanov","CZ/M","EGC 2022 - Std",{"$f":"VLOOKUP(F674,Soutez!A:B,2,FALSE)","v":"LT"},{"$f":"VLOOKUP(F674,Soutez!A:C,3,FALSE)","v":2022},8,3420,1.0899999999999999,8852,9649,null,null,"LS 8","JW",""]
["Enrique Levin",null,null,"Germany",null,"EGC 2022 - Std",{"$f":"VLOOKUP(F675,Soutez!A:B,2,FALSE)","v":"LT"},{"$f":"VLOOKUP(F675,Soutez!A:C,3,FALSE)","v":2022},9,3360,1.0899999999999999,8625,9401,null,null,"Discus 2a","FL","Není v databázi"]
["Norbert-Alin Scarlat",null,null,"Romania",null,"EGC 2022 - Std",{"$f":"VLOOKUP(F676,Soutez!A:B,2,FALSE)","v":"LT"},{"$f":"VLOOKUP(F676,Soutez!A:C,3,FALSE)","v":2022},10,3305,1.0899999999999999,8407,9164,null,null,"Discus 2a","Y1","Není v databázi"]
["Mario Kiessling",null,null,"Germany",null,"EGC 2022 - Std",{"$f":"VLOOKUP(F677,Soutez!A:B,2,FALSE)","v":"LT"},{"$f":"VLOOKUP(F677,Soutez!A:C,3,FALSE)","v":2022},11,3286,1.0899999999999999,8259,9002,null,null,"Discus 2a","XN","Není v databázi"]
["Valentin Leleu-Lambour",null,null,"France",null,"EGC 2022 - Std",{"$f":"VLOOKUP(F678,Soutez!A:B,2,FALSE)","v":"LT"},{"$f":"VLOOKUP(F678,Soutez!A:C,3,FALSE)","v":2022},12,3281,{"$f":"VLOOKUP(F678,Soutez,12,0)","v":1.0899999999999999},8138,8870,null,null,"LS 8","ZT","Není v databázi"]
["Pavel Louzecky",{"$f":"VLOOKUP(A679,Pilot,2,0)","v":1957},{"$f":"VLOOKUP(A679,Pilot,5,0)","v":"M"},{"$f":"VLOOKUP(A679,Pilot,3,0)","v":"Přibyslav"},{"$f":"VLOOKUP(A679,Pilot,4,0)","v":"CZ/C2"},"EGC 2022 - Std",{"$f":"VLOOKUP(F679,Soutez!A:B,2,FALSE)","v":"LT"},{"$f":"VLOOKUP(F679,Soutez!A:C,3,FALSE)","v":2022},13,3271,1.0899999999999999,8008,8729,null,null,"LS 8 b","FX",{"$f":"IF(ISERROR(VLOOKUP(A679,Pilot,6,0)),\"Není v databázi\",VLOOKUP(A679,Pilot,6,0))","v":""}]
["Davide Giovanelli",null,null,"Switzerland",null,"EGC 2022 - Std",{"$f":"VLOOKUP(F680,Soutez!A:B,2,FALSE)","v":"LT"},{"$f":"VLOOKUP(F680,Soutez!A:C,3,FALSE)","v":2022},14,3220,1.0899999999999999,7798,{"$f":"ROUND(K680*L680,0)","v":8500},null,null,"Discus 2b","TS","Není v databázi"]
["Wiktor Lacinski",null,null,"Poland",null,"EGC 2022 - Std",{"$f":"VLOOKUP(F681,Soutez!A:B,2,FALSE)","v":"LT"},{"$f":"VLOOKUP(F681,Soutez!A:C,3,FALSE)","v":2022},15,3161,1.0899999999999999,7572,8253,null,null,"Discus 2a","Y","Není v databázi"]
["Victor-Alex Pop",null,null,"Romania",null,"EGC 2022 - Std",{"$f":"VLOOKUP(F682,Soutez!A:B,2,FALSE)","v":"LT"},{"$f":"VLOOKUP(F682,Soutez!A:C,3,FALSE)","v":2022},16,3147,1.0899999999999999,7434,8103,null,null,"Discus 2a","YB","Není v databázi"]
["Stephan Grunder",null,null,"Netherlands",null,"EGC 2022 - Std",{"$f":"VLOOKUP(F683,Soutez!A:B,2,FALSE)","v":"LT"},{"$f":"VLOOKUP(F683,Soutez!A:C,3,FALSE)","v":2022},17,3079,1.0899999999999999,7191,7838,null,null,"LS 8 a","XK","Není v databázi"]
["Paul Fritche",null,null,"United Kingdom",null,"EGC 2022 - Std",{"$f":"VLOOKUP(F684,Soutez!A:B,2,FALSE)","v":"LT"},{"$f":"VLOOKUP(F684,Soutez!A:C,3,FALSE)","v":2022},18,3004,1.0899999999999999,6934,7558,null,null,"LS 8","L4","Není v databázi"]
["Tamas Vamosi",null,null,"Hungary",null,"EGC 2022 - Std",{"$f":"VLOOKUP(F685,Soutez!A:B,2,FALSE)","v":"LT"},{"$f":"VLOOKUP(F685,Soutez!A:C,3,FALSE)","v":2022},19,2845,1.0899999999999999,6515,7101,null,null,"Discus 2a","HAL","Není v databázi"]
["Jan Brandt Jorgensen",null,null,"Denmark",null,"EGC 2022 - Std",{"$f":"VLOOKUP(F686,Soutez!A:B,2,FALSE)","v":"LT"},{"$f":"VLOOKUP(F686,Soutez!A:C,3,FALSE)","v":2022},20,2825,1.0899999999999999,6365,6938,null,null,"LS 8 neo","JB","Není v databázi"]
["Ringaudas Kikalas",null,null,"Lithuania",null,"EGC 2022 - Std",{"$f":"VLOOKUP(F687,Soutez!A:B,2,FALSE)","v":"LT"},{"$f":"VLOOKUP(F687,Soutez!A:C,3,FALSE)","v":2022},21,2719,1.0899999999999999,6049,6593,null,null,"LS 8","SI","Není v databázi"]
["Peter Banki",null,null,"Hungary",null,"EGC 2022 - Std",{"$f":"VLOOKUP(F688,Soutez!A:B,2,FALSE)","v":"LT"},{"$f":"VLOOKUP(F688,Soutez!A:C,3,FALSE)","v":2022},22,2683,1.0899999999999999,5868,6396,null,null,"Discus 2a","HUN","Není v databázi"]
["Remy Hirt",null,null,"Switzerland",null,"EGC 2022 - Std",{"$f":"VLOOKUP(F689,Soutez!A:B,2,FALSE)","v":"LT"},{"$f":"VLOOKUP(F689,Soutez!A:C,3,FALSE)","v":2022},23,2579,1.0899999999999999,5555,6055,null,null,"LS 8","AB","Není v databázi"]
["Peter Marius Jensen",null,null,"Denmark",null,"EGC 2022 - Std",{"$f":"VLOOKUP(F690,Soutez!A:B,2,FALSE)","v":"LT"},{"$f":"VLOOKUP(F690,Soutez!A:C,3,FALSE)","v":2022},24,2578,1.0899999999999999,5442,5932,null,null,"Discus 2c","PU","Není v databázi"]
["Aude Untersee",null,null,"France",null,"EGC 2022 - Std",{"$f":"VLOOKUP(F691,Soutez!A:B,2,FALSE)","v":"LT"},{"$f":"VLOOKUP(F691,Soutez!A:C,3,FALSE)","v":2022},25,2498,1.0899999999999999,5176,5642,null,null,"Discus 2a","JPA","Není v databázi"]
["Nigel Mallender",null,null,"United Kingdom",null,"EGC 2022 - Std",{"$f":"VLOOKUP(F692,Soutez!A:B,2,FALSE)","v":"LT"},{"$f":"VLOOKUP(F692,Soutez!A:C,3,FALSE)","v":2022},26,2430,1.0899999999999999,4933,5377,null,null,"LS 8",946,"Není v databázi"]
["Antti Koskiniemi",null,null,"Finland",null,"EGC 2022 - Std",{"$f":"VLOOKUP(F693,Soutez!A:B,2,FALSE)","v":"LT"},{"$f":"VLOOKUP(F693,Soutez!A:C,3,FALSE)","v":2022},27,2159,1.0899999999999999,4296,4683,null,null,"Discus 2b","JS","Není v databázi"]
["Anna Piotrowska",null,null,"Croatia",null,"EGC 2022 - Std",{"$f":"VLOOKUP(F694,Soutez!A:B,2,FALSE)","v":"LT"},{"$f":"VLOOKUP(F694,Soutez!A:C,3,FALSE)","v":2022},28,1809,1.0899999999999999,3507,3823,null,null,"LS 8","GM","Není v databázi"]
["Sebastian Kawa",null,null,"Poland",null,"EGC 2022 - 15m",{"$f":"VLOOKUP(F695,Soutez!A:B,2,FALSE)","v":"LT"},{"$f":"VLOOKUP(F695,Soutez!A:C,3,FALSE)","v":2022},1,4452,{"$f":"VLOOKUP(F695,Soutez,12,0)","v":1.06},{"$f":"ROUND(J695/MAX($J$695:$J$720)*10000*0.7+(MAX($I$695:$I$720)-I695)/(MAX($I$695:$I$720)-1)*10000*0.3,0)","v":10000},{"$f":"ROUND(K695*L695,0)","v":10600},null,null,"Diana 2 FES V","ZJ","Není v databázi"]
["Lukasz Grabowski",null,null,"Poland",null,"EGC 2022 - 15m",{"$f":"VLOOKUP(F696,Soutez!A:B,2,FALSE)","v":"LT"},{"$f":"VLOOKUP(F696,Soutez!A:C,3,FALSE)","v":2022},2,4328,{"$f":"VLOOKUP(F696,Soutez,12,0)","v":1.06},9685,{"$f":"ROUND(K696*L696,0)","v":10266},null,null,"Diana 2","RP","Není v databázi"]
["Oliver Springer",null,null,"Germany",null,"EGC 2022 - 15m",{"$f":"VLOOKUP(F697,Soutez!A:B,2,FALSE)","v":"LT"},{"$f":"VLOOKUP(F697,Soutez!A:C,3,FALSE)","v":2022},3,4027,1.06,9092,9638,null,null,"AS 33 Es","OS","Není v databázi"]
["Karel Novak",{"$f":"VLOOKUP(A698,Pilot,2,0)","v":1993},{"$f":"VLOOKUP(A698,Pilot,5,0)","v":"M"},{"$f":"VLOOKUP(A698,Pilot,3,0)","v":"Mladá Boleslav"},{"$f":"VLOOKUP(A698,Pilot,4,0)","v":"CZ/C1"},"EGC 2022 - 15m",{"$f":"VLOOKUP(F698,Soutez!A:B,2,FALSE)","v":"LT"},{"$f":"VLOOKUP(F698,Soutez!A:C,3,FALSE)","v":2022},4,4001,{"$f":"VLOOKUP(F698,Soutez,12,0)","v":1.06},8931,9467,"x",null,"JS3 15m","ZE",""]
["Harri Hirvola",null,null,"Finland",null,"EGC 2022 - 15m",{"$f":"VLOOKUP(F699,Soutez!A:B,2,FALSE)","v":"LT"},{"$f":"VLOOKUP(F699,Soutez!A:C,3,FALSE)","v":2022},5,3972,1.06,8765,9291,null,null,"Ventus 2a","EH","Není v databázi"]
["Yves Gerster",null,null,"Switzerland",null,"EGC 2022 - 15m",{"$f":"VLOOKUP(F700,Soutez!A:B,2,FALSE)","v":"LT"},{"$f":"VLOOKUP(F700,Soutez!A:C,3,FALSE)","v":2022},6,3851,1.06,8455,{"$f":"ROUND(K700*L700,0)","v":8962},null,null,"JS3",73,"Není v databázi"]
["Julien Duboc",null,null,"France",null,"EGC 2022 - 15m",{"$f":"VLOOKUP(F701,Soutez!A:B,2,FALSE)","v":"LT"},{"$f":"VLOOKUP(F701,Soutez!A:C,3,FALSE)","v":2022},7,3830,1.06,8302,8800,null,null,"Ventus 2ax","EQ","Není v databázi"]
["Werner Amann",null,null,"Austria",null,"EGC 2022 - 15m",{"$f":"VLOOKUP(F702,Soutez!A:B,2,FALSE)","v":"LT"},{"$f":"VLOOKUP(F702,Soutez!A:C,3,FALSE)","v":2022},8,3825,1.06,8174,8664,null,null,"AS 33","WG","Není v databázi"]
["Kevin Faur",null,null,"France",null,"EGC 2022 - 15m",{"$f":"VLOOKUP(F703,Soutez!A:B,2,FALSE)","v":"LT"},{"$f":"VLOOKUP(F703,Soutez!A:C,3,FALSE)","v":2022},9,3808,1.06,8027,8509,null,null,"Ventus 2a","IR","Není v databázi"]
["Tim Scott",null,null,"United Kingdom",null,"EGC 2022 - 15m",{"$f":"VLOOKUP(F704,Soutez!A:B,2,FALSE)","v":"LT"},{"$f":"VLOOKUP(F704,Soutez!A:C,3,FALSE)","v":2022},10,3743,1.06,7805,8273,null,null,"ASG 29","Z3","Není v databázi"]
["Andreas Lutz",null,null,"Austria",null,"EGC 2022 - 15m",{"$f":"VLOOKUP(F705,Soutez!A:B,2,FALSE)","v":"LT"},{"$f":"VLOOKUP(F705,Soutez!A:C,3,FALSE)","v":2022},11,3712,1.06,7636,8094,null,null,"Ventus 3 T","A","Není v databázi"]
["Marius Pluscauskas",null,null,"Lithuania",null,"EGC 2022 - 15m",{"$f":"VLOOKUP(F706,Soutez!A:B,2,FALSE)","v":"LT"},{"$f":"VLOOKUP(F706,Soutez!A:C,3,FALSE)","v":2022},12,3542,1.06,7249,7684,null,null,"Ventus 2ax","XY","Není v databázi"]
["David Mach",1994,"M",{"$f":"VLOOKUP(A707,Pilot,3,0)","v":"Hronov"},{"$f":"VLOOKUP(A707,Pilot,4,0)","v":"CZ/C2"},"EGC 2022 - 15m",{"$f":"VLOOKUP(F707,Soutez!A:B,2,FALSE)","v":"LT"},{"$f":"VLOOKUP(F707,Soutez!A:C,3,FALSE)","v":2022},13,3533,1.06,7115,7542,null,null,"JS3 15m","XM",""]
["Henrik A. Breidahl",null,null,"Denmark",null,"EGC 2022 - 15m",{"$f":"VLOOKUP(F708,Soutez!A:B,2,FALSE)","v":"LT"},{"$f":"VLOOKUP(F708,Soutez!A:C,3,FALSE)","v":2022},14,3518,1.06,6971,7389,null,null,"JS MD 3",14,"Není v databázi"]
["Nick Tillett",null,null,"United Kingdom",null,"EGC 2022 - 15m",{"$f":"VLOOKUP(F709,Soutez!A:B,2,FALSE)","v":"LT"},{"$f":"VLOOKUP(F709,Soutez!A:C,3,FALSE)","v":2022},15,3391,1.06,6652,7051,null,null,"ASG 29 Es","NT","Není v databázi"]
["Gintaras Drevinskas",null,null,"Lithuania",null,"EGC 2022 - 15m",{"$f":"VLOOKUP(F710,Soutez!A:B,2,FALSE)","v":"LT"},{"$f":"VLOOKUP(F710,Soutez!A:C,3,FALSE)","v":2022},16,3350,1.06,6467,6855,null,null,"ASG 29","M7","Není v databázi"]
["Thomas Wettemann",null,null,"Germany",null,"EGC 2022 - 15m",{"$f":"VLOOKUP(F711,Soutez!A:B,2,FALSE)","v":"LT"},{"$f":"VLOOKUP(F711,Soutez!A:C,3,FALSE)","v":2022},17,3136,1.06,6011,6372,null,null,"JS MD 3","EA","Není v databázi"]
["Gabor Gangl",null,null,"Hungary",null,"EGC 2022 - 15m",{"$f":"VLOOKUP(F712,Soutez!A:B,2,FALSE)","v":"LT"},{"$f":"VLOOKUP(F712,Soutez!A:C,3,FALSE)","v":2022},18,3061,1.06,5773,6119,null,null,"Ventus 2a","V8","Není v databázi"]
["Lars Groot",null,null,"Netherlands",null,"EGC 2022 - 15m",{"$f":"VLOOKUP(F713,Soutez!A:B,2,FALSE)","v":"LT"},{"$f":"VLOOKUP(F713,Soutez!A:C,3,FALSE)","v":2022},19,2977,1.06,5521,5852,null,null,"ASG 29 E","GR","Není v databázi"]
["Mark Käppeli",null,null,"Switzerland",null,"EGC 2022 - 15m",{"$f":"VLOOKUP(F714,Soutez!A:B,2,FALSE)","v":"LT"},{"$f":"VLOOKUP(F714,Soutez!A:C,3,FALSE)","v":2022},20,2738,1.06,5025,5327,null,null,"JS3","MK","Není v databázi"]
["Felipe Cvitanich",null,null,"Denmark",null,"EGC 2022 - 15m",{"$f":"VLOOKUP(F715,Soutez!A:B,2,FALSE)","v":"LT"},{"$f":"VLOOKUP(F715,Soutez!A:C,3,FALSE)","v":2022},21,2629,1.06,4734,5018,null,null,"Ventus 2 ct","RJ","Není v databázi"]
["Nuutti Kankare",null,null,"Finland",null,"EGC 2022 - 15m",{"$f":"VLOOKUP(F716,Soutez!A:B,2,FALSE)","v":"LT"},{"$f":"VLOOKUP(F716,Soutez!A:C,3,FALSE)","v":2022},22,2586,1.06,4546,4819,null,null,"Ventus 2bx","KX","Není v databázi"]
["Thomas De Bruyn",null,null,"Belgium",null,"EGC 2022 - 15m",{"$f":"VLOOKUP(F717,Soutez!A:B,2,FALSE)","v":"LT"},{"$f":"VLOOKUP(F717,Soutez!A:C,3,FALSE)","v":2022},23,2293,1.06,3965,4203,null,null,"Ventus 2ax","FS","Není v databázi"]
["Bruno Herencic",null,null,"Croatia",null,"EGC 2022 - 15m",{"$f":"VLOOKUP(F718,Soutez!A:B,2,FALSE)","v":"LT"},{"$f":"VLOOKUP(F718,Soutez!A:C,3,FALSE)","v":2022},24,2123,1.06,3578,3793,null,null,"Diana 2 FES","BH","Není v databázi"]
["Laszlo Bano",null,null,"Hungary",null,"EGC 2022 - 15m",{"$f":"VLOOKUP(F719,Soutez!A:B,2,FALSE)","v":"LT"},{"$f":"VLOOKUP(F719,Soutez!A:C,3,FALSE)","v":2022},25,1318,1.06,2192,2324,null,null,"JS MD 3","AX","Není v databázi"]
["Lorenzo Fornari",null,null,"Italy",null,"EGC 2022 - 15m",{"$f":"VLOOKUP(F720,Soutez!A:B,2,FALSE)","v":"LT"},{"$f":"VLOOKUP(F720,Soutez!A:C,3,FALSE)","v":2022},26,104,1.06,164,174,null,null,"Ventus 2ax","LD","Není v databázi"]
["Finn Sleigh",null,null,null,null,"JWGC 2022 - Klub",{"$f":"VLOOKUP(F721,Soutez!A:B,2,FALSE)","v":"CZ"},{"$f":"VLOOKUP(F721,Soutez!A:C,3,FALSE)","v":2022},1,8132,{"$f":"VLOOKUP(F721,Soutez,12,0)","v":1.075},{"$f":"ROUND(J721/MAX($J$721:$J$765)*10000*0.7+(MAX($I$721:$I$765)-I721)/(MAX($I$721:$I$765)-1)*10000*0.3,0)","v":10000},{"$f":"ROUND(K721*L721,0)","v":10750},null,null,"ASW 20",5,"Není v databázi"]
["Toby Freeland",null,null,null,null,"JWGC 2022 - Klub",{"$f":"VLOOKUP(F722,Soutez!A:B,2,FALSE)","v":"CZ"},{"$f":"VLOOKUP(F722,Soutez!A:C,3,FALSE)","v":2022},2,7874,{"$f":"VLOOKUP(F722,Soutez,12,0)","v":1.075},9710,{"$f":"ROUND(K722*L722,0)","v":10438},null,null,"ASW 20 l",212,"Není v databázi"]
["Nils Fecker",null,null,null,null,"JWGC 2022 - Klub",{"$f":"VLOOKUP(F723,Soutez!A:B,2,FALSE)","v":"CZ"},{"$f":"VLOOKUP(F723,Soutez!A:C,3,FALSE)","v":2022},3,7852,1.075,9623,10345,null,null,"LS4 a","FT","Není v databázi"]
["Lars Van Breemen",null,null,null,null,"JWGC 2022 - Klub",{"$f":"VLOOKUP(F724,Soutez!A:B,2,FALSE)","v":"CZ"},{"$f":"VLOOKUP(F724,Soutez!A:C,3,FALSE)","v":2022},4,7781,1.075,9493,10205,null,null,"LS4 b Neo","S4","Není v databázi"]
["Alexandre Fierain",null,null,null,null,"JWGC 2022 - Klub",{"$f":"VLOOKUP(F725,Soutez!A:B,2,FALSE)","v":"CZ"},{"$f":"VLOOKUP(F725,Soutez!A:C,3,FALSE)","v":2022},5,7738,1.075,9388,10092,null,null,"ASW 20","WE","Není v databázi"]
["Toni Kittler",null,null,null,null,"JWGC 2022 - Klub",{"$f":"VLOOKUP(F726,Soutez!A:B,2,FALSE)","v":"CZ"},{"$f":"VLOOKUP(F726,Soutez!A:C,3,FALSE)","v":2022},6,7641,1.075,9236,9929,null,null,"LS4 a","BV","Není v databázi"]
["Miles Kjær",null,null,null,null,"JWGC 2022 - Klub",{"$f":"VLOOKUP(F727,Soutez!A:B,2,FALSE)","v":"CZ"},{"$f":"VLOOKUP(F727,Soutez!A:C,3,FALSE)","v":2022},7,7592,1.075,9126,9810,null,null,"ASW 20","CB","Není v databázi"]
["Kim Toppari",null,null,null,null,"JWGC 2022 - Klub",{"$f":"VLOOKUP(F728,Soutez!A:B,2,FALSE)","v":"CZ"},{"$f":"VLOOKUP(F728,Soutez!A:C,3,FALSE)","v":2022},8,7558,1.075,9029,9706,null,null,"LS7 wl","FK","Není v databázi"]
["Jelmer Vis",null,null,null,null,"JWGC 2022 - Klub",{"$f":"VLOOKUP(F729,Soutez!A:B,2,FALSE)","v":"CZ"},{"$f":"VLOOKUP(F729,Soutez!A:C,3,FALSE)","v":2022},9,7553,1.075,8956,9628,null,null,"LS4 a","VIS","Není v databázi"]
["Philip Jonker",null,null,null,null,"JWGC 2022 - Klub",{"$f":"VLOOKUP(F730,Soutez!A:B,2,FALSE)","v":"CZ"},{"$f":"VLOOKUP(F730,Soutez!A:C,3,FALSE)","v":2022},10,7544,1.075,8880,9546,null,null,"LS3","SF","Není v databázi"]
["Eric Schneider",null,null,null,null,"JWGC 2022 - Klub",{"$f":"VLOOKUP(F731,Soutez!A:B,2,FALSE)","v":"CZ"},{"$f":"VLOOKUP(F731,Soutez!A:C,3,FALSE)","v":2022},11,7530,1.075,8800,9460,null,null,"LS4 b","MH","Není v databázi"]
["Mark Travner",null,null,null,null,"JWGC 2022 - Klub",{"$f":"VLOOKUP(F732,Soutez!A:B,2,FALSE)","v":"CZ"},{"$f":"VLOOKUP(F732,Soutez!A:C,3,FALSE)","v":2022},12,7519,1.075,8722,9376,null,null,"ASW 20","SH","Není v databázi"]
["Simon van den Eijkel",null,null,null,null,"JWGC 2022 - Klub",{"$f":"VLOOKUP(F733,Soutez!A:B,2,FALSE)","v":"CZ"},{"$f":"VLOOKUP(F733,Soutez!A:C,3,FALSE)","v":2022},13,7503,1.075,8640,9288,null,null,"LS4","Aa",{"$f":"IF(ISERROR(VLOOKUP(A733,Pilot,6,0)),\"Není v databázi\",VLOOKUP(A733,Pilot,6,0))","v":"Není v databázi"}]
["Jens Andersen",null,null,null,null,"JWGC 2022 - Klub",{"$f":"VLOOKUP(F734,Soutez!A:B,2,FALSE)","v":"CZ"},{"$f":"VLOOKUP(F734,Soutez!A:C,3,FALSE)","v":2022},14,7398,1.075,8482,9118,null,null,"Mosquito","N8","Není v databázi"]
["Vit Morkovsky",{"$f":"VLOOKUP(A735,Pilot,2,0)","v":2000},{"$f":"VLOOKUP(A735,Pilot,5,0)","v":"M"},{"$f":"VLOOKUP(A735,Pilot,3,0)","v":"Polička"},{"$f":"VLOOKUP(A735,Pilot,4,0)","v":"CZ/C2"},"JWGC 2022 - Klub",{"$f":"VLOOKUP(F735,Soutez!A:B,2,FALSE)","v":"CZ"},{"$f":"VLOOKUP(F735,Soutez!A:C,3,FALSE)","v":2022},15,7348,1.075,8371,8999,"x",null,"ASW 20","CX","Junior v roce 2025"]
["Zsombor Weber",null,null,null,null,"JWGC 2022 - Klub",{"$f":"VLOOKUP(F736,Soutez!A:B,2,FALSE)","v":"CZ"},{"$f":"VLOOKUP(F736,Soutez!A:C,3,FALSE)","v":2022},16,7310,1.075,8270,8890,null,null,"ASW 20 c",18,"Není v databázi"]
["Theo Manfredi",null,null,null,null,"JWGC 2022 - Klub",{"$f":"VLOOKUP(F737,Soutez!A:B,2,FALSE)","v":"CZ"},{"$f":"VLOOKUP(F737,Soutez!A:C,3,FALSE)","v":2022},17,7241,1.075,8142,8753,null,null,"LS7","VX","Není v databázi"]
["Tereza Koubkova",1999,"F",{"$f":"VLOOKUP(A738,Pilot,3,0)","v":"Vysoké Mýto"},{"$f":"VLOOKUP(A738,Pilot,4,0)","v":"CZ/C2"},"JWGC 2022 - Klub",{"$f":"VLOOKUP(F738,Soutez!A:B,2,FALSE)","v":"CZ"},{"$f":"VLOOKUP(F738,Soutez!A:C,3,FALSE)","v":2022},18,7217,{"$f":"VLOOKUP(F738,Soutez,12,0)","v":1.075},8053,8657,"x",null,"ASW 20","MP",""]
["Lasse Edslev",null,null,null,null,"JWGC 2022 - Klub",{"$f":"VLOOKUP(F739,Soutez!A:B,2,FALSE)","v":"CZ"},{"$f":"VLOOKUP(F739,Soutez!A:C,3,FALSE)","v":2022},19,7201,1.075,7971,8569,null,null,"LS4","LE","Není v databázi"]
["Milan Surovcik Jr.",null,null,null,null,"JWGC 2022 - Klub",{"$f":"VLOOKUP(F740,Soutez!A:B,2,FALSE)","v":"CZ"},{"$f":"VLOOKUP(F740,Soutez!A:C,3,FALSE)","v":2022},20,7148,1.075,7858,{"$f":"ROUND(K740*L740,0)","v":8447},null,null,"ASW 20","S","Není v databázi"]
["Barnabas Tóth",null,null,null,null,"JWGC 2022 - Klub",{"$f":"VLOOKUP(F741,Soutez!A:B,2,FALSE)","v":"CZ"},{"$f":"VLOOKUP(F741,Soutez!A:C,3,FALSE)","v":2022},21,7138,1.075,7781,8365,null,null,"ASW 20","IF","Není v databázi"]
["Edgar Lagorio",null,null,null,null,"JWGC 2022 - Klub",{"$f":"VLOOKUP(F742,Soutez!A:B,2,FALSE)","v":"CZ"},{"$f":"VLOOKUP(F742,Soutez!A:C,3,FALSE)","v":2022},22,7039,1.075,7627,8199,null,null,"Discus b","3G","Není v databázi"]
["Maciej Kowalski",null,null,null,null,"JWGC 2022 - Klub",{"$f":"VLOOKUP(F743,Soutez!A:B,2,FALSE)","v":"CZ"},{"$f":"VLOOKUP(F743,Soutez!A:C,3,FALSE)","v":2022},23,6978,1.075,7507,8070,null,null,"Jantar std. 3","SO","Není v databázi"]
["Samuel Posluch",null,null,null,null,"JWGC 2022 - Klub",{"$f":"VLOOKUP(F744,Soutez!A:B,2,FALSE)","v":"CZ"},{"$f":"VLOOKUP(F744,Soutez!A:C,3,FALSE)","v":2022},24,6975,1.075,7436,7994,null,null,"ASW 20 cj","VG","Není v databázi"]
["Robert Alin Simion",null,null,null,null,"JWGC 2022 - Klub",{"$f":"VLOOKUP(F745,Soutez!A:B,2,FALSE)","v":"CZ"},{"$f":"VLOOKUP(F745,Soutez!A:C,3,FALSE)","v":2022},25,6781,1.075,7201,7741,null,null,"LS4 a","Y2","Není v databázi"]
["David McMaster",null,null,null,null,"JWGC 2022 - Klub",{"$f":"VLOOKUP(F746,Soutez!A:B,2,FALSE)","v":"CZ"},{"$f":"VLOOKUP(F746,Soutez!A:C,3,FALSE)","v":2022},26,6645,1.075,7015,7541,null,null,"ASW 20",11,"Není v databázi"]
["Simon Siska",null,null,null,null,"JWGC 2022 - Klub",{"$f":"VLOOKUP(F747,Soutez!A:B,2,FALSE)","v":"CZ"},{"$f":"VLOOKUP(F747,Soutez!A:C,3,FALSE)","v":2022},27,6605,1.075,6913,7431,null,null,"ASW 24 wl","CK","Není v databázi"]
["Pascal Zollikofer",null,null,null,null,"JWGC 2022 - Klub",{"$f":"VLOOKUP(F748,Soutez!A:B,2,FALSE)","v":"CZ"},{"$f":"VLOOKUP(F748,Soutez!A:C,3,FALSE)","v":2022},28,6593,1.075,6834,7347,null,null,"LS4","FC","Není v databázi"]
["Ionut Tudor",null,null,null,null,"JWGC 2022 - Klub",{"$f":"VLOOKUP(F749,Soutez!A:B,2,FALSE)","v":"CZ"},{"$f":"VLOOKUP(F749,Soutez!A:C,3,FALSE)","v":2022},29,6568,1.075,6745,7251,null,null,"LS4 wl","8M","Není v databázi"]
["Ivan Tvrdik",1997,"M",{"$f":"VLOOKUP(A750,Pilot,3,0)","v":"Letňany"},{"$f":"VLOOKUP(A750,Pilot,4,0)","v":"CZ/C1"},"JWGC 2022 - Klub",{"$f":"VLOOKUP(F750,Soutez!A:B,2,FALSE)","v":"CZ"},{"$f":"VLOOKUP(F750,Soutez!A:C,3,FALSE)","v":2022},30,6407,1.075,6538,7028,null,null,"ASW 20","NW",""]
["Henry Richard Daly",null,null,null,null,"JWGC 2022 - Klub",{"$f":"VLOOKUP(F751,Soutez!A:B,2,FALSE)","v":"CZ"},{"$f":"VLOOKUP(F751,Soutez!A:C,3,FALSE)","v":2022},31,6390,1.075,6455,6939,null,null,"ASW 20 l","DK","Není v databázi"]
["Alessandro Bassalti",null,null,null,null,"JWGC 2022 - Klub",{"$f":"VLOOKUP(F752,Soutez!A:B,2,FALSE)","v":"CZ"},{"$f":"VLOOKUP(F752,Soutez!A:C,3,FALSE)","v":2022},32,6387,1.075,6384,6863,null,null,"Discus b","5I","Není v databázi"]
["Tomasz Kurowski",null,null,null,null,"JWGC 2022 - Klub",{"$f":"VLOOKUP(F753,Soutez!A:B,2,FALSE)","v":"CZ"},{"$f":"VLOOKUP(F753,Soutez!A:C,3,FALSE)","v":2022},33,6371,1.075,6302,6775,null,null,"SZD-48-3M Brawo","BZ","Není v databázi"]
["Dylan Osolian",null,null,null,null,"JWGC 2022 - Klub",{"$f":"VLOOKUP(F754,Soutez!A:B,2,FALSE)","v":"CZ"},{"$f":"VLOOKUP(F754,Soutez!A:C,3,FALSE)","v":2022},34,6273,1.075,6150,6611,null,null,"LS3","CP","Není v databázi"]
["Mikko Ylihärsilä",null,null,null,null,"JWGC 2022 - Klub",{"$f":"VLOOKUP(F755,Soutez!A:B,2,FALSE)","v":"CZ"},{"$f":"VLOOKUP(F755,Soutez!A:C,3,FALSE)","v":2022},35,6265,1.075,6075,6531,null,null,"LS7","GE","Není v databázi"]
["Michael Tiffin",null,null,null,null,"JWGC 2022 - Klub",{"$f":"VLOOKUP(F756,Soutez!A:B,2,FALSE)","v":"CZ"},{"$f":"VLOOKUP(F756,Soutez!A:C,3,FALSE)","v":2022},36,6243,1.075,5988,6437,null,null,"ASW 20","WX","Není v databázi"]
["Samuel Richardson",null,null,null,null,"JWGC 2022 - Klub",{"$f":"VLOOKUP(F757,Soutez!A:B,2,FALSE)","v":"CZ"},{"$f":"VLOOKUP(F757,Soutez!A:C,3,FALSE)","v":2022},37,6189,1.075,5873,6313,null,null,"Mosquito","TI","Není v databázi"]
["Emilien Montulet",null,null,null,null,"JWGC 2022 - Klub",{"$f":"VLOOKUP(F758,Soutez!A:B,2,FALSE)","v":"CZ"},{"$f":"VLOOKUP(F758,Soutez!A:C,3,FALSE)","v":2022},38,6188,1.075,5804,6239,null,null,"LS4","BZI","Není v databázi"]
["Sondre Bjørø",null,null,null,null,"JWGC 2022 - Klub",{"$f":"VLOOKUP(F759,Soutez!A:B,2,FALSE)","v":"CZ"},{"$f":"VLOOKUP(F759,Soutez!A:C,3,FALSE)","v":2022},39,6132,1.075,5687,6114,null,null,"ASW 20","TE","Není v databázi"]
["Jakub Kaczorowski",null,null,null,null,"JWGC 2022 - Klub",{"$f":"VLOOKUP(F760,Soutez!A:B,2,FALSE)","v":"CZ"},{"$f":"VLOOKUP(F760,Soutez!A:C,3,FALSE)","v":2022},40,6053,1.075,5551,5967,null,null,"SZD-48-3 Jantar Std. 3","BI","Není v databázi"]
["Sarunas Stanevicius",null,null,null,null,"JWGC 2022 - Klub",{"$f":"VLOOKUP(F761,Soutez!A:B,2,FALSE)","v":"CZ"},{"$f":"VLOOKUP(F761,Soutez!A:C,3,FALSE)","v":2022},41,5518,1.075,5023,5400,null,null,"ASW 20","BA","Není v databázi"]
["Sara Salonen",null,null,null,null,"JWGC 2022 - Klub",{"$f":"VLOOKUP(F762,Soutez!A:B,2,FALSE)","v":"CZ"},{"$f":"VLOOKUP(F762,Soutez!A:C,3,FALSE)","v":2022},42,5455,1.075,4900,5268,null,null,"Discus a","AT","Není v databázi"]
["Jokubas Motuza",null,null,null,null,"JWGC 2022 - Klub",{"$f":"VLOOKUP(F763,Soutez!A:B,2,FALSE)","v":"CZ"},{"$f":"VLOOKUP(F763,Soutez!A:C,3,FALSE)","v":2022},43,5316,1.075,4712,5065,null,null,"ASW 20","VJ","Není v databázi"]
["Lilla Szamosujvari",null,null,null,null,"JWGC 2022 - Klub",{"$f":"VLOOKUP(F764,Soutez!A:B,2,FALSE)","v":"CZ"},{"$f":"VLOOKUP(F764,Soutez!A:C,3,FALSE)","v":2022},44,5176,1.075,4524,4863,null,null,"Glasflügel 304","JM","Není v databázi"]
["David Roth",null,null,null,null,"JWGC 2022 - Klub",{"$f":"VLOOKUP(F765,Soutez!A:B,2,FALSE)","v":"CZ"},{"$f":"VLOOKUP(F765,Soutez!A:C,3,FALSE)","v":2022},45,3738,1.075,3218,3459,null,null,"LS4","CR","Není v databázi"]
["Simon Briel",null,null,null,null,"JWGC 2022 - Std",{"$f":"VLOOKUP(F766,Soutez!A:B,2,FALSE)","v":"CZ"},{"$f":"VLOOKUP(F766,Soutez!A:C,3,FALSE)","v":2022},1,8068,{"$f":"VLOOKUP(F766,Soutez,12,0)","v":1.075},{"$f":"ROUND(J766/MAX($J$766:$J$794)*10000*0.7+(MAX($I$766:$I$794)-I766)/(MAX($I$766:$I$794)-1)*10000*0.3,0)","v":10000},{"$f":"ROUND(K766*L766,0)","v":10750},null,null,"Discus 2a","SB","Není v databázi"]
["Lukas Kriz",{"$f":"VLOOKUP(A767,Pilot,2,0)","v":2003},{"$f":"VLOOKUP(A767,Pilot,5,0)","v":"M"},{"$f":"VLOOKUP(A767,Pilot,3,0)","v":"Křižanov"},{"$f":"VLOOKUP(A767,Pilot,4,0)","v":"CZ/M"},"JWGC 2022 - Std",{"$f":"VLOOKUP(F767,Soutez!A:B,2,FALSE)","v":"CZ"},{"$f":"VLOOKUP(F767,Soutez!A:C,3,FALSE)","v":2022},2,7660,{"$f":"VLOOKUP(F767,Soutez,12,0)","v":1.075},9539,{"$f":"ROUND(K767*L767,0)","v":10254},"x",null,"LS8","AU","Junior v roce 2025"]
["Jaromir Macoun",1999,"M","Jičín","CZ/C2","JWGC 2022 - Std",{"$f":"VLOOKUP(F768,Soutez!A:B,2,FALSE)","v":"CZ"},{"$f":"VLOOKUP(F768,Soutez!A:C,3,FALSE)","v":2022},3,7633,1.075,9408,10114,"x",null,"LS8","EU",""]
["Ignas Bitinaitis",null,null,null,null,"JWGC 2022 - Std",{"$f":"VLOOKUP(F769,Soutez!A:B,2,FALSE)","v":"CZ"},{"$f":"VLOOKUP(F769,Soutez!A:C,3,FALSE)","v":2022},4,7586,1.075,9260,9955,null,null,"LS8","H8","Není v databázi"]
["Enguerrand Virol",null,null,null,null,"JWGC 2022 - Std",{"$f":"VLOOKUP(F770,Soutez!A:B,2,FALSE)","v":"CZ"},{"$f":"VLOOKUP(F770,Soutez!A:C,3,FALSE)","v":2022},5,7577,1.075,9145,9831,null,null,"LS8","V92","Není v databázi"]
["Florian Labatut",null,null,null,null,"JWGC 2022 - Std",{"$f":"VLOOKUP(F771,Soutez!A:B,2,FALSE)","v":"CZ"},{"$f":"VLOOKUP(F771,Soutez!A:C,3,FALSE)","v":2022},6,7539,1.075,9005,9680,null,null,"LS8","X15","Není v databázi"]
["Wiktor Lacinski",null,null,null,null,"JWGC 2022 - Std",{"$f":"VLOOKUP(F772,Soutez!A:B,2,FALSE)","v":"CZ"},{"$f":"VLOOKUP(F772,Soutez!A:C,3,FALSE)","v":2022},7,7514,1.075,8876,9542,null,null,"Discus 2a","I","Není v databázi"]
["Kevin Faur",null,null,null,null,"JWGC 2022 - Std",{"$f":"VLOOKUP(F773,Soutez!A:B,2,FALSE)","v":"CZ"},{"$f":"VLOOKUP(F773,Soutez!A:C,3,FALSE)","v":2022},8,7509,1.075,8765,9422,null,null,"Discus 2a",21,"Není v databázi"]
["Maurits Hebels",null,null,null,null,"JWGC 2022 - Std",{"$f":"VLOOKUP(F774,Soutez!A:B,2,FALSE)","v":"CZ"},{"$f":"VLOOKUP(F774,Soutez!A:C,3,FALSE)","v":2022},9,7489,1.075,8641,9289,null,null,"LS8 Neo FES",71,"Není v databázi"]
["Nico Jaegli",null,null,null,null,"JWGC 2022 - Std",{"$f":"VLOOKUP(F775,Soutez!A:B,2,FALSE)","v":"CZ"},{"$f":"VLOOKUP(F775,Soutez!A:C,3,FALSE)","v":2022},10,7280,1.075,8352,8978,null,null,"Discus 2b","2S","Není v databázi"]
["Nick Faber",null,null,null,null,"JWGC 2022 - Std",{"$f":"VLOOKUP(F776,Soutez!A:B,2,FALSE)","v":"CZ"},{"$f":"VLOOKUP(F776,Soutez!A:C,3,FALSE)","v":2022},11,7270,{"$f":"VLOOKUP(F776,Soutez,12,0)","v":1.075},8236,8854,null,null,"Discus 2b","D2","Není v databázi"]
["Jacob Bøgelund Lassen",null,null,null,null,"JWGC 2022 - Std",{"$f":"VLOOKUP(F777,Soutez!A:B,2,FALSE)","v":"CZ"},{"$f":"VLOOKUP(F777,Soutez!A:C,3,FALSE)","v":2022},12,7180,1.075,8051,8655,null,null,"Discus 2a","MK","Není v databázi"]
["Jan Knischewski",null,null,null,null,"JWGC 2022 - Std",{"$f":"VLOOKUP(F778,Soutez!A:B,2,FALSE)","v":"CZ"},{"$f":"VLOOKUP(F778,Soutez!A:C,3,FALSE)","v":2022},13,7151,1.075,7919,{"$f":"ROUND(K778*L778,0)","v":8513},null,null,"LS8 Neo","OK","Není v databázi"]
["Johannes Dibbern",null,null,null,null,"JWGC 2022 - Std",{"$f":"VLOOKUP(F779,Soutez!A:B,2,FALSE)","v":"CZ"},{"$f":"VLOOKUP(F779,Soutez!A:C,3,FALSE)","v":2022},14,7129,1.075,7792,8376,null,null,"LS8 neo","S1","Není v databázi"]
["James Nugent",null,null,null,null,"JWGC 2022 - Std",{"$f":"VLOOKUP(F780,Soutez!A:B,2,FALSE)","v":"CZ"},{"$f":"VLOOKUP(F780,Soutez!A:C,3,FALSE)","v":2022},15,7102,1.075,7662,8237,null,null,"LS8","JW","Není v databázi"]
["Emil Dalboe-Pedersen",null,null,null,null,"JWGC 2022 - Std",{"$f":"VLOOKUP(F781,Soutez!A:B,2,FALSE)","v":"CZ"},{"$f":"VLOOKUP(F781,Soutez!A:C,3,FALSE)","v":2022},16,6904,1.075,7383,7937,null,null,"LS8","SE","Není v databázi"]
["Jonas Pitschen",null,null,null,null,"JWGC 2022 - Std",{"$f":"VLOOKUP(F782,Soutez!A:B,2,FALSE)","v":"CZ"},{"$f":"VLOOKUP(F782,Soutez!A:C,3,FALSE)","v":2022},17,6826,1.075,7208,7749,null,null,"Discus 2b","UB","Není v databázi"]
["Áron Érseki",null,null,null,null,"JWGC 2022 - Std",{"$f":"VLOOKUP(F783,Soutez!A:B,2,FALSE)","v":"CZ"},{"$f":"VLOOKUP(F783,Soutez!A:C,3,FALSE)","v":2022},18,6583,1.075,6890,7407,null,null,"Discus 2a","HAL","Není v databázi"]
["Mathias Valentin",null,null,null,null,"JWGC 2022 - Std",{"$f":"VLOOKUP(F784,Soutez!A:B,2,FALSE)","v":"CZ"},{"$f":"VLOOKUP(F784,Soutez!A:C,3,FALSE)","v":2022},19,6534,1.075,6740,7246,null,null,"LS8","KE","Není v databázi"]
["Henry Inigo-Jones",null,null,null,null,"JWGC 2022 - Std",{"$f":"VLOOKUP(F785,Soutez!A:B,2,FALSE)","v":"CZ"},{"$f":"VLOOKUP(F785,Soutez!A:C,3,FALSE)","v":2022},20,6336,1.075,6462,6947,null,null,"LS8",95,"Není v databázi"]
["Karol Snapko",null,null,null,null,"JWGC 2022 - Std",{"$f":"VLOOKUP(F786,Soutez!A:B,2,FALSE)","v":"CZ"},{"$f":"VLOOKUP(F786,Soutez!A:C,3,FALSE)","v":2022},21,6049,1.075,6105,6563,null,null,"Discus 2a","Y","Není v databázi"]
["Henri Philippe",null,null,null,null,"JWGC 2022 - Std",{"$f":"VLOOKUP(F787,Soutez!A:B,2,FALSE)","v":"CZ"},{"$f":"VLOOKUP(F787,Soutez!A:C,3,FALSE)","v":2022},22,5756,1.075,5744,6175,null,null,"LS8","5F","Není v databázi"]
["Mark van den Ham",null,null,null,null,"JWGC 2022 - Std",{"$f":"VLOOKUP(F788,Soutez!A:B,2,FALSE)","v":"CZ"},{"$f":"VLOOKUP(F788,Soutez!A:C,3,FALSE)","v":2022},23,5731,1.075,5615,6036,null,null,"ASW 24",44,"Není v databázi"]
["Claudio Etterli",null,null,null,null,"JWGC 2022 - Std",{"$f":"VLOOKUP(F789,Soutez!A:B,2,FALSE)","v":"CZ"},{"$f":"VLOOKUP(F789,Soutez!A:C,3,FALSE)","v":2022},24,5681,1.075,5465,5875,null,null,"Discus 2b","Z1","Není v databázi"]
["Ivan Bajana",null,null,null,null,"JWGC 2022 - Std",{"$f":"VLOOKUP(F790,Soutez!A:B,2,FALSE)","v":"CZ"},{"$f":"VLOOKUP(F790,Soutez!A:C,3,FALSE)","v":2022},25,5550,1.075,5244,5637,null,null,"Discus 2b","DI","Není v databázi"]
["Viktoria Divokova",null,null,null,null,"JWGC 2022 - Std",{"$f":"VLOOKUP(F791,Soutez!A:B,2,FALSE)","v":"CZ"},{"$f":"VLOOKUP(F791,Soutez!A:C,3,FALSE)","v":2022},26,5171,1.075,4808,5169,null,null,"LS8","SI","Není v databázi"]
["Thomas Pavis",null,null,null,null,"JWGC 2022 - Std",{"$f":"VLOOKUP(F792,Soutez!A:B,2,FALSE)","v":"CZ"},{"$f":"VLOOKUP(F792,Soutez!A:C,3,FALSE)","v":2022},27,4542,1.075,4155,4467,null,null,"Discus 2a",235,{"$f":"IF(ISERROR(VLOOKUP(A792,Pilot,6,0)),\"Není v databázi\",VLOOKUP(A792,Pilot,6,0))","v":"Není v databázi"}]
["Jan Zapletal",{"$f":"VLOOKUP(A793,Pilot,2,0)","v":1997},{"$f":"VLOOKUP(A793,Pilot,5,0)","v":"M"},{"$f":"VLOOKUP(A793,Pilot,3,0)","v":"Břeclav"},{"$f":"VLOOKUP(A793,Pilot,4,0)","v":"CZ/M"},"JWGC 2022 - Std",{"$f":"VLOOKUP(F793,Soutez!A:B,2,FALSE)","v":"CZ"},{"$f":"VLOOKUP(F793,Soutez!A:C,3,FALSE)","v":2022},28,4313,1.075,3849,4138,null,null,"LS8 18","JS",""]
["Ryan Driscoll",null,null,null,null,"JWGC 2022 - Std",{"$f":"VLOOKUP(F794,Soutez!A:B,2,FALSE)","v":"CZ"},{"$f":"VLOOKUP(F794,Soutez!A:C,3,FALSE)","v":2022},29,4020,1.075,3488,3750,null,null,"LS8","1X","Není v databázi"]
["Petra Piskata",{"$f":"VLOOKUP(A795,Pilot,2,0)","v":1989},{"$f":"VLOOKUP(A795,Pilot,5,0)","v":"F"},{"$f":"VLOOKUP(A795,Pilot,3,0)","v":"Luhačovice"},{"$f":"VLOOKUP(A795,Pilot,4,0)","v":"CZ/M"},"WWGC 2022 - Klub",{"$f":"VLOOKUP(F795,Soutez!A:B,2,FALSE)","v":"UK"},{"$f":"VLOOKUP(F795,Soutez!A:C,3,FALSE)","v":2022},1,4282,{"$f":"VLOOKUP(F795,Soutez,12,0)","v":1.04},{"$f":"ROUND(J795/MAX($J$795:$J$812)*10000*0.7+(MAX($I$795:$I$812)-I795)/(MAX($I$795:$I$812)-1)*10000*0.3,0)","v":10000},{"$f":"ROUND(K795*L795,0)","v":10400},null,"x","LS 4","6L",""]
["Claudia Hill",null,null,"Great Britain",null,"WWGC 2022 - Klub",{"$f":"VLOOKUP(F796,Soutez!A:B,2,FALSE)","v":"UK"},{"$f":"VLOOKUP(F796,Soutez!A:C,3,FALSE)","v":2022},2,4182,{"$f":"VLOOKUP(F796,Soutez,12,0)","v":1.04},9660,{"$f":"ROUND(K796*L796,0)","v":10046},null,null,"LS 1 f neo","CH","Není v databázi"]
["Ines Engelhardt",null,null,"Germany",null,"WWGC 2022 - Klub",{"$f":"VLOOKUP(F797,Soutez!A:B,2,FALSE)","v":"UK"},{"$f":"VLOOKUP(F797,Soutez!A:C,3,FALSE)","v":2022},3,4181,1.04,9482,9861,null,null,"LS 1 f","EF","Není v databázi"]
["Elena Fergnani",null,null,"Italy",null,"WWGC 2022 - Klub",{"$f":"VLOOKUP(F798,Soutez!A:B,2,FALSE)","v":"UK"},{"$f":"VLOOKUP(F798,Soutez!A:C,3,FALSE)","v":2022},4,4104,1.04,9180,9547,null,null,"Discus",40,"Není v databázi"]
["Aude Grangeray",null,null,"France",null,"WWGC 2022 - Klub",{"$f":"VLOOKUP(F799,Soutez!A:B,2,FALSE)","v":"UK"},{"$f":"VLOOKUP(F799,Soutez!A:C,3,FALSE)","v":2022},5,4061,1.04,8933,9290,null,null,"LS 7","AG","Není v databázi"]
["Louise Rodriguez",null,null,"France",null,"WWGC 2022 - Klub",{"$f":"VLOOKUP(F800,Soutez!A:B,2,FALSE)","v":"UK"},{"$f":"VLOOKUP(F800,Soutez!A:C,3,FALSE)","v":2022},6,3893,1.04,8482,8821,null,null,"LS 7","HG","Není v databázi"]
["Ulrike Teichmann",null,null,"Germany",null,"WWGC 2022 - Klub",{"$f":"VLOOKUP(F801,Soutez!A:B,2,FALSE)","v":"UK"},{"$f":"VLOOKUP(F801,Soutez!A:C,3,FALSE)","v":2022},7,3862,1.04,8255,8585,null,null,"LS 4",99,"Není v databázi"]
["Alizee Petit",null,null,"France",null,"WWGC 2022 - Klub",{"$f":"VLOOKUP(F802,Soutez!A:B,2,FALSE)","v":"UK"},{"$f":"VLOOKUP(F802,Soutez!A:C,3,FALSE)","v":2022},8,3711,1.04,7831,8144,null,null,"LS 4","YG","Není v databázi"]
["Klara Teichmannova",{"$f":"VLOOKUP(A803,Pilot,2,0)","v":1993},{"$f":"VLOOKUP(A803,Pilot,5,0)","v":"F"},{"$f":"VLOOKUP(A803,Pilot,3,0)","v":"Hronov"},{"$f":"VLOOKUP(A803,Pilot,4,0)","v":"CZ/C2"},"WWGC 2022 - Klub",{"$f":"VLOOKUP(F803,Soutez!A:B,2,FALSE)","v":"UK"},{"$f":"VLOOKUP(F803,Soutez!A:C,3,FALSE)","v":2022},9,3646,{"$f":"VLOOKUP(F803,Soutez,12,0)","v":1.04},7549,7851,null,"x","LS 4","IX",""]
["Alison Mulder",null,null,"Great Britain",null,"WWGC 2022 - Klub",{"$f":"VLOOKUP(F804,Soutez!A:B,2,FALSE)","v":"UK"},{"$f":"VLOOKUP(F804,Soutez!A:C,3,FALSE)","v":2022},10,3466,1.04,7078,7361,null,null,"LS 4a","LS4","Není v databázi"]
["Edita Skalskiene",null,null,"Lithuania",null,"WWGC 2022 - Klub",{"$f":"VLOOKUP(F805,Soutez!A:B,2,FALSE)","v":"UK"},{"$f":"VLOOKUP(F805,Soutez!A:C,3,FALSE)","v":2022},11,3284,1.04,6604,{"$f":"ROUND(K805*L805,0)","v":6868},null,null,"ASW 20","FL","Není v databázi"]
["Paula Drazul",null,null,"Argentina",null,"WWGC 2022 - Klub",{"$f":"VLOOKUP(F806,Soutez!A:B,2,FALSE)","v":"UK"},{"$f":"VLOOKUP(F806,Soutez!A:C,3,FALSE)","v":2022},12,3232,1.04,6342,6596,null,null,"ASW19","J34","Není v databázi"]
["Lilian de Bruijn",null,null,"Netherlands",null,"WWGC 2022 - Klub",{"$f":"VLOOKUP(F807,Soutez!A:B,2,FALSE)","v":"UK"},{"$f":"VLOOKUP(F807,Soutez!A:C,3,FALSE)","v":2022},13,3167,1.04,6060,6302,null,null,"DG 300","YY","Není v databázi"]
["Valentina Toporova",null,null,"Ukraine",null,"WWGC 2022 - Klub",{"$f":"VLOOKUP(F808,Soutez!A:B,2,FALSE)","v":"UK"},{"$f":"VLOOKUP(F808,Soutez!A:C,3,FALSE)","v":2022},14,3018,1.04,5640,5866,null,null,"ASW 20","PM","Není v databázi"]
["Christina Solberg Hansen",null,null,"Denmark",null,"WWGC 2022 - Klub",{"$f":"VLOOKUP(F809,Soutez!A:B,2,FALSE)","v":"UK"},{"$f":"VLOOKUP(F809,Soutez!A:C,3,FALSE)","v":2022},15,2947,1.04,5347,5561,null,null,"LS 1 f","SH","Není v databázi"]
["Olena Yakymchuk",null,null,"Ukraine",null,"WWGC 2022 - Klub",{"$f":"VLOOKUP(F810,Soutez!A:B,2,FALSE)","v":"UK"},{"$f":"VLOOKUP(F810,Soutez!A:C,3,FALSE)","v":2022},16,2457,1.04,4370,4545,null,null,"ASW 20","LD","Není v databázi"]
["Julia Dresler Nørtoft",null,null,"Denmark",null,"WWGC 2022 - Klub",{"$f":"VLOOKUP(F811,Soutez!A:B,2,FALSE)","v":"UK"},{"$f":"VLOOKUP(F811,Soutez!A:C,3,FALSE)","v":2022},17,1979,1.04,3412,3548,null,null,"Std. Cirrus","YM","Není v databázi"]
["Carol Marshall",null,null,"Great Britain",null,"WWGC 2022 - Klub",{"$f":"VLOOKUP(F812,Soutez!A:B,2,FALSE)","v":"UK"},{"$f":"VLOOKUP(F812,Soutez!A:C,3,FALSE)","v":2022},18,1870,1.04,3057,3179,null,null,"LS 7",246,"Není v databázi"]
["Cornelia Schaich",null,null,"Germany",null,"WWGC 2022 - Std",{"$f":"VLOOKUP(F813,Soutez!A:B,2,FALSE)","v":"UK"},{"$f":"VLOOKUP(F813,Soutez!A:C,3,FALSE)","v":2022},1,4692,{"$f":"VLOOKUP(F813,Soutez,12,0)","v":1.0349999999999999},{"$f":"ROUND(J813/MAX($J$813:$J$825)*10000*0.7+(MAX($I$813:$I$825)-I813)/(MAX($I$813:$I$825)-1)*10000*0.3,0)","v":10000},{"$f":"ROUND(K813*L813,0)","v":10350},null,null,"LS 8","3S","Není v databázi"]
["Sabrina Vogt",null,null,"Germany",null,"WWGC 2022 - Std",{"$f":"VLOOKUP(F814,Soutez!A:B,2,FALSE)","v":"UK"},{"$f":"VLOOKUP(F814,Soutez!A:C,3,FALSE)","v":2022},2,4509,1.0349999999999999,9477,{"$f":"ROUND(K814*L814,0)","v":9809},null,null,"Discus 2a","HZ","Není v databázi"]
["Jana Veprekova",{"$f":"VLOOKUP(A815,Pilot,2,0)","v":1961},{"$f":"VLOOKUP(A815,Pilot,5,0)","v":"F"},{"$f":"VLOOKUP(A815,Pilot,3,0)","v":"Dvůr Králové"},{"$f":"VLOOKUP(A815,Pilot,4,0)","v":"CZ/C2"},"WWGC 2022 - Std",{"$f":"VLOOKUP(F815,Soutez!A:B,2,FALSE)","v":"UK"},{"$f":"VLOOKUP(F815,Soutez!A:C,3,FALSE)","v":2022},3,4356,1.0349999999999999,8999,9314,null,"x","LS 8","W8",""]
["Barbora Moravcova",1994,"F","Zbraslavice","CZ/C1","WWGC 2022 - Std",{"$f":"VLOOKUP(F816,Soutez!A:B,2,FALSE)","v":"UK"},{"$f":"VLOOKUP(F816,Soutez!A:C,3,FALSE)","v":2022},4,4355,1.0349999999999999,8747,9053,null,null,"LS 8b","JB",""]
["Aude Untersee",null,null,"France",null,"WWGC 2022 - Std",{"$f":"VLOOKUP(F817,Soutez!A:B,2,FALSE)","v":"UK"},{"$f":"VLOOKUP(F817,Soutez!A:C,3,FALSE)","v":2022},5,4351,1.0349999999999999,8491,8788,null,null,"Discus 2a","JPA","Není v databázi"]
["Anaïs Gaubert",null,null,"France",null,"WWGC 2022 - Std",{"$f":"VLOOKUP(F818,Soutez!A:B,2,FALSE)","v":"UK"},{"$f":"VLOOKUP(F818,Soutez!A:C,3,FALSE)","v":2022},6,4214,1.0349999999999999,8037,8318,null,null,"Discus 2a","ET","Není v databázi"]
["Christine Grote",null,null,"Germany",null,"WWGC 2022 - Std",{"$f":"VLOOKUP(F819,Soutez!A:B,2,FALSE)","v":"UK"},{"$f":"VLOOKUP(F819,Soutez!A:C,3,FALSE)","v":2022},7,4158,1.0349999999999999,7703,7973,null,null,"Discus 2a","V7","Není v databázi"]
["Francesca Roberts",null,null,"Great Britain",null,"WWGC 2022 - Std",{"$f":"VLOOKUP(F820,Soutez!A:B,2,FALSE)","v":"UK"},{"$f":"VLOOKUP(F820,Soutez!A:C,3,FALSE)","v":2022},8,4033,1.0349999999999999,7267,{"$f":"ROUND(K820*L820,0)","v":7521},null,null,"LS 8","IT","Není v databázi"]
["Dana Novakova",{"$f":"VLOOKUP(A821,Pilot,2,0)","v":1965},{"$f":"VLOOKUP(A821,Pilot,5,0)","v":"F"},{"$f":"VLOOKUP(A821,Pilot,3,0)","v":"Mladá Boleslav"},{"$f":"VLOOKUP(A821,Pilot,4,0)","v":"CZ/C1"},"WWGC 2022 - Std",{"$f":"VLOOKUP(F821,Soutez!A:B,2,FALSE)","v":"UK"},{"$f":"VLOOKUP(F821,Soutez!A:C,3,FALSE)","v":2022},9,4014,1.0349999999999999,6988,7233,null,null,"LS 8","FX",""]
["Kinga Tchorz",null,null,"Poland",null,"WWGC 2022 - Std",{"$f":"VLOOKUP(F822,Soutez!A:B,2,FALSE)","v":"UK"},{"$f":"VLOOKUP(F822,Soutez!A:C,3,FALSE)","v":2022},10,3675,1.0349999999999999,6233,6451,null,null,"LS 8","LOT","Není v databázi"]
["Judyta Czyz",null,null,"Poland",null,"WWGC 2022 - Std",{"$f":"VLOOKUP(F823,Soutez!A:B,2,FALSE)","v":"UK"},{"$f":"VLOOKUP(F823,Soutez!A:C,3,FALSE)","v":2022},11,3621,1.0349999999999999,5902,6109,null,null,"LS 8","MP","Není v databázi"]
["Ayala Truelove",null,null,"Great Britain",null,"WWGC 2022 - Std",{"$f":"VLOOKUP(F824,Soutez!A:B,2,FALSE)","v":"UK"},{"$f":"VLOOKUP(F824,Soutez!A:C,3,FALSE)","v":2022},12,3254,1.0349999999999999,5105,5284,null,null,"LS 8","L7","Není v databázi"]
["Sally Walker",null,null,"Great Britain",null,"WWGC 2022 - Std",{"$f":"VLOOKUP(F825,Soutez!A:B,2,FALSE)","v":"UK"},{"$f":"VLOOKUP(F825,Soutez!A:C,3,FALSE)","v":2022},13,2101,1.0349999999999999,3134,3244,null,null,"LS 8","D7","Není v databázi"]
["Anne Ducarouge",null,null,"France",null,"WWGC 2022 - 18m",{"$f":"VLOOKUP(F826,Soutez!A:B,2,FALSE)","v":"UK"},{"$f":"VLOOKUP(F826,Soutez!A:C,3,FALSE)","v":2022},1,4411,1.0549999999999999,{"$f":"ROUND(J826/MAX($J$826:$J$837)*10000*0.7+(MAX($I$826:$I$837)-I826)/(MAX($I$826:$I$837)-1)*10000*0.3,0)","v":10000},{"$f":"ROUND(K826*L826,0)","v":10550},null,null,"JS 3","AY","Není v databázi"]
["Melanie Gadoulet",null,null,"France",null,"WWGC 2022 - 18m",{"$f":"VLOOKUP(F827,Soutez!A:B,2,FALSE)","v":"UK"},{"$f":"VLOOKUP(F827,Soutez!A:C,3,FALSE)","v":2022},2,4400,1.0549999999999999,9710,{"$f":"ROUND(K827*L827,0)","v":10244},null,null,"JS 3","KW","Není v databázi"]
["Alena Netusilova",{"$f":"VLOOKUP(A828,Pilot,2,0)","v":1970},{"$f":"VLOOKUP(A828,Pilot,5,0)","v":"F"},{"$f":"VLOOKUP(A828,Pilot,3,0)","v":"Zbraslavice"},{"$f":"VLOOKUP(A828,Pilot,4,0)","v":"CZ/C1"},"WWGC 2022 - 18m",{"$f":"VLOOKUP(F828,Soutez!A:B,2,FALSE)","v":"UK"},{"$f":"VLOOKUP(F828,Soutez!A:C,3,FALSE)","v":2022},3,4369,1.0549999999999999,9388,9904,null,"x","ASG 33 Es",12,""]
["Stefanie Muhl",null,null,"Germany",null,"WWGC 2022 - 18m",{"$f":"VLOOKUP(F829,Soutez!A:B,2,FALSE)","v":"UK"},{"$f":"VLOOKUP(F829,Soutez!A:C,3,FALSE)","v":2022},4,4129,1.0549999999999999,8734,9214,null,null,"Ventus 3T 18m","Y4","Není v databázi"]
["Katrin Senne",null,null,"Germany",null,"WWGC 2022 - 18m",{"$f":"VLOOKUP(F830,Soutez!A:B,2,FALSE)","v":"UK"},{"$f":"VLOOKUP(F830,Soutez!A:C,3,FALSE)","v":2022},5,3993,1.0549999999999999,8246,8700,null,null,"JS 3","BK","Není v databázi"]
["Hana Treslova",{"$f":"VLOOKUP(A831,Pilot,2,0)","v":1991},{"$f":"VLOOKUP(A831,Pilot,5,0)","v":"F"},{"$f":"VLOOKUP(A831,Pilot,3,0)","v":"Raná"},{"$f":"VLOOKUP(A831,Pilot,4,0)","v":"CZ/C2"},"WWGC 2022 - 18m",{"$f":"VLOOKUP(F831,Soutez!A:B,2,FALSE)","v":"UK"},{"$f":"VLOOKUP(F831,Soutez!A:C,3,FALSE)","v":2022},6,3927,1.0549999999999999,7868,8301,null,null,"JS-MD 3","XM",""]
["Jana Treslova",1963,"F","Raná","CZ/C2","WWGC 2022 - 18m",{"$f":"VLOOKUP(F832,Soutez!A:B,2,FALSE)","v":"UK"},{"$f":"VLOOKUP(F832,Soutez!A:C,3,FALSE)","v":2022},7,3802,1.0549999999999999,7397,7804,null,"x","JS 3","ZE",""]
["Astrid Galaret",null,null,"France",null,"WWGC 2022 - 18m",{"$f":"VLOOKUP(F833,Soutez!A:B,2,FALSE)","v":"UK"},{"$f":"VLOOKUP(F833,Soutez!A:C,3,FALSE)","v":2022},8,3682,1.0549999999999999,6934,{"$f":"ROUND(K833*L833,0)","v":7315},null,null,"JS 3","FM","Není v databázi"]
["Sandra Malzacher",null,null,"Germany",null,"WWGC 2022 - 18m",{"$f":"VLOOKUP(F834,Soutez!A:B,2,FALSE)","v":"UK"},{"$f":"VLOOKUP(F834,Soutez!A:C,3,FALSE)","v":2022},9,3340,1.0549999999999999,6119,6456,null,null,"ASG 29","LEO","Není v databázi"]
["Jane Nash",null,null,"Great Britain",null,"WWGC 2022 - 18m",{"$f":"VLOOKUP(F835,Soutez!A:B,2,FALSE)","v":"UK"},{"$f":"VLOOKUP(F835,Soutez!A:C,3,FALSE)","v":2022},10,2605,1.0549999999999999,4679,4936,null,null,"JS-MD 3",802,"Není v databázi"]
["Patrizia Roilo",null,null,"Italy",null,"WWGC 2022 - 18m",{"$f":"VLOOKUP(F836,Soutez!A:B,2,FALSE)","v":"UK"},{"$f":"VLOOKUP(F836,Soutez!A:C,3,FALSE)","v":2022},11,1823,1.0549999999999999,3166,3340,null,null,"ASG 29 E","K","Není v databázi"]
["Diana Schuit",null,null,"Luxembourg",null,"WWGC 2022 - 18m",{"$f":"VLOOKUP(F837,Soutez!A:B,2,FALSE)","v":"UK"},{"$f":"VLOOKUP(F837,Soutez!A:C,3,FALSE)","v":2022},12,1789,1.0549999999999999,2839,2995,null,null,"JS 3","MM","Není v databázi"]
["Maros Divok",null,null,"AK Spišská Nová Ves",null,"PMSR 2022 - Klub",{"$f":"VLOOKUP(F838,Soutez!A:B,2,FALSE)","v":"SK"},{"$f":"VLOOKUP(F838,Soutez!A:C,3,FALSE)","v":2022},1,8577,0.93500000000000005,{"$f":"ROUND(J838/MAX($J$838:$J$853)*10000*0.7+(MAX($I$838:$I$853)-I838)/(MAX($I$838:$I$853)-1)*10000*0.3,0)","v":10000},{"$f":"ROUND(K838*L838,0)","v":9350},null,null,"Discus b","D3",{"$f":"IF(ISERROR(VLOOKUP(A838,Pilot,6,0)),\"Není v databázi\",VLOOKUP(A838,Pilot,6,0))","v":"Není v databázi"}]
["Josef Kozar",null,null,"AK Martin",null,"PMSR 2022 - Klub",{"$f":"VLOOKUP(F839,Soutez!A:B,2,FALSE)","v":"SK"},{"$f":"VLOOKUP(F839,Soutez!A:C,3,FALSE)","v":2022},2,8418,0.93500000000000005,{"$f":"ROUND(J839/MAX($J$838:$J$853)*10000*0.7+(MAX($I$838:$I$853)-I839)/(MAX($I$838:$I$853)-1)*10000*0.3,0)","v":9670},{"$f":"ROUND(K839*L839,0)","v":9041},null,null,"LS 1 f","MF","Není v databázi"]
["Milan Surovcik Jr.",null,null,"Žilina",null,"PMSR 2022 - Klub",{"$f":"VLOOKUP(F840,Soutez!A:B,2,FALSE)","v":"SK"},{"$f":"VLOOKUP(F840,Soutez!A:C,3,FALSE)","v":2022},3,8233,0.93500000000000005,9319,8713,null,null,"ASW 20","S","Není v databázi"]
["Samuel Posluch",null,null,"AK Martin",null,"PMSR 2022 - Klub",{"$f":"VLOOKUP(F841,Soutez!A:B,2,FALSE)","v":"SK"},{"$f":"VLOOKUP(F841,Soutez!A:C,3,FALSE)","v":2022},4,8054,0.93500000000000005,8973,8390,null,null,"ASW 20","II","Není v databázi"]
["Marek Straka",null,null,"AK Dubnica",null,"PMSR 2022 - Klub",{"$f":"VLOOKUP(F842,Soutez!A:B,2,FALSE)","v":"SK"},{"$f":"VLOOKUP(F842,Soutez!A:C,3,FALSE)","v":2022},5,7636,0.93500000000000005,8432,7884,null,null,"LS 3","AI","Není v databázi"]
["Tibor Noga",null,null,"SGC Martin",null,"PMSR 2022 - Klub",{"$f":"VLOOKUP(F843,Soutez!A:B,2,FALSE)","v":"SK"},{"$f":"VLOOKUP(F843,Soutez!A:C,3,FALSE)","v":2022},6,7601,0.93500000000000005,8203,7670,null,null,"ASW 19B","A4","Není v databázi"]
["Miroslav Beliansky",null,null,"AK Bratislava",null,"PMSR 2022 - Klub",{"$f":"VLOOKUP(F844,Soutez!A:B,2,FALSE)","v":"SK"},{"$f":"VLOOKUP(F844,Soutez!A:C,3,FALSE)","v":2022},7,7482,0.93500000000000005,7906,7392,null,null,"Pegase","OT","Není v databázi"]
["Edmund Schuller",null,null,"AK Lučenec",null,"PMSR 2022 - Klub",{"$f":"VLOOKUP(F845,Soutez!A:B,2,FALSE)","v":"SK"},{"$f":"VLOOKUP(F845,Soutez!A:C,3,FALSE)","v":2022},8,7072,{"$f":"VLOOKUP(F845,Soutez,12,0)","v":0.93500000000000005},7372,6893,null,null,"ASW 24 W","ZS","Není v databázi"]
["Simon Siska",null,null,"SGC Martin",null,"PMSR 2022 - Klub",{"$f":"VLOOKUP(F846,Soutez!A:B,2,FALSE)","v":"SK"},{"$f":"VLOOKUP(F846,Soutez!A:C,3,FALSE)","v":2022},9,6911,0.93500000000000005,7040,6582,null,null,"ASW 24","CK","Není v databázi"]
["Martin Sabla",null,null,"AK Sp. Nova Ves",null,"PMSR 2022 - Klub",{"$f":"VLOOKUP(F847,Soutez!A:B,2,FALSE)","v":"SK"},{"$f":"VLOOKUP(F847,Soutez!A:C,3,FALSE)","v":2022},10,6479,0.93500000000000005,6488,6066,null,null,"Discus B",70,"Není v databázi"]
["Daniel Smolka",null,null,"AK Prievidza",null,"PMSR 2022 - Klub",{"$f":"VLOOKUP(F848,Soutez!A:B,2,FALSE)","v":"SK"},{"$f":"VLOOKUP(F848,Soutez!A:C,3,FALSE)","v":2022},11,6369,0.93500000000000005,6198,5795,null,null,"ASW20","MP","Není v databázi"]
["Tibor Fratrik",null,null,"SGC Martin",null,"PMSR 2022 - Klub",{"$f":"VLOOKUP(F849,Soutez!A:B,2,FALSE)","v":"SK"},{"$f":"VLOOKUP(F849,Soutez!A:C,3,FALSE)","v":2022},12,5993,0.93500000000000005,5691,5321,null,null,"ASW 20 CJ","VG","Není v databázi"]
["Jan Florian",{"$f":"VLOOKUP(A850,Pilot,2,0)","v":1992},{"$f":"VLOOKUP(A850,Pilot,5,0)","v":"M"},{"$f":"VLOOKUP(A850,Pilot,3,0)","v":"Zbraslavice"},{"$f":"VLOOKUP(A850,Pilot,4,0)","v":"CZ/C1"},"PMSR 2022 - Klub",{"$f":"VLOOKUP(F850,Soutez!A:B,2,FALSE)","v":"SK"},{"$f":"VLOOKUP(F850,Soutez!A:C,3,FALSE)","v":2022},13,5847,0.93500000000000005,5372,5023,null,null,"Std. Cirrus","C1",""]
["Juraj Sidor",null,null,"AK Holic",null,"PMSR 2022 - Klub",{"$f":"VLOOKUP(F851,Soutez!A:B,2,FALSE)","v":"SK"},{"$f":"VLOOKUP(F851,Soutez!A:C,3,FALSE)","v":2022},14,5831,0.93500000000000005,5159,4824,null,null,"Std. Cirrus","NM","Není v databázi"]
["Jan Hlinka",null,null,"AK Martin",null,"PMSR 2022 - Klub",{"$f":"VLOOKUP(F852,Soutez!A:B,2,FALSE)","v":"SK"},{"$f":"VLOOKUP(F852,Soutez!A:C,3,FALSE)","v":2022},15,5692,0.93500000000000005,4845,4530,null,null,"LS 4","MA","Není v databázi"]
["Igor Berko",null,null,"AK SNV",null,"PMSR 2022 - Klub",{"$f":"VLOOKUP(F853,Soutez!A:B,2,FALSE)","v":"SK"},{"$f":"VLOOKUP(F853,Soutez!A:C,3,FALSE)","v":2022},16,1422,0.93500000000000005,1161,1086,null,null,"Std. Cirrus","SA","Není v databázi"]
["Barbora Moravcova",{"$f":"VLOOKUP(A854,Pilot,2,0)","v":1994},{"$f":"VLOOKUP(A854,Pilot,5,0)","v":"F"},{"$f":"VLOOKUP(A854,Pilot,3,0)","v":"Zbraslavice"},{"$f":"VLOOKUP(A854,Pilot,4,0)","v":"CZ/C1"},"PMSR 2022 - Kombi A+B",{"$f":"VLOOKUP(F854,Soutez!A:B,2,FALSE)","v":"SK"},{"$f":"VLOOKUP(F854,Soutez!A:C,3,FALSE)","v":2022},1,7535,0.93500000000000005,{"$f":"ROUND(J854/MAX($J$854:$J$877)*10000*0.7+(MAX($I$854:$I$877)-I854)/(MAX($I$854:$I$877)-1)*10000*0.3,0)","v":10000},{"$f":"ROUND(K854*L854,0)","v":9350},"x","x","Ls 8a-15m","EU",""]
["Viliam Kubovcik",null,null,"AK Poprad",null,"PMSR 2022 - Kombi A+B",{"$f":"VLOOKUP(F855,Soutez!A:B,2,FALSE)","v":"SK"},{"$f":"VLOOKUP(F855,Soutez!A:C,3,FALSE)","v":2022},2,7262,0.93500000000000005,9616,{"$f":"ROUND(K855*L855,0)","v":8991},null,null,"Ventus 2cxt","VV","Není v databázi"]
["Martin Furjes",null,null,"SGC Martin",null,"PMSR 2022 - Kombi A+B",{"$f":"VLOOKUP(F856,Soutez!A:B,2,FALSE)","v":"SK"},{"$f":"VLOOKUP(F856,Soutez!A:C,3,FALSE)","v":2022},3,7156,0.93500000000000005,9387,8777,null,null,"JS 3/ 18",3,"Není v databázi"]
["Dana Novakova",{"$f":"VLOOKUP(A857,Pilot,2,0)","v":1965},{"$f":"VLOOKUP(A857,Pilot,5,0)","v":"F"},{"$f":"VLOOKUP(A857,Pilot,3,0)","v":"Mladá Boleslav"},{"$f":"VLOOKUP(A857,Pilot,4,0)","v":"CZ/C1"},"PMSR 2022 - Kombi A+B",{"$f":"VLOOKUP(F857,Soutez!A:B,2,FALSE)","v":"SK"},{"$f":"VLOOKUP(F857,Soutez!A:C,3,FALSE)","v":2022},4,7009,0.93500000000000005,9120,8527,null,null,"LS 8a-15m","AU",""]
["Dominik Jancik",null,null,"AK Nitra",null,"PMSR 2022 - Kombi A+B",{"$f":"VLOOKUP(F858,Soutez!A:B,2,FALSE)","v":"SK"},{"$f":"VLOOKUP(F858,Soutez!A:C,3,FALSE)","v":2022},5,6946,0.93500000000000005,8931,8350,null,null,"LS6a","GI","Není v databázi"]
["Petro & Snirc",null,null,"AK Nitra",null,"PMSR 2022 - Kombi A+B",{"$f":"VLOOKUP(F859,Soutez!A:B,2,FALSE)","v":"SK"},{"$f":"VLOOKUP(F859,Soutez!A:C,3,FALSE)","v":2022},6,6916,0.93500000000000005,8773,8203,null,null,"DG 1000T","NIT","Není v databázi"]
["Marek Pechanec",{"$f":"VLOOKUP(A860,Pilot,2,0)","v":1970},{"$f":"VLOOKUP(A860,Pilot,5,0)","v":"M"},{"$f":"VLOOKUP(A860,Pilot,3,0)","v":"Luhačovice"},{"$f":"VLOOKUP(A860,Pilot,4,0)","v":"CZ/M"},"PMSR 2022 - Kombi A+B",{"$f":"VLOOKUP(F860,Soutez!A:B,2,FALSE)","v":"SK"},{"$f":"VLOOKUP(F860,Soutez!A:C,3,FALSE)","v":2022},7,6850,0.93500000000000005,8581,8023,null,null,"JS 3","Q1",""]
["Peter Pokorny",null,null,"AK Bratislava",null,"PMSR 2022 - Kombi A+B",{"$f":"VLOOKUP(F861,Soutez!A:B,2,FALSE)","v":"SK"},{"$f":"VLOOKUP(F861,Soutez!A:C,3,FALSE)","v":2022},8,6726,0.93500000000000005,8335,7793,null,null,"AG 39E","9E","Není v databázi"]
["Tomas Bobok",null,null,"AK Prievidza",null,"PMSR 2022 - Kombi A+B",{"$f":"VLOOKUP(F862,Soutez!A:B,2,FALSE)","v":"SK"},{"$f":"VLOOKUP(F862,Soutez!A:C,3,FALSE)","v":2022},9,6708,0.93500000000000005,8188,7656,null,null,"Discus 2ct","AL","Není v databázi"]
["Jan Kovalcik",null,null,"AK Bratislava",null,"PMSR 2022 - Kombi A+B",{"$f":"VLOOKUP(F863,Soutez!A:B,2,FALSE)","v":"SK"},{"$f":"VLOOKUP(F863,Soutez!A:C,3,FALSE)","v":2022},10,6645,0.93500000000000005,7999,7479,null,null,"Discus 2C FES","ZI","Není v databázi"]
["Petr Krejcirik",{"$f":"VLOOKUP(A864,Pilot,2,0)","v":1960},{"$f":"VLOOKUP(A864,Pilot,5,0)","v":"M"},{"$f":"VLOOKUP(A864,Pilot,3,0)","v":"Hranice"},{"$f":"VLOOKUP(A864,Pilot,4,0)","v":"CZ/M"},"PMSR 2022 - Kombi A+B",{"$f":"VLOOKUP(F864,Soutez!A:B,2,FALSE)","v":"SK"},{"$f":"VLOOKUP(F864,Soutez!A:C,3,FALSE)","v":2022},11,6550,0.93500000000000005,7781,{"$f":"ROUND(K864*L864,0)","v":7275},null,null,"JS MD-3","VB",""]
["Eduard Niko",1988,"M","Zbraslavice","CZ/C1","PMSR 2022 - Kombi A+B",{"$f":"VLOOKUP(F865,Soutez!A:B,2,FALSE)","v":"SK"},{"$f":"VLOOKUP(F865,Soutez!A:C,3,FALSE)","v":2022},12,6298,0.93500000000000005,7416,6934,null,null,"Duo Discus","DP",""]
["Ivan Novak",1962,"M","Mladá Boleslav","CZ/C1","PMSR 2022 - Kombi A+B",{"$f":"VLOOKUP(F866,Soutez!A:B,2,FALSE)","v":"SK"},{"$f":"VLOOKUP(F866,Soutez!A:C,3,FALSE)","v":2022},13,6189,0.93500000000000005,7184,6717,null,null,"ASG-29 18m","QZ",""]
["Martin Jurovic",null,null,"AK Bratislava",null,"PMSR 2022 - Kombi A+B",{"$f":"VLOOKUP(F867,Soutez!A:B,2,FALSE)","v":"SK"},{"$f":"VLOOKUP(F867,Soutez!A:C,3,FALSE)","v":2022},14,5970,0.93500000000000005,6850,6405,null,null,"Ventus cT 17.6m","JQ","Není v databázi"]
["Ivan Bajana",null,null,"SGC Martin",null,"PMSR 2022 - Kombi A+B",{"$f":"VLOOKUP(F868,Soutez!A:B,2,FALSE)","v":"SK"},{"$f":"VLOOKUP(F868,Soutez!A:C,3,FALSE)","v":2022},15,5556,0.93500000000000005,6335,5923,null,null,"Discus 2","DI","Není v databázi"]
["Jan Divok",null,null,"AK Spišská Nová Ves",null,"PMSR 2022 - Kombi A+B",{"$f":"VLOOKUP(F869,Soutez!A:B,2,FALSE)","v":"SK"},{"$f":"VLOOKUP(F869,Soutez!A:C,3,FALSE)","v":2022},16,5228,0.93500000000000005,5900,5517,null,null,"Discus 2cT","DJ","Není v databázi"]
["Milos Srank",null,null,"AK Nové Zámky",null,"PMSR 2022 - Kombi A+B",{"$f":"VLOOKUP(F870,Soutez!A:B,2,FALSE)","v":"SK"},{"$f":"VLOOKUP(F870,Soutez!A:C,3,FALSE)","v":2022},17,5224,0.93500000000000005,5766,5391,null,null,"ASG 29E","LK","Není v databázi"]
["Gabriela Belakova",null,null,"AK Prievidza",null,"PMSR 2022 - Kombi A+B",{"$f":"VLOOKUP(F871,Soutez!A:B,2,FALSE)","v":"SK"},{"$f":"VLOOKUP(F871,Soutez!A:C,3,FALSE)","v":2022},18,5168,0.93500000000000005,5584,5221,null,null,"Ventus 3M","CAT","Není v databázi"]
["Milan Lojdl",null,null,"AK Martin",null,"PMSR 2022 - Kombi A+B",{"$f":"VLOOKUP(F872,Soutez!A:B,2,FALSE)","v":"SK"},{"$f":"VLOOKUP(F872,Soutez!A:C,3,FALSE)","v":2022},19,5116,0.93500000000000005,5405,5054,null,null,"Ventus 2cxt","MJ1","Není v databázi"]
["Kollar & Kromka",null,null,"AK Poprad",null,"PMSR 2022 - Kombi A+B",{"$f":"VLOOKUP(F873,Soutez!A:B,2,FALSE)","v":"SK"},{"$f":"VLOOKUP(F873,Soutez!A:C,3,FALSE)","v":2022},20,5075,0.93500000000000005,5236,4896,null,null,"Arcus M","TA3","Není v databázi"]
["Peter Abonyi",null,null,"AK Ružomberok",null,"PMSR 2022 - Kombi A+B",{"$f":"VLOOKUP(F874,Soutez!A:B,2,FALSE)","v":"SK"},{"$f":"VLOOKUP(F874,Soutez!A:C,3,FALSE)","v":2022},21,4874,0.93500000000000005,4919,4599,null,null,"Ventus C","PA","Není v databázi"]
["Lubomir Doupal",{"$f":"VLOOKUP(A875,Pilot,2,0)","v":1975},{"$f":"VLOOKUP(A875,Pilot,5,0)","v":"M"},{"$f":"VLOOKUP(A875,Pilot,3,0)","v":"Kroměříž"},{"$f":"VLOOKUP(A875,Pilot,4,0)","v":"CZ/M"},"PMSR 2022 - Kombi A+B",{"$f":"VLOOKUP(F875,Soutez!A:B,2,FALSE)","v":"SK"},{"$f":"VLOOKUP(F875,Soutez!A:C,3,FALSE)","v":2022},22,4531,0.93500000000000005,4470,4179,null,null,"Ventus 2cxM","LD",""]
["Viktoria Divokova",null,null,"Spišska Nová Ves",null,"PMSR 2022 - Kombi A+B",{"$f":"VLOOKUP(F876,Soutez!A:B,2,FALSE)","v":"SK"},{"$f":"VLOOKUP(F876,Soutez!A:C,3,FALSE)","v":2022},23,2226,0.93500000000000005,2198,2055,null,null,"LS 8 neo","SI","Není v databázi"]
["Lukas Benedikt",null,null,"AK Trnava",null,"PMSR 2022 - Kombi A+B",{"$f":"VLOOKUP(F877,Soutez!A:B,2,FALSE)","v":"SK"},{"$f":"VLOOKUP(F877,Soutez!A:C,3,FALSE)","v":2022},24,710,0.93500000000000005,660,617,null,null,"Ventus 3f","LB","Není v databázi"]
["Viktor Romancik",null,null,"AK Bratislava",null,"Oldtimer Pribina Star 2022 - Klub",{"$f":"VLOOKUP(F878,Soutez!A:B,2,FALSE)","v":"SK"},{"$f":"VLOOKUP(F878,Soutez!A:C,3,FALSE)","v":2022},1,1944,{"$f":"VLOOKUP(F878,Soutez,12,0)","v":0.75},{"$f":"ROUND(J878/MAX($J$878:$J$893)*10000*0.7+(MAX($I$878:$I$893)-I878)/(MAX($I$878:$I$893)-1)*10000*0.3,0)","v":10000},{"$f":"ROUND(K878*L878,0)","v":7500},null,null,"H-201b Std. Libelle","RR",{"$f":"IF(ISERROR(VLOOKUP(A878,Pilot,6,0)),\"Není v databázi\",VLOOKUP(A878,Pilot,6,0))","v":"Není v databázi"}]
["Sadovsky & Cmar",null,null,"AK Nitra",null,"Oldtimer Pribina Star 2022 - Klub",{"$f":"VLOOKUP(F879,Soutez!A:B,2,FALSE)","v":"SK"},{"$f":"VLOOKUP(F879,Soutez!A:C,3,FALSE)","v":2022},2,1933,{"$f":"VLOOKUP(F879,Soutez,12,0)","v":0.75},9746,{"$f":"ROUND(K879*L879,0)","v":7310},null,null,"L-13 Blaník",13,"Není v databázi"]
["Marian Szabó",null,null,"Air Sympatia Trenčín",null,"Oldtimer Pribina Star 2022 - Klub",{"$f":"VLOOKUP(F880,Soutez!A:B,2,FALSE)","v":"SK"},{"$f":"VLOOKUP(F880,Soutez!A:C,3,FALSE)","v":2022},3,1789,0.75,9013,6760,null,null,"VT-116 Orlík II",84,"Není v databázi"]
["Vladimir Abraham",{"$f":"VLOOKUP(A881,Pilot,2,0)","v":1962},{"$f":"VLOOKUP(A881,Pilot,5,0)","v":"M"},{"$f":"VLOOKUP(A881,Pilot,3,0)","v":"Raná"},{"$f":"VLOOKUP(A881,Pilot,4,0)","v":"CZ/C2"},"Oldtimer Pribina Star 2022 - Klub",{"$f":"VLOOKUP(F881,Soutez!A:B,2,FALSE)","v":"SK"},{"$f":"VLOOKUP(F881,Soutez!A:C,3,FALSE)","v":2022},4,1757,0.75,8684,6513,"x",null,"KA-6CR","Y7",""]
["Peter Ille",null,null,"AK Žilina",null,"Oldtimer Pribina Star 2022 - Klub",{"$f":"VLOOKUP(F882,Soutez!A:B,2,FALSE)","v":"SK"},{"$f":"VLOOKUP(F882,Soutez!A:C,3,FALSE)","v":2022},5,1647,0.75,8073,6055,null,null,"VSO-10","D5","Není v databázi"]
["Norbert Karolyi",null,null,"AK Bratislava",null,"Oldtimer Pribina Star 2022 - Klub",{"$f":"VLOOKUP(F883,Soutez!A:B,2,FALSE)","v":"SK"},{"$f":"VLOOKUP(F883,Soutez!A:C,3,FALSE)","v":2022},6,1573,0.75,7593,5695,null,null,"SZD-36 Cobra 15","NK","Není v databázi"]
["Ille & Homola",null,null,"AK Senica",null,"Oldtimer Pribina Star 2022 - Klub",{"$f":"VLOOKUP(F884,Soutez!A:B,2,FALSE)","v":"SK"},{"$f":"VLOOKUP(F884,Soutez!A:C,3,FALSE)","v":2022},7,1537,0.75,7249,5437,null,null,"G-103 Twin Astir",13,"Není v databázi"]
["Radovan Uhelsky",null,null,"AK Nové Zámky",null,"Oldtimer Pribina Star 2022 - Klub",{"$f":"VLOOKUP(F885,Soutez!A:B,2,FALSE)","v":"SK"},{"$f":"VLOOKUP(F885,Soutez!A:C,3,FALSE)","v":2022},8,1485,0.75,6847,5135,null,null,"H-201b Std. Libelle","SB","Není v databázi"]
["Holak & Lajda",null,null,"AK Nitra",null,"Oldtimer Pribina Star 2022 - Klub",{"$f":"VLOOKUP(F886,Soutez!A:B,2,FALSE)","v":"SK"},{"$f":"VLOOKUP(F886,Soutez!A:C,3,FALSE)","v":2022},9,1455,{"$f":"VLOOKUP(F886,Soutez,12,0)","v":0.75},6525,4894,null,null,"L-23 Super Blaník",23,"Není v databázi"]
["Ivana Jurovicova",null,null,"AK Bratislava",null,"Oldtimer Pribina Star 2022 - Klub",{"$f":"VLOOKUP(F887,Soutez!A:B,2,FALSE)","v":"SK"},{"$f":"VLOOKUP(F887,Soutez!A:C,3,FALSE)","v":2022},10,1333,0.75,5871,4403,null,null,"H-201 Std. Libelle","J2","Není v databázi"]
["Lucia Uhelska",null,null,"AK Nové Zámky",null,"Oldtimer Pribina Star 2022 - Klub",{"$f":"VLOOKUP(F888,Soutez!A:B,2,FALSE)","v":"SK"},{"$f":"VLOOKUP(F888,Soutez!A:C,3,FALSE)","v":2022},11,950,0.75,4278,{"$f":"ROUND(K888*L888,0)","v":3209},null,null,"VT-116 Orlík II","LU","Není v databázi"]
["Jaroslav Kares",1962,"M",{"$f":"VLOOKUP(A889,Pilot,3,0)","v":"Olomouc"},{"$f":"VLOOKUP(A889,Pilot,4,0)","v":"CZ/M"},"Oldtimer Pribina Star 2022 - Klub",{"$f":"VLOOKUP(F889,Soutez!A:B,2,FALSE)","v":"SK"},{"$f":"VLOOKUP(F889,Soutez!A:C,3,FALSE)","v":2022},12,628,0.75,2904,2178,"x",null,"SF 27A",26,""]
["Peter Pätoprsty",null,null,null,null,"Oldtimer Pribina Star 2022 - Klub",{"$f":"VLOOKUP(F890,Soutez!A:B,2,FALSE)","v":"SK"},{"$f":"VLOOKUP(F890,Soutez!A:C,3,FALSE)","v":2022},13,434,0.75,1991,1493,null,null,"ASW-15B","RM","Není v databázi"]
["Frantisek Ehn",null,null,"AK Nitra",null,"Oldtimer Pribina Star 2022 - Klub",{"$f":"VLOOKUP(F891,Soutez!A:B,2,FALSE)","v":"SK"},{"$f":"VLOOKUP(F891,Soutez!A:C,3,FALSE)","v":2022},14,129,0.75,679,509,null,null,"Pegase",101,"Není v databázi"]
["Igor Ott",null,null,"AK Nitra",null,"Oldtimer Pribina Star 2022 - Klub",{"$f":"VLOOKUP(F892,Soutez!A:B,2,FALSE)","v":"SK"},{"$f":"VLOOKUP(F892,Soutez!A:C,3,FALSE)","v":2022},15,0,0.75,0,0,null,null,"LG-425 Šohaj","N","Není v databázi"]
["Jozef Ott",null,null,"AK Nitra",null,"Oldtimer Pribina Star 2022 - Klub",{"$f":"VLOOKUP(F893,Soutez!A:B,2,FALSE)","v":"SK"},{"$f":"VLOOKUP(F893,Soutez!A:C,3,FALSE)","v":2022},15,0,0.75,0,0,null,null,"Z-23 Honza",null,"Není v databázi"]
["Milan SUROVCIK Jr.",null,null,"Žilina",null,"Fatraglide 2022 - Klub",{"$f":"VLOOKUP(F894,Soutez!A:B,2,FALSE)","v":"SK"},{"$f":"VLOOKUP(F894,Soutez!A:C,3,FALSE)","v":2022},1,3905,{"$f":"VLOOKUP(F894,Soutez,12,0)","v":0.76},{"$f":"ROUND(J894/MAX($J$894:$J$909)*10000*0.7+(MAX($I$894:$I$909)-I894)/(MAX($I$894:$I$909)-1)*10000*0.3,0)","v":10000},{"$f":"ROUND(K894*L894,0)","v":7600},null,null,"ASW 20","S","Není v databázi"]
["Simon SISKA",null,null,"AK MARTIN",null,"Fatraglide 2022 - Klub",{"$f":"VLOOKUP(F895,Soutez!A:B,2,FALSE)","v":"SK"},{"$f":"VLOOKUP(F895,Soutez!A:C,3,FALSE)","v":2022},2,3731,{"$f":"VLOOKUP(F895,Soutez,12,0)","v":0.76},9488,{"$f":"ROUND(K895*L895,0)","v":7211},null,null,"ASW 24 WL","CK","Není v databázi"]
["Samuel POSLUCH",null,null,"AK MARTIN",null,"Fatraglide 2022 - Klub",{"$f":"VLOOKUP(F896,Soutez!A:B,2,FALSE)","v":"SK"},{"$f":"VLOOKUP(F896,Soutez!A:C,3,FALSE)","v":2022},3,3678,0.76,9193,6987,null,null,"ASW 20","II","Není v databázi"]
["Tibor NOGA",null,null,"SGC Martin",null,"Fatraglide 2022 - Klub",{"$f":"VLOOKUP(F897,Soutez!A:B,2,FALSE)","v":"SK"},{"$f":"VLOOKUP(F897,Soutez!A:C,3,FALSE)","v":2022},4,3358,{"$f":"VLOOKUP(F897,Soutez,12,0)","v":0.76},8419,6398,null,null,"ASW 19 B","A4","Není v databázi"]
["Michal Cupak",{"$f":"VLOOKUP(A898,Pilot,2,0)","v":1991},{"$f":"VLOOKUP(A898,Pilot,5,0)","v":"M"},{"$f":"VLOOKUP(A898,Pilot,3,0)","v":"Medlánky"},{"$f":"VLOOKUP(A898,Pilot,4,0)","v":"CZ/M"},"Fatraglide 2022 - Klub",{"$f":"VLOOKUP(F898,Soutez!A:B,2,FALSE)","v":"SK"},{"$f":"VLOOKUP(F898,Soutez!A:C,3,FALSE)","v":2022},5,2915,0.76,7425,5643,null,null,"Std. Cirrus","A7",""]
["Marek STRAKA",null,null,"AK DUBNICA N.VAHOM",null,"Fatraglide 2022 - Klub",{"$f":"VLOOKUP(F899,Soutez!A:B,2,FALSE)","v":"SK"},{"$f":"VLOOKUP(F899,Soutez!A:C,3,FALSE)","v":2022},6,2856,0.76,7120,{"$f":"ROUND(K899*L899,0)","v":5411},null,null,"LS 3","AI","Není v databázi"]
["Jan Sponer",{"$f":"VLOOKUP(A900,Pilot,2,0)","v":1988},{"$f":"VLOOKUP(A900,Pilot,5,0)","v":"M"},{"$f":"VLOOKUP(A900,Pilot,3,0)","v":"Medlánky"},{"$f":"VLOOKUP(A900,Pilot,4,0)","v":"CZ/M"},"Fatraglide 2022 - Klub",{"$f":"VLOOKUP(F900,Soutez!A:B,2,FALSE)","v":"SK"},{"$f":"VLOOKUP(F900,Soutez!A:C,3,FALSE)","v":2022},7,2757,0.76,6742,5124,null,null,"Std. Cirrus","EX",""]
["Peter SEDMAK",null,null,"AK MARTIN",null,"Fatraglide 2022 - Klub",{"$f":"VLOOKUP(F901,Soutez!A:B,2,FALSE)","v":"SK"},{"$f":"VLOOKUP(F901,Soutez!A:C,3,FALSE)","v":2022},8,2129,0.76,5416,4116,null,null,"LS 4","MA","Není v databázi"]
["Lubomir Belusko",null,null,"AK PRESOV",null,"Fatraglide 2022 - Klub",{"$f":"VLOOKUP(F902,Soutez!A:B,2,FALSE)","v":"SK"},{"$f":"VLOOKUP(F902,Soutez!A:C,3,FALSE)","v":2022},9,2083,0.76,5134,3902,null,null,"Pegase 101D","HS","Není v databázi"]
["Peter GOSSANYI",null,null,"AK NOVE ZAMKY",null,"Fatraglide 2022 - Klub",{"$f":"VLOOKUP(F903,Soutez!A:B,2,FALSE)","v":"SK"},{"$f":"VLOOKUP(F903,Soutez!A:C,3,FALSE)","v":2022},10,2047,0.76,4869,3700,null,null,"Discus CS","VP","Není v databázi"]
["Peter GASPAROVIC",null,null,"SGC MARTIN",null,"Fatraglide 2022 - Klub",{"$f":"VLOOKUP(F904,Soutez!A:B,2,FALSE)","v":"SK"},{"$f":"VLOOKUP(F904,Soutez!A:C,3,FALSE)","v":2022},11,1844,0.76,4306,3273,null,null,"Std. Cirrus WL","LX","Není v databázi"]
["Martin MARINCAK",null,null,"AK PRESOV",null,"Fatraglide 2022 - Klub",{"$f":"VLOOKUP(F905,Soutez!A:B,2,FALSE)","v":"SK"},{"$f":"VLOOKUP(F905,Soutez!A:C,3,FALSE)","v":2022},12,1829,0.76,4079,3100,null,null,"Std. Cirrus","CV","Není v databázi"]
["Miroslav BELIANSKY",null,null,"AK BRATISLAVA",null,"Fatraglide 2022 - Klub",{"$f":"VLOOKUP(F906,Soutez!A:B,2,FALSE)","v":"SK"},{"$f":"VLOOKUP(F906,Soutez!A:C,3,FALSE)","v":2022},13,1428,0.76,3160,2402,null,null,"Pegase 101A","OT","Není v databázi"]
["Peter USIAK",null,null,"AK BANSKA BYSTRICA",null,"Fatraglide 2022 - Klub",{"$f":"VLOOKUP(F907,Soutez!A:B,2,FALSE)","v":"SK"},{"$f":"VLOOKUP(F907,Soutez!A:C,3,FALSE)","v":2022},14,1249,0.76,2639,2006,null,null,"Astir CS 77","WW","Není v databázi"]
["GABOR BORS",null,null,"OPITZ",null,"Fatraglide 2022 - Klub",{"$f":"VLOOKUP(F908,Soutez!A:B,2,FALSE)","v":"SK"},{"$f":"VLOOKUP(F908,Soutez!A:C,3,FALSE)","v":2022},15,675,0.76,1410,1072,null,null,"Mini Nimbus","SU","Není v databázi"]
["ALBERT HACKL",null,null,"OPITZ",null,"Fatraglide 2022 - Klub",{"$f":"VLOOKUP(F909,Soutez!A:B,2,FALSE)","v":"SK"},{"$f":"VLOOKUP(F909,Soutez!A:C,3,FALSE)","v":2022},16,367,0.76,658,500,null,null,"Astir CS Top","PC","Není v databázi"]
["Viliam KUBOVCIK",null,null,"AK POPRAD",null,"Fatraglide 2022 - Kombi",{"$f":"VLOOKUP(F910,Soutez!A:B,2,FALSE)","v":"SK"},{"$f":"VLOOKUP(F910,Soutez!A:C,3,FALSE)","v":2022},1,3375,{"$f":"VLOOKUP(F910,Soutez,12,0)","v":0.76500000000000001},{"$f":"ROUND(J910/MAX($J$910:$J$919)*10000*0.7+(MAX($I$910:$I$919)-I910)/(MAX($I$910:$I$919)-1)*10000*0.3,0)","v":10000},{"$f":"ROUND(K910*L910,0)","v":7650},null,null,"Ventus 2 cxT","VV","Není v databázi"]
["Ivan BAJANA",null,null,"SGC MARTIN",null,"Fatraglide 2022 - Kombi",{"$f":"VLOOKUP(F911,Soutez!A:B,2,FALSE)","v":"SK"},{"$f":"VLOOKUP(F911,Soutez!A:C,3,FALSE)","v":2022},2,2560,{"$f":"VLOOKUP(F911,Soutez,12,0)","v":0.76500000000000001},7976,{"$f":"ROUND(K911*L911,0)","v":6102},null,null,"Discus 2","DI","Není v databázi"]
["Peter ABONYI",null,null,"AK RUZOMBEROK",null,"Fatraglide 2022 - Kombi",{"$f":"VLOOKUP(F912,Soutez!A:B,2,FALSE)","v":"SK"},{"$f":"VLOOKUP(F912,Soutez!A:C,3,FALSE)","v":2022},3,2050,{"$f":"VLOOKUP(F912,Soutez,12,0)","v":0.76500000000000001},6585,5038,null,null,"Ventus C","PA","Není v databázi"]
["Milos SRANK",null,null,"AK NOVE ZAMKY",null,"Fatraglide 2022 - Kombi",{"$f":"VLOOKUP(F913,Soutez!A:B,2,FALSE)","v":"SK"},{"$f":"VLOOKUP(F913,Soutez!A:C,3,FALSE)","v":2022},4,1821,0.76500000000000001,5777,4419,null,null,"ASG 29","LK","Není v databázi"]
["Milan LOJDL",null,null,"AK MARTIN",null,"Fatraglide 2022 - Kombi",{"$f":"VLOOKUP(F914,Soutez!A:B,2,FALSE)","v":"SK"},{"$f":"VLOOKUP(F914,Soutez!A:C,3,FALSE)","v":2022},5,1712,0.76500000000000001,5217,{"$f":"ROUND(K914*L914,0)","v":3991},null,null,"Ventus 2cxT/18m","MJ1","Není v databázi"]
["Martin JUROVIC",null,null,"AK BRATISLAVA",null,"Fatraglide 2022 - Kombi",{"$f":"VLOOKUP(F915,Soutez!A:B,2,FALSE)","v":"SK"},{"$f":"VLOOKUP(F915,Soutez!A:C,3,FALSE)","v":2022},6,1554,0.76500000000000001,4556,3485,null,null,"Ventus cT 17.6m","JQ","Není v databázi"]
["Lukas BENEDIKT",null,null,"AK Trnava",null,"Fatraglide 2022 - Kombi",{"$f":"VLOOKUP(F916,Soutez!A:B,2,FALSE)","v":"SK"},{"$f":"VLOOKUP(F916,Soutez!A:C,3,FALSE)","v":2022},7,1226,0.76500000000000001,3543,2710,null,null,"Ventus 3 F","LB","Není v databázi"]
["Vaclav Hruza",{"$f":"VLOOKUP(A917,Pilot,2,0)","v":1965},{"$f":"VLOOKUP(A917,Pilot,5,0)","v":"M"},{"$f":"VLOOKUP(A917,Pilot,3,0)","v":"Břeclav"},{"$f":"VLOOKUP(A917,Pilot,4,0)","v":"CZ/M"},"Fatraglide 2022 - Kombi",{"$f":"VLOOKUP(F917,Soutez!A:B,2,FALSE)","v":"SK"},{"$f":"VLOOKUP(F917,Soutez!A:C,3,FALSE)","v":2022},8,1082,0.76500000000000001,2911,2227,null,null,"HPH 304 Shark","TH",""]
["Daniel KRONEK",null,null,"SGC MARTIN",null,"Fatraglide 2022 - Kombi",{"$f":"VLOOKUP(F918,Soutez!A:B,2,FALSE)","v":"SK"},{"$f":"VLOOKUP(F918,Soutez!A:C,3,FALSE)","v":2022},9,1054,0.76500000000000001,2519,1927,null,null,"Ventus bT/15m","DK",{"$f":"IF(ISERROR(VLOOKUP(A918,Pilot,6,0)),\"Není v databázi\",VLOOKUP(A918,Pilot,6,0))","v":"Není v databázi"}]
["Ivan CHABADA",null,null,"AK BANSKA BYSTRICA",null,"Fatraglide 2022 - Kombi",{"$f":"VLOOKUP(F919,Soutez!A:B,2,FALSE)","v":"SK"},{"$f":"VLOOKUP(F919,Soutez!A:C,3,FALSE)","v":2022},10,268,0.76500000000000001,556,425,null,null,"NIMBUS 2B","VY","Není v databázi"]
["Uwe Wahlig",null,null,"Segelfluggruppe Bensheim e.V.",null,"FCC 2022 - Klub",{"$f":"VLOOKUP(F920,Soutez!A:B,2,FALSE)","v":"SK"},{"$f":"VLOOKUP(F920,Soutez!A:C,3,FALSE)","v":2022},1,5543,{"$f":"VLOOKUP(F920,Soutez,12,0)","v":0.94000000000000006},{"$f":"ROUND(J920/MAX($J$920:$J$962)*10000*0.7+(MAX($I$920:$I$962)-I920)/(MAX($I$920:$I$962)-1)*10000*0.3,0)","v":10000},{"$f":"ROUND(K920*L920,0)","v":9400},null,null,"LS-3 /15m WL","SN","Není v databázi"]
["Jacek Flis",null,null,"Ziemi Zamojskiej / KKGT",null,"FCC 2022 - Klub",{"$f":"VLOOKUP(F921,Soutez!A:B,2,FALSE)","v":"SK"},{"$f":"VLOOKUP(F921,Soutez!A:C,3,FALSE)","v":2022},2,5437,{"$f":"VLOOKUP(F921,Soutez,12,0)","v":0.94000000000000006},9789,{"$f":"ROUND(K921*L921,0)","v":9202},null,null,"LS-3 /15m","FLS","Není v databázi"]
["Mikolaj Zdun",null,null,"Aeroklub Leszno",null,"FCC 2022 - Klub",{"$f":"VLOOKUP(F922,Soutez!A:B,2,FALSE)","v":"SK"},{"$f":"VLOOKUP(F922,Soutez!A:C,3,FALSE)","v":2022},3,5409,0.94000000000000006,9677,9096,null,null,"LS 3 15m","PP","Není v databázi"]
["Tim Milner",null,null,"Wolds gliding Club",null,"FCC 2022 - Klub",{"$f":"VLOOKUP(F923,Soutez!A:B,2,FALSE)","v":"SK"},{"$f":"VLOOKUP(F923,Soutez!A:C,3,FALSE)","v":2022},4,5261,0.94000000000000006,9413,8848,null,null,"LS-3 /15m","LS5","Není v databázi"]
["Jiri Kusbach",{"$f":"VLOOKUP(A924,Pilot,2,0)","v":1959},{"$f":"VLOOKUP(A924,Pilot,5,0)","v":"M"},{"$f":"VLOOKUP(A924,Pilot,3,0)","v":"Luhačovice"},{"$f":"VLOOKUP(A924,Pilot,4,0)","v":"CZ/M"},"FCC 2022 - Klub",{"$f":"VLOOKUP(F924,Soutez!A:B,2,FALSE)","v":"SK"},{"$f":"VLOOKUP(F924,Soutez!A:C,3,FALSE)","v":2022},5,5006,0.94000000000000006,9014,8473,null,null,"KKB-15 E-FES","B",""]
["Kamil Wojcik",null,null,"Wroclawek",null,"FCC 2022 - Klub",{"$f":"VLOOKUP(F925,Soutez!A:B,2,FALSE)","v":"SK"},{"$f":"VLOOKUP(F925,Soutez!A:C,3,FALSE)","v":2022},6,4933,0.94000000000000006,8845,8314,null,null,"LS-4","WWI","Není v databázi"]
["Robert Alin Simion",null,null,"Romania Romania",null,"FCC 2022 - Klub",{"$f":"VLOOKUP(F926,Soutez!A:B,2,FALSE)","v":"SK"},{"$f":"VLOOKUP(F926,Soutez!A:C,3,FALSE)","v":2022},7,4918,0.94000000000000006,8749,8224,null,null,"LS 4A WL","Y2","Není v databázi"]
["Bernard Dobre",null,null,"Postojna",null,"FCC 2022 - Klub",{"$f":"VLOOKUP(F927,Soutez!A:B,2,FALSE)","v":"SK"},{"$f":"VLOOKUP(F927,Soutez!A:C,3,FALSE)","v":2022},8,4746,0.94000000000000006,8455,7948,null,null,"DG 300 ELAN","PJ","Není v databázi"]
["Peter Kassai",null,null,"MALEV",null,"FCC 2022 - Klub",{"$f":"VLOOKUP(F928,Soutez!A:B,2,FALSE)","v":"SK"},{"$f":"VLOOKUP(F928,Soutez!A:C,3,FALSE)","v":2022},9,4732,0.94000000000000006,8360,7858,null,null,"Discus b wl","7W","Není v databázi"]
["Zdenek Balcarek",{"$f":"VLOOKUP(A929,Pilot,2,0)","v":1967},{"$f":"VLOOKUP(A929,Pilot,5,0)","v":"M"},{"$f":"VLOOKUP(A929,Pilot,3,0)","v":"Kroměříž"},{"$f":"VLOOKUP(A929,Pilot,4,0)","v":"CZ/M"},"FCC 2022 - Klub",{"$f":"VLOOKUP(F929,Soutez!A:B,2,FALSE)","v":"SK"},{"$f":"VLOOKUP(F929,Soutez!A:C,3,FALSE)","v":2022},10,4552,0.94000000000000006,8056,7573,"x",null,"Discus b","OS",""]
["Ionut Tudor",null,null,"Romanian Airclub",null,"FCC 2022 - Klub",{"$f":"VLOOKUP(F930,Soutez!A:B,2,FALSE)","v":"SK"},{"$f":"VLOOKUP(F930,Soutez!A:C,3,FALSE)","v":2022},11,4526,0.94000000000000006,7946,7469,null,null,"LS 4A WL","8M","Není v databázi"]
["Wojciech Kubiak",null,null,"Aeroklub Krakowski",null,"FCC 2022 - Klub",{"$f":"VLOOKUP(F931,Soutez!A:B,2,FALSE)","v":"SK"},{"$f":"VLOOKUP(F931,Soutez!A:C,3,FALSE)","v":2022},12,4450,0.94000000000000006,7774,7308,null,null,"SZD-55","W07","Není v databázi"]
["Joanna Biedermann",null,null,"Aeroclub Nadwislanski",null,"FCC 2022 - Klub",{"$f":"VLOOKUP(F932,Soutez!A:B,2,FALSE)","v":"SK"},{"$f":"VLOOKUP(F932,Soutez!A:C,3,FALSE)","v":2022},13,4339,0.94000000000000006,7556,7103,null,null,"LS 4","OG","Není v databázi"]
["Lukasz Florkowski",null,null,"Ostrowski",null,"FCC 2022 - Klub",{"$f":"VLOOKUP(F933,Soutez!A:B,2,FALSE)","v":"SK"},{"$f":"VLOOKUP(F933,Soutez!A:C,3,FALSE)","v":2022},14,4271,0.94000000000000006,7394,6950,null,null,"SZD-41A Jantar std.","ZSI","Není v databázi"]
["Stanislaw Wujczak",null,null,"Leszczyński",null,"FCC 2022 - Klub",{"$f":"VLOOKUP(F934,Soutez!A:B,2,FALSE)","v":"SK"},{"$f":"VLOOKUP(F934,Soutez!A:C,3,FALSE)","v":2022},15,4228,0.94000000000000006,7262,6826,null,null,"Mini-Nimbus b","KP","Není v databázi"]
["Rafal Siankowski",null,null,"Radomski",null,"FCC 2022 - Klub",{"$f":"VLOOKUP(F935,Soutez!A:B,2,FALSE)","v":"SK"},{"$f":"VLOOKUP(F935,Soutez!A:C,3,FALSE)","v":2022},16,4189,{"$f":"VLOOKUP(F935,Soutez,12,0)","v":0.94000000000000006},7136,6708,null,null,"SZD-48 Jantar std. 3","AA","Není v databázi"]
["Marek Herbreder",null,null,"Warszawa",null,"FCC 2022 - Klub",{"$f":"VLOOKUP(F936,Soutez!A:B,2,FALSE)","v":"SK"},{"$f":"VLOOKUP(F936,Soutez!A:C,3,FALSE)","v":2022},17,4185,0.94000000000000006,7054,6631,null,null,"SZD-55 Promyk","TK","Není v databázi"]
["Daniel Arday",null,null,"Malév",null,"FCC 2022 - Klub",{"$f":"VLOOKUP(F937,Soutez!A:B,2,FALSE)","v":"SK"},{"$f":"VLOOKUP(F937,Soutez!A:C,3,FALSE)","v":2022},17,4185,0.94000000000000006,7054,{"$f":"ROUND(K937*L937,0)","v":6631},null,null,"ASW 20 C 15m WL","RZI","Není v databázi"]
["Karol Pawlicki",null,null,"Stalowowolski",null,"FCC 2022 - Klub",{"$f":"VLOOKUP(F938,Soutez!A:B,2,FALSE)","v":"SK"},{"$f":"VLOOKUP(F938,Soutez!A:C,3,FALSE)","v":2022},19,3999,0.94000000000000006,6666,6266,null,null,"SZD-48 Jantar std. 3","BK","Není v databázi"]
["Lumir Motyka",{"$f":"VLOOKUP(A939,Pilot,2,0)","v":1955},{"$f":"VLOOKUP(A939,Pilot,5,0)","v":"M"},{"$f":"VLOOKUP(A939,Pilot,3,0)","v":"Frýdlant"},{"$f":"VLOOKUP(A939,Pilot,4,0)","v":"CZ/M"},"FCC 2022 - Klub",{"$f":"VLOOKUP(F939,Soutez!A:B,2,FALSE)","v":"SK"},{"$f":"VLOOKUP(F939,Soutez!A:C,3,FALSE)","v":2022},20,3869,0.94000000000000006,6424,6039,"x",null,"LS-1f","EM",""]
["Benedikt Sindermann",null,null,"Stőelln-Rhinow",null,"FCC 2022 - Klub",{"$f":"VLOOKUP(F940,Soutez!A:B,2,FALSE)","v":"SK"},{"$f":"VLOOKUP(F940,Soutez!A:C,3,FALSE)","v":2022},21,3809,0.94000000000000006,6272,5896,null,null,"LS-1f","1F","Není v databázi"]
["Arkadiusz Bajura",null,null,"Aeroklub Opole",null,"FCC 2022 - Klub",{"$f":"VLOOKUP(F941,Soutez!A:B,2,FALSE)","v":"SK"},{"$f":"VLOOKUP(F941,Soutez!A:C,3,FALSE)","v":2022},22,3791,0.94000000000000006,6172,5802,null,null,"Mini-Nimbus c","CC","Není v databázi"]
["Oliver Sven",null,null,"Cape Gliding Club",null,"FCC 2022 - Klub",{"$f":"VLOOKUP(F942,Soutez!A:B,2,FALSE)","v":"SK"},{"$f":"VLOOKUP(F942,Soutez!A:C,3,FALSE)","v":2022},23,3778,0.94000000000000006,6079,5714,null,null,"Std. Cirrus","UY","Není v databázi"]
["Wojciech Domanski",null,null,"Nowy Targ",null,"FCC 2022 - Klub",{"$f":"VLOOKUP(F943,Soutez!A:B,2,FALSE)","v":"SK"},{"$f":"VLOOKUP(F943,Soutez!A:C,3,FALSE)","v":2022},24,3743,0.94000000000000006,5958,5601,null,null,"LS-4","WW","Není v databázi"]
["Jozsef Tornyai",null,null,"Malev",null,"FCC 2022 - Klub",{"$f":"VLOOKUP(F944,Soutez!A:B,2,FALSE)","v":"SK"},{"$f":"VLOOKUP(F944,Soutez!A:C,3,FALSE)","v":2022},25,3719,0.94000000000000006,5850,5499,null,null,"LS-3 /15m","BYI","Není v databázi"]
["Wojciech Izdebski",null,null,"Gdansk",null,"FCC 2022 - Klub",{"$f":"VLOOKUP(F945,Soutez!A:B,2,FALSE)","v":"SK"},{"$f":"VLOOKUP(F945,Soutez!A:C,3,FALSE)","v":2022},26,3664,0.94000000000000006,5704,5362,null,null,"DG 101G","G1","Není v databázi"]
["Ryszard Pachla",null,null,"Czestochowski",null,"FCC 2022 - Klub",{"$f":"VLOOKUP(F946,Soutez!A:B,2,FALSE)","v":"SK"},{"$f":"VLOOKUP(F946,Soutez!A:C,3,FALSE)","v":2022},27,3542,0.94000000000000006,5473,5145,null,null,"SZD-48 Jantar std. 2","L","Není v databázi"]
["Krzysztof Kotarski",null,null,"Aeroklub Nadwiślańsk",null,"FCC 2022 - Klub",{"$f":"VLOOKUP(F947,Soutez!A:B,2,FALSE)","v":"SK"},{"$f":"VLOOKUP(F947,Soutez!A:C,3,FALSE)","v":2022},28,3467,0.94000000000000006,5301,4983,null,null,"ASW-19B","J1","Není v databázi"]
["Peter Gonczi",null,null,"Malév",null,"FCC 2022 - Klub",{"$f":"VLOOKUP(F948,Soutez!A:B,2,FALSE)","v":"SK"},{"$f":"VLOOKUP(F948,Soutez!A:C,3,FALSE)","v":2022},29,3095,0.94000000000000006,4755,4470,null,null,"Janus C (FG)","DD","Není v databázi"]
["Juraj Sidor",null,null,"AK Holic",null,"FCC 2022 - Klub",{"$f":"VLOOKUP(F949,Soutez!A:B,2,FALSE)","v":"SK"},{"$f":"VLOOKUP(F949,Soutez!A:C,3,FALSE)","v":2022},29,3095,0.94000000000000006,4755,4470,null,null,"Std. Cirrus","NM","Není v databázi"]
["Martin Sabla",null,null,"SNV",null,"FCC 2022 - Klub",{"$f":"VLOOKUP(F950,Soutez!A:B,2,FALSE)","v":"SK"},{"$f":"VLOOKUP(F950,Soutez!A:C,3,FALSE)","v":2022},31,2972,0.94000000000000006,4446,4179,null,null,"Discus 2b",70,"Není v databázi"]
["Aleksandar Diklic",null,null,"Zrenjanin",null,"FCC 2022 - Klub",{"$f":"VLOOKUP(F951,Soutez!A:B,2,FALSE)","v":"SK"},{"$f":"VLOOKUP(F951,Soutez!A:C,3,FALSE)","v":2022},32,2430,0.94000000000000006,3684,3463,null,null,"DG 100",30,"Není v databázi"]
["Jerzy Mikolajczyk",null,null,"AZM Plock",null,"FCC 2022 - Klub",{"$f":"VLOOKUP(F952,Soutez!A:B,2,FALSE)","v":"SK"},{"$f":"VLOOKUP(F952,Soutez!A:C,3,FALSE)","v":2022},33,2388,0.94000000000000006,3554,3341,null,null,"LS-4","YL","Není v databázi"]
["Stefan Schneider",null,null,"Bensheim",null,"FCC 2022 - Klub",{"$f":"VLOOKUP(F953,Soutez!A:B,2,FALSE)","v":"SK"},{"$f":"VLOOKUP(F953,Soutez!A:C,3,FALSE)","v":2022},34,2298,0.94000000000000006,3364,3162,null,null,"Std. Cirrus","KT","Není v databázi"]
["Piotr Ligwinski",null,null,"Lodz",null,"FCC 2022 - Klub",{"$f":"VLOOKUP(F954,Soutez!A:B,2,FALSE)","v":"SK"},{"$f":"VLOOKUP(F954,Soutez!A:C,3,FALSE)","v":2022},35,2061,0.94000000000000006,2987,2808,null,null,"ASW 24 WL","PL","Není v databázi"]
["Dariusz Pietraszkiewicz",null,null,"Szczecin",null,"FCC 2022 - Klub",{"$f":"VLOOKUP(F955,Soutez!A:B,2,FALSE)","v":"SK"},{"$f":"VLOOKUP(F955,Soutez!A:C,3,FALSE)","v":2022},36,1643,0.94000000000000006,2383,2240,null,null,"SZD-55 Promyk","SD","Není v databázi"]
["Agata Kaszczuk",null,null,"Wroc3aw",null,"FCC 2022 - Klub",{"$f":"VLOOKUP(F956,Soutez!A:B,2,FALSE)","v":"SK"},{"$f":"VLOOKUP(F956,Soutez!A:C,3,FALSE)","v":2022},37,876,0.94000000000000006,1337,1257,null,null,"LS-1f","MR","Není v databázi"]
["Krzysztof Owsiany",null,null,"AZM Lubin",null,"FCC 2022 - Klub",{"$f":"VLOOKUP(F957,Soutez!A:B,2,FALSE)","v":"SK"},{"$f":"VLOOKUP(F957,Soutez!A:C,3,FALSE)","v":2022},38,358,0.94000000000000006,606,570,null,null,"SZD-48 Jantar std. 3","CU","Není v databázi"]
["Ryszard Bendkowski",null,null,"Warszawa",null,"FCC 2022 - Klub",{"$f":"VLOOKUP(F958,Soutez!A:B,2,FALSE)","v":"SK"},{"$f":"VLOOKUP(F958,Soutez!A:C,3,FALSE)","v":2022},39,322,0.94000000000000006,484,455,null,null,"SZD-48 Jantar Std. 2","Filip","Není v databázi"]
["Pawel Wojciechowski",null,null,"Leszno",null,"FCC 2022 - Klub",{"$f":"VLOOKUP(F959,Soutez!A:B,2,FALSE)","v":"SK"},{"$f":"VLOOKUP(F959,Soutez!A:C,3,FALSE)","v":2022},40,0,0.94000000000000006,0,0,null,null,"SZD-55","RAW","Není v databázi"]
["Domas Zostautas",null,null,"Vilniaus",null,"FCC 2022 - Klub",{"$f":"VLOOKUP(F960,Soutez!A:B,2,FALSE)","v":"SK"},{"$f":"VLOOKUP(F960,Soutez!A:C,3,FALSE)","v":2022},40,0,0.94000000000000006,0,0,null,null,"SZD-48 Jantar std. 3","B","Není v databázi"]
["Stas Stankovic",null,null,"Aeroklub Novo mesto",null,"FCC 2022 - Klub",{"$f":"VLOOKUP(F961,Soutez!A:B,2,FALSE)","v":"SK"},{"$f":"VLOOKUP(F961,Soutez!A:C,3,FALSE)","v":2022},40,0,0.94000000000000006,0,0,null,null,"DG-100","GO","Není v databázi"]
["Jaroslaw Michaluk",null,null,"KSS",null,"FCC 2022 - Klub",{"$f":"VLOOKUP(F962,Soutez!A:B,2,FALSE)","v":"SK"},{"$f":"VLOOKUP(F962,Soutez!A:C,3,FALSE)","v":2022},40,0,0.94000000000000006,0,0,null,null,"SZD-48 Jantar std. 2","LK","Není v databázi"]
["Miloslav Cink",{"$f":"VLOOKUP(A963,Pilot,2,0)","v":1987},{"$f":"VLOOKUP(A963,Pilot,5,0)","v":"M"},{"$f":"VLOOKUP(A963,Pilot,3,0)","v":"Letkov"},{"$f":"VLOOKUP(A963,Pilot,4,0)","v":"CZ/C1"},"FCC 2022 - Kombi 15m",{"$f":"VLOOKUP(F963,Soutez!A:B,2,FALSE)","v":"SK"},{"$f":"VLOOKUP(F963,Soutez!A:C,3,FALSE)","v":2022},1,5374,{"$f":"VLOOKUP(F963,Soutez,12,0)","v":0.96000000000000008},{"$f":"ROUND(J963/MAX($J$963:$J$990)*10000*0.7+(MAX($I$963:$I$990)-I963)/(MAX($I$963:$I$990)-1)*10000*0.3,0)","v":10000},{"$f":"ROUND(K963*L963,0)","v":9600},null,null,"LS-8b /15 m","JB",""]
["Pavel Louzecky",1957,"M","Přibyslav","CZ/C2","FCC 2022 - Kombi 15m",{"$f":"VLOOKUP(F964,Soutez!A:B,2,FALSE)","v":"SK"},{"$f":"VLOOKUP(F964,Soutez!A:C,3,FALSE)","v":2022},2,5354,{"$f":"VLOOKUP(F964,Soutez,12,0)","v":0.96000000000000008},9863,{"$f":"ROUND(K964*L964,0)","v":9468},null,null,"LS-8 /15 m","FX",""]
["Jan Pavlik",1987,"M","Křižanov","CZ/M","FCC 2022 - Kombi 15m",{"$f":"VLOOKUP(F965,Soutez!A:B,2,FALSE)","v":"SK"},{"$f":"VLOOKUP(F965,Soutez!A:C,3,FALSE)","v":2022},3,5313,0.96000000000000008,9698,9310,null,null,"LS-8 /15 m","JW",""]
["Lukasz Blaszczyk",null,null,"Ostrow",null,"FCC 2022 - Kombi 15m",{"$f":"VLOOKUP(F966,Soutez!A:B,2,FALSE)","v":"SK"},{"$f":"VLOOKUP(F966,Soutez!A:C,3,FALSE)","v":2022},4,5146,0.96000000000000008,9370,8995,null,null,"Diana 2","RP","Není v databázi"]
["Norbert Scarlat",null,null,"Romanian Airclub",null,"FCC 2022 - Kombi 15m",{"$f":"VLOOKUP(F967,Soutez!A:B,2,FALSE)","v":"SK"},{"$f":"VLOOKUP(F967,Soutez!A:C,3,FALSE)","v":2022},5,5133,0.96000000000000008,9242,8872,null,null,"Discus 2a /15m","Y1","Není v databázi"]
["David Mach",{"$f":"VLOOKUP(A968,Pilot,2,0)","v":1994},{"$f":"VLOOKUP(A968,Pilot,5,0)","v":"M"},{"$f":"VLOOKUP(A968,Pilot,3,0)","v":"Hronov"},{"$f":"VLOOKUP(A968,Pilot,4,0)","v":"CZ/C2"},"FCC 2022 - Kombi 15m",{"$f":"VLOOKUP(F968,Soutez!A:B,2,FALSE)","v":"SK"},{"$f":"VLOOKUP(F968,Soutez!A:C,3,FALSE)","v":2022},6,5121,0.96000000000000008,9115,8750,null,null,"JS3 15m","ZE",""]
["Lukasz Grabowski",null,null,"Aeroklub Wloclawski",null,"FCC 2022 - Kombi 15m",{"$f":"VLOOKUP(F969,Soutez!A:B,2,FALSE)","v":"SK"},{"$f":"VLOOKUP(F969,Soutez!A:C,3,FALSE)","v":2022},7,4913,0.96000000000000008,8733,8384,null,null,"Discus 2A","I","Není v databázi"]
["Stanislaw Biela",null,null,"Nowy Targ",null,"FCC 2022 - Kombi 15m",{"$f":"VLOOKUP(F970,Soutez!A:B,2,FALSE)","v":"SK"},{"$f":"VLOOKUP(F970,Soutez!A:C,3,FALSE)","v":2022},8,4772,0.96000000000000008,8438,8100,null,null,"SZD 56-2 DIANA FES","AV","Není v databázi"]
["Czeladzki & Marchelewski",null,null,"KKGT",null,"FCC 2022 - Kombi 15m",{"$f":"VLOOKUP(F971,Soutez!A:B,2,FALSE)","v":"SK"},{"$f":"VLOOKUP(F971,Soutez!A:C,3,FALSE)","v":2022},9,4660,0.96000000000000008,8181,7854,null,null,"Duo Discus XLT","POL","Není v databázi"]
["Judyta Czyż",null,null,"Bielsko Bialski",null,"FCC 2022 - Kombi 15m",{"$f":"VLOOKUP(F972,Soutez!A:B,2,FALSE)","v":"SK"},{"$f":"VLOOKUP(F972,Soutez!A:C,3,FALSE)","v":2022},10,4623,0.96000000000000008,8022,7701,null,null,"LS-8 /15 m","LOT",{"$f":"IF(ISERROR(VLOOKUP(A972,Pilot,6,0)),\"Není v databázi\",VLOOKUP(A972,Pilot,6,0))","v":"Není v databázi"}]
["Alex Pop",null,null,"Romanian Airclub",null,"FCC 2022 - Kombi 15m",{"$f":"VLOOKUP(F973,Soutez!A:B,2,FALSE)","v":"SK"},{"$f":"VLOOKUP(F973,Soutez!A:C,3,FALSE)","v":2022},11,4615,0.96000000000000008,7900,7584,null,null,"Discus 2a /15m","YB","Není v databázi"]
["Trojan & Blatak",null,null,"Chrudim",null,"FCC 2022 - Kombi 15m",{"$f":"VLOOKUP(F974,Soutez!A:B,2,FALSE)","v":"SK"},{"$f":"VLOOKUP(F974,Soutez!A:C,3,FALSE)","v":2022},12,4466,0.96000000000000008,7595,7291,null,null,"Duo Discus T (700kg)","ZS","Není v databázi"]
["Arturas Klimasauskas",null,null,"Pociunai (Kaunas Gliding Club)",null,"FCC 2022 - Kombi 15m",{"$f":"VLOOKUP(F975,Soutez!A:B,2,FALSE)","v":"SK"},{"$f":"VLOOKUP(F975,Soutez!A:C,3,FALSE)","v":2022},13,4423,0.96000000000000008,7428,7131,null,null,"Ventus 2b/15m","BX","Není v databázi"]
["Dawid Pretorius",null,null,"Cape Gliding Club",null,"FCC 2022 - Kombi 15m",{"$f":"VLOOKUP(F976,Soutez!A:B,2,FALSE)","v":"SK"},{"$f":"VLOOKUP(F976,Soutez!A:C,3,FALSE)","v":2022},14,4191,{"$f":"VLOOKUP(F976,Soutez,12,0)","v":0.96000000000000008},7015,6734,null,null,"LS-8 /15 m","1Z","Není v databázi"]
["Jana Treslova",1963,"F",{"$f":"VLOOKUP(A977,Pilot,3,0)","v":"Raná"},{"$f":"VLOOKUP(A977,Pilot,4,0)","v":"CZ/C2"},"FCC 2022 - Kombi 15m",{"$f":"VLOOKUP(F977,Soutez!A:B,2,FALSE)","v":"SK"},{"$f":"VLOOKUP(F977,Soutez!A:C,3,FALSE)","v":2022},15,4188,0.96000000000000008,6900,6624,null,null,"Discus 2a /15m","GX",""]
["Dana Novakova",1965,"F","Mladá Boleslav","CZ/C1","FCC 2022 - Kombi 15m",{"$f":"VLOOKUP(F978,Soutez!A:B,2,FALSE)","v":"SK"},{"$f":"VLOOKUP(F978,Soutez!A:C,3,FALSE)","v":2022},16,4186,0.96000000000000008,6786,{"$f":"ROUND(K978*L978,0)","v":6515},null,null,"LS-8 /15 m","AU",""]
["Barbora Moravcova",1994,"F","Zbraslavice","CZ/C1","FCC 2022 - Kombi 15m",{"$f":"VLOOKUP(F979,Soutez!A:B,2,FALSE)","v":"SK"},{"$f":"VLOOKUP(F979,Soutez!A:C,3,FALSE)","v":2022},17,4175,0.96000000000000008,6660,6394,null,null,"LS-8 /15 m","EU",""]
["Pawel Frackowiak",null,null,"Aeroklub Poznanski",null,"FCC 2022 - Kombi 15m",{"$f":"VLOOKUP(F980,Soutez!A:B,2,FALSE)","v":"SK"},{"$f":"VLOOKUP(F980,Soutez!A:C,3,FALSE)","v":2022},18,4149,0.96000000000000008,6515,6254,null,null,"LAK 17B FES /15m 525kg",77,"Není v databázi"]
["Karol Snapko",null,null,"Nadwislanski",null,"FCC 2022 - Kombi 15m",{"$f":"VLOOKUP(F981,Soutez!A:B,2,FALSE)","v":"SK"},{"$f":"VLOOKUP(F981,Soutez!A:C,3,FALSE)","v":2022},19,3866,0.96000000000000008,6036,5795,null,null,"Discus 2a /15m","Y","Není v databázi"]
["Robert Toth",null,null,"Pelikan RE",null,"FCC 2022 - Kombi 15m",{"$f":"VLOOKUP(F982,Soutez!A:B,2,FALSE)","v":"SK"},{"$f":"VLOOKUP(F982,Soutez!A:C,3,FALSE)","v":2022},20,3635,0.96000000000000008,5624,5399,null,null,"LS-6 b","4L","Není v databázi"]
["Maciej Walasek",null,null,"Aeroklub Krakowski",null,"FCC 2022 - Kombi 15m",{"$f":"VLOOKUP(F983,Soutez!A:B,2,FALSE)","v":"SK"},{"$f":"VLOOKUP(F983,Soutez!A:C,3,FALSE)","v":2022},21,3598,0.96000000000000008,5464,5245,null,null,"LS-6","KK","Není v databázi"]
["Dariusz Czech",null,null,"Stalowowolski",null,"FCC 2022 - Kombi 15m",{"$f":"VLOOKUP(F984,Soutez!A:B,2,FALSE)","v":"SK"},{"$f":"VLOOKUP(F984,Soutez!A:C,3,FALSE)","v":2022},22,2915,0.96000000000000008,4464,4285,null,null,"LAK 19 15m WL","DC","Není v databázi"]
["Slavomir Valecko",1960,"M",{"$f":"VLOOKUP(A985,Pilot,3,0)","v":"Hranice"},{"$f":"VLOOKUP(A985,Pilot,4,0)","v":"CZ/M"},"FCC 2022 - Kombi 15m",{"$f":"VLOOKUP(F985,Soutez!A:B,2,FALSE)","v":"SK"},{"$f":"VLOOKUP(F985,Soutez!A:C,3,FALSE)","v":2022},23,2887,0.96000000000000008,4316,4143,"x",null,"Discus b WL","IYB",""]
["Andrzej Szczerba",null,null,"Warszawa",null,"FCC 2022 - Kombi 15m",{"$f":"VLOOKUP(F986,Soutez!A:B,2,FALSE)","v":"SK"},{"$f":"VLOOKUP(F986,Soutez!A:C,3,FALSE)","v":2022},24,2171,0.96000000000000008,3272,3141,null,null,"SZD-56-2 Diana-2 FES","AI","Není v databázi"]
["Konrad Jaczkowski",null,null,"Czźstochowski",null,"FCC 2022 - Kombi 15m",{"$f":"VLOOKUP(F987,Soutez!A:B,2,FALSE)","v":"SK"},{"$f":"VLOOKUP(F987,Soutez!A:C,3,FALSE)","v":2022},25,1397,0.96000000000000008,2153,2067,null,null,"Ventus 2B","V2","Není v databázi"]
["Benedikt Laho",null,null,"Trnava",null,"FCC 2022 - Kombi 15m",{"$f":"VLOOKUP(F988,Soutez!A:B,2,FALSE)","v":"SK"},{"$f":"VLOOKUP(F988,Soutez!A:C,3,FALSE)","v":2022},26,763,0.96000000000000008,1216,1167,null,null,"Discus 2T /15m","JH","Není v databázi"]
["Istvan Reti",null,null,"Alfoldi Repülőklub",null,"FCC 2022 - Kombi 15m",{"$f":"VLOOKUP(F989,Soutez!A:B,2,FALSE)","v":"SK"},{"$f":"VLOOKUP(F989,Soutez!A:C,3,FALSE)","v":2022},27,454,0.96000000000000008,702,674,null,null,"Ventus 2b 15m","G6","Není v databázi"]
["Jana Veprekova",1961,"F",{"$f":"VLOOKUP(A990,Pilot,3,0)","v":"Dvůr Králové"},{"$f":"VLOOKUP(A990,Pilot,4,0)","v":"CZ/C2"},"FCC 2022 - Kombi 15m",{"$f":"VLOOKUP(F990,Soutez!A:B,2,FALSE)","v":"SK"},{"$f":"VLOOKUP(F990,Soutez!A:C,3,FALSE)","v":2022},28,0,0.96000000000000008,0,0,null,null,"LS-8 /15 m","W8",""]
["Gintas Zube",null,null,"Kartena gliding club",null,"FCC 2022 - Kombi Open",{"$f":"VLOOKUP(F991,Soutez!A:B,2,FALSE)","v":"SK"},{"$f":"VLOOKUP(F991,Soutez!A:C,3,FALSE)","v":2022},1,5418,{"$f":"VLOOKUP(F991,Soutez,12,0)","v":0.96500000000000008},{"$f":"ROUND(J991/MAX($J$991:$J$1035)*10000*0.7+(MAX($I$991:$I$1035)-I991)/(MAX($I$991:$I$1035)-1)*10000*0.3,0)","v":10000},{"$f":"ROUND(K991*L991,0)","v":9650},null,null,"ASG-29E /18m","AR","Není v databázi"]
["Wolfgang Janowitsch",null,null,"FRA Wr. Neustadt",null,"FCC 2022 - Kombi Open",{"$f":"VLOOKUP(F992,Soutez!A:B,2,FALSE)","v":"SK"},{"$f":"VLOOKUP(F992,Soutez!A:C,3,FALSE)","v":2022},2,5415,{"$f":"VLOOKUP(F992,Soutez,12,0)","v":0.96500000000000008},9921,{"$f":"ROUND(K992*L992,0)","v":9574},null,null,"Ventus 3T - 18m","WO","Není v databázi"]
["Radek Krejcirik",{"$f":"VLOOKUP(A993,Pilot,2,0)","v":1991},{"$f":"VLOOKUP(A993,Pilot,5,0)","v":"M"},{"$f":"VLOOKUP(A993,Pilot,3,0)","v":"Hranice"},{"$f":"VLOOKUP(A993,Pilot,4,0)","v":"CZ/M"},"FCC 2022 - Kombi Open",{"$f":"VLOOKUP(F993,Soutez!A:B,2,FALSE)","v":"SK"},{"$f":"VLOOKUP(F993,Soutez!A:C,3,FALSE)","v":2022},3,5383,0.96500000000000008,9805,9462,null,null,"JS-1C EVO 18m","ZF",""]
["Karol Staryszak",null,null,"Nadwislamski",null,"FCC 2022 - Kombi Open",{"$f":"VLOOKUP(F994,Soutez!A:B,2,FALSE)","v":"SK"},{"$f":"VLOOKUP(F994,Soutez!A:C,3,FALSE)","v":2022},4,5336,0.96500000000000008,9669,9331,null,null,"ASG-29E /18m","PES","Není v databázi"]
["Zoltan Hamar",null,null,"Vario SE",null,"FCC 2022 - Kombi Open",{"$f":"VLOOKUP(F995,Soutez!A:B,2,FALSE)","v":"SK"},{"$f":"VLOOKUP(F995,Soutez!A:C,3,FALSE)","v":2022},5,5201,0.96500000000000008,9420,9090,null,null,"JS3 /18m","7A","Není v databázi"]
["Sebastian Kawa",null,null,"Aeroclub Bielsko Biala",null,"FCC 2022 - Kombi Open",{"$f":"VLOOKUP(F996,Soutez!A:B,2,FALSE)","v":"SK"},{"$f":"VLOOKUP(F996,Soutez!A:C,3,FALSE)","v":2022},6,5112,0.96500000000000008,9230,8907,null,null,"Diana 3 FES","GSS","Není v databázi"]
["Andrzej Smielkiewicz",null,null,"Leszno",null,"FCC 2022 - Kombi Open",{"$f":"VLOOKUP(F997,Soutez!A:B,2,FALSE)","v":"SK"},{"$f":"VLOOKUP(F997,Soutez!A:C,3,FALSE)","v":2022},7,5048,0.96500000000000008,9072,8754,null,null,"ASG-29E /18m","A2","Není v databázi"]
["Zdislaw Bednarczuk",null,null,"Bielsko-Biala",null,"FCC 2022 - Kombi Open",{"$f":"VLOOKUP(F998,Soutez!A:B,2,FALSE)","v":"SK"},{"$f":"VLOOKUP(F998,Soutez!A:C,3,FALSE)","v":2022},8,5003,0.96500000000000008,8939,8626,null,null,"Js3 MD","ZB","Není v databázi"]
["Leszek Staryszak",null,null,"Warsawski",null,"FCC 2022 - Kombi Open",{"$f":"VLOOKUP(F999,Soutez!A:B,2,FALSE)","v":"SK"},{"$f":"VLOOKUP(F999,Soutez!A:C,3,FALSE)","v":2022},9,5000,0.96500000000000008,8860,8550,null,null,"ASG-29E /18m","BG","Není v databázi"]
["Bernd Goretzki",null,null,"LSV Rinteln",null,"FCC 2022 - Kombi Open",{"$f":"VLOOKUP(F1000,Soutez!A:B,2,FALSE)","v":"SK"},{"$f":"VLOOKUP(F1000,Soutez!A:C,3,FALSE)","v":2022},10,4914,0.96500000000000008,8674,8370,null,null,"Ventus 3M","C8","Není v databázi"]
["Andre Weidlich",null,null,"LSV Ruhr-Lenne Iserlohn",null,"FCC 2022 - Kombi Open",{"$f":"VLOOKUP(F1001,Soutez!A:B,2,FALSE)","v":"SK"},{"$f":"VLOOKUP(F1001,Soutez!A:C,3,FALSE)","v":2022},11,4897,0.96500000000000008,8577,8277,null,null,"Ventus 3M - 18m","TE","Není v databázi"]
["Arkadiusz Downar",null,null,"Warmińsko-Mazurski",null,"FCC 2022 - Kombi Open",{"$f":"VLOOKUP(F1002,Soutez!A:B,2,FALSE)","v":"SK"},{"$f":"VLOOKUP(F1002,Soutez!A:C,3,FALSE)","v":2022},12,4889,0.96500000000000008,8492,8195,null,null,"ASG-29E /18m","29L","Není v databázi"]
["Kessler & Chisu-Muresan",null,null,"Romanian Airclub",null,"FCC 2022 - Kombi Open",{"$f":"VLOOKUP(F1003,Soutez!A:B,2,FALSE)","v":"SK"},{"$f":"VLOOKUP(F1003,Soutez!A:C,3,FALSE)","v":2022},13,4868,0.96500000000000008,8389,8095,null,null,"ASG-32 Mi-850 kg","AK","Není v databázi"]
["Tomasz Dul",null,null,"LSV Dinslaken",null,"FCC 2022 - Kombi Open",{"$f":"VLOOKUP(F1004,Soutez!A:B,2,FALSE)","v":"SK"},{"$f":"VLOOKUP(F1004,Soutez!A:C,3,FALSE)","v":2022},14,4847,0.96500000000000008,8287,7997,null,null,"JS3 MD","TO","Není v databázi"]
["Martin Furjes",null,null,"SGC Martin",null,"FCC 2022 - Kombi Open",{"$f":"VLOOKUP(F1005,Soutez!A:B,2,FALSE)","v":"SK"},{"$f":"VLOOKUP(F1005,Soutez!A:C,3,FALSE)","v":2022},15,4745,0.96500000000000008,8080,7797,null,null,"JS3 /18m",3,"Není v databázi"]
["Joze Verdev",null,null,"Šaleški Aeroklub",null,"FCC 2022 - Kombi Open",{"$f":"VLOOKUP(F1006,Soutez!A:B,2,FALSE)","v":"SK"},{"$f":"VLOOKUP(F1006,Soutez!A:C,3,FALSE)","v":2022},16,4609,0.96500000000000008,7830,7556,null,null,"JS1-CTJ 18 EVO","DZ","Není v databázi"]
["Lukasz Kornacki",null,null,"Aeroklub Ziemi Mazowieckiej",null,"FCC 2022 - Kombi Open",{"$f":"VLOOKUP(F1007,Soutez!A:B,2,FALSE)","v":"SK"},{"$f":"VLOOKUP(F1007,Soutez!A:C,3,FALSE)","v":2022},17,4591,0.96500000000000008,7732,7461,null,null,"ASG-29E /18m","PLI","Není v databázi"]
["Petr Krejcirik",{"$f":"VLOOKUP(A1008,Pilot,2,0)","v":1960},{"$f":"VLOOKUP(A1008,Pilot,5,0)","v":"M"},{"$f":"VLOOKUP(A1008,Pilot,3,0)","v":"Hranice"},{"$f":"VLOOKUP(A1008,Pilot,4,0)","v":"CZ/M"},"FCC 2022 - Kombi Open",{"$f":"VLOOKUP(F1008,Soutez!A:B,2,FALSE)","v":"SK"},{"$f":"VLOOKUP(F1008,Soutez!A:C,3,FALSE)","v":2022},18,4547,0.96500000000000008,7600,7334,null,null,"AS 33 Es",12,""]
["Lubomir Motl",1959,"M","Kyjov","CZ/M","FCC 2022 - Kombi Open",{"$f":"VLOOKUP(F1009,Soutez!A:B,2,FALSE)","v":"SK"},{"$f":"VLOOKUP(F1009,Soutez!A:C,3,FALSE)","v":2022},19,4497,0.96500000000000008,7460,7199,"x",null,"Nimbus 4DM","AM",""]
["Arkadiusz Stefańczyk",null,null,null,null,"FCC 2022 - Kombi Open",{"$f":"VLOOKUP(F1010,Soutez!A:B,2,FALSE)","v":"SK"},{"$f":"VLOOKUP(F1010,Soutez!A:C,3,FALSE)","v":2022},20,4472,{"$f":"VLOOKUP(F1010,Soutez,12,0)","v":0.96500000000000008},7353,7096,null,null,"ASG 32 Mi","MD","Není v databázi"]
["Janos Sindely",null,null,"Alfoldi Repülőklub",null,"FCC 2022 - Kombi Open",{"$f":"VLOOKUP(F1011,Soutez!A:B,2,FALSE)","v":"SK"},{"$f":"VLOOKUP(F1011,Soutez!A:C,3,FALSE)","v":2022},21,4448,0.96500000000000008,7247,6993,null,null,"JS1-1C 21","RZ","Není v databázi"]
["Jerzey Kolasinski",null,null,"Aeroklub Poznanski/KKGT",null,"FCC 2022 - Kombi Open",{"$f":"VLOOKUP(F1012,Soutez!A:B,2,FALSE)","v":"SK"},{"$f":"VLOOKUP(F1012,Soutez!A:C,3,FALSE)","v":2022},22,4443,0.96500000000000008,7165,6914,null,null,"ASG 29 18m","EMI","Není v databázi"]
["Paul Altrichter",null,null,"Fliegergrrupe waldviertel",null,"FCC 2022 - Kombi Open",{"$f":"VLOOKUP(F1013,Soutez!A:B,2,FALSE)","v":"SK"},{"$f":"VLOOKUP(F1013,Soutez!A:C,3,FALSE)","v":2022},23,4442,0.96500000000000008,7089,{"$f":"ROUND(K1013*L1013,0)","v":6841},null,null,"Ventus 2 cxa 18m-600 kg","AX","Není v databázi"]
["Kapuy & Reti",null,null,null,null,"FCC 2022 - Kombi Open",{"$f":"VLOOKUP(F1014,Soutez!A:B,2,FALSE)","v":"SK"},{"$f":"VLOOKUP(F1014,Soutez!A:C,3,FALSE)","v":2022},24,4437,0.96500000000000008,7008,6763,null,null,"-29,3m","HB","Není v databázi"]
["Teet Jagomagi",null,null,"Ridali",null,"FCC 2022 - Kombi Open",{"$f":"VLOOKUP(F1015,Soutez!A:B,2,FALSE)","v":"SK"},{"$f":"VLOOKUP(F1015,Soutez!A:C,3,FALSE)","v":2022},25,4409,0.96500000000000008,6896,6655,null,null,"JS1-1C 18 EVO",56,"Není v databázi"]
["Petr Panek",{"$f":"VLOOKUP(A1016,Pilot,2,0)","v":1975},{"$f":"VLOOKUP(A1016,Pilot,5,0)","v":"M"},{"$f":"VLOOKUP(A1016,Pilot,3,0)","v":"Dvůr Králové"},{"$f":"VLOOKUP(A1016,Pilot,4,0)","v":"CZ/C2"},"FCC 2022 - Kombi Open",{"$f":"VLOOKUP(F1016,Soutez!A:B,2,FALSE)","v":"SK"},{"$f":"VLOOKUP(F1016,Soutez!A:C,3,FALSE)","v":2022},26,4402,0.96500000000000008,6812,6574,null,null,"JS-1b JET","IGC",""]
["Ivan Novak",1962,"M","Mladá Boleslav","CZ/C1","FCC 2022 - Kombi Open",{"$f":"VLOOKUP(F1017,Soutez!A:B,2,FALSE)","v":"SK"},{"$f":"VLOOKUP(F1017,Soutez!A:C,3,FALSE)","v":2022},27,4388,0.96500000000000008,6719,6484,null,null,"ASG 29 /18m","QZ",""]
["Hana Treslova",1991,"F","Raná","CZ/C2","FCC 2022 - Kombi Open",{"$f":"VLOOKUP(F1018,Soutez!A:B,2,FALSE)","v":"SK"},{"$f":"VLOOKUP(F1018,Soutez!A:C,3,FALSE)","v":2022},28,4329,0.96500000000000008,6568,6338,null,null,"JS3 /18m","XM",""]
["Pirker & Pirker",null,null,"FAS-Wien (Vienna)",null,"FCC 2022 - Kombi Open",{"$f":"VLOOKUP(F1019,Soutez!A:B,2,FALSE)","v":"SK"},{"$f":"VLOOKUP(F1019,Soutez!A:C,3,FALSE)","v":2022},29,4140,0.96500000000000008,6249,6030,null,null,"Arcus M","PV","Není v databázi"]
["Tamas & Korom",null,null,"HUN Team",null,"FCC 2022 - Kombi Open",{"$f":"VLOOKUP(F1020,Soutez!A:B,2,FALSE)","v":"SK"},{"$f":"VLOOKUP(F1020,Soutez!A:C,3,FALSE)","v":2022},30,4066,0.96500000000000008,6078,5865,null,null,"Arcus T","HUX","Není v databázi"]
["Oldrich Bartonik",{"$f":"VLOOKUP(A1021,Pilot,2,0)","v":1961},{"$f":"VLOOKUP(A1021,Pilot,5,0)","v":"M"},{"$f":"VLOOKUP(A1021,Pilot,3,0)","v":"Luhačovice"},{"$f":"VLOOKUP(A1021,Pilot,4,0)","v":"CZ/M"},"FCC 2022 - Kombi Open",{"$f":"VLOOKUP(F1021,Soutez!A:B,2,FALSE)","v":"SK"},{"$f":"VLOOKUP(F1021,Soutez!A:C,3,FALSE)","v":2022},31,3918,0.96500000000000008,5812,5609,"x",null,"Diana 3 FES","D3",""]
["Jakubcak & Sulirova",null,null,null,null,"FCC 2022 - Kombi Open",{"$f":"VLOOKUP(F1022,Soutez!A:B,2,FALSE)","v":"SK"},{"$f":"VLOOKUP(F1022,Soutez!A:C,3,FALSE)","v":2022},32,3838,0.96500000000000008,5634,5437,null,null,"Arcus M","CAR","Není v databázi"]
["Jan Divok",null,null,"Aeroklub SNV",null,"FCC 2022 - Kombi Open",{"$f":"VLOOKUP(F1023,Soutez!A:B,2,FALSE)","v":"SK"},{"$f":"VLOOKUP(F1023,Soutez!A:C,3,FALSE)","v":2022},33,3718,0.96500000000000008,5404,5215,null,null,"Discus 2cT /18m","DJ","Není v databázi"]
["Miguel Schwan",null,null,"SFC Tulin",null,"FCC 2022 - Kombi Open",{"$f":"VLOOKUP(F1024,Soutez!A:B,2,FALSE)","v":"SK"},{"$f":"VLOOKUP(F1024,Soutez!A:C,3,FALSE)","v":2022},34,3695,0.96500000000000008,5299,5114,null,null,"ASG-29Es /18m","AY","Není v databázi"]
["Lukas Benedikt",null,null,"Trnava",null,"FCC 2022 - Kombi Open",{"$f":"VLOOKUP(F1025,Soutez!A:B,2,FALSE)","v":"SK"},{"$f":"VLOOKUP(F1025,Soutez!A:C,3,FALSE)","v":2022},35,3310,0.96500000000000008,4726,4561,null,null,"Ventus 3F - 18m","LB","Není v databázi"]
["Lubomir Doupal",{"$f":"VLOOKUP(A1026,Pilot,2,0)","v":1975},{"$f":"VLOOKUP(A1026,Pilot,5,0)","v":"M"},{"$f":"VLOOKUP(A1026,Pilot,3,0)","v":"Kroměříž"},{"$f":"VLOOKUP(A1026,Pilot,4,0)","v":"CZ/M"},"FCC 2022 - Kombi Open",{"$f":"VLOOKUP(F1026,Soutez!A:B,2,FALSE)","v":"SK"},{"$f":"VLOOKUP(F1026,Soutez!A:C,3,FALSE)","v":2022},36,3234,0.96500000000000008,4553,4394,"x",null,"Ventus 2cxm 18m-565 kg","LD",""]
["Kollar & Kromka",null,null,"Poprad",null,"FCC 2022 - Kombi Open",{"$f":"VLOOKUP(F1027,Soutez!A:B,2,FALSE)","v":"SK"},{"$f":"VLOOKUP(F1027,Soutez!A:C,3,FALSE)","v":2022},37,2837,0.96500000000000008,3965,3826,null,null,"Arcus M","TA3","Není v databázi"]
["Gabriela Belakova",null,null,"Prievidza",null,"FCC 2022 - Kombi Open",{"$f":"VLOOKUP(F1028,Soutez!A:B,2,FALSE)","v":"SK"},{"$f":"VLOOKUP(F1028,Soutez!A:C,3,FALSE)","v":2022},38,2813,0.96500000000000008,3859,3724,null,null,"Ventus 3M 18m","CAT","Není v databázi"]
["Aldo Cernezzi",null,null,"Acao Varese",null,"FCC 2022 - Kombi Open",{"$f":"VLOOKUP(F1029,Soutez!A:B,2,FALSE)","v":"SK"},{"$f":"VLOOKUP(F1029,Soutez!A:C,3,FALSE)","v":2022},39,2782,0.96500000000000008,3744,3613,null,null,"DG 800b/18m","TI","Není v databázi"]
["Jan Keher",null,null,"Prievidza",null,"FCC 2022 - Kombi Open",{"$f":"VLOOKUP(F1030,Soutez!A:B,2,FALSE)","v":"SK"},{"$f":"VLOOKUP(F1030,Soutez!A:C,3,FALSE)","v":2022},40,2074,0.96500000000000008,2755,2659,null,null,"Discus 2cT /18m","EF","Není v databázi"]
["Wolfgang Zimmermann",null,null,"FRA Wr. Neustadt",null,"FCC 2022 - Kombi Open",{"$f":"VLOOKUP(F1031,Soutez!A:B,2,FALSE)","v":"SK"},{"$f":"VLOOKUP(F1031,Soutez!A:C,3,FALSE)","v":2022},41,0,0.96500000000000008,0,0,null,null,"Ventus 3M - 18m","WZ",{"$f":"IF(ISERROR(VLOOKUP(A1031,Pilot,6,0)),\"Není v databázi\",VLOOKUP(A1031,Pilot,6,0))","v":"Není v databázi"}]
["Andrej Majewski",null,null,"Warminsko-Mazurski",null,"FCC 2022 - Kombi Open",{"$f":"VLOOKUP(F1032,Soutez!A:B,2,FALSE)","v":"SK"},{"$f":"VLOOKUP(F1032,Soutez!A:C,3,FALSE)","v":2022},41,0,0.96500000000000008,0,0,null,null,"ASG-29E /18m",29,"Není v databázi"]
["Zsolt Osi",null,null,"G6AX,ACFH",null,"FCC 2022 - Kombi Open",{"$f":"VLOOKUP(F1033,Soutez!A:B,2,FALSE)","v":"SK"},{"$f":"VLOOKUP(F1033,Soutez!A:C,3,FALSE)","v":2022},41,0,0.96500000000000008,0,0,null,null,"ASW-22BLE /26,58m (850 kg)","BY","Není v databázi"]
["Heimo Demmerer",null,null,"SFC Mariazell",null,"FCC 2022 - Kombi Open",{"$f":"VLOOKUP(F1034,Soutez!A:B,2,FALSE)","v":"SK"},{"$f":"VLOOKUP(F1034,Soutez!A:C,3,FALSE)","v":2022},41,0,0.96500000000000008,0,0,null,null,"Ventus 3M - 18m","OD","Není v databázi"]
["Botond Szabadfi",null,null,"Alfoldi AK",null,"FCC 2022 - Kombi Open",{"$f":"VLOOKUP(F1035,Soutez!A:B,2,FALSE)","v":"SK"},{"$f":"VLOOKUP(F1035,Soutez!A:C,3,FALSE)","v":2022},41,0,0.96500000000000008,0,0,null,null,"Nimbus 4DM","XXL","Není v databázi"]
["Michal Lesinger",{"$f":"VLOOKUP(A1036,Pilot,2,0)","v":1966},{"$f":"VLOOKUP(A1036,Pilot,5,0)","v":"M"},{"$f":"VLOOKUP(A1036,Pilot,3,0)","v":"Moravská Třebová"},{"$f":"VLOOKUP(A1036,Pilot,4,0)","v":"CZ/M"},"Pribina Cup 2022 - Klub",{"$f":"VLOOKUP(F1036,Soutez!A:B,2,FALSE)","v":"SK"},{"$f":"VLOOKUP(F1036,Soutez!A:C,3,FALSE)","v":2022},1,3186,{"$f":"VLOOKUP(F1036,Soutez,12,0)","v":0.94000000000000006},{"$f":"ROUND(J1036/MAX($J$1036:$J$1063)*10000*0.7+(MAX($I$1036:$I$1063)-I1036)/(MAX($I$1036:$I$1063)-1)*10000*0.3,0)","v":10000},{"$f":"ROUND(K1036*L1036,0)","v":9400},null,null,"ASW 20","LL",""]
["Roelof Corporaal",null,null,"Gelderse Zweefvliegclub",null,"Pribina Cup 2022 - Klub",{"$f":"VLOOKUP(F1037,Soutez!A:B,2,FALSE)","v":"SK"},{"$f":"VLOOKUP(F1037,Soutez!A:C,3,FALSE)","v":2022},2,3179,{"$f":"VLOOKUP(F1037,Soutez,12,0)","v":0.94000000000000006},9874,{"$f":"ROUND(K1037*L1037,0)","v":9282},null,null,"LS 7 WL","LK","Není v databázi"]
["Mark Travner",null,null,"Aeroklub Celje",null,"Pribina Cup 2022 - Klub",{"$f":"VLOOKUP(F1038,Soutez!A:B,2,FALSE)","v":"SK"},{"$f":"VLOOKUP(F1038,Soutez!A:C,3,FALSE)","v":2022},3,3169,0.94000000000000006,9740,9156,null,null,"ASW 20 W","SH","Není v databázi"]
["Jiri Kusbach",{"$f":"VLOOKUP(A1039,Pilot,2,0)","v":1959},{"$f":"VLOOKUP(A1039,Pilot,5,0)","v":"M"},{"$f":"VLOOKUP(A1039,Pilot,3,0)","v":"Luhačovice"},{"$f":"VLOOKUP(A1039,Pilot,4,0)","v":"CZ/M"},"Pribina Cup 2022 - Klub",{"$f":"VLOOKUP(F1039,Soutez!A:B,2,FALSE)","v":"SK"},{"$f":"VLOOKUP(F1039,Soutez!A:C,3,FALSE)","v":2022},4,3164,0.94000000000000006,9618,9041,null,null,"KKB-15E FES","B",""]
["Edmund Schuller",null,null,null,null,"Pribina Cup 2022 - Klub",{"$f":"VLOOKUP(F1040,Soutez!A:B,2,FALSE)","v":"SK"},{"$f":"VLOOKUP(F1040,Soutez!A:C,3,FALSE)","v":2022},5,3114,0.94000000000000006,9397,8833,null,null,"ASW 24 WL","ZS","Není v databázi"]
["Tibor Fratrik",null,null,"SGC Martin",null,"Pribina Cup 2022 - Klub",{"$f":"VLOOKUP(F1041,Soutez!A:B,2,FALSE)","v":"SK"},{"$f":"VLOOKUP(F1041,Soutez!A:C,3,FALSE)","v":2022},6,3037,0.94000000000000006,9117,8570,null,null,"ASW 20 C","VG","Není v databázi"]
["Uwe Wahlig",null,null,"Segelfluggruppe Bensheim e.V.",null,"Pribina Cup 2022 - Klub",{"$f":"VLOOKUP(F1042,Soutez!A:B,2,FALSE)","v":"SK"},{"$f":"VLOOKUP(F1042,Soutez!A:C,3,FALSE)","v":2022},7,3011,0.94000000000000006,8949,8412,null,null,"LS 3 WL","SN","Není v databázi"]
["Juliusz Pieniazek",null,null,"Aeroklub Podhalanski",null,"Pribina Cup 2022 - Klub",{"$f":"VLOOKUP(F1043,Soutez!A:B,2,FALSE)","v":"SK"},{"$f":"VLOOKUP(F1043,Soutez!A:C,3,FALSE)","v":2022},8,2878,0.94000000000000006,8546,8033,null,null,"ASW 19B",11,"Není v databázi"]
["Boris Zorz",null,null,null,null,"Pribina Cup 2022 - Klub",{"$f":"VLOOKUP(F1044,Soutez!A:B,2,FALSE)","v":"SK"},{"$f":"VLOOKUP(F1044,Soutez!A:C,3,FALSE)","v":2022},9,2863,0.94000000000000006,8401,7897,null,null,"Std. Cirrus WL","IPF","Není v databázi"]
["Artur Lonczuk",null,null,null,null,"Pribina Cup 2022 - Klub",{"$f":"VLOOKUP(F1045,Soutez!A:B,2,FALSE)","v":"SK"},{"$f":"VLOOKUP(F1045,Soutez!A:C,3,FALSE)","v":2022},10,2810,0.94000000000000006,8174,7684,null,null,"Jantar 2","KM","Není v databázi"]
["Zbigniew Górecki",null,null,"Lódz",null,"Pribina Cup 2022 - Klub",{"$f":"VLOOKUP(F1046,Soutez!A:B,2,FALSE)","v":"SK"},{"$f":"VLOOKUP(F1046,Soutez!A:C,3,FALSE)","v":2022},11,2755,0.94000000000000006,7942,7465,null,null,"Mini Nimbus","CH","Není v databázi"]
["Wojciech Domanski",null,null,null,null,"Pribina Cup 2022 - Klub",{"$f":"VLOOKUP(F1047,Soutez!A:B,2,FALSE)","v":"SK"},{"$f":"VLOOKUP(F1047,Soutez!A:C,3,FALSE)","v":2022},12,2742,0.94000000000000006,7802,7334,null,null,"LS 4","WW","Není v databázi"]
["Jakub Kaczorowski",null,null,"Wloclawek",null,"Pribina Cup 2022 - Klub",{"$f":"VLOOKUP(F1048,Soutez!A:B,2,FALSE)","v":"SK"},{"$f":"VLOOKUP(F1048,Soutez!A:C,3,FALSE)","v":2022},13,2716,{"$f":"VLOOKUP(F1048,Soutez,12,0)","v":0.94000000000000006},7634,7176,null,null,"Jantar 2","BI","Není v databázi"]
["Tomasz Kurowski",null,null,"Aeroklub Krakowski",null,"Pribina Cup 2022 - Klub",{"$f":"VLOOKUP(F1049,Soutez!A:B,2,FALSE)","v":"SK"},{"$f":"VLOOKUP(F1049,Soutez!A:C,3,FALSE)","v":2022},14,2703,0.94000000000000006,7494,7044,null,null,"SZD-48-3M","BZ","Není v databázi"]
["Maciej Kowalski",null,null,"Aeroklub Kielecki",null,"Pribina Cup 2022 - Klub",{"$f":"VLOOKUP(F1050,Soutez!A:B,2,FALSE)","v":"SK"},{"$f":"VLOOKUP(F1050,Soutez!A:C,3,FALSE)","v":2022},15,2698,0.94000000000000006,7372,{"$f":"ROUND(K1050*L1050,0)","v":6930},null,null,"Jantar 2","SO","Není v databázi"]
["Pawel Glowacki",null,null,null,null,"Pribina Cup 2022 - Klub",{"$f":"VLOOKUP(F1051,Soutez!A:B,2,FALSE)","v":"SK"},{"$f":"VLOOKUP(F1051,Soutez!A:C,3,FALSE)","v":2022},16,2627,0.94000000000000006,7105,6679,null,null,"Pegase C-101A","J7","Není v databázi"]
["Benjamin Josuttis",null,null,"LSV Kreis Osterode e.V.",null,"Pribina Cup 2022 - Klub",{"$f":"VLOOKUP(F1052,Soutez!A:B,2,FALSE)","v":"SK"},{"$f":"VLOOKUP(F1052,Soutez!A:C,3,FALSE)","v":2022},17,2624,0.94000000000000006,6987,6568,null,null,"LS 4","RF","Není v databázi"]
["Filip Durda",null,null,"Aeroklub Kielecki",null,"Pribina Cup 2022 - Klub",{"$f":"VLOOKUP(F1053,Soutez!A:B,2,FALSE)","v":"SK"},{"$f":"VLOOKUP(F1053,Soutez!A:C,3,FALSE)","v":2022},18,2568,0.94000000000000006,6753,6348,null,null,"Jantar 2","Y3","Není v databázi"]
["Jakub Kos",null,null,null,null,"Pribina Cup 2022 - Klub",{"$f":"VLOOKUP(F1054,Soutez!A:B,2,FALSE)","v":"SK"},{"$f":"VLOOKUP(F1054,Soutez!A:C,3,FALSE)","v":2022},19,2370,0.94000000000000006,6207,5835,null,null,"Jantar 2","Z4R","Není v databázi"]
["Stas Stankovic",null,null,"Aeroklub Novo mesto",null,"Pribina Cup 2022 - Klub",{"$f":"VLOOKUP(F1055,Soutez!A:B,2,FALSE)","v":"SK"},{"$f":"VLOOKUP(F1055,Soutez!A:C,3,FALSE)","v":2022},20,2352,0.94000000000000006,6056,5693,null,null,"DG 101 G","GO","Není v databázi"]
["Markus Uhlig",null,null,"FC Grossrückerswalde",null,"Pribina Cup 2022 - Klub",{"$f":"VLOOKUP(F1056,Soutez!A:B,2,FALSE)","v":"SK"},{"$f":"VLOOKUP(F1056,Soutez!A:C,3,FALSE)","v":2022},21,2294,0.94000000000000006,5818,5469,null,null,"Jantar 2 WL","M4","Není v databázi"]
["Ulrich Luta",null,null,"Luftsportverein Aachen e.V.",null,"Pribina Cup 2022 - Klub",{"$f":"VLOOKUP(F1057,Soutez!A:B,2,FALSE)","v":"SK"},{"$f":"VLOOKUP(F1057,Soutez!A:C,3,FALSE)","v":2022},22,2247,0.94000000000000006,5604,5268,null,null,"LS 7 WL","PR","Není v databázi"]
["Richard Vajda",null,null,null,null,"Pribina Cup 2022 - Klub",{"$f":"VLOOKUP(F1058,Soutez!A:B,2,FALSE)","v":"SK"},{"$f":"VLOOKUP(F1058,Soutez!A:C,3,FALSE)","v":2022},23,1820,0.94000000000000006,4554,4281,null,null,"ASW 20 W","BAS","Není v databázi"]
["Michael Wilden",null,null,"Luftsportverein Aachen e.V.",null,"Pribina Cup 2022 - Klub",{"$f":"VLOOKUP(F1059,Soutez!A:B,2,FALSE)","v":"SK"},{"$f":"VLOOKUP(F1059,Soutez!A:C,3,FALSE)","v":2022},24,1585,0.94000000000000006,3927,3691,null,null,"LS 7 WL","FOX","Není v databázi"]
["Kornel Negro",null,null,null,null,"Pribina Cup 2022 - Klub",{"$f":"VLOOKUP(F1060,Soutez!A:B,2,FALSE)","v":"SK"},{"$f":"VLOOKUP(F1060,Soutez!A:C,3,FALSE)","v":2022},25,1468,0.94000000000000006,3559,3345,null,null,"DG 202/15m","DK","Není v databázi"]
["Benedikt Sindermann",null,null,"Stölln/Rhinow e.V.",null,"Pribina Cup 2022 - Klub",{"$f":"VLOOKUP(F1061,Soutez!A:B,2,FALSE)","v":"SK"},{"$f":"VLOOKUP(F1061,Soutez!A:C,3,FALSE)","v":2022},26,1265,0.94000000000000006,3002,2822,null,null,"LS 1 f","1F","Není v databázi"]
["Stefan Schneider",null,null,"SFG Bensheim",null,"Pribina Cup 2022 - Klub",{"$f":"VLOOKUP(F1062,Soutez!A:B,2,FALSE)","v":"SK"},{"$f":"VLOOKUP(F1062,Soutez!A:C,3,FALSE)","v":2022},27,1199,0.94000000000000006,2745,2580,null,null,"Std. Cirrus","KT","Není v databázi"]
["Milos Horvat",null,null,null,null,"Pribina Cup 2022 - Klub",{"$f":"VLOOKUP(F1063,Soutez!A:B,2,FALSE)","v":"SK"},{"$f":"VLOOKUP(F1063,Soutez!A:C,3,FALSE)","v":2022},28,724,0.94000000000000006,1591,1496,null,null,"ASW 20 B","II","Není v databázi"]
["David Mach",{"$f":"VLOOKUP(A1064,Pilot,2,0)","v":1994},{"$f":"VLOOKUP(A1064,Pilot,5,0)","v":"M"},{"$f":"VLOOKUP(A1064,Pilot,3,0)","v":"Hronov"},{"$f":"VLOOKUP(A1064,Pilot,4,0)","v":"CZ/C2"},"Pribina Cup 2022 - Kombi 15m",{"$f":"VLOOKUP(F1064,Soutez!A:B,2,FALSE)","v":"SK"},{"$f":"VLOOKUP(F1064,Soutez!A:C,3,FALSE)","v":2022},1,3942,{"$f":"VLOOKUP(F1064,Soutez,12,0)","v":0.93},{"$f":"ROUND(J1064/MAX($J$1064:$J$1089)*10000*0.7+(MAX($I$1064:$I$1089)-I1064)/(MAX($I$1064:$I$1089)-1)*10000*0.3,0)","v":10000},{"$f":"ROUND(K1064*L1064,0)","v":9300},"x",null,"Ventus 2a/15m","AX",""]
["Max Maslak",null,null,null,null,"Pribina Cup 2022 - Kombi 15m",{"$f":"VLOOKUP(F1065,Soutez!A:B,2,FALSE)","v":"SK"},{"$f":"VLOOKUP(F1065,Soutez!A:C,3,FALSE)","v":2022},2,3866,{"$f":"VLOOKUP(F1065,Soutez,12,0)","v":0.93},9745,{"$f":"ROUND(K1065*L1065,0)","v":9063},null,null,"Discus 2T","OLC","Není v databázi"]
["Jan Schulz",null,null,null,null,"Pribina Cup 2022 - Kombi 15m",{"$f":"VLOOKUP(F1066,Soutez!A:B,2,FALSE)","v":"SK"},{"$f":"VLOOKUP(F1066,Soutez!A:C,3,FALSE)","v":2022},3,3623,0.93,9194,8550,null,null,"Discus 2T","BW3","Není v databázi"]
["Sebastian Nagel",null,null,null,null,"Pribina Cup 2022 - Kombi 15m",{"$f":"VLOOKUP(F1067,Soutez!A:B,2,FALSE)","v":"SK"},{"$f":"VLOOKUP(F1067,Soutez!A:C,3,FALSE)","v":2022},4,3564,0.93,8969,8341,null,null,"Discus 2a","XN","Není v databázi"]
["Tomasz Hornik",null,null,"Aeroklub Nadwislanski",null,"Pribina Cup 2022 - Kombi 15m",{"$f":"VLOOKUP(F1068,Soutez!A:B,2,FALSE)","v":"SK"},{"$f":"VLOOKUP(F1068,Soutez!A:C,3,FALSE)","v":2022},5,3530,0.93,8788,8173,null,null,"ASG 29/15m","PL","Není v databázi"]
["Lukasz Grabowski",null,null,null,null,"Pribina Cup 2022 - Kombi 15m",{"$f":"VLOOKUP(F1069,Soutez!A:B,2,FALSE)","v":"SK"},{"$f":"VLOOKUP(F1069,Soutez!A:C,3,FALSE)","v":2022},6,3526,0.93,8661,8055,null,null,"SZD 56 Diana2","RP","Není v databázi"]
["Patrick Benoist",null,null,null,null,"Pribina Cup 2022 - Kombi 15m",{"$f":"VLOOKUP(F1070,Soutez!A:B,2,FALSE)","v":"SK"},{"$f":"VLOOKUP(F1070,Soutez!A:C,3,FALSE)","v":2022},7,3478,0.93,8456,7864,null,null,"LS 8s","PB","Není v databázi"]
["Jan Kretzschmar",null,null,"Aero Club Lichtenfels",null,"Pribina Cup 2022 - Kombi 15m",{"$f":"VLOOKUP(F1071,Soutez!A:B,2,FALSE)","v":"SK"},{"$f":"VLOOKUP(F1071,Soutez!A:C,3,FALSE)","v":2022},8,3338,{"$f":"VLOOKUP(F1071,Soutez,12,0)","v":0.93},8087,7521,null,null,"LS 8a","JK","Není v databázi"]
["Daniel Bernhardt",null,null,null,null,"Pribina Cup 2022 - Kombi 15m",{"$f":"VLOOKUP(F1072,Soutez!A:B,2,FALSE)","v":"SK"},{"$f":"VLOOKUP(F1072,Soutez!A:C,3,FALSE)","v":2022},9,3278,0.93,7861,7311,null,null,"Discus 2T","BW2","Není v databázi"]
["Hannes Friederritzi",null,null,null,null,"Pribina Cup 2022 - Kombi 15m",{"$f":"VLOOKUP(F1073,Soutez!A:B,2,FALSE)","v":"SK"},{"$f":"VLOOKUP(F1073,Soutez!A:C,3,FALSE)","v":2022},10,3267,0.93,7721,{"$f":"ROUND(K1073*L1073,0)","v":7181},null,null,"Discus 2T","NW2","Není v databázi"]
["Ambrus Vancso",null,null,"Dunaferr",null,"Pribina Cup 2022 - Kombi 15m",{"$f":"VLOOKUP(F1074,Soutez!A:B,2,FALSE)","v":"SK"},{"$f":"VLOOKUP(F1074,Soutez!A:C,3,FALSE)","v":2022},11,3242,0.93,7557,7028,null,null,"Ventus bT/15m","RB","Není v databázi"]
["Clemens Berger",null,null,null,null,"Pribina Cup 2022 - Kombi 15m",{"$f":"VLOOKUP(F1075,Soutez!A:B,2,FALSE)","v":"SK"},{"$f":"VLOOKUP(F1075,Soutez!A:C,3,FALSE)","v":2022},12,3240,0.93,7433,6913,null,null,"LS 6a","8A","Není v databázi"]
["Wiktor Lacinski",null,null,"Aeroklub Ostrowski",null,"Pribina Cup 2022 - Kombi 15m",{"$f":"VLOOKUP(F1076,Soutez!A:B,2,FALSE)","v":"SK"},{"$f":"VLOOKUP(F1076,Soutez!A:C,3,FALSE)","v":2022},13,3196,0.93,7235,6729,null,null,"Discus 2a","L","Není v databázi"]
["Karol Snapko",null,null,"Aeroklub Nadwislanski",null,"Pribina Cup 2022 - Kombi 15m",{"$f":"VLOOKUP(F1077,Soutez!A:B,2,FALSE)","v":"SK"},{"$f":"VLOOKUP(F1077,Soutez!A:C,3,FALSE)","v":2022},14,3193,0.93,7110,6612,null,null,"Discus 2a","Y","Není v databázi"]
["Henrik Bieler",null,null,"Aeroclub Landau",null,"Pribina Cup 2022 - Kombi 15m",{"$f":"VLOOKUP(F1078,Soutez!A:B,2,FALSE)","v":"SK"},{"$f":"VLOOKUP(F1078,Soutez!A:C,3,FALSE)","v":2022},15,3173,0.93,6954,6467,null,null,"Ventus 2b","1G","Není v databázi"]
["Judyta Czyz",null,null,null,null,"Pribina Cup 2022 - Kombi 15m",{"$f":"VLOOKUP(F1079,Soutez!A:B,2,FALSE)","v":"SK"},{"$f":"VLOOKUP(F1079,Soutez!A:C,3,FALSE)","v":2022},16,2937,0.93,6415,5966,null,null,"LS 8a","MP","Není v databázi"]
["Kinga Tchorz",null,null,null,null,"Pribina Cup 2022 - Kombi 15m",{"$f":"VLOOKUP(F1080,Soutez!A:B,2,FALSE)","v":"SK"},{"$f":"VLOOKUP(F1080,Soutez!A:C,3,FALSE)","v":2022},17,2915,0.93,6256,5818,null,null,"LS 8","LOT","Není v databázi"]
["Dana Novakova",{"$f":"VLOOKUP(A1081,Pilot,2,0)","v":1965},{"$f":"VLOOKUP(A1081,Pilot,5,0)","v":"F"},{"$f":"VLOOKUP(A1081,Pilot,3,0)","v":"Mladá Boleslav"},{"$f":"VLOOKUP(A1081,Pilot,4,0)","v":"CZ/C1"},"Pribina Cup 2022 - Kombi 15m",{"$f":"VLOOKUP(F1081,Soutez!A:B,2,FALSE)","v":"SK"},{"$f":"VLOOKUP(F1081,Soutez!A:C,3,FALSE)","v":2022},18,2907,0.93,6122,5693,null,null,"LS 8a","AU",""]
["Jana Treslova",1963,"F","Raná","CZ/C2","Pribina Cup 2022 - Kombi 15m",{"$f":"VLOOKUP(F1082,Soutez!A:B,2,FALSE)","v":"SK"},{"$f":"VLOOKUP(F1082,Soutez!A:C,3,FALSE)","v":2022},19,2855,0.93,5910,5496,null,null,"Discus 2a","GX",""]
["Karel Novak",1993,"M","Mladá Boleslav","CZ/C1","Pribina Cup 2022 - Kombi 15m",{"$f":"VLOOKUP(F1083,Soutez!A:B,2,FALSE)","v":"SK"},{"$f":"VLOOKUP(F1083,Soutez!A:C,3,FALSE)","v":2022},20,2721,0.93,5552,5163,null,null,"JS 3/15m","ZE",""]
["Piotr Jarysz",null,null,"Aeroklub Leszczynski",null,"Pribina Cup 2022 - Kombi 15m",{"$f":"VLOOKUP(F1084,Soutez!A:B,2,FALSE)","v":"SK"},{"$f":"VLOOKUP(F1084,Soutez!A:C,3,FALSE)","v":2022},21,2325,0.93,4729,4398,null,null,"LS 6","BB","Není v databázi"]
["Aurelien Doriat",null,null,"ACP Poitiers",null,"Pribina Cup 2022 - Kombi 15m",{"$f":"VLOOKUP(F1085,Soutez!A:B,2,FALSE)","v":"SK"},{"$f":"VLOOKUP(F1085,Soutez!A:C,3,FALSE)","v":2022},22,2307,0.93,4577,4257,null,null,"LS 8","P1",{"$f":"IF(ISERROR(VLOOKUP(A1085,Pilot,6,0)),\"Není v databázi\",VLOOKUP(A1085,Pilot,6,0))","v":"Není v databázi"}]
["Maciej Walasek",null,null,"Aeroklub Krakowski",null,"Pribina Cup 2022 - Kombi 15m",{"$f":"VLOOKUP(F1086,Soutez!A:B,2,FALSE)","v":"SK"},{"$f":"VLOOKUP(F1086,Soutez!A:C,3,FALSE)","v":2022},23,2085,0.93,4062,3778,null,null,"LS 6c/15m","KK","Není v databázi"]
["Tomasz Królik",null,null,null,null,"Pribina Cup 2022 - Kombi 15m",{"$f":"VLOOKUP(F1087,Soutez!A:B,2,FALSE)","v":"SK"},{"$f":"VLOOKUP(F1087,Soutez!A:C,3,FALSE)","v":2022},24,1811,0.93,3456,3214,null,null,"Ventus a WL","TT","Není v databázi"]
["Philip Joens",null,null,null,null,"Pribina Cup 2022 - Kombi 15m",{"$f":"VLOOKUP(F1088,Soutez!A:B,2,FALSE)","v":"SK"},{"$f":"VLOOKUP(F1088,Soutez!A:C,3,FALSE)","v":2022},25,1777,0.93,3276,3047,null,null,"LS 7 WL","AP","Není v databázi"]
["Istvan Reti",null,null,null,null,"Pribina Cup 2022 - Kombi 15m",{"$f":"VLOOKUP(F1089,Soutez!A:B,2,FALSE)","v":"SK"},{"$f":"VLOOKUP(F1089,Soutez!A:C,3,FALSE)","v":2022},26,1687,0.93,2996,2786,null,null,"Ventus b/15m","G6","Není v databázi"]
["Wim Akkermans",null,null,null,null,"Pribina Cup 2022 - Kombi Open",{"$f":"VLOOKUP(F1090,Soutez!A:B,2,FALSE)","v":"SK"},{"$f":"VLOOKUP(F1090,Soutez!A:C,3,FALSE)","v":2022},1,3844,{"$f":"VLOOKUP(F1090,Soutez,12,0)","v":0.95000000000000007},{"$f":"ROUND(J1090/MAX($J$1090:$J$1135)*10000*0.7+(MAX($I$1090:$I$1135)-I1090)/(MAX($I$1090:$I$1135)-1)*10000*0.3,0)","v":10000},{"$f":"ROUND(K1090*L1090,0)","v":9500},null,null,"Ventus 3F/18m","LC","Není v databázi"]
["Radek Krejcirik",{"$f":"VLOOKUP(A1091,Pilot,2,0)","v":1991},{"$f":"VLOOKUP(A1091,Pilot,5,0)","v":"M"},{"$f":"VLOOKUP(A1091,Pilot,3,0)","v":"Hranice"},{"$f":"VLOOKUP(A1091,Pilot,4,0)","v":"CZ/M"},"Pribina Cup 2022 - Kombi Open",{"$f":"VLOOKUP(F1091,Soutez!A:B,2,FALSE)","v":"SK"},{"$f":"VLOOKUP(F1091,Soutez!A:C,3,FALSE)","v":2022},2,3844,{"$f":"VLOOKUP(F1091,Soutez,12,0)","v":0.95000000000000007},9933,{"$f":"ROUND(K1091*L1091,0)","v":9436},null,null,"JS 1-C 21","ZF",""]
["Matthias Sturm",null,null,"LSV Schwarzwald",null,"Pribina Cup 2022 - Kombi Open",{"$f":"VLOOKUP(F1092,Soutez!A:B,2,FALSE)","v":"SK"},{"$f":"VLOOKUP(F1092,Soutez!A:C,3,FALSE)","v":2022},3,3753,0.95000000000000007,9701,9216,null,null,"JS 3/18m","M9","Není v databázi"]
["Leszek Staryszak",null,null,"Warsaw",null,"Pribina Cup 2022 - Kombi Open",{"$f":"VLOOKUP(F1093,Soutez!A:B,2,FALSE)","v":"SK"},{"$f":"VLOOKUP(F1093,Soutez!A:C,3,FALSE)","v":2022},4,3673,0.95000000000000007,9489,9015,null,null,"ASG 29/18m","BGI","Není v databázi"]
["Enrique Levin",null,null,"LSV Homberg/Ohm",null,"Pribina Cup 2022 - Kombi Open",{"$f":"VLOOKUP(F1094,Soutez!A:B,2,FALSE)","v":"SK"},{"$f":"VLOOKUP(F1094,Soutez!A:C,3,FALSE)","v":2022},5,3636,0.95000000000000007,9355,8887,null,null,"EB 29R","EL","Není v databázi"]
["Zdislaw Bednarczuk",null,null,null,null,"Pribina Cup 2022 - Kombi Open",{"$f":"VLOOKUP(F1095,Soutez!A:B,2,FALSE)","v":"SK"},{"$f":"VLOOKUP(F1095,Soutez!A:C,3,FALSE)","v":2022},6,3600,0.95000000000000007,9222,8761,null,null,"JS 3/18m","ZB","Není v databázi"]
["Zoltan Hamar",null,null,null,null,"Pribina Cup 2022 - Kombi Open",{"$f":"VLOOKUP(F1096,Soutez!A:B,2,FALSE)","v":"SK"},{"$f":"VLOOKUP(F1096,Soutez!A:C,3,FALSE)","v":2022},7,3580,0.95000000000000007,9119,8663,null,null,"JS 3/18m","7A","Není v databázi"]
["Toni Kittler",null,null,"FSV Mössingen",null,"Pribina Cup 2022 - Kombi Open",{"$f":"VLOOKUP(F1097,Soutez!A:B,2,FALSE)","v":"SK"},{"$f":"VLOOKUP(F1097,Soutez!A:C,3,FALSE)","v":2022},8,3562,0.95000000000000007,9020,8569,null,null,"Ventus 3/18m","IYB","Není v databázi"]
["Thomas Wettemann",null,null,"Fliegergruppe Neckartal-Koengen e.V.",null,"Pribina Cup 2022 - Kombi Open",{"$f":"VLOOKUP(F1098,Soutez!A:B,2,FALSE)","v":"SK"},{"$f":"VLOOKUP(F1098,Soutez!A:C,3,FALSE)","v":2022},9,3530,0.95000000000000007,8895,8450,null,null,"JS 3/18m","EA","Není v databázi"]
["Simon Briel",null,null,null,null,"Pribina Cup 2022 - Kombi Open",{"$f":"VLOOKUP(F1099,Soutez!A:B,2,FALSE)","v":"SK"},{"$f":"VLOOKUP(F1099,Soutez!A:C,3,FALSE)","v":2022},10,3504,0.95000000000000007,8781,8342,null,null,"EB 28/28,3m","IGO","Není v databázi"]
["Jernej Lokovsek",null,null,"Aeroklub ALC Lesce",null,"Pribina Cup 2022 - Kombi Open",{"$f":"VLOOKUP(F1100,Soutez!A:B,2,FALSE)","v":"SK"},{"$f":"VLOOKUP(F1100,Soutez!A:C,3,FALSE)","v":2022},11,3491,0.95000000000000007,8691,8256,null,null,"JS 3/18m","NL","Není v databázi"]
["Andreas Lutz",null,null,"SFC-Ried; Akaflieg Muenchen; FG Wolf Hirth",null,"Pribina Cup 2022 - Kombi Open",{"$f":"VLOOKUP(F1101,Soutez!A:B,2,FALSE)","v":"SK"},{"$f":"VLOOKUP(F1101,Soutez!A:C,3,FALSE)","v":2022},11,3491,0.95000000000000007,8691,8256,null,null,"Ventus 3/18m","A","Není v databázi"]
["Petr Krejcirik",{"$f":"VLOOKUP(A1102,Pilot,2,0)","v":1960},{"$f":"VLOOKUP(A1102,Pilot,5,0)","v":"M"},{"$f":"VLOOKUP(A1102,Pilot,3,0)","v":"Hranice"},{"$f":"VLOOKUP(A1102,Pilot,4,0)","v":"CZ/M"},"Pribina Cup 2022 - Kombi Open",{"$f":"VLOOKUP(F1102,Soutez!A:B,2,FALSE)","v":"SK"},{"$f":"VLOOKUP(F1102,Soutez!A:C,3,FALSE)","v":2022},13,3473,{"$f":"VLOOKUP(F1102,Soutez,12,0)","v":0.95000000000000007},8524,8098,null,null,"AS 33 Es/18m",12,""]
["Luka Znidarsic",null,null,"Ak Postojna",null,"Pribina Cup 2022 - Kombi Open",{"$f":"VLOOKUP(F1103,Soutez!A:B,2,FALSE)","v":"SK"},{"$f":"VLOOKUP(F1103,Soutez!A:C,3,FALSE)","v":2022},13,3473,0.95000000000000007,8524,8098,null,null,"Ventus 3F/18m","LZ","Není v databázi"]
["Nils Fecker",null,null,"Luftsportgruppe Erbslöh Langenfeld e.V.",null,"Pribina Cup 2022 - Kombi Open",{"$f":"VLOOKUP(F1104,Soutez!A:B,2,FALSE)","v":"SK"},{"$f":"VLOOKUP(F1104,Soutez!A:C,3,FALSE)","v":2022},15,3471,0.95000000000000007,8387,{"$f":"ROUND(K1104*L1104,0)","v":7968},null,null,"Ventus 3/18m","3V","Není v databázi"]
["Ivan Novak",{"$f":"VLOOKUP(A1105,Pilot,2,0)","v":1962},{"$f":"VLOOKUP(A1105,Pilot,5,0)","v":"M"},{"$f":"VLOOKUP(A1105,Pilot,3,0)","v":"Mladá Boleslav"},{"$f":"VLOOKUP(A1105,Pilot,4,0)","v":"CZ/C1"},"Pribina Cup 2022 - Kombi Open",{"$f":"VLOOKUP(F1105,Soutez!A:B,2,FALSE)","v":"SK"},{"$f":"VLOOKUP(F1105,Soutez!A:C,3,FALSE)","v":2022},16,3433,0.95000000000000007,8252,7839,null,null,"ASG 29/18m","QZ",""]
["Marius Stelzer",null,null,null,null,"Pribina Cup 2022 - Kombi Open",{"$f":"VLOOKUP(F1106,Soutez!A:B,2,FALSE)","v":"SK"},{"$f":"VLOOKUP(F1106,Soutez!A:C,3,FALSE)","v":2022},17,3316,0.95000000000000007,7972,7573,null,null,"Discus 2c FES/18m","FES","Není v databázi"]
["Marek Sawczuk",null,null,"Aeroklub Warszawski",null,"Pribina Cup 2022 - Kombi Open",{"$f":"VLOOKUP(F1107,Soutez!A:B,2,FALSE)","v":"SK"},{"$f":"VLOOKUP(F1107,Soutez!A:C,3,FALSE)","v":2022},18,3295,0.95000000000000007,7867,7474,null,null,"ASG 29/18m","MS","Není v databázi"]
["Nik Salej",null,null,"Aeroklub Celje",null,"Pribina Cup 2022 - Kombi Open",{"$f":"VLOOKUP(F1108,Soutez!A:B,2,FALSE)","v":"SK"},{"$f":"VLOOKUP(F1108,Soutez!A:C,3,FALSE)","v":2022},19,3170,0.95000000000000007,7573,7194,null,null,"JS 3/18m","XD","Není v databázi"]
["Ondrej Dupal",{"$f":"VLOOKUP(A1109,Pilot,2,0)","v":1966},{"$f":"VLOOKUP(A1109,Pilot,5,0)","v":"M"},{"$f":"VLOOKUP(A1109,Pilot,3,0)","v":"GAC Benešov"},{"$f":"VLOOKUP(A1109,Pilot,4,0)","v":"CZ/C1"},"Pribina Cup 2022 - Kombi Open",{"$f":"VLOOKUP(F1109,Soutez!A:B,2,FALSE)","v":"SK"},{"$f":"VLOOKUP(F1109,Soutez!A:C,3,FALSE)","v":2022},20,3162,0.95000000000000007,7491,7116,null,null,"ASG 29/18m","GOL",""]
["Andreas Sandhöfner",null,null,"FSK Sturmvogel",null,"Pribina Cup 2022 - Kombi Open",{"$f":"VLOOKUP(F1110,Soutez!A:B,2,FALSE)","v":"SK"},{"$f":"VLOOKUP(F1110,Soutez!A:C,3,FALSE)","v":2022},21,3133,0.95000000000000007,7372,7003,null,null,"ASG 29/18m","AY","Není v databázi"]
["Erazem Polutnik",null,null,"Aeroclub Celje",null,"Pribina Cup 2022 - Kombi Open",{"$f":"VLOOKUP(F1111,Soutez!A:B,2,FALSE)","v":"SK"},{"$f":"VLOOKUP(F1111,Soutez!A:C,3,FALSE)","v":2022},22,3123,0.95000000000000007,7287,6923,null,null,"Ventus 3/18m","EM","Není v databázi"]
["Viliam Kubovcik",null,null,"AK Poprad",null,"Pribina Cup 2022 - Kombi Open",{"$f":"VLOOKUP(F1112,Soutez!A:B,2,FALSE)","v":"SK"},{"$f":"VLOOKUP(F1112,Soutez!A:C,3,FALSE)","v":2022},22,3123,0.95000000000000007,7287,6923,null,null,"Ventus 2cx/18m","VV","Není v databázi"]
["Christian Hynek",null,null,"ASKÖ Flugsport Wien",null,"Pribina Cup 2022 - Kombi Open",{"$f":"VLOOKUP(F1113,Soutez!A:B,2,FALSE)","v":"SK"},{"$f":"VLOOKUP(F1113,Soutez!A:C,3,FALSE)","v":2022},24,3106,0.95000000000000007,7123,6767,null,null,"EB 29DR-28m","DD","Není v databázi"]
["Jan Kovalcik",null,null,null,null,"Pribina Cup 2022 - Kombi Open",{"$f":"VLOOKUP(F1114,Soutez!A:B,2,FALSE)","v":"SK"},{"$f":"VLOOKUP(F1114,Soutez!A:C,3,FALSE)","v":2022},25,3088,0.95000000000000007,7023,6672,null,null,"Discus 2c FES/18m","ZI","Není v databázi"]
["Jan Umlauf",null,null,"HAC Boberg",null,"Pribina Cup 2022 - Kombi Open",{"$f":"VLOOKUP(F1115,Soutez!A:B,2,FALSE)","v":"SK"},{"$f":"VLOOKUP(F1115,Soutez!A:C,3,FALSE)","v":2022},26,3078,0.95000000000000007,6938,6591,null,null,"JS 3/18m","XC","Není v databázi"]
["Sebastian Huhmann",null,null,"HAC Boberg",null,"Pribina Cup 2022 - Kombi Open",{"$f":"VLOOKUP(F1116,Soutez!A:B,2,FALSE)","v":"SK"},{"$f":"VLOOKUP(F1116,Soutez!A:C,3,FALSE)","v":2022},27,3067,0.95000000000000007,6852,6509,null,null,"AS 33 Es/18m","2U","Není v databázi"]
["Miha Berginc",null,null,"Aeroklub Celje",null,"Pribina Cup 2022 - Kombi Open",{"$f":"VLOOKUP(F1117,Soutez!A:B,2,FALSE)","v":"SK"},{"$f":"VLOOKUP(F1117,Soutez!A:C,3,FALSE)","v":2022},28,3045,0.95000000000000007,6745,6408,null,null,"ASG 29/18m","BER","Není v databázi"]
["Werner Danz",null,null,null,null,"Pribina Cup 2022 - Kombi Open",{"$f":"VLOOKUP(F1118,Soutez!A:B,2,FALSE)","v":"SK"},{"$f":"VLOOKUP(F1118,Soutez!A:C,3,FALSE)","v":2022},29,2988,0.95000000000000007,6575,6246,null,null,"Antares 18T","BT","Není v databázi"]
["Renè Schënmann",null,null,null,null,"Pribina Cup 2022 - Kombi Open",{"$f":"VLOOKUP(F1119,Soutez!A:B,2,FALSE)","v":"SK"},{"$f":"VLOOKUP(F1119,Soutez!A:C,3,FALSE)","v":2022},30,2971,0.95000000000000007,6477,6153,null,null,"JS 1-C 21","LI","Není v databázi"]
["Svend Andersen",null,null,null,null,"Pribina Cup 2022 - Kombi Open",{"$f":"VLOOKUP(F1120,Soutez!A:B,2,FALSE)","v":"SK"},{"$f":"VLOOKUP(F1120,Soutez!A:C,3,FALSE)","v":2022},31,2967,0.95000000000000007,6403,6083,null,null,"AS 33 Es/18m","2C","Není v databázi"]
["Hana Treslova",{"$f":"VLOOKUP(A1121,Pilot,2,0)","v":1991},{"$f":"VLOOKUP(A1121,Pilot,5,0)","v":"F"},{"$f":"VLOOKUP(A1121,Pilot,3,0)","v":"Raná"},{"$f":"VLOOKUP(A1121,Pilot,4,0)","v":"CZ/C2"},"Pribina Cup 2022 - Kombi Open",{"$f":"VLOOKUP(F1121,Soutez!A:B,2,FALSE)","v":"SK"},{"$f":"VLOOKUP(F1121,Soutez!A:C,3,FALSE)","v":2022},32,2859,0.95000000000000007,6140,5833,null,null,"JS 3/18m","XM",""]
["Nils Heck",null,null,null,null,"Pribina Cup 2022 - Kombi Open",{"$f":"VLOOKUP(F1122,Soutez!A:B,2,FALSE)","v":"SK"},{"$f":"VLOOKUP(F1122,Soutez!A:C,3,FALSE)","v":2022},33,2815,0.95000000000000007,5993,5693,null,null,"Nimbus 4","EP","Není v databázi"]
["Miguel Schwan",null,null,null,null,"Pribina Cup 2022 - Kombi Open",{"$f":"VLOOKUP(F1123,Soutez!A:B,2,FALSE)","v":"SK"},{"$f":"VLOOKUP(F1123,Soutez!A:C,3,FALSE)","v":2022},34,2788,{"$f":"VLOOKUP(F1123,Soutez,12,0)","v":0.95000000000000007},5877,5583,null,null,"Ventus 2cx/18m","CX","Není v databázi"]
["Petr Setka",{"$f":"VLOOKUP(A1124,Pilot,2,0)","v":1971},{"$f":"VLOOKUP(A1124,Pilot,5,0)","v":"M"},{"$f":"VLOOKUP(A1124,Pilot,3,0)","v":"Letkov"},{"$f":"VLOOKUP(A1124,Pilot,4,0)","v":"CZ/C1"},"Pribina Cup 2022 - Kombi Open",{"$f":"VLOOKUP(F1124,Soutez!A:B,2,FALSE)","v":"SK"},{"$f":"VLOOKUP(F1124,Soutez!A:C,3,FALSE)","v":2022},35,2776,0.95000000000000007,5788,5499,"x",null,"Ventus 2cx/18m","RS",""]
["Henning Kjersgaard Nielsen",null,null,"Midtsjaellands Svaeveflyveklub",null,"Pribina Cup 2022 - Kombi Open",{"$f":"VLOOKUP(F1125,Soutez!A:B,2,FALSE)","v":"SK"},{"$f":"VLOOKUP(F1125,Soutez!A:C,3,FALSE)","v":2022},36,2591,{"$f":"VLOOKUP(F1125,Soutez,12,0)","v":0.95000000000000007},5385,5116,null,null,"Ventus 3/18m","I","Není v databázi"]
["Marek Pechanec",{"$f":"VLOOKUP(A1126,Pilot,2,0)","v":1970},{"$f":"VLOOKUP(A1126,Pilot,5,0)","v":"M"},{"$f":"VLOOKUP(A1126,Pilot,3,0)","v":"Luhačovice"},{"$f":"VLOOKUP(A1126,Pilot,4,0)","v":"CZ/M"},"Pribina Cup 2022 - Kombi Open",{"$f":"VLOOKUP(F1126,Soutez!A:B,2,FALSE)","v":"SK"},{"$f":"VLOOKUP(F1126,Soutez!A:C,3,FALSE)","v":2022},37,2495,0.95000000000000007,5143,4886,null,null,"JS 3/18m","Q1",""]
["Peter Pokorny",null,null,"Bratislava",null,"Pribina Cup 2022 - Kombi Open",{"$f":"VLOOKUP(F1127,Soutez!A:B,2,FALSE)","v":"SK"},{"$f":"VLOOKUP(F1127,Soutez!A:C,3,FALSE)","v":2022},38,2400,0.95000000000000007,4904,{"$f":"ROUND(K1127*L1127,0)","v":4659},null,null,"ASG 29/18m","9E","Není v databázi"]
["Thomas Hynek",null,null,"Flugschule ASKÖ Wien",null,"Pribina Cup 2022 - Kombi Open",{"$f":"VLOOKUP(F1128,Soutez!A:B,2,FALSE)","v":"SK"},{"$f":"VLOOKUP(F1128,Soutez!A:C,3,FALSE)","v":2022},39,2327,0.95000000000000007,4704,4469,null,null,"Ventus 2cM/18m","CC","Není v databázi"]
["Sorin Lingureanu",null,null,"Tampereen Ilmailuyhdistys",null,"Pribina Cup 2022 - Kombi Open",{"$f":"VLOOKUP(F1129,Soutez!A:B,2,FALSE)","v":"SK"},{"$f":"VLOOKUP(F1129,Soutez!A:C,3,FALSE)","v":2022},40,2293,0.95000000000000007,4576,4347,null,null,"Ventus 2c/18m","TD","Není v databázi"]
["Nicolas Bernhard",null,null,"AAPCA Fayence",null,"Pribina Cup 2022 - Kombi Open",{"$f":"VLOOKUP(F1130,Soutez!A:B,2,FALSE)","v":"SK"},{"$f":"VLOOKUP(F1130,Soutez!A:C,3,FALSE)","v":2022},41,2254,0.95000000000000007,4438,4216,null,null,"JS 1 18m","JD","Není v databázi"]
["Mathias Muench",null,null,"Alpenflugzentrum Unterwossen",null,"Pribina Cup 2022 - Kombi Open",{"$f":"VLOOKUP(F1131,Soutez!A:B,2,FALSE)","v":"SK"},{"$f":"VLOOKUP(F1131,Soutez!A:C,3,FALSE)","v":2022},42,2113,0.95000000000000007,4114,3908,null,null,"DG 800/18m","MU","Není v databázi"]
["Lukas Benedikt",null,null,"AK Trnava",null,"Pribina Cup 2022 - Kombi Open",{"$f":"VLOOKUP(F1132,Soutez!A:B,2,FALSE)","v":"SK"},{"$f":"VLOOKUP(F1132,Soutez!A:C,3,FALSE)","v":2022},43,1867,0.95000000000000007,3600,3420,null,null,"Ventus 3F/18m","LB","Není v databázi"]
["Hansen & Gevad",null,null,null,null,"Pribina Cup 2022 - Kombi Open",{"$f":"VLOOKUP(F1133,Soutez!A:B,2,FALSE)","v":"SK"},{"$f":"VLOOKUP(F1133,Soutez!A:C,3,FALSE)","v":2022},44,844,0.95000000000000007,1670,1587,null,null,"Nimbus 4DM","UFO","Není v databázi"]
["Martin Picka",{"$f":"VLOOKUP(A1134,Pilot,2,0)","v":1974},{"$f":"VLOOKUP(A1134,Pilot,5,0)","v":"M"},{"$f":"VLOOKUP(A1134,Pilot,3,0)","v":"Tábor"},{"$f":"VLOOKUP(A1134,Pilot,4,0)","v":"CZ/C1"},"Pribina Cup 2022 - Kombi Open",{"$f":"VLOOKUP(F1134,Soutez!A:B,2,FALSE)","v":"SK"},{"$f":"VLOOKUP(F1134,Soutez!A:C,3,FALSE)","v":2022},45,508,0.95000000000000007,992,942,"x",null,"Ventus 2c/18m","CXI",""]
["Botond Szabadfi",null,null,"Malev Aeroclub LHDK",null,"Pribina Cup 2022 - Kombi Open",{"$f":"VLOOKUP(F1135,Soutez!A:B,2,FALSE)","v":"SK"},{"$f":"VLOOKUP(F1135,Soutez!A:C,3,FALSE)","v":2022},46,84,0.95000000000000007,153,145,null,null,"Nimbus 4DM","XXL","Není v databázi"]
["Istvan Balog",null,null,"HOSESZ",null,"Flatland Cup 2022 - Klub",{"$f":"VLOOKUP(F1136,Soutez!A:B,2,FALSE)","v":"SK"},{"$f":"VLOOKUP(F1136,Soutez!A:C,3,FALSE)","v":2022},1,5129,{"$f":"VLOOKUP(F1136,Soutez,12,0)","v":0.94000000000000006},{"$f":"ROUND(J1136/MAX($J$1136:$J$1168)*10000*0.7+(MAX($I$1136:$I$1168)-I1136)/(MAX($I$1136:$I$1168)-1)*10000*0.3,0)","v":10000},{"$f":"ROUND(K1136*L1136,0)","v":9400},null,null,"LS 3a","TP",{"$f":"IF(ISERROR(VLOOKUP(A1136,Pilot,6,0)),\"Není v databázi\",VLOOKUP(A1136,Pilot,6,0))","v":"Není v databázi"}]
["Krisztian Kovacs",null,null,"HOSESZ",null,"Flatland Cup 2022 - Klub",{"$f":"VLOOKUP(F1137,Soutez!A:B,2,FALSE)","v":"SK"},{"$f":"VLOOKUP(F1137,Soutez!A:C,3,FALSE)","v":2022},2,5117,{"$f":"VLOOKUP(F1137,Soutez,12,0)","v":0.94000000000000006},9890,{"$f":"ROUND(K1137*L1137,0)","v":9297},null,null,"LS 3a","EC","Není v databázi"]
["Peter Kassai",null,null,"MALÉV RK",null,"Flatland Cup 2022 - Klub",{"$f":"VLOOKUP(F1138,Soutez!A:B,2,FALSE)","v":"SK"},{"$f":"VLOOKUP(F1138,Soutez!A:C,3,FALSE)","v":2022},3,4857,0.94000000000000006,9441,8875,null,null,"Discus","7W","Není v databázi"]
["Tamas Mayer",null,null,"MALÉV RK",null,"Flatland Cup 2022 - Klub",{"$f":"VLOOKUP(F1139,Soutez!A:B,2,FALSE)","v":"SK"},{"$f":"VLOOKUP(F1139,Soutez!A:C,3,FALSE)","v":2022},4,4739,0.94000000000000006,9186,8635,null,null,"ASW 20","RZi","Není v databázi"]
["Balazs Endrodi",null,null,"MÁV SE",null,"Flatland Cup 2022 - Klub",{"$f":"VLOOKUP(F1140,Soutez!A:B,2,FALSE)","v":"SK"},{"$f":"VLOOKUP(F1140,Soutez!A:C,3,FALSE)","v":2022},5,4707,0.94000000000000006,9049,8506,null,null,"ASW 20","M6","Není v databázi"]
["Attila Keczan",null,null,"Aero Klub Debrecen",null,"Flatland Cup 2022 - Klub",{"$f":"VLOOKUP(F1141,Soutez!A:B,2,FALSE)","v":"SK"},{"$f":"VLOOKUP(F1141,Soutez!A:C,3,FALSE)","v":2022},6,4691,0.94000000000000006,8933,8397,null,null,"Mini Nimbus, C","MI","Není v databázi"]
["Zoltan Foldi",null,null,"ARK",null,"Flatland Cup 2022 - Klub",{"$f":"VLOOKUP(F1142,Soutez!A:B,2,FALSE)","v":"SK"},{"$f":"VLOOKUP(F1142,Soutez!A:C,3,FALSE)","v":2022},7,4685,0.94000000000000006,8832,8302,null,null,"Jantar Std. 2","ZP","Není v databázi"]
["Michal Lesinger",{"$f":"VLOOKUP(A1143,Pilot,2,0)","v":1966},{"$f":"VLOOKUP(A1143,Pilot,5,0)","v":"M"},{"$f":"VLOOKUP(A1143,Pilot,3,0)","v":"Moravská Třebová"},{"$f":"VLOOKUP(A1143,Pilot,4,0)","v":"CZ/M"},"Flatland Cup 2022 - Klub",{"$f":"VLOOKUP(F1143,Soutez!A:B,2,FALSE)","v":"SK"},{"$f":"VLOOKUP(F1143,Soutez!A:C,3,FALSE)","v":2022},8,4675,0.94000000000000006,8724,8201,null,null,"ASW 20","LL",""]
["Jeno Vörös",null,null,"Délvidéki Aero Club 1930.",null,"Flatland Cup 2022 - Klub",{"$f":"VLOOKUP(F1144,Soutez!A:B,2,FALSE)","v":"SK"},{"$f":"VLOOKUP(F1144,Soutez!A:C,3,FALSE)","v":2022},9,4673,0.94000000000000006,8628,8110,null,null,"LS 1-f","VR","Není v databázi"]
["Barnabas Tóth",null,null,"SZRK",null,"Flatland Cup 2022 - Klub",{"$f":"VLOOKUP(F1145,Soutez!A:B,2,FALSE)","v":"SK"},{"$f":"VLOOKUP(F1145,Soutez!A:C,3,FALSE)","v":2022},10,4660,0.94000000000000006,8516,8005,null,null,"ASW 20","NY","Není v databázi"]
["Balazs Laktis",null,null,"MÁV SE",null,"Flatland Cup 2022 - Klub",{"$f":"VLOOKUP(F1146,Soutez!A:B,2,FALSE)","v":"SK"},{"$f":"VLOOKUP(F1146,Soutez!A:C,3,FALSE)","v":2022},11,4656,0.94000000000000006,8417,7912,null,null,"Discus","M5","Není v databázi"]
["Sandor Laurinyecz",null,null,"Kvasz András RE",null,"Flatland Cup 2022 - Klub",{"$f":"VLOOKUP(F1147,Soutez!A:B,2,FALSE)","v":"SK"},{"$f":"VLOOKUP(F1147,Soutez!A:C,3,FALSE)","v":2022},12,4651,0.94000000000000006,8316,7817,null,null,"Jantar Std. 2",91,"Není v databázi"]
["Zsombor Weber",null,null,"ARK",null,"Flatland Cup 2022 - Klub",{"$f":"VLOOKUP(F1148,Soutez!A:B,2,FALSE)","v":"SK"},{"$f":"VLOOKUP(F1148,Soutez!A:C,3,FALSE)","v":2022},13,4648,0.94000000000000006,8219,7726,null,null,"ASW 20",18,"Není v databázi"]
["Adam Kapuy",null,null,"MSE",null,"Flatland Cup 2022 - Klub",{"$f":"VLOOKUP(F1149,Soutez!A:B,2,FALSE)","v":"SK"},{"$f":"VLOOKUP(F1149,Soutez!A:C,3,FALSE)","v":2022},14,4632,0.94000000000000006,8103,7617,null,null,"LS 4","GJ","Není v databázi"]
["Tibor Fratrik",null,null,"SGC Martin",null,"Flatland Cup 2022 - Klub",{"$f":"VLOOKUP(F1150,Soutez!A:B,2,FALSE)","v":"SK"},{"$f":"VLOOKUP(F1150,Soutez!A:C,3,FALSE)","v":2022},15,4577,0.94000000000000006,7934,7458,null,null,"ASW 20","VG","Není v databázi"]
["Dylan Osolian",null,null,"Skövde Flygklubb",null,"Flatland Cup 2022 - Klub",{"$f":"VLOOKUP(F1151,Soutez!A:B,2,FALSE)","v":"SK"},{"$f":"VLOOKUP(F1151,Soutez!A:C,3,FALSE)","v":2022},16,4421,{"$f":"VLOOKUP(F1151,Soutez,12,0)","v":0.94000000000000006},7627,7169,null,null,"LS 3a","CP","Není v databázi"]
["Andras Schieber",null,null,"Aeroklub Farkashegy",null,"Flatland Cup 2022 - Klub",{"$f":"VLOOKUP(F1152,Soutez!A:B,2,FALSE)","v":"SK"},{"$f":"VLOOKUP(F1152,Soutez!A:C,3,FALSE)","v":2022},17,4412,0.94000000000000006,7521,7070,null,null,"ASW 20","BAS","Není v databázi"]
["Edmund Schuller",null,null,null,null,"Flatland Cup 2022 - Klub",{"$f":"VLOOKUP(F1153,Soutez!A:B,2,FALSE)","v":"SK"},{"$f":"VLOOKUP(F1153,Soutez!A:C,3,FALSE)","v":2022},18,4339,0.94000000000000006,7328,{"$f":"ROUND(K1153*L1153,0)","v":6888},null,null,"ASW 24","ZS","Není v databázi"]
["Geza Molnar",null,null,"ARK",null,"Flatland Cup 2022 - Klub",{"$f":"VLOOKUP(F1154,Soutez!A:B,2,FALSE)","v":"SK"},{"$f":"VLOOKUP(F1154,Soutez!A:C,3,FALSE)","v":2022},19,4305,0.94000000000000006,7188,6757,null,null,"LS 3a","7T","Není v databázi"]
["Zoltan Suranyi",null,null,"HOSESZ",null,"Flatland Cup 2022 - Klub",{"$f":"VLOOKUP(F1155,Soutez!A:B,2,FALSE)","v":"SK"},{"$f":"VLOOKUP(F1155,Soutez!A:C,3,FALSE)","v":2022},20,4251,0.94000000000000006,7020,6599,null,null,"ASW 20","X34","Není v databázi"]
["Karoly Borosnyay",null,null,"MALÉV RK",null,"Flatland Cup 2022 - Klub",{"$f":"VLOOKUP(F1156,Soutez!A:B,2,FALSE)","v":"SK"},{"$f":"VLOOKUP(F1156,Soutez!A:C,3,FALSE)","v":2022},21,4095,0.94000000000000006,6714,6311,null,null,"Janus C FG","DDi","Není v databázi"]
["Mate Meszaros",null,null,"Dunaferr RK",null,"Flatland Cup 2022 - Klub",{"$f":"VLOOKUP(F1157,Soutez!A:B,2,FALSE)","v":"SK"},{"$f":"VLOOKUP(F1157,Soutez!A:C,3,FALSE)","v":2022},22,4066,0.94000000000000006,6580,6185,null,null,"ASW 19","DB","Není v databázi"]
["Zsolt Balogh",null,null,"Albatrosz VE",null,"Flatland Cup 2022 - Klub",{"$f":"VLOOKUP(F1158,Soutez!A:B,2,FALSE)","v":"SK"},{"$f":"VLOOKUP(F1158,Soutez!A:C,3,FALSE)","v":2022},23,4062,0.94000000000000006,6481,6092,null,null,"ASW 20","NB","Není v databázi"]
["Istvan Vig",null,null,"Aeroclub Hajdúszoboszló",null,"Flatland Cup 2022 - Klub",{"$f":"VLOOKUP(F1159,Soutez!A:B,2,FALSE)","v":"SK"},{"$f":"VLOOKUP(F1159,Soutez!A:C,3,FALSE)","v":2022},24,4054,0.94000000000000006,6377,5994,null,null,"ASW 20","AD","Není v databázi"]
["Csaba Oltvai",null,null,"Délvidéki Aero Club 1930.",null,"Flatland Cup 2022 - Klub",{"$f":"VLOOKUP(F1160,Soutez!A:B,2,FALSE)","v":"SK"},{"$f":"VLOOKUP(F1160,Soutez!A:C,3,FALSE)","v":2022},25,3786,0.94000000000000006,5917,5562,null,null,"Std. Cirrus",52,"Není v databázi"]
["Andras Oswald",null,null,"Szentesi Repülőklub",null,"Flatland Cup 2022 - Klub",{"$f":"VLOOKUP(F1161,Soutez!A:B,2,FALSE)","v":"SK"},{"$f":"VLOOKUP(F1161,Soutez!A:C,3,FALSE)","v":2022},26,3579,0.94000000000000006,5541,5209,null,null,"LS 3a","CH","Není v databázi"]
["Jozsef Tornyai",null,null,"MALÉV RK",null,"Flatland Cup 2022 - Klub",{"$f":"VLOOKUP(F1162,Soutez!A:B,2,FALSE)","v":"SK"},{"$f":"VLOOKUP(F1162,Soutez!A:C,3,FALSE)","v":2022},27,3527,0.94000000000000006,5376,5053,null,null,"LS 3a","BY","Není v databázi"]
["Lilla Szamosujvari",null,null,"Aeroclub Hajdúszoboszló",null,"Flatland Cup 2022 - Klub",{"$f":"VLOOKUP(F1163,Soutez!A:B,2,FALSE)","v":"SK"},{"$f":"VLOOKUP(F1163,Soutez!A:C,3,FALSE)","v":2022},28,3479,0.94000000000000006,5217,4904,null,null,"ASW 15","FA","Není v databázi"]
["Tibor Nagy",null,null,"MALÉV RK",null,"Flatland Cup 2022 - Klub",{"$f":"VLOOKUP(F1164,Soutez!A:B,2,FALSE)","v":"SK"},{"$f":"VLOOKUP(F1164,Soutez!A:C,3,FALSE)","v":2022},29,3443,0.94000000000000006,5074,4770,null,null,"Jantar Std. 3",33,"Není v databázi"]
["Farkas & Mazan",null,null,"Délvidéki Aero Club 1930.",null,"Flatland Cup 2022 - Klub",{"$f":"VLOOKUP(F1165,Soutez!A:B,2,FALSE)","v":"SK"},{"$f":"VLOOKUP(F1165,Soutez!A:C,3,FALSE)","v":2022},30,3347,0.94000000000000006,4849,4558,null,null,"Janus C FG","GR","Není v databázi"]
["Peter Ronai",null,null,"Opitz RK",null,"Flatland Cup 2022 - Klub",{"$f":"VLOOKUP(F1166,Soutez!A:B,2,FALSE)","v":"SK"},{"$f":"VLOOKUP(F1166,Soutez!A:C,3,FALSE)","v":2022},31,3198,0.94000000000000006,4552,4279,null,null,"ASW 20","TE","Není v databázi"]
["Jozsef Szabo",null,null,"ARK",null,"Flatland Cup 2022 - Klub",{"$f":"VLOOKUP(F1167,Soutez!A:B,2,FALSE)","v":"SK"},{"$f":"VLOOKUP(F1167,Soutez!A:C,3,FALSE)","v":2022},32,2472,0.94000000000000006,3468,3260,null,null,"ASW 20","FS","Není v databázi"]
["Gabor Érseki",null,null,"Opitz RK",null,"Flatland Cup 2022 - Klub",{"$f":"VLOOKUP(F1168,Soutez!A:B,2,FALSE)","v":"SK"},{"$f":"VLOOKUP(F1168,Soutez!A:C,3,FALSE)","v":2022},33,2446,0.94000000000000006,3338,3138,null,null,"ASW 15","NK","Není v databázi"]
["Peter Szabo",null,null,"ARK",null,"Flatland Cup 2022 - Kombi Open",{"$f":"VLOOKUP(F1169,Soutez!A:B,2,FALSE)","v":"SK"},{"$f":"VLOOKUP(F1169,Soutez!A:C,3,FALSE)","v":2022},1,5778,{"$f":"VLOOKUP(F1169,Soutez,12,0)","v":0.94500000000000006},{"$f":"ROUND(J1169/MAX($J$1169:$J$1190)*10000*0.7+(MAX($I$1169:$I$1190)-I1169)/(MAX($I$1169:$I$1190)-1)*10000*0.3,0)","v":10000},{"$f":"ROUND(K1169*L1169,0)","v":9450},null,null,"JS3","BX","Není v databázi"]
["Zoltan Verebelyi",null,null,"ARK",null,"Flatland Cup 2022 - Kombi Open",{"$f":"VLOOKUP(F1170,Soutez!A:B,2,FALSE)","v":"SK"},{"$f":"VLOOKUP(F1170,Soutez!A:C,3,FALSE)","v":2022},2,5744,{"$f":"VLOOKUP(F1170,Soutez,12,0)","v":0.94500000000000006},9816,{"$f":"ROUND(K1170*L1170,0)","v":9276},null,null,"JS3","HI","Není v databázi"]
["Petr Krejcirik",{"$f":"VLOOKUP(A1171,Pilot,2,0)","v":1960},{"$f":"VLOOKUP(A1171,Pilot,5,0)","v":"M"},{"$f":"VLOOKUP(A1171,Pilot,3,0)","v":"Hranice"},{"$f":"VLOOKUP(A1171,Pilot,4,0)","v":"CZ/M"},"Flatland Cup 2022 - Kombi Open",{"$f":"VLOOKUP(F1171,Soutez!A:B,2,FALSE)","v":"SK"},{"$f":"VLOOKUP(F1171,Soutez!A:C,3,FALSE)","v":2022},3,5741,0.94500000000000006,9669,9137,"x",null,"JS3 18m","VB",""]
["Richard Bartolf",null,null,"ARK",null,"Flatland Cup 2022 - Kombi Open",{"$f":"VLOOKUP(F1172,Soutez!A:B,2,FALSE)","v":"SK"},{"$f":"VLOOKUP(F1172,Soutez!A:C,3,FALSE)","v":2022},4,5707,0.94500000000000006,9485,8963,null,null,"JS3","HAB",{"$f":"IF(ISERROR(VLOOKUP(A1172,Pilot,6,0)),\"Není v databázi\",VLOOKUP(A1172,Pilot,6,0))","v":"Není v databázi"}]
["Radek Krejcirik",1991,"M",{"$f":"VLOOKUP(A1173,Pilot,3,0)","v":"Hranice"},{"$f":"VLOOKUP(A1173,Pilot,4,0)","v":"CZ/M"},"Flatland Cup 2022 - Kombi Open",{"$f":"VLOOKUP(F1173,Soutez!A:B,2,FALSE)","v":"SK"},{"$f":"VLOOKUP(F1173,Soutez!A:C,3,FALSE)","v":2022},5,5698,0.94500000000000006,9332,8819,null,null,"JS1C 21m","ZF",""]
["Zoltan Hamar",null,null,"VARIO SE",null,"Flatland Cup 2022 - Kombi Open",{"$f":"VLOOKUP(F1174,Soutez!A:B,2,FALSE)","v":"SK"},{"$f":"VLOOKUP(F1174,Soutez!A:C,3,FALSE)","v":2022},6,5645,0.94500000000000006,9125,8623,null,null,"JS3","7A","Není v databázi"]
["Kiss & Buki",null,null,"Aeroklub Farkashegy",null,"Flatland Cup 2022 - Kombi Open",{"$f":"VLOOKUP(F1175,Soutez!A:B,2,FALSE)","v":"SK"},{"$f":"VLOOKUP(F1175,Soutez!A:C,3,FALSE)","v":2022},7,5609,{"$f":"VLOOKUP(F1175,Soutez,12,0)","v":0.94500000000000006},8938,8446,null,null,"Arcus T","SQ","Není v databázi"]
["Tamas & Korom",null,null,"Délvidéki Aero Club 1930",null,"Flatland Cup 2022 - Kombi Open",{"$f":"VLOOKUP(F1176,Soutez!A:B,2,FALSE)","v":"SK"},{"$f":"VLOOKUP(F1176,Soutez!A:C,3,FALSE)","v":2022},8,5606,0.94500000000000006,8792,8308,null,null,"Arcus T","HUX","Není v databázi"]
["Richard Basa",null,null,"ARK",null,"Flatland Cup 2022 - Kombi Open",{"$f":"VLOOKUP(F1177,Soutez!A:B,2,FALSE)","v":"SK"},{"$f":"VLOOKUP(F1177,Soutez!A:C,3,FALSE)","v":2022},9,5552,0.94500000000000006,8583,{"$f":"ROUND(K1177*L1177,0)","v":8111},null,null,"JS3","RI","Není v databázi"]
["Halasz & Kerekreti",null,null,"ARK",null,"Flatland Cup 2022 - Kombi Open",{"$f":"VLOOKUP(F1178,Soutez!A:B,2,FALSE)","v":"SK"},{"$f":"VLOOKUP(F1178,Soutez!A:C,3,FALSE)","v":2022},10,5232,0.94500000000000006,8053,7610,null,null,"Twin shark","HPX","Není v databázi"]
["Janos Sindely",null,null,"ARK",null,"Flatland Cup 2022 - Kombi Open",{"$f":"VLOOKUP(F1179,Soutez!A:B,2,FALSE)","v":"SK"},{"$f":"VLOOKUP(F1179,Soutez!A:C,3,FALSE)","v":2022},11,5170,0.94500000000000006,7835,7404,null,null,"JS1","RZ","Není v databázi"]
["Laszlo Kapuy",null,null,"MSE",null,"Flatland Cup 2022 - Kombi Open",{"$f":"VLOOKUP(F1180,Soutez!A:B,2,FALSE)","v":"SK"},{"$f":"VLOOKUP(F1180,Soutez!A:C,3,FALSE)","v":2022},12,5145,0.94500000000000006,7662,7241,null,null,"EB 29D","HB","Není v databázi"]
["Zoltan Kore",null,null,"ARK",null,"Flatland Cup 2022 - Kombi Open",{"$f":"VLOOKUP(F1181,Soutez!A:B,2,FALSE)","v":"SK"},{"$f":"VLOOKUP(F1181,Soutez!A:C,3,FALSE)","v":2022},13,4990,0.94500000000000006,7331,6928,null,null,"JS3","AI","Není v databázi"]
["Christian Hynek",null,null,"ASKÖ Flugsport Wien",null,"Flatland Cup 2022 - Kombi Open",{"$f":"VLOOKUP(F1182,Soutez!A:B,2,FALSE)","v":"SK"},{"$f":"VLOOKUP(F1182,Soutez!A:C,3,FALSE)","v":2022},14,4920,0.94500000000000006,7103,6712,null,null,"EB 29D","DD","Není v databázi"]
["Ivan Novak",1962,"M",{"$f":"VLOOKUP(A1183,Pilot,3,0)","v":"Mladá Boleslav"},{"$f":"VLOOKUP(A1183,Pilot,4,0)","v":"CZ/C1"},"Flatland Cup 2022 - Kombi Open",{"$f":"VLOOKUP(F1183,Soutez!A:B,2,FALSE)","v":"SK"},{"$f":"VLOOKUP(F1183,Soutez!A:C,3,FALSE)","v":2022},15,4767,0.94500000000000006,6775,6402,null,null,"ASG 29 18m","QZ",""]
["Robert Toth",null,null,"HOSESZ",null,"Flatland Cup 2022 - Kombi Open",{"$f":"VLOOKUP(F1184,Soutez!A:B,2,FALSE)","v":"SK"},{"$f":"VLOOKUP(F1184,Soutez!A:C,3,FALSE)","v":2022},16,4238,0.94500000000000006,5991,5661,null,null,"LS 6","4L","Není v databázi"]
["Kornel Negro",null,null,"ARK",null,"Flatland Cup 2022 - Kombi Open",{"$f":"VLOOKUP(F1185,Soutez!A:B,2,FALSE)","v":"SK"},{"$f":"VLOOKUP(F1185,Soutez!A:C,3,FALSE)","v":2022},17,4004,0.94500000000000006,5565,5259,null,null,"Arcus T",13,"Není v databázi"]
["Csaba Tóth",null,null,"Dunaferr RK",null,"Flatland Cup 2022 - Kombi Open",{"$f":"VLOOKUP(F1186,Soutez!A:B,2,FALSE)","v":"SK"},{"$f":"VLOOKUP(F1186,Soutez!A:C,3,FALSE)","v":2022},18,4002,0.94500000000000006,5420,5122,null,null,"Ventus 2b","V7","Není v databázi"]
["Peter Harsfalvi",null,null,"Albatrosz VE",null,"Flatland Cup 2022 - Kombi Open",{"$f":"VLOOKUP(F1187,Soutez!A:B,2,FALSE)","v":"SK"},{"$f":"VLOOKUP(F1187,Soutez!A:C,3,FALSE)","v":2022},19,3943,0.94500000000000006,5205,4919,null,null,"JS1","AAD","Není v databázi"]
["Jan Kovalcik",null,null,"AK Bratislava",null,"Flatland Cup 2022 - Kombi Open",{"$f":"VLOOKUP(F1188,Soutez!A:B,2,FALSE)","v":"SK"},{"$f":"VLOOKUP(F1188,Soutez!A:C,3,FALSE)","v":2022},20,3850,0.94500000000000006,4950,4678,null,null,"Twin Shark","TS","Není v databázi"]
["Laszlo Loskay",null,null,"Dunaferr RK",null,"Flatland Cup 2022 - Kombi Open",{"$f":"VLOOKUP(F1189,Soutez!A:B,2,FALSE)","v":"SK"},{"$f":"VLOOKUP(F1189,Soutez!A:C,3,FALSE)","v":2022},21,3767,0.94500000000000006,4707,4448,null,null,"Ventus","LY","Není v databázi"]
["Miklos Taglieber",null,null,"ARK",null,"Flatland Cup 2022 - Kombi Open",{"$f":"VLOOKUP(F1190,Soutez!A:B,2,FALSE)","v":"SK"},{"$f":"VLOOKUP(F1190,Soutez!A:C,3,FALSE)","v":2022},22,2547,0.94500000000000006,3086,2916,null,null,"Ventus 2","GE","Není v databázi"]
["Stefan Langer",null,null,null,null,"SGP Sweden 2022 - 18m GP",{"$f":"VLOOKUP(F1191,Soutez!A:B,2,FALSE)","v":"SE"},{"$f":"VLOOKUP(F1191,Soutez!A:C,3,FALSE)","v":2022},1,21,{"$f":"VLOOKUP(F1191,Soutez,12,0)","v":0.88500000000000001},{"$f":"ROUND((MAX($I$1191:$I$1205)-I1191)/(MAX($I$1191:$I$1205)-1)*10000,0)","v":10000},{"$f":"ROUND(K1191*L1191,0)","v":8850},null,null,"ASG29","SL","Není v databázi"]
["Klaus Kalmbach",null,null,null,null,"SGP Sweden 2022 - 18m GP",{"$f":"VLOOKUP(F1192,Soutez!A:B,2,FALSE)","v":"SE"},{"$f":"VLOOKUP(F1192,Soutez!A:C,3,FALSE)","v":2022},2,18,{"$f":"VLOOKUP(F1192,Soutez,12,0)","v":0.88500000000000001},9286,{"$f":"ROUND(K1192*L1192,0)","v":8218},null,null,"JS3-18m Jet","CT","Není v databázi"]
["Hermann Leucker",null,null,null,null,"SGP Sweden 2022 - 18m GP",{"$f":"VLOOKUP(F1193,Soutez!A:B,2,FALSE)","v":"SE"},{"$f":"VLOOKUP(F1193,Soutez!A:C,3,FALSE)","v":2022},3,18,0.88500000000000001,8571,7585,null,null,"JS 3 TJ 18m","HL","Není v databázi"]
["Michael Pfennig",null,null,null,null,"SGP Sweden 2022 - 18m GP",{"$f":"VLOOKUP(F1194,Soutez!A:B,2,FALSE)","v":"SE"},{"$f":"VLOOKUP(F1194,Soutez!A:C,3,FALSE)","v":2022},4,16,0.88500000000000001,7857,6953,null,null,"JS3 TJ","S","Není v databázi"]
["Jochen Schulte",null,null,null,null,"SGP Sweden 2022 - 18m GP",{"$f":"VLOOKUP(F1195,Soutez!A:B,2,FALSE)","v":"SE"},{"$f":"VLOOKUP(F1195,Soutez!A:C,3,FALSE)","v":2022},5,15,0.88500000000000001,7143,6322,null,null,"JS-MD3","KS",{"$f":"IF(ISERROR(VLOOKUP(A1195,Pilot,6,0)),\"Není v databázi\",VLOOKUP(A1195,Pilot,6,0))","v":"Není v databázi"}]
["Patrick Benoist",null,null,null,null,"SGP Sweden 2022 - 18m GP",{"$f":"VLOOKUP(F1196,Soutez!A:B,2,FALSE)","v":"SE"},{"$f":"VLOOKUP(F1196,Soutez!A:C,3,FALSE)","v":2022},6,10,0.88500000000000001,6429,5690,null,null,"AS33 Es",33,"Není v databázi"]
["Börje Eriksson",null,null,null,null,"SGP Sweden 2022 - 18m GP",{"$f":"VLOOKUP(F1197,Soutez!A:B,2,FALSE)","v":"SE"},{"$f":"VLOOKUP(F1197,Soutez!A:C,3,FALSE)","v":2022},7,10,{"$f":"VLOOKUP(F1197,Soutez,12,0)","v":0.88500000000000001},5714,5057,null,null,"Ventus 3","7X","Není v databázi"]
["Clemens Berger",null,null,null,null,"SGP Sweden 2022 - 18m GP",{"$f":"VLOOKUP(F1198,Soutez!A:B,2,FALSE)","v":"SE"},{"$f":"VLOOKUP(F1198,Soutez!A:C,3,FALSE)","v":2022},8,9,0.88500000000000001,5000,4425,null,null,"Ventus 3T","IYB","Není v databázi"]
["Björn Regnström",null,null,null,null,"SGP Sweden 2022 - 18m GP",{"$f":"VLOOKUP(F1199,Soutez!A:B,2,FALSE)","v":"SE"},{"$f":"VLOOKUP(F1199,Soutez!A:C,3,FALSE)","v":2022},9,9,0.88500000000000001,4286,{"$f":"ROUND(K1199*L1199,0)","v":3793},null,null,"JS3","BR","Není v databázi"]
["Jon Gatfield",null,null,null,null,"SGP Sweden 2022 - 18m GP",{"$f":"VLOOKUP(F1200,Soutez!A:B,2,FALSE)","v":"SE"},{"$f":"VLOOKUP(F1200,Soutez!A:C,3,FALSE)","v":2022},10,6,0.88500000000000001,3571,3160,null,null,"AS33","YO","Není v databázi"]
["Petr Krejcirik",{"$f":"VLOOKUP(A1201,Pilot,2,0)","v":1960},{"$f":"VLOOKUP(A1201,Pilot,5,0)","v":"M"},{"$f":"VLOOKUP(A1201,Pilot,3,0)","v":"Hranice"},{"$f":"VLOOKUP(A1201,Pilot,4,0)","v":"CZ/M"},"SGP Sweden 2022 - 18m GP",{"$f":"VLOOKUP(F1201,Soutez!A:B,2,FALSE)","v":"SE"},{"$f":"VLOOKUP(F1201,Soutez!A:C,3,FALSE)","v":2022},11,3,0.88500000000000001,{"$f":"ROUND((MAX($I$1191:$I$1205)-I1201)/(MAX($I$1191:$I$1205)-1)*10000,0)","v":2857},2528,null,null,"AS-33 Es",12,""]
["Max Maslak",null,null,null,null,"SGP Sweden 2022 - 18m GP",{"$f":"VLOOKUP(F1202,Soutez!A:B,2,FALSE)","v":"SE"},{"$f":"VLOOKUP(F1202,Soutez!A:C,3,FALSE)","v":2022},12,3,0.88500000000000001,2143,1897,null,null,"Discus 2cT","OLC","Není v databázi"]
["Erik Rudsmark",null,null,null,null,"SGP Sweden 2022 - 18m GP",{"$f":"VLOOKUP(F1203,Soutez!A:B,2,FALSE)","v":"SE"},{"$f":"VLOOKUP(F1203,Soutez!A:C,3,FALSE)","v":2022},13,1,0.88500000000000001,1429,1265,null,null,"DG 808 S","VG","Není v databázi"]
["Wolfgang Zeyen",null,null,null,null,"SGP Sweden 2022 - 18m GP",{"$f":"VLOOKUP(F1204,Soutez!A:B,2,FALSE)","v":"SE"},{"$f":"VLOOKUP(F1204,Soutez!A:C,3,FALSE)","v":2022},14,0,0.88500000000000001,714,632,null,null,"Discus 2c FES","FES","Není v databázi"]
["Mikael Widen",null,null,null,null,"SGP Sweden 2022 - 18m GP",{"$f":"VLOOKUP(F1205,Soutez!A:B,2,FALSE)","v":"SE"},{"$f":"VLOOKUP(F1205,Soutez!A:C,3,FALSE)","v":2022},15,0,0.88500000000000001,0,0,null,null,"DG808C","2Y","Není v databázi"]
["Jaroslav Tomana",{"$f":"VLOOKUP(A1206,Pilot,2,0)","v":1975},{"$f":"VLOOKUP(A1206,Pilot,5,0)","v":"M"},{"$f":"VLOOKUP(A1206,Pilot,3,0)","v":"Zbraslavice"},{"$f":"VLOOKUP(A1206,Pilot,4,0)","v":"CZ/C1"},"AZ Cup 2023 - Klub",{"$f":"VLOOKUP(F1206,Soutez!A:B,2,FALSE)","v":"CZ"},{"$f":"VLOOKUP(F1206,Soutez!A:C,3,FALSE)","v":2023},1,8564,{"$f":"VLOOKUP(F1206,Soutez,12,0)","v":0.95500000000000007},{"$f":"ROUND(J1206/MAX($J$1206:$J$1232)*10000*0.7+(MAX($I$1206:$I$1232)-I1206)/(MAX($I$1206:$I$1232)-1)*10000*0.3,0)","v":10000},{"$f":"ROUND(K1206*L1206,0)","v":9550},null,null,"Pegase-101 BC","RT",""]
["Pavel Trybenekr",1990,"M","Hořice","CZ/C2","AZ Cup 2023 - Klub",{"$f":"VLOOKUP(F1207,Soutez!A:B,2,FALSE)","v":"CZ"},{"$f":"VLOOKUP(F1207,Soutez!A:C,3,FALSE)","v":2023},2,8430,0.95500000000000007,9775,{"$f":"ROUND(K1207*L1207,0)","v":9335},"x",null,"LS-4","PF",""]
["Ivan Harasta 65",1965,"M","Toužim","CZ/C1","AZ Cup 2023 - Klub",{"$f":"VLOOKUP(F1208,Soutez!A:B,2,FALSE)","v":"CZ"},{"$f":"VLOOKUP(F1208,Soutez!A:C,3,FALSE)","v":2023},3,8364,0.95500000000000007,9606,9174,"x",null,"LS-4B","IX",""]
["Lukas Kriz",2003,"M","Křižanov","CZ/M","AZ Cup 2023 - Klub",{"$f":"VLOOKUP(F1209,Soutez!A:B,2,FALSE)","v":"CZ"},{"$f":"VLOOKUP(F1209,Soutez!A:C,3,FALSE)","v":2023},4,8061,0.95500000000000007,9243,8827,null,null,"LS-4B","6L","Junior v roce 2025"]
["Mark Travner",null,null,"Aeroklub Celje",null,"AZ Cup 2023 - Klub",{"$f":"VLOOKUP(F1210,Soutez!A:B,2,FALSE)","v":"CZ"},{"$f":"VLOOKUP(F1210,Soutez!A:C,3,FALSE)","v":2023},5,7999,0.95500000000000007,9077,8669,null,null,"SZD-55","NX","Není v databázi"]
["David Darnady",{"$f":"VLOOKUP(A1211,Pilot,2,0)","v":1987},{"$f":"VLOOKUP(A1211,Pilot,5,0)","v":"M"},{"$f":"VLOOKUP(A1211,Pilot,3,0)","v":"Zbraslavice"},{"$f":"VLOOKUP(A1211,Pilot,4,0)","v":"CZ/C1"},"AZ Cup 2023 - Klub",{"$f":"VLOOKUP(F1211,Soutez!A:B,2,FALSE)","v":"CZ"},{"$f":"VLOOKUP(F1211,Soutez!A:C,3,FALSE)","v":2023},6,7968,0.95500000000000007,8936,8534,"x",null,"ASW-20",311,""]
["Martin Urban",1971,"M","Frýdlant","CZ/M","AZ Cup 2023 - Klub",{"$f":"VLOOKUP(F1212,Soutez!A:B,2,FALSE)","v":"CZ"},{"$f":"VLOOKUP(F1212,Soutez!A:C,3,FALSE)","v":2023},7,7764,0.95500000000000007,8654,8265,"x",null,"LS-3A","SJ",""]
["Michal Lesinger",1966,"M","Moravská Třebová","CZ/M","AZ Cup 2023 - Klub",{"$f":"VLOOKUP(F1213,Soutez!A:B,2,FALSE)","v":"CZ"},{"$f":"VLOOKUP(F1213,Soutez!A:C,3,FALSE)","v":2023},8,7615,0.95500000000000007,8417,8038,null,null,"ASW-20A","LL",""]
["Jan Stastny",2003,"M","Medlánky","CZ/M","AZ Cup 2023 - Klub",{"$f":"VLOOKUP(F1214,Soutez!A:B,2,FALSE)","v":"CZ"},{"$f":"VLOOKUP(F1214,Soutez!A:C,3,FALSE)","v":2023},9,7586,0.95500000000000007,8278,7905,null,null,"ASW-20A","CX","Junior v roce 2025"]
["Tomas Hynek",2002,"M","Dvůr Králové","CZ/C2","AZ Cup 2023 - Klub",{"$f":"VLOOKUP(F1215,Soutez!A:B,2,FALSE)","v":"CZ"},{"$f":"VLOOKUP(F1215,Soutez!A:C,3,FALSE)","v":2023},10,7489,0.95500000000000007,8083,7719,null,null,"ASW-20C","VW","Junior v roce 2025"]
["David Sachl",1978,"M","Kralupy","CZ/C1","AZ Cup 2023 - Klub",{"$f":"VLOOKUP(F1216,Soutez!A:B,2,FALSE)","v":"CZ"},{"$f":"VLOOKUP(F1216,Soutez!A:C,3,FALSE)","v":2023},11,6944,0.95500000000000007,7522,7184,"x",null,"DG-300 Elan","BK",""]
["Jan Smekal",1976,"M","Zbraslavice","CZ/C1","AZ Cup 2023 - Klub",{"$f":"VLOOKUP(F1217,Soutez!A:B,2,FALSE)","v":"CZ"},{"$f":"VLOOKUP(F1217,Soutez!A:C,3,FALSE)","v":2023},12,6703,0.95500000000000007,7210,6886,"x",null,"AWS-20","NW",""]
["Petr Havelka",1997,"M","Zbraslavice","CZ/C1","AZ Cup 2023 - Klub",{"$f":"VLOOKUP(F1218,Soutez!A:B,2,FALSE)","v":"CZ"},{"$f":"VLOOKUP(F1218,Soutez!A:C,3,FALSE)","v":2023},13,6583,0.95500000000000007,6996,6681,"x",null,"ASW-19B","PH",""]
["Viktor Becan",1979,"M","Vlašim","CZ/C1","AZ Cup 2023 - Klub",{"$f":"VLOOKUP(F1219,Soutez!A:B,2,FALSE)","v":"CZ"},{"$f":"VLOOKUP(F1219,Soutez!A:C,3,FALSE)","v":2023},14,6233,0.95500000000000007,6595,6298,"x",null,"ASW-20 L WL","CP",""]
["Lukas Hynek",{"$f":"VLOOKUP(A1220,Pilot,2,0)","v":1979},{"$f":"VLOOKUP(A1220,Pilot,5,0)","v":"M"},{"$f":"VLOOKUP(A1220,Pilot,3,0)","v":"Dvůr Králové"},{"$f":"VLOOKUP(A1220,Pilot,4,0)","v":"CZ/C2"},"AZ Cup 2023 - Klub",{"$f":"VLOOKUP(F1220,Soutez!A:B,2,FALSE)","v":"CZ"},{"$f":"VLOOKUP(F1220,Soutez!A:C,3,FALSE)","v":2023},15,6125,0.95500000000000007,6391,6103,"x",null,"DG-200","HL",""]
["Frantisek Komarek",1985,"M","Zbraslavice","CZ/C1","AZ Cup 2023 - Klub",{"$f":"VLOOKUP(F1221,Soutez!A:B,2,FALSE)","v":"CZ"},{"$f":"VLOOKUP(F1221,Soutez!A:C,3,FALSE)","v":2023},16,5966,0.95500000000000007,6146,{"$f":"ROUND(K1221*L1221,0)","v":5869},"x",null,"ASW-19B","PM",""]
["Martin Kriz",1968,"M","Přibyslav","CZ/C2","AZ Cup 2023 - Klub",{"$f":"VLOOKUP(F1222,Soutez!A:B,2,FALSE)","v":"CZ"},{"$f":"VLOOKUP(F1222,Soutez!A:C,3,FALSE)","v":2023},17,5839,0.95500000000000007,5926,5659,null,null,"ASW-20",67,""]
["David Vrchota",1976,"M","Jaroměř","CZ/C2","AZ Cup 2023 - Klub",{"$f":"VLOOKUP(F1223,Soutez!A:B,2,FALSE)","v":"CZ"},{"$f":"VLOOKUP(F1223,Soutez!A:C,3,FALSE)","v":2023},18,5791,0.95500000000000007,5772,5512,null,null,"Std.Cirrus 16m","CO",""]
["Vaclav Sehnal",1962,"M","Kolín","CZ/C1","AZ Cup 2023 - Klub",{"$f":"VLOOKUP(F1224,Soutez!A:B,2,FALSE)","v":"CZ"},{"$f":"VLOOKUP(F1224,Soutez!A:C,3,FALSE)","v":2023},19,5493,0.95500000000000007,5413,5169,"x",null,"JANTAR STD2","VS",""]
["Petr Vodicka",1965,"M","Jaroměř","CZ/C2","AZ Cup 2023 - Klub",{"$f":"VLOOKUP(F1225,Soutez!A:B,2,FALSE)","v":"CZ"},{"$f":"VLOOKUP(F1225,Soutez!A:C,3,FALSE)","v":2023},20,5043,0.95500000000000007,4930,4708,"x",null,"JANUS B","BV",""]
["Tomas Zamecnik",1988,"M","Zbraslavice","CZ/C1","AZ Cup 2023 - Klub",{"$f":"VLOOKUP(F1226,Soutez!A:B,2,FALSE)","v":"CZ"},{"$f":"VLOOKUP(F1226,Soutez!A:C,3,FALSE)","v":2023},21,4797,0.95500000000000007,4613,4405,"x",null,"ASW-19B","O2",""]
["Ales Holoubek",1966,"M","Jičín","CZ/C2","AZ Cup 2023 - Klub",{"$f":"VLOOKUP(F1227,Soutez!A:B,2,FALSE)","v":"CZ"},{"$f":"VLOOKUP(F1227,Soutez!A:C,3,FALSE)","v":2023},22,4506,0.95500000000000007,4260,4068,"x",null,"ASW-15B","T",""]
["Jan Kristof",1962,"M","Frýdlant","CZ/M","AZ Cup 2023 - Klub",{"$f":"VLOOKUP(F1228,Soutez!A:B,2,FALSE)","v":"CZ"},{"$f":"VLOOKUP(F1228,Soutez!A:C,3,FALSE)","v":2023},23,3381,0.95500000000000007,3225,3080,"x",null,"LS-3","TX",""]
["Petr Brezina",1963,"M","Frýdlant","CZ/M","AZ Cup 2023 - Klub",{"$f":"VLOOKUP(F1229,Soutez!A:B,2,FALSE)","v":"CZ"},{"$f":"VLOOKUP(F1229,Soutez!A:C,3,FALSE)","v":2023},24,3327,0.95500000000000007,3066,2928,"x",null,"DG-200","AK",""]
["David Popovsky",1976,"M","Rakovník","CZ/C1","AZ Cup 2023 - Klub",{"$f":"VLOOKUP(F1230,Soutez!A:B,2,FALSE)","v":"CZ"},{"$f":"VLOOKUP(F1230,Soutez!A:C,3,FALSE)","v":2023},25,2248,0.95500000000000007,2068,1975,"x",null,"ASW-24",76,""]
["Vladimir Hammer",2000,"M","Letkov","CZ/C1","AZ Cup 2023 - Klub",{"$f":"VLOOKUP(F1231,Soutez!A:B,2,FALSE)","v":"CZ"},{"$f":"VLOOKUP(F1231,Soutez!A:C,3,FALSE)","v":2023},26,1910,0.95500000000000007,1677,1602,null,null,"DISCUS B","SJI","Junior v roce 2025"]
["Jiri Hodan",1959,"M","Zbraslavice","CZ/C1","AZ Cup 2023 - Klub",{"$f":"VLOOKUP(F1232,Soutez!A:B,2,FALSE)","v":"CZ"},{"$f":"VLOOKUP(F1232,Soutez!A:C,3,FALSE)","v":2023},27,1627,0.95500000000000007,1330,1270,"x",null,"ASTIR G103 III","RB",""]
["Radek Krejcirik",{"$f":"VLOOKUP(A1233,Pilot,2,0)","v":1991},{"$f":"VLOOKUP(A1233,Pilot,5,0)","v":"M"},{"$f":"VLOOKUP(A1233,Pilot,3,0)","v":"Hranice"},{"$f":"VLOOKUP(A1233,Pilot,4,0)","v":"CZ/M"},"AZ Cup 2023 - Kombi ",{"$f":"VLOOKUP(F1233,Soutez!A:B,2,FALSE)","v":"CZ"},{"$f":"VLOOKUP(F1233,Soutez!A:C,3,FALSE)","v":2023},1,8289,1,{"$f":"ROUND(J1233/MAX($J$1233:$J$1264)*10000*0.7+(MAX($I$1233:$I$1264)-I1233)/(MAX($I$1233:$I$1264)-1)*10000*0.3,0)","v":10000},{"$f":"ROUND(K1233*L1233,0)","v":10000},null,null,"AS-33 ES",12,""]
["Petr Krejcirik",1960,"M","Hranice","CZ/M","AZ Cup 2023 - Kombi ",{"$f":"VLOOKUP(F1234,Soutez!A:B,2,FALSE)","v":"CZ"},{"$f":"VLOOKUP(F1234,Soutez!A:C,3,FALSE)","v":2023},2,7812,1,9500,{"$f":"ROUND(K1234*L1234,0)","v":9500},"x",null,"JS3 18m","VB",""]
["Radek Kucirek",1973,"M","Havlíčkův Brod","CZ/C2","AZ Cup 2023 - Kombi ",{"$f":"VLOOKUP(F1235,Soutez!A:B,2,FALSE)","v":"CZ"},{"$f":"VLOOKUP(F1235,Soutez!A:C,3,FALSE)","v":2023},3,7722,1,9328,9328,"x",null,"EB-28 Edition","NA",""]
["Petr Tichy",1973,"M","Zbraslavice","CZ/C1","AZ Cup 2023 - Kombi ",{"$f":"VLOOKUP(F1236,Soutez!A:B,2,FALSE)","v":"CZ"},{"$f":"VLOOKUP(F1236,Soutez!A:C,3,FALSE)","v":2023},4,7613,1,9139,9139,"x",null,"JS1-C 21m","JX",""]
["Vladimir Foltin",null,null,"Nitra SK",null,"AZ Cup 2023 - Kombi ",{"$f":"VLOOKUP(F1237,Soutez!A:B,2,FALSE)","v":"CZ"},{"$f":"VLOOKUP(F1237,Soutez!A:C,3,FALSE)","v":2023},5,7551,1,8990,8990,null,null,"JS3 18m",3,"Není v databázi"]
["Ivan Novak",{"$f":"VLOOKUP(A1238,Pilot,2,0)","v":1962},{"$f":"VLOOKUP(A1238,Pilot,5,0)","v":"M"},{"$f":"VLOOKUP(A1238,Pilot,3,0)","v":"Mladá Boleslav"},{"$f":"VLOOKUP(A1238,Pilot,4,0)","v":"CZ/C1"},"AZ Cup 2023 - Kombi ",{"$f":"VLOOKUP(F1238,Soutez!A:B,2,FALSE)","v":"CZ"},{"$f":"VLOOKUP(F1238,Soutez!A:C,3,FALSE)","v":2023},6,7383,1,8751,8751,"x",null,"ASG-29E","QZ",""]
["Ondrej Dupal",1966,"M","GAC Benešov","CZ/C1","AZ Cup 2023 - Kombi ",{"$f":"VLOOKUP(F1239,Soutez!A:B,2,FALSE)","v":"CZ"},{"$f":"VLOOKUP(F1239,Soutez!A:C,3,FALSE)","v":2023},7,7369,1,8642,8642,"x",null,"ASG-29E","GO",""]
["Danes Grula",1961,"M","Medlánky","CZ/M","AZ Cup 2023 - Kombi ",{"$f":"VLOOKUP(F1240,Soutez!A:B,2,FALSE)","v":"CZ"},{"$f":"VLOOKUP(F1240,Soutez!A:C,3,FALSE)","v":2023},8,7240,1,8437,8437,"x",null,"ASG-32 MI","DX",""]
["Jan Boruvka",1984,"M","Jičín","CZ/C2","AZ Cup 2023 - Kombi ",{"$f":"VLOOKUP(F1241,Soutez!A:B,2,FALSE)","v":"CZ"},{"$f":"VLOOKUP(F1241,Soutez!A:C,3,FALSE)","v":2023},9,7221,1,8324,8324,null,null,"VENTUS C 17.6m","EG",""]
["Jan Kantor",1983,"M","Letňany","CZ/C1","AZ Cup 2023 - Kombi ",{"$f":"VLOOKUP(F1242,Soutez!A:B,2,FALSE)","v":"CZ"},{"$f":"VLOOKUP(F1242,Soutez!A:C,3,FALSE)","v":2023},10,7032,1,8068,8068,"x",null,"ASG-29E","QX",""]
["Alena Netusilova",1970,"F","Zbraslavice","CZ/C1","AZ Cup 2023 - Kombi ",{"$f":"VLOOKUP(F1243,Soutez!A:B,2,FALSE)","v":"CZ"},{"$f":"VLOOKUP(F1243,Soutez!A:C,3,FALSE)","v":2023},11,6631,1,7632,7632,"x",null,"JS3 18m","ZE",""]
["Karel Novak",1993,"M","Mladá Boleslav","CZ/C1","AZ Cup 2023 - Kombi ",{"$f":"VLOOKUP(F1244,Soutez!A:B,2,FALSE)","v":"CZ"},{"$f":"VLOOKUP(F1244,Soutez!A:C,3,FALSE)","v":2023},12,6481,1,7409,7409,null,null,"VENTUS 2A 15m","AX",""]
["Petr Starek",1974,"M","Zbraslavice","CZ/C1","AZ Cup 2023 - Kombi ",{"$f":"VLOOKUP(F1245,Soutez!A:B,2,FALSE)","v":"CZ"},{"$f":"VLOOKUP(F1245,Soutez!A:C,3,FALSE)","v":2023},13,6292,1,7152,7152,"x",null,"HPH 304 JS",66,""]
["Michal Posluzny",1968,"M","Medlánky","CZ/M","AZ Cup 2023 - Kombi ",{"$f":"VLOOKUP(F1246,Soutez!A:B,2,FALSE)","v":"CZ"},{"$f":"VLOOKUP(F1246,Soutez!A:C,3,FALSE)","v":2023},14,6275,1,7041,7041,"x",null,"JS3 18m","QX1",""]
["Jan Kotan",1982,"M","Letňany","CZ/C1","AZ Cup 2023 - Kombi ",{"$f":"VLOOKUP(F1247,Soutez!A:B,2,FALSE)","v":"CZ"},{"$f":"VLOOKUP(F1247,Soutez!A:C,3,FALSE)","v":2023},15,6231,1,6907,6907,null,null,"VENTUS 2BX 15m","YA",""]
["Hana Treslova",1991,"F","Raná","CZ/C2","AZ Cup 2023 - Kombi ",{"$f":"VLOOKUP(F1248,Soutez!A:B,2,FALSE)","v":"CZ"},{"$f":"VLOOKUP(F1248,Soutez!A:C,3,FALSE)","v":2023},16,6193,1,6778,6778,null,null,"JS3 18m","XM",""]
["Radek Zima 78",1978,"M","Hodkovice","CZ/C2","AZ Cup 2023 - Kombi ",{"$f":"VLOOKUP(F1249,Soutez!A:B,2,FALSE)","v":"CZ"},{"$f":"VLOOKUP(F1249,Soutez!A:C,3,FALSE)","v":2023},17,6150,1,6645,6645,"x",null,"ASG-29E","XZ",""]
["Jan Dersak 69",1969,"M","Kralupy","CZ/C1","AZ Cup 2023 - Kombi ",{"$f":"VLOOKUP(F1250,Soutez!A:B,2,FALSE)","v":"CZ"},{"$f":"VLOOKUP(F1250,Soutez!A:C,3,FALSE)","v":2023},18,6043,1,6458,6458,null,null,"HPH 304 MS","DJ",""]
["Zdenek Boruvka 86",1986,"M","Jičín","CZ/C2","AZ Cup 2023 - Kombi ",{"$f":"VLOOKUP(F1251,Soutez!A:B,2,FALSE)","v":"CZ"},{"$f":"VLOOKUP(F1251,Soutez!A:C,3,FALSE)","v":2023},19,5812,1,6166,6166,null,null,"VENTUS C 17.6m","VV",""]
["Jan Ratz",1987,"M","Zbraslavice","CZ/C1","AZ Cup 2023 - Kombi ",{"$f":"VLOOKUP(F1252,Soutez!A:B,2,FALSE)","v":"CZ"},{"$f":"VLOOKUP(F1252,Soutez!A:C,3,FALSE)","v":2023},20,5793,1,6053,6053,null,null,"LS-8 18m","FX",""]
["Jaroslav Potmesil",1964,"M","Zbraslavice","CZ/C1","AZ Cup 2023 - Kombi ",{"$f":"VLOOKUP(F1253,Soutez!A:B,2,FALSE)","v":"CZ"},{"$f":"VLOOKUP(F1253,Soutez!A:C,3,FALSE)","v":2023},21,5522,1,5728,5728,"x",null,"HpH 304 JS","JT",""]
["Richard Jensen",1965,"M","Zbraslavice","CZ/C1","AZ Cup 2023 - Kombi ",{"$f":"VLOOKUP(F1254,Soutez!A:B,2,FALSE)","v":"CZ"},{"$f":"VLOOKUP(F1254,Soutez!A:C,3,FALSE)","v":2023},22,5494,1,5607,{"$f":"ROUND(K1254*L1254,0)","v":5607},"x",null,"ASG-29E","AJ",""]
["Ivo Burda",1962,"M","Zbraslavice","CZ/C1","AZ Cup 2023 - Kombi ",{"$f":"VLOOKUP(F1255,Soutez!A:B,2,FALSE)","v":"CZ"},{"$f":"VLOOKUP(F1255,Soutez!A:C,3,FALSE)","v":2023},23,5179,1,5245,5245,"x",null,"VENTUS 2CXM 18m","IB",""]
["Karel Krobath",null,null,"FRA",null,"AZ Cup 2023 - Kombi ",{"$f":"VLOOKUP(F1256,Soutez!A:B,2,FALSE)","v":"CZ"},{"$f":"VLOOKUP(F1256,Soutez!A:C,3,FALSE)","v":2023},24,5077,1,5062,5062,null,null,"HPH TWINSHARK","Q","Není v databázi"]
["Jana Treslova",{"$f":"VLOOKUP(A1257,Pilot,2,0)","v":1963},{"$f":"VLOOKUP(A1257,Pilot,5,0)","v":"F"},{"$f":"VLOOKUP(A1257,Pilot,3,0)","v":"Raná"},{"$f":"VLOOKUP(A1257,Pilot,4,0)","v":"CZ/C2"},"AZ Cup 2023 - Kombi ",{"$f":"VLOOKUP(F1257,Soutez!A:B,2,FALSE)","v":"CZ"},{"$f":"VLOOKUP(F1257,Soutez!A:C,3,FALSE)","v":2023},25,4996,1,4897,4897,null,null,"LS-8 15m","W8",{"$f":"IF(ISERROR(VLOOKUP(A1257,Pilot,6,0)),\"Není v databázi\",VLOOKUP(A1257,Pilot,6,0))","v":""}]
["Zdenek Boruvka 54",1954,"M","Jičín","CZ/C2","AZ Cup 2023 - Kombi ",{"$f":"VLOOKUP(F1258,Soutez!A:B,2,FALSE)","v":"CZ"},{"$f":"VLOOKUP(F1258,Soutez!A:C,3,FALSE)","v":2023},26,4591,1,4458,4458,null,null,"LS-8 15m","ZB",""]
["Michaela Rendlova",2004,"F","Toužim","CZ/C1","AZ Cup 2023 - Kombi ",{"$f":"VLOOKUP(F1259,Soutez!A:B,2,FALSE)","v":"CZ"},{"$f":"VLOOKUP(F1259,Soutez!A:C,3,FALSE)","v":2023},27,4175,1,4010,4010,null,null,"AS-33 ES","EA","Junior v roce 2025"]
["Dana Novakova",1965,"F","Mladá Boleslav","CZ/C1","AZ Cup 2023 - Kombi ",{"$f":"VLOOKUP(F1260,Soutez!A:B,2,FALSE)","v":"CZ"},{"$f":"VLOOKUP(F1260,Soutez!A:C,3,FALSE)","v":2023},28,3989,1,3756,3756,null,null,"LS-8 15m","ID",""]
["Tomas Suchanek",1964,"M","GAC Benešov","CZ/C1","AZ Cup 2023 - Kombi ",{"$f":"VLOOKUP(F1261,Soutez!A:B,2,FALSE)","v":"CZ"},{"$f":"VLOOKUP(F1261,Soutez!A:C,3,FALSE)","v":2023},29,3678,1,3396,3396,null,null,"LS-8 18m","JB",""]
["Matous Schmidt",1981,"M","Letňany","CZ/C1","AZ Cup 2023 - Kombi ",{"$f":"VLOOKUP(F1262,Soutez!A:B,2,FALSE)","v":"CZ"},{"$f":"VLOOKUP(F1262,Soutez!A:C,3,FALSE)","v":2023},30,2152,1,2011,2011,"x",null,"VENTUS C 17.6m","UC",""]
["Pavel Svrcek",1972,"M","Frýdlant","CZ/M","AZ Cup 2023 - Kombi ",{"$f":"VLOOKUP(F1263,Soutez!A:B,2,FALSE)","v":"CZ"},{"$f":"VLOOKUP(F1263,Soutez!A:C,3,FALSE)","v":2023},31,1862,1,1669,1669,"x",null,"DG-400","PS",""]
["Tomas Rendla",1973,"M","Zbraslavice","CZ/C1","AZ Cup 2023 - Kombi ",{"$f":"VLOOKUP(F1264,Soutez!A:B,2,FALSE)","v":"CZ"},{"$f":"VLOOKUP(F1264,Soutez!A:C,3,FALSE)","v":2023},32,498,1,421,421,null,null,"HPH TWINSHARK","LK",""]
["Rostislav Stryk",{"$f":"VLOOKUP(A1265,Pilot,2,0)","v":1972},{"$f":"VLOOKUP(A1265,Pilot,5,0)","v":"M"},{"$f":"VLOOKUP(A1265,Pilot,3,0)","v":"Frýdlant"},{"$f":"VLOOKUP(A1265,Pilot,4,0)","v":"CZ/M"},"FL 2023 - Klub",{"$f":"VLOOKUP(F1265,Soutez!A:B,2,FALSE)","v":"CZ"},{"$f":"VLOOKUP(F1265,Soutez!A:C,3,FALSE)","v":2023},1,4451,0,{"$f":"ROUND(J1265/MAX($J$1265:$J$1275)*10000*0.7+(MAX($I$1265:$I$1275)-I1265)/(MAX($I$1265:$I$1275)-1)*10000*0.3,0)","v":10000},{"$f":"ROUND(K1265*L1265,0)","v":0},null,null,"Std. Cirrus",22,""]
["David Sachl",1978,"M","Kralupy","CZ/C1","FL 2023 - Klub",{"$f":"VLOOKUP(F1266,Soutez!A:B,2,FALSE)","v":"CZ"},{"$f":"VLOOKUP(F1266,Soutez!A:C,3,FALSE)","v":2023},2,4106,0,9124,{"$f":"ROUND(K1266*L1266,0)","v":0},null,null,"DG 300 WL","BK",""]
["Jan Kristof",{"$f":"VLOOKUP(A1267,Pilot,2,0)","v":1962},{"$f":"VLOOKUP(A1267,Pilot,5,0)","v":"M"},{"$f":"VLOOKUP(A1267,Pilot,3,0)","v":"Frýdlant"},{"$f":"VLOOKUP(A1267,Pilot,4,0)","v":"CZ/M"},"FL 2023 - Klub",{"$f":"VLOOKUP(F1267,Soutez!A:B,2,FALSE)","v":"CZ"},{"$f":"VLOOKUP(F1267,Soutez!A:C,3,FALSE)","v":2023},3,3573,0,7953,0,null,null,"LS 3","TX",""]
["Petr Brezina",{"$f":"VLOOKUP(A1268,Pilot,2,0)","v":1963},{"$f":"VLOOKUP(A1268,Pilot,5,0)","v":"M"},{"$f":"VLOOKUP(A1268,Pilot,3,0)","v":"Frýdlant"},{"$f":"VLOOKUP(A1268,Pilot,4,0)","v":"CZ/M"},"FL 2023 - Klub",{"$f":"VLOOKUP(F1268,Soutez!A:B,2,FALSE)","v":"CZ"},{"$f":"VLOOKUP(F1268,Soutez!A:C,3,FALSE)","v":2023},4,2743,0,6314,0,null,null,"DG 200","AK",""]
["Jan Mareth",1979,"M","Frýdlant","CZ/M","FL 2023 - Klub",{"$f":"VLOOKUP(F1269,Soutez!A:B,2,FALSE)","v":"CZ"},{"$f":"VLOOKUP(F1269,Soutez!A:C,3,FALSE)","v":2023},5,2191,0,5112,0,null,null,"ASW 15 B","PA",""]
["Adam Sugl",1987,"M","Vyškov","CZ/M","FL 2023 - Klub",{"$f":"VLOOKUP(F1270,Soutez!A:B,2,FALSE)","v":"CZ"},{"$f":"VLOOKUP(F1270,Soutez!A:C,3,FALSE)","v":2023},6,1920,{"$f":"VLOOKUP(F1270,Soutez,12,0)","v":0},4353,0,null,null,"Std. Cirrus","GT",""]
["Jan Sustr 76",{"$f":"VLOOKUP(A1271,Pilot,2,0)","v":1976},{"$f":"VLOOKUP(A1271,Pilot,5,0)","v":"M"},{"$f":"VLOOKUP(A1271,Pilot,3,0)","v":"Raná"},{"$f":"VLOOKUP(A1271,Pilot,4,0)","v":"CZ/C2"},"FL 2023 - Klub",{"$f":"VLOOKUP(F1271,Soutez!A:B,2,FALSE)","v":"CZ"},{"$f":"VLOOKUP(F1271,Soutez!A:C,3,FALSE)","v":2023},7,501,0,1788,0,null,null,"DG 300","WL",""]
["Stepan Obrovsky",1990,"M","Frýdlant","CZ/M","FL 2023 - Klub",{"$f":"VLOOKUP(F1272,Soutez!A:B,2,FALSE)","v":"CZ"},{"$f":"VLOOKUP(F1272,Soutez!A:C,3,FALSE)","v":2023},8,419,0,1326,0,null,null,"LS 1-f","EM",""]
["Jan Mrozek",{"$f":"VLOOKUP(A1273,Pilot,2,0)","v":1982},{"$f":"VLOOKUP(A1273,Pilot,5,0)","v":"M"},{"$f":"VLOOKUP(A1273,Pilot,3,0)","v":"Frýdlant"},{"$f":"VLOOKUP(A1273,Pilot,4,0)","v":"CZ/M"},"FL 2023 - Klub",{"$f":"VLOOKUP(F1273,Soutez!A:B,2,FALSE)","v":"CZ"},{"$f":"VLOOKUP(F1273,Soutez!A:C,3,FALSE)","v":2023},9,285,0,782,{"$f":"ROUND(K1273*L1273,0)","v":0},null,null,"Std. Cirrus","E",""]
["Ludek Mikl",1963,"M","Šumperk","CZ/M","FL 2023 - Klub",{"$f":"VLOOKUP(F1274,Soutez!A:B,2,FALSE)","v":"CZ"},{"$f":"VLOOKUP(F1274,Soutez!A:C,3,FALSE)","v":2023},10,0,0,0,0,null,null,"Std. Cirrus",16,""]
["Jiri Koudela",1974,"M","Vyškov","CZ/M","FL 2023 - Klub",{"$f":"VLOOKUP(F1275,Soutez!A:B,2,FALSE)","v":"CZ"},{"$f":"VLOOKUP(F1275,Soutez!A:C,3,FALSE)","v":2023},10,0,0,0,0,null,null,"ASW 19 B","JK",""]
["Frantisek Vancura",{"$f":"VLOOKUP(A1276,Pilot,2,0)","v":1966},{"$f":"VLOOKUP(A1276,Pilot,5,0)","v":"M"},{"$f":"VLOOKUP(A1276,Pilot,3,0)","v":"Hranice"},{"$f":"VLOOKUP(A1276,Pilot,4,0)","v":"CZ/M"},"FL 2023 - Kombi",{"$f":"VLOOKUP(F1276,Soutez!A:B,2,FALSE)","v":"CZ"},{"$f":"VLOOKUP(F1276,Soutez!A:C,3,FALSE)","v":2023},1,4392,0.91500000000000004,{"$f":"ROUND(J1276/MAX($J$1276:$J$1288)*10000*0.7+(MAX($I$1276:$I$1288)-I1276)/(MAX($I$1276:$I$1288)-1)*10000*0.3,0)","v":10000},{"$f":"ROUND(K1276*L1276,0)","v":9150},"x",null,"Nimbus 3T 24.5m","A1",""]
["Pavel Foldyna",1976,"M","Frýdlant","CZ/M","FL 2023 - Kombi",{"$f":"VLOOKUP(F1277,Soutez!A:B,2,FALSE)","v":"CZ"},{"$f":"VLOOKUP(F1277,Soutez!A:C,3,FALSE)","v":2023},2,4239,0.91500000000000004,9483,{"$f":"ROUND(K1277*L1277,0)","v":8677},"x",null,"Arcus M","FJ",""]
["Martin Suchy",1969,"M","Hranice","CZ/M","FL 2023 - Kombi",{"$f":"VLOOKUP(F1278,Soutez!A:B,2,FALSE)","v":"CZ"},{"$f":"VLOOKUP(F1278,Soutez!A:C,3,FALSE)","v":2023},3,3820,0.91500000000000004,8543,7817,"x",null,"DG 500M 22m","T1",""]
["Zdenek Balcarek",1967,"M","Kroměříž","CZ/M","FL 2023 - Kombi",{"$f":"VLOOKUP(F1279,Soutez!A:B,2,FALSE)","v":"CZ"},{"$f":"VLOOKUP(F1279,Soutez!A:C,3,FALSE)","v":2023},4,3689,0.91500000000000004,8061,7376,"x",null,"Discus b","AI",""]
["Michal Cechmanek",1978,"M","Kroměříž","CZ/M","FL 2023 - Kombi",{"$f":"VLOOKUP(F1280,Soutez!A:B,2,FALSE)","v":"CZ"},{"$f":"VLOOKUP(F1280,Soutez!A:C,3,FALSE)","v":2023},5,3365,0.91500000000000004,7272,6654,null,null,"ASW 20","MK",""]
["Vladimir Jirka",{"$f":"VLOOKUP(A1281,Pilot,2,0)","v":1965},{"$f":"VLOOKUP(A1281,Pilot,5,0)","v":"M"},{"$f":"VLOOKUP(A1281,Pilot,3,0)","v":"Zábřeh"},{"$f":"VLOOKUP(A1281,Pilot,4,0)","v":"CZ/M"},"FL 2023 - Kombi",{"$f":"VLOOKUP(F1281,Soutez!A:B,2,FALSE)","v":"CZ"},{"$f":"VLOOKUP(F1281,Soutez!A:C,3,FALSE)","v":2023},6,3074,0.91500000000000004,6536,5980,"x",null,"HpH 304 TS Twin Shark",11,""]
["Lumir Motyka",{"$f":"VLOOKUP(A1282,Pilot,2,0)","v":1955},{"$f":"VLOOKUP(A1282,Pilot,5,0)","v":"M"},{"$f":"VLOOKUP(A1282,Pilot,3,0)","v":"Frýdlant"},{"$f":"VLOOKUP(A1282,Pilot,4,0)","v":"CZ/M"},"FL 2023 - Kombi",{"$f":"VLOOKUP(F1282,Soutez!A:B,2,FALSE)","v":"CZ"},{"$f":"VLOOKUP(F1282,Soutez!A:C,3,FALSE)","v":2023},7,2960,0.91500000000000004,6081,5564,"x",null,"LAK-12","DE",""]
["Zdenek Schenk",1972,"M","Hranice","CZ/M","FL 2023 - Kombi",{"$f":"VLOOKUP(F1283,Soutez!A:B,2,FALSE)","v":"CZ"},{"$f":"VLOOKUP(F1283,Soutez!A:C,3,FALSE)","v":2023},8,2053,0.91500000000000004,4363,3992,null,null,"duo discus","OK",""]
["Milos Matejka",1956,"M","Beroun","CZ/C1","FL 2023 - Kombi",{"$f":"VLOOKUP(F1284,Soutez!A:B,2,FALSE)","v":"CZ"},{"$f":"VLOOKUP(F1284,Soutez!A:C,3,FALSE)","v":2023},9,1890,0.91500000000000004,3830,{"$f":"ROUND(K1284*L1284,0)","v":3504},"x",null,"Discus b WL","SH",""]
["Antonin Kutalek",1943,"M","Zábřeh","CZ/M","FL 2023 - Kombi",{"$f":"VLOOKUP(F1285,Soutez!A:B,2,FALSE)","v":"CZ"},{"$f":"VLOOKUP(F1285,Soutez!A:C,3,FALSE)","v":2023},10,1368,0.91500000000000004,2726,2494,null,null,"LAK 17A","GL",""]
["Jaroslav Buryan",1953,"M","Zábřeh","CZ/M","FL 2023 - Kombi",{"$f":"VLOOKUP(F1286,Soutez!A:B,2,FALSE)","v":"CZ"},{"$f":"VLOOKUP(F1286,Soutez!A:C,3,FALSE)","v":2023},11,1278,0.91500000000000004,2310,2114,null,null,"ASW 20 WL","NS",""]
["Pavel Handl",1971,"M","Kroměříž","CZ/M","FL 2023 - Kombi",{"$f":"VLOOKUP(F1287,Soutez!A:B,2,FALSE)","v":"CZ"},{"$f":"VLOOKUP(F1287,Soutez!A:C,3,FALSE)","v":2023},12,0,0.91500000000000004,0,0,null,null,"Ventus 2c 18m","VJ",""]
["Roman Cerny",1971,"M","Hranice","CZ/M","FL 2023 - Kombi",{"$f":"VLOOKUP(F1288,Soutez!A:B,2,FALSE)","v":"CZ"},{"$f":"VLOOKUP(F1288,Soutez!A:C,3,FALSE)","v":2023},12,0,0.91500000000000004,0,0,null,null,"Nimbus 3 25.5m","RF",""]
["Josef Novotny",{"$f":"VLOOKUP(A1289,Pilot,2,0)","v":1983},{"$f":"VLOOKUP(A1289,Pilot,5,0)","v":"M"},{"$f":"VLOOKUP(A1289,Pilot,3,0)","v":"Přibyslav"},{"$f":"VLOOKUP(A1289,Pilot,4,0)","v":"CZ/C2"},"JPJ 2023 - Klub",{"$f":"VLOOKUP(F1289,Soutez!A:B,2,FALSE)","v":"CZ"},{"$f":"VLOOKUP(F1289,Soutez!A:C,3,FALSE)","v":2023},1,2829,0.90500000000000003,{"$f":"ROUND(J1289/MAX($J$1289:$J$1328)*10000*0.7+(MAX($I$1289:$I$1328)-I1289)/(MAX($I$1289:$I$1328)-1)*10000*0.3,0)","v":10000},{"$f":"ROUND(K1289*L1289,0)","v":9050},"x",null,"Std. Cirrus","AW",""]
["Lukas Kriz",2003,"M","Křižanov","CZ/M","JPJ 2023 - Klub",{"$f":"VLOOKUP(F1290,Soutez!A:B,2,FALSE)","v":"CZ"},{"$f":"VLOOKUP(F1290,Soutez!A:C,3,FALSE)","v":2023},2,2819,0.90500000000000003,9898,{"$f":"ROUND(K1290*L1290,0)","v":8958},null,null,"LS-4","6L","Junior v roce 2025"]
["Jindrich Svorc",1978,"M","Letňany","CZ/C1","JPJ 2023 - Klub",{"$f":"VLOOKUP(F1291,Soutez!A:B,2,FALSE)","v":"CZ"},{"$f":"VLOOKUP(F1291,Soutez!A:C,3,FALSE)","v":2023},3,2794,0.90500000000000003,9760,8833,"x",null,"Std. Cirrus","IMI",""]
["Rene Hudak",1972,"M","Kunovice","CZ/M","JPJ 2023 - Klub",{"$f":"VLOOKUP(F1292,Soutez!A:B,2,FALSE)","v":"CZ"},{"$f":"VLOOKUP(F1292,Soutez!A:C,3,FALSE)","v":2023},4,2696,0.90500000000000003,9440,8543,"x",null,"Std. Cirrus WL","NK",""]
["Michal Cechmanek",1978,"M","Kroměříž","CZ/M","JPJ 2023 - Klub",{"$f":"VLOOKUP(F1293,Soutez!A:B,2,FALSE)","v":"CZ"},{"$f":"VLOOKUP(F1293,Soutez!A:C,3,FALSE)","v":2023},5,2643,0.90500000000000003,9232,8355,"x",null,"ASW-20 (A)+L+F 15m","MK",""]
["Jiri Prochazka",1971,"M","Toužim","CZ/C1","JPJ 2023 - Klub",{"$f":"VLOOKUP(F1294,Soutez!A:B,2,FALSE)","v":"CZ"},{"$f":"VLOOKUP(F1294,Soutez!A:C,3,FALSE)","v":2023},6,2624,0.90500000000000003,9108,8243,"x",null,"Janus CM pevný podv.","J59",""]
["Zdenek Balcarek",1967,"M","Kroměříž","CZ/M","JPJ 2023 - Klub",{"$f":"VLOOKUP(F1295,Soutez!A:B,2,FALSE)","v":"CZ"},{"$f":"VLOOKUP(F1295,Soutez!A:C,3,FALSE)","v":2023},7,2581,0.90500000000000003,8925,8077,"x",null,"Discus b","AI",""]
["Josef Novak",1981,"M","Kunovice","CZ/M","JPJ 2023 - Klub",{"$f":"VLOOKUP(F1296,Soutez!A:B,2,FALSE)","v":"CZ"},{"$f":"VLOOKUP(F1296,Soutez!A:C,3,FALSE)","v":2023},8,2576,0.90500000000000003,8836,7997,"x",null,"Discus CS","CS",""]
["Antonin Novotny",1972,"M","Luhačovice","CZ/M","JPJ 2023 - Klub",{"$f":"VLOOKUP(F1297,Soutez!A:B,2,FALSE)","v":"CZ"},{"$f":"VLOOKUP(F1297,Soutez!A:C,3,FALSE)","v":2023},9,2558,0.90500000000000003,8714,7886,"x",null,"Std. Cirrus","SJ",""]
["Jaroslav Buryan",1953,"M","Zábřeh","CZ/M","JPJ 2023 - Klub",{"$f":"VLOOKUP(F1298,Soutez!A:B,2,FALSE)","v":"CZ"},{"$f":"VLOOKUP(F1298,Soutez!A:C,3,FALSE)","v":2023},10,2553,0.90500000000000003,8625,7806,"x",null,"ASW-20 (A)+L+F 15m","NS",""]
["Rostislav Stryk",1972,"M","Frýdlant","CZ/M","JPJ 2023 - Klub",{"$f":"VLOOKUP(F1299,Soutez!A:B,2,FALSE)","v":"CZ"},{"$f":"VLOOKUP(F1299,Soutez!A:C,3,FALSE)","v":2023},11,2483,0.90500000000000003,8375,7579,"x",null,"Std. Cirrus",22,""]
["Martin Urner",1974,"M","Letňany","CZ/C1","JPJ 2023 - Klub",{"$f":"VLOOKUP(F1300,Soutez!A:B,2,FALSE)","v":"CZ"},{"$f":"VLOOKUP(F1300,Soutez!A:C,3,FALSE)","v":2023},12,2428,0.90500000000000003,8162,7387,"x",null,"ASW-15B","JJ",""]
["Martin Kriz",1968,"M","Přibyslav","CZ/C2","JPJ 2023 - Klub",{"$f":"VLOOKUP(F1301,Soutez!A:B,2,FALSE)","v":"CZ"},{"$f":"VLOOKUP(F1301,Soutez!A:C,3,FALSE)","v":2023},13,2354,0.90500000000000003,7902,7151,"x",null,"ASW-20 (A)+L+F 15m",67,""]
["Jan Zezula",1979,"M","Letňany","CZ/C1","JPJ 2023 - Klub",{"$f":"VLOOKUP(F1302,Soutez!A:B,2,FALSE)","v":"CZ"},{"$f":"VLOOKUP(F1302,Soutez!A:C,3,FALSE)","v":2023},14,2331,0.90500000000000003,7768,7030,"x",null,"ASW-19B","HD",""]
["Jan Podhrazsky",1976,"M","Šumperk","CZ/M","JPJ 2023 - Klub",{"$f":"VLOOKUP(F1303,Soutez!A:B,2,FALSE)","v":"CZ"},{"$f":"VLOOKUP(F1303,Soutez!A:C,3,FALSE)","v":2023},15,2284,0.90500000000000003,7575,6855,"x",null,"Discus b","SJP",""]
["Martin Ficnar",1971,"M","Šumperk","CZ/M","JPJ 2023 - Klub",{"$f":"VLOOKUP(F1304,Soutez!A:B,2,FALSE)","v":"CZ"},{"$f":"VLOOKUP(F1304,Soutez!A:C,3,FALSE)","v":2023},16,2282,0.90500000000000003,7493,6781,"x",null,"LS-3a 15m","S20",""]
["Radim Sobek",1977,"M","Hranice","CZ/M","JPJ 2023 - Klub",{"$f":"VLOOKUP(F1305,Soutez!A:B,2,FALSE)","v":"CZ"},{"$f":"VLOOKUP(F1305,Soutez!A:C,3,FALSE)","v":2023},17,2235,0.90500000000000003,7299,6606,"x",null,"TST-10M Atlas",7,""]
["Petr Havrlant",1965,"M","Šumperk","CZ/M","JPJ 2023 - Klub",{"$f":"VLOOKUP(F1306,Soutez!A:B,2,FALSE)","v":"CZ"},{"$f":"VLOOKUP(F1306,Soutez!A:C,3,FALSE)","v":2023},18,2223,0.90500000000000003,7193,6510,"x",null,"ASW-15B","Q1",""]
["Martin Svarc",1981,"M","Olomouc","CZ/M","JPJ 2023 - Klub",{"$f":"VLOOKUP(F1307,Soutez!A:B,2,FALSE)","v":"CZ"},{"$f":"VLOOKUP(F1307,Soutez!A:C,3,FALSE)","v":2023},19,2219,0.90500000000000003,7106,6431,"x",null,"DG-101 G","HE",""]
["Karel Horalek",1976,"M","Olomouc","CZ/M","JPJ 2023 - Klub",{"$f":"VLOOKUP(F1308,Soutez!A:B,2,FALSE)","v":"CZ"},{"$f":"VLOOKUP(F1308,Soutez!A:C,3,FALSE)","v":2023},20,2139,0.90500000000000003,6831,6182,"x",null,"LS-3 15m","Y1",""]
["Stepan Obrovsky",1990,"M","Frýdlant","CZ/M","JPJ 2023 - Klub",{"$f":"VLOOKUP(F1309,Soutez!A:B,2,FALSE)","v":"CZ"},{"$f":"VLOOKUP(F1309,Soutez!A:C,3,FALSE)","v":2023},21,1956,0.90500000000000003,6301,5702,"x",null,"LS-1f","EM",""]
["Jakub Kohn",1992,"M","Prostějov","CZ/M","JPJ 2023 - Klub",{"$f":"VLOOKUP(F1310,Soutez!A:B,2,FALSE)","v":"CZ"},{"$f":"VLOOKUP(F1310,Soutez!A:C,3,FALSE)","v":2023},22,1950,0.90500000000000003,6210,{"$f":"ROUND(K1310*L1310,0)","v":5620},"x",null,"ASW-15B","FK",""]
["Martin Hejny",1984,"M","Šumperk","CZ/M","JPJ 2023 - Klub",{"$f":"VLOOKUP(F1311,Soutez!A:B,2,FALSE)","v":"CZ"},{"$f":"VLOOKUP(F1311,Soutez!A:C,3,FALSE)","v":2023},23,1945,0.90500000000000003,6120,5539,"x",null,"ASW-19B","B8",""]
["Petr Lonsky",1965,"M","Toužim","CZ/C1","JPJ 2023 - Klub",{"$f":"VLOOKUP(F1312,Soutez!A:B,2,FALSE)","v":"CZ"},{"$f":"VLOOKUP(F1312,Soutez!A:C,3,FALSE)","v":2023},24,1887,0.90500000000000003,5900,5340,"x",null,"Cirrus","JP",""]
["Jan Florian",1992,"M","Zbraslavice","CZ/C1","JPJ 2023 - Klub",{"$f":"VLOOKUP(F1313,Soutez!A:B,2,FALSE)","v":"CZ"},{"$f":"VLOOKUP(F1313,Soutez!A:C,3,FALSE)","v":2023},25,1863,0.90500000000000003,5764,5216,null,null,"Std. Cirrus","C1",""]
["Jiri Koudela",1974,"M","Vyškov","CZ/M","JPJ 2023 - Klub",{"$f":"VLOOKUP(F1314,Soutez!A:B,2,FALSE)","v":"CZ"},{"$f":"VLOOKUP(F1314,Soutez!A:C,3,FALSE)","v":2023},26,1802,0.90500000000000003,5536,5010,null,null,"ASW-19B","JK",""]
["Radim Tomala",1972,"M","Prostějov","CZ/M","JPJ 2023 - Klub",{"$f":"VLOOKUP(F1315,Soutez!A:B,2,FALSE)","v":"CZ"},{"$f":"VLOOKUP(F1315,Soutez!A:C,3,FALSE)","v":2023},27,1640,0.90500000000000003,5058,4577,"x",null,"Std. Cirrus","RT",""]
["Roman Schotli",1970,"M","Hranice","CZ/M","JPJ 2023 - Klub",{"$f":"VLOOKUP(F1316,Soutez!A:B,2,FALSE)","v":"CZ"},{"$f":"VLOOKUP(F1316,Soutez!A:C,3,FALSE)","v":2023},28,1591,0.90500000000000003,4860,4398,"x",null,"ASW-19B",19,""]
["Petr Masik",2001,"M","Zábřeh","CZ/M","JPJ 2023 - Klub",{"$f":"VLOOKUP(F1317,Soutez!A:B,2,FALSE)","v":"CZ"},{"$f":"VLOOKUP(F1317,Soutez!A:C,3,FALSE)","v":2023},29,1590,0.90500000000000003,4780,4326,null,null,"Std. Cirrus","MJ","Junior v roce 2025"]
["Jaromir Vlk",1959,"M","Šumperk","CZ/M","JPJ 2023 - Klub",{"$f":"VLOOKUP(F1318,Soutez!A:B,2,FALSE)","v":"CZ"},{"$f":"VLOOKUP(F1318,Soutez!A:C,3,FALSE)","v":2023},30,1492,0.90500000000000003,4461,4037,"x",null,"ASW-15B","R5",{"$f":"IF(ISERROR(VLOOKUP(A1318,Pilot,6,0)),\"Není v databázi\",VLOOKUP(A1318,Pilot,6,0))","v":""}]
["Petr Kolomaznik",1981,"M","Šumperk","CZ/M","JPJ 2023 - Klub",{"$f":"VLOOKUP(F1319,Soutez!A:B,2,FALSE)","v":"CZ"},{"$f":"VLOOKUP(F1319,Soutez!A:C,3,FALSE)","v":2023},31,1162,0.90500000000000003,3568,3229,"x",null,"Discus CS","VE",""]
["Adam Sugl",1987,"M","Vyškov","CZ/M","JPJ 2023 - Klub",{"$f":"VLOOKUP(F1320,Soutez!A:B,2,FALSE)","v":"CZ"},{"$f":"VLOOKUP(F1320,Soutez!A:C,3,FALSE)","v":2023},32,1034,0.90500000000000003,3174,2872,null,null,"Std. Cirrus","GT",""]
["Yvona Vyhnankova",1963,"F","Olomouc","CZ/M","JPJ 2023 - Klub",{"$f":"VLOOKUP(F1321,Soutez!A:B,2,FALSE)","v":"CZ"},{"$f":"VLOOKUP(F1321,Soutez!A:C,3,FALSE)","v":2023},33,632,0.90500000000000003,2102,1902,"x","x","ASW-15","YZ",""]
["Jan Sobotka",{"$f":"VLOOKUP(A1322,Pilot,2,0)","v":1973},{"$f":"VLOOKUP(A1322,Pilot,5,0)","v":"M"},{"$f":"VLOOKUP(A1322,Pilot,3,0)","v":"Vyškov"},{"$f":"VLOOKUP(A1322,Pilot,4,0)","v":"CZ/M"},"JPJ 2023 - Klub",{"$f":"VLOOKUP(F1322,Soutez!A:B,2,FALSE)","v":"CZ"},{"$f":"VLOOKUP(F1322,Soutez!A:C,3,FALSE)","v":2023},34,498,0.90500000000000003,1694,1533,"x",null,"LS-1f","DP",""]
["Albert Schneider",1967,"M","Hranice","CZ/M","JPJ 2023 - Klub",{"$f":"VLOOKUP(F1323,Soutez!A:B,2,FALSE)","v":"CZ"},{"$f":"VLOOKUP(F1323,Soutez!A:C,3,FALSE)","v":2023},34,498,0.90500000000000003,1694,1533,"x",null,"Mini-Nimbus c","I",""]
["Radek Jaksa",1979,"M","Prostějov","CZ/M","JPJ 2023 - Klub",{"$f":"VLOOKUP(F1324,Soutez!A:B,2,FALSE)","v":"CZ"},{"$f":"VLOOKUP(F1324,Soutez!A:C,3,FALSE)","v":2023},36,325,0.90500000000000003,1112,1006,"x",null,"Std. Cirrus","ER",""]
["Lukas Zach",1987,"M","Vyškov","CZ/M","JPJ 2023 - Klub",{"$f":"VLOOKUP(F1325,Soutez!A:B,2,FALSE)","v":"CZ"},{"$f":"VLOOKUP(F1325,Soutez!A:C,3,FALSE)","v":2023},37,306,0.90500000000000003,988,894,"x",null,"G-102 Astir CS 77","AS",""]
["Michal Linhart",1982,"M","Vyškov","CZ/M","JPJ 2023 - Klub",{"$f":"VLOOKUP(F1326,Soutez!A:B,2,FALSE)","v":"CZ"},{"$f":"VLOOKUP(F1326,Soutez!A:C,3,FALSE)","v":2023},38,304,0.90500000000000003,906,820,"x",null,"DG-1001S 18m",66,""]
["Petr Omelka",1970,"M","Vyškov","CZ/M","JPJ 2023 - Klub",{"$f":"VLOOKUP(F1327,Soutez!A:B,2,FALSE)","v":"CZ"},{"$f":"VLOOKUP(F1327,Soutez!A:C,3,FALSE)","v":2023},39,298,0.90500000000000003,814,737,null,null,"DG-400 15m","MR",""]
["Ludek Mikl",1963,"M","Šumperk","CZ/M","JPJ 2023 - Klub",{"$f":"VLOOKUP(F1328,Soutez!A:B,2,FALSE)","v":"CZ"},{"$f":"VLOOKUP(F1328,Soutez!A:C,3,FALSE)","v":2023},40,59,0.90500000000000003,146,132,"x",null,"Std. Cirrus",16,""]
["Jiri Steiger",{"$f":"VLOOKUP(A1329,Pilot,2,0)","v":1969},{"$f":"VLOOKUP(A1329,Pilot,5,0)","v":"M"},{"$f":"VLOOKUP(A1329,Pilot,3,0)","v":"Olomouc"},{"$f":"VLOOKUP(A1329,Pilot,4,0)","v":"CZ/M"},"JPJ 2023 - Kombi",{"$f":"VLOOKUP(F1329,Soutez!A:B,2,FALSE)","v":"CZ"},{"$f":"VLOOKUP(F1329,Soutez!A:C,3,FALSE)","v":2023},1,2757,0.91500000000000004,{"$f":"ROUND(J1329/MAX($J$1329:$J$1347)*10000*0.7+(MAX($I$1329:$I$1347)-I1329)/(MAX($I$1329:$I$1347)-1)*10000*0.3,0)","v":10000},{"$f":"ROUND(K1329*L1329,0)","v":9150},"x",null,"Ventus 3M 18m","JS",""]
["Radek Hybl",1980,"M","Šumperk","CZ/M","JPJ 2023 - Kombi",{"$f":"VLOOKUP(F1330,Soutez!A:B,2,FALSE)","v":"CZ"},{"$f":"VLOOKUP(F1330,Soutez!A:C,3,FALSE)","v":2023},2,2733,0.91500000000000004,9772,{"$f":"ROUND(K1330*L1330,0)","v":8941},"x",null,"Ventus cm 17,6m","IHH",""]
["Frantisek Vancura",1966,"M","Hranice","CZ/M","JPJ 2023 - Kombi",{"$f":"VLOOKUP(F1331,Soutez!A:B,2,FALSE)","v":"CZ"},{"$f":"VLOOKUP(F1331,Soutez!A:C,3,FALSE)","v":2023},3,2597,0.91500000000000004,9260,8473,"x",null,"Nimbus 3T 24,5m WL 750kg","A1",""]
["Jan Simon",1970,"M","Kralupy","CZ/C1","JPJ 2023 - Kombi",{"$f":"VLOOKUP(F1332,Soutez!A:B,2,FALSE)","v":"CZ"},{"$f":"VLOOKUP(F1332,Soutez!A:C,3,FALSE)","v":2023},4,2254,0.91500000000000004,8223,7524,"x",null,"Duo Discus T 700kg","ZS",""]
["Zdenek Boruvka 54",1954,"M","Jičín","CZ/C2","JPJ 2023 - Kombi",{"$f":"VLOOKUP(F1333,Soutez!A:B,2,FALSE)","v":"CZ"},{"$f":"VLOOKUP(F1333,Soutez!A:C,3,FALSE)","v":2023},5,2251,0.91500000000000004,8049,7365,"x",null,"LS-8 15m","ZB",""]
["Zdenek Schenk",{"$f":"VLOOKUP(A1334,Pilot,2,0)","v":1972},{"$f":"VLOOKUP(A1334,Pilot,5,0)","v":"M"},{"$f":"VLOOKUP(A1334,Pilot,3,0)","v":"Hranice"},{"$f":"VLOOKUP(A1334,Pilot,4,0)","v":"CZ/M"},"JPJ 2023 - Kombi",{"$f":"VLOOKUP(F1334,Soutez!A:B,2,FALSE)","v":"CZ"},{"$f":"VLOOKUP(F1334,Soutez!A:C,3,FALSE)","v":2023},6,2164,{"$f":"VLOOKUP(F1334,Soutez,12,0)","v":0.91500000000000004},7661,7010,"x",null,"Ventus cm 17,6m","ŠNeK",""]
["Pavel Haluza",1966,"M","Prostějov","CZ/M","JPJ 2023 - Kombi",{"$f":"VLOOKUP(F1335,Soutez!A:B,2,FALSE)","v":"CZ"},{"$f":"VLOOKUP(F1335,Soutez!A:C,3,FALSE)","v":2023},7,1956,0.91500000000000004,6966,6374,"x",null,"Nimbus 2b","HT",""]
["Olga Mokosova",1970,"F","Jihlava","CZ/M","JPJ 2023 - Kombi",{"$f":"VLOOKUP(F1336,Soutez!A:B,2,FALSE)","v":"CZ"},{"$f":"VLOOKUP(F1336,Soutez!A:C,3,FALSE)","v":2023},8,1774,0.91500000000000004,6338,5799,"x","x","LS-6c 18m WL","MM",""]
["Beat Albrecht",1953,"M","Šumperk","CZ/M","JPJ 2023 - Kombi",{"$f":"VLOOKUP(F1337,Soutez!A:B,2,FALSE)","v":"CZ"},{"$f":"VLOOKUP(F1337,Soutez!A:C,3,FALSE)","v":2023},9,1661,0.91500000000000004,5884,5384,"x",null,"LS-8-18 18m","GL",""]
["Jan Dersak 69",{"$f":"VLOOKUP(A1338,Pilot,2,0)","v":1969},{"$f":"VLOOKUP(A1338,Pilot,5,0)","v":"M"},{"$f":"VLOOKUP(A1338,Pilot,3,0)","v":"Kralupy"},{"$f":"VLOOKUP(A1338,Pilot,4,0)","v":"CZ/C1"},"JPJ 2023 - Kombi",{"$f":"VLOOKUP(F1338,Soutez!A:B,2,FALSE)","v":"CZ"},{"$f":"VLOOKUP(F1338,Soutez!A:C,3,FALSE)","v":2023},10,1645,0.91500000000000004,5677,5194,null,null,"HpH 304MS SHARK 18m 600kg","DJ",""]
["Tomas Prikryl",{"$f":"VLOOKUP(A1339,Pilot,2,0)","v":1973},{"$f":"VLOOKUP(A1339,Pilot,5,0)","v":"M"},{"$f":"VLOOKUP(A1339,Pilot,3,0)","v":"Vyškov"},{"$f":"VLOOKUP(A1339,Pilot,4,0)","v":"CZ/M"},"JPJ 2023 - Kombi",{"$f":"VLOOKUP(F1339,Soutez!A:B,2,FALSE)","v":"CZ"},{"$f":"VLOOKUP(F1339,Soutez!A:C,3,FALSE)","v":2023},11,1632,0.91500000000000004,5477,5011,"x",null,"Ventus 2cm 18m 525kg","FN",""]
["Miroslav Sklenar",1964,"M","Žamberk","CZ/C2","JPJ 2023 - Kombi",{"$f":"VLOOKUP(F1340,Soutez!A:B,2,FALSE)","v":"CZ"},{"$f":"VLOOKUP(F1340,Soutez!A:C,3,FALSE)","v":2023},12,1559,0.91500000000000004,5125,4689,"x",null,"Duo Discus 700kg","VP",""]
["Lukas Petrzela",1987,"M","Olomouc","CZ/M","JPJ 2023 - Kombi",{"$f":"VLOOKUP(F1341,Soutez!A:B,2,FALSE)","v":"CZ"},{"$f":"VLOOKUP(F1341,Soutez!A:C,3,FALSE)","v":2023},13,1282,0.91500000000000004,4255,{"$f":"ROUND(K1341*L1341,0)","v":3893},"x",null,"Nimbus 2b","MT",""]
["Antonin Kutalek",1943,"M","Zábřeh","CZ/M","JPJ 2023 - Kombi",{"$f":"VLOOKUP(F1342,Soutez!A:B,2,FALSE)","v":"CZ"},{"$f":"VLOOKUP(F1342,Soutez!A:C,3,FALSE)","v":2023},14,1187,0.91500000000000004,3847,3520,"x",null,"LAK-17AT 18m","GLK",""]
["Miroslav Koci",1961,"M","Žamberk","CZ/C2","JPJ 2023 - Kombi",{"$f":"VLOOKUP(F1343,Soutez!A:B,2,FALSE)","v":"CZ"},{"$f":"VLOOKUP(F1343,Soutez!A:C,3,FALSE)","v":2023},15,1186,0.91500000000000004,3678,3365,null,null,"Ventus 2cxm 18m 565kg","E8",""]
["Vit Grossmann",1977,"M","Hranice","CZ/M","JPJ 2023 - Kombi",{"$f":"VLOOKUP(F1344,Soutez!A:B,2,FALSE)","v":"CZ"},{"$f":"VLOOKUP(F1344,Soutez!A:C,3,FALSE)","v":2023},16,1012,0.91500000000000004,3069,2808,"x",null,"Duo Discus 700kg","OK",""]
["Tomas Profeld",1964,"M","Jičín","CZ/C2","JPJ 2023 - Kombi",{"$f":"VLOOKUP(F1345,Soutez!A:B,2,FALSE)","v":"CZ"},{"$f":"VLOOKUP(F1345,Soutez!A:C,3,FALSE)","v":2023},17,861,0.91500000000000004,2519,2305,"x",null,"Ventus 2cm 18m 525kg","OZ",""]
["Vladimir Spilka",1940,"M","Hranice","CZ/M","JPJ 2023 - Kombi",{"$f":"VLOOKUP(F1346,Soutez!A:B,2,FALSE)","v":"CZ"},{"$f":"VLOOKUP(F1346,Soutez!A:C,3,FALSE)","v":2023},18,548,0.91500000000000004,1558,1426,"x",null,"Nimbus 2b","AY",""]
["Pavel Handl",1971,"M","Kroměříž","CZ/M","JPJ 2023 - Kombi",{"$f":"VLOOKUP(F1347,Soutez!A:B,2,FALSE)","v":"CZ"},{"$f":"VLOOKUP(F1347,Soutez!A:C,3,FALSE)","v":2023},19,217,0.91500000000000004,551,504,"x",null,"Ventus 2cm 18m 525kg","VJ",""]
["Pavel Rericha",{"$f":"VLOOKUP(A1348,Pilot,2,0)","v":1967},{"$f":"VLOOKUP(A1348,Pilot,5,0)","v":"M"},{"$f":"VLOOKUP(A1348,Pilot,3,0)","v":"Moravská Třebová"},{"$f":"VLOOKUP(A1348,Pilot,4,0)","v":"CZ/M"},"PMRg 2023 - Klub",{"$f":"VLOOKUP(F1348,Soutez!A:B,2,FALSE)","v":"CZ"},{"$f":"VLOOKUP(F1348,Soutez!A:C,3,FALSE)","v":2023},1,8730,0.93,{"$f":"ROUND(J1348/MAX($J$1348:$J$1361)*10000*0.7+(MAX($I$1348:$I$1361)-I1348)/(MAX($I$1348:$I$1361)-1)*10000*0.3,0)","v":10000},{"$f":"ROUND(K1348*L1348,0)","v":9300},"x",null,"ASW-19B","NO",""]
["Jan Louda",1986,"M","Mladá Boleslav","CZ/C1","PMRg 2023 - Klub",{"$f":"VLOOKUP(F1349,Soutez!A:B,2,FALSE)","v":"CZ"},{"$f":"VLOOKUP(F1349,Soutez!A:C,3,FALSE)","v":2023},2,8448,0.93,9543,{"$f":"ROUND(K1349*L1349,0)","v":8875},"x",null,"ASW-19","XS",""]
["Marek Svancara",1976,"M","GAC Benešov","CZ/C1","PMRg 2023 - Klub",{"$f":"VLOOKUP(F1350,Soutez!A:B,2,FALSE)","v":"CZ"},{"$f":"VLOOKUP(F1350,Soutez!A:C,3,FALSE)","v":2023},3,7660,0.93,8681,8073,"x",null,"Std. Cirrus","GT",""]
["Jan Smaha",1958,"M","Česká Lípa","CZ/C2","PMRg 2023 - Klub",{"$f":"VLOOKUP(F1351,Soutez!A:B,2,FALSE)","v":"CZ"},{"$f":"VLOOKUP(F1351,Soutez!A:C,3,FALSE)","v":2023},4,7225,0.93,8101,7534,"x",null,"ASW-15B","CW",""]
["Petr Rozhon",1972,"M","Hosín","CZ/C1","PMRg 2023 - Klub",{"$f":"VLOOKUP(F1352,Soutez!A:B,2,FALSE)","v":"CZ"},{"$f":"VLOOKUP(F1352,Soutez!A:C,3,FALSE)","v":2023},5,5980,0.93,6872,6391,"x",null,"VSO-10",9,""]
["Pavel Koudelka",1973,"M","Křižanov","CZ/M","PMRg 2023 - Klub",{"$f":"VLOOKUP(F1353,Soutez!A:B,2,FALSE)","v":"CZ"},{"$f":"VLOOKUP(F1353,Soutez!A:C,3,FALSE)","v":2023},6,5915,0.93,6589,6128,"x",null,"STD. Cirrus","ZL",""]
["Jiri Krofta",1988,"M","Hosín","CZ/C1","PMRg 2023 - Klub",{"$f":"VLOOKUP(F1354,Soutez!A:B,2,FALSE)","v":"CZ"},{"$f":"VLOOKUP(F1354,Soutez!A:C,3,FALSE)","v":2023},7,5909,0.93,6353,5908,"x",null,"Std. Cirrus","UY",""]
["Michal Vranek",1993,"M","Hosín","CZ/C1","PMRg 2023 - Klub",{"$f":"VLOOKUP(F1355,Soutez!A:B,2,FALSE)","v":"CZ"},{"$f":"VLOOKUP(F1355,Soutez!A:C,3,FALSE)","v":2023},8,5599,0.93,5874,5463,"x",null,"DG-100","8W",""]
["Miloslav Hulmak",1963,"M","Hosín","CZ/C1","PMRg 2023 - Klub",{"$f":"VLOOKUP(F1356,Soutez!A:B,2,FALSE)","v":"CZ"},{"$f":"VLOOKUP(F1356,Soutez!A:C,3,FALSE)","v":2023},9,4969,0.93,5138,4778,null,null,"ASW-15B","HH",""]
["Daniel Marek",{"$f":"VLOOKUP(A1357,Pilot,2,0)","v":1983},{"$f":"VLOOKUP(A1357,Pilot,5,0)","v":"M"},{"$f":"VLOOKUP(A1357,Pilot,3,0)","v":"Hosín"},{"$f":"VLOOKUP(A1357,Pilot,4,0)","v":"CZ/C1"},"PMRg 2023 - Klub",{"$f":"VLOOKUP(F1357,Soutez!A:B,2,FALSE)","v":"CZ"},{"$f":"VLOOKUP(F1357,Soutez!A:C,3,FALSE)","v":2023},10,4846,0.93,4809,4472,"x",null,"Std. Cirrus","XII",""]
["Frantisek Suna",1983,"M","Hosín","CZ/C1","PMRg 2023 - Klub",{"$f":"VLOOKUP(F1358,Soutez!A:B,2,FALSE)","v":"CZ"},{"$f":"VLOOKUP(F1358,Soutez!A:C,3,FALSE)","v":2023},11,4331,0.93,4165,{"$f":"ROUND(K1358*L1358,0)","v":3873},null,null,"DG-100",78,""]
["Radoslav Pur",1973,"M","Hosín","CZ/C1","PMRg 2023 - Klub",{"$f":"VLOOKUP(F1359,Soutez!A:B,2,FALSE)","v":"CZ"},{"$f":"VLOOKUP(F1359,Soutez!A:C,3,FALSE)","v":2023},12,3358,0.93,3154,2933,null,null,"DG-200","EK",""]
["Jiri Holcman",1976,"M","Hosín","CZ/C1","PMRg 2023 - Klub",{"$f":"VLOOKUP(F1360,Soutez!A:B,2,FALSE)","v":"CZ"},{"$f":"VLOOKUP(F1360,Soutez!A:C,3,FALSE)","v":2023},13,2234,0.93,2022,1880,"x",null,"ASW-19","BO",""]
["Petr Sochor",1986,"M","Hosín","CZ/C1","PMRg 2023 - Klub",{"$f":"VLOOKUP(F1361,Soutez!A:B,2,FALSE)","v":"CZ"},{"$f":"VLOOKUP(F1361,Soutez!A:C,3,FALSE)","v":2023},14,0,0.93,0,0,null,null,"ASW-15B","6Y",""]
["Lukas Kriz",{"$f":"VLOOKUP(A1362,Pilot,2,0)","v":2003},{"$f":"VLOOKUP(A1362,Pilot,5,0)","v":"M"},{"$f":"VLOOKUP(A1362,Pilot,3,0)","v":"Křižanov"},{"$f":"VLOOKUP(A1362,Pilot,4,0)","v":"CZ/M"},"PMRg, PMČRj 2023 - Kombi",{"$f":"VLOOKUP(F1362,Soutez!A:B,2,FALSE)","v":"CZ"},{"$f":"VLOOKUP(F1362,Soutez!A:C,3,FALSE)","v":2023},1,9417,0.95000000000000007,{"$f":"ROUND(J1362/MAX($J$1362:$J$1372)*10000*0.7+(MAX($I$1362:$I$1372)-I1362)/(MAX($I$1362:$I$1372)-1)*10000*0.3,0)","v":10000},{"$f":"ROUND(K1362*L1362,0)","v":9500},null,null,"LS 8 15m","AU","Junior v roce 2025"]
["Jaromir Macoun",1999,"M","Jičín","CZ/C2","PMRg, PMČRj 2023 - Kombi",{"$f":"VLOOKUP(F1363,Soutez!A:B,2,FALSE)","v":"CZ"},{"$f":"VLOOKUP(F1363,Soutez!A:C,3,FALSE)","v":2023},2,9221,0.95000000000000007,9554,{"$f":"ROUND(K1363*L1363,0)","v":9076},null,null,"LS 8A","EU",""]
["Josef Busek",1967,"M","Hosín","CZ/C1","PMRg, PMČRj 2023 - Kombi",{"$f":"VLOOKUP(F1364,Soutez!A:B,2,FALSE)","v":"CZ"},{"$f":"VLOOKUP(F1364,Soutez!A:C,3,FALSE)","v":2023},3,8601,0.95000000000000007,8793,8353,"x",null,"Duo Discus","BB",""]
["Theo Manfredi",null,null,"Association Aéronautique du Val d\\'Oise",null,"PMRg, PMČRj 2023 - Kombi",{"$f":"VLOOKUP(F1365,Soutez!A:B,2,FALSE)","v":"CZ"},{"$f":"VLOOKUP(F1365,Soutez!A:C,3,FALSE)","v":2023},4,7258,0.95000000000000007,7495,7120,null,null,"LAK-17A WL 15m","LE","Není v databázi"]
["Jaromir Pauer",{"$f":"VLOOKUP(A1366,Pilot,2,0)","v":1974},{"$f":"VLOOKUP(A1366,Pilot,5,0)","v":"M"},{"$f":"VLOOKUP(A1366,Pilot,3,0)","v":"Hosín"},{"$f":"VLOOKUP(A1366,Pilot,4,0)","v":"CZ/C1"},"PMRg, PMČRj 2023 - Kombi",{"$f":"VLOOKUP(F1366,Soutez!A:B,2,FALSE)","v":"CZ"},{"$f":"VLOOKUP(F1366,Soutez!A:C,3,FALSE)","v":2023},5,6880,0.95000000000000007,6914,6568,"x",null,"Ventus B 16.6m WL","7F",""]
["Michael Fik",1972,"M","Strakonice","CZ/C1","PMRg, PMČRj 2023 - Kombi",{"$f":"VLOOKUP(F1367,Soutez!A:B,2,FALSE)","v":"CZ"},{"$f":"VLOOKUP(F1367,Soutez!A:C,3,FALSE)","v":2023},6,6702,0.95000000000000007,6482,6158,"x",null,"Ventus 2c","ZR",""]
["Karel Mares",1974,"M","Slaný","CZ/C1","PMRg, PMČRj 2023 - Kombi",{"$f":"VLOOKUP(F1368,Soutez!A:B,2,FALSE)","v":"CZ"},{"$f":"VLOOKUP(F1368,Soutez!A:C,3,FALSE)","v":2023},7,5894,0.95000000000000007,5581,5302,"x",null,"Duo Discus XT","DD",""]
["Radek Zima 78",1978,"M","Hodkovice","CZ/C2","PMRg, PMČRj 2023 - Kombi",{"$f":"VLOOKUP(F1369,Soutez!A:B,2,FALSE)","v":"CZ"},{"$f":"VLOOKUP(F1369,Soutez!A:C,3,FALSE)","v":2023},8,5577,0.95000000000000007,5046,4794,null,null,"DG 500 22m","YA",""]
["Peter Janoska",null,null,"Nitra",null,"PMRg, PMČRj 2023 - Kombi",{"$f":"VLOOKUP(F1370,Soutez!A:B,2,FALSE)","v":"CZ"},{"$f":"VLOOKUP(F1370,Soutez!A:C,3,FALSE)","v":2023},9,4662,0.95000000000000007,4065,{"$f":"ROUND(K1370*L1370,0)","v":3862},null,null,"LS 6C /17,5m","N6","Není v databázi"]
["Michal Hemrle",{"$f":"VLOOKUP(A1371,Pilot,2,0)","v":1974},{"$f":"VLOOKUP(A1371,Pilot,5,0)","v":"M"},{"$f":"VLOOKUP(A1371,Pilot,3,0)","v":"Česká Lípa"},{"$f":"VLOOKUP(A1371,Pilot,4,0)","v":"CZ/C2"},"PMRg, PMČRj 2023 - Kombi",{"$f":"VLOOKUP(F1371,Soutez!A:B,2,FALSE)","v":"CZ"},{"$f":"VLOOKUP(F1371,Soutez!A:C,3,FALSE)","v":2023},10,4036,0.95000000000000007,3300,3135,"x",null,"ASG 29 Es 18m","ET",""]
["Tomas Vaclavik",{"$f":"VLOOKUP(A1372,Pilot,2,0)","v":1974},{"$f":"VLOOKUP(A1372,Pilot,5,0)","v":"M"},{"$f":"VLOOKUP(A1372,Pilot,3,0)","v":"Hosín"},{"$f":"VLOOKUP(A1372,Pilot,4,0)","v":"CZ/C1"},"PMRg, PMČRj 2023 - Kombi",{"$f":"VLOOKUP(F1372,Soutez!A:B,2,FALSE)","v":"CZ"},{"$f":"VLOOKUP(F1372,Soutez!A:C,3,FALSE)","v":2023},11,1238,0.95000000000000007,920,874,"x",null,"LAK-12",12,""]
["Vit Morkovsky",{"$f":"VLOOKUP(A1373,Pilot,2,0)","v":2000},{"$f":"VLOOKUP(A1373,Pilot,5,0)","v":"M"},{"$f":"VLOOKUP(A1373,Pilot,3,0)","v":"Polička"},{"$f":"VLOOKUP(A1373,Pilot,4,0)","v":"CZ/C2"},"PMČRj 2023 - Klub",{"$f":"VLOOKUP(F1373,Soutez!A:B,2,FALSE)","v":"CZ"},{"$f":"VLOOKUP(F1373,Soutez!A:C,3,FALSE)","v":2023},1,8171,0.94000000000000006,{"$f":"ROUND(J1373/MAX($J$1373:$J$1397)*10000*0.7+(MAX($I$1373:$I$1397)-I1373)/(MAX($I$1373:$I$1397)-1)*10000*0.3,0)","v":10000},{"$f":"ROUND(K1373*L1373,0)","v":9400},"x",null,"ASW 24 WL /no TN8","SM","Junior v roce 2025"]
["Jan Stastny",2003,"M","Medlánky","CZ/M","PMČRj 2023 - Klub",{"$f":"VLOOKUP(F1374,Soutez!A:B,2,FALSE)","v":"CZ"},{"$f":"VLOOKUP(F1374,Soutez!A:C,3,FALSE)","v":2023},2,8092,0.94000000000000006,9807,{"$f":"ROUND(K1374*L1374,0)","v":9219},"x",null,"ASW-20 A L","CP","Junior v roce 2025"]
["Alexandre Fierain",null,null,"Abbeville",null,"PMČRj 2023 - Klub",{"$f":"VLOOKUP(F1375,Soutez!A:B,2,FALSE)","v":"CZ"},{"$f":"VLOOKUP(F1375,Soutez!A:C,3,FALSE)","v":2023},3,7868,0.94000000000000006,9490,8921,null,null,"ASW-20 A WL","WE","Není v databázi"]
["Vladimir Hammer",{"$f":"VLOOKUP(A1376,Pilot,2,0)","v":2000},{"$f":"VLOOKUP(A1376,Pilot,5,0)","v":"M"},{"$f":"VLOOKUP(A1376,Pilot,3,0)","v":"Letkov"},{"$f":"VLOOKUP(A1376,Pilot,4,0)","v":"CZ/C1"},"PMČRj 2023 - Klub",{"$f":"VLOOKUP(F1376,Soutez!A:B,2,FALSE)","v":"CZ"},{"$f":"VLOOKUP(F1376,Soutez!A:C,3,FALSE)","v":2023},4,7641,0.94000000000000006,9171,8621,"x",null,"ASW-20A","WX","Junior v roce 2025"]
["Tomas Hynek",2002,"M","Dvůr Králové","CZ/C2","PMČRj 2023 - Klub",{"$f":"VLOOKUP(F1377,Soutez!A:B,2,FALSE)","v":"CZ"},{"$f":"VLOOKUP(F1377,Soutez!A:C,3,FALSE)","v":2023},5,7465,0.94000000000000006,8895,8361,"x",null,"ASW-20 C L","VW","Junior v roce 2025"]
["Jan Beran",1999,"M","Kladno","CZ/C1","PMČRj 2023 - Klub",{"$f":"VLOOKUP(F1378,Soutez!A:B,2,FALSE)","v":"CZ"},{"$f":"VLOOKUP(F1378,Soutez!A:C,3,FALSE)","v":2023},6,7359,0.94000000000000006,8679,8158,"x",null,"ASW-19B","HB",{"$f":"IF(ISERROR(VLOOKUP(A1378,Pilot,6,0)),\"Není v databázi\",VLOOKUP(A1378,Pilot,6,0))","v":""}]
["Victor Mallick",null,null,"Sarreguemines",null,"PMČRj 2023 - Klub",{"$f":"VLOOKUP(F1379,Soutez!A:B,2,FALSE)","v":"CZ"},{"$f":"VLOOKUP(F1379,Soutez!A:C,3,FALSE)","v":2023},7,7077,0.94000000000000006,8313,7814,null,null,"LS-8 A","ZZ","Není v databázi"]
["Lukas Maly",{"$f":"VLOOKUP(A1380,Pilot,2,0)","v":1998},{"$f":"VLOOKUP(A1380,Pilot,5,0)","v":"M"},{"$f":"VLOOKUP(A1380,Pilot,3,0)","v":"Vysoké Mýto"},{"$f":"VLOOKUP(A1380,Pilot,4,0)","v":"CZ/C2"},"PMČRj 2023 - Klub",{"$f":"VLOOKUP(F1380,Soutez!A:B,2,FALSE)","v":"CZ"},{"$f":"VLOOKUP(F1380,Soutez!A:C,3,FALSE)","v":2023},8,6831,0.94000000000000006,7977,7498,"x",null,"Discus cs",65,""]
["Gaël Pischedda",null,null,"Vinon",null,"PMČRj 2023 - Klub",{"$f":"VLOOKUP(F1381,Soutez!A:B,2,FALSE)","v":"CZ"},{"$f":"VLOOKUP(F1381,Soutez!A:C,3,FALSE)","v":2023},9,6802,0.94000000000000006,7827,7357,null,null,"LS 4",73,"Není v databázi"]
["Stepan Bartos",{"$f":"VLOOKUP(A1382,Pilot,2,0)","v":2004},{"$f":"VLOOKUP(A1382,Pilot,5,0)","v":"M"},{"$f":"VLOOKUP(A1382,Pilot,3,0)","v":"Kolín"},{"$f":"VLOOKUP(A1382,Pilot,4,0)","v":"CZ/C1"},"PMČRj 2023 - Klub",{"$f":"VLOOKUP(F1382,Soutez!A:B,2,FALSE)","v":"CZ"},{"$f":"VLOOKUP(F1382,Soutez!A:C,3,FALSE)","v":2023},10,6690,0.94000000000000006,7606,7150,"x",null,"DG-300 ELAN WL RG","DG","Junior v roce 2025"]
["Stepan Filakovsky",{"$f":"VLOOKUP(A1383,Pilot,2,0)","v":2005},{"$f":"VLOOKUP(A1383,Pilot,5,0)","v":"M"},{"$f":"VLOOKUP(A1383,Pilot,3,0)","v":"Medlánky"},{"$f":"VLOOKUP(A1383,Pilot,4,0)","v":"CZ/M"},"PMČRj 2023 - Klub",{"$f":"VLOOKUP(F1383,Soutez!A:B,2,FALSE)","v":"CZ"},{"$f":"VLOOKUP(F1383,Soutez!A:C,3,FALSE)","v":2023},11,6270,0.94000000000000006,7121,6694,"x",null,"LS-1 F","FD","Junior v roce 2025"]
["Theo Napoleon",null,null,"AVCASA",null,"PMČRj 2023 - Klub",{"$f":"VLOOKUP(F1384,Soutez!A:B,2,FALSE)","v":"CZ"},{"$f":"VLOOKUP(F1384,Soutez!A:C,3,FALSE)","v":2023},12,6077,0.94000000000000006,6831,6421,null,null,"ASW-24 WL /w TN8",57,"Není v databázi"]
["Matej Bartos",{"$f":"VLOOKUP(A1385,Pilot,2,0)","v":1998},{"$f":"VLOOKUP(A1385,Pilot,5,0)","v":"M"},{"$f":"VLOOKUP(A1385,Pilot,3,0)","v":"Hodkovice"},{"$f":"VLOOKUP(A1385,Pilot,4,0)","v":"CZ/C2"},"PMČRj 2023 - Klub",{"$f":"VLOOKUP(F1385,Soutez!A:B,2,FALSE)","v":"CZ"},{"$f":"VLOOKUP(F1385,Soutez!A:C,3,FALSE)","v":2023},13,5505,0.94000000000000006,6216,5843,"x",null,"ASW-19B","XP",""]
["Vojtech Vach 03",{"$f":"VLOOKUP(A1386,Pilot,2,0)","v":2003},{"$f":"VLOOKUP(A1386,Pilot,5,0)","v":"M"},{"$f":"VLOOKUP(A1386,Pilot,3,0)","v":"Vrchlabí"},{"$f":"VLOOKUP(A1386,Pilot,4,0)","v":"CZ/C2"},"PMČRj 2023 - Klub",{"$f":"VLOOKUP(F1386,Soutez!A:B,2,FALSE)","v":"CZ"},{"$f":"VLOOKUP(F1386,Soutez!A:C,3,FALSE)","v":2023},14,5481,0.94000000000000006,6071,{"$f":"ROUND(K1386*L1386,0)","v":5707},"x",null,"Std. Cirrus","YU","Junior v roce 2025"]
["Petr Masik",2001,"M","Zábřeh","CZ/M","PMČRj 2023 - Klub",{"$f":"VLOOKUP(F1387,Soutez!A:B,2,FALSE)","v":"CZ"},{"$f":"VLOOKUP(F1387,Soutez!A:C,3,FALSE)","v":2023},15,5335,0.94000000000000006,5820,5471,"x",null,"Std.Cirrus","MJ","Junior v roce 2025"]
["Tibor Hezina",2002,"M","Křižanov","CZ/M","PMČRj 2023 - Klub",{"$f":"VLOOKUP(F1388,Soutez!A:B,2,FALSE)","v":"CZ"},{"$f":"VLOOKUP(F1388,Soutez!A:C,3,FALSE)","v":2023},16,5147,0.94000000000000006,5534,5202,"x",null,"Std. Cirrus","IJ","Junior v roce 2025"]
["Katerina Vancurova",2002,"F","Hranice","CZ/M","PMČRj 2023 - Klub",{"$f":"VLOOKUP(F1389,Soutez!A:B,2,FALSE)","v":"CZ"},{"$f":"VLOOKUP(F1389,Soutez!A:C,3,FALSE)","v":2023},17,5082,0.94000000000000006,5354,5033,"x","x","Discus cs","HD","Junior v roce 2025"]
["Martin Stastny",2005,"M","Medlánky","CZ/M","PMČRj 2023 - Klub",{"$f":"VLOOKUP(F1390,Soutez!A:B,2,FALSE)","v":"CZ"},{"$f":"VLOOKUP(F1390,Soutez!A:C,3,FALSE)","v":2023},18,5021,0.94000000000000006,5176,4865,"x",null,"Std. Cirrus","CX","Junior v roce 2025"]
["Jan Svestka",2005,"M","Křižanov","CZ/M","PMČRj 2023 - Klub",{"$f":"VLOOKUP(F1391,Soutez!A:B,2,FALSE)","v":"CZ"},{"$f":"VLOOKUP(F1391,Soutez!A:C,3,FALSE)","v":2023},19,4989,0.94000000000000006,5024,4723,"x",null,"Std. Cirrus","EJ","Junior v roce 2025"]
["Eliska Kudejova",{"$f":"VLOOKUP(A1392,Pilot,2,0)","v":2006},{"$f":"VLOOKUP(A1392,Pilot,5,0)","v":"F"},{"$f":"VLOOKUP(A1392,Pilot,3,0)","v":"Strakonice"},{"$f":"VLOOKUP(A1392,Pilot,4,0)","v":"CZ/C1"},"PMČRj 2023 - Klub",{"$f":"VLOOKUP(F1392,Soutez!A:B,2,FALSE)","v":"CZ"},{"$f":"VLOOKUP(F1392,Soutez!A:C,3,FALSE)","v":2023},20,4572,0.94000000000000006,4542,4269,null,null,"DG-101","JL","Junior v roce 2025"]
["Tim Raasch",2000,"M","Polička","CZ/C2","PMČRj 2023 - Klub",{"$f":"VLOOKUP(F1393,Soutez!A:B,2,FALSE)","v":"CZ"},{"$f":"VLOOKUP(F1393,Soutez!A:C,3,FALSE)","v":2023},21,4232,0.94000000000000006,4126,3878,"x",null,"ASW-28","RC","Junior v roce 2025"]
["Fabian Curda",2004,"M","Zábřeh","CZ/M","PMČRj 2023 - Klub",{"$f":"VLOOKUP(F1394,Soutez!A:B,2,FALSE)","v":"CZ"},{"$f":"VLOOKUP(F1394,Soutez!A:C,3,FALSE)","v":2023},22,3996,0.94000000000000006,3798,3570,"x",null,"DG-300 ELAN RG","U7","Junior v roce 2025"]
["Adam Hepal",{"$f":"VLOOKUP(A1395,Pilot,2,0)","v":2004},{"$f":"VLOOKUP(A1395,Pilot,5,0)","v":"M"},{"$f":"VLOOKUP(A1395,Pilot,3,0)","v":"Moravská Třebová"},{"$f":"VLOOKUP(A1395,Pilot,4,0)","v":"CZ/M"},"PMČRj 2023 - Klub",{"$f":"VLOOKUP(F1395,Soutez!A:B,2,FALSE)","v":"CZ"},{"$f":"VLOOKUP(F1395,Soutez!A:C,3,FALSE)","v":2023},23,3519,0.94000000000000006,3265,3069,null,null,"ASW-19B","AE","Junior v roce 2025"]
["Vojtech Pavek",2000,"M","Medlánky","CZ/M","PMČRj 2023 - Klub",{"$f":"VLOOKUP(F1396,Soutez!A:B,2,FALSE)","v":"CZ"},{"$f":"VLOOKUP(F1396,Soutez!A:C,3,FALSE)","v":2023},24,3425,0.94000000000000006,3059,2875,"x",null,"Std.Cirrus","MP","Junior v roce 2025"]
["Marie Vesela",{"$f":"VLOOKUP(A1397,Pilot,2,0)","v":1999},{"$f":"VLOOKUP(A1397,Pilot,5,0)","v":"F"},{"$f":"VLOOKUP(A1397,Pilot,3,0)","v":"Staňkov"},{"$f":"VLOOKUP(A1397,Pilot,4,0)","v":"CZ/C1"},"PMČRj 2023 - Klub",{"$f":"VLOOKUP(F1397,Soutez!A:B,2,FALSE)","v":"CZ"},{"$f":"VLOOKUP(F1397,Soutez!A:C,3,FALSE)","v":2023},25,597,0.94000000000000006,511,480,"x","x","Discus B","IJK",""]
["Radim Sobek",{"$f":"VLOOKUP(A1398,Pilot,2,0)","v":1977},{"$f":"VLOOKUP(A1398,Pilot,5,0)","v":"M"},{"$f":"VLOOKUP(A1398,Pilot,3,0)","v":"Hranice"},{"$f":"VLOOKUP(A1398,Pilot,4,0)","v":"CZ/M"},"Safari Cup 2023 - Klub",{"$f":"VLOOKUP(F1398,Soutez!A:B,2,FALSE)","v":"CZ"},{"$f":"VLOOKUP(F1398,Soutez!A:C,3,FALSE)","v":2023},1,6949,{"$f":"VLOOKUP(F1398,Soutez,12,0)","v":0.77500000000000002},{"$f":"ROUND(J1398/MAX($J$1398:$J$1422)*10000*0.7+(MAX($I$1398:$I$1422)-I1398)/(MAX($I$1398:$I$1422)-1)*10000*0.3,0)","v":10000},{"$f":"ROUND(K1398*L1398,0)","v":7750},"x",null,"TST-10M Atlas",7,""]
["Tomas Kulhavy",2001,"M","Liberec","CZ/C2","Safari Cup 2023 - Klub",{"$f":"VLOOKUP(F1399,Soutez!A:B,2,FALSE)","v":"CZ"},{"$f":"VLOOKUP(F1399,Soutez!A:C,3,FALSE)","v":2023},2,6770,0.77500000000000002,9695,{"$f":"ROUND(K1399*L1399,0)","v":7514},"x",null,"HpH 304cz 15m","IH","Junior v roce 2025"]
["Marek Kornec",1957,"M","Dvůr Králové","CZ/C2","Safari Cup 2023 - Klub",{"$f":"VLOOKUP(F1400,Soutez!A:B,2,FALSE)","v":"CZ"},{"$f":"VLOOKUP(F1400,Soutez!A:C,3,FALSE)","v":2023},3,6638,0.77500000000000002,9437,7314,"x",null,"SZD-48 Jantar std. 3","JM",""]
["Vojtech Pivonka",{"$f":"VLOOKUP(A1401,Pilot,2,0)","v":1976},{"$f":"VLOOKUP(A1401,Pilot,5,0)","v":"M"},{"$f":"VLOOKUP(A1401,Pilot,3,0)","v":"Vrchlabí"},{"$f":"VLOOKUP(A1401,Pilot,4,0)","v":"CZ/C2"},"Safari Cup 2023 - Klub",{"$f":"VLOOKUP(F1401,Soutez!A:B,2,FALSE)","v":"CZ"},{"$f":"VLOOKUP(F1401,Soutez!A:C,3,FALSE)","v":2023},4,6609,0.77500000000000002,9283,7194,"x",null,"G-103 Twin Astir dvojí (zatahovací podvozek)",5,""]
["Filip Mrstny",2006,"M","Beroun","CZ/C1","Safari Cup 2023 - Klub",{"$f":"VLOOKUP(F1402,Soutez!A:B,2,FALSE)","v":"CZ"},{"$f":"VLOOKUP(F1402,Soutez!A:C,3,FALSE)","v":2023},5,6508,0.77500000000000002,9056,7018,"x",null,"VSO-10","B1","Junior v roce 2025"]
["Wolfgang Sluka",{"$f":"VLOOKUP(A1403,Pilot,2,0)","v":1942},{"$f":"VLOOKUP(A1403,Pilot,5,0)","v":"M"},{"$f":"VLOOKUP(A1403,Pilot,3,0)","v":"Liberec"},{"$f":"VLOOKUP(A1403,Pilot,4,0)","v":"CZ/C2"},"Safari Cup 2023 - Klub",{"$f":"VLOOKUP(F1403,Soutez!A:B,2,FALSE)","v":"CZ"},{"$f":"VLOOKUP(F1403,Soutez!A:C,3,FALSE)","v":2023},6,6419,0.77500000000000002,8841,6852,"x",null,"Std. Cirrus","KA",""]
["Jaroslav Sima",1972,"M","Chomutov","CZ/C2","Safari Cup 2023 - Klub",{"$f":"VLOOKUP(F1404,Soutez!A:B,2,FALSE)","v":"CZ"},{"$f":"VLOOKUP(F1404,Soutez!A:C,3,FALSE)","v":2023},7,6395,0.77500000000000002,8692,6736,"x",null,"G-104 Speed Astir II","V2",""]
["Petr Lonsky",1965,"M","Toužim","CZ/C1","Safari Cup 2023 - Klub",{"$f":"VLOOKUP(F1405,Soutez!A:B,2,FALSE)","v":"CZ"},{"$f":"VLOOKUP(F1405,Soutez!A:C,3,FALSE)","v":2023},8,6189,0.77500000000000002,8359,6478,"x",null,"Cirrus VTC","JP",""]
["Jan Hybner",1977,"M","Liberec","CZ/C2","Safari Cup 2023 - Klub",{"$f":"VLOOKUP(F1406,Soutez!A:B,2,FALSE)","v":"CZ"},{"$f":"VLOOKUP(F1406,Soutez!A:C,3,FALSE)","v":2023},9,6042,0.77500000000000002,8086,6267,"x",null,"HpH 304cz 15m","LB",""]
["Ondrej Teichman",1984,"M","Dvůr Králové","CZ/C2","Safari Cup 2023 - Klub",{"$f":"VLOOKUP(F1407,Soutez!A:B,2,FALSE)","v":"CZ"},{"$f":"VLOOKUP(F1407,Soutez!A:C,3,FALSE)","v":2023},10,5807,0.77500000000000002,7725,5987,"x",null,"Cirruc VTC","VTC",""]
["Martin Cicvarek",{"$f":"VLOOKUP(A1408,Pilot,2,0)","v":1966},{"$f":"VLOOKUP(A1408,Pilot,5,0)","v":"M"},{"$f":"VLOOKUP(A1408,Pilot,3,0)","v":"Liberec"},{"$f":"VLOOKUP(A1408,Pilot,4,0)","v":"CZ/C2"},"Safari Cup 2023 - Klub",{"$f":"VLOOKUP(F1408,Soutez!A:B,2,FALSE)","v":"CZ"},{"$f":"VLOOKUP(F1408,Soutez!A:C,3,FALSE)","v":2023},11,5594,0.77500000000000002,7385,5723,"x",null,"KKB 15E+ (FES)","AC",""]
["Krzysztof Pienkowski",null,null,null,null,"Safari Cup 2023 - Klub",{"$f":"VLOOKUP(F1409,Soutez!A:B,2,FALSE)","v":"CZ"},{"$f":"VLOOKUP(F1409,Soutez!A:C,3,FALSE)","v":2023},12,5184,0.77500000000000002,6847,{"$f":"ROUND(K1409*L1409,0)","v":5306},null,null,"LS-4","KP","Není v databázi"]
["Karel Policky",{"$f":"VLOOKUP(A1410,Pilot,2,0)","v":1950},{"$f":"VLOOKUP(A1410,Pilot,5,0)","v":"M"},{"$f":"VLOOKUP(A1410,Pilot,3,0)","v":"Kolín"},{"$f":"VLOOKUP(A1410,Pilot,4,0)","v":"CZ/C1"},"Safari Cup 2023 - Klub",{"$f":"VLOOKUP(F1410,Soutez!A:B,2,FALSE)","v":"CZ"},{"$f":"VLOOKUP(F1410,Soutez!A:C,3,FALSE)","v":2023},13,4870,0.77500000000000002,6406,4965,"x",null,"VSO-10",93,""]
["Alex Gulich",2005,"M","Slaný","CZ/C1","Safari Cup 2023 - Klub",{"$f":"VLOOKUP(F1411,Soutez!A:B,2,FALSE)","v":"CZ"},{"$f":"VLOOKUP(F1411,Soutez!A:C,3,FALSE)","v":2023},14,4466,0.77500000000000002,5874,4552,"x",null,"VSO-10",56,"Junior v roce 2025"]
["Aleksander Jedrosz",null,null,null,null,"Safari Cup 2023 - Klub",{"$f":"VLOOKUP(F1412,Soutez!A:B,2,FALSE)","v":"CZ"},{"$f":"VLOOKUP(F1412,Soutez!A:C,3,FALSE)","v":2023},15,3785,0.77500000000000002,5063,3924,null,null,"Centrair C-101A Pegase","AJ","Není v databázi"]
["Leos Nosek",{"$f":"VLOOKUP(A1413,Pilot,2,0)","v":1958},{"$f":"VLOOKUP(A1413,Pilot,5,0)","v":"M"},{"$f":"VLOOKUP(A1413,Pilot,3,0)","v":"Křižanov"},{"$f":"VLOOKUP(A1413,Pilot,4,0)","v":"CZ/M"},"Safari Cup 2023 - Klub",{"$f":"VLOOKUP(F1413,Soutez!A:B,2,FALSE)","v":"CZ"},{"$f":"VLOOKUP(F1413,Soutez!A:C,3,FALSE)","v":2023},16,3582,0.77500000000000002,4733,3668,"x",null,"G-104 Speed Astir II b","LE",""]
["Martin Benesovsky",1975,"M","Kolín","CZ/C1","Safari Cup 2023 - Klub",{"$f":"VLOOKUP(F1414,Soutez!A:B,2,FALSE)","v":"CZ"},{"$f":"VLOOKUP(F1414,Soutez!A:C,3,FALSE)","v":2023},17,3240,0.77500000000000002,4264,3305,"x",null,"G-104 Speed Astir II b","M2",""]
["Ryszard Bendkowski",null,null,null,null,"Safari Cup 2023 - Klub",{"$f":"VLOOKUP(F1415,Soutez!A:B,2,FALSE)","v":"CZ"},{"$f":"VLOOKUP(F1415,Soutez!A:C,3,FALSE)","v":2023},18,3027,0.77500000000000002,3924,3041,null,null,"SZD-48 Jantar Std. 2","Fili","Není v databázi"]
["Jerzy Mikolajczyk",null,null,null,null,"Safari Cup 2023 - Klub",{"$f":"VLOOKUP(F1416,Soutez!A:B,2,FALSE)","v":"CZ"},{"$f":"VLOOKUP(F1416,Soutez!A:C,3,FALSE)","v":2023},19,2930,0.77500000000000002,3702,2869,null,null,"LS-4","YL","Není v databázi"]
["Martin Markl",{"$f":"VLOOKUP(A1417,Pilot,2,0)","v":1960},{"$f":"VLOOKUP(A1417,Pilot,5,0)","v":"M"},{"$f":"VLOOKUP(A1417,Pilot,3,0)","v":"Kolín"},{"$f":"VLOOKUP(A1417,Pilot,4,0)","v":"CZ/C1"},"Safari Cup 2023 - Klub",{"$f":"VLOOKUP(F1417,Soutez!A:B,2,FALSE)","v":"CZ"},{"$f":"VLOOKUP(F1417,Soutez!A:C,3,FALSE)","v":2023},20,2808,0.77500000000000002,3454,2677,"x",null,"ASK 21","AK",""]
["Krzystof Kostka",null,null,null,null,"Safari Cup 2023 - Klub",{"$f":"VLOOKUP(F1418,Soutez!A:B,2,FALSE)","v":"CZ"},{"$f":"VLOOKUP(F1418,Soutez!A:C,3,FALSE)","v":2023},21,2340,0.77500000000000002,2857,2214,null,null,"DG 300","N5","Není v databázi"]
["Vladislav Cadsky",{"$f":"VLOOKUP(A1419,Pilot,2,0)","v":1975},{"$f":"VLOOKUP(A1419,Pilot,5,0)","v":"M"},{"$f":"VLOOKUP(A1419,Pilot,3,0)","v":"Kolín"},{"$f":"VLOOKUP(A1419,Pilot,4,0)","v":"CZ/C1"},"Safari Cup 2023 - Klub",{"$f":"VLOOKUP(F1419,Soutez!A:B,2,FALSE)","v":"CZ"},{"$f":"VLOOKUP(F1419,Soutez!A:C,3,FALSE)","v":2023},22,2184,0.77500000000000002,2575,1996,"x",null,"G-102 Astir Jeans","VI",""]
["Pavel Derda",1952,"M","Dvůr Králové","CZ/C2","Safari Cup 2023 - Klub",{"$f":"VLOOKUP(F1420,Soutez!A:B,2,FALSE)","v":"CZ"},{"$f":"VLOOKUP(F1420,Soutez!A:C,3,FALSE)","v":2023},23,909,0.77500000000000002,1166,904,"x",null,"Cirrus VTC","VE",""]
["Karel Ertl",1939,"M","LK Břeclav","CZ/M","Safari Cup 2023 - Klub",{"$f":"VLOOKUP(F1421,Soutez!A:B,2,FALSE)","v":"CZ"},{"$f":"VLOOKUP(F1421,Soutez!A:C,3,FALSE)","v":2023},24,717,0.77500000000000002,847,656,"x",null,"TST-10M Atlas","KE",""]
["Jiri Tomicek",1947,"M","Dvůr Králové","CZ/C2","Safari Cup 2023 - Klub",{"$f":"VLOOKUP(F1422,Soutez!A:B,2,FALSE)","v":"CZ"},{"$f":"VLOOKUP(F1422,Soutez!A:C,3,FALSE)","v":2023},25,140,0.77500000000000002,141,109,"x",null,"G-103 Twin Astir dvojí (zatahovací podvozek)","W4",""]
["Lukas Hynek",{"$f":"VLOOKUP(A1423,Pilot,2,0)","v":1979},{"$f":"VLOOKUP(A1423,Pilot,5,0)","v":"M"},{"$f":"VLOOKUP(A1423,Pilot,3,0)","v":"Dvůr Králové"},{"$f":"VLOOKUP(A1423,Pilot,4,0)","v":"CZ/C2"},"Safari Cup 2023 - Kombi",{"$f":"VLOOKUP(F1423,Soutez!A:B,2,FALSE)","v":"CZ"},{"$f":"VLOOKUP(F1423,Soutez!A:C,3,FALSE)","v":2023},1,7820,0.77500000000000002,{"$f":"ROUND(J1423/MAX($J$1423:$J$1432)*10000*0.7+(MAX($I$1423:$I$1432)-I1423)/(MAX($I$1423:$I$1432)-1)*10000*0.3,0)","v":10000},{"$f":"ROUND(K1423*L1423,0)","v":7750},"x",null,"DG 200 17m","HL",""]
["Radek Bares",1963,"M","Jičín","CZ/C2","Safari Cup 2023 - Kombi",{"$f":"VLOOKUP(F1424,Soutez!A:B,2,FALSE)","v":"CZ"},{"$f":"VLOOKUP(F1424,Soutez!A:C,3,FALSE)","v":2023},2,6855,0.77500000000000002,{"$f":"ROUND(J1424/MAX($J$1423:$J$1432)*10000*0.7+(MAX($I$1423:$I$1432)-I1424)/(MAX($I$1423:$I$1432)-1)*10000*0.3,0)","v":8803},{"$f":"ROUND(K1424*L1424,0)","v":6822},"x",null,"Ventus c 17.6m","GE",""]
["Jan Pazour",{"$f":"VLOOKUP(A1425,Pilot,2,0)","v":1979},{"$f":"VLOOKUP(A1425,Pilot,5,0)","v":"M"},{"$f":"VLOOKUP(A1425,Pilot,3,0)","v":"Dvůr Králové"},{"$f":"VLOOKUP(A1425,Pilot,4,0)","v":"CZ/C2"},"Safari Cup 2023 - Kombi",{"$f":"VLOOKUP(F1425,Soutez!A:B,2,FALSE)","v":"CZ"},{"$f":"VLOOKUP(F1425,Soutez!A:C,3,FALSE)","v":2023},3,6731,0.77500000000000002,8359,6478,"x",null,"ASW-20 L +FL 16,6m","JP",""]
["Tomas Ditrt",1969,"M","Podhořany","CZ/C2","Safari Cup 2023 - Kombi",{"$f":"VLOOKUP(F1426,Soutez!A:B,2,FALSE)","v":"CZ"},{"$f":"VLOOKUP(F1426,Soutez!A:C,3,FALSE)","v":2023},4,6655,0.77500000000000002,7957,6167,"x",null,"HpH 304MS SHARK 18m -560 kg","TDi",""]
["Ladislav Prokes",1954,"M","Vrchlabí","CZ/C2","Safari Cup 2023 - Kombi",{"$f":"VLOOKUP(F1427,Soutez!A:B,2,FALSE)","v":"CZ"},{"$f":"VLOOKUP(F1427,Soutez!A:C,3,FALSE)","v":2023},5,6488,0.77500000000000002,7474,5792,"x",null,"Discus CS","VR",""]
["Milan Meisner",1961,"M","Dvůr Králové","CZ/C2","Safari Cup 2023 - Kombi",{"$f":"VLOOKUP(F1428,Soutez!A:B,2,FALSE)","v":"CZ"},{"$f":"VLOOKUP(F1428,Soutez!A:C,3,FALSE)","v":2023},6,5636,0.77500000000000002,6378,4943,"x",null,"LAK-17B FES 18m","TF",""]
["Slavomir Tanglmajer",1966,"M","Chomutov","CZ/C2","Safari Cup 2023 - Kombi",{"$f":"VLOOKUP(F1429,Soutez!A:B,2,FALSE)","v":"CZ"},{"$f":"VLOOKUP(F1429,Soutez!A:C,3,FALSE)","v":2023},7,4640,0.77500000000000002,5153,3994,"x",null,"DG 400 17m","ST",""]
["Petr Omelka",1970,"M","Vyškov","CZ/M","Safari Cup 2023 - Kombi",{"$f":"VLOOKUP(F1430,Soutez!A:B,2,FALSE)","v":"CZ"},{"$f":"VLOOKUP(F1430,Soutez!A:C,3,FALSE)","v":2023},8,2014,0.77500000000000002,2469,1913,"x",null,"DG 400 17m","MR",""]
["Jiri Veprek",1959,"M","Dvůr Králové","CZ/C2","Safari Cup 2023 - Kombi",{"$f":"VLOOKUP(F1431,Soutez!A:B,2,FALSE)","v":"CZ"},{"$f":"VLOOKUP(F1431,Soutez!A:C,3,FALSE)","v":2023},9,806,0.77500000000000002,1055,818,"x",null,"HpH 304cz 17,4m","KN",""]
["Josef Plechac",1942,"M","Hronov","CZ/C2","Safari Cup 2023 - Kombi",{"$f":"VLOOKUP(F1432,Soutez!A:B,2,FALSE)","v":"CZ"},{"$f":"VLOOKUP(F1432,Soutez!A:C,3,FALSE)","v":2023},10,11,0.77500000000000002,10,8,"x",null,"Nimbus 2M","PM",""]
["Michal Lesinger",{"$f":"VLOOKUP(A1433,Pilot,2,0)","v":1966},{"$f":"VLOOKUP(A1433,Pilot,5,0)","v":"M"},{"$f":"VLOOKUP(A1433,Pilot,3,0)","v":"Moravská Třebová"},{"$f":"VLOOKUP(A1433,Pilot,4,0)","v":"CZ/M"},"Toužim Cup 2023 - Klub",{"$f":"VLOOKUP(F1433,Soutez!A:B,2,FALSE)","v":"CZ"},{"$f":"VLOOKUP(F1433,Soutez!A:C,3,FALSE)","v":2023},1,4561,0.91500000000000004,{"$f":"ROUND(J1433/MAX($J$1433:$J$1451)*10000*0.7+(MAX($I$1433:$I$1451)-I1433)/(MAX($I$1433:$I$1451)-1)*10000*0.3,0)","v":10000},{"$f":"ROUND(K1433*L1433,0)","v":9150},null,null,"ASW-20 (A)+L+F /15m","LL",""]
["Roman Jokl",1979,"M","Letkov","CZ/C1","Toužim Cup 2023 - Klub",{"$f":"VLOOKUP(F1434,Soutez!A:B,2,FALSE)","v":"CZ"},{"$f":"VLOOKUP(F1434,Soutez!A:C,3,FALSE)","v":2023},2,4442,0.91500000000000004,9651,{"$f":"ROUND(K1434*L1434,0)","v":8831},"x",null,"ASW-19B","JL",""]
["Lukas Koukal",1991,"M","Letkov","CZ/C1","Toužim Cup 2023 - Klub",{"$f":"VLOOKUP(F1435,Soutez!A:B,2,FALSE)","v":"CZ"},{"$f":"VLOOKUP(F1435,Soutez!A:C,3,FALSE)","v":2023},3,4434,0.91500000000000004,9472,8667,"x",null,"ASW-15B","T1",""]
["Michal Cupak",1991,"M","Medlánky","CZ/M","Toužim Cup 2023 - Klub",{"$f":"VLOOKUP(F1436,Soutez!A:B,2,FALSE)","v":"CZ"},{"$f":"VLOOKUP(F1436,Soutez!A:C,3,FALSE)","v":2023},4,4257,0.91500000000000004,9033,8265,"x",null,"Std. Cirrus","A7",""]
["Lukas Plocek",1990,"M","Mladá Boleslav","CZ/C1","Toužim Cup 2023 - Klub",{"$f":"VLOOKUP(F1437,Soutez!A:B,2,FALSE)","v":"CZ"},{"$f":"VLOOKUP(F1437,Soutez!A:C,3,FALSE)","v":2023},5,4146,0.91500000000000004,8696,7957,"x",null,"ASW-19B","AH",""]
["Daniel Dvorak",1980,"M","Letkov","CZ/C1","Toužim Cup 2023 - Klub",{"$f":"VLOOKUP(F1438,Soutez!A:B,2,FALSE)","v":"CZ"},{"$f":"VLOOKUP(F1438,Soutez!A:C,3,FALSE)","v":2023},6,4100,0.91500000000000004,8459,7740,"x",null,"Std. Cirrus","LD",""]
["Michal Drab",1969,"M","Letkov","CZ/C1","Toužim Cup 2023 - Klub",{"$f":"VLOOKUP(F1439,Soutez!A:B,2,FALSE)","v":"CZ"},{"$f":"VLOOKUP(F1439,Soutez!A:C,3,FALSE)","v":2023},7,3427,0.91500000000000004,7260,6643,"x",null,"LS-1c","S3",{"$f":"IF(ISERROR(VLOOKUP(A1439,Pilot,6,0)),\"Není v databázi\",VLOOKUP(A1439,Pilot,6,0))","v":""}]
["Jan Zanda",1983,"M","Letkov","CZ/C1","Toužim Cup 2023 - Klub",{"$f":"VLOOKUP(F1440,Soutez!A:B,2,FALSE)","v":"CZ"},{"$f":"VLOOKUP(F1440,Soutez!A:C,3,FALSE)","v":2023},8,3401,0.91500000000000004,7053,6453,"x",null,"LS-1c","AN",""]
["Jan Muknsnabl",{"$f":"VLOOKUP(A1441,Pilot,2,0)","v":1992},{"$f":"VLOOKUP(A1441,Pilot,5,0)","v":"M"},{"$f":"VLOOKUP(A1441,Pilot,3,0)","v":"Letkov"},{"$f":"VLOOKUP(A1441,Pilot,4,0)","v":"CZ/C1"},"Toužim Cup 2023 - Klub",{"$f":"VLOOKUP(F1441,Soutez!A:B,2,FALSE)","v":"CZ"},{"$f":"VLOOKUP(F1441,Soutez!A:C,3,FALSE)","v":2023},9,3179,0.91500000000000004,6546,5990,"x",null,"Std. Cirrus","SB",""]
["Jiri Prochazka",1971,"M","Toužim","CZ/C1","Toužim Cup 2023 - Klub",{"$f":"VLOOKUP(F1442,Soutez!A:B,2,FALSE)","v":"CZ"},{"$f":"VLOOKUP(F1442,Soutez!A:C,3,FALSE)","v":2023},10,3142,0.91500000000000004,6322,5785,"x",null,"Janus CM (FG) (fix gear=pevný podvozek)","J59",""]
["Rudolf Jung",1954,"M","Zbraslavice","CZ/C1","Toužim Cup 2023 - Klub",{"$f":"VLOOKUP(F1443,Soutez!A:B,2,FALSE)","v":"CZ"},{"$f":"VLOOKUP(F1443,Soutez!A:C,3,FALSE)","v":2023},11,2801,0.91500000000000004,5632,{"$f":"ROUND(K1443*L1443,0)","v":5153},"x",null,"G-103 Twin III dvojí (pevný podvozek)","TO",""]
["Martin Valenta",1969,"M","Toužim","CZ/C1","Toužim Cup 2023 - Klub",{"$f":"VLOOKUP(F1444,Soutez!A:B,2,FALSE)","v":"CZ"},{"$f":"VLOOKUP(F1444,Soutez!A:C,3,FALSE)","v":2023},12,2284,0.91500000000000004,4672,4275,"x",null,"G-104 Speed Astir II b","Y3",""]
["Martin Fric",1967,"M","Raná","CZ/C2","Toužim Cup 2023 - Klub",{"$f":"VLOOKUP(F1445,Soutez!A:B,2,FALSE)","v":"CZ"},{"$f":"VLOOKUP(F1445,Soutez!A:C,3,FALSE)","v":2023},13,2146,0.91500000000000004,4294,3929,"x",null,"DG-100","E2",""]
["Tomas Jung",{"$f":"VLOOKUP(A1446,Pilot,2,0)","v":1950},{"$f":"VLOOKUP(A1446,Pilot,5,0)","v":"M"},{"$f":"VLOOKUP(A1446,Pilot,3,0)","v":"Zbraslavice"},{"$f":"VLOOKUP(A1446,Pilot,4,0)","v":"CZ/C1"},"Toužim Cup 2023 - Klub",{"$f":"VLOOKUP(F1446,Soutez!A:B,2,FALSE)","v":"CZ"},{"$f":"VLOOKUP(F1446,Soutez!A:C,3,FALSE)","v":2023},14,2131,0.91500000000000004,4104,3755,"x",null,"ASW-19B","O2",""]
["Tomas Seifert",1972,"M","Raná","CZ/C2","Toužim Cup 2023 - Klub",{"$f":"VLOOKUP(F1447,Soutez!A:B,2,FALSE)","v":"CZ"},{"$f":"VLOOKUP(F1447,Soutez!A:C,3,FALSE)","v":2023},15,2026,0.91500000000000004,3776,3455,"x",null,"ASW-15B","MC",""]
["Jaroslav Hot",1965,"M","Toužim","CZ/C1","Toužim Cup 2023 - Klub",{"$f":"VLOOKUP(F1448,Soutez!A:B,2,FALSE)","v":"CZ"},{"$f":"VLOOKUP(F1448,Soutez!A:C,3,FALSE)","v":2023},16,1962,0.91500000000000004,3511,3213,"x",null,"Pik-20D","HJ",""]
["Petr Cernicky",1974,"M","Toužim","CZ/C1","Toužim Cup 2023 - Klub",{"$f":"VLOOKUP(F1449,Soutez!A:B,2,FALSE)","v":"CZ"},{"$f":"VLOOKUP(F1449,Soutez!A:C,3,FALSE)","v":2023},17,623,0.91500000000000004,1289,1179,"x",null,"G-102 Astir cs","LS",""]
["Frantisek Brozman",1960,"M","Tachov","CZ/C1","Toužim Cup 2023 - Klub",{"$f":"VLOOKUP(F1450,Soutez!A:B,2,FALSE)","v":"CZ"},{"$f":"VLOOKUP(F1450,Soutez!A:C,3,FALSE)","v":2023},18,323,0.91500000000000004,662,606,"x",null,"G-102 Astir Jeans","FB",""]
["Jan Sustr 76",{"$f":"VLOOKUP(A1451,Pilot,2,0)","v":1976},{"$f":"VLOOKUP(A1451,Pilot,5,0)","v":"M"},{"$f":"VLOOKUP(A1451,Pilot,3,0)","v":"Raná"},{"$f":"VLOOKUP(A1451,Pilot,4,0)","v":"CZ/C2"},"Toužim Cup 2023 - Klub",{"$f":"VLOOKUP(F1451,Soutez!A:B,2,FALSE)","v":"CZ"},{"$f":"VLOOKUP(F1451,Soutez!A:C,3,FALSE)","v":2023},19,0,0.91500000000000004,0,{"$f":"ROUND(K1451*L1451,0)","v":0},null,null,"DG-300 Club ELAN","WL",""]
["Pavel Jiranek",{"$f":"VLOOKUP(A1452,Pilot,2,0)","v":1993},{"$f":"VLOOKUP(A1452,Pilot,5,0)","v":"M"},{"$f":"VLOOKUP(A1452,Pilot,3,0)","v":"Toužim"},{"$f":"VLOOKUP(A1452,Pilot,4,0)","v":"CZ/C1"},"Toužim Cup 2023 - Kombi",{"$f":"VLOOKUP(F1452,Soutez!A:B,2,FALSE)","v":"CZ"},{"$f":"VLOOKUP(F1452,Soutez!A:C,3,FALSE)","v":2023},1,5185,0.92500000000000004,{"$f":"ROUND(J1452/MAX($J$1452:$J$1477)*10000*0.7+(MAX($I$1452:$I$1477)-I1452)/(MAX($I$1452:$I$1477)-1)*10000*0.3,0)","v":10000},{"$f":"ROUND(K1452*L1452,0)","v":9250},"x",null,"Ventus c /17,6m","CS",""]
["Martin Hrivna",1978,"M","Zbraslavice","CZ/C1","Toužim Cup 2023 - Kombi",{"$f":"VLOOKUP(F1453,Soutez!A:B,2,FALSE)","v":"CZ"},{"$f":"VLOOKUP(F1453,Soutez!A:C,3,FALSE)","v":2023},2,5142,0.92500000000000004,9822,{"$f":"ROUND(K1453*L1453,0)","v":9085},"x",null,"ASG-29E /18m","NX",""]
["Jan Viskot",1995,"M","Břeclav","CZ/M","Toužim Cup 2023 - Kombi",{"$f":"VLOOKUP(F1454,Soutez!A:B,2,FALSE)","v":"CZ"},{"$f":"VLOOKUP(F1454,Soutez!A:C,3,FALSE)","v":2023},3,5119,0.92500000000000004,9671,8946,"x",null,"Discus 2a /15m","GX",""]
["Tomas Rendla",1973,"M","Zbraslavice","CZ/C1","Toužim Cup 2023 - Kombi",{"$f":"VLOOKUP(F1455,Soutez!A:B,2,FALSE)","v":"CZ"},{"$f":"VLOOKUP(F1455,Soutez!A:C,3,FALSE)","v":2023},4,4971,0.92500000000000004,9351,8650,null,null,"Arcus 20 M 800kg","EY",""]
["Petr Hotovy",1958,"M","Česká Lípa","CZ/C2","Toužim Cup 2023 - Kombi",{"$f":"VLOOKUP(F1456,Soutez!A:B,2,FALSE)","v":"CZ"},{"$f":"VLOOKUP(F1456,Soutez!A:C,3,FALSE)","v":2023},5,4844,0.92500000000000004,9060,8381,"x",null,"JS1-BTJ 18","IGC",""]
["Martin Zahalka",1987,"M","Staňkov","CZ/C1","Toužim Cup 2023 - Kombi",{"$f":"VLOOKUP(F1457,Soutez!A:B,2,FALSE)","v":"CZ"},{"$f":"VLOOKUP(F1457,Soutez!A:C,3,FALSE)","v":2023},6,4689,0.92500000000000004,8730,8075,"x",null,"DG-400 17m","FF",""]
["Vratislav Sram",1966,"M","Broumov","CZ/C2","Toužim Cup 2023 - Kombi",{"$f":"VLOOKUP(F1458,Soutez!A:B,2,FALSE)","v":"CZ"},{"$f":"VLOOKUP(F1458,Soutez!A:C,3,FALSE)","v":2023},7,4647,0.92500000000000004,8554,7912,"x",null,"Nimbus 4DM",7,""]
["Ivan Harasta 65",1965,"M","Toužim","CZ/C1","Toužim Cup 2023 - Kombi",{"$f":"VLOOKUP(F1459,Soutez!A:B,2,FALSE)","v":"CZ"},{"$f":"VLOOKUP(F1459,Soutez!A:C,3,FALSE)","v":2023},8,4475,0.92500000000000004,8201,7586,null,null,"Ventus 2a /15m","AX",""]
["Jan Dersak 69",{"$f":"VLOOKUP(A1460,Pilot,2,0)","v":1969},{"$f":"VLOOKUP(A1460,Pilot,5,0)","v":"M"},{"$f":"VLOOKUP(A1460,Pilot,3,0)","v":"Kralupy"},{"$f":"VLOOKUP(A1460,Pilot,4,0)","v":"CZ/C1"},"Toužim Cup 2023 - Kombi",{"$f":"VLOOKUP(F1460,Soutez!A:B,2,FALSE)","v":"CZ"},{"$f":"VLOOKUP(F1460,Soutez!A:C,3,FALSE)","v":2023},9,4453,0.92500000000000004,8052,7448,"x",null,"HpH 304MS SHARK","DJ",""]
["Petr Bartak",{"$f":"VLOOKUP(A1461,Pilot,2,0)","v":1984},{"$f":"VLOOKUP(A1461,Pilot,5,0)","v":"M"},{"$f":"VLOOKUP(A1461,Pilot,3,0)","v":"Letkov"},{"$f":"VLOOKUP(A1461,Pilot,4,0)","v":"CZ/C1"},"Toužim Cup 2023 - Kombi",{"$f":"VLOOKUP(F1461,Soutez!A:B,2,FALSE)","v":"CZ"},{"$f":"VLOOKUP(F1461,Soutez!A:C,3,FALSE)","v":2023},10,4452,0.92500000000000004,7930,7335,"x",null,"LS-6c /18m WL","BL",""]
["Frantisek Myska",1968,"M","Most","CZ/C2","Toužim Cup 2023 - Kombi",{"$f":"VLOOKUP(F1462,Soutez!A:B,2,FALSE)","v":"CZ"},{"$f":"VLOOKUP(F1462,Soutez!A:C,3,FALSE)","v":2023},11,4089,{"$f":"VLOOKUP(F1462,Soutez,12,0)","v":0.92500000000000004},7320,6771,"x",null,"Ventus bt /16,6m","SK",""]
["Petr Jiranek 91",1991,"M","Toužim","CZ/C1","Toužim Cup 2023 - Kombi",{"$f":"VLOOKUP(F1463,Soutez!A:B,2,FALSE)","v":"CZ"},{"$f":"VLOOKUP(F1463,Soutez!A:C,3,FALSE)","v":2023},12,3958,0.92500000000000004,7023,6496,"x",null,"Ventus c /17,6m","PC",""]
["Jan Florian",{"$f":"VLOOKUP(A1464,Pilot,2,0)","v":1992},{"$f":"VLOOKUP(A1464,Pilot,5,0)","v":"M"},{"$f":"VLOOKUP(A1464,Pilot,3,0)","v":"Zbraslavice"},{"$f":"VLOOKUP(A1464,Pilot,4,0)","v":"CZ/C1"},"Toužim Cup 2023 - Kombi",{"$f":"VLOOKUP(F1464,Soutez!A:B,2,FALSE)","v":"CZ"},{"$f":"VLOOKUP(F1464,Soutez!A:C,3,FALSE)","v":2023},13,3852,0.92500000000000004,6760,6253,"x",null,"Ventus c /17,6m","LSI",""]
["Roman Lanzendorf",1964,"M","Letkov","CZ/C1","Toužim Cup 2023 - Kombi",{"$f":"VLOOKUP(F1465,Soutez!A:B,2,FALSE)","v":"CZ"},{"$f":"VLOOKUP(F1465,Soutez!A:C,3,FALSE)","v":2023},14,3707,0.92500000000000004,6445,5962,"x",null,"Duo Discus T (700kg)","ZS",""]
["Vaclav Svoboda",1970,"M","Letkov","CZ/C1","Toužim Cup 2023 - Kombi",{"$f":"VLOOKUP(F1466,Soutez!A:B,2,FALSE)","v":"CZ"},{"$f":"VLOOKUP(F1466,Soutez!A:C,3,FALSE)","v":2023},15,3687,0.92500000000000004,6298,5826,"x",null,"LS-8-18 /18m",301,""]
["Karl Schiffleithner",null,null,"SFC Tulln",null,"Toužim Cup 2023 - Kombi",{"$f":"VLOOKUP(F1467,Soutez!A:B,2,FALSE)","v":"CZ"},{"$f":"VLOOKUP(F1467,Soutez!A:C,3,FALSE)","v":2023},16,3679,0.92500000000000004,6167,5704,null,null,"Duo Discus (700 kg)","MM","Není v databázi"]
["Zdenek Schenk",{"$f":"VLOOKUP(A1468,Pilot,2,0)","v":1972},{"$f":"VLOOKUP(A1468,Pilot,5,0)","v":"M"},{"$f":"VLOOKUP(A1468,Pilot,3,0)","v":"Hranice"},{"$f":"VLOOKUP(A1468,Pilot,4,0)","v":"CZ/M"},"Toužim Cup 2023 - Kombi",{"$f":"VLOOKUP(F1468,Soutez!A:B,2,FALSE)","v":"CZ"},{"$f":"VLOOKUP(F1468,Soutez!A:C,3,FALSE)","v":2023},17,3655,0.92500000000000004,6014,5563,null,null,"Ventus cm /17,6m","ŠNeK",""]
["Jakub Hlavacek",{"$f":"VLOOKUP(A1469,Pilot,2,0)","v":1991},{"$f":"VLOOKUP(A1469,Pilot,5,0)","v":"M"},{"$f":"VLOOKUP(A1469,Pilot,3,0)","v":"Letkov"},{"$f":"VLOOKUP(A1469,Pilot,4,0)","v":"CZ/C1"},"Toužim Cup 2023 - Kombi",{"$f":"VLOOKUP(F1469,Soutez!A:B,2,FALSE)","v":"CZ"},{"$f":"VLOOKUP(F1469,Soutez!A:C,3,FALSE)","v":2023},18,3519,0.92500000000000004,5711,5283,"x",null,"LS-8-18 /15m","EJ",""]
["Vit Prokop",1987,"M","Medlánky","CZ/M","Toužim Cup 2023 - Kombi",{"$f":"VLOOKUP(F1470,Soutez!A:B,2,FALSE)","v":"CZ"},{"$f":"VLOOKUP(F1470,Soutez!A:C,3,FALSE)","v":2023},19,2886,0.92500000000000004,4736,4381,"x",null,"Ventus c /17,6m","PD",""]
["David Zapletal",1970,"M","Mladá Boleslav","CZ/C1","Toužim Cup 2023 - Kombi",{"$f":"VLOOKUP(F1471,Soutez!A:B,2,FALSE)","v":"CZ"},{"$f":"VLOOKUP(F1471,Soutez!A:C,3,FALSE)","v":2023},20,2715,0.92500000000000004,4385,{"$f":"ROUND(K1471*L1471,0)","v":4056},null,null,"Ventus c /17,6m","PUP",""]
["Milos Pajr",1966,"M","Jičín","CZ/C2","Toužim Cup 2023 - Kombi",{"$f":"VLOOKUP(F1472,Soutez!A:B,2,FALSE)","v":"CZ"},{"$f":"VLOOKUP(F1472,Soutez!A:C,3,FALSE)","v":2023},21,2574,0.92500000000000004,4075,3769,"x",null,"HpH 304MS SHARK","No Name",""]
["Petr Jiranek 63",1962,"M","Toužim","CZ/C1","Toužim Cup 2023 - Kombi",{"$f":"VLOOKUP(F1473,Soutez!A:B,2,FALSE)","v":"CZ"},{"$f":"VLOOKUP(F1473,Soutez!A:C,3,FALSE)","v":2023},22,2425,0.92500000000000004,3754,3472,"x",null,"Ventus cm /17,6m","PJ",""]
["Jaroslav Sefc",{"$f":"VLOOKUP(A1474,Pilot,2,0)","v":1971},{"$f":"VLOOKUP(A1474,Pilot,5,0)","v":"M"},{"$f":"VLOOKUP(A1474,Pilot,3,0)","v":"Broumov"},{"$f":"VLOOKUP(A1474,Pilot,4,0)","v":"CZ/C2"},"Toužim Cup 2023 - Kombi",{"$f":"VLOOKUP(F1474,Soutez!A:B,2,FALSE)","v":"CZ"},{"$f":"VLOOKUP(F1474,Soutez!A:C,3,FALSE)","v":2023},23,2013,0.92500000000000004,3078,2847,"x",null,"ASH 26 E WL","SBI",""]
["Antonin Kutalek",{"$f":"VLOOKUP(A1475,Pilot,2,0)","v":1943},{"$f":"VLOOKUP(A1475,Pilot,5,0)","v":"M"},{"$f":"VLOOKUP(A1475,Pilot,3,0)","v":"Zábřeh"},{"$f":"VLOOKUP(A1475,Pilot,4,0)","v":"CZ/M"},"Toužim Cup 2023 - Kombi",{"$f":"VLOOKUP(F1475,Soutez!A:B,2,FALSE)","v":"CZ"},{"$f":"VLOOKUP(F1475,Soutez!A:C,3,FALSE)","v":2023},24,1516,0.92500000000000004,2287,2115,null,null,"LAK 17 AT 18m","GL",""]
["Roman Michalek",1974,"M","Toužim","CZ/C1","Toužim Cup 2023 - Kombi",{"$f":"VLOOKUP(F1476,Soutez!A:B,2,FALSE)","v":"CZ"},{"$f":"VLOOKUP(F1476,Soutez!A:C,3,FALSE)","v":2023},25,1307,0.92500000000000004,1885,1744,"x",null,"DG-400 17m","TK",""]
["Frantisek Kriz",1961,"M","Toužim","CZ/C1","Toužim Cup 2023 - Kombi",{"$f":"VLOOKUP(F1477,Soutez!A:B,2,FALSE)","v":"CZ"},{"$f":"VLOOKUP(F1477,Soutez!A:C,3,FALSE)","v":2023},26,978,0.92500000000000004,1320,1221,"x",null,"DG-400 17m","FK",""]
["Michal Navratil",{"$f":"VLOOKUP(A1478,Pilot,2,0)","v":1985},{"$f":"VLOOKUP(A1478,Pilot,5,0)","v":"M"},{"$f":"VLOOKUP(A1478,Pilot,3,0)","v":"Křižanov"},{"$f":"VLOOKUP(A1478,Pilot,4,0)","v":"CZ/M"},"Cirrus GP 2023 - Klub",{"$f":"VLOOKUP(F1478,Soutez!A:B,2,FALSE)","v":"CZ"},{"$f":"VLOOKUP(F1478,Soutez!A:C,3,FALSE)","v":2023},1,27,{"$f":"VLOOKUP(F1478,Soutez,12,0)","v":0.755},{"$f":"ROUND((MAX($I$1478:$I$1489)-I1478)/(MAX($I$1478:$I$1489)-1)*10000,0)","v":10000},{"$f":"ROUND(K1478*L1478,0)","v":7550},"x",null,"Std. Cirrus","IJ",""]
["Jiri Hula",1973,"M","Slaný","CZ/C1","Cirrus GP 2023 - Klub",{"$f":"VLOOKUP(F1479,Soutez!A:B,2,FALSE)","v":"CZ"},{"$f":"VLOOKUP(F1479,Soutez!A:C,3,FALSE)","v":2023},2,22,{"$f":"VLOOKUP(F1479,Soutez,12,0)","v":0.755},9000,{"$f":"ROUND(K1479*L1479,0)","v":6795},"x",null,"Std. Cirrus","IT",""]
["Jiri Fousek",{"$f":"VLOOKUP(A1480,Pilot,2,0)","v":1990},{"$f":"VLOOKUP(A1480,Pilot,5,0)","v":"M"},{"$f":"VLOOKUP(A1480,Pilot,3,0)","v":"Raná"},{"$f":"VLOOKUP(A1480,Pilot,4,0)","v":"CZ/C2"},"Cirrus GP 2023 - Klub",{"$f":"VLOOKUP(F1480,Soutez!A:B,2,FALSE)","v":"CZ"},{"$f":"VLOOKUP(F1480,Soutez!A:C,3,FALSE)","v":2023},3,20,0.755,8000,6040,null,null,"Std. Cirrus","LW",""]
["Katerina Vojtova",1983,"F","Slaný","CZ/C1","Cirrus GP 2023 - Klub",{"$f":"VLOOKUP(F1481,Soutez!A:B,2,FALSE)","v":"CZ"},{"$f":"VLOOKUP(F1481,Soutez!A:C,3,FALSE)","v":2023},4,13,0.755,7000,5285,"x","x","Std. Cirrus","KAC",""]
["Jan Hruska",1988,"M","Tábor","CZ/C1","Cirrus GP 2023 - Klub",{"$f":"VLOOKUP(F1482,Soutez!A:B,2,FALSE)","v":"CZ"},{"$f":"VLOOKUP(F1482,Soutez!A:C,3,FALSE)","v":2023},5,12,{"$f":"VLOOKUP(F1482,Soutez,12,0)","v":0.755},6000,4530,null,null,"Std. Cirrus","IMI",""]
["Jan Hejret",1976,"M","Jaroměř","CZ/C2","Cirrus GP 2023 - Klub",{"$f":"VLOOKUP(F1483,Soutez!A:B,2,FALSE)","v":"CZ"},{"$f":"VLOOKUP(F1483,Soutez!A:C,3,FALSE)","v":2023},6,9,0.755,5000,3775,"x",null,"Std. cirrus","GO",""]
["Jan Sponer",1988,"M","Medlánky","CZ/M","Cirrus GP 2023 - Klub",{"$f":"VLOOKUP(F1484,Soutez!A:B,2,FALSE)","v":"CZ"},{"$f":"VLOOKUP(F1484,Soutez!A:C,3,FALSE)","v":2023},6,9,0.755,5000,{"$f":"ROUND(K1484*L1484,0)","v":3775},null,null,"Std. Cirrus","EX",""]
["Jan Platenik",1981,"M","Krnov","CZ/M","Cirrus GP 2023 - Klub",{"$f":"VLOOKUP(F1485,Soutez!A:B,2,FALSE)","v":"CZ"},{"$f":"VLOOKUP(F1485,Soutez!A:C,3,FALSE)","v":2023},8,7,0.755,3000,2265,"x",null,"Std. Cirrus","SX",""]
["Matej Krestes",1986,"M","Slaný","CZ/C1","Cirrus GP 2023 - Klub",{"$f":"VLOOKUP(F1486,Soutez!A:B,2,FALSE)","v":"CZ"},{"$f":"VLOOKUP(F1486,Soutez!A:C,3,FALSE)","v":2023},9,6,0.755,2000,1510,null,null,"Std. Cirrus","CON",""]
["Vojtech Hajek",1987,"M","Mladá Boleslav","CZ/C1","Cirrus GP 2023 - Klub",{"$f":"VLOOKUP(F1487,Soutez!A:B,2,FALSE)","v":"CZ"},{"$f":"VLOOKUP(F1487,Soutez!A:C,3,FALSE)","v":2023},10,5,0.755,1000,755,null,null,"Std. Cirrus","BB",""]
["Jan Zahradka",1981,"M","Hodkovice","CZ/C2","Cirrus GP 2023 - Klub",{"$f":"VLOOKUP(F1488,Soutez!A:B,2,FALSE)","v":"CZ"},{"$f":"VLOOKUP(F1488,Soutez!A:C,3,FALSE)","v":2023},11,1,0.755,0,0,null,null,"Std. Cirrus","AR",""]
["Martin Piskacek",1991,"M","Křižanov","CZ/M","Cirrus GP 2023 - Klub",{"$f":"VLOOKUP(F1489,Soutez!A:B,2,FALSE)","v":"CZ"},{"$f":"VLOOKUP(F1489,Soutez!A:C,3,FALSE)","v":2023},11,1,0.755,0,0,null,null,"Std. Cirrus",75,""]
["Radek Krejcirik",{"$f":"VLOOKUP(A1490,Pilot,2,0)","v":1991},{"$f":"VLOOKUP(A1490,Pilot,5,0)","v":"M"},{"$f":"VLOOKUP(A1490,Pilot,3,0)","v":"Hranice"},{"$f":"VLOOKUP(A1490,Pilot,4,0)","v":"CZ/M"},"Cirrus GP 2023 - Kombi 15m",{"$f":"VLOOKUP(F1490,Soutez!A:B,2,FALSE)","v":"CZ"},{"$f":"VLOOKUP(F1490,Soutez!A:C,3,FALSE)","v":2023},1,21,{"$f":"VLOOKUP(F1490,Soutez,12,0)","v":0},{"$f":"ROUND((MAX($I$1490:$I$1498)-I1490)/(MAX($I$1490:$I$1498)-1)*10000,0)","v":10000},{"$f":"ROUND(K1490*L1490,0)","v":0},null,null,"AS 33 15m",12,""]
["Jan Pavlik",1987,"M","Křižanov","CZ/M","Cirrus GP 2023 - Kombi 15m",{"$f":"VLOOKUP(F1491,Soutez!A:B,2,FALSE)","v":"CZ"},{"$f":"VLOOKUP(F1491,Soutez!A:C,3,FALSE)","v":2023},2,19,0,8750,{"$f":"ROUND(K1491*L1491,0)","v":0},null,null,"Ventus c 15m","EB",""]
["Ondrej Bordovsky",1983,"M","Krnov","CZ/M","Cirrus GP 2023 - Kombi 15m",{"$f":"VLOOKUP(F1492,Soutez!A:B,2,FALSE)","v":"CZ"},{"$f":"VLOOKUP(F1492,Soutez!A:C,3,FALSE)","v":2023},3,18,0,7500,0,null,null,"Ventus c 15m","AD",""]
["Radek Zima 78",1978,"M","Hodkovice","CZ/C2","Cirrus GP 2023 - Kombi 15m",{"$f":"VLOOKUP(F1493,Soutez!A:B,2,FALSE)","v":"CZ"},{"$f":"VLOOKUP(F1493,Soutez!A:C,3,FALSE)","v":2023},4,15,0,6250,0,null,null,"asg 29 15m","XZ",""]
["Pavel Jiranek",{"$f":"VLOOKUP(A1494,Pilot,2,0)","v":1993},{"$f":"VLOOKUP(A1494,Pilot,5,0)","v":"M"},{"$f":"VLOOKUP(A1494,Pilot,3,0)","v":"Toužim"},{"$f":"VLOOKUP(A1494,Pilot,4,0)","v":"CZ/C1"},"Cirrus GP 2023 - Kombi 15m",{"$f":"VLOOKUP(F1494,Soutez!A:B,2,FALSE)","v":"CZ"},{"$f":"VLOOKUP(F1494,Soutez!A:C,3,FALSE)","v":2023},4,15,0,6250,0,null,null,"Ventus c 15m","CS",""]
["Petr Jiranek 91",1991,"M","Toužim","CZ/C1","Cirrus GP 2023 - Kombi 15m",{"$f":"VLOOKUP(F1495,Soutez!A:B,2,FALSE)","v":"CZ"},{"$f":"VLOOKUP(F1495,Soutez!A:C,3,FALSE)","v":2023},6,10,0,3750,0,null,null,"Ventus c 15m","PC",""]
["Michal Kratochvil",{"$f":"VLOOKUP(A1496,Pilot,2,0)","v":1984},{"$f":"VLOOKUP(A1496,Pilot,5,0)","v":"M"},{"$f":"VLOOKUP(A1496,Pilot,3,0)","v":"Slaný"},{"$f":"VLOOKUP(A1496,Pilot,4,0)","v":"CZ/C1"},"Cirrus GP 2023 - Kombi 15m",{"$f":"VLOOKUP(F1496,Soutez!A:B,2,FALSE)","v":"CZ"},{"$f":"VLOOKUP(F1496,Soutez!A:C,3,FALSE)","v":2023},7,9,0,2500,0,null,null,"Ventus b 15m","MK",""]
["Jan Viskot",1995,"M","Břeclav","CZ/M","Cirrus GP 2023 - Kombi 15m",{"$f":"VLOOKUP(F1497,Soutez!A:B,2,FALSE)","v":"CZ"},{"$f":"VLOOKUP(F1497,Soutez!A:C,3,FALSE)","v":2023},8,6,0,1250,{"$f":"ROUND(K1497*L1497,0)","v":0},null,null,"Discus 2a","GX",""]
["Matous Schmidt",1981,"M","Letňany","CZ/C1","Cirrus GP 2023 - Kombi 15m",{"$f":"VLOOKUP(F1498,Soutez!A:B,2,FALSE)","v":"CZ"},{"$f":"VLOOKUP(F1498,Soutez!A:C,3,FALSE)","v":2023},9,3,0,0,0,null,null,"Ventus c 15m","UC",""]
["Ivan Harasta 65",{"$f":"VLOOKUP(A1499,Pilot,2,0)","v":1965},{"$f":"VLOOKUP(A1499,Pilot,5,0)","v":"M"},{"$f":"VLOOKUP(A1499,Pilot,3,0)","v":"Toužim"},{"$f":"VLOOKUP(A1499,Pilot,4,0)","v":"CZ/C1"},"PPV 2023 - Klub",{"$f":"VLOOKUP(F1499,Soutez!A:B,2,FALSE)","v":"CZ"},{"$f":"VLOOKUP(F1499,Soutez!A:C,3,FALSE)","v":2023},1,2583,0.9,{"$f":"ROUND(J1499/MAX($J$1499:$J$1542)*10000*0.7+(MAX($I$1499:$I$1542)-I1499)/(MAX($I$1499:$I$1542)-1)*10000*0.3,0)","v":10000},{"$f":"ROUND(K1499*L1499,0)","v":9000},null,null,"LS 1-d","CL",{"$f":"IF(ISERROR(VLOOKUP(A1499,Pilot,6,0)),\"Není v databázi\",VLOOKUP(A1499,Pilot,6,0))","v":""}]
["Hana Treslova",{"$f":"VLOOKUP(A1500,Pilot,2,0)","v":1991},{"$f":"VLOOKUP(A1500,Pilot,5,0)","v":"F"},{"$f":"VLOOKUP(A1500,Pilot,3,0)","v":"Raná"},{"$f":"VLOOKUP(A1500,Pilot,4,0)","v":"CZ/C2"},"PPV 2023 - Klub",{"$f":"VLOOKUP(F1500,Soutez!A:B,2,FALSE)","v":"CZ"},{"$f":"VLOOKUP(F1500,Soutez!A:C,3,FALSE)","v":2023},2,2462,0.9,9601,{"$f":"ROUND(K1500*L1500,0)","v":8641},"x","x","Std. Cirrus","CI",""]
["Jakub Malik",1999,"M","Letňany","CZ/C1","PPV 2023 - Klub",{"$f":"VLOOKUP(F1501,Soutez!A:B,2,FALSE)","v":"CZ"},{"$f":"VLOOKUP(F1501,Soutez!A:C,3,FALSE)","v":2023},3,2432,0.9,9448,8503,"x",null,"Discus b","DP",""]
["Petr Hofman",1984,"M","Letňany","CZ/C1","PPV 2023 - Klub",{"$f":"VLOOKUP(F1502,Soutez!A:B,2,FALSE)","v":"CZ"},{"$f":"VLOOKUP(F1502,Soutez!A:C,3,FALSE)","v":2023},4,2413,0.9,9325,8393,"x",null,"ASW 15 B","MA",""]
["Lukas Capek",1992,"M","Letňany","CZ/C1","PPV 2023 - Klub",{"$f":"VLOOKUP(F1503,Soutez!A:B,2,FALSE)","v":"CZ"},{"$f":"VLOOKUP(F1503,Soutez!A:C,3,FALSE)","v":2023},5,2404,0.9,9229,8306,null,null,"Mosquito","LC",""]
["Jindrich Svorc",1978,"M","Letňany","CZ/C1","PPV 2023 - Klub",{"$f":"VLOOKUP(F1504,Soutez!A:B,2,FALSE)","v":"CZ"},{"$f":"VLOOKUP(F1504,Soutez!A:C,3,FALSE)","v":2023},6,2331,0.9,8960,8064,null,null,"Std. Cirrus","IMI",""]
["Jan Hruska",1988,"M","Tábor","CZ/C1","PPV 2023 - Klub",{"$f":"VLOOKUP(F1505,Soutez!A:B,2,FALSE)","v":"CZ"},{"$f":"VLOOKUP(F1505,Soutez!A:C,3,FALSE)","v":2023},7,2326,0.9,8875,7988,"x",null,"ASW 15 B","LF",""]
["Vaclav Marel",1974,"M","Jaroměř","CZ/C2","PPV 2023 - Klub",{"$f":"VLOOKUP(F1506,Soutez!A:B,2,FALSE)","v":"CZ"},{"$f":"VLOOKUP(F1506,Soutez!A:C,3,FALSE)","v":2023},8,2320,0.9,8787,7908,"x",null,"Std. Cirrus","IF",""]
["Josef Kolman",1983,"M","Letňany","CZ/C1","PPV 2023 - Klub",{"$f":"VLOOKUP(F1507,Soutez!A:B,2,FALSE)","v":"CZ"},{"$f":"VLOOKUP(F1507,Soutez!A:C,3,FALSE)","v":2023},9,2299,0.9,8659,7793,"x",null,"ASW 15 B","BA4",""]
["Pavel Liska",1965,"M","Roudnice","CZ/C2","PPV 2023 - Klub",{"$f":"VLOOKUP(F1508,Soutez!A:B,2,FALSE)","v":"CZ"},{"$f":"VLOOKUP(F1508,Soutez!A:C,3,FALSE)","v":2023},10,2254,0.9,8466,7619,"x",null,"ASW 19 B","RCE",""]
["David Vrchota",1976,"M","Jaroměř","CZ/C2","PPV 2023 - Klub",{"$f":"VLOOKUP(F1509,Soutez!A:B,2,FALSE)","v":"CZ"},{"$f":"VLOOKUP(F1509,Soutez!A:C,3,FALSE)","v":2023},11,2121,0.9,8034,7231,"x",null,"Janus B","BV",""]
["Milan Svoboda 80",{"$f":"VLOOKUP(A1510,Pilot,2,0)","v":1980},{"$f":"VLOOKUP(A1510,Pilot,5,0)","v":"M"},{"$f":"VLOOKUP(A1510,Pilot,3,0)","v":"Havlíčkův Brod"},{"$f":"VLOOKUP(A1510,Pilot,4,0)","v":"CZ/C2"},"PPV 2023 - Klub",{"$f":"VLOOKUP(F1510,Soutez!A:B,2,FALSE)","v":"CZ"},{"$f":"VLOOKUP(F1510,Soutez!A:C,3,FALSE)","v":2023},12,2112,0.9,7938,7144,"x",null,"VT-16 Orlic 2",46,""]
["Martin Urner",1974,"M","Letňany","CZ/C1","PPV 2023 - Klub",{"$f":"VLOOKUP(F1511,Soutez!A:B,2,FALSE)","v":"CZ"},{"$f":"VLOOKUP(F1511,Soutez!A:C,3,FALSE)","v":2023},13,2062,0.9,7731,6958,null,null,"ASW 15 B","JJ",""]
["Miloslav Hulmak",1963,"M","Hosín","CZ/C1","PPV 2023 - Klub",{"$f":"VLOOKUP(F1512,Soutez!A:B,2,FALSE)","v":"CZ"},{"$f":"VLOOKUP(F1512,Soutez!A:C,3,FALSE)","v":2023},14,2024,0.9,7557,6801,"x",null,"ASW 15 B","HH",""]
["David Tejnora",1982,"M","Jaroměř","CZ/C2","PPV 2023 - Klub",{"$f":"VLOOKUP(F1513,Soutez!A:B,2,FALSE)","v":"CZ"},{"$f":"VLOOKUP(F1513,Soutez!A:C,3,FALSE)","v":2023},15,2013,0.9,7455,6710,"x",null,"Std. Cirrus",17,""]
["Jiri Slemr",1979,"M","Vysoké Mýto","CZ/C2","PPV 2023 - Klub",{"$f":"VLOOKUP(F1514,Soutez!A:B,2,FALSE)","v":"CZ"},{"$f":"VLOOKUP(F1514,Soutez!A:C,3,FALSE)","v":2023},16,1984,0.9,7305,6575,"x",null,"Discus CS",65,""]
["Vojtech Hajek",1987,"M","Mladá Boleslav","CZ/C1","PPV 2023 - Klub",{"$f":"VLOOKUP(F1515,Soutez!A:B,2,FALSE)","v":"CZ"},{"$f":"VLOOKUP(F1515,Soutez!A:C,3,FALSE)","v":2023},17,1869,0.9,6922,6230,"x",null,"Std. Cirrus","BB",""]
["Radek Zima 75",1975,"M","Břeclav","CZ/M","PPV 2023 - Klub",{"$f":"VLOOKUP(F1516,Soutez!A:B,2,FALSE)","v":"CZ"},{"$f":"VLOOKUP(F1516,Soutez!A:C,3,FALSE)","v":2023},18,1777,0.9,6601,5941,"x",null,"DG 100","M",""]
["Tereza Ludvikova",{"$f":"VLOOKUP(A1517,Pilot,2,0)","v":1997},{"$f":"VLOOKUP(A1517,Pilot,5,0)","v":"F"},{"$f":"VLOOKUP(A1517,Pilot,3,0)","v":"Jaroměř"},{"$f":"VLOOKUP(A1517,Pilot,4,0)","v":"CZ/C2"},"PPV 2023 - Klub",{"$f":"VLOOKUP(F1517,Soutez!A:B,2,FALSE)","v":"CZ"},{"$f":"VLOOKUP(F1517,Soutez!A:C,3,FALSE)","v":2023},19,1734,0.9,6413,5772,"x","x","Std. Cirrus","GO",""]
["Frantisek Suna",1983,"M","Hosín","CZ/C1","PPV 2023 - Klub",{"$f":"VLOOKUP(F1518,Soutez!A:B,2,FALSE)","v":"CZ"},{"$f":"VLOOKUP(F1518,Soutez!A:C,3,FALSE)","v":2023},20,1605,0.9,5992,5393,"x",null,"DG 100",78,""]
["Petr Rozhon",1972,"M","Hosín","CZ/C1","PPV 2023 - Klub",{"$f":"VLOOKUP(F1519,Soutez!A:B,2,FALSE)","v":"CZ"},{"$f":"VLOOKUP(F1519,Soutez!A:C,3,FALSE)","v":2023},21,1525,0.9,5704,{"$f":"ROUND(K1519*L1519,0)","v":5134},null,null,"VSO-10",9,""]
["Lukas Hykl",1985,"M","Kolín","CZ/C1","PPV 2023 - Klub",{"$f":"VLOOKUP(F1520,Soutez!A:B,2,FALSE)","v":"CZ"},{"$f":"VLOOKUP(F1520,Soutez!A:C,3,FALSE)","v":2023},22,1361,0.9,5188,4669,"x",null,"Discus b WL","LD",""]
["Jiri Holcman",1976,"M","Hosín","CZ/C1","PPV 2023 - Klub",{"$f":"VLOOKUP(F1521,Soutez!A:B,2,FALSE)","v":"CZ"},{"$f":"VLOOKUP(F1521,Soutez!A:C,3,FALSE)","v":2023},23,1335,0.9,5046,4541,"x",null,"ASW 19","BO",""]
["Radoslav Pur",1973,"M","Hosín","CZ/C1","PPV 2023 - Klub",{"$f":"VLOOKUP(F1522,Soutez!A:B,2,FALSE)","v":"CZ"},{"$f":"VLOOKUP(F1522,Soutez!A:C,3,FALSE)","v":2023},24,1325,0.9,4948,4453,"x",null,"DG 200","EK",""]
["Petr Styblo",{"$f":"VLOOKUP(A1523,Pilot,2,0)","v":1975},{"$f":"VLOOKUP(A1523,Pilot,5,0)","v":"M"},{"$f":"VLOOKUP(A1523,Pilot,3,0)","v":"Letňany"},{"$f":"VLOOKUP(A1523,Pilot,4,0)","v":"CZ/C1"},"PPV 2023 - Klub",{"$f":"VLOOKUP(F1523,Soutez!A:B,2,FALSE)","v":"CZ"},{"$f":"VLOOKUP(F1523,Soutez!A:C,3,FALSE)","v":2023},25,1283,0.9,4763,4287,"x",null,"g 102 Astir CS","PJ",""]
["Jiri Janda",1966,"M","Letňany","CZ/C1","PPV 2023 - Klub",{"$f":"VLOOKUP(F1524,Soutez!A:B,2,FALSE)","v":"CZ"},{"$f":"VLOOKUP(F1524,Soutez!A:C,3,FALSE)","v":2023},26,1164,0.9,4369,3932,"x",null,"ASW 20","TA",""]
["David Benda",{"$f":"VLOOKUP(A1525,Pilot,2,0)","v":1974},{"$f":"VLOOKUP(A1525,Pilot,5,0)","v":"M"},{"$f":"VLOOKUP(A1525,Pilot,3,0)","v":"Letňany"},{"$f":"VLOOKUP(A1525,Pilot,4,0)","v":"CZ/C1"},"PPV 2023 - Klub",{"$f":"VLOOKUP(F1525,Soutez!A:B,2,FALSE)","v":"CZ"},{"$f":"VLOOKUP(F1525,Soutez!A:C,3,FALSE)","v":2023},27,1162,0.9,4292,3863,"x",null,"G 102 Astir CS","PD",""]
["Michal Vranek",1993,"M","Hosín","CZ/C1","PPV 2023 - Klub",{"$f":"VLOOKUP(F1526,Soutez!A:B,2,FALSE)","v":"CZ"},{"$f":"VLOOKUP(F1526,Soutez!A:C,3,FALSE)","v":2023},28,1128,0.9,4128,3715,"x",null,"DG 100","8W",""]
["Filip Sirc",1993,"M","Letňany","CZ/C1","PPV 2023 - Klub",{"$f":"VLOOKUP(F1527,Soutez!A:B,2,FALSE)","v":"CZ"},{"$f":"VLOOKUP(F1527,Soutez!A:C,3,FALSE)","v":2023},29,1081,0.9,3930,3537,"x",null,"ASW 19","WT",""]
["Vaclav Petru",1974,"M","Letňany","CZ/C1","PPV 2023 - Klub",{"$f":"VLOOKUP(F1528,Soutez!A:B,2,FALSE)","v":"CZ"},{"$f":"VLOOKUP(F1528,Soutez!A:C,3,FALSE)","v":2023},30,1075,0.9,3842,3458,"x",null,"Alpin T","AI",""]
["Filip Malik",2001,"M","Letňany","CZ/C1","PPV 2023 - Klub",{"$f":"VLOOKUP(F1529,Soutez!A:B,2,FALSE)","v":"CZ"},{"$f":"VLOOKUP(F1529,Soutez!A:C,3,FALSE)","v":2023},31,1051,0.9,3705,3335,"x",null,"VSO-10","L5","Junior v roce 2025"]
["Petr Malcek",1965,"M","Letňany","CZ/C1","PPV 2023 - Klub",{"$f":"VLOOKUP(F1530,Soutez!A:B,2,FALSE)","v":"CZ"},{"$f":"VLOOKUP(F1530,Soutez!A:C,3,FALSE)","v":2023},32,1039,0.9,3601,3241,"x",null,"G 103 Twin Astir",null,""]
["Jiri Donat",{"$f":"VLOOKUP(A1531,Pilot,2,0)","v":1983},{"$f":"VLOOKUP(A1531,Pilot,5,0)","v":"M"},{"$f":"VLOOKUP(A1531,Pilot,3,0)","v":"Letňany"},{"$f":"VLOOKUP(A1531,Pilot,4,0)","v":"CZ/C1"},"PPV 2023 - Klub",{"$f":"VLOOKUP(F1531,Soutez!A:B,2,FALSE)","v":"CZ"},{"$f":"VLOOKUP(F1531,Soutez!A:C,3,FALSE)","v":2023},33,902,0.9,3159,2843,"x",null,"Std. Cirrus WL","JE",""]
["Yvona Vyhnankova",1963,"F","Olomouc","CZ/M","PPV 2023 - Klub",{"$f":"VLOOKUP(F1532,Soutez!A:B,2,FALSE)","v":"CZ"},{"$f":"VLOOKUP(F1532,Soutez!A:C,3,FALSE)","v":2023},34,874,0.9,3011,2710,"x","x","ASW 15","YZ",""]
["Tereza Novakova",1993,"F","Chrudim","CZ/C2","PPV 2023 - Klub",{"$f":"VLOOKUP(F1533,Soutez!A:B,2,FALSE)","v":"CZ"},{"$f":"VLOOKUP(F1533,Soutez!A:C,3,FALSE)","v":2023},35,843,0.9,2856,2570,"x","x","Std. Cirrus","FF",""]
["Jan Zezula",1979,"M","Letňany","CZ/C1","PPV 2023 - Klub",{"$f":"VLOOKUP(F1534,Soutez!A:B,2,FALSE)","v":"CZ"},{"$f":"VLOOKUP(F1534,Soutez!A:C,3,FALSE)","v":2023},36,826,0.9,2738,2464,"x",null,"ASW 19 B","HD",""]
["Radek Bartos",1971,"M","Kolín","CZ/C1","PPV 2023 - Klub",{"$f":"VLOOKUP(F1535,Soutez!A:B,2,FALSE)","v":"CZ"},{"$f":"VLOOKUP(F1535,Soutez!A:C,3,FALSE)","v":2023},37,764,0.9,2499,2249,"x",null,"DG 300 Club ELAN","DG",""]
["Tomas Holenda",1956,"M","Havlíčkův Brod","CZ/C2","PPV 2023 - Klub",{"$f":"VLOOKUP(F1536,Soutez!A:B,2,FALSE)","v":"CZ"},{"$f":"VLOOKUP(F1536,Soutez!A:C,3,FALSE)","v":2023},38,729,0.9,2333,2100,"x",null,"VT-16 Orlic 2","I",""]
["Martin Piskacek",1991,"M","Křižanov","CZ/M","PPV 2023 - Klub",{"$f":"VLOOKUP(F1537,Soutez!A:B,2,FALSE)","v":"CZ"},{"$f":"VLOOKUP(F1537,Soutez!A:C,3,FALSE)","v":2023},39,656,0.9,2063,1857,"x",null,"std. cirrus",75,""]
["Ivan Kuzelka",1945,"M","Havlíčkův Brod","CZ/C2","PPV 2023 - Klub",{"$f":"VLOOKUP(F1538,Soutez!A:B,2,FALSE)","v":"CZ"},{"$f":"VLOOKUP(F1538,Soutez!A:C,3,FALSE)","v":2023},40,553,0.9,1713,1542,"x",null,"VT-16 Orlic 2",null,""]
["Milos Hrabe",1979,"M","Letňany","CZ/C1","PPV 2023 - Klub",{"$f":"VLOOKUP(F1539,Soutez!A:B,2,FALSE)","v":"CZ"},{"$f":"VLOOKUP(F1539,Soutez!A:C,3,FALSE)","v":2023},41,552,0.9,1639,1475,"x",null,"Std. Cirrus","L8",""]
["Milan Bado",1975,"M","Kolín","CZ/C1","PPV 2023 - Klub",{"$f":"VLOOKUP(F1540,Soutez!A:B,2,FALSE)","v":"CZ"},{"$f":"VLOOKUP(F1540,Soutez!A:C,3,FALSE)","v":2023},42,517,0.9,1473,1326,"x",null,"Std. Cirrus","FU",""]
["Petr Sochor",1986,"M","Hosín","CZ/C1","PPV 2023 - Klub",{"$f":"VLOOKUP(F1541,Soutez!A:B,2,FALSE)","v":"CZ"},{"$f":"VLOOKUP(F1541,Soutez!A:C,3,FALSE)","v":2023},43,0,0.9,0,0,null,null,"ASW 15 B","6Y",""]
["Lubomir Doupal",1975,"M","Kroměříž","CZ/M","PPV 2023 - Klub",{"$f":"VLOOKUP(F1542,Soutez!A:B,2,FALSE)","v":"CZ"},{"$f":"VLOOKUP(F1542,Soutez!A:C,3,FALSE)","v":2023},43,0,0.9,0,0,null,null,"ASW 24 E","LD",""]
["Karel Novak",{"$f":"VLOOKUP(A1543,Pilot,2,0)","v":1993},{"$f":"VLOOKUP(A1543,Pilot,5,0)","v":"M"},{"$f":"VLOOKUP(A1543,Pilot,3,0)","v":"Mladá Boleslav"},{"$f":"VLOOKUP(A1543,Pilot,4,0)","v":"CZ/C1"},"PPV 2023 - Kombi",{"$f":"VLOOKUP(F1543,Soutez!A:B,2,FALSE)","v":"CZ"},{"$f":"VLOOKUP(F1543,Soutez!A:C,3,FALSE)","v":2023},1,2340,0.92,{"$f":"ROUND(J1543/MAX($J$1543:$J$1561)*10000*0.7+(MAX($I$1543:$I$1561)-I1543)/(MAX($I$1543:$I$1561)-1)*10000*0.3,0)","v":10000},{"$f":"ROUND(K1543*L1543,0)","v":9200},"x",null,"JS3 15m","XM",""]
["Petr Hotovy",1958,"M","Česká Lípa","CZ/C2","PPV 2023 - Kombi",{"$f":"VLOOKUP(F1544,Soutez!A:B,2,FALSE)","v":"CZ"},{"$f":"VLOOKUP(F1544,Soutez!A:C,3,FALSE)","v":2023},2,2334,0.92,9815,{"$f":"ROUND(K1544*L1544,0)","v":9030},"x",null,"JS1 18m","IGC",""]
["Ondrej Bordovsky",1983,"M","Krnov","CZ/M","PPV 2023 - Kombi",{"$f":"VLOOKUP(F1545,Soutez!A:B,2,FALSE)","v":"CZ"},{"$f":"VLOOKUP(F1545,Soutez!A:C,3,FALSE)","v":2023},3,2321,0.92,9610,8841,"x",null,"Ventus c 17.6m","AD",""]
["Jan Kantor",1983,"M","Letňany","CZ/C1","PPV 2023 - Kombi",{"$f":"VLOOKUP(F1546,Soutez!A:B,2,FALSE)","v":"CZ"},{"$f":"VLOOKUP(F1546,Soutez!A:C,3,FALSE)","v":2023},4,2256,0.92,9249,8509,"x",null,"ASG 29 E 18m","QX",""]
["Josef Busek",1967,"M","Hosín","CZ/C1","PPV 2023 - Kombi",{"$f":"VLOOKUP(F1547,Soutez!A:B,2,FALSE)","v":"CZ"},{"$f":"VLOOKUP(F1547,Soutez!A:C,3,FALSE)","v":2023},5,2102,0.92,8621,7931,"x",null,"Duo Discus X","BB",""]
["Jan Dersak 69",{"$f":"VLOOKUP(A1548,Pilot,2,0)","v":1969},{"$f":"VLOOKUP(A1548,Pilot,5,0)","v":"M"},{"$f":"VLOOKUP(A1548,Pilot,3,0)","v":"Kralupy"},{"$f":"VLOOKUP(A1548,Pilot,4,0)","v":"CZ/C1"},"PPV 2023 - Kombi",{"$f":"VLOOKUP(F1548,Soutez!A:B,2,FALSE)","v":"CZ"},{"$f":"VLOOKUP(F1548,Soutez!A:C,3,FALSE)","v":2023},6,1984,0.92,8102,7454,"x",null,"HpH 304 MS Shark","DJ",""]
["Jan Boruvka",{"$f":"VLOOKUP(A1549,Pilot,2,0)","v":1984},{"$f":"VLOOKUP(A1549,Pilot,5,0)","v":"M"},{"$f":"VLOOKUP(A1549,Pilot,3,0)","v":"Jičín"},{"$f":"VLOOKUP(A1549,Pilot,4,0)","v":"CZ/C2"},"PPV 2023 - Kombi",{"$f":"VLOOKUP(F1549,Soutez!A:B,2,FALSE)","v":"CZ"},{"$f":"VLOOKUP(F1549,Soutez!A:C,3,FALSE)","v":2023},7,1836,0.92,7492,6893,null,null,"Ventus c 17.6m","EG",""]
["Jan Simon",1970,"M","Kralupy","CZ/C1","PPV 2023 - Kombi",{"$f":"VLOOKUP(F1550,Soutez!A:B,2,FALSE)","v":"CZ"},{"$f":"VLOOKUP(F1550,Soutez!A:C,3,FALSE)","v":2023},8,1818,0.92,7272,6690,null,null,"Ventus cT 17.6m","KR",""]
["Jaromir Pauer",1974,"M","Hosín","CZ/C1","PPV 2023 - Kombi",{"$f":"VLOOKUP(F1551,Soutez!A:B,2,FALSE)","v":"CZ"},{"$f":"VLOOKUP(F1551,Soutez!A:C,3,FALSE)","v":2023},9,1778,0.92,6985,{"$f":"ROUND(K1551*L1551,0)","v":6426},"x",null,"Ventus b 16.6m WL","7F",""]
["Petr Babak",1973,"M","Hořice","CZ/C2","PPV 2023 - Kombi",{"$f":"VLOOKUP(F1552,Soutez!A:B,2,FALSE)","v":"CZ"},{"$f":"VLOOKUP(F1552,Soutez!A:C,3,FALSE)","v":2023},10,1705,0.92,6600,6072,"x",null,"Ventus 2cM 18m","LS",""]
["Marek Blatak",1969,"M","Šumperk","CZ/M","PPV 2023 - Kombi",{"$f":"VLOOKUP(F1553,Soutez!A:B,2,FALSE)","v":"CZ"},{"$f":"VLOOKUP(F1553,Soutez!A:C,3,FALSE)","v":2023},11,1634,0.92,6221,5723,null,null,"Duo Discus T","ZS",""]
["Ales Vyhnal",1989,"M","Kralupy","CZ/C1","PPV 2023 - Kombi",{"$f":"VLOOKUP(F1554,Soutez!A:B,2,FALSE)","v":"CZ"},{"$f":"VLOOKUP(F1554,Soutez!A:C,3,FALSE)","v":2023},12,1438,{"$f":"VLOOKUP(F1554,Soutez,12,0)","v":0.92},5468,5031,"x",null,"Nimbus 3 22.9m","HS",""]
["Zdenek Boruvka 54",1954,"M","Jičín","CZ/C2","PPV 2023 - Kombi",{"$f":"VLOOKUP(F1555,Soutez!A:B,2,FALSE)","v":"CZ"},{"$f":"VLOOKUP(F1555,Soutez!A:C,3,FALSE)","v":2023},13,1385,0.92,5143,4732,null,null,"LS 8","ZB",""]
["David Zapletal",{"$f":"VLOOKUP(A1556,Pilot,2,0)","v":1970},{"$f":"VLOOKUP(A1556,Pilot,5,0)","v":"M"},{"$f":"VLOOKUP(A1556,Pilot,3,0)","v":"Mladá Boleslav"},{"$f":"VLOOKUP(A1556,Pilot,4,0)","v":"CZ/C1"},"PPV 2023 - Kombi",{"$f":"VLOOKUP(F1556,Soutez!A:B,2,FALSE)","v":"CZ"},{"$f":"VLOOKUP(F1556,Soutez!A:C,3,FALSE)","v":2023},14,1238,0.92,4537,4174,null,null,"Ventus c 17.6m","PUP",""]
["Zdenek Schenk",1972,"M","Hranice","CZ/M","PPV 2023 - Kombi",{"$f":"VLOOKUP(F1557,Soutez!A:B,2,FALSE)","v":"CZ"},{"$f":"VLOOKUP(F1557,Soutez!A:C,3,FALSE)","v":2023},15,1188,0.92,4221,3883,null,null,"Ventus cM 17.6m","ŠNeK",""]
["Michal Hemrle",1974,"M","Česká Lípa","CZ/C2","PPV 2023 - Kombi",{"$f":"VLOOKUP(F1558,Soutez!A:B,2,FALSE)","v":"CZ"},{"$f":"VLOOKUP(F1558,Soutez!A:C,3,FALSE)","v":2023},16,1124,0.92,3862,3553,"x",null,"ASG 29 Es 18m","ET",""]
["Tomas Ptacovsky",1981,"M","Letňany","CZ/C1","PPV 2023 - Kombi",{"$f":"VLOOKUP(F1559,Soutez!A:B,2,FALSE)","v":"CZ"},{"$f":"VLOOKUP(F1559,Soutez!A:C,3,FALSE)","v":2023},17,1069,0.92,3531,3249,"x",null,"Ventus c 17.6m","UC",""]
["Martin Holik",1959,"M","Letňany","CZ/C1","PPV 2023 - Kombi",{"$f":"VLOOKUP(F1560,Soutez!A:B,2,FALSE)","v":"CZ"},{"$f":"VLOOKUP(F1560,Soutez!A:C,3,FALSE)","v":2023},18,971,0.92,3071,2825,"x",null,"LS 6 18m","F5",""]
["Vaclav Hruza",1965,"M","Břeclav","CZ/M","PPV 2023 - Kombi",{"$f":"VLOOKUP(F1561,Soutez!A:B,2,FALSE)","v":"CZ"},{"$f":"VLOOKUP(F1561,Soutez!A:C,3,FALSE)","v":2023},19,787,0.92,2354,2166,null,null,"HpH 304 MS Shark","TH",""]
["Tomas Suchanek",{"$f":"VLOOKUP(A1562,Pilot,2,0)","v":1964},{"$f":"VLOOKUP(A1562,Pilot,5,0)","v":"M"},{"$f":"VLOOKUP(A1562,Pilot,3,0)","v":"GAC Benešov"},{"$f":"VLOOKUP(A1562,Pilot,4,0)","v":"CZ/C1"},"PMČR 2023 - Klub",{"$f":"VLOOKUP(F1562,Soutez!A:B,2,FALSE)","v":"CZ"},{"$f":"VLOOKUP(F1562,Soutez!A:C,3,FALSE)","v":2023},1,6319,1.0499999999999998,{"$f":"ROUND(J1562/MAX($J$1562:$J$1577)*10000*0.7+(MAX($I$1562:$I$1577)-I1562)/(MAX($I$1562:$I$1577)-1)*10000*0.3,0)","v":10000},{"$f":"ROUND(K1562*L1562,0)","v":10500},"x",null,"ASW 20L","CX",{"$f":"IF(ISERROR(VLOOKUP(A1562,Pilot,6,0)),\"Není v databázi\",VLOOKUP(A1562,Pilot,6,0))","v":""}]
["Jaroslav Tomana",1975,"M","Zbraslavice","CZ/C1","PMČR 2023 - Klub",{"$f":"VLOOKUP(F1563,Soutez!A:B,2,FALSE)","v":"CZ"},{"$f":"VLOOKUP(F1563,Soutez!A:C,3,FALSE)","v":2023},2,6057,1.0499999999999998,9510,{"$f":"ROUND(K1563*L1563,0)","v":9986},"x",null,"Centrair C-101BC Pegase","RT",""]
["Michal Lesinger",1966,"M","Moravská Třebová","CZ/M","PMČR 2023 - Klub",{"$f":"VLOOKUP(F1564,Soutez!A:B,2,FALSE)","v":"CZ"},{"$f":"VLOOKUP(F1564,Soutez!A:C,3,FALSE)","v":2023},3,6028,1.0499999999999998,9278,9742,"x",null,"ASW-20 A","LL",""]
["Pavel Trybenekr",1990,"M","Hořice","CZ/C2","PMČR 2023 - Klub",{"$f":"VLOOKUP(F1565,Soutez!A:B,2,FALSE)","v":"CZ"},{"$f":"VLOOKUP(F1565,Soutez!A:C,3,FALSE)","v":2023},4,5785,1.0499999999999998,8808,9248,null,null,"LS 4","PF",""]
["Edmund Schuller",null,null,"Lucenec",null,"PMČR 2023 - Klub",{"$f":"VLOOKUP(F1566,Soutez!A:B,2,FALSE)","v":"CZ"},{"$f":"VLOOKUP(F1566,Soutez!A:C,3,FALSE)","v":2023},5,5608,1.0499999999999998,8412,8833,null,null,"ASW 24","ZS","Není v databázi"]
["Petr Stepanek",{"$f":"VLOOKUP(A1567,Pilot,2,0)","v":1989},{"$f":"VLOOKUP(A1567,Pilot,5,0)","v":"M"},{"$f":"VLOOKUP(A1567,Pilot,3,0)","v":"Moravská Třebová"},{"$f":"VLOOKUP(A1567,Pilot,4,0)","v":"CZ/M"},"PMČR 2023 - Klub",{"$f":"VLOOKUP(F1567,Soutez!A:B,2,FALSE)","v":"CZ"},{"$f":"VLOOKUP(F1567,Soutez!A:C,3,FALSE)","v":2023},6,5405,1.0499999999999998,7987,8386,"x",null,"ASW-19","AE",""]
["Lukas Capek",1992,"M","Letňany","CZ/C1","PMČR 2023 - Klub",{"$f":"VLOOKUP(F1568,Soutez!A:B,2,FALSE)","v":"CZ"},{"$f":"VLOOKUP(F1568,Soutez!A:C,3,FALSE)","v":2023},7,5185,1.0499999999999998,7544,7921,null,null,"Mosquito","LC",""]
["Jan Kovalcik",null,null,"Bratislava",null,"PMČR 2023 - Klub",{"$f":"VLOOKUP(F1569,Soutez!A:B,2,FALSE)","v":"CZ"},{"$f":"VLOOKUP(F1569,Soutez!A:C,3,FALSE)","v":2023},8,4975,1.0499999999999998,7111,7467,null,null,"ASW 20","II","Není v databázi"]
["Stepan Filakovsky",{"$f":"VLOOKUP(A1570,Pilot,2,0)","v":2005},{"$f":"VLOOKUP(A1570,Pilot,5,0)","v":"M"},{"$f":"VLOOKUP(A1570,Pilot,3,0)","v":"Medlánky"},{"$f":"VLOOKUP(A1570,Pilot,4,0)","v":"CZ/M"},"PMČR 2023 - Klub",{"$f":"VLOOKUP(F1570,Soutez!A:B,2,FALSE)","v":"CZ"},{"$f":"VLOOKUP(F1570,Soutez!A:C,3,FALSE)","v":2023},9,4947,1.0499999999999998,6880,7224,"x",null,"LS 1f","FD","Junior v roce 2025"]
["Jan Smaha",1958,"M","Česká Lípa","CZ/C2","PMČR 2023 - Klub",{"$f":"VLOOKUP(F1571,Soutez!A:B,2,FALSE)","v":"CZ"},{"$f":"VLOOKUP(F1571,Soutez!A:C,3,FALSE)","v":2023},10,4766,1.0499999999999998,6480,{"$f":"ROUND(K1571*L1571,0)","v":6804},"x",null,"ASW-15B","CW",""]
["Vojtech Vach 03",2003,"M","Vrchlabí","CZ/C2","PMČR 2023 - Klub",{"$f":"VLOOKUP(F1572,Soutez!A:B,2,FALSE)","v":"CZ"},{"$f":"VLOOKUP(F1572,Soutez!A:C,3,FALSE)","v":2023},11,4592,1.0499999999999998,6087,6391,"x",null,"Std. Cirrus","YU","Junior v roce 2025"]
["Petr Masik",{"$f":"VLOOKUP(A1573,Pilot,2,0)","v":2001},{"$f":"VLOOKUP(A1573,Pilot,5,0)","v":"M"},{"$f":"VLOOKUP(A1573,Pilot,3,0)","v":"Zábřeh"},{"$f":"VLOOKUP(A1573,Pilot,4,0)","v":"CZ/M"},"PMČR 2023 - Klub",{"$f":"VLOOKUP(F1573,Soutez!A:B,2,FALSE)","v":"CZ"},{"$f":"VLOOKUP(F1573,Soutez!A:C,3,FALSE)","v":2023},12,4033,1.0499999999999998,5268,5531,"x",null,"Std. Cirrus","MJ","Junior v roce 2025"]
["Martin Stepanek",1987,"M","Moravská Třebová","CZ/M","PMČR 2023 - Klub",{"$f":"VLOOKUP(F1574,Soutez!A:B,2,FALSE)","v":"CZ"},{"$f":"VLOOKUP(F1574,Soutez!A:C,3,FALSE)","v":2023},13,3768,1.0499999999999998,4774,5013,"x",null,"ASW-15B","LE",""]
["Pavlina Horackova",1965,"F","Šumperk","CZ/M","PMČR 2023 - Klub",{"$f":"VLOOKUP(F1575,Soutez!A:B,2,FALSE)","v":"CZ"},{"$f":"VLOOKUP(F1575,Soutez!A:C,3,FALSE)","v":2023},14,3450,1.0499999999999998,4222,4433,"x","x","Jantar std. 2","SU",""]
["Fabian Curda",2004,"M","Zábřeh","CZ/M","PMČR 2023 - Klub",{"$f":"VLOOKUP(F1576,Soutez!A:B,2,FALSE)","v":"CZ"},{"$f":"VLOOKUP(F1576,Soutez!A:C,3,FALSE)","v":2023},15,3150,1.0499999999999998,3689,3873,"x",null,"DG-300","U7","Junior v roce 2025"]
["Adam Hepal",2004,"M","Moravská Třebová","CZ/M","PMČR 2023 - Klub",{"$f":"VLOOKUP(F1577,Soutez!A:B,2,FALSE)","v":"CZ"},{"$f":"VLOOKUP(F1577,Soutez!A:C,3,FALSE)","v":2023},16,2991,1.0499999999999998,3313,3479,"x",null,"ASW-19B","NO","Junior v roce 2025"]
["Jan Pavlik",{"$f":"VLOOKUP(A1578,Pilot,2,0)","v":1987},{"$f":"VLOOKUP(A1578,Pilot,5,0)","v":"M"},{"$f":"VLOOKUP(A1578,Pilot,3,0)","v":"Křižanov"},{"$f":"VLOOKUP(A1578,Pilot,4,0)","v":"CZ/M"},"PMČR 2023 - Kombi 15m",{"$f":"VLOOKUP(F1578,Soutez!A:B,2,FALSE)","v":"CZ"},{"$f":"VLOOKUP(F1578,Soutez!A:C,3,FALSE)","v":2023},1,5231,1.0449999999999999,{"$f":"ROUND(J1578/MAX($J$1578:$J$1587)*10000*0.7+(MAX($I$1578:$I$1587)-I1578)/(MAX($I$1578:$I$1587)-1)*10000*0.3,0)","v":10000},{"$f":"ROUND(K1578*L1578,0)","v":10450},"x",null,"JS3 15m","ZE",""]
["Hana Treslova",1991,"F","Raná","CZ/C2","PMČR 2023 - Kombi 15m",{"$f":"VLOOKUP(F1579,Soutez!A:B,2,FALSE)","v":"CZ"},{"$f":"VLOOKUP(F1579,Soutez!A:C,3,FALSE)","v":2023},2,5164,1.0449999999999999,9577,{"$f":"ROUND(K1579*L1579,0)","v":10008},"x","x","Ventus 2ax","AX",""]
["Pavel Louzecky",1957,"M","Přibyslav","CZ/C2","PMČR 2023 - Kombi 15m",{"$f":"VLOOKUP(F1580,Soutez!A:B,2,FALSE)","v":"CZ"},{"$f":"VLOOKUP(F1580,Soutez!A:C,3,FALSE)","v":2023},3,5127,1.0449999999999999,9194,9608,"x",null,"LS 8","FX",""]
["Karel Novak",1993,"M","Mladá Boleslav","CZ/C1","PMČR 2023 - Kombi 15m",{"$f":"VLOOKUP(F1581,Soutez!A:B,2,FALSE)","v":"CZ"},{"$f":"VLOOKUP(F1581,Soutez!A:C,3,FALSE)","v":2023},4,5035,1.0449999999999999,8738,9131,null,null,"JS3 15m","XM",""]
["Miloslav Cink",1987,"M","Letkov","CZ/C1","PMČR 2023 - Kombi 15m",{"$f":"VLOOKUP(F1582,Soutez!A:B,2,FALSE)","v":"CZ"},{"$f":"VLOOKUP(F1582,Soutez!A:C,3,FALSE)","v":2023},5,4152,1.0449999999999999,7223,7548,null,null,"LS-8B","JB",""]
["Jiri Stepanek",1956,"M","Moravská Třebová","CZ/M","PMČR 2023 - Kombi 15m",{"$f":"VLOOKUP(F1583,Soutez!A:B,2,FALSE)","v":"CZ"},{"$f":"VLOOKUP(F1583,Soutez!A:C,3,FALSE)","v":2023},6,4041,1.0449999999999999,6741,7044,"x",null,"LS 8","JW",""]
["Jana Treslova",1963,"F","Raná","CZ/C2","PMČR 2023 - Kombi 15m",{"$f":"VLOOKUP(F1584,Soutez!A:B,2,FALSE)","v":"CZ"},{"$f":"VLOOKUP(F1584,Soutez!A:C,3,FALSE)","v":2023},7,3577,1.0449999999999999,5787,{"$f":"ROUND(K1584*L1584,0)","v":6047},null,null,"LS 8","W8",""]
["Pavel Rericha",1967,"M","Moravská Třebová","CZ/M","PMČR 2023 - Kombi 15m",{"$f":"VLOOKUP(F1585,Soutez!A:B,2,FALSE)","v":"CZ"},{"$f":"VLOOKUP(F1585,Soutez!A:C,3,FALSE)","v":2023},8,1213,1.0449999999999999,2290,2393,null,null,"Ventus C 15m WL","MC",""]
["Dana Novakova",1965,"F","Mladá Boleslav","CZ/C1","PMČR 2023 - Kombi 15m",{"$f":"VLOOKUP(F1586,Soutez!A:B,2,FALSE)","v":"CZ"},{"$f":"VLOOKUP(F1586,Soutez!A:C,3,FALSE)","v":2023},9,1054,1.0449999999999999,1744,1822,null,null,"LS 8","ID",""]
["Jan Hrbatsch",1989,"M","Hodkovice","CZ/C2","PMČR 2023 - Kombi 15m",{"$f":"VLOOKUP(F1587,Soutez!A:B,2,FALSE)","v":"CZ"},{"$f":"VLOOKUP(F1587,Soutez!A:C,3,FALSE)","v":2023},10,102,1.0449999999999999,136,142,"x",null,"ASW 27B","MF",""]
["Radek Krejcirik",{"$f":"VLOOKUP(A1588,Pilot,2,0)","v":1991},{"$f":"VLOOKUP(A1588,Pilot,5,0)","v":"M"},{"$f":"VLOOKUP(A1588,Pilot,3,0)","v":"Hranice"},{"$f":"VLOOKUP(A1588,Pilot,4,0)","v":"CZ/M"},"PMČR 2023 - Kombi Open",{"$f":"VLOOKUP(F1588,Soutez!A:B,2,FALSE)","v":"CZ"},{"$f":"VLOOKUP(F1588,Soutez!A:C,3,FALSE)","v":2023},1,5348,1.0599999999999998,{"$f":"ROUND(J1588/MAX($J$1588:$J$1598)*10000*0.7+(MAX($I$1588:$I$1598)-I1588)/(MAX($I$1588:$I$1598)-1)*10000*0.3,0)","v":10000},{"$f":"ROUND(K1588*L1588,0)","v":10600},"x",null,"JS3 RES","Q1",""]
["Martin Hrivna",1978,"M","Zbraslavice","CZ/C1","PMČR 2023 - Kombi Open",{"$f":"VLOOKUP(F1589,Soutez!A:B,2,FALSE)","v":"CZ"},{"$f":"VLOOKUP(F1589,Soutez!A:C,3,FALSE)","v":2023},2,5243,1.0599999999999998,9563,{"$f":"ROUND(K1589*L1589,0)","v":10137},"x",null,"ASG 29 18m","NX",""]
["Radek Kucirek",1973,"M","Havlíčkův Brod","CZ/C2","PMČR 2023 - Kombi Open",{"$f":"VLOOKUP(F1590,Soutez!A:B,2,FALSE)","v":"CZ"},{"$f":"VLOOKUP(F1590,Soutez!A:C,3,FALSE)","v":2023},3,5205,1.0599999999999998,9213,9766,"x",null,"EB 28 edition 28,3","NA",""]
["Jiri Kusbach",1959,"M","Luhačovice","CZ/M","PMČR 2023 - Kombi Open",{"$f":"VLOOKUP(F1591,Soutez!A:B,2,FALSE)","v":"CZ"},{"$f":"VLOOKUP(F1591,Soutez!A:C,3,FALSE)","v":2023},4,4725,1.0599999999999998,8285,8782,"x",null,"Diana 3","B",""]
["Pavel Jiranek",1993,"M","Toužim","CZ/C1","PMČR 2023 - Kombi Open",{"$f":"VLOOKUP(F1592,Soutez!A:B,2,FALSE)","v":"CZ"},{"$f":"VLOOKUP(F1592,Soutez!A:C,3,FALSE)","v":2023},5,4559,1.0599999999999998,7767,8233,"x",null,"Ventus c 17.6m","CS",""]
["Jan Boruvka",1984,"M","Jičín","CZ/C2","PMČR 2023 - Kombi Open",{"$f":"VLOOKUP(F1593,Soutez!A:B,2,FALSE)","v":"CZ"},{"$f":"VLOOKUP(F1593,Soutez!A:C,3,FALSE)","v":2023},6,4298,1.0599999999999998,7126,{"$f":"ROUND(K1593*L1593,0)","v":7554},null,null,"Ventus c 17.6m","EG",""]
["Zdenek Boruvka 86",1986,"M","Jičín","CZ/C2","PMČR 2023 - Kombi Open",{"$f":"VLOOKUP(F1594,Soutez!A:B,2,FALSE)","v":"CZ"},{"$f":"VLOOKUP(F1594,Soutez!A:C,3,FALSE)","v":2023},7,3845,1.0599999999999998,6233,6607,"x",null,"Ventus c 17,6m","VV",""]
["Lukas Benedikt",null,null,"AK Trnava",null,"PMČR 2023 - Kombi Open",{"$f":"VLOOKUP(F1595,Soutez!A:B,2,FALSE)","v":"CZ"},{"$f":"VLOOKUP(F1595,Soutez!A:C,3,FALSE)","v":2023},8,3270,1.0599999999999998,5180,5491,null,null,"Ventus 3f 18m","LB","Není v databázi"]
["Dusan Gadas",{"$f":"VLOOKUP(A1596,Pilot,2,0)","v":1960},{"$f":"VLOOKUP(A1596,Pilot,5,0)","v":"M"},{"$f":"VLOOKUP(A1596,Pilot,3,0)","v":"Hranice"},{"$f":"VLOOKUP(A1596,Pilot,4,0)","v":"CZ/M"},"PMČR 2023 - Kombi Open",{"$f":"VLOOKUP(F1596,Soutez!A:B,2,FALSE)","v":"CZ"},{"$f":"VLOOKUP(F1596,Soutez!A:C,3,FALSE)","v":2023},9,3242,1.0599999999999998,4843,5134,"x",null,"Nimbus 4DM","XXL",""]
["Radek Zima 78",1978,"M","Hodkovice","CZ/C2","PMČR 2023 - Kombi Open",{"$f":"VLOOKUP(F1597,Soutez!A:B,2,FALSE)","v":"CZ"},{"$f":"VLOOKUP(F1597,Soutez!A:C,3,FALSE)","v":2023},10,3200,1.0599999999999998,4488,4757,null,null,"ASG 29E","XZ",""]
["Antonin Kutalek",{"$f":"VLOOKUP(A1598,Pilot,2,0)","v":1943},{"$f":"VLOOKUP(A1598,Pilot,5,0)","v":"M"},{"$f":"VLOOKUP(A1598,Pilot,3,0)","v":"Zábřeh"},{"$f":"VLOOKUP(A1598,Pilot,4,0)","v":"CZ/M"},"PMČR 2023 - Kombi Open",{"$f":"VLOOKUP(F1598,Soutez!A:B,2,FALSE)","v":"CZ"},{"$f":"VLOOKUP(F1598,Soutez!A:C,3,FALSE)","v":2023},11,2100,1.0599999999999998,2749,2914,null,null,"LAK 17AT 18m WL","GL",""]
["Ferenc Tamas",null,null,"DAC 1930 (Szeged)",null,"FCC Gliding 2023 - Klub",{"$f":"VLOOKUP(F1599,Soutez!A:B,2,FALSE)","v":"SK"},{"$f":"VLOOKUP(F1599,Soutez!A:C,3,FALSE)","v":2023},1,5876,0.93500000000000005,{"$f":"ROUND(J1599/MAX($J$1599:$J$1619)*10000*0.7+(MAX($I$1599:$I$1619)-I1599)/(MAX($I$1599:$I$1619)-1)*10000*0.3,0)","v":10000},{"$f":"ROUND(K1599*L1599,0)","v":9350},null,null,"LS-3 15m WL","1A","Není v databázi"]
["Stanislaw Wujczak",null,null,"LESCZYNSKI AEROKLUB",null,"FCC Gliding 2023 - Klub",{"$f":"VLOOKUP(F1600,Soutez!A:B,2,FALSE)","v":"SK"},{"$f":"VLOOKUP(F1600,Soutez!A:C,3,FALSE)","v":2023},2,5706,0.93500000000000005,9647,{"$f":"ROUND(K1600*L1600,0)","v":9020},null,null,"Min-i Nimbus b","RX","Není v databázi"]
["Alin Simion",null,null,"Romanian Airclub",null,"FCC Gliding 2023 - Klub",{"$f":"VLOOKUP(F1601,Soutez!A:B,2,FALSE)","v":"SK"},{"$f":"VLOOKUP(F1601,Soutez!A:C,3,FALSE)","v":2023},3,5680,0.93500000000000005,9467,8852,null,null,"LS 4A WL","Y2","Není v databázi"]
["Marek Herbreder",null,null,"Aeroklub Warszawski\\Szybowcowy Szczecin",null,"FCC Gliding 2023 - Klub",{"$f":"VLOOKUP(F1602,Soutez!A:B,2,FALSE)","v":"SK"},{"$f":"VLOOKUP(F1602,Soutez!A:C,3,FALSE)","v":2023},4,5500,0.93500000000000005,9102,8510,null,null,"SZD-55 Promyk","TK","Není v databázi"]
["Martin Sabľa",null,null,"SNV",null,"FCC Gliding 2023 - Klub",{"$f":"VLOOKUP(F1603,Soutez!A:B,2,FALSE)","v":"SK"},{"$f":"VLOOKUP(F1603,Soutez!A:C,3,FALSE)","v":2023},5,5425,0.93500000000000005,8863,8287,null,null,"Discus b",70,"Není v databázi"]
["Slavomir Piskaty 84",{"$f":"VLOOKUP(A1604,Pilot,2,0)","v":1984},{"$f":"VLOOKUP(A1604,Pilot,5,0)","v":"M"},{"$f":"VLOOKUP(A1604,Pilot,3,0)","v":"Kunovice"},{"$f":"VLOOKUP(A1604,Pilot,4,0)","v":"CZ/M"},"FCC Gliding 2023 - Klub",{"$f":"VLOOKUP(F1604,Soutez!A:B,2,FALSE)","v":"SK"},{"$f":"VLOOKUP(F1604,Soutez!A:C,3,FALSE)","v":2023},6,5424,0.93500000000000005,8712,8146,"x",null,"Discus b WL","KAL",""]
["Mariusz Rachwal",null,null,"Ziemi Zamojskiej",null,"FCC Gliding 2023 - Klub",{"$f":"VLOOKUP(F1605,Soutez!A:B,2,FALSE)","v":"SK"},{"$f":"VLOOKUP(F1605,Soutez!A:C,3,FALSE)","v":2023},7,5367,0.93500000000000005,8494,7942,null,null,"Mini Nimbus HS 7","VI","Není v databázi"]
["Petra Piskata",{"$f":"VLOOKUP(A1606,Pilot,2,0)","v":1989},{"$f":"VLOOKUP(A1606,Pilot,5,0)","v":"F"},{"$f":"VLOOKUP(A1606,Pilot,3,0)","v":"Luhačovice"},{"$f":"VLOOKUP(A1606,Pilot,4,0)","v":"CZ/M"},"FCC Gliding 2023 - Klub",{"$f":"VLOOKUP(F1606,Soutez!A:B,2,FALSE)","v":"SK"},{"$f":"VLOOKUP(F1606,Soutez!A:C,3,FALSE)","v":2023},8,5351,0.93500000000000005,8325,7784,"x","x","asw20L","CX",""]
["Tudor Bajenaru",null,null,"Aeroclubul Romaniei",null,"FCC Gliding 2023 - Klub",{"$f":"VLOOKUP(F1607,Soutez!A:B,2,FALSE)","v":"SK"},{"$f":"VLOOKUP(F1607,Soutez!A:C,3,FALSE)","v":2023},9,5184,0.93500000000000005,7976,7458,null,null,"LS 4 WL","8M","Není v databázi"]
["Ryszard Pachla",null,null,"Czestochowski",null,"FCC Gliding 2023 - Klub",{"$f":"VLOOKUP(F1608,Soutez!A:B,2,FALSE)","v":"SK"},{"$f":"VLOOKUP(F1608,Soutez!A:C,3,FALSE)","v":2023},10,5142,0.93500000000000005,7776,7271,null,null,"SZD-48 Jantar std. 2 WL","L","Není v databázi"]
["Lukasz Florkowski",null,null,"Ostrowski",null,"FCC Gliding 2023 - Klub",{"$f":"VLOOKUP(F1609,Soutez!A:B,2,FALSE)","v":"SK"},{"$f":"VLOOKUP(F1609,Soutez!A:C,3,FALSE)","v":2023},11,5129,0.93500000000000005,7610,7115,null,null,"SZD-41A Jantar std.","ZSI","Není v databázi"]
["Attila Korom",null,null,"HUN",null,"FCC Gliding 2023 - Klub",{"$f":"VLOOKUP(F1610,Soutez!A:B,2,FALSE)","v":"SK"},{"$f":"VLOOKUP(F1610,Soutez!A:C,3,FALSE)","v":2023},12,4969,0.93500000000000005,7270,6797,null,null,"ASW20","MC","Není v databázi"]
["Wojciech Kubiak",null,null,"Aeroklub Krakowski",null,"FCC Gliding 2023 - Klub",{"$f":"VLOOKUP(F1611,Soutez!A:B,2,FALSE)","v":"SK"},{"$f":"VLOOKUP(F1611,Soutez!A:C,3,FALSE)","v":2023},13,4874,0.93500000000000005,7006,6551,null,null,"SZD-55","W07","Není v databázi"]
["Peter Gonczi",null,null,"Malév",null,"FCC Gliding 2023 - Klub",{"$f":"VLOOKUP(F1612,Soutez!A:B,2,FALSE)","v":"SK"},{"$f":"VLOOKUP(F1612,Soutez!A:C,3,FALSE)","v":2023},14,4554,0.93500000000000005,6475,6054,null,null,"Janus C (FG)","DD","Není v databázi"]
["Andrzej Ogonowski",null,null,"Aeroclub Nadwislanski",null,"FCC Gliding 2023 - Klub",{"$f":"VLOOKUP(F1613,Soutez!A:B,2,FALSE)","v":"SK"},{"$f":"VLOOKUP(F1613,Soutez!A:C,3,FALSE)","v":2023},15,4552,0.93500000000000005,6323,{"$f":"ROUND(K1613*L1613,0)","v":5912},null,null,"LS-4","OG","Není v databázi"]
["Aleksandar Diklic",null,null,"Zrenjanin",null,"FCC Gliding 2023 - Klub",{"$f":"VLOOKUP(F1614,Soutez!A:B,2,FALSE)","v":"SK"},{"$f":"VLOOKUP(F1614,Soutez!A:C,3,FALSE)","v":2023},16,3496,0.93500000000000005,4915,4596,null,null,"DG-100",30,"Není v databázi"]
["Christoph Matkowski",null,null,"Gliwice",null,"FCC Gliding 2023 - Klub",{"$f":"VLOOKUP(F1615,Soutez!A:B,2,FALSE)","v":"SK"},{"$f":"VLOOKUP(F1615,Soutez!A:C,3,FALSE)","v":2023},17,3459,0.93500000000000005,4721,4414,null,null,"LAK 17B mini FES","MA","Není v databázi"]
["Lubomir Doupal",{"$f":"VLOOKUP(A1616,Pilot,2,0)","v":1975},{"$f":"VLOOKUP(A1616,Pilot,5,0)","v":"M"},{"$f":"VLOOKUP(A1616,Pilot,3,0)","v":"Kroměříž"},{"$f":"VLOOKUP(A1616,Pilot,4,0)","v":"CZ/M"},"FCC Gliding 2023 - Klub",{"$f":"VLOOKUP(F1616,Soutez!A:B,2,FALSE)","v":"SK"},{"$f":"VLOOKUP(F1616,Soutez!A:C,3,FALSE)","v":2023},18,3359,0.93500000000000005,4452,4163,"x",null,"ASW 24 E WL","LU",""]
["Jerzy Mikołajczyk",null,null,"AZM",null,"FCC Gliding 2023 - Klub",{"$f":"VLOOKUP(F1617,Soutez!A:B,2,FALSE)","v":"SK"},{"$f":"VLOOKUP(F1617,Soutez!A:C,3,FALSE)","v":2023},19,3357,0.93500000000000005,4299,4020,null,null,"LS-4","YL","Není v databázi"]
["Peter Kassai",null,null,"MALÉV",null,"FCC Gliding 2023 - Klub",{"$f":"VLOOKUP(F1618,Soutez!A:B,2,FALSE)","v":"SK"},{"$f":"VLOOKUP(F1618,Soutez!A:C,3,FALSE)","v":2023},20,727,{"$f":"VLOOKUP(F1618,Soutez,12,0)","v":0.93500000000000005},1016,950,null,null,"Discus b WL","7W","Není v databázi"]
["Ryszard Bendkowski",null,null,"Warszawa",null,"FCC Gliding 2023 - Klub",{"$f":"VLOOKUP(F1619,Soutez!A:B,2,FALSE)","v":"SK"},{"$f":"VLOOKUP(F1619,Soutez!A:C,3,FALSE)","v":2023},21,477,0.93500000000000005,568,531,null,null,"SZD-48 Jantar Std. 2","Filip","Není v databázi"]
["Sebastian Kawa",null,null,"Bialsko Biala",null,"FCC Gliding 2023 - Kombi 15m",{"$f":"VLOOKUP(F1620,Soutez!A:B,2,FALSE)","v":"SK"},{"$f":"VLOOKUP(F1620,Soutez!A:C,3,FALSE)","v":2023},1,5749,0.9850000000000001,{"$f":"ROUND(J1620/MAX($J$1620:$J$1650)*10000*0.7+(MAX($I$1620:$I$1650)-I1620)/(MAX($I$1620:$I$1650)-1)*10000*0.3,0)","v":10000},{"$f":"ROUND(K1620*L1620,0)","v":9850},null,null,"Diana 2 FES","GSS","Není v databázi"]
["Maximilian SEIS",null,null,"Polé France/AAA Bordeaux / AAVA Vinon sur Verdon",null,"FCC Gliding 2023 - Kombi 15m",{"$f":"VLOOKUP(F1621,Soutez!A:B,2,FALSE)","v":"SK"},{"$f":"VLOOKUP(F1621,Soutez!A:C,3,FALSE)","v":2023},2,5662,0.9850000000000001,9794,{"$f":"ROUND(K1621*L1621,0)","v":9647},null,null,"Discus 2a 15m","ET",{"$f":"IF(ISERROR(VLOOKUP(A1621,Pilot,6,0)),\"Není v databázi\",VLOOKUP(A1621,Pilot,6,0))","v":"Není v databázi"}]
["Barbora Moravcova",{"$f":"VLOOKUP(A1622,Pilot,2,0)","v":1994},{"$f":"VLOOKUP(A1622,Pilot,5,0)","v":"F"},{"$f":"VLOOKUP(A1622,Pilot,3,0)","v":"Zbraslavice"},{"$f":"VLOOKUP(A1622,Pilot,4,0)","v":"CZ/C1"},"FCC Gliding 2023 - Kombi 15m",{"$f":"VLOOKUP(F1622,Soutez!A:B,2,FALSE)","v":"SK"},{"$f":"VLOOKUP(F1622,Soutez!A:C,3,FALSE)","v":2023},3,5602,0.9850000000000001,9621,9477,"x","x","LS-8 15m","JB",""]
["Julien Duboc",null,null,"Polé France,TGV Condom",null,"FCC Gliding 2023 - Kombi 15m",{"$f":"VLOOKUP(F1623,Soutez!A:B,2,FALSE)","v":"SK"},{"$f":"VLOOKUP(F1623,Soutez!A:C,3,FALSE)","v":2023},4,5556,0.9850000000000001,9465,9323,null,null,"Discus 2a 15m","JPA","Není v databázi"]
["Victor-Alex POP",null,null,"ROMANIAN AIRCLUB",null,"FCC Gliding 2023 - Kombi 15m",{"$f":"VLOOKUP(F1624,Soutez!A:B,2,FALSE)","v":"SK"},{"$f":"VLOOKUP(F1624,Soutez!A:C,3,FALSE)","v":2023},5,5504,0.9850000000000001,9302,9162,null,null,"Discus 2a 15m","YB","Není v databázi"]
["Jana Treslova",{"$f":"VLOOKUP(A1625,Pilot,2,0)","v":1963},{"$f":"VLOOKUP(A1625,Pilot,5,0)","v":"F"},{"$f":"VLOOKUP(A1625,Pilot,3,0)","v":"Raná"},{"$f":"VLOOKUP(A1625,Pilot,4,0)","v":"CZ/C2"},"FCC Gliding 2023 - Kombi 15m",{"$f":"VLOOKUP(F1625,Soutez!A:B,2,FALSE)","v":"SK"},{"$f":"VLOOKUP(F1625,Soutez!A:C,3,FALSE)","v":2023},6,5500,0.9850000000000001,9197,9059,"x","x","LS-8 15m","W8",""]
["Aurelien Doriat",null,null,"ACP Poitiers",null,"FCC Gliding 2023 - Kombi 15m",{"$f":"VLOOKUP(F1626,Soutez!A:B,2,FALSE)","v":"SK"},{"$f":"VLOOKUP(F1626,Soutez!A:C,3,FALSE)","v":2023},7,5499,0.9850000000000001,9096,8960,null,null,"LS-8 15m","P1","Není v databázi"]
["Adam Woolley",null,null,"Kingaroy Soaring Club",null,"FCC Gliding 2023 - Kombi 15m",{"$f":"VLOOKUP(F1627,Soutez!A:B,2,FALSE)","v":"SK"},{"$f":"VLOOKUP(F1627,Soutez!A:C,3,FALSE)","v":2023},8,5491,0.9850000000000001,8986,8851,null,null,"Discus 2ax 15m","GX","Není v databázi"]
["Dana Novakova",{"$f":"VLOOKUP(A1628,Pilot,2,0)","v":1965},{"$f":"VLOOKUP(A1628,Pilot,5,0)","v":"F"},{"$f":"VLOOKUP(A1628,Pilot,3,0)","v":"Mladá Boleslav"},{"$f":"VLOOKUP(A1628,Pilot,4,0)","v":"CZ/C1"},"FCC Gliding 2023 - Kombi 15m",{"$f":"VLOOKUP(F1628,Soutez!A:B,2,FALSE)","v":"SK"},{"$f":"VLOOKUP(F1628,Soutez!A:C,3,FALSE)","v":2023},9,5480,0.9850000000000001,8872,8739,"x","x","LS-8 15m","ID",""]
["Pavel Louzecky",1957,"M","Přibyslav","CZ/C2","FCC Gliding 2023 - Kombi 15m",{"$f":"VLOOKUP(F1629,Soutez!A:B,2,FALSE)","v":"SK"},{"$f":"VLOOKUP(F1629,Soutez!A:C,3,FALSE)","v":2023},10,5453,0.9850000000000001,8740,8609,"x",null,"LS-8 15m","FX",""]
["Maros Divok",null,null,"Spišská Nová Ves",null,"FCC Gliding 2023 - Kombi 15m",{"$f":"VLOOKUP(F1630,Soutez!A:B,2,FALSE)","v":"SK"},{"$f":"VLOOKUP(F1630,Soutez!A:C,3,FALSE)","v":2023},11,5442,0.9850000000000001,8626,8497,null,null,"DuoDiscus XT","SNV","Není v databázi"]
["Kevin Faur",null,null,"Aeroclub de l\\'Ariege",null,"FCC Gliding 2023 - Kombi 15m",{"$f":"VLOOKUP(F1631,Soutez!A:B,2,FALSE)","v":"SK"},{"$f":"VLOOKUP(F1631,Soutez!A:C,3,FALSE)","v":2023},12,5422,0.9850000000000001,8502,8374,null,null,"Ventus 2a 15m","1R","Není v databázi"]
["Lukasz Blaszczyk",null,null,"Ostrow",null,"FCC Gliding 2023 - Kombi 15m",{"$f":"VLOOKUP(F1632,Soutez!A:B,2,FALSE)","v":"SK"},{"$f":"VLOOKUP(F1632,Soutez!A:C,3,FALSE)","v":2023},13,5405,0.9850000000000001,8381,8255,null,null,"Discus 2a 15m","I","Není v databázi"]
["Miloslav Cink",{"$f":"VLOOKUP(A1633,Pilot,2,0)","v":1987},{"$f":"VLOOKUP(A1633,Pilot,5,0)","v":"M"},{"$f":"VLOOKUP(A1633,Pilot,3,0)","v":"Letkov"},{"$f":"VLOOKUP(A1633,Pilot,4,0)","v":"CZ/C1"},"FCC Gliding 2023 - Kombi 15m",{"$f":"VLOOKUP(F1633,Soutez!A:B,2,FALSE)","v":"SK"},{"$f":"VLOOKUP(F1633,Soutez!A:C,3,FALSE)","v":2023},14,5377,0.9850000000000001,8247,8123,null,null,"LS-8a 15m","EU",""]
["Piotr Jarysz",null,null,"Aeroklub Leszczyński",null,"FCC Gliding 2023 - Kombi 15m",{"$f":"VLOOKUP(F1634,Soutez!A:B,2,FALSE)","v":"SK"},{"$f":"VLOOKUP(F1634,Soutez!A:C,3,FALSE)","v":2023},15,5176,0.9850000000000001,7902,7783,null,null,"LS-6a 15m","BB","Není v databázi"]
["Adam Czeladzki",null,null,"Warszawski",null,"FCC Gliding 2023 - Kombi 15m",{"$f":"VLOOKUP(F1635,Soutez!A:B,2,FALSE)","v":"SK"},{"$f":"VLOOKUP(F1635,Soutez!A:C,3,FALSE)","v":2023},16,5153,0.9850000000000001,7774,7657,null,null,"Duo Discus XLT","POL","Není v databázi"]
["Arturas Klimasauskas",null,null,"Pociunai",null,"FCC Gliding 2023 - Kombi 15m",{"$f":"VLOOKUP(F1636,Soutez!A:B,2,FALSE)","v":"SK"},{"$f":"VLOOKUP(F1636,Soutez!A:C,3,FALSE)","v":2023},17,5124,0.9850000000000001,7639,7524,null,null,"Ventus 2b 15m","BX","Není v databázi"]
["Pavel Trojan",{"$f":"VLOOKUP(A1637,Pilot,2,0)","v":1960},{"$f":"VLOOKUP(A1637,Pilot,5,0)","v":"M"},{"$f":"VLOOKUP(A1637,Pilot,3,0)","v":"Chrudim"},{"$f":"VLOOKUP(A1637,Pilot,4,0)","v":"CZ/C2"},"FCC Gliding 2023 - Kombi 15m",{"$f":"VLOOKUP(F1637,Soutez!A:B,2,FALSE)","v":"SK"},{"$f":"VLOOKUP(F1637,Soutez!A:C,3,FALSE)","v":2023},18,4955,0.9850000000000001,7333,7223,"x",null,"Duo Discus T -700kg","ZS",""]
["Theo MANFREDI",null,null,"AAVO Chérence",null,"FCC Gliding 2023 - Kombi 15m",{"$f":"VLOOKUP(F1638,Soutez!A:B,2,FALSE)","v":"SK"},{"$f":"VLOOKUP(F1638,Soutez!A:C,3,FALSE)","v":2023},19,4834,0.9850000000000001,7086,6980,null,null,"LAK 17A 15m WL","LE","Není v databázi"]
["Norbert Scarlat",null,null,"Romanian Airclub",null,"FCC Gliding 2023 - Kombi 15m",{"$f":"VLOOKUP(F1639,Soutez!A:B,2,FALSE)","v":"SK"},{"$f":"VLOOKUP(F1639,Soutez!A:C,3,FALSE)","v":2023},20,4785,0.9850000000000001,6926,{"$f":"ROUND(K1639*L1639,0)","v":6822},null,null,"Discus 2a 15m","Y1","Není v databázi"]
["Jan Ratz",{"$f":"VLOOKUP(A1640,Pilot,2,0)","v":1987},{"$f":"VLOOKUP(A1640,Pilot,5,0)","v":"M"},{"$f":"VLOOKUP(A1640,Pilot,3,0)","v":"Zbraslavice"},{"$f":"VLOOKUP(A1640,Pilot,4,0)","v":"CZ/C1"},"FCC Gliding 2023 - Kombi 15m",{"$f":"VLOOKUP(F1640,Soutez!A:B,2,FALSE)","v":"SK"},{"$f":"VLOOKUP(F1640,Soutez!A:C,3,FALSE)","v":2023},21,4734,0.9850000000000001,6764,6663,"x",null,"LS-8 15m","AU",""]
["Ionut Tudor",null,null,"Romanian Airclub",null,"FCC Gliding 2023 - Kombi 15m",{"$f":"VLOOKUP(F1641,Soutez!A:B,2,FALSE)","v":"SK"},{"$f":"VLOOKUP(F1641,Soutez!A:C,3,FALSE)","v":2023},22,4720,0.9850000000000001,6647,6547,null,null,"Discus 2a","YA","Není v databázi"]
["Maciej Walasek",null,null,"Aeroklub Krakowski",null,"FCC Gliding 2023 - Kombi 15m",{"$f":"VLOOKUP(F1642,Soutez!A:B,2,FALSE)","v":"SK"},{"$f":"VLOOKUP(F1642,Soutez!A:C,3,FALSE)","v":2023},23,4645,0.9850000000000001,6456,6359,null,null,"LS-6c 15m","KK","Není v databázi"]
["Slavomir Valecko",{"$f":"VLOOKUP(A1643,Pilot,2,0)","v":1960},{"$f":"VLOOKUP(A1643,Pilot,5,0)","v":"M"},{"$f":"VLOOKUP(A1643,Pilot,3,0)","v":"Hranice"},{"$f":"VLOOKUP(A1643,Pilot,4,0)","v":"CZ/M"},"FCC Gliding 2023 - Kombi 15m",{"$f":"VLOOKUP(F1643,Soutez!A:B,2,FALSE)","v":"SK"},{"$f":"VLOOKUP(F1643,Soutez!A:C,3,FALSE)","v":2023},24,4465,0.9850000000000001,6137,6045,"x",null,"Discus b WL","IYB",""]
["Dariusz Czech",null,null,"Stalowowolski",null,"FCC Gliding 2023 - Kombi 15m",{"$f":"VLOOKUP(F1644,Soutez!A:B,2,FALSE)","v":"SK"},{"$f":"VLOOKUP(F1644,Soutez!A:C,3,FALSE)","v":2023},25,4261,0.9850000000000001,5788,5701,null,null,"LAK 19 15m WL","DC","Není v databázi"]
["Wojciech Domanski",null,null,"PL/KSS/Nowy Targ",null,"FCC Gliding 2023 - Kombi 15m",{"$f":"VLOOKUP(F1645,Soutez!A:B,2,FALSE)","v":"SK"},{"$f":"VLOOKUP(F1645,Soutez!A:C,3,FALSE)","v":2023},26,4169,0.9850000000000001,5576,5492,null,null,"Ventus 2a 15m","PE","Není v databázi"]
["Joanna Biedermann",null,null,"Aeroclub Nadwislanski",null,"FCC Gliding 2023 - Kombi 15m",{"$f":"VLOOKUP(F1646,Soutez!A:B,2,FALSE)","v":"SK"},{"$f":"VLOOKUP(F1646,Soutez!A:C,3,FALSE)","v":2023},27,4095,0.9850000000000001,5386,5305,null,null,"Discus 2a 15m","Y","Není v databázi"]
["Pawel Frackowiak",null,null,"Aeroklub Poznanski",null,"FCC Gliding 2023 - Kombi 15m",{"$f":"VLOOKUP(F1647,Soutez!A:B,2,FALSE)","v":"SK"},{"$f":"VLOOKUP(F1647,Soutez!A:C,3,FALSE)","v":2023},28,3931,0.9850000000000001,5086,5010,null,null,"LAK 17B FES 15m -525 kg",77,"Není v databázi"]
["Benedikt Laho",null,null,"Trnava",null,"FCC Gliding 2023 - Kombi 15m",{"$f":"VLOOKUP(F1648,Soutez!A:B,2,FALSE)","v":"SK"},{"$f":"VLOOKUP(F1648,Soutez!A:C,3,FALSE)","v":2023},29,3706,0.9850000000000001,4712,4641,null,null,"Discus 2cT 15m","JH","Není v databázi"]
["Konrad Jaczkowski",null,null,"Czestochowski",null,"FCC Gliding 2023 - Kombi 15m",{"$f":"VLOOKUP(F1649,Soutez!A:B,2,FALSE)","v":"SK"},{"$f":"VLOOKUP(F1649,Soutez!A:C,3,FALSE)","v":2023},30,3656,0.9850000000000001,4552,4484,null,null,"Ventus 2b 15m","CB","Není v databázi"]
["Andrzej SZCZERBA",null,null,"WARSZAWSKI",null,"FCC Gliding 2023 - Kombi 15m",{"$f":"VLOOKUP(F1650,Soutez!A:B,2,FALSE)","v":"SK"},{"$f":"VLOOKUP(F1650,Soutez!A:C,3,FALSE)","v":2023},31,3302,0.9850000000000001,4021,{"$f":"ROUND(K1650*L1650,0)","v":3961},null,null,"SZD-56-2 Diana-2 FES","AI","Není v databázi"]
["David Mach",{"$f":"VLOOKUP(A1651,Pilot,2,0)","v":1994},{"$f":"VLOOKUP(A1651,Pilot,5,0)","v":"M"},{"$f":"VLOOKUP(A1651,Pilot,3,0)","v":"Hronov"},{"$f":"VLOOKUP(A1651,Pilot,4,0)","v":"CZ/C2"},"FCC Gliding 2023 - Kombi Open",{"$f":"VLOOKUP(F1651,Soutez!A:B,2,FALSE)","v":"SK"},{"$f":"VLOOKUP(F1651,Soutez!A:C,3,FALSE)","v":2023},1,5781,0.95500000000000007,{"$f":"ROUND(J1651/MAX($J$1651:$J$1690)*10000*0.7+(MAX($I$1651:$I$1690)-I1651)/(MAX($I$1651:$I$1690)-1)*10000*0.3,0)","v":10000},{"$f":"ROUND(K1651*L1651,0)","v":9550},"x",null,"JS1-C 18 m","ZF",""]
["Karol Staryszak",null,null,"Nadwislamski",null,"FCC Gliding 2023 - Kombi Open",{"$f":"VLOOKUP(F1652,Soutez!A:B,2,FALSE)","v":"SK"},{"$f":"VLOOKUP(F1652,Soutez!A:C,3,FALSE)","v":2023},2,5736,0.95500000000000007,9869,{"$f":"ROUND(K1652*L1652,0)","v":9425},null,null,"ASG 29E 18m","PES","Není v databázi"]
["Andre Weidlich",null,null,"LSV Ruhr-Lenne Iserlohn",null,"FCC Gliding 2023 - Kombi Open",{"$f":"VLOOKUP(F1653,Soutez!A:B,2,FALSE)","v":"SK"},{"$f":"VLOOKUP(F1653,Soutez!A:C,3,FALSE)","v":2023},3,5708,0.95500000000000007,9758,9319,null,null,"Ventus 3M 18m","TE","Není v databázi"]
["Andreas Kessler",null,null,"Romanian Airclub",null,"FCC Gliding 2023 - Kombi Open",{"$f":"VLOOKUP(F1654,Soutez!A:B,2,FALSE)","v":"SK"},{"$f":"VLOOKUP(F1654,Soutez!A:C,3,FALSE)","v":2023},4,5690,0.95500000000000007,9659,9224,null,null,"ASG-32 Mi-800 kg","AK","Není v databázi"]
["Petr Krejcirik",{"$f":"VLOOKUP(A1655,Pilot,2,0)","v":1960},{"$f":"VLOOKUP(A1655,Pilot,5,0)","v":"M"},{"$f":"VLOOKUP(A1655,Pilot,3,0)","v":"Hranice"},{"$f":"VLOOKUP(A1655,Pilot,4,0)","v":"CZ/M"},"FCC Gliding 2023 - Kombi Open",{"$f":"VLOOKUP(F1655,Soutez!A:B,2,FALSE)","v":"SK"},{"$f":"VLOOKUP(F1655,Soutez!A:C,3,FALSE)","v":2023},5,5646,0.95500000000000007,9529,9100,null,null,"JS3 TJ 18m","VB",""]
["Bernd Goretzki",null,null,"LSV Rinteln",null,"FCC Gliding 2023 - Kombi Open",{"$f":"VLOOKUP(F1656,Soutez!A:B,2,FALSE)","v":"SK"},{"$f":"VLOOKUP(F1656,Soutez!A:C,3,FALSE)","v":2023},6,5605,0.95500000000000007,9402,8979,null,null,"Ventus 3M 18m","C8","Není v databázi"]
["Zdislaw Bednarczuk",null,null,"Bielsko-Biala",null,"FCC Gliding 2023 - Kombi Open",{"$f":"VLOOKUP(F1657,Soutez!A:B,2,FALSE)","v":"SK"},{"$f":"VLOOKUP(F1657,Soutez!A:C,3,FALSE)","v":2023},7,5604,0.95500000000000007,9324,8904,null,null,"Js3 MD","ZB","Není v databázi"]
["Radek Krejcirik",{"$f":"VLOOKUP(A1658,Pilot,2,0)","v":1991},{"$f":"VLOOKUP(A1658,Pilot,5,0)","v":"M"},{"$f":"VLOOKUP(A1658,Pilot,3,0)","v":"Hranice"},{"$f":"VLOOKUP(A1658,Pilot,4,0)","v":"CZ/M"},"FCC Gliding 2023 - Kombi Open",{"$f":"VLOOKUP(F1658,Soutez!A:B,2,FALSE)","v":"SK"},{"$f":"VLOOKUP(F1658,Soutez!A:C,3,FALSE)","v":2023},8,5586,0.95500000000000007,9225,8810,null,null,"AS 33 Es",12,""]
["Andy Smielkiewicz",null,null,"Leszno",null,"FCC Gliding 2023 - Kombi Open",{"$f":"VLOOKUP(F1659,Soutez!A:B,2,FALSE)","v":"SK"},{"$f":"VLOOKUP(F1659,Soutez!A:C,3,FALSE)","v":2023},9,5566,0.95500000000000007,9124,8713,null,null,"ASG 29E 18m","A2","Není v databázi"]
["Tomasz Dul",null,null,"LSV Dinslaken",null,"FCC Gliding 2023 - Kombi Open",{"$f":"VLOOKUP(F1660,Soutez!A:B,2,FALSE)","v":"SK"},{"$f":"VLOOKUP(F1660,Soutez!A:C,3,FALSE)","v":2023},9,5566,0.95500000000000007,9124,8713,null,null,"JS3 MD","TO","Není v databázi"]
["Arkadiusz Downar",null,null,"Warminsko Mazurski",null,"FCC Gliding 2023 - Kombi Open",{"$f":"VLOOKUP(F1661,Soutez!A:B,2,FALSE)","v":"SK"},{"$f":"VLOOKUP(F1661,Soutez!A:C,3,FALSE)","v":2023},11,5487,0.95500000000000007,8875,8476,null,null,"ASG 29E 18m","PL","Není v databázi"]
["Jiri Kusbach",{"$f":"VLOOKUP(A1662,Pilot,2,0)","v":1959},{"$f":"VLOOKUP(A1662,Pilot,5,0)","v":"M"},{"$f":"VLOOKUP(A1662,Pilot,3,0)","v":"Luhačovice"},{"$f":"VLOOKUP(A1662,Pilot,4,0)","v":"CZ/M"},"FCC Gliding 2023 - Kombi Open",{"$f":"VLOOKUP(F1662,Soutez!A:B,2,FALSE)","v":"SK"},{"$f":"VLOOKUP(F1662,Soutez!A:C,3,FALSE)","v":2023},12,5480,0.95500000000000007,8789,8393,null,null,"Diana 3 FES","B",""]
["Lukasz Kornacki",null,null,"Aeroklub Ziemi Mazowieckiej",null,"FCC Gliding 2023 - Kombi Open",{"$f":"VLOOKUP(F1663,Soutez!A:B,2,FALSE)","v":"SK"},{"$f":"VLOOKUP(F1663,Soutez!A:C,3,FALSE)","v":2023},13,5380,0.95500000000000007,8591,8204,null,null,"ASG 29E 18m","HBI","Není v databázi"]
["Leszek Staryszak",null,null,"Aeroklub Warszawski",null,"FCC Gliding 2023 - Kombi Open",{"$f":"VLOOKUP(F1664,Soutez!A:B,2,FALSE)","v":"SK"},{"$f":"VLOOKUP(F1664,Soutez!A:C,3,FALSE)","v":2023},14,5305,0.95500000000000007,8424,8045,null,null,"ASG 29E 18m","BG","Není v databázi"]
["Petr Panek",{"$f":"VLOOKUP(A1665,Pilot,2,0)","v":1975},{"$f":"VLOOKUP(A1665,Pilot,5,0)","v":"M"},{"$f":"VLOOKUP(A1665,Pilot,3,0)","v":"Dvůr Králové"},{"$f":"VLOOKUP(A1665,Pilot,4,0)","v":"CZ/C2"},"FCC Gliding 2023 - Kombi Open",{"$f":"VLOOKUP(F1665,Soutez!A:B,2,FALSE)","v":"SK"},{"$f":"VLOOKUP(F1665,Soutez!A:C,3,FALSE)","v":2023},15,5290,0.95500000000000007,8329,7954,"x",null,"JS-1bTJ EVO","IGC",""]
["Marek Sawczuk",null,null,"Aeroklub Warszawski",null,"FCC Gliding 2023 - Kombi Open",{"$f":"VLOOKUP(F1666,Soutez!A:B,2,FALSE)","v":"SK"},{"$f":"VLOOKUP(F1666,Soutez!A:C,3,FALSE)","v":2023},16,5218,0.95500000000000007,8164,7797,null,null,"ASG 29E 18m","MS","Není v databázi"]
["Kornel NEGRO",null,null,"Alföldi Repülőklub",null,"FCC Gliding 2023 - Kombi Open",{"$f":"VLOOKUP(F1667,Soutez!A:B,2,FALSE)","v":"SK"},{"$f":"VLOOKUP(F1667,Soutez!A:C,3,FALSE)","v":2023},17,5172,0.95500000000000007,8032,7671,null,null,"Ventus 2ct 18m -600 kg","GE","Není v databázi"]
["Oliver Sven",null,null,"Cape Gliding Club",null,"FCC Gliding 2023 - Kombi Open",{"$f":"VLOOKUP(F1668,Soutez!A:B,2,FALSE)","v":"SK"},{"$f":"VLOOKUP(F1668,Soutez!A:C,3,FALSE)","v":2023},18,5170,0.95500000000000007,7952,7594,null,null,"ASG 29E 18m","EMI","Není v databázi"]
["Jan Divok",null,null,"Spišská Nová Ves",null,"FCC Gliding 2023 - Kombi Open",{"$f":"VLOOKUP(F1669,Soutez!A:B,2,FALSE)","v":"SK"},{"$f":"VLOOKUP(F1669,Soutez!A:C,3,FALSE)","v":2023},19,5129,0.95500000000000007,7826,7474,null,null,"Discus 2cT 18m","DJ","Není v databázi"]
["Ivan Novak",{"$f":"VLOOKUP(A1670,Pilot,2,0)","v":1962},{"$f":"VLOOKUP(A1670,Pilot,5,0)","v":"M"},{"$f":"VLOOKUP(A1670,Pilot,3,0)","v":"Mladá Boleslav"},{"$f":"VLOOKUP(A1670,Pilot,4,0)","v":"CZ/C1"},"FCC Gliding 2023 - Kombi Open",{"$f":"VLOOKUP(F1670,Soutez!A:B,2,FALSE)","v":"SK"},{"$f":"VLOOKUP(F1670,Soutez!A:C,3,FALSE)","v":2023},20,5122,0.95500000000000007,7741,7393,null,null,"ASG 29 18m","QZ",""]
["Mate Meszaros",null,null,"Aero Club Szolnok, Hungary",null,"FCC Gliding 2023 - Kombi Open",{"$f":"VLOOKUP(F1671,Soutez!A:B,2,FALSE)","v":"SK"},{"$f":"VLOOKUP(F1671,Soutez!A:C,3,FALSE)","v":2023},21,4989,0.95500000000000007,7503,7165,null,null,"Arcus T","HUX","Není v databázi"]
["Alena Netusilova",{"$f":"VLOOKUP(A1672,Pilot,2,0)","v":1970},{"$f":"VLOOKUP(A1672,Pilot,5,0)","v":"F"},{"$f":"VLOOKUP(A1672,Pilot,3,0)","v":"Zbraslavice"},{"$f":"VLOOKUP(A1672,Pilot,4,0)","v":"CZ/C1"},"FCC Gliding 2023 - Kombi Open",{"$f":"VLOOKUP(F1672,Soutez!A:B,2,FALSE)","v":"SK"},{"$f":"VLOOKUP(F1672,Soutez!A:C,3,FALSE)","v":2023},22,4952,0.95500000000000007,7381,7049,null,null,"JS3 18m","ZE",""]
["Ľubik Jakubcak",null,null,"SGC Martin",null,"FCC Gliding 2023 - Kombi Open",{"$f":"VLOOKUP(F1673,Soutez!A:B,2,FALSE)","v":"SK"},{"$f":"VLOOKUP(F1673,Soutez!A:C,3,FALSE)","v":2023},23,4951,0.95500000000000007,7303,6974,null,null,"Arcus M","CAR","Není v databázi"]
["Zsolt Osi",null,null,"G6AX,ACFH",null,"FCC Gliding 2023 - Kombi Open",{"$f":"VLOOKUP(F1674,Soutez!A:B,2,FALSE)","v":"SK"},{"$f":"VLOOKUP(F1674,Soutez!A:C,3,FALSE)","v":2023},24,4922,0.95500000000000007,7191,6867,null,null,"ASW-22BLE 27m -810 kg","BY","Není v databázi"]
["Janos Sindely",null,null,"Alfoldi Repülőklub",null,"FCC Gliding 2023 - Kombi Open",{"$f":"VLOOKUP(F1675,Soutez!A:B,2,FALSE)","v":"SK"},{"$f":"VLOOKUP(F1675,Soutez!A:C,3,FALSE)","v":2023},25,4650,0.95500000000000007,6784,6479,null,null,"JS1-C 18 m","RZ","Není v databázi"]
["Kapuy & Csonka",null,null,null,null,"FCC Gliding 2023 - Kombi Open",{"$f":"VLOOKUP(F1676,Soutez!A:B,2,FALSE)","v":"SK"},{"$f":"VLOOKUP(F1676,Soutez!A:C,3,FALSE)","v":2023},26,4490,0.95500000000000007,6514,6221,null,null,"EB-29D 28,3m","HB","Není v databázi"]
["Tomasz Chudoment",null,null,null,null,"FCC Gliding 2023 - Kombi Open",{"$f":"VLOOKUP(F1677,Soutez!A:B,2,FALSE)","v":"SK"},{"$f":"VLOOKUP(F1677,Soutez!A:C,3,FALSE)","v":2023},27,4355,0.95500000000000007,6273,5991,null,null,"ASH 25Mi 26m","L","Není v databázi"]
["Oldrich Bartonik",{"$f":"VLOOKUP(A1678,Pilot,2,0)","v":1961},{"$f":"VLOOKUP(A1678,Pilot,5,0)","v":"M"},{"$f":"VLOOKUP(A1678,Pilot,3,0)","v":"Luhačovice"},{"$f":"VLOOKUP(A1678,Pilot,4,0)","v":"CZ/M"},"FCC Gliding 2023 - Kombi Open",{"$f":"VLOOKUP(F1678,Soutez!A:B,2,FALSE)","v":"SK"},{"$f":"VLOOKUP(F1678,Soutez!A:C,3,FALSE)","v":2023},28,4152,0.95500000000000007,5951,5683,"x",null,"Diana 3 FES","D3",""]
["Andrzej Majewski",null,null,"WARMIŃSKO-MAZURSKI",null,"FCC Gliding 2023 - Kombi Open",{"$f":"VLOOKUP(F1679,Soutez!A:B,2,FALSE)","v":"SK"},{"$f":"VLOOKUP(F1679,Soutez!A:C,3,FALSE)","v":2023},29,4093,0.95500000000000007,5802,5541,null,null,"ASG 29E 18m",29,"Není v databázi"]
["Istvan Reti",null,null,"Alföldi Repülőklub",null,"FCC Gliding 2023 - Kombi Open",{"$f":"VLOOKUP(F1680,Soutez!A:B,2,FALSE)","v":"SK"},{"$f":"VLOOKUP(F1680,Soutez!A:C,3,FALSE)","v":2023},30,4071,0.95500000000000007,5699,{"$f":"ROUND(K1680*L1680,0)","v":5443},null,null,"ASG 29E 18m","IR","Není v databázi"]
["Gabriela Belakova",null,null,"Prievidza",null,"FCC Gliding 2023 - Kombi Open",{"$f":"VLOOKUP(F1681,Soutez!A:B,2,FALSE)","v":"SK"},{"$f":"VLOOKUP(F1681,Soutez!A:C,3,FALSE)","v":2023},31,3871,0.95500000000000007,5380,5138,null,null,"Ventus 3M 18m","CAT","Není v databázi"]
["Jerzy Kolasinski",null,null,"Poznań/KKGT",null,"FCC Gliding 2023 - Kombi Open",{"$f":"VLOOKUP(F1682,Soutez!A:B,2,FALSE)","v":"SK"},{"$f":"VLOOKUP(F1682,Soutez!A:C,3,FALSE)","v":2023},32,3630,{"$f":"VLOOKUP(F1682,Soutez,12,0)","v":0.95500000000000007},5011,4786,null,null,"JS-MD 3 RES 18m","KOL","Není v databázi"]
["Arkadiusz Stefańczyk",null,null,"Aeroklub Kielecki/SGT",null,"FCC Gliding 2023 - Kombi Open",{"$f":"VLOOKUP(F1683,Soutez!A:B,2,FALSE)","v":"SK"},{"$f":"VLOOKUP(F1683,Soutez!A:C,3,FALSE)","v":2023},33,3620,0.95500000000000007,4922,4701,null,null,"ASG-32 Mi-800 kg","MD","Není v databázi"]
["Lukas Benedikt",null,null,"Trnava",null,"FCC Gliding 2023 - Kombi Open",{"$f":"VLOOKUP(F1684,Soutez!A:B,2,FALSE)","v":"SK"},{"$f":"VLOOKUP(F1684,Soutez!A:C,3,FALSE)","v":2023},34,3045,0.95500000000000007,4149,3962,null,null,"Ventus 3F 18m","LB",{"$f":"IF(ISERROR(VLOOKUP(A1684,Pilot,6,0)),\"Není v databázi\",VLOOKUP(A1684,Pilot,6,0))","v":"Není v databázi"}]
["Erazem Polutnik",null,null,"Aeroclub Celje",null,"FCC Gliding 2023 - Kombi Open",{"$f":"VLOOKUP(F1685,Soutez!A:B,2,FALSE)","v":"SK"},{"$f":"VLOOKUP(F1685,Soutez!A:C,3,FALSE)","v":2023},35,2812,0.95500000000000007,3790,3619,null,null,"Ventus 3M 18m","EM","Není v databázi"]
["Botond Szabadfi",null,null,"ARK",null,"FCC Gliding 2023 - Kombi Open",{"$f":"VLOOKUP(F1686,Soutez!A:B,2,FALSE)","v":"SK"},{"$f":"VLOOKUP(F1686,Soutez!A:C,3,FALSE)","v":2023},36,2338,0.95500000000000007,3139,2998,null,null,"ASG 29E 18m","BB","Není v databázi"]
["Klaus Kalmbach",null,null,"FSV Tübingen e.V.",null,"FCC Gliding 2023 - Kombi Open",{"$f":"VLOOKUP(F1687,Soutez!A:B,2,FALSE)","v":"SK"},{"$f":"VLOOKUP(F1687,Soutez!A:C,3,FALSE)","v":2023},37,2086,0.95500000000000007,2757,2633,null,null,"JS3 TC 18m","CT","Není v databázi"]
["Jan Keher",null,null,"Prievidza",null,"FCC Gliding 2023 - Kombi Open",{"$f":"VLOOKUP(F1688,Soutez!A:B,2,FALSE)","v":"SK"},{"$f":"VLOOKUP(F1688,Soutez!A:C,3,FALSE)","v":2023},38,1386,0.95500000000000007,1832,1750,null,null,"Discus 2cT 18m","EF","Není v databázi"]
["Dariusz Pietraszkiewicz",null,null,"Szczecin Szybovcovy",null,"FCC Gliding 2023 - Kombi Open",{"$f":"VLOOKUP(F1689,Soutez!A:B,2,FALSE)","v":"SK"},{"$f":"VLOOKUP(F1689,Soutez!A:C,3,FALSE)","v":2023},39,1194,0.95500000000000007,1523,1454,null,null,"DG-808 C Clasic 18m WL","VN","Není v databázi"]
["Jan Granvig Dahl",null,null,"MSF",null,"FCC Gliding 2023 - Kombi Open",{"$f":"VLOOKUP(F1690,Soutez!A:B,2,FALSE)","v":"SK"},{"$f":"VLOOKUP(F1690,Soutez!A:C,3,FALSE)","v":2023},40,0,0.95500000000000007,0,0,null,null,"Ventus 2cm 18m -525 kg","HX","Není v databázi"]
["Michal Cupak",{"$f":"VLOOKUP(A1691,Pilot,2,0)","v":1991},{"$f":"VLOOKUP(A1691,Pilot,5,0)","v":"M"},{"$f":"VLOOKUP(A1691,Pilot,3,0)","v":"Medlánky"},{"$f":"VLOOKUP(A1691,Pilot,4,0)","v":"CZ/M"},"Fatraglide 2023 - Klub",{"$f":"VLOOKUP(F1691,Soutez!A:B,2,FALSE)","v":"SK"},{"$f":"VLOOKUP(F1691,Soutez!A:C,3,FALSE)","v":2023},1,2700,0.755,{"$f":"ROUND(J1691/MAX($J$1691:$J$1709)*10000*0.7+(MAX($I$1691:$I$1709)-I1691)/(MAX($I$1691:$I$1709)-1)*10000*0.3,0)","v":10000},{"$f":"ROUND(K1691*L1691,0)","v":7550},"x",null,"CIRRUS Std","A7",""]
["Jan Sponer",1988,"M","Medlánky","CZ/M","Fatraglide 2023 - Klub",{"$f":"VLOOKUP(F1692,Soutez!A:B,2,FALSE)","v":"SK"},{"$f":"VLOOKUP(F1692,Soutez!A:C,3,FALSE)","v":2023},2,2686,0.755,9797,{"$f":"ROUND(K1692*L1692,0)","v":7397},"x",null,"CIRRUS Std","EX",""]
["Edmund SCHULLER",null,null,"AK LUCENEC",null,"Fatraglide 2023 - Klub",{"$f":"VLOOKUP(F1693,Soutez!A:B,2,FALSE)","v":"SK"},{"$f":"VLOOKUP(F1693,Soutez!A:C,3,FALSE)","v":2023},3,2661,0.755,9566,7222,null,null,"ASW 24 WL","ZS","Není v databázi"]
["Michal Lesinger",{"$f":"VLOOKUP(A1694,Pilot,2,0)","v":1966},{"$f":"VLOOKUP(A1694,Pilot,5,0)","v":"M"},{"$f":"VLOOKUP(A1694,Pilot,3,0)","v":"Moravská Třebová"},{"$f":"VLOOKUP(A1694,Pilot,4,0)","v":"CZ/M"},"Fatraglide 2023 - Klub",{"$f":"VLOOKUP(F1694,Soutez!A:B,2,FALSE)","v":"SK"},{"$f":"VLOOKUP(F1694,Soutez!A:C,3,FALSE)","v":2023},4,2604,0.755,9251,6985,null,null,"ASW 20","LL",""]
["Jan Horak",1971,"M","Zbraslavice","CZ/C1","Fatraglide 2023 - Klub",{"$f":"VLOOKUP(F1695,Soutez!A:B,2,FALSE)","v":"SK"},{"$f":"VLOOKUP(F1695,Soutez!A:C,3,FALSE)","v":2023},5,2483,0.755,8771,6622,"x",null,"ASW 20A WL","WX",""]
["Milan SUROVCIK",null,null,"AK ZILINA",null,"Fatraglide 2023 - Klub",{"$f":"VLOOKUP(F1696,Soutez!A:B,2,FALSE)","v":"SK"},{"$f":"VLOOKUP(F1696,Soutez!A:C,3,FALSE)","v":2023},6,2467,0.755,8563,6465,null,null,"ASW 20","S","Není v databázi"]
["Tibor FRATRIK",null,null,"SGC MARTIN",null,"Fatraglide 2023 - Klub",{"$f":"VLOOKUP(F1697,Soutez!A:B,2,FALSE)","v":"SK"},{"$f":"VLOOKUP(F1697,Soutez!A:C,3,FALSE)","v":2023},7,2140,0.755,7548,5699,null,null,"ASW 20C","VG","Není v databázi"]
["Tomas SATRAPA",null,null,"AK BRATISLAVA",null,"Fatraglide 2023 - Klub",{"$f":"VLOOKUP(F1698,Soutez!A:B,2,FALSE)","v":"SK"},{"$f":"VLOOKUP(F1698,Soutez!A:C,3,FALSE)","v":2023},8,2002,0.755,7024,{"$f":"ROUND(K1698*L1698,0)","v":5303},null,null,"C-101 A PEGASE","OI","Není v databázi"]
["Marek SEMAN",null,null,"AK PRESOV",null,"Fatraglide 2023 - Klub",{"$f":"VLOOKUP(F1699,Soutez!A:B,2,FALSE)","v":"SK"},{"$f":"VLOOKUP(F1699,Soutez!A:C,3,FALSE)","v":2023},9,1830,0.755,6411,4840,null,null,"CIRRUS Std","MJ","Není v databázi"]
["Lubomir BELUSKO",null,null,"AK PRESOV",null,"Fatraglide 2023 - Klub",{"$f":"VLOOKUP(F1700,Soutez!A:B,2,FALSE)","v":"SK"},{"$f":"VLOOKUP(F1700,Soutez!A:C,3,FALSE)","v":2023},10,1789,0.755,6138,4634,null,null,"C-101 D PEGASE","HS","Není v databázi"]
["Peter GASPAROVIC",null,null,"SGC MARTIN",null,"Fatraglide 2023 - Klub",{"$f":"VLOOKUP(F1701,Soutez!A:B,2,FALSE)","v":"SK"},{"$f":"VLOOKUP(F1701,Soutez!A:C,3,FALSE)","v":2023},11,1688,0.755,5710,4311,null,null,"ASW 19B","A4","Není v databázi"]
["Gabor BORS",null,null,"AK OPITZ NANDOR REPULOKLUB",null,"Fatraglide 2023 - Klub",{"$f":"VLOOKUP(F1702,Soutez!A:B,2,FALSE)","v":"SK"},{"$f":"VLOOKUP(F1702,Soutez!A:C,3,FALSE)","v":2023},12,1552,0.755,5190,3918,null,null,"MINI NIMBUS","SU","Není v databázi"]
["Oldrich Kounovsky",{"$f":"VLOOKUP(A1703,Pilot,2,0)","v":1976},{"$f":"VLOOKUP(A1703,Pilot,5,0)","v":"M"},{"$f":"VLOOKUP(A1703,Pilot,3,0)","v":"Medlánky"},{"$f":"VLOOKUP(A1703,Pilot,4,0)","v":"CZ/M"},"Fatraglide 2023 - Klub",{"$f":"VLOOKUP(F1703,Soutez!A:B,2,FALSE)","v":"SK"},{"$f":"VLOOKUP(F1703,Soutez!A:C,3,FALSE)","v":2023},13,1496,0.755,4879,3684,"x",null,"CIRRUS Std","MS",""]
["Peter SEDMAK",null,null,"AK MARTIN",null,"Fatraglide 2023 - Klub",{"$f":"VLOOKUP(F1704,Soutez!A:B,2,FALSE)","v":"SK"},{"$f":"VLOOKUP(F1704,Soutez!A:C,3,FALSE)","v":2023},14,1427,0.755,4533,3422,null,null,"LS 4","MA","Není v databázi"]
["Albert HACKL",null,null,"AK OPITZ NANDOR REPULOKLUB",null,"Fatraglide 2023 - Klub",{"$f":"VLOOKUP(F1705,Soutez!A:B,2,FALSE)","v":"SK"},{"$f":"VLOOKUP(F1705,Soutez!A:C,3,FALSE)","v":2023},15,1416,0.755,4338,3275,null,null,"ASTIR CS TOP","PC","Není v databázi"]
["Martin MARINCAK",null,null,"AK PRESOV",null,"Fatraglide 2023 - Klub",{"$f":"VLOOKUP(F1706,Soutez!A:B,2,FALSE)","v":"SK"},{"$f":"VLOOKUP(F1706,Soutez!A:C,3,FALSE)","v":2023},16,919,0.755,2883,2177,null,null,"CIRRUS Std","CV","Není v databázi"]
["Rastislav KRAK",null,null,"AK POPRAD",null,"Fatraglide 2023 - Klub",{"$f":"VLOOKUP(F1707,Soutez!A:B,2,FALSE)","v":"SK"},{"$f":"VLOOKUP(F1707,Soutez!A:C,3,FALSE)","v":2023},17,560,0.755,1785,1348,null,null,"ASW 19B","A1","Není v databázi"]
["Peter USIAK",null,null,"AK BANSKA BYSTRICA",null,"Fatraglide 2023 - Klub",{"$f":"VLOOKUP(F1708,Soutez!A:B,2,FALSE)","v":"SK"},{"$f":"VLOOKUP(F1708,Soutez!A:C,3,FALSE)","v":2023},18,525,0.755,1528,1154,null,null,"ASTIR CS 77","WW","Není v databázi"]
["Peter ZIAK",null,null,"AK MARTIN",null,"Fatraglide 2023 - Klub",{"$f":"VLOOKUP(F1709,Soutez!A:B,2,FALSE)","v":"SK"},{"$f":"VLOOKUP(F1709,Soutez!A:C,3,FALSE)","v":2023},19,0,0.755,0,0,null,null,"C 101 A PEGASE","MT","Není v databázi"]
["Viliam KUBOVCIK",null,null,"AK POPRAD",null,"Fatraglide 2023 - Kombi",{"$f":"VLOOKUP(F1710,Soutez!A:B,2,FALSE)","v":"SK"},{"$f":"VLOOKUP(F1710,Soutez!A:C,3,FALSE)","v":2023},1,2532,0.755,{"$f":"ROUND(J1710/MAX($J$1710:$J$1724)*10000*0.7+(MAX($I$1710:$I$1724)-I1710)/(MAX($I$1710:$I$1724)-1)*10000*0.3,0)","v":10000},{"$f":"ROUND(K1710*L1710,0)","v":7550},null,null,"JS 3 RES","VV","Není v databázi"]
["Martin FURJES",null,null,"SGC MARTIN",null,"Fatraglide 2023 - Kombi",{"$f":"VLOOKUP(F1711,Soutez!A:B,2,FALSE)","v":"SK"},{"$f":"VLOOKUP(F1711,Soutez!A:C,3,FALSE)","v":2023},2,2468,0.755,9609,{"$f":"ROUND(K1711*L1711,0)","v":7255},null,null,"AS 33",12,"Není v databázi"]
["Petr Hotovy",{"$f":"VLOOKUP(A1712,Pilot,2,0)","v":1958},{"$f":"VLOOKUP(A1712,Pilot,5,0)","v":"M"},{"$f":"VLOOKUP(A1712,Pilot,3,0)","v":"Česká Lípa"},{"$f":"VLOOKUP(A1712,Pilot,4,0)","v":"CZ/C2"},"Fatraglide 2023 - Kombi",{"$f":"VLOOKUP(F1712,Soutez!A:B,2,FALSE)","v":"SK"},{"$f":"VLOOKUP(F1712,Soutez!A:C,3,FALSE)","v":2023},3,2457,0.755,9364,7070,null,null,"JS 1B","IGC",""]
["Marek STRAKA",null,null,"AK DUBNICA NAD VAHOM",null,"Fatraglide 2023 - Kombi",{"$f":"VLOOKUP(F1713,Soutez!A:B,2,FALSE)","v":"SK"},{"$f":"VLOOKUP(F1713,Soutez!A:C,3,FALSE)","v":2023},4,2445,0.755,9117,6883,null,null,"VENTUS 2 CXT","AI","Není v databázi"]
["Tibor NOGA",null,null,"SGC MARTIN",null,"Fatraglide 2023 - Kombi",{"$f":"VLOOKUP(F1714,Soutez!A:B,2,FALSE)","v":"SK"},{"$f":"VLOOKUP(F1714,Soutez!A:C,3,FALSE)","v":2023},5,2348,0.755,8634,6519,null,null,"Ventus 17.6m","TN","Není v databázi"]
["Branislav JESENSKY",null,null,"SGC MARTIN ZEMEPAN",null,"Fatraglide 2023 - Kombi",{"$f":"VLOOKUP(F1715,Soutez!A:B,2,FALSE)","v":"SK"},{"$f":"VLOOKUP(F1715,Soutez!A:C,3,FALSE)","v":2023},6,2324,0.755,8354,6307,null,null,"JS 1C 21","J","Není v databázi"]
["BELIANSKY & KNOSKO",null,null,"AK BRATISLAVA",null,"Fatraglide 2023 - Kombi",{"$f":"VLOOKUP(F1716,Soutez!A:B,2,FALSE)","v":"SK"},{"$f":"VLOOKUP(F1716,Soutez!A:C,3,FALSE)","v":2023},7,1978,0.755,7183,5423,null,null,"Duo Discus","2X","Není v databázi"]
["Lubomir JAKUBCAK",null,null,"SGC MARTIN",null,"Fatraglide 2023 - Kombi",{"$f":"VLOOKUP(F1717,Soutez!A:B,2,FALSE)","v":"SK"},{"$f":"VLOOKUP(F1717,Soutez!A:C,3,FALSE)","v":2023},8,1832,0.755,6565,4957,null,null,"ARCUS M","CAR","Není v databázi"]
["KROMKA & KOLLAR",null,null,"AK POPRAD",null,"Fatraglide 2023 - Kombi",{"$f":"VLOOKUP(F1718,Soutez!A:B,2,FALSE)","v":"SK"},{"$f":"VLOOKUP(F1718,Soutez!A:C,3,FALSE)","v":2023},9,1763,0.755,6160,4651,null,null,"ARCUS M","TA3","Není v databázi"]
["Barbora Moravcova",{"$f":"VLOOKUP(A1719,Pilot,2,0)","v":1994},{"$f":"VLOOKUP(A1719,Pilot,5,0)","v":"F"},{"$f":"VLOOKUP(A1719,Pilot,3,0)","v":"Zbraslavice"},{"$f":"VLOOKUP(A1719,Pilot,4,0)","v":"CZ/C1"},"Fatraglide 2023 - Kombi",{"$f":"VLOOKUP(F1719,Soutez!A:B,2,FALSE)","v":"SK"},{"$f":"VLOOKUP(F1719,Soutez!A:C,3,FALSE)","v":2023},10,1685,0.755,5730,4326,null,null,"LS 8 NEO","JB",""]
["Petr Jedlicka",1987,"M","Medlánky","CZ/M","Fatraglide 2023 - Kombi",{"$f":"VLOOKUP(F1720,Soutez!A:B,2,FALSE)","v":"SK"},{"$f":"VLOOKUP(F1720,Soutez!A:C,3,FALSE)","v":2023},11,1588,0.755,5247,{"$f":"ROUND(K1720*L1720,0)","v":3961},"x",null,"VENTUS C","PD",""]
["Petar ABONYI",null,null,"AK RUZOMBEROK",null,"Fatraglide 2023 - Kombi",{"$f":"VLOOKUP(F1721,Soutez!A:B,2,FALSE)","v":"SK"},{"$f":"VLOOKUP(F1721,Soutez!A:C,3,FALSE)","v":2023},12,1492,0.755,4768,3600,null,null,"DISCUS 2B","DI","Není v databázi"]
["Milan LOJDL",null,null,"AK MARTIN",null,"Fatraglide 2023 - Kombi",{"$f":"VLOOKUP(F1722,Soutez!A:B,2,FALSE)","v":"SK"},{"$f":"VLOOKUP(F1722,Soutez!A:C,3,FALSE)","v":2023},13,1490,0.755,4548,3434,null,null,"VENTUS 2 CXT","MJ1","Není v databázi"]
["BERKO & SUBA",null,null,"AK SPISSKA NOVA VES",null,"Fatraglide 2023 - Kombi",{"$f":"VLOOKUP(F1723,Soutez!A:B,2,FALSE)","v":"SK"},{"$f":"VLOOKUP(F1723,Soutez!A:C,3,FALSE)","v":2023},14,465,0.755,1500,1133,null,null,"DUO DISCUS XLT","SNV","Není v databázi"]
["Ivan BAJANA",null,null,"SGC MARTIN",null,"Fatraglide 2023 - Kombi",{"$f":"VLOOKUP(F1724,Soutez!A:B,2,FALSE)","v":"SK"},{"$f":"VLOOKUP(F1724,Soutez!A:C,3,FALSE)","v":2023},15,297,0.755,821,620,null,null,"LS 8","SI","Není v databázi"]
["Maros Divok",null,null,"Spišská Nová Ves",null,"PMSR 2023 - Kombi Open",{"$f":"VLOOKUP(F1725,Soutez!A:B,2,FALSE)","v":"SK"},{"$f":"VLOOKUP(F1725,Soutez!A:C,3,FALSE)","v":2023},1,7607,0.95000000000000007,{"$f":"ROUND(J1725/MAX($J$1725:$J$1738)*10000*0.7+(MAX($I$1725:$I$1738)-I1725)/(MAX($I$1725:$I$1738)-1)*10000*0.3,0)","v":10000},{"$f":"ROUND(K1725*L1725,0)","v":9500},null,null,"AS 33 Es 18m","D","Není v databázi"]
["Ondrej Dupal",{"$f":"VLOOKUP(A1726,Pilot,2,0)","v":1966},{"$f":"VLOOKUP(A1726,Pilot,5,0)","v":"M"},{"$f":"VLOOKUP(A1726,Pilot,3,0)","v":"GAC Benešov"},{"$f":"VLOOKUP(A1726,Pilot,4,0)","v":"CZ/C1"},"PMSR 2023 - Kombi Open",{"$f":"VLOOKUP(F1726,Soutez!A:B,2,FALSE)","v":"SK"},{"$f":"VLOOKUP(F1726,Soutez!A:C,3,FALSE)","v":2023},2,7455,0.95000000000000007,9629,{"$f":"ROUND(K1726*L1726,0)","v":9148},"x",null,"ASG 29 E 18m","GO",""]
["Vladimir Foltin",null,null,"Nitra",null,"PMSR 2023 - Kombi Open",{"$f":"VLOOKUP(F1727,Soutez!A:B,2,FALSE)","v":"SK"},{"$f":"VLOOKUP(F1727,Soutez!A:C,3,FALSE)","v":2023},3,7320,0.95000000000000007,9274,8810,null,null,"JS3 18m",3,"Není v databázi"]
["Petr Setka",{"$f":"VLOOKUP(A1728,Pilot,2,0)","v":1971},{"$f":"VLOOKUP(A1728,Pilot,5,0)","v":"M"},{"$f":"VLOOKUP(A1728,Pilot,3,0)","v":"Letkov"},{"$f":"VLOOKUP(A1728,Pilot,4,0)","v":"CZ/C1"},"PMSR 2023 - Kombi Open",{"$f":"VLOOKUP(F1728,Soutez!A:B,2,FALSE)","v":"SK"},{"$f":"VLOOKUP(F1728,Soutez!A:C,3,FALSE)","v":2023},4,7195,0.95000000000000007,8929,8483,"x",null,"Ventus 2cxM 18m","RS",""]
["Jiri Kusbach",{"$f":"VLOOKUP(A1729,Pilot,2,0)","v":1959},{"$f":"VLOOKUP(A1729,Pilot,5,0)","v":"M"},{"$f":"VLOOKUP(A1729,Pilot,3,0)","v":"Luhačovice"},{"$f":"VLOOKUP(A1729,Pilot,4,0)","v":"CZ/M"},"PMSR 2023 - Kombi Open",{"$f":"VLOOKUP(F1729,Soutez!A:B,2,FALSE)","v":"SK"},{"$f":"VLOOKUP(F1729,Soutez!A:C,3,FALSE)","v":2023},5,6948,0.95000000000000007,8471,8047,null,null,"Diana 3FES","B",""]
["Branislav Jesensky",null,null,"SGC Martin",null,"PMSR 2023 - Kombi Open",{"$f":"VLOOKUP(F1730,Soutez!A:B,2,FALSE)","v":"SK"},{"$f":"VLOOKUP(F1730,Soutez!A:C,3,FALSE)","v":2023},6,6759,0.95000000000000007,8066,7663,null,null,"JS1C 21m","J","Není v databázi"]
["Janos Sindely",null,null,"Magyarország Alfoldi",null,"PMSR 2023 - Kombi Open",{"$f":"VLOOKUP(F1731,Soutez!A:B,2,FALSE)","v":"SK"},{"$f":"VLOOKUP(F1731,Soutez!A:C,3,FALSE)","v":2023},7,6063,0.95000000000000007,7195,6835,null,null,"JS1 18m","RZ","Není v databázi"]
["Marek Straka",null,null,"Dubnica",null,"PMSR 2023 - Kombi Open",{"$f":"VLOOKUP(F1732,Soutez!A:B,2,FALSE)","v":"SK"},{"$f":"VLOOKUP(F1732,Soutez!A:C,3,FALSE)","v":2023},8,5470,0.95000000000000007,6418,6097,null,null,"Ventus 2cxT 18m","AI","Není v databázi"]
["Jan Paepke",null,null,"SFC Riesa-Canitz e.V. / Prievidza",null,"PMSR 2023 - Kombi Open",{"$f":"VLOOKUP(F1733,Soutez!A:B,2,FALSE)","v":"SK"},{"$f":"VLOOKUP(F1733,Soutez!A:C,3,FALSE)","v":2023},9,5315,0.95000000000000007,6045,{"$f":"ROUND(K1733*L1733,0)","v":5743},null,null,"LAK-17A T 18m WL","AK","Není v databázi"]
["Osi Zsolt",null,null,"Magyarország ACFH",null,"PMSR 2023 - Kombi Open",{"$f":"VLOOKUP(F1734,Soutez!A:B,2,FALSE)","v":"SK"},{"$f":"VLOOKUP(F1734,Soutez!A:C,3,FALSE)","v":2023},10,4693,0.95000000000000007,5242,4980,null,null,"ASW 22 BLE","BY","Není v databázi"]
["Lukas Benedikt",null,null,"SNA",null,"PMSR 2023 - Kombi Open",{"$f":"VLOOKUP(F1735,Soutez!A:B,2,FALSE)","v":"SK"},{"$f":"VLOOKUP(F1735,Soutez!A:C,3,FALSE)","v":2023},11,4642,0.95000000000000007,4964,4716,null,null,"Ventus 3F 18m","LB","Není v databázi"]
["Gabriela Belakova",null,null,"Aeroklub Prievidza",null,"PMSR 2023 - Kombi Open",{"$f":"VLOOKUP(F1736,Soutez!A:B,2,FALSE)","v":"SK"},{"$f":"VLOOKUP(F1736,Soutez!A:C,3,FALSE)","v":2023},12,4400,0.95000000000000007,4510,4285,null,null,"Ventus 3M 18m","CAT","Není v databázi"]
["Milan Lojdl",null,null,"Aeroklub Martin",null,"PMSR 2023 - Kombi Open",{"$f":"VLOOKUP(F1737,Soutez!A:B,2,FALSE)","v":"SK"},{"$f":"VLOOKUP(F1737,Soutez!A:C,3,FALSE)","v":2023},13,4334,0.95000000000000007,4219,4008,null,null,"Ventus 2cxT 18m","MJ1","Není v databázi"]
["Viliam Kubovcik",null,null,"Poprad",null,"PMSR 2023 - Kombi Open",{"$f":"VLOOKUP(F1738,Soutez!A:B,2,FALSE)","v":"SK"},{"$f":"VLOOKUP(F1738,Soutez!A:C,3,FALSE)","v":2023},14,2215,0.95000000000000007,2038,1936,null,null,"JS3 RES 18m","VV","Není v databázi"]
["Louise Rodriguez",null,null,"France",null,"WWGC 2023 - Klub",{"$f":"VLOOKUP(F1739,Soutez!A:B,2,FALSE)","v":"SP"},{"$f":"VLOOKUP(F1739,Soutez!A:C,3,FALSE)","v":2023},1,6486,1.0449999999999999,{"$f":"ROUND(J1739/MAX($J$1739:$J$1757)*10000*0.7+(MAX($I$1739:$I$1757)-I1739)/(MAX($I$1739:$I$1757)-1)*10000*0.3,0)","v":10000},{"$f":"ROUND(K1739*L1739,0)","v":10450},null,null,"LS 7","HG","Není v databázi"]
["Michaela Krizova",{"$f":"VLOOKUP(A1740,Pilot,2,0)","v":2001},{"$f":"VLOOKUP(A1740,Pilot,5,0)","v":"F"},{"$f":"VLOOKUP(A1740,Pilot,3,0)","v":"Přibyslav"},{"$f":"VLOOKUP(A1740,Pilot,4,0)","v":"CZ/C2"},"WWGC 2023 - Klub",{"$f":"VLOOKUP(F1740,Soutez!A:B,2,FALSE)","v":"SP"},{"$f":"VLOOKUP(F1740,Soutez!A:C,3,FALSE)","v":2023},2,6444,1.0449999999999999,9788,{"$f":"ROUND(K1740*L1740,0)","v":10228},null,"x","LS 4","6L","Junior v roce 2025"]
["Daniela Wilden",null,null,"Germany",null,"WWGC 2023 - Klub",{"$f":"VLOOKUP(F1741,Soutez!A:B,2,FALSE)","v":"SP"},{"$f":"VLOOKUP(F1741,Soutez!A:C,3,FALSE)","v":2023},3,6375,1.0449999999999999,9547,9977,null,null,"LS 7 WL","FOX","Není v databázi"]
["Tereza Koubkova",{"$f":"VLOOKUP(A1742,Pilot,2,0)","v":1999},{"$f":"VLOOKUP(A1742,Pilot,5,0)","v":"F"},{"$f":"VLOOKUP(A1742,Pilot,3,0)","v":"Vysoké Mýto"},{"$f":"VLOOKUP(A1742,Pilot,4,0)","v":"CZ/C2"},"WWGC 2023 - Klub",{"$f":"VLOOKUP(F1742,Soutez!A:B,2,FALSE)","v":"SP"},{"$f":"VLOOKUP(F1742,Soutez!A:C,3,FALSE)","v":2023},4,6190,1.0449999999999999,9181,9594,null,"x","LS 4","IX",""]
["Carolin Rothhardt",null,null,"Germany",null,"WWGC 2023 - Klub",{"$f":"VLOOKUP(F1743,Soutez!A:B,2,FALSE)","v":"SP"},{"$f":"VLOOKUP(F1743,Soutez!A:C,3,FALSE)","v":2023},5,6138,1.0449999999999999,8958,9361,null,null,"LS 7","PG","Není v databázi"]
["Aude Grangeray",null,null,"France",null,"WWGC 2023 - Klub",{"$f":"VLOOKUP(F1744,Soutez!A:B,2,FALSE)","v":"SP"},{"$f":"VLOOKUP(F1744,Soutez!A:C,3,FALSE)","v":2023},6,6011,1.0449999999999999,8654,9043,null,null,"LS 7","AG",{"$f":"IF(ISERROR(VLOOKUP(A1744,Pilot,6,0)),\"Není v databázi\",VLOOKUP(A1744,Pilot,6,0))","v":"Není v databázi"}]
["Elena Fergnani",null,null,"Italy",null,"WWGC 2023 - Klub",{"$f":"VLOOKUP(F1745,Soutez!A:B,2,FALSE)","v":"SP"},{"$f":"VLOOKUP(F1745,Soutez!A:C,3,FALSE)","v":2023},7,5922,1.0449999999999999,8391,8769,null,null,"Discus a",40,"Není v databázi"]
["Paula Drazul",null,null,"Argentina",null,"WWGC 2023 - Klub",{"$f":"VLOOKUP(F1746,Soutez!A:B,2,FALSE)","v":"SP"},{"$f":"VLOOKUP(F1746,Soutez!A:C,3,FALSE)","v":2023},8,5837,{"$f":"VLOOKUP(F1746,Soutez,12,0)","v":1.0449999999999999},8133,{"$f":"ROUND(K1746*L1746,0)","v":8499},null,null,"ASW 20","AL","Není v databázi"]
["Petra Piskata",{"$f":"VLOOKUP(A1747,Pilot,2,0)","v":1989},{"$f":"VLOOKUP(A1747,Pilot,5,0)","v":"F"},{"$f":"VLOOKUP(A1747,Pilot,3,0)","v":"Luhačovice"},{"$f":"VLOOKUP(A1747,Pilot,4,0)","v":"CZ/M"},"WWGC 2023 - Klub",{"$f":"VLOOKUP(F1747,Soutez!A:B,2,FALSE)","v":"SP"},{"$f":"VLOOKUP(F1747,Soutez!A:C,3,FALSE)","v":2023},9,5773,1.0449999999999999,7897,8252,null,"x","ASW 20","CX",""]
["Alizee Petit",null,null,"France",null,"WWGC 2023 - Klub",{"$f":"VLOOKUP(F1748,Soutez!A:B,2,FALSE)","v":"SP"},{"$f":"VLOOKUP(F1748,Soutez!A:C,3,FALSE)","v":2023},10,5607,1.0449999999999999,7551,7891,null,null,"ASW 20","LX","Není v databázi"]
["Claudia Hill",null,null,"United Kingdom",null,"WWGC 2023 - Klub",{"$f":"VLOOKUP(F1749,Soutez!A:B,2,FALSE)","v":"SP"},{"$f":"VLOOKUP(F1749,Soutez!A:C,3,FALSE)","v":2023},11,5521,1.0449999999999999,7292,7620,null,null,"LS 1-f neo","CH","Není v databázi"]
["Ulrike Teichmann",null,null,"Germany",null,"WWGC 2023 - Klub",{"$f":"VLOOKUP(F1750,Soutez!A:B,2,FALSE)","v":"SP"},{"$f":"VLOOKUP(F1750,Soutez!A:C,3,FALSE)","v":2023},12,5344,1.0449999999999999,6934,7246,null,null,"LS 4",99,"Není v databázi"]
["Alison Mulder",null,null,"United Kingdom",null,"WWGC 2023 - Klub",{"$f":"VLOOKUP(F1751,Soutez!A:B,2,FALSE)","v":"SP"},{"$f":"VLOOKUP(F1751,Soutez!A:C,3,FALSE)","v":2023},13,5280,1.0449999999999999,6698,6999,null,null,"LS 4","LS4","Není v databázi"]
["Sylvia Grandstaff",null,null,"United States of America",null,"WWGC 2023 - Klub",{"$f":"VLOOKUP(F1752,Soutez!A:B,2,FALSE)","v":"SP"},{"$f":"VLOOKUP(F1752,Soutez!A:C,3,FALSE)","v":2023},14,4625,1.0449999999999999,5825,6087,null,null,"Std. Cirrus","OLE","Není v databázi"]
["Kathy Fosha",null,null,"United States of America",null,"WWGC 2023 - Klub",{"$f":"VLOOKUP(F1753,Soutez!A:B,2,FALSE)","v":"SP"},{"$f":"VLOOKUP(F1753,Soutez!A:C,3,FALSE)","v":2023},15,4540,1.0449999999999999,5566,5816,null,null,"ASW 20","ET1","Není v databázi"]
["Christina Solberg Hansen",null,null,"Denmark",null,"WWGC 2023 - Klub",{"$f":"VLOOKUP(F1754,Soutez!A:B,2,FALSE)","v":"SP"},{"$f":"VLOOKUP(F1754,Soutez!A:C,3,FALSE)","v":2023},16,4538,1.0449999999999999,5398,5641,null,null,"LS 1-f","SH","Není v databázi"]
["Olena Yakymchuk",null,null,"Ukraine",null,"WWGC 2023 - Klub",{"$f":"VLOOKUP(F1755,Soutez!A:B,2,FALSE)","v":"SP"},{"$f":"VLOOKUP(F1755,Soutez!A:C,3,FALSE)","v":2023},17,2862,1.0449999999999999,3422,3576,null,null,"DG 100","L","Není v databázi"]
["Carol Marshall",null,null,"United Kingdom",null,"WWGC 2023 - Klub",{"$f":"VLOOKUP(F1756,Soutez!A:B,2,FALSE)","v":"SP"},{"$f":"VLOOKUP(F1756,Soutez!A:C,3,FALSE)","v":2023},18,1998,1.0449999999999999,2323,2428,null,null,"ASW 20 L","EEJ","Není v databázi"]
["Valeria Caselato",null,null,"Brazil",null,"WWGC 2023 - Klub",{"$f":"VLOOKUP(F1757,Soutez!A:B,2,FALSE)","v":"SP"},{"$f":"VLOOKUP(F1757,Soutez!A:C,3,FALSE)","v":2023},19,807,1.0449999999999999,871,910,null,null,"DG 300 WL","TC","Není v databázi"]
["Barbora Moravcova",{"$f":"VLOOKUP(A1758,Pilot,2,0)","v":1994},{"$f":"VLOOKUP(A1758,Pilot,5,0)","v":"F"},{"$f":"VLOOKUP(A1758,Pilot,3,0)","v":"Zbraslavice"},{"$f":"VLOOKUP(A1758,Pilot,4,0)","v":"CZ/C1"},"WWGC 2023 - Std",{"$f":"VLOOKUP(F1758,Soutez!A:B,2,FALSE)","v":"SP"},{"$f":"VLOOKUP(F1758,Soutez!A:C,3,FALSE)","v":2023},1,8704,1.0549999999999999,{"$f":"ROUND(J1758/MAX($J$1758:$J$1773)*10000*0.7+(MAX($I$1758:$I$1773)-I1758)/(MAX($I$1758:$I$1773)-1)*10000*0.3,0)","v":10000},{"$f":"ROUND(K1758*L1758,0)","v":10550},null,"x","LS 8","JB",""]
["Aude Untersee",null,null,"France",null,"WWGC 2023 - Std",{"$f":"VLOOKUP(F1759,Soutez!A:B,2,FALSE)","v":"SP"},{"$f":"VLOOKUP(F1759,Soutez!A:C,3,FALSE)","v":2023},2,8656,1.0549999999999999,9761,{"$f":"ROUND(K1759*L1759,0)","v":10298},null,null,"Discus 2a","JPA","Není v databázi"]
["Marilyne Abadie-Berard",null,null,"France",null,"WWGC 2023 - Std",{"$f":"VLOOKUP(F1760,Soutez!A:B,2,FALSE)","v":"SP"},{"$f":"VLOOKUP(F1760,Soutez!A:C,3,FALSE)","v":2023},3,8605,1.0549999999999999,9520,10044,null,null,"Discus 2a","AX","Není v databázi"]
["Sabrina Vogt",null,null,"Germany",null,"WWGC 2023 - Std",{"$f":"VLOOKUP(F1761,Soutez!A:B,2,FALSE)","v":"SP"},{"$f":"VLOOKUP(F1761,Soutez!A:C,3,FALSE)","v":2023},4,8413,1.0549999999999999,9166,9670,null,null,"Discus 2a","HZ","Není v databázi"]
["Dana Novakova",{"$f":"VLOOKUP(A1762,Pilot,2,0)","v":1965},{"$f":"VLOOKUP(A1762,Pilot,5,0)","v":"F"},{"$f":"VLOOKUP(A1762,Pilot,3,0)","v":"Mladá Boleslav"},{"$f":"VLOOKUP(A1762,Pilot,4,0)","v":"CZ/C1"},"WWGC 2023 - Std",{"$f":"VLOOKUP(F1762,Soutez!A:B,2,FALSE)","v":"SP"},{"$f":"VLOOKUP(F1762,Soutez!A:C,3,FALSE)","v":2023},5,8290,1.0549999999999999,8867,{"$f":"ROUND(K1762*L1762,0)","v":9355},null,"x","LS 8b","FX",""]
["Anais Gaubert",null,null,"France",null,"WWGC 2023 - Std",{"$f":"VLOOKUP(F1763,Soutez!A:B,2,FALSE)","v":"SP"},{"$f":"VLOOKUP(F1763,Soutez!A:C,3,FALSE)","v":2023},6,8072,1.0549999999999999,8492,8959,null,null,"Discus 2a","ET","Není v databázi"]
["Jana Treslova",{"$f":"VLOOKUP(A1764,Pilot,2,0)","v":1963},{"$f":"VLOOKUP(A1764,Pilot,5,0)","v":"F"},{"$f":"VLOOKUP(A1764,Pilot,3,0)","v":"Raná"},{"$f":"VLOOKUP(A1764,Pilot,4,0)","v":"CZ/C2"},"WWGC 2023 - Std",{"$f":"VLOOKUP(F1764,Soutez!A:B,2,FALSE)","v":"SP"},{"$f":"VLOOKUP(F1764,Soutez!A:C,3,FALSE)","v":2023},7,7592,1.0549999999999999,7906,8341,null,"x","LS 8","W8",""]
["Cornelia Schaich",null,null,"Germany",null,"WWGC 2023 - Std",{"$f":"VLOOKUP(F1765,Soutez!A:B,2,FALSE)","v":"SP"},{"$f":"VLOOKUP(F1765,Soutez!A:C,3,FALSE)","v":2023},8,7378,1.0549999999999999,7534,7948,null,null,"LS 8","3S","Není v databázi"]
["Lucia Esteban Loring",null,null,"Spain",null,"WWGC 2023 - Std",{"$f":"VLOOKUP(F1766,Soutez!A:B,2,FALSE)","v":"SP"},{"$f":"VLOOKUP(F1766,Soutez!A:C,3,FALSE)","v":2023},9,7372,1.0549999999999999,7329,7732,null,null,"Discus 2a","L2","Není v databázi"]
["Francesca Roberts",null,null,"United Kingdom",null,"WWGC 2023 - Std",{"$f":"VLOOKUP(F1767,Soutez!A:B,2,FALSE)","v":"SP"},{"$f":"VLOOKUP(F1767,Soutez!A:C,3,FALSE)","v":2023},10,7013,1.0549999999999999,6840,7216,null,null,"LS 8","IT","Není v databázi"]
["Lizzy van Zomeren",null,null,"Netherlands",null,"WWGC 2023 - Std",{"$f":"VLOOKUP(F1768,Soutez!A:B,2,FALSE)","v":"SP"},{"$f":"VLOOKUP(F1768,Soutez!A:C,3,FALSE)","v":2023},11,6906,1.0549999999999999,6554,6914,null,null,"LS 8","HT","Není v databázi"]
["Karen Wilken",null,null,"Germany",null,"WWGC 2023 - Std",{"$f":"VLOOKUP(F1769,Soutez!A:B,2,FALSE)","v":"SP"},{"$f":"VLOOKUP(F1769,Soutez!A:C,3,FALSE)","v":2023},12,6835,1.0549999999999999,6297,6643,null,null,"LS 8","VZ","Není v databázi"]
["Joanna Biedermann",null,null,"Poland",null,"WWGC 2023 - Std",{"$f":"VLOOKUP(F1770,Soutez!A:B,2,FALSE)","v":"SP"},{"$f":"VLOOKUP(F1770,Soutez!A:C,3,FALSE)","v":2023},13,6416,1.0549999999999999,5760,6077,null,null,"Discus 2a","I","Není v databázi"]
["Barbara Kuttel",null,null,"Switzerland",null,"WWGC 2023 - Std",{"$f":"VLOOKUP(F1771,Soutez!A:B,2,FALSE)","v":"SP"},{"$f":"VLOOKUP(F1771,Soutez!A:C,3,FALSE)","v":2023},14,6174,1.0549999999999999,5365,5660,null,null,"LS 8","JG","Není v databázi"]
["Ilka Elster-Back",null,null,"Germany",null,"WWGC 2023 - Std",{"$f":"VLOOKUP(F1772,Soutez!A:B,2,FALSE)","v":"SP"},{"$f":"VLOOKUP(F1772,Soutez!A:C,3,FALSE)","v":2023},15,5446,1.0549999999999999,4580,4832,null,null,"LS 8e neo",71,"Není v databázi"]
["Delia Flury",null,null,"Switzerland",null,"WWGC 2023 - Std",{"$f":"VLOOKUP(F1773,Soutez!A:B,2,FALSE)","v":"SP"},{"$f":"VLOOKUP(F1773,Soutez!A:C,3,FALSE)","v":2023},16,3228,1.0549999999999999,2596,{"$f":"ROUND(K1773*L1773,0)","v":2739},null,null,"Discus 2cFES 15m","EB","Není v databázi"]
["Alena Netusilova",{"$f":"VLOOKUP(A1774,Pilot,2,0)","v":1970},{"$f":"VLOOKUP(A1774,Pilot,5,0)","v":"F"},{"$f":"VLOOKUP(A1774,Pilot,3,0)","v":"Zbraslavice"},{"$f":"VLOOKUP(A1774,Pilot,4,0)","v":"CZ/C1"},"WWGC 2023 - 18m",{"$f":"VLOOKUP(F1774,Soutez!A:B,2,FALSE)","v":"SP"},{"$f":"VLOOKUP(F1774,Soutez!A:C,3,FALSE)","v":2023},1,8885,1.04,{"$f":"ROUND(J1774/MAX($J$1774:$J$1785)*10000*0.7+(MAX($I$1774:$I$1785)-I1774)/(MAX($I$1774:$I$1785)-1)*10000*0.3,0)","v":10000},{"$f":"ROUND(K1774*L1774,0)","v":10400},null,"x","JS3 18m","ZE",""]
["Melanie Gadoulet",null,null,"France",null,"WWGC 2023 - 18m",{"$f":"VLOOKUP(F1775,Soutez!A:B,2,FALSE)","v":"SP"},{"$f":"VLOOKUP(F1775,Soutez!A:C,3,FALSE)","v":2023},2,8571,1.04,9480,{"$f":"ROUND(K1775*L1775,0)","v":9859},null,null,"JS3 18m","LB","Není v databázi"]
["Anne Ducarouge",null,null,"France",null,"WWGC 2023 - 18m",{"$f":"VLOOKUP(F1776,Soutez!A:B,2,FALSE)","v":"SP"},{"$f":"VLOOKUP(F1776,Soutez!A:C,3,FALSE)","v":2023},3,8459,1.04,9119,9484,null,null,"JS3 18m","KW","Není v databázi"]
["Michaela Rendlova",{"$f":"VLOOKUP(A1777,Pilot,2,0)","v":2004},{"$f":"VLOOKUP(A1777,Pilot,5,0)","v":"F"},{"$f":"VLOOKUP(A1777,Pilot,3,0)","v":"Toužim"},{"$f":"VLOOKUP(A1777,Pilot,4,0)","v":"CZ/C1"},"WWGC 2023 - 18m",{"$f":"VLOOKUP(F1777,Soutez!A:B,2,FALSE)","v":"SP"},{"$f":"VLOOKUP(F1777,Soutez!A:C,3,FALSE)","v":2023},4,8334,1.04,8748,9098,null,null,"AS 33 Es 18m","EA","Junior v roce 2025"]
["Hana Treslova",1991,"F","Raná","CZ/C2","WWGC 2023 - 18m",{"$f":"VLOOKUP(F1778,Soutez!A:B,2,FALSE)","v":"SP"},{"$f":"VLOOKUP(F1778,Soutez!A:C,3,FALSE)","v":2023},5,8115,1.04,8302,8634,null,null,"JS3 18m","XM",""]
["Katrin Senne",null,null,"Germany",null,"WWGC 2023 - 18m",{"$f":"VLOOKUP(F1779,Soutez!A:B,2,FALSE)","v":"SP"},{"$f":"VLOOKUP(F1779,Soutez!A:C,3,FALSE)","v":2023},6,7983,1.04,7926,8243,null,null,"JS3 18m Jet","BK","Není v databázi"]
["Liz Sparrow",null,null,"United Kingdom",null,"WWGC 2023 - 18m",{"$f":"VLOOKUP(F1780,Soutez!A:B,2,FALSE)","v":"SP"},{"$f":"VLOOKUP(F1780,Soutez!A:C,3,FALSE)","v":2023},7,7016,1.04,6891,7167,null,null,"ASG 29 18m",0,"Není v databázi"]
["Sandra Malzacher",null,null,"Germany",null,"WWGC 2023 - 18m",{"$f":"VLOOKUP(F1781,Soutez!A:B,2,FALSE)","v":"SP"},{"$f":"VLOOKUP(F1781,Soutez!A:C,3,FALSE)","v":2023},8,6591,1.04,6284,6535,null,null,"ASG 29 18m","LEO","Není v databázi"]
["Astrid Galaret",null,null,"France",null,"WWGC 2023 - 18m",{"$f":"VLOOKUP(F1782,Soutez!A:B,2,FALSE)","v":"SP"},{"$f":"VLOOKUP(F1782,Soutez!A:C,3,FALSE)","v":2023},9,6306,1.04,5786,6017,null,null,"JS3 18m","FM","Není v databázi"]
["Anja Barfuss",null,null,"Germany",null,"WWGC 2023 - 18m",{"$f":"VLOOKUP(F1783,Soutez!A:B,2,FALSE)","v":"SP"},{"$f":"VLOOKUP(F1783,Soutez!A:C,3,FALSE)","v":2023},10,5982,1.04,5258,{"$f":"ROUND(K1783*L1783,0)","v":5468},null,null,"ASG 29 Es 18m","J3","Není v databázi"]
["Ayala Truelove",null,null,"United Kingdom",null,"WWGC 2023 - 18m",{"$f":"VLOOKUP(F1784,Soutez!A:B,2,FALSE)","v":"SP"},{"$f":"VLOOKUP(F1784,Soutez!A:C,3,FALSE)","v":2023},11,5909,1.04,4928,5125,null,null,"JS3 18m","J7","Není v databázi"]
["Maria Lisa Martin Perez",null,null,"Spain",null,"WWGC 2023 - 18m",{"$f":"VLOOKUP(F1785,Soutez!A:B,2,FALSE)","v":"SP"},{"$f":"VLOOKUP(F1785,Soutez!A:C,3,FALSE)","v":2023},12,5740,1.04,4522,4703,null,null,"Ventus 2cxM 18m","MA","Není v databázi"]
["Łukasz Wójcik",null,null,null,null,"EGC 2023 - 18m",{"$f":"VLOOKUP(F1786,Soutez!A:B,2,FALSE)","v":"PL"},{"$f":"VLOOKUP(F1786,Soutez!A:C,3,FALSE)","v":2023},1,5836,1.095,{"$f":"ROUND(J1786/MAX($J$1786:$J$1822)*10000*0.7+(MAX($I$1786:$I$1822)-I1786)/(MAX($I$1786:$I$1822)-1)*10000*0.3,0)","v":10000},{"$f":"ROUND(K1786*L1786,0)","v":10950},null,null,"Ventus 3T","8L","Není v databázi"]
["Peter Millenaar",null,null,null,null,"EGC 2023 - 18m",{"$f":"VLOOKUP(F1787,Soutez!A:B,2,FALSE)","v":"PL"},{"$f":"VLOOKUP(F1787,Soutez!A:C,3,FALSE)","v":2023},2,5804,1.095,9876,{"$f":"ROUND(K1787*L1787,0)","v":10814},null,null,"JS3 RES","PM","Není v databázi"]
["Sebastian Kawa",null,null,null,null,"EGC 2023 - 18m",{"$f":"VLOOKUP(F1788,Soutez!A:B,2,FALSE)","v":"PL"},{"$f":"VLOOKUP(F1788,Soutez!A:C,3,FALSE)","v":2023},3,5794,1.095,9778,10707,null,null,"Ventus 3T","S","Není v databázi"]
["Wolfgang Janowitsch",null,null,null,null,"EGC 2023 - 18m",{"$f":"VLOOKUP(F1789,Soutez!A:B,2,FALSE)","v":"PL"},{"$f":"VLOOKUP(F1789,Soutez!A:C,3,FALSE)","v":2023},4,5469,1.095,9303,10187,null,null,"Ventus 3TS","WO","Není v databázi"]
["Michael Reiner",null,null,null,null,"EGC 2023 - 18m",{"$f":"VLOOKUP(F1790,Soutez!A:B,2,FALSE)","v":"PL"},{"$f":"VLOOKUP(F1790,Soutez!A:C,3,FALSE)","v":2023},5,5439,1.095,9181,10053,null,null,"JS3 RES","MR","Není v databázi"]
["Arne Boye-Møller",null,null,null,null,"EGC 2023 - 18m",{"$f":"VLOOKUP(F1791,Soutez!A:B,2,FALSE)","v":"PL"},{"$f":"VLOOKUP(F1791,Soutez!A:C,3,FALSE)","v":2023},6,5383,1.095,9028,9886,null,null,"JS3 Jet","AB","Není v databázi"]
["Lukasz Grabowski",null,null,null,null,"EGC 2023 - 18m",{"$f":"VLOOKUP(F1792,Soutez!A:B,2,FALSE)","v":"PL"},{"$f":"VLOOKUP(F1792,Soutez!A:C,3,FALSE)","v":2023},7,5381,1.095,8940,9789,null,null,"Ventus 3T","3V","Není v databázi"]
["Bert Schmelzer",null,null,null,null,"EGC 2023 - 18m",{"$f":"VLOOKUP(F1793,Soutez!A:B,2,FALSE)","v":"PL"},{"$f":"VLOOKUP(F1793,Soutez!A:C,3,FALSE)","v":2023},8,5300,1.095,8757,9589,null,null,"Ventus 3TS",21,"Není v databázi"]
["Boris Zorz",null,null,null,null,"EGC 2023 - 18m",{"$f":"VLOOKUP(F1794,Soutez!A:B,2,FALSE)","v":"PL"},{"$f":"VLOOKUP(F1794,Soutez!A:C,3,FALSE)","v":2023},9,5264,1.095,8628,9448,null,null,"JS3 Jet","BL","Není v databázi"]
["Yves Gerster",null,null,null,null,"EGC 2023 - 18m",{"$f":"VLOOKUP(F1795,Soutez!A:B,2,FALSE)","v":"PL"},{"$f":"VLOOKUP(F1795,Soutez!A:C,3,FALSE)","v":2023},10,5244,1.095,8518,9327,null,null,"JS3","MK","Není v databázi"]
["Dennis Huybreckx",null,null,null,null,"EGC 2023 - 18m",{"$f":"VLOOKUP(F1796,Soutez!A:B,2,FALSE)","v":"PL"},{"$f":"VLOOKUP(F1796,Soutez!A:C,3,FALSE)","v":2023},11,5190,1.095,8368,9163,null,null,"Ventus 3TS","HX","Není v databázi"]
["Peter Szabo",null,null,null,null,"EGC 2023 - 18m",{"$f":"VLOOKUP(F1797,Soutez!A:B,2,FALSE)","v":"PL"},{"$f":"VLOOKUP(F1797,Soutez!A:C,3,FALSE)","v":2023},12,5168,1.095,8256,9040,null,null,"JS3","BX","Není v databázi"]
["Sebastian Huhmann",null,null,null,null,"EGC 2023 - 18m",{"$f":"VLOOKUP(F1798,Soutez!A:B,2,FALSE)","v":"PL"},{"$f":"VLOOKUP(F1798,Soutez!A:C,3,FALSE)","v":2023},13,5097,1.095,8085,8853,null,null,"AS 33 Es","2U","Není v databázi"]
["Aku Jaakkola",null,null,null,null,"EGC 2023 - 18m",{"$f":"VLOOKUP(F1799,Soutez!A:B,2,FALSE)","v":"PL"},{"$f":"VLOOKUP(F1799,Soutez!A:C,3,FALSE)","v":2023},14,5066,1.095,7962,8718,null,null,"Ventus 3","W","Není v databázi"]
["Petr Koutny",{"$f":"VLOOKUP(A1800,Pilot,2,0)","v":1971},{"$f":"VLOOKUP(A1800,Pilot,5,0)","v":"M"},{"$f":"VLOOKUP(A1800,Pilot,3,0)","v":"Křižanov"},{"$f":"VLOOKUP(A1800,Pilot,4,0)","v":"CZ/M"},"EGC 2023 - 18m",{"$f":"VLOOKUP(F1800,Soutez!A:B,2,FALSE)","v":"PL"},{"$f":"VLOOKUP(F1800,Soutez!A:C,3,FALSE)","v":2023},15,5054,1.095,7862,8609,"x",null,"JS-MD 3","ZE",""]
["Russell Cheetham",null,null,null,null,"EGC 2023 - 18m",{"$f":"VLOOKUP(F1801,Soutez!A:B,2,FALSE)","v":"PL"},{"$f":"VLOOKUP(F1801,Soutez!A:C,3,FALSE)","v":2023},16,5026,1.095,7743,8479,null,null,"JS-MD 3","E1","Není v databázi"]
["Anne Ducarouge",null,null,null,null,"EGC 2023 - 18m",{"$f":"VLOOKUP(F1802,Soutez!A:B,2,FALSE)","v":"PL"},{"$f":"VLOOKUP(F1802,Soutez!A:C,3,FALSE)","v":2023},17,5001,1.095,7627,8352,null,null,"JS3","AY","Není v databázi"]
["Gvidas Sabeckis",null,null,null,null,"EGC 2023 - 18m",{"$f":"VLOOKUP(F1803,Soutez!A:B,2,FALSE)","v":"PL"},{"$f":"VLOOKUP(F1803,Soutez!A:C,3,FALSE)","v":2023},18,4942,1.095,7471,8181,null,null,"ASG 29","M7","Není v databázi"]
["Steven Raimond",null,null,null,null,"EGC 2023 - 18m",{"$f":"VLOOKUP(F1804,Soutez!A:B,2,FALSE)","v":"PL"},{"$f":"VLOOKUP(F1804,Soutez!A:C,3,FALSE)","v":2023},19,4937,1.095,7379,8080,null,null,"AS 33 Es","GPS","Není v databázi"]
["Werner Amann",null,null,null,null,"EGC 2023 - 18m",{"$f":"VLOOKUP(F1805,Soutez!A:B,2,FALSE)","v":"PL"},{"$f":"VLOOKUP(F1805,Soutez!A:C,3,FALSE)","v":2023},20,4921,1.095,7274,7965,null,null,"AS 33","WG",{"$f":"IF(ISERROR(VLOOKUP(A1805,Pilot,6,0)),\"Není v databázi\",VLOOKUP(A1805,Pilot,6,0))","v":"Není v databázi"}]
["Christoph Nacke",null,null,null,null,"EGC 2023 - 18m",{"$f":"VLOOKUP(F1806,Soutez!A:B,2,FALSE)","v":"PL"},{"$f":"VLOOKUP(F1806,Soutez!A:C,3,FALSE)","v":2023},21,4887,1.095,7147,7826,null,null,"JS3","SP","Není v databázi"]
["Alberto Pozzi",null,null,null,null,"EGC 2023 - 18m",{"$f":"VLOOKUP(F1807,Soutez!A:B,2,FALSE)","v":"PL"},{"$f":"VLOOKUP(F1807,Soutez!A:C,3,FALSE)","v":2023},22,4840,1.095,7005,7670,null,null,"JS1","LEO","Není v databázi"]
["Yacine Vigourel",null,null,null,null,"EGC 2023 - 18m",{"$f":"VLOOKUP(F1808,Soutez!A:B,2,FALSE)","v":"PL"},{"$f":"VLOOKUP(F1808,Soutez!A:C,3,FALSE)","v":2023},23,4815,1.095,6890,7545,null,null,"JS3","KW","Není v databázi"]
["Giancarlo Grinza",null,null,null,null,"EGC 2023 - 18m",{"$f":"VLOOKUP(F1809,Soutez!A:B,2,FALSE)","v":"PL"},{"$f":"VLOOKUP(F1809,Soutez!A:C,3,FALSE)","v":2023},24,4694,1.095,6659,7292,null,null,"Ventus 3F","CU","Není v databázi"]
["Gary Stingemore",null,null,null,null,"EGC 2023 - 18m",{"$f":"VLOOKUP(F1810,Soutez!A:B,2,FALSE)","v":"PL"},{"$f":"VLOOKUP(F1810,Soutez!A:C,3,FALSE)","v":2023},25,4439,{"$f":"VLOOKUP(F1810,Soutez,12,0)","v":1.095},6267,6862,null,null,"AS 33 Es",10,"Není v databázi"]
["Peter Eriksen",null,null,null,null,"EGC 2023 - 18m",{"$f":"VLOOKUP(F1811,Soutez!A:B,2,FALSE)","v":"PL"},{"$f":"VLOOKUP(F1811,Soutez!A:C,3,FALSE)","v":2023},26,4425,1.095,6165,6751,null,null,"AS 33 Es","PE","Není v databázi"]
["Mikko Nurminen",null,null,null,null,"EGC 2023 - 18m",{"$f":"VLOOKUP(F1812,Soutez!A:B,2,FALSE)","v":"PL"},{"$f":"VLOOKUP(F1812,Soutez!A:C,3,FALSE)","v":2023},27,4393,1.095,6041,6615,null,null,"Ventus 2 cxa FES","AL","Není v databázi"]
["Kato Kvitne",null,null,null,null,"EGC 2023 - 18m",{"$f":"VLOOKUP(F1813,Soutez!A:B,2,FALSE)","v":"PL"},{"$f":"VLOOKUP(F1813,Soutez!A:C,3,FALSE)","v":2023},28,4293,1.095,5835,6389,null,null,"JS3 RES","EL","Není v databázi"]
["Vladimir Foltin",null,null,null,null,"EGC 2023 - 18m",{"$f":"VLOOKUP(F1814,Soutez!A:B,2,FALSE)","v":"PL"},{"$f":"VLOOKUP(F1814,Soutez!A:C,3,FALSE)","v":2023},29,4290,1.095,5746,6292,null,null,"JS3",3,"Není v databázi"]
["Viktoras Kukcikaitis",null,null,null,null,"EGC 2023 - 18m",{"$f":"VLOOKUP(F1815,Soutez!A:B,2,FALSE)","v":"PL"},{"$f":"VLOOKUP(F1815,Soutez!A:C,3,FALSE)","v":2023},30,4208,1.095,5562,6090,null,null,"JS1 B","LR","Není v databázi"]
["Takeshi Maruyama",null,null,null,null,"EGC 2023 - 18m",{"$f":"VLOOKUP(F1816,Soutez!A:B,2,FALSE)","v":"PL"},{"$f":"VLOOKUP(F1816,Soutez!A:C,3,FALSE)","v":2023},"HC",3994,null,null,null,null,null,"JS3","AX","Není v databázi"]
["Radek Krejcirik",{"$f":"VLOOKUP(A1817,Pilot,2,0)","v":1991},{"$f":"VLOOKUP(A1817,Pilot,5,0)","v":"M"},{"$f":"VLOOKUP(A1817,Pilot,3,0)","v":"Hranice"},{"$f":"VLOOKUP(A1817,Pilot,4,0)","v":"CZ/M"},"EGC 2023 - 18m",{"$f":"VLOOKUP(F1817,Soutez!A:B,2,FALSE)","v":"PL"},{"$f":"VLOOKUP(F1817,Soutez!A:C,3,FALSE)","v":2023},31,3756,{"$f":"VLOOKUP(F1817,Soutez,12,0)","v":1.095},{"$f":"ROUND(J1817/MAX($J$1786:$J$1822)*10000*0.7+(MAX($I$1786:$I$1822)-I1817)/(MAX($I$1786:$I$1822)-1)*10000*0.3,0)","v":4934},5403,null,null,"AS 33 Es",12,""]
["Joze Verdev",null,null,null,null,"EGC 2023 - 18m",{"$f":"VLOOKUP(F1818,Soutez!A:B,2,FALSE)","v":"PL"},{"$f":"VLOOKUP(F1818,Soutez!A:C,3,FALSE)","v":2023},32,3639,1.095,4708,5155,null,null,"JS1 C","DZ","Není v databázi"]
["Zoltan Hamar",null,null,null,null,"EGC 2023 - 18m",{"$f":"VLOOKUP(F1819,Soutez!A:B,2,FALSE)","v":"PL"},{"$f":"VLOOKUP(F1819,Soutez!A:C,3,FALSE)","v":2023},33,3596,1.095,4570,5004,null,null,"JS3","7A","Není v databázi"]
["George Schuit",null,null,null,null,"EGC 2023 - 18m",{"$f":"VLOOKUP(F1820,Soutez!A:B,2,FALSE)","v":"PL"},{"$f":"VLOOKUP(F1820,Soutez!A:C,3,FALSE)","v":2023},34,3285,1.095,4112,4503,null,null,"JS3 Jet","MM","Není v databázi"]
["Rune Hovda",null,null,null,null,"EGC 2023 - 18m",{"$f":"VLOOKUP(F1821,Soutez!A:B,2,FALSE)","v":"PL"},{"$f":"VLOOKUP(F1821,Soutez!A:C,3,FALSE)","v":2023},35,3101,1.095,3805,4166,null,null,"Ventus 3M","RH","Není v databázi"]
["Ulf Ringertz",null,null,null,null,"EGC 2023 - 18m",{"$f":"VLOOKUP(F1822,Soutez!A:B,2,FALSE)","v":"PL"},{"$f":"VLOOKUP(F1822,Soutez!A:C,3,FALSE)","v":2023},36,2975,1.095,3568,{"$f":"ROUND(K1822*L1822,0)","v":3907},null,null,"Ventus 2cxT","UR","Není v databázi"]
["Markus Frank",null,null,null,null,"EGC 2023 - Open",{"$f":"VLOOKUP(F1823,Soutez!A:B,2,FALSE)","v":"PL"},{"$f":"VLOOKUP(F1823,Soutez!A:C,3,FALSE)","v":2023},1,6178,1.06,{"$f":"ROUND(J1823/MAX($J$1823:$J$1837)*10000*0.7+(MAX($I$1823:$I$1837)-I1823)/(MAX($I$1823:$I$1837)-1)*10000*0.3,0)","v":10000},{"$f":"ROUND(K1823*L1823,0)","v":10600},null,null,"EB29R","FE","Není v databázi"]
["Tomasz Rubaj",null,null,null,null,"EGC 2023 - Open",{"$f":"VLOOKUP(F1824,Soutez!A:B,2,FALSE)","v":"PL"},{"$f":"VLOOKUP(F1824,Soutez!A:C,3,FALSE)","v":2023},2,5952,1.06,9530,{"$f":"ROUND(K1824*L1824,0)","v":10102},null,null,"JS1 C","P","Není v databázi"]
["Sylvain Gerbaud",null,null,null,null,"EGC 2023 - Open",{"$f":"VLOOKUP(F1825,Soutez!A:B,2,FALSE)","v":"PL"},{"$f":"VLOOKUP(F1825,Soutez!A:C,3,FALSE)","v":2023},3,5945,1.06,9307,9865,null,null,"EB29R",72,"Není v databázi"]
["Francois Jeremiasse",null,null,null,null,"EGC 2023 - Open",{"$f":"VLOOKUP(F1826,Soutez!A:B,2,FALSE)","v":"PL"},{"$f":"VLOOKUP(F1826,Soutez!A:C,3,FALSE)","v":2023},4,5889,1.06,9030,9572,null,null,"EB29R","XR","Není v databázi"]
["David Mach",{"$f":"VLOOKUP(A1827,Pilot,2,0)","v":1994},{"$f":"VLOOKUP(A1827,Pilot,5,0)","v":"M"},{"$f":"VLOOKUP(A1827,Pilot,3,0)","v":"Hronov"},{"$f":"VLOOKUP(A1827,Pilot,4,0)","v":"CZ/C2"},"EGC 2023 - Open",{"$f":"VLOOKUP(F1827,Soutez!A:B,2,FALSE)","v":"PL"},{"$f":"VLOOKUP(F1827,Soutez!A:C,3,FALSE)","v":2023},5,5845,1.06,8766,9292,"x",null,"JS1 C","ZF",""]
["Oliver Binder",null,null,null,null,"EGC 2023 - Open",{"$f":"VLOOKUP(F1828,Soutez!A:B,2,FALSE)","v":"PL"},{"$f":"VLOOKUP(F1828,Soutez!A:C,3,FALSE)","v":2023},6,5615,1.06,8291,8788,null,null,"EB29R","OR","Není v databázi"]
["Andrew Davis",null,null,null,null,"EGC 2023 - Open",{"$f":"VLOOKUP(F1829,Soutez!A:B,2,FALSE)","v":"PL"},{"$f":"VLOOKUP(F1829,Soutez!A:C,3,FALSE)","v":2023},7,5337,1.06,7761,8227,null,null,"JS-MD 1C",80,"Není v databázi"]
["Tim Jenkinson",null,null,null,null,"EGC 2023 - Open",{"$f":"VLOOKUP(F1830,Soutez!A:B,2,FALSE)","v":"PL"},{"$f":"VLOOKUP(F1830,Soutez!A:C,3,FALSE)","v":2023},8,5263,1.06,7463,7911,null,null,"JS1 C","TJ","Není v databázi"]
["Sami Rissanen",null,null,null,null,"EGC 2023 - Open",{"$f":"VLOOKUP(F1831,Soutez!A:B,2,FALSE)","v":"PL"},{"$f":"VLOOKUP(F1831,Soutez!A:C,3,FALSE)","v":2023},9,5184,1.06,7159,{"$f":"ROUND(K1831*L1831,0)","v":7589},null,null,"EB28 Edition","EX","Není v databázi"]
["Melanie Gadoulet",null,null,null,null,"EGC 2023 - Open",{"$f":"VLOOKUP(F1832,Soutez!A:B,2,FALSE)","v":"PL"},{"$f":"VLOOKUP(F1832,Soutez!A:C,3,FALSE)","v":2023},10,5000,1.06,6737,7141,null,null,"JS1","FD","Není v databázi"]
["Teet Jagomägi",null,null,null,null,"EGC 2023 - Open",{"$f":"VLOOKUP(F1833,Soutez!A:B,2,FALSE)","v":"PL"},{"$f":"VLOOKUP(F1833,Soutez!A:C,3,FALSE)","v":2023},11,4699,1.06,6181,6552,null,null,"JS1 C",56,"Není v databázi"]
["Zdzisław Bednarczuk",null,null,null,null,"EGC 2023 - Open",{"$f":"VLOOKUP(F1834,Soutez!A:B,2,FALSE)","v":"PL"},{"$f":"VLOOKUP(F1834,Soutez!A:C,3,FALSE)","v":2023},12,4404,1.06,5633,5971,null,null,"JS3 Jet","ZB","Není v databázi"]
["Laszlo Kapuy",null,null,null,null,"EGC 2023 - Open",{"$f":"VLOOKUP(F1835,Soutez!A:B,2,FALSE)","v":"PL"},{"$f":"VLOOKUP(F1835,Soutez!A:C,3,FALSE)","v":2023},13,4204,1.06,5192,5504,null,null,"EB29D","HB","Není v databázi"]
["Radek Kucirek",{"$f":"VLOOKUP(A1836,Pilot,2,0)","v":1973},{"$f":"VLOOKUP(A1836,Pilot,5,0)","v":"M"},{"$f":"VLOOKUP(A1836,Pilot,3,0)","v":"Havlíčkův Brod"},{"$f":"VLOOKUP(A1836,Pilot,4,0)","v":"CZ/C2"},"EGC 2023 - Open",{"$f":"VLOOKUP(F1836,Soutez!A:B,2,FALSE)","v":"PL"},{"$f":"VLOOKUP(F1836,Soutez!A:C,3,FALSE)","v":2023},14,4070,1.06,4826,5116,null,null,"EB 28 edition","NA",""]
["Laszlo Istvan Bano",null,null,null,null,"EGC 2023 - Open",{"$f":"VLOOKUP(F1837,Soutez!A:B,2,FALSE)","v":"PL"},{"$f":"VLOOKUP(F1837,Soutez!A:C,3,FALSE)","v":2023},15,3599,1.06,4078,4323,null,null,"JS1 C","AAD","Není v databázi"]
["Kettunen & Sorri",null,null,null,null,"EGC 2023 - Duo 20m",{"$f":"VLOOKUP(F1838,Soutez!A:B,2,FALSE)","v":"PL"},{"$f":"VLOOKUP(F1838,Soutez!A:C,3,FALSE)","v":2023},1,6358,1.085,{"$f":"ROUND(J1838/MAX($J$1838:$J$1859)*10000*0.7+(MAX($I$1838:$I$1859)-I1838)/(MAX($I$1838:$I$1859)-1)*10000*0.3,0)","v":10000},{"$f":"ROUND(K1838*L1838,0)","v":10850},null,null,"Arcus M","AM","Není v databázi"]
["Harvey & Dawes",null,null,null,null,"EGC 2023 - Duo 20m",{"$f":"VLOOKUP(F1839,Soutez!A:B,2,FALSE)","v":"PL"},{"$f":"VLOOKUP(F1839,Soutez!A:C,3,FALSE)","v":2023},2,6356,1.085,9855,{"$f":"ROUND(K1839*L1839,0)","v":10693},null,null,"Arcus M",5,"Není v databázi"]
["Coppin & Jones",null,null,null,null,"EGC 2023 - Duo 20m",{"$f":"VLOOKUP(F1840,Soutez!A:B,2,FALSE)","v":"PL"},{"$f":"VLOOKUP(F1840,Soutez!A:C,3,FALSE)","v":2023},3,6196,1.085,9536,10347,null,null,"Arcus M","I10","Není v databázi"]
["Borgmann & Wolff",null,null,null,null,"EGC 2023 - Duo 20m",{"$f":"VLOOKUP(F1841,Soutez!A:B,2,FALSE)","v":"PL"},{"$f":"VLOOKUP(F1841,Soutez!A:C,3,FALSE)","v":2023},4,6125,1.085,9315,10107,null,null,"Arcus 20T","DX","Není v databázi"]
["Muller & Hörber",null,null,null,null,"EGC 2023 - Duo 20m",{"$f":"VLOOKUP(F1842,Soutez!A:B,2,FALSE)","v":"PL"},{"$f":"VLOOKUP(F1842,Soutez!A:C,3,FALSE)","v":2023},5,5988,1.085,9021,9788,null,null,"Arcus T","HLB","Není v databázi"]
["Gmelin & Grote",null,null,null,null,"EGC 2023 - Duo 20m",{"$f":"VLOOKUP(F1843,Soutez!A:B,2,FALSE)","v":"PL"},{"$f":"VLOOKUP(F1843,Soutez!A:C,3,FALSE)","v":2023},6,5935,1.085,8820,9570,null,null,"Arcus T","V8","Není v databázi"]
["Gulyas & Korom",null,null,null,null,"EGC 2023 - Duo 20m",{"$f":"VLOOKUP(F1844,Soutez!A:B,2,FALSE)","v":"PL"},{"$f":"VLOOKUP(F1844,Soutez!A:C,3,FALSE)","v":2023},7,5827,1.085,8558,9285,null,null,"Arcus T","HUX","Není v databázi"]
["de Pechy & Bouderlique",null,null,null,null,"EGC 2023 - Duo 20m",{"$f":"VLOOKUP(F1845,Soutez!A:B,2,FALSE)","v":"PL"},{"$f":"VLOOKUP(F1845,Soutez!A:C,3,FALSE)","v":2023},8,5809,1.085,8396,9110,null,null,"Arcus 20T","MG","Není v databázi"]
["Bielen & Snyers",null,null,null,null,"EGC 2023 - Duo 20m",{"$f":"VLOOKUP(F1846,Soutez!A:B,2,FALSE)","v":"PL"},{"$f":"VLOOKUP(F1846,Soutez!A:C,3,FALSE)","v":2023},9,5643,1.085,8070,8756,null,null,"Arcus T","CR","Není v databázi"]
["Bjøro & Bjøro",null,null,null,null,"EGC 2023 - Duo 20m",{"$f":"VLOOKUP(F1847,Soutez!A:B,2,FALSE)","v":"PL"},{"$f":"VLOOKUP(F1847,Soutez!A:C,3,FALSE)","v":2023},10,5131,1.085,7363,7989,null,null,"Arcus M","FJ","Není v databázi"]
["Ørskov & Mix",null,null,null,null,"EGC 2023 - Duo 20m",{"$f":"VLOOKUP(F1848,Soutez!A:B,2,FALSE)","v":"PL"},{"$f":"VLOOKUP(F1848,Soutez!A:C,3,FALSE)","v":2023},11,5080,1.085,7164,7773,null,null,"Arcus T","BI","Není v databázi"]
["Czeladzki & Biela",null,null,null,null,"EGC 2023 - Duo 20m",{"$f":"VLOOKUP(F1849,Soutez!A:B,2,FALSE)","v":"PL"},{"$f":"VLOOKUP(F1849,Soutez!A:C,3,FALSE)","v":2023},12,5059,{"$f":"VLOOKUP(F1849,Soutez,12,0)","v":1.085},6998,7593,null,null,"Duo Discus T","POL","Není v databázi"]
["Hirvola & Ganszauge",null,null,null,null,"EGC 2023 - Duo 20m",{"$f":"VLOOKUP(F1850,Soutez!A:B,2,FALSE)","v":"PL"},{"$f":"VLOOKUP(F1850,Soutez!A:C,3,FALSE)","v":2023},13,5058,1.085,6854,7437,null,null,"Arcus T","KA","Není v databázi"]
["Niko & Bobok",null,null,null,null,"EGC 2023 - Duo 20m",{"$f":"VLOOKUP(F1851,Soutez!A:B,2,FALSE)","v":"PL"},{"$f":"VLOOKUP(F1851,Soutez!A:C,3,FALSE)","v":2023},14,4987,1.085,6633,{"$f":"ROUND(K1851*L1851,0)","v":7197},null,null,"Arcus M","CAR","Není v databázi"]
["Tomas Rendla",{"$f":"VLOOKUP(A1852,Pilot,2,0)","v":1973},{"$f":"VLOOKUP(A1852,Pilot,5,0)","v":"M"},{"$f":"VLOOKUP(A1852,Pilot,3,0)","v":"Zbraslavice"},{"$f":"VLOOKUP(A1852,Pilot,4,0)","v":"CZ/C1"},"EGC 2023 - Duo 20m",{"$f":"VLOOKUP(F1852,Soutez!A:B,2,FALSE)","v":"PL"},{"$f":"VLOOKUP(F1852,Soutez!A:C,3,FALSE)","v":2023},15,4969,1.085,6471,7021,null,null,"Arcus M","EY",""]
["Brigliadori & Schiavotto",null,null,null,null,"EGC 2023 - Duo 20m",{"$f":"VLOOKUP(F1853,Soutez!A:B,2,FALSE)","v":"PL"},{"$f":"VLOOKUP(F1853,Soutez!A:C,3,FALSE)","v":2023},16,4968,1.085,6327,6865,null,null,"Arcus M",13,"Není v databázi"]
["Prodorutti & Montemaggi",null,null,null,null,"EGC 2023 - Duo 20m",{"$f":"VLOOKUP(F1854,Soutez!A:B,2,FALSE)","v":"PL"},{"$f":"VLOOKUP(F1854,Soutez!A:C,3,FALSE)","v":2023},17,4721,1.085,5912,6415,null,null,"Arcus M","BPG","Není v databázi"]
["Jørgensen & Nielsen",null,null,null,null,"EGC 2023 - Duo 20m",{"$f":"VLOOKUP(F1855,Soutez!A:B,2,FALSE)","v":"PL"},{"$f":"VLOOKUP(F1855,Soutez!A:C,3,FALSE)","v":2023},18,4058,1.085,5039,5467,null,null,"Arcus T","JT","Není v databázi"]
["Käppeli & Hirt",null,null,null,null,"EGC 2023 - Duo 20m",{"$f":"VLOOKUP(F1856,Soutez!A:B,2,FALSE)","v":"PL"},{"$f":"VLOOKUP(F1856,Soutez!A:C,3,FALSE)","v":2023},19,3970,1.085,4799,5207,null,null,"Arcus M",1,"Není v databázi"]
["Ivan Novak",{"$f":"VLOOKUP(A1857,Pilot,2,0)","v":1962},{"$f":"VLOOKUP(A1857,Pilot,5,0)","v":"M"},{"$f":"VLOOKUP(A1857,Pilot,3,0)","v":"Mladá Boleslav"},{"$f":"VLOOKUP(A1857,Pilot,4,0)","v":"CZ/C1"},"EGC 2023 - Duo 20m",{"$f":"VLOOKUP(F1857,Soutez!A:B,2,FALSE)","v":"PL"},{"$f":"VLOOKUP(F1857,Soutez!A:C,3,FALSE)","v":2023},20,3760,1.085,4425,4801,null,null,"HpH304 TS Twin Shark","FNC",""]
["Barszcz & Kornacki",null,null,null,null,"EGC 2023 - Duo 20m",{"$f":"VLOOKUP(F1858,Soutez!A:B,2,FALSE)","v":"PL"},{"$f":"VLOOKUP(F1858,Soutez!A:C,3,FALSE)","v":2023},21,3585,1.085,4090,4438,null,null,"Arcus T","ZAR","Není v databázi"]
["Kiss & Rehus",null,null,null,null,"EGC 2023 - Duo 20m",{"$f":"VLOOKUP(F1859,Soutez!A:B,2,FALSE)","v":"PL"},{"$f":"VLOOKUP(F1859,Soutez!A:C,3,FALSE)","v":2023},22,2383,1.085,2624,2847,null,null,"Arcus T","SQ","Není v databázi"]
["Kim Toppari",null,null,"Finland",null,"JEGC 2023 - Klub",{"$f":"VLOOKUP(F1860,Soutez!A:B,2,FALSE)","v":"DK"},{"$f":"VLOOKUP(F1860,Soutez!A:C,3,FALSE)","v":2023},1,2823,1.02,{"$f":"ROUND(J1860/MAX($J$1860:$J$1895)*10000*0.7+(MAX($I$1860:$I$1895)-I1860)/(MAX($I$1860:$I$1895)-1)*10000*0.3,0)","v":10000},{"$f":"ROUND(K1860*L1860,0)","v":10200},null,null,"LS 7","KT","Není v databázi"]
["Toby Freeland",null,null,"United Kingdom",null,"JEGC 2023 - Klub",{"$f":"VLOOKUP(F1861,Soutez!A:B,2,FALSE)","v":"DK"},{"$f":"VLOOKUP(F1861,Soutez!A:C,3,FALSE)","v":2023},2,2822,1.02,9912,{"$f":"ROUND(K1861*L1861,0)","v":10110},null,null,"ASW 20",212,"Není v databázi"]
["Alexandre Fierain",null,null,"France",null,"JEGC 2023 - Klub",{"$f":"VLOOKUP(F1862,Soutez!A:B,2,FALSE)","v":"DK"},{"$f":"VLOOKUP(F1862,Soutez!A:C,3,FALSE)","v":2023},3,2773,1.02,9705,9899,null,null,"ASW 20","WE","Není v databázi"]
["Matthieu Henin",null,null,"France",null,"JEGC 2023 - Klub",{"$f":"VLOOKUP(F1863,Soutez!A:B,2,FALSE)","v":"DK"},{"$f":"VLOOKUP(F1863,Soutez!A:C,3,FALSE)","v":2023},4,2764,1.02,9597,9789,null,null,"ASW 20F","X29","Není v databázi"]
["Jan Stastny",{"$f":"VLOOKUP(A1864,Pilot,2,0)","v":2003},{"$f":"VLOOKUP(A1864,Pilot,5,0)","v":"M"},{"$f":"VLOOKUP(A1864,Pilot,3,0)","v":"Medlánky"},{"$f":"VLOOKUP(A1864,Pilot,4,0)","v":"CZ/M"},"JEGC 2023 - Klub",{"$f":"VLOOKUP(F1864,Soutez!A:B,2,FALSE)","v":"DK"},{"$f":"VLOOKUP(F1864,Soutez!A:C,3,FALSE)","v":2023},5,2736,1.02,9441,9630,"x",null,"ASW 20","CPI","Junior v roce 2025"]
["Lars van Breemen",null,null,"Netherlands",null,"JEGC 2023 - Klub",{"$f":"VLOOKUP(F1865,Soutez!A:B,2,FALSE)","v":"DK"},{"$f":"VLOOKUP(F1865,Soutez!A:C,3,FALSE)","v":2023},6,2696,1.02,9257,9442,null,null,"LS 4b","S4","Není v databázi"]
["Simon Siska",null,null,"Slovakia",null,"JEGC 2023 - Klub",{"$f":"VLOOKUP(F1866,Soutez!A:B,2,FALSE)","v":"DK"},{"$f":"VLOOKUP(F1866,Soutez!A:C,3,FALSE)","v":2023},7,2661,1.02,9084,9266,null,null,"ASW 24","CK",{"$f":"IF(ISERROR(VLOOKUP(A1866,Pilot,6,0)),\"Není v databázi\",VLOOKUP(A1866,Pilot,6,0))","v":"Není v databázi"}]
["Gerrit Neugebauer",null,null,"Germany",null,"JEGC 2023 - Klub",{"$f":"VLOOKUP(F1867,Soutez!A:B,2,FALSE)","v":"DK"},{"$f":"VLOOKUP(F1867,Soutez!A:C,3,FALSE)","v":2023},8,2658,1.02,8991,9171,null,null,"LS 4","7E","Není v databázi"]
["Jakub Kaczorowski",null,null,"Poland",null,"JEGC 2023 - Klub",{"$f":"VLOOKUP(F1868,Soutez!A:B,2,FALSE)","v":"DK"},{"$f":"VLOOKUP(F1868,Soutez!A:C,3,FALSE)","v":2023},9,2650,1.02,8885,9063,null,null,"Mini Nimbus","DF","Není v databázi"]
["Maciej Kowalski",null,null,"Poland",null,"JEGC 2023 - Klub",{"$f":"VLOOKUP(F1869,Soutez!A:B,2,FALSE)","v":"DK"},{"$f":"VLOOKUP(F1869,Soutez!A:C,3,FALSE)","v":2023},10,2626,1.02,8740,8915,null,null,"ASW 20F","LN","Není v databázi"]
["Johannes Beyer",null,null,"Germany",null,"JEGC 2023 - Klub",{"$f":"VLOOKUP(F1870,Soutez!A:B,2,FALSE)","v":"DK"},{"$f":"VLOOKUP(F1870,Soutez!A:C,3,FALSE)","v":2023},10,2626,1.02,8740,8915,null,null,"LS 4","FT","Není v databázi"]
["Miles Chalk Kjær",null,null,"Denmark",null,"JEGC 2023 - Klub",{"$f":"VLOOKUP(F1871,Soutez!A:B,2,FALSE)","v":"DK"},{"$f":"VLOOKUP(F1871,Soutez!A:C,3,FALSE)","v":2023},12,2623,1.02,8561,8732,null,null,"ASW 20","CB","Není v databázi"]
["Jens Andersen",null,null,"Denmark",null,"JEGC 2023 - Klub",{"$f":"VLOOKUP(F1872,Soutez!A:B,2,FALSE)","v":"DK"},{"$f":"VLOOKUP(F1872,Soutez!A:C,3,FALSE)","v":2023},13,2605,1.02,8431,8600,null,null,"LS 3a","TM","Není v databázi"]
["Nils Heck",null,null,"Germany",null,"JEGC 2023 - Klub",{"$f":"VLOOKUP(F1873,Soutez!A:B,2,FALSE)","v":"DK"},{"$f":"VLOOKUP(F1873,Soutez!A:C,3,FALSE)","v":2023},14,2589,1.02,8305,8471,null,null,"LS 4b","I","Není v databázi"]
["Alessandro Bassalti",null,null,"Italy",null,"JEGC 2023 - Klub",{"$f":"VLOOKUP(F1874,Soutez!A:B,2,FALSE)","v":"DK"},{"$f":"VLOOKUP(F1874,Soutez!A:C,3,FALSE)","v":2023},15,2573,1.02,8180,8344,null,null,"Discus b","5I","Není v databázi"]
["Elias Severholt Fourati",null,null,"Sweden",null,"JEGC 2023 - Klub",{"$f":"VLOOKUP(F1875,Soutez!A:B,2,FALSE)","v":"DK"},{"$f":"VLOOKUP(F1875,Soutez!A:C,3,FALSE)","v":2023},16,2555,1.02,8050,8211,null,null,"LS 4","XD","Není v databázi"]
["Tim Kremers",null,null,"Netherlands",null,"JEGC 2023 - Klub",{"$f":"VLOOKUP(F1876,Soutez!A:B,2,FALSE)","v":"DK"},{"$f":"VLOOKUP(F1876,Soutez!A:C,3,FALSE)","v":2023},17,2499,1.02,7825,7982,null,null,"LS 4","AU","Není v databázi"]
["Sara Salonen",null,null,"Finland",null,"JEGC 2023 - Klub",{"$f":"VLOOKUP(F1877,Soutez!A:B,2,FALSE)","v":"DK"},{"$f":"VLOOKUP(F1877,Soutez!A:C,3,FALSE)","v":2023},18,2451,1.02,7620,7772,null,null,"LS 7","HV","Není v databázi"]
["Wout Sliedregt",null,null,"Netherlands",null,"JEGC 2023 - Klub",{"$f":"VLOOKUP(F1878,Soutez!A:B,2,FALSE)","v":"DK"},{"$f":"VLOOKUP(F1878,Soutez!A:C,3,FALSE)","v":2023},19,2440,1.02,7507,7657,null,null,"LS 4a","AG","Není v databázi"]
["Mikko Ylihärsilä",null,null,"Finland",null,"JEGC 2023 - Klub",{"$f":"VLOOKUP(F1879,Soutez!A:B,2,FALSE)","v":"DK"},{"$f":"VLOOKUP(F1879,Soutez!A:C,3,FALSE)","v":2023},20,2436,1.02,7412,7560,null,null,"LS 7","GE","Není v databázi"]
["Titas Jovaisa",null,null,"Lithuania",null,"JEGC 2023 - Klub",{"$f":"VLOOKUP(F1880,Soutez!A:B,2,FALSE)","v":"DK"},{"$f":"VLOOKUP(F1880,Soutez!A:C,3,FALSE)","v":2023},21,2382,1.02,7192,7336,null,null,"ASW 20F","W4","Není v databázi"]
["Wiktor Czubski",null,null,"Poland",null,"JEGC 2023 - Klub",{"$f":"VLOOKUP(F1881,Soutez!A:B,2,FALSE)","v":"DK"},{"$f":"VLOOKUP(F1881,Soutez!A:C,3,FALSE)","v":2023},22,2305,{"$f":"VLOOKUP(F1881,Soutez,12,0)","v":1.02},6916,7054,null,null,"SZD 55-1","JB","Není v databázi"]
["Vladimir Hammer",{"$f":"VLOOKUP(A1882,Pilot,2,0)","v":2000},{"$f":"VLOOKUP(A1882,Pilot,5,0)","v":"M"},{"$f":"VLOOKUP(A1882,Pilot,3,0)","v":"Letkov"},{"$f":"VLOOKUP(A1882,Pilot,4,0)","v":"CZ/C1"},"JEGC 2023 - Klub",{"$f":"VLOOKUP(F1882,Soutez!A:B,2,FALSE)","v":"DK"},{"$f":"VLOOKUP(F1882,Soutez!A:C,3,FALSE)","v":2023},23,2279,1.02,6765,6900,"x",null,"ASW 20L","CX","Junior v roce 2025"]
["Matteo Merk",null,null,"Switzerland",null,"JEGC 2023 - Klub",{"$f":"VLOOKUP(F1883,Soutez!A:B,2,FALSE)","v":"DK"},{"$f":"VLOOKUP(F1883,Soutez!A:C,3,FALSE)","v":2023},24,2151,1.02,6362,{"$f":"ROUND(K1883*L1883,0)","v":6489},null,null,"LS 4","WG","Není v databázi"]
["Tomas Hynek",{"$f":"VLOOKUP(A1884,Pilot,2,0)","v":2002},{"$f":"VLOOKUP(A1884,Pilot,5,0)","v":"M"},{"$f":"VLOOKUP(A1884,Pilot,3,0)","v":"Dvůr Králové"},{"$f":"VLOOKUP(A1884,Pilot,4,0)","v":"CZ/C2"},"JEGC 2023 - Klub",{"$f":"VLOOKUP(F1884,Soutez!A:B,2,FALSE)","v":"DK"},{"$f":"VLOOKUP(F1884,Soutez!A:C,3,FALSE)","v":2023},25,2144,1.02,6259,6384,null,null,"ASW 20C","VW","Junior v roce 2025"]
["Jakob Prior",null,null,"Austria",null,"JEGC 2023 - Klub",{"$f":"VLOOKUP(F1885,Soutez!A:B,2,FALSE)","v":"DK"},{"$f":"VLOOKUP(F1885,Soutez!A:C,3,FALSE)","v":2023},26,2061,1.02,5968,6087,null,null,"LS 1f","ISV","Není v databázi"]
["George White",null,null,"United Kingdom",null,"JEGC 2023 - Klub",{"$f":"VLOOKUP(F1886,Soutez!A:B,2,FALSE)","v":"DK"},{"$f":"VLOOKUP(F1886,Soutez!A:C,3,FALSE)","v":2023},27,2032,1.02,5810,5926,null,null,"ASW 20L","ENW","Není v databázi"]
["Dylan Osolian",null,null,"Sweden",null,"JEGC 2023 - Klub",{"$f":"VLOOKUP(F1887,Soutez!A:B,2,FALSE)","v":"DK"},{"$f":"VLOOKUP(F1887,Soutez!A:C,3,FALSE)","v":2023},28,2028,1.02,5714,5828,null,null,"LS 3a","CP","Není v databázi"]
["Lilla Szamosujvari",null,null,"Hungary",null,"JEGC 2023 - Klub",{"$f":"VLOOKUP(F1888,Soutez!A:B,2,FALSE)","v":"DK"},{"$f":"VLOOKUP(F1888,Soutez!A:C,3,FALSE)","v":2023},29,1882,1.02,5267,5372,null,null,"Glasflügel 304","JM","Není v databázi"]
["Valeria Huber",null,null,"Switzerland",null,"JEGC 2023 - Klub",{"$f":"VLOOKUP(F1889,Soutez!A:B,2,FALSE)","v":"DK"},{"$f":"VLOOKUP(F1889,Soutez!A:C,3,FALSE)","v":2023},30,1844,1.02,5087,5189,null,null,"Discus b","S5","Není v databázi"]
["Ludvig Jauring",null,null,"Sweden",null,"JEGC 2023 - Klub",{"$f":"VLOOKUP(F1890,Soutez!A:B,2,FALSE)","v":"DK"},{"$f":"VLOOKUP(F1890,Soutez!A:C,3,FALSE)","v":2023},31,1783,1.02,4850,4947,null,null,"DG 100 G Elan","AB","Není v databázi"]
["Guillaume Ottolini",null,null,"France",null,"JEGC 2023 - Klub",{"$f":"VLOOKUP(F1891,Soutez!A:B,2,FALSE)","v":"DK"},{"$f":"VLOOKUP(F1891,Soutez!A:C,3,FALSE)","v":2023},32,1779,1.02,4754,4849,null,null,"LS 7 WL","IAG","Není v databázi"]
["Robbe Van Brandt",null,null,"Belgium",null,"JEGC 2023 - Klub",{"$f":"VLOOKUP(F1892,Soutez!A:B,2,FALSE)","v":"DK"},{"$f":"VLOOKUP(F1892,Soutez!A:C,3,FALSE)","v":2023},33,1765,1.02,4634,4727,null,null,"ASW 15","PP","Není v databázi"]
["Jokubas Motuza",null,null,"Lithuania",null,"JEGC 2023 - Klub",{"$f":"VLOOKUP(F1893,Soutez!A:B,2,FALSE)","v":"DK"},{"$f":"VLOOKUP(F1893,Soutez!A:C,3,FALSE)","v":2023},34,1706,1.02,4402,4490,null,null,"ASW 20F","VJ","Není v databázi"]
["Mate Meszaros",null,null,"Hungary",null,"JEGC 2023 - Klub",{"$f":"VLOOKUP(F1894,Soutez!A:B,2,FALSE)","v":"DK"},{"$f":"VLOOKUP(F1894,Soutez!A:C,3,FALSE)","v":2023},35,1661,1.02,4204,4288,null,null,"ASW 19 B","DB","Není v databázi"]
["Oskar Minds",null,null,"Denmark",null,"JEGC 2023 - Klub",{"$f":"VLOOKUP(F1895,Soutez!A:B,2,FALSE)","v":"DK"},{"$f":"VLOOKUP(F1895,Soutez!A:C,3,FALSE)","v":2023},36,1450,1.02,3595,3667,null,null,"LS 4","MD","Není v databázi"]
["Lukas Kriz",{"$f":"VLOOKUP(A1896,Pilot,2,0)","v":2003},{"$f":"VLOOKUP(A1896,Pilot,5,0)","v":"M"},{"$f":"VLOOKUP(A1896,Pilot,3,0)","v":"Křižanov"},{"$f":"VLOOKUP(A1896,Pilot,4,0)","v":"CZ/M"},"JEGC 2023 - Std",{"$f":"VLOOKUP(F1896,Soutez!A:B,2,FALSE)","v":"DK"},{"$f":"VLOOKUP(F1896,Soutez!A:C,3,FALSE)","v":2023},1,2878,1.02,{"$f":"ROUND(J1896/MAX($J$1896:$J$1915)*10000*0.7+(MAX($I$1896:$I$1915)-I1896)/(MAX($I$1896:$I$1915)-1)*10000*0.3,0)","v":10000},{"$f":"ROUND(K1896*L1896,0)","v":10200},"x",null,"LS 8a","AUI","Junior v roce 2025"]
["Jaromir Macoun",1999,"M","Jičín","CZ/C2","JEGC 2023 - Std",{"$f":"VLOOKUP(F1897,Soutez!A:B,2,FALSE)","v":"DK"},{"$f":"VLOOKUP(F1897,Soutez!A:C,3,FALSE)","v":2023},2,2793,1.02,9635,{"$f":"ROUND(K1897*L1897,0)","v":9828},"x",null,"LS 8","EU",""]
["Michaela Rendlova",2004,"F","Toužim","CZ/C1","JEGC 2023 - Std",{"$f":"VLOOKUP(F1898,Soutez!A:B,2,FALSE)","v":"DK"},{"$f":"VLOOKUP(F1898,Soutez!A:C,3,FALSE)","v":2023},3,2769,1.02,9419,9607,"x","x","LS 8","W8","Junior v roce 2025"]
["Lasse Edslev",null,null,"Denmark",null,"JEGC 2023 - Std",{"$f":"VLOOKUP(F1899,Soutez!A:B,2,FALSE)","v":"DK"},{"$f":"VLOOKUP(F1899,Soutez!A:C,3,FALSE)","v":2023},4,2723,1.02,9149,9332,null,null,"LS 8 Neo","EC","Není v databázi"]
["Jacob Bøgelund Lassen",null,null,"Denmark",null,"JEGC 2023 - Std",{"$f":"VLOOKUP(F1900,Soutez!A:B,2,FALSE)","v":"DK"},{"$f":"VLOOKUP(F1900,Soutez!A:C,3,FALSE)","v":2023},5,2655,1.02,8826,9003,null,null,"Discus 2a","MK","Není v databázi"]
["Niels van Nieuwland",null,null,"Netherlands",null,"JEGC 2023 - Std",{"$f":"VLOOKUP(F1901,Soutez!A:B,2,FALSE)","v":"DK"},{"$f":"VLOOKUP(F1901,Soutez!A:C,3,FALSE)","v":2023},6,2652,1.02,8661,8834,null,null,"LS 8 Neo","VNE","Není v databázi"]
["Freddie Turner",null,null,"United Kingdom",null,"JEGC 2023 - Std",{"$f":"VLOOKUP(F1902,Soutez!A:B,2,FALSE)","v":"DK"},{"$f":"VLOOKUP(F1902,Soutez!A:C,3,FALSE)","v":2023},7,2648,1.02,8493,8663,null,null,"LS 8",325,"Není v databázi"]
["Mathias Valentin",null,null,"Denmark",null,"JEGC 2023 - Std",{"$f":"VLOOKUP(F1903,Soutez!A:B,2,FALSE)","v":"DK"},{"$f":"VLOOKUP(F1903,Soutez!A:C,3,FALSE)","v":2023},8,2572,1.02,8150,8313,null,null,"LS8","KE","Není v databázi"]
["Clemens Berger",null,null,"Germany",null,"JEGC 2023 - Std",{"$f":"VLOOKUP(F1904,Soutez!A:B,2,FALSE)","v":"DK"},{"$f":"VLOOKUP(F1904,Soutez!A:C,3,FALSE)","v":2023},9,2552,1.02,7944,8103,null,null,"LS 8","C","Není v databázi"]
["Theo Napoleon",null,null,"France",null,"JEGC 2023 - Std",{"$f":"VLOOKUP(F1905,Soutez!A:B,2,FALSE)","v":"DK"},{"$f":"VLOOKUP(F1905,Soutez!A:C,3,FALSE)","v":2023},10,2534,1.02,7742,7897,null,null,"Discus 2a","AX","Není v databázi"]
["Ben Edkins",null,null,"United Kingdom",null,"JEGC 2023 - Std",{"$f":"VLOOKUP(F1906,Soutez!A:B,2,FALSE)","v":"DK"},{"$f":"VLOOKUP(F1906,Soutez!A:C,3,FALSE)","v":2023},11,2468,1.02,7424,7572,null,null,"LS 8",302,"Není v databázi"]
["Philippe LATA",null,null,"France",null,"JEGC 2023 - Std",{"$f":"VLOOKUP(F1907,Soutez!A:B,2,FALSE)","v":"DK"},{"$f":"VLOOKUP(F1907,Soutez!A:C,3,FALSE)","v":2023},12,2427,1.02,7166,7309,null,null,"LS 8","CA","Není v databázi"]
["Wiktor Lacinski",null,null,"Poland",null,"JEGC 2023 - Std",{"$f":"VLOOKUP(F1908,Soutez!A:B,2,FALSE)","v":"DK"},{"$f":"VLOOKUP(F1908,Soutez!A:C,3,FALSE)","v":2023},13,2245,1.02,6566,6697,null,null,"LS 8","LOT","Není v databázi"]
["Nuno Ferreira",null,null,"Germany",null,"JEGC 2023 - Std",{"$f":"VLOOKUP(F1909,Soutez!A:B,2,FALSE)","v":"DK"},{"$f":"VLOOKUP(F1909,Soutez!A:C,3,FALSE)","v":2023},14,2181,1.02,6252,6377,null,null,"LS 8 Neo","FJ","Není v databázi"]
["Áron Érseki",null,null,"Hungary",null,"JEGC 2023 - Std",{"$f":"VLOOKUP(F1910,Soutez!A:B,2,FALSE)","v":"DK"},{"$f":"VLOOKUP(F1910,Soutez!A:C,3,FALSE)","v":2023},15,1990,1.02,5630,5743,null,null,"Discus 2a","HAL","Není v databázi"]
["Jan-Lucas Aberle",null,null,"Germany",null,"JEGC 2023 - Std",{"$f":"VLOOKUP(F1911,Soutez!A:B,2,FALSE)","v":"DK"},{"$f":"VLOOKUP(F1911,Soutez!A:C,3,FALSE)","v":2023},16,1954,1.02,5384,{"$f":"ROUND(K1911*L1911,0)","v":5492},null,null,"Discus 2a","JLA","Není v databázi"]
["Claudio Etterli",null,null,"Switzerland",null,"JEGC 2023 - Std",{"$f":"VLOOKUP(F1912,Soutez!A:B,2,FALSE)","v":"DK"},{"$f":"VLOOKUP(F1912,Soutez!A:C,3,FALSE)","v":2023},17,1923,1.02,5151,5254,null,null,"Discus 2b","Z1","Není v databázi"]
["Tomasz Kurowski",null,null,"Poland",null,"JEGC 2023 - Std",{"$f":"VLOOKUP(F1913,Soutez!A:B,2,FALSE)","v":"DK"},{"$f":"VLOOKUP(F1913,Soutez!A:C,3,FALSE)","v":2023},18,1912,{"$f":"VLOOKUP(F1913,Soutez,12,0)","v":1.02},4966,5065,null,null,"Discus 2a","Y","Není v databázi"]
["Sönke Ahlborn",null,null,"Switzerland",null,"JEGC 2023 - Std",{"$f":"VLOOKUP(F1914,Soutez!A:B,2,FALSE)","v":"DK"},{"$f":"VLOOKUP(F1914,Soutez!A:C,3,FALSE)","v":2023},19,1612,1.02,4079,4161,null,null,"Discus 2b","Z2","Není v databázi"]
["Raphael Lutz",null,null,"Switzerland",null,"JEGC 2023 - Std",{"$f":"VLOOKUP(F1915,Soutez!A:B,2,FALSE)","v":"DK"},{"$f":"VLOOKUP(F1915,Soutez!A:C,3,FALSE)","v":2023},20,1354,1.02,3293,3359,null,null,"Discus 2b","UB","Není v databázi"]
["Stefan Langer",null,null,null,null,"SGP Final 2023",{"$f":"VLOOKUP(F1916,Soutez!A:B,2,FALSE)","v":"IT"},{"$f":"VLOOKUP(F1916,Soutez!A:C,3,FALSE)","v":2023},1,19,1.0649999999999999,{"$f":"ROUND((MAX($I$1916:$I$1934)-I1916)/(MAX($I$1916:$I$1934)-1)*10000,0)","v":10000},{"$f":"ROUND(K1916*L1916,0)","v":10650},null,null,"ASG-29 18m","SL","Není v databázi"]
["Erik Borgmann",null,null,null,null,"SGP Final 2023",{"$f":"VLOOKUP(F1917,Soutez!A:B,2,FALSE)","v":"IT"},{"$f":"VLOOKUP(F1917,Soutez!A:C,3,FALSE)","v":2023},2,19,1.0649999999999999,9444,{"$f":"ROUND(K1917*L1917,0)","v":10058},null,null,"JS3 - 18m Jet","JG","Není v databázi"]
["Hermann Leucker",null,null,null,null,"SGP Final 2023",{"$f":"VLOOKUP(F1918,Soutez!A:B,2,FALSE)","v":"IT"},{"$f":"VLOOKUP(F1918,Soutez!A:C,3,FALSE)","v":2023},3,18,1.0649999999999999,8889,9467,null,null,"JS3 - 18m Jet","HL","Není v databázi"]
["Tilo Holighaus",null,null,null,null,"SGP Final 2023",{"$f":"VLOOKUP(F1919,Soutez!A:B,2,FALSE)","v":"IT"},{"$f":"VLOOKUP(F1919,Soutez!A:C,3,FALSE)","v":2023},4,17,1.0649999999999999,8333,8875,null,null,"Ventus 3","3V","Není v databázi"]
["Alberto Sironi",null,null,null,null,"SGP Final 2023",{"$f":"VLOOKUP(F1920,Soutez!A:B,2,FALSE)","v":"IT"},{"$f":"VLOOKUP(F1920,Soutez!A:C,3,FALSE)","v":2023},5,16,1.0649999999999999,7778,8284,null,null,"AS33","MA","Není v databázi"]
["Sebastian Kawa",null,null,null,null,"SGP Final 2023",{"$f":"VLOOKUP(F1921,Soutez!A:B,2,FALSE)","v":"IT"},{"$f":"VLOOKUP(F1921,Soutez!A:C,3,FALSE)","v":2023},6,14,1.0649999999999999,7222,7691,null,null,"Ventus 3","S","Není v databázi"]
["Maximilian Seis",null,null,null,null,"SGP Final 2023",{"$f":"VLOOKUP(F1922,Soutez!A:B,2,FALSE)","v":"IT"},{"$f":"VLOOKUP(F1922,Soutez!A:C,3,FALSE)","v":2023},7,14,1.0649999999999999,6667,7100,null,null,"Ventus 3","NB","Není v databázi"]
["Mike Young",null,null,null,null,"SGP Final 2023",{"$f":"VLOOKUP(F1923,Soutez!A:B,2,FALSE)","v":"IT"},{"$f":"VLOOKUP(F1923,Soutez!A:C,3,FALSE)","v":2023},8,10,1.0649999999999999,6111,6508,null,null,"Ventus 3T","MY","Není v databázi"]
["Marek Sawczuk",null,null,null,null,"SGP Final 2023",{"$f":"VLOOKUP(F1924,Soutez!A:B,2,FALSE)","v":"IT"},{"$f":"VLOOKUP(F1924,Soutez!A:C,3,FALSE)","v":2023},9,10,1.0649999999999999,5556,5917,null,null,"ASG-29 18m","MS","Není v databázi"]
["Klaus Kalmbach",null,null,null,null,"SGP Final 2023",{"$f":"VLOOKUP(F1925,Soutez!A:B,2,FALSE)","v":"IT"},{"$f":"VLOOKUP(F1925,Soutez!A:C,3,FALSE)","v":2023},10,10,1.0649999999999999,5000,5325,null,null,"JS3 - 18m Jet","CT","Není v databázi"]
["Lukasz Grabowski",null,null,null,null,"SGP Final 2023",{"$f":"VLOOKUP(F1926,Soutez!A:B,2,FALSE)","v":"IT"},{"$f":"VLOOKUP(F1926,Soutez!A:C,3,FALSE)","v":2023},11,9,1.0649999999999999,4444,4733,null,null,"JS-1 18m","P","Není v databázi"]
["Thomas Gostner",null,null,null,null,"SGP Final 2023",{"$f":"VLOOKUP(F1927,Soutez!A:B,2,FALSE)","v":"IT"},{"$f":"VLOOKUP(F1927,Soutez!A:C,3,FALSE)","v":2023},12,8,1.0649999999999999,3889,4142,null,null,"Ventus 3","GT","Není v databázi"]
["Giorgio Galetto",null,null,null,null,"SGP Final 2023",{"$f":"VLOOKUP(F1928,Soutez!A:B,2,FALSE)","v":"IT"},{"$f":"VLOOKUP(F1928,Soutez!A:C,3,FALSE)","v":2023},13,6,1.0649999999999999,3333,3550,null,null,"Ventus 3 FES","Y",{"$f":"IF(ISERROR(VLOOKUP(A1928,Pilot,6,0)),\"Není v databázi\",VLOOKUP(A1928,Pilot,6,0))","v":"Není v databázi"}]
["Petr Krejcirik",{"$f":"VLOOKUP(A1929,Pilot,2,0)","v":1960},{"$f":"VLOOKUP(A1929,Pilot,5,0)","v":"M"},{"$f":"VLOOKUP(A1929,Pilot,3,0)","v":"Hranice"},{"$f":"VLOOKUP(A1929,Pilot,4,0)","v":"CZ/M"},"SGP Final 2023",{"$f":"VLOOKUP(F1929,Soutez!A:B,2,FALSE)","v":"IT"},{"$f":"VLOOKUP(F1929,Soutez!A:C,3,FALSE)","v":2023},14,5,1.0649999999999999,2778,2959,null,null,"AS33es",12,""]
["Gilles Navas",null,null,null,null,"SGP Final 2023",{"$f":"VLOOKUP(F1930,Soutez!A:B,2,FALSE)","v":"IT"},{"$f":"VLOOKUP(F1930,Soutez!A:C,3,FALSE)","v":2023},15,4,1.0649999999999999,2222,2366,null,null,"ASG-29 18m","1L","Není v databázi"]
["Dirk Windmuller",null,null,null,null,"SGP Final 2023",{"$f":"VLOOKUP(F1931,Soutez!A:B,2,FALSE)","v":"IT"},{"$f":"VLOOKUP(F1931,Soutez!A:C,3,FALSE)","v":2023},16,3,1.0649999999999999,1667,1775,null,null,"AS33es","FUN","Není v databázi"]
["Jon Gatfield",null,null,null,null,"SGP Final 2023",{"$f":"VLOOKUP(F1932,Soutez!A:B,2,FALSE)","v":"IT"},{"$f":"VLOOKUP(F1932,Soutez!A:C,3,FALSE)","v":2023},17,3,1.0649999999999999,1111,{"$f":"ROUND(K1932*L1932,0)","v":1183},null,null,"AS33es","YO","Není v databázi"]
["Luka Znidarsic",null,null,null,null,"SGP Final 2023",{"$f":"VLOOKUP(F1933,Soutez!A:B,2,FALSE)","v":"IT"},{"$f":"VLOOKUP(F1933,Soutez!A:C,3,FALSE)","v":2023},18,0,1.0649999999999999,556,592,null,null,"Ventus-3 FES","LZ","Není v databázi"]
["Didier Hauss",null,null,null,null,"SGP Final 2023",{"$f":"VLOOKUP(F1934,Soutez!A:B,2,FALSE)","v":"IT"},{"$f":"VLOOKUP(F1934,Soutez!A:C,3,FALSE)","v":2023},19,0,1.0649999999999999,0,0,null,null,"JS-1 18m","SD","Není v databázi"]
["Sebastian Kawa",null,null,"Poland",null,"WGC 2023 - 15m",{"$f":"VLOOKUP(F1935,Soutez!A:B,2,FALSE)","v":"AU"},{"$f":"VLOOKUP(F1935,Soutez!A:C,3,FALSE)","v":2023},1,9121,1.125,{"$f":"ROUND(J1935/MAX($J$1935:$J$1961)*10000*0.7+(MAX($I$1935:$I$1961)-I1935)/(MAX($I$1935:$I$1961)-1)*10000*0.3,0)","v":10000},{"$f":"ROUND(K1935*L1935,0)","v":11250},null,null,"Diana 2","ZJ","Není v databázi"]
["Henrik Bieler",null,null,"Germany",null,"WGC 2023 - 15m",{"$f":"VLOOKUP(F1936,Soutez!A:B,2,FALSE)","v":"AU"},{"$f":"VLOOKUP(F1936,Soutez!A:C,3,FALSE)","v":2023},2,8995,1.125,9788,{"$f":"ROUND(K1936*L1936,0)","v":11012},null,null,"Ventus-3T","IYB","Není v databázi"]
["Steffen Goettler",null,null,"Germany",null,"WGC 2023 - 15m",{"$f":"VLOOKUP(F1937,Soutez!A:B,2,FALSE)","v":"AU"},{"$f":"VLOOKUP(F1937,Soutez!A:C,3,FALSE)","v":2023},3,8978,1.125,9659,10866,null,null,"Ventus 2ax","G2","Není v databázi"]
["Jeroen Verkuijl",null,null,"Netherlands",null,"WGC 2023 - 15m",{"$f":"VLOOKUP(F1938,Soutez!A:B,2,FALSE)","v":"AU"},{"$f":"VLOOKUP(F1938,Soutez!A:C,3,FALSE)","v":2023},4,8955,1.125,9526,10717,null,null,"JS3 15m","S5","Není v databázi"]
["Philip Jones",null,null,"Great Britain",null,"WGC 2023 - 15m",{"$f":"VLOOKUP(F1939,Soutez!A:B,2,FALSE)","v":"AU"},{"$f":"VLOOKUP(F1939,Soutez!A:C,3,FALSE)","v":2023},5,8952,1.125,9409,10585,null,null,"Ventus 3TS 15m",210,"Není v databázi"]
["Uys Jonker",null,null,"South Africa",null,"WGC 2023 - 15m",{"$f":"VLOOKUP(F1940,Soutez!A:B,2,FALSE)","v":"AU"},{"$f":"VLOOKUP(F1940,Soutez!A:C,3,FALSE)","v":2023},6,8936,1.125,9281,10441,null,null,"JS3 15m","BB","Není v databázi"]
["Adam Woolley",null,null,"Australia",null,"WGC 2023 - 15m",{"$f":"VLOOKUP(F1941,Soutez!A:B,2,FALSE)","v":"AU"},{"$f":"VLOOKUP(F1941,Soutez!A:C,3,FALSE)","v":2023},7,8926,1.125,9158,10303,null,null,"Ventus 3TS 15m","G1","Není v databázi"]
["Erik Borgmann",null,null,"Netherlands",null,"WGC 2023 - 15m",{"$f":"VLOOKUP(F1942,Soutez!A:B,2,FALSE)","v":"AU"},{"$f":"VLOOKUP(F1942,Soutez!A:C,3,FALSE)","v":2023},8,8921,1.125,9039,10169,null,null,"JS-MD 3","JG","Není v databázi"]
["Christophe Abadie",null,null,"France",null,"WGC 2023 - 15m",{"$f":"VLOOKUP(F1943,Soutez!A:B,2,FALSE)","v":"AU"},{"$f":"VLOOKUP(F1943,Soutez!A:C,3,FALSE)","v":2023},9,8919,1.125,8922,10037,null,null,"JS3 15m","KW","Není v databázi"]
["Tobias Geiger",null,null,"Australia",null,"WGC 2023 - 15m",{"$f":"VLOOKUP(F1944,Soutez!A:B,2,FALSE)","v":"AU"},{"$f":"VLOOKUP(F1944,Soutez!A:C,3,FALSE)","v":2023},10,8851,1.125,8754,9848,null,null,"Ventus 2ax","VG","Není v databázi"]
["Francois Delfosse",null,null,"Belgium",null,"WGC 2023 - 15m",{"$f":"VLOOKUP(F1945,Soutez!A:B,2,FALSE)","v":"AU"},{"$f":"VLOOKUP(F1945,Soutez!A:C,3,FALSE)","v":2023},11,8801,{"$f":"VLOOKUP(F1945,Soutez,12,0)","v":1.125},8601,9676,null,null,"JS3 15m",73,"Není v databázi"]
["Riccardo Brigliadori",null,null,"Italy",null,"WGC 2023 - 15m",{"$f":"VLOOKUP(F1946,Soutez!A:B,2,FALSE)","v":"AU"},{"$f":"VLOOKUP(F1946,Soutez!A:C,3,FALSE)","v":2023},12,8799,1.125,8484,9545,null,null,"JS3 15m","M3","Není v databázi"]
["Derren Francis",null,null,"Great Britain",null,"WGC 2023 - 15m",{"$f":"VLOOKUP(F1947,Soutez!A:B,2,FALSE)","v":"AU"},{"$f":"VLOOKUP(F1947,Soutez!A:C,3,FALSE)","v":2023},13,8795,1.125,8365,9411,null,null,"Ventus 3TS 15m","F2","Není v databázi"]
["Lukasz Grabowski",null,null,"Poland",null,"WGC 2023 - 15m",{"$f":"VLOOKUP(F1948,Soutez!A:B,2,FALSE)","v":"AU"},{"$f":"VLOOKUP(F1948,Soutez!A:C,3,FALSE)","v":2023},14,8719,1.125,8191,9215,null,null,"Diana 2","RP","Není v databázi"]
["Kevin Faur",null,null,"France",null,"WGC 2023 - 15m",{"$f":"VLOOKUP(F1949,Soutez!A:B,2,FALSE)","v":"AU"},{"$f":"VLOOKUP(F1949,Soutez!A:C,3,FALSE)","v":2023},15,8464,1.125,7880,8865,null,null,"JS3 15m","LB","Není v databázi"]
["Andre Litt",null,null,"Belgium",null,"WGC 2023 - 15m",{"$f":"VLOOKUP(F1950,Soutez!A:B,2,FALSE)","v":"AU"},{"$f":"VLOOKUP(F1950,Soutez!A:C,3,FALSE)","v":2023},16,8424,1.125,7734,{"$f":"ROUND(K1950*L1950,0)","v":8701},null,null,"JS3 15m","MM","Není v databázi"]
["Tim Taylor",null,null,"United States",null,"WGC 2023 - 15m",{"$f":"VLOOKUP(F1951,Soutez!A:B,2,FALSE)","v":"AU"},{"$f":"VLOOKUP(F1951,Soutez!A:C,3,FALSE)","v":2023},17,8007,1.125,7299,8211,null,null,"Ventus 2c 15m","TT","Není v databázi"]
["Yves Gerster",null,null,"Switzerland",null,"WGC 2023 - 15m",{"$f":"VLOOKUP(F1952,Soutez!A:B,2,FALSE)","v":"AU"},{"$f":"VLOOKUP(F1952,Soutez!A:C,3,FALSE)","v":2023},18,7838,1.125,7054,7936,null,null,"JS3 15m","1B","Není v databázi"]
["Linas Miezlaiskis",null,null,"Lithuania",null,"WGC 2023 - 15m",{"$f":"VLOOKUP(F1953,Soutez!A:B,2,FALSE)","v":"AU"},{"$f":"VLOOKUP(F1953,Soutez!A:C,3,FALSE)","v":2023},19,7648,1.125,6793,7642,null,null,"ASG 29 15m","HS","Není v databázi"]
["Remy Hirt",null,null,"Switzerland",null,"WGC 2023 - 15m",{"$f":"VLOOKUP(F1954,Soutez!A:B,2,FALSE)","v":"AU"},{"$f":"VLOOKUP(F1954,Soutez!A:C,3,FALSE)","v":2023},20,7567,1.125,6615,7442,null,null,"JS3 RES 15m","URF","Není v databázi"]
["Karel Novak",{"$f":"VLOOKUP(A1955,Pilot,2,0)","v":1993},{"$f":"VLOOKUP(A1955,Pilot,5,0)","v":"M"},{"$f":"VLOOKUP(A1955,Pilot,3,0)","v":"Mladá Boleslav"},{"$f":"VLOOKUP(A1955,Pilot,4,0)","v":"CZ/C1"},"WGC 2023 - 15m",{"$f":"VLOOKUP(F1955,Soutez!A:B,2,FALSE)","v":"AU"},{"$f":"VLOOKUP(F1955,Soutez!A:C,3,FALSE)","v":2023},21,7551,1.125,6487,7298,null,null,"JS3 15m","XM",""]
["Erkki Heinonen",null,null,"Finland",null,"WGC 2023 - 15m",{"$f":"VLOOKUP(F1956,Soutez!A:B,2,FALSE)","v":"AU"},{"$f":"VLOOKUP(F1956,Soutez!A:C,3,FALSE)","v":2023},22,6845,1.125,5830,6559,null,null,"ASG 29 15m","WS","Není v databázi"]
["Jan Pavlik",{"$f":"VLOOKUP(A1957,Pilot,2,0)","v":1987},{"$f":"VLOOKUP(A1957,Pilot,5,0)","v":"M"},{"$f":"VLOOKUP(A1957,Pilot,3,0)","v":"Křižanov"},{"$f":"VLOOKUP(A1957,Pilot,4,0)","v":"CZ/M"},"WGC 2023 - 15m",{"$f":"VLOOKUP(F1957,Soutez!A:B,2,FALSE)","v":"AU"},{"$f":"VLOOKUP(F1957,Soutez!A:C,3,FALSE)","v":2023},23,6817,1.125,5693,6405,null,null,"JS3 15m","ZE",""]
["Poul Larsen",null,null,"Denmark",null,"WGC 2023 - 15m",{"$f":"VLOOKUP(F1958,Soutez!A:B,2,FALSE)","v":"AU"},{"$f":"VLOOKUP(F1958,Soutez!A:C,3,FALSE)","v":2023},24,6455,1.125,5300,5963,null,null,"Ventus 2a",67,"Není v databázi"]
["Rick Indrebo",null,null,"United States",null,"WGC 2023 - 15m",{"$f":"VLOOKUP(F1959,Soutez!A:B,2,FALSE)","v":"AU"},{"$f":"VLOOKUP(F1959,Soutez!A:C,3,FALSE)","v":2023},25,5808,1.125,4688,5274,null,null,"ASW 27",89,"Není v databázi"]
["Abraham Kotze",null,null,"South Africa",null,"WGC 2023 - 15m",{"$f":"VLOOKUP(F1960,Soutez!A:B,2,FALSE)","v":"AU"},{"$f":"VLOOKUP(F1960,Soutez!A:C,3,FALSE)","v":2023},26,3508,1.125,2808,3159,null,null,"JS3 15m","LP","Není v databázi"]
["Zoltan Hamar",null,null,"Hungary",null,"WGC 2023 - 15m",{"$f":"VLOOKUP(F1961,Soutez!A:B,2,FALSE)","v":"AU"},{"$f":"VLOOKUP(F1961,Soutez!A:C,3,FALSE)","v":2023},27,925,1.125,710,799,null,null,"JS3 15m","7A","Není v databázi"]
["James Nugent",null,null,"Australia",null,"WGC 2023 - Klub",{"$f":"VLOOKUP(F1962,Soutez!A:B,2,FALSE)","v":"AU"},{"$f":"VLOOKUP(F1962,Soutez!A:C,3,FALSE)","v":2023},1,9438,1.1100000000000001,{"$f":"ROUND(J1962/MAX($J$1962:$J$1991)*10000*0.7+(MAX($I$1962:$I$1991)-I1962)/(MAX($I$1962:$I$1991)-1)*10000*0.3,0)","v":10000},{"$f":"ROUND(K1962*L1962,0)","v":11100},null,null,"LS3","Q1","Není v databázi"]
["Uwe Wahlig",null,null,"Germany",null,"WGC 2023 - Klub",{"$f":"VLOOKUP(F1963,Soutez!A:B,2,FALSE)","v":"AU"},{"$f":"VLOOKUP(F1963,Soutez!A:C,3,FALSE)","v":2023},2,9219,1.1100000000000001,9734,{"$f":"ROUND(K1963*L1963,0)","v":10805},null,null,"LS3","SN","Není v databázi"]
["Stefan Langer",null,null,"Germany",null,"WGC 2023 - Klub",{"$f":"VLOOKUP(F1964,Soutez!A:B,2,FALSE)","v":"AU"},{"$f":"VLOOKUP(F1964,Soutez!A:C,3,FALSE)","v":2023},3,9148,1.1100000000000001,9578,10632,null,null,"LS3","SF","Není v databázi"]
["Rasmus Orskov",null,null,"Denmark",null,"WGC 2023 - Klub",{"$f":"VLOOKUP(F1965,Soutez!A:B,2,FALSE)","v":"AU"},{"$f":"VLOOKUP(F1965,Soutez!A:C,3,FALSE)","v":2023},4,9113,1.1100000000000001,9449,10488,null,null,"ASW 20CL","KJ","Není v databázi"]
["Tomas Suchanek",{"$f":"VLOOKUP(A1966,Pilot,2,0)","v":1964},{"$f":"VLOOKUP(A1966,Pilot,5,0)","v":"M"},{"$f":"VLOOKUP(A1966,Pilot,3,0)","v":"GAC Benešov"},{"$f":"VLOOKUP(A1966,Pilot,4,0)","v":"CZ/C1"},"WGC 2023 - Klub",{"$f":"VLOOKUP(F1966,Soutez!A:B,2,FALSE)","v":"AU"},{"$f":"VLOOKUP(F1966,Soutez!A:C,3,FALSE)","v":2023},5,8894,1.1100000000000001,9183,10193,null,null,"ASW 20L","CX",""]
["Jacek Flis",null,null,"Poland",null,"WGC 2023 - Klub",{"$f":"VLOOKUP(F1967,Soutez!A:B,2,FALSE)","v":"AU"},{"$f":"VLOOKUP(F1967,Soutez!A:C,3,FALSE)","v":2023},6,8881,1.1100000000000001,9070,10068,null,null,"LS 3 WL","FL","Není v databázi"]
["Tim Milner",null,null,"Great Britain",null,"WGC 2023 - Klub",{"$f":"VLOOKUP(F1968,Soutez!A:B,2,FALSE)","v":"AU"},{"$f":"VLOOKUP(F1968,Soutez!A:C,3,FALSE)","v":2023},7,8816,1.1100000000000001,8918,9899,null,null,"LS3","LS5","Není v databázi"]
["Roelof Corporaal",null,null,"Netherlands",null,"WGC 2023 - Klub",{"$f":"VLOOKUP(F1969,Soutez!A:B,2,FALSE)","v":"AU"},{"$f":"VLOOKUP(F1969,Soutez!A:C,3,FALSE)","v":2023},8,8776,1.1100000000000001,8785,9751,null,null,"LS 7 neo","LK","Není v databázi"]
["Adrien Henry",null,null,"France",null,"WGC 2023 - Klub",{"$f":"VLOOKUP(F1970,Soutez!A:B,2,FALSE)","v":"AU"},{"$f":"VLOOKUP(F1970,Soutez!A:C,3,FALSE)","v":2023},9,8766,1.1100000000000001,8674,9628,null,null,"ASW 20","XI","Není v databázi"]
["Hugo Corbille",null,null,"France",null,"WGC 2023 - Klub",{"$f":"VLOOKUP(F1971,Soutez!A:B,2,FALSE)","v":"AU"},{"$f":"VLOOKUP(F1971,Soutez!A:C,3,FALSE)","v":2023},10,8764,1.1100000000000001,8569,9512,null,null,"LS 7","HG","Není v databázi"]
["Daniel Summers",null,null,"Australia",null,"WGC 2023 - Klub",{"$f":"VLOOKUP(F1972,Soutez!A:B,2,FALSE)","v":"AU"},{"$f":"VLOOKUP(F1972,Soutez!A:C,3,FALSE)","v":2023},11,8586,1.1100000000000001,8334,9251,null,null,"ASW 20C","MG","Není v databázi"]
["John Roberts",null,null,"Great Britain",null,"WGC 2023 - Klub",{"$f":"VLOOKUP(F1973,Soutez!A:B,2,FALSE)","v":"AU"},{"$f":"VLOOKUP(F1973,Soutez!A:C,3,FALSE)","v":2023},12,8552,1.1100000000000001,8205,9108,null,null,"LS3","LS3","Není v databázi"]
["Mikolaj Zdun",null,null,"Poland",null,"WGC 2023 - Klub",{"$f":"VLOOKUP(F1974,Soutez!A:B,2,FALSE)","v":"AU"},{"$f":"VLOOKUP(F1974,Soutez!A:C,3,FALSE)","v":2023},13,8163,1.1100000000000001,7813,8672,null,null,"LS 3 WL","PP","Není v databázi"]
["Mike Westbrook",null,null,"United States",null,"WGC 2023 - Klub",{"$f":"VLOOKUP(F1975,Soutez!A:B,2,FALSE)","v":"AU"},{"$f":"VLOOKUP(F1975,Soutez!A:C,3,FALSE)","v":2023},14,7632,1.1100000000000001,7316,8121,null,null,"Discus b","FY","Není v databázi"]
["Michael Mix",null,null,"Denmark",null,"WGC 2023 - Klub",{"$f":"VLOOKUP(F1976,Soutez!A:B,2,FALSE)","v":"AU"},{"$f":"VLOOKUP(F1976,Soutez!A:C,3,FALSE)","v":2023},15,7573,1.1100000000000001,7168,7956,null,null,"LS3","WUQ","Není v databázi"]
["Michael Strathern",null,null,"New Zealand",null,"WGC 2023 - Klub",{"$f":"VLOOKUP(F1977,Soutez!A:B,2,FALSE)","v":"AU"},{"$f":"VLOOKUP(F1977,Soutez!A:C,3,FALSE)","v":2023},16,7486,{"$f":"VLOOKUP(F1977,Soutez,12,0)","v":1.1100000000000001},7001,7771,null,null,"ASW 20",280,"Není v databázi"]
["Kim Toppari",null,null,"Finland",null,"WGC 2023 - Klub",{"$f":"VLOOKUP(F1978,Soutez!A:B,2,FALSE)","v":"AU"},{"$f":"VLOOKUP(F1978,Soutez!A:C,3,FALSE)","v":2023},17,7443,1.1100000000000001,6865,7620,null,null,"ASW 20b","JH","Není v databázi"]
["Istvan Balog",null,null,"Hungary",null,"WGC 2023 - Klub",{"$f":"VLOOKUP(F1979,Soutez!A:B,2,FALSE)","v":"AU"},{"$f":"VLOOKUP(F1979,Soutez!A:C,3,FALSE)","v":2023},18,7436,1.1100000000000001,6757,{"$f":"ROUND(K1979*L1979,0)","v":7500},null,null,"LS3","WUF","Není v databázi"]
["Jan Ratz",{"$f":"VLOOKUP(A1980,Pilot,2,0)","v":1987},{"$f":"VLOOKUP(A1980,Pilot,5,0)","v":"M"},{"$f":"VLOOKUP(A1980,Pilot,3,0)","v":"Zbraslavice"},{"$f":"VLOOKUP(A1980,Pilot,4,0)","v":"CZ/C1"},"WGC 2023 - Klub",{"$f":"VLOOKUP(F1980,Soutez!A:B,2,FALSE)","v":"AU"},{"$f":"VLOOKUP(F1980,Soutez!A:C,3,FALSE)","v":2023},19,7408,1.1100000000000001,6632,7362,"x",null,"ASW 20","A3",""]
["Szabolcs Veigli",null,null,"Hungary",null,"WGC 2023 - Klub",{"$f":"VLOOKUP(F1981,Soutez!A:B,2,FALSE)","v":"AU"},{"$f":"VLOOKUP(F1981,Soutez!A:C,3,FALSE)","v":2023},20,6852,1.1100000000000001,6116,6789,null,null,"ASW 20b","YM","Není v databázi"]
["Igor Gapanovich",null,null,"Ukraine",null,"WGC 2023 - Klub",{"$f":"VLOOKUP(F1982,Soutez!A:B,2,FALSE)","v":"AU"},{"$f":"VLOOKUP(F1982,Soutez!A:C,3,FALSE)","v":2023},21,6529,1.1100000000000001,5773,6408,null,null,"Discus b","NZ","Není v databázi"]
["Tony Condon",null,null,"United States",null,"WGC 2023 - Klub",{"$f":"VLOOKUP(F1983,Soutez!A:B,2,FALSE)","v":"AU"},{"$f":"VLOOKUP(F1983,Soutez!A:C,3,FALSE)","v":2023},22,6499,1.1100000000000001,5648,6269,null,null,"Discus b","DK","Není v databázi"]
["Mikko Ylihärsilä",null,null,"Finland",null,"WGC 2023 - Klub",{"$f":"VLOOKUP(F1984,Soutez!A:B,2,FALSE)","v":"AU"},{"$f":"VLOOKUP(F1984,Soutez!A:C,3,FALSE)","v":2023},23,6206,1.1100000000000001,5327,5913,null,null,"ASW 20b","HDX","Není v databázi"]
["Guido Dalla RosaPrati",null,null,"Italy",null,"WGC 2023 - Klub",{"$f":"VLOOKUP(F1985,Soutez!A:B,2,FALSE)","v":"AU"},{"$f":"VLOOKUP(F1985,Soutez!A:C,3,FALSE)","v":2023},24,6030,1.1100000000000001,5093,5653,null,null,"LS 4b","AJ","Není v databázi"]
["Petra Piskata",{"$f":"VLOOKUP(A1986,Pilot,2,0)","v":1989},{"$f":"VLOOKUP(A1986,Pilot,5,0)","v":"F"},{"$f":"VLOOKUP(A1986,Pilot,3,0)","v":"Luhačovice"},{"$f":"VLOOKUP(A1986,Pilot,4,0)","v":"CZ/M"},"WGC 2023 - Klub",{"$f":"VLOOKUP(F1986,Soutez!A:B,2,FALSE)","v":"AU"},{"$f":"VLOOKUP(F1986,Soutez!A:C,3,FALSE)","v":2023},25,5941,1.1100000000000001,4924,5466,"x",null,"ASW 20","UKI",""]
["Luca Urbani",null,null,"Italy",null,"WGC 2023 - Klub",{"$f":"VLOOKUP(F1987,Soutez!A:B,2,FALSE)","v":"AU"},{"$f":"VLOOKUP(F1987,Soutez!A:C,3,FALSE)","v":2023},26,5670,1.1100000000000001,4619,5127,null,null,"LS 4a","UKA","Není v databázi"]
["Thies Bruins",null,null,"Netherlands",null,"WGC 2023 - Klub",{"$f":"VLOOKUP(F1988,Soutez!A:B,2,FALSE)","v":"AU"},{"$f":"VLOOKUP(F1988,Soutez!A:C,3,FALSE)","v":2023},27,4987,1.1100000000000001,4009,4450,null,null,"ASW 20L / Std Cirrus","IV","Není v databázi"]
["Diana Schuit",null,null,"Luxembourg",null,"WGC 2023 - Klub",{"$f":"VLOOKUP(F1989,Soutez!A:B,2,FALSE)","v":"AU"},{"$f":"VLOOKUP(F1989,Soutez!A:C,3,FALSE)","v":2023},28,4290,1.1100000000000001,3389,3762,null,null,"Cirrus Std","NS","Není v databázi"]
["Dani Zaninovic",null,null,"Croatia",null,"WGC 2023 - Klub",{"$f":"VLOOKUP(F1990,Soutez!A:B,2,FALSE)","v":"AU"},{"$f":"VLOOKUP(F1990,Soutez!A:C,3,FALSE)","v":2023},29,3721,1.1100000000000001,2863,3178,null,null,"Discus b","FV",{"$f":"IF(ISERROR(VLOOKUP(A1990,Pilot,6,0)),\"Není v databázi\",VLOOKUP(A1990,Pilot,6,0))","v":"Není v databázi"}]
["Frane Franic",null,null,"Croatia",null,"WGC 2023 - Klub",{"$f":"VLOOKUP(F1991,Soutez!A:B,2,FALSE)","v":"AU"},{"$f":"VLOOKUP(F1991,Soutez!A:C,3,FALSE)","v":2023},30,3633,1.1100000000000001,2695,2991,null,null,"LS 4","HR3","Není v databázi"]
["Tom Arscott",null,null,"Great Britain",null,"WGC 2023 - Std",{"$f":"VLOOKUP(F1992,Soutez!A:B,2,FALSE)","v":"AU"},{"$f":"VLOOKUP(F1992,Soutez!A:C,3,FALSE)","v":2023},1,9013,1.105,{"$f":"ROUND(J1992/MAX($J$1992:$J$2012)*10000*0.7+(MAX($I$1992:$I$2012)-I1992)/(MAX($I$1992:$I$2012)-1)*10000*0.3,0)","v":10000},{"$f":"ROUND(K1992*L1992,0)","v":11050},null,null,"LS8","CC","Není v databázi"]
["Gregory Beecroft",null,null,"Australia",null,"WGC 2023 - Std",{"$f":"VLOOKUP(F1993,Soutez!A:B,2,FALSE)","v":"AU"},{"$f":"VLOOKUP(F1993,Soutez!A:C,3,FALSE)","v":2023},2,8638,1.105,9559,{"$f":"ROUND(K1993*L1993,0)","v":10563},null,null,"LS8","HCB","Není v databázi"]
["Enrique Levin",null,null,"Germany",null,"WGC 2023 - Std",{"$f":"VLOOKUP(F1994,Soutez!A:B,2,FALSE)","v":"AU"},{"$f":"VLOOKUP(F1994,Soutez!A:C,3,FALSE)","v":2023},3,8552,1.105,9342,10323,null,null,"LS8neo","PO","Není v databázi"]
["Simon Schröder",null,null,"Germany",null,"WGC 2023 - Std",{"$f":"VLOOKUP(F1995,Soutez!A:B,2,FALSE)","v":"AU"},{"$f":"VLOOKUP(F1995,Soutez!A:C,3,FALSE)","v":2023},4,8494,1.105,9147,10107,null,null,"LS8 neo","S2","Není v databázi"]
["Phillip Jonker",null,null,"South Africa",null,"WGC 2023 - Std",{"$f":"VLOOKUP(F1996,Soutez!A:B,2,FALSE)","v":"AU"},{"$f":"VLOOKUP(F1996,Soutez!A:C,3,FALSE)","v":2023},5,8467,1.105,8976,9918,null,null,"LS8b","M1","Není v databázi"]
["Sjaak Selen",null,null,"Netherlands",null,"WGC 2023 - Std",{"$f":"VLOOKUP(F1997,Soutez!A:B,2,FALSE)","v":"AU"},{"$f":"VLOOKUP(F1997,Soutez!A:C,3,FALSE)","v":2023},6,8389,1.105,8765,9685,null,null,"Discus 2a","2S","Není v databázi"]
["Lukasz Blaszczyk",null,null,"Poland",null,"WGC 2023 - Std",{"$f":"VLOOKUP(F1998,Soutez!A:B,2,FALSE)","v":"AU"},{"$f":"VLOOKUP(F1998,Soutez!A:C,3,FALSE)","v":2023},7,7934,1.105,8262,9130,null,null,"Discus - 2a","I","Není v databázi"]
["Makoto Ichikawa",null,null,"Japan",null,"WGC 2023 - Std",{"$f":"VLOOKUP(F1999,Soutez!A:B,2,FALSE)","v":"AU"},{"$f":"VLOOKUP(F1999,Soutez!A:C,3,FALSE)","v":2023},8,7873,1.105,8065,8912,null,null,"LS8-t","PB","Není v databázi"]
["Julien Duboc",null,null,"France",null,"WGC 2023 - Std",{"$f":"VLOOKUP(F2000,Soutez!A:B,2,FALSE)","v":"AU"},{"$f":"VLOOKUP(F2000,Soutez!A:C,3,FALSE)","v":2023},9,7862,1.105,7906,8736,null,null,"Discus-2a","JPA","Není v databázi"]
["Pavel Louzecky",{"$f":"VLOOKUP(A2001,Pilot,2,0)","v":1957},{"$f":"VLOOKUP(A2001,Pilot,5,0)","v":"M"},{"$f":"VLOOKUP(A2001,Pilot,3,0)","v":"Přibyslav"},{"$f":"VLOOKUP(A2001,Pilot,4,0)","v":"CZ/C2"},"WGC 2023 - Std",{"$f":"VLOOKUP(F2001,Soutez!A:B,2,FALSE)","v":"AU"},{"$f":"VLOOKUP(F2001,Soutez!A:C,3,FALSE)","v":2023},10,7801,1.105,7709,8518,null,null,"LS 8-b","FX",""]
["Maximilian Seis",null,null,"France",null,"WGC 2023 - Std",{"$f":"VLOOKUP(F2002,Soutez!A:B,2,FALSE)","v":"AU"},{"$f":"VLOOKUP(F2002,Soutez!A:C,3,FALSE)","v":2023},11,7770,1.105,7535,8326,null,null,"Discus 2a","ET","Není v databázi"]
["Tomasz Rubaj",null,null,"Poland",null,"WGC 2023 - Std",{"$f":"VLOOKUP(F2003,Soutez!A:B,2,FALSE)","v":"AU"},{"$f":"VLOOKUP(F2003,Soutez!A:C,3,FALSE)","v":2023},12,7627,1.105,7274,8038,null,null,"Discus 2a","Y","Není v databázi"]
["Paul Fritche",null,null,"Great Britain",null,"WGC 2023 - Std",{"$f":"VLOOKUP(F2004,Soutez!A:B,2,FALSE)","v":"AU"},{"$f":"VLOOKUP(F2004,Soutez!A:C,3,FALSE)","v":2023},13,7493,1.105,7019,7756,null,null,"LS8","L4","Není v databázi"]
["Miloslav Cink",{"$f":"VLOOKUP(A2005,Pilot,2,0)","v":1987},{"$f":"VLOOKUP(A2005,Pilot,5,0)","v":"M"},{"$f":"VLOOKUP(A2005,Pilot,3,0)","v":"Letkov"},{"$f":"VLOOKUP(A2005,Pilot,4,0)","v":"CZ/C1"},"WGC 2023 - Std",{"$f":"VLOOKUP(F2005,Soutez!A:B,2,FALSE)","v":"AU"},{"$f":"VLOOKUP(F2005,Soutez!A:C,3,FALSE)","v":2023},14,7385,1.105,6786,7499,null,null,"LS 8-b","JB",""]
["Laurence Hardman",null,null,"South Africa",null,"WGC 2023 - Std",{"$f":"VLOOKUP(F2006,Soutez!A:B,2,FALSE)","v":"AU"},{"$f":"VLOOKUP(F2006,Soutez!A:C,3,FALSE)","v":2023},15,7359,1.105,6615,7310,null,null,"LS8","S7","Není v databázi"]
["Sarah Arnold",null,null,"United States",null,"WGC 2023 - Std",{"$f":"VLOOKUP(F2007,Soutez!A:B,2,FALSE)","v":"AU"},{"$f":"VLOOKUP(F2007,Soutez!A:C,3,FALSE)","v":2023},16,7305,1.105,6423,7097,null,null,"Discus 2b","XBY","Není v databázi"]
["Dennis Huybreckx",null,null,"Belgium",null,"WGC 2023 - Std",{"$f":"VLOOKUP(F2008,Soutez!A:B,2,FALSE)","v":"AU"},{"$f":"VLOOKUP(F2008,Soutez!A:C,3,FALSE)","v":2023},17,7258,1.105,6237,{"$f":"ROUND(K2008*L2008,0)","v":6892},null,null,"LS8","GG","Není v databázi"]
["Bruce Taylor",null,null,"Australia",null,"WGC 2023 - Std",{"$f":"VLOOKUP(F2009,Soutez!A:B,2,FALSE)","v":"AU"},{"$f":"VLOOKUP(F2009,Soutez!A:C,3,FALSE)","v":2023},18,7199,1.105,6041,6675,null,null,"LS8a","WB","Není v databázi"]
["Joris Vainius",null,null,"Lithuania",null,"WGC 2023 - Std",{"$f":"VLOOKUP(F2010,Soutez!A:B,2,FALSE)","v":"AU"},{"$f":"VLOOKUP(F2010,Soutez!A:C,3,FALSE)","v":2023},19,7062,1.105,5785,6392,null,null,"ASW28","2M","Není v databázi"]
["Andrius Tamulenas",null,null,"Lithuania",null,"WGC 2023 - Std",{"$f":"VLOOKUP(F2011,Soutez!A:B,2,FALSE)","v":"AU"},{"$f":"VLOOKUP(F2011,Soutez!A:C,3,FALSE)","v":2023},20,6929,1.105,5531,6112,null,null,"LS8","FC","Není v databázi"]
["Tom Holloran",null,null,"United States",null,"WGC 2023 - Std",{"$f":"VLOOKUP(F2012,Soutez!A:B,2,FALSE)","v":"AU"},{"$f":"VLOOKUP(F2012,Soutez!A:C,3,FALSE)","v":2023},21,4749,1.105,3688,4075,null,null,"LS8-sT","FQF","Není v databázi"]
["Eduard Supersperger",null,null,"SMBC Kirchdorf Micheldorf",null,"Alpe Adria Cup 2023 - 113",{"$f":"VLOOKUP(F2013,Soutez!A:B,2,FALSE)","v":"AT"},{"$f":"VLOOKUP(F2013,Soutez!A:C,3,FALSE)","v":2023},1,4501,{"$f":"VLOOKUP(F2013,Soutez,12,0)","v":0.755},{"$f":"ROUND(J2013/MAX($J$2013:$J$2029)*10000*0.7+(MAX($I$2013:$I$2029)-I2013)/(MAX($I$2013:$I$2029)-1)*10000*0.3,0)","v":10000},{"$f":"ROUND(K2013*L2013,0)","v":7550},null,null,"Ventus 2b","M4","Není v databázi"]
["Friedrich Hofinger",null,null,"Österreich",null,"Alpe Adria Cup 2023 - 113",{"$f":"VLOOKUP(F2014,Soutez!A:B,2,FALSE)","v":"AT"},{"$f":"VLOOKUP(F2014,Soutez!A:C,3,FALSE)","v":2023},2,4088,0.755,9170,{"$f":"ROUND(K2014*L2014,0)","v":6923},null,null,"Discus2c 18m","KN","Není v databázi"]
["Koppler & Barth",null,null,"Sportflieger Steyr",null,"Alpe Adria Cup 2023 - 113",{"$f":"VLOOKUP(F2015,Soutez!A:B,2,FALSE)","v":"AT"},{"$f":"VLOOKUP(F2015,Soutez!A:C,3,FALSE)","v":2023},3,3704,0.755,8385,6331,null,null,"Duo Discus alle 700kg","MH","Není v databázi"]
["Alessandro Giaiotti",null,null,"CVNE Enemonzo",null,"Alpe Adria Cup 2023 - 113",{"$f":"VLOOKUP(F2016,Soutez!A:B,2,FALSE)","v":"AT"},{"$f":"VLOOKUP(F2016,Soutez!A:C,3,FALSE)","v":2023},4,3476,0.755,7843,5921,null,null,"Ventus2 c b 15m","D","Není v databázi"]
["Wojciech Domanski",null,null,"KSS/Aeroklub Nowy Targ",null,"Alpe Adria Cup 2023 - 113",{"$f":"VLOOKUP(F2017,Soutez!A:B,2,FALSE)","v":"AT"},{"$f":"VLOOKUP(F2017,Soutez!A:C,3,FALSE)","v":2023},5,3286,0.755,7360,5557,null,null,"ventus 2a","PE","Není v databázi"]
["Stefanie Brockelt",null,null,"SFG Werdenfels",null,"Alpe Adria Cup 2023 - 113",{"$f":"VLOOKUP(F2018,Soutez!A:B,2,FALSE)","v":"AT"},{"$f":"VLOOKUP(F2018,Soutez!A:C,3,FALSE)","v":2023},6,3259,0.755,7131,5384,null,null,"ASW-24 WL","AX","Není v databázi"]
["Ute Baranowski",null,null,"AFZ Unterwössen",null,"Alpe Adria Cup 2023 - 113",{"$f":"VLOOKUP(F2019,Soutez!A:B,2,FALSE)","v":"AT"},{"$f":"VLOOKUP(F2019,Soutez!A:C,3,FALSE)","v":2023},7,3250,0.755,6929,5231,null,null,"Ventus2a(x)","IB","Není v databázi"]
["Kavalic & Salehar",null,null,null,null,"Alpe Adria Cup 2023 - 113",{"$f":"VLOOKUP(F2020,Soutez!A:B,2,FALSE)","v":"AT"},{"$f":"VLOOKUP(F2020,Soutez!A:C,3,FALSE)","v":2023},8,3247,0.755,6737,5086,null,null,"DuoDiscus FES","LF","Není v databázi"]
["Florian Forcher",null,null,"Österreich",null,"Alpe Adria Cup 2023 - 113",{"$f":"VLOOKUP(F2021,Soutez!A:B,2,FALSE)","v":"AT"},{"$f":"VLOOKUP(F2021,Soutez!A:C,3,FALSE)","v":2023},9,3154,0.755,6405,4836,null,null,"DG 300 WL","N1","Není v databázi"]
["Herwig Wagner",null,null,"Steirische Flugsportunion",null,"Alpe Adria Cup 2023 - 113",{"$f":"VLOOKUP(F2022,Soutez!A:B,2,FALSE)","v":"AT"},{"$f":"VLOOKUP(F2022,Soutez!A:C,3,FALSE)","v":2023},10,2982,0.755,5950,4492,null,null,"SZD55","KE","Není v databázi"]
["Philipp Wittwer",null,null,"Österreich",null,"Alpe Adria Cup 2023 - 113",{"$f":"VLOOKUP(F2023,Soutez!A:B,2,FALSE)","v":"AT"},{"$f":"VLOOKUP(F2023,Soutez!A:C,3,FALSE)","v":2023},11,2630,0.755,5215,3937,null,null,"LS8 15m","ZL","Není v databázi"]
["Klaus Porod",null,null,"Österreich",null,"Alpe Adria Cup 2023 - 113",{"$f":"VLOOKUP(F2024,Soutez!A:B,2,FALSE)","v":"AT"},{"$f":"VLOOKUP(F2024,Soutez!A:C,3,FALSE)","v":2023},12,2436,0.755,4726,3568,null,null,"Discus2c 18m","PSI","Není v databázi"]
["Ladislav Jozsa",{"$f":"VLOOKUP(A2025,Pilot,2,0)","v":1981},{"$f":"VLOOKUP(A2025,Pilot,5,0)","v":"M"},{"$f":"VLOOKUP(A2025,Pilot,3,0)","v":"Medlánky"},{"$f":"VLOOKUP(A2025,Pilot,4,0)","v":"CZ/M"},"Alpe Adria Cup 2023 - 113",{"$f":"VLOOKUP(F2025,Soutez!A:B,2,FALSE)","v":"AT"},{"$f":"VLOOKUP(F2025,Soutez!A:C,3,FALSE)","v":2023},13,2315,0.755,4350,3284,"x",null,"VentusC 15m","LJ",""]
["Tomasz Królik",null,null,"Nasz Aeroklub",null,"Alpe Adria Cup 2023 - 113",{"$f":"VLOOKUP(F2026,Soutez!A:B,2,FALSE)","v":"AT"},{"$f":"VLOOKUP(F2026,Soutez!A:C,3,FALSE)","v":2023},14,2276,0.755,4102,{"$f":"ROUND(K2026*L2026,0)","v":3097},null,null,"Ventus a","TT","Není v databázi"]
["Gösta Worf",null,null,"LSR Aalen",null,"Alpe Adria Cup 2023 - 113",{"$f":"VLOOKUP(F2027,Soutez!A:B,2,FALSE)","v":"AT"},{"$f":"VLOOKUP(F2027,Soutez!A:C,3,FALSE)","v":2023},15,1472,0.755,2664,2011,null,null,"Ventus cM","GW","Není v databázi"]
["Pawel Witkowski",null,null,"Aeroklub Nowy Targ",null,"Alpe Adria Cup 2023 - 113",{"$f":"VLOOKUP(F2028,Soutez!A:B,2,FALSE)","v":"AT"},{"$f":"VLOOKUP(F2028,Soutez!A:C,3,FALSE)","v":2023},16,1168,0.755,2004,1513,null,null,"LS-4","VIT","Není v databázi"]
["Maciej Walasek",null,null,"Aeroklub Krakowski",null,"Alpe Adria Cup 2023 - 113",{"$f":"VLOOKUP(F2029,Soutez!A:B,2,FALSE)","v":"AT"},{"$f":"VLOOKUP(F2029,Soutez!A:C,3,FALSE)","v":2023},17,991,0.755,1541,1163,null,null,"LS6 15m","KK","Není v databázi"]
["Wolfgang Janowitsch",null,null,"FRA-Wr.Neustadt",null,"Alpe Adria Cup 2023 - Kombi Open",{"$f":"VLOOKUP(F2030,Soutez!A:B,2,FALSE)","v":"AT"},{"$f":"VLOOKUP(F2030,Soutez!A:C,3,FALSE)","v":2023},1,3792,0.755,{"$f":"ROUND(J2030/MAX($J$2030:$J$2053)*10000*0.7+(MAX($I$2030:$I$2053)-I2030)/(MAX($I$2030:$I$2053)-1)*10000*0.3,0)","v":10000},{"$f":"ROUND(K2030*L2030,0)","v":7550},null,null,"Ventus3 18m Sport","WO","Není v databázi"]
["Heimo Demmerer",null,null,"SFC Mariazell",null,"Alpe Adria Cup 2023 - Kombi Open",{"$f":"VLOOKUP(F2031,Soutez!A:B,2,FALSE)","v":"AT"},{"$f":"VLOOKUP(F2031,Soutez!A:C,3,FALSE)","v":2023},2,3564,0.755,9449,{"$f":"ROUND(K2031*L2031,0)","v":7134},null,null,"Ventus 3M","OD","Není v databázi"]
["Michael Rass",null,null,"St. Johann in Tirol",null,"Alpe Adria Cup 2023 - Kombi Open",{"$f":"VLOOKUP(F2032,Soutez!A:B,2,FALSE)","v":"AT"},{"$f":"VLOOKUP(F2032,Soutez!A:C,3,FALSE)","v":2023},3,3467,0.755,9139,6900,null,null,"AS33ES","MR","Není v databázi"]
["Thomas Wolf",null,null,"SFZ Königsdorf",null,"Alpe Adria Cup 2023 - Kombi Open",{"$f":"VLOOKUP(F2033,Soutez!A:B,2,FALSE)","v":"AT"},{"$f":"VLOOKUP(F2033,Soutez!A:C,3,FALSE)","v":2023},4,3387,0.755,8861,6690,null,null,"Ventus 3 M","2T","Není v databázi"]
["Sven Kolb",null,null,"VS",null,"Alpe Adria Cup 2023 - Kombi Open",{"$f":"VLOOKUP(F2034,Soutez!A:B,2,FALSE)","v":"AT"},{"$f":"VLOOKUP(F2034,Soutez!A:C,3,FALSE)","v":2023},5,3345,0.755,8653,6533,null,null,"Antares LF20e","ZF","Není v databázi"]
["Pirker & Pirker",null,null,"FAS-Wien",null,"Alpe Adria Cup 2023 - Kombi Open",{"$f":"VLOOKUP(F2035,Soutez!A:B,2,FALSE)","v":"AT"},{"$f":"VLOOKUP(F2035,Soutez!A:C,3,FALSE)","v":2023},6,3293,0.755,8427,6362,null,null,"Arcus M","PV","Není v databázi"]
["Guido Achleitner",null,null,"FC St. Johann in Tirol",null,"Alpe Adria Cup 2023 - Kombi Open",{"$f":"VLOOKUP(F2036,Soutez!A:B,2,FALSE)","v":"AT"},{"$f":"VLOOKUP(F2036,Soutez!A:C,3,FALSE)","v":2023},7,3233,0.755,8185,6180,null,null,"ASG 32 Mi","GA","Není v databázi"]
["Bernhard Leitner",null,null,"ISV",null,"Alpe Adria Cup 2023 - Kombi Open",{"$f":"VLOOKUP(F2037,Soutez!A:B,2,FALSE)","v":"AT"},{"$f":"VLOOKUP(F2037,Soutez!A:C,3,FALSE)","v":2023},8,3214,0.755,8020,6055,null,null,"AS33","BL","Není v databázi"]
["Thomas Hynek",null,null,"ASKÖ Flugschule Wien",null,"Alpe Adria Cup 2023 - Kombi Open",{"$f":"VLOOKUP(F2038,Soutez!A:B,2,FALSE)","v":"AT"},{"$f":"VLOOKUP(F2038,Soutez!A:C,3,FALSE)","v":2023},9,3025,0.755,7541,5693,null,null,"Ventus 2cm","CC","Není v databázi"]
["Luka ZnidarSic",null,null,"Slovenia",null,"Alpe Adria Cup 2023 - Kombi Open",{"$f":"VLOOKUP(F2039,Soutez!A:B,2,FALSE)","v":"AT"},{"$f":"VLOOKUP(F2039,Soutez!A:C,3,FALSE)","v":2023},10,2949,0.755,7270,5489,null,null,"Ventus 3 FES","LZ","Není v databázi"]
["Werner Amann",null,null,"SFG Hohenems",null,"Alpe Adria Cup 2023 - Kombi Open",{"$f":"VLOOKUP(F2040,Soutez!A:B,2,FALSE)","v":"AT"},{"$f":"VLOOKUP(F2040,Soutez!A:C,3,FALSE)","v":2023},11,2911,0.755,7069,5337,null,null,"AS33 18m","WG","Není v databázi"]
["Christoph Limpert",null,null,"Rhönflug Gersfeld",null,"Alpe Adria Cup 2023 - Kombi Open",{"$f":"VLOOKUP(F2041,Soutez!A:B,2,FALSE)","v":"AT"},{"$f":"VLOOKUP(F2041,Soutez!A:C,3,FALSE)","v":2023},12,2690,0.755,6531,4931,null,null,"AS33Es","CO","Není v databázi"]
["Reinhard Haggenmuller",null,null,"Österreich",null,"Alpe Adria Cup 2023 - Kombi Open",{"$f":"VLOOKUP(F2042,Soutez!A:B,2,FALSE)","v":"AT"},{"$f":"VLOOKUP(F2042,Soutez!A:C,3,FALSE)","v":2023},13,2559,0.755,6159,{"$f":"ROUND(K2042*L2042,0)","v":4650},null,null,"ASG-29e","RR","Není v databázi"]
["Matthias Hölzl",null,null,"Deutschland",null,"Alpe Adria Cup 2023 - Kombi Open",{"$f":"VLOOKUP(F2043,Soutez!A:B,2,FALSE)","v":"AT"},{"$f":"VLOOKUP(F2043,Soutez!A:C,3,FALSE)","v":2023},14,2468,0.755,5860,4424,null,null,"ASG 29E","HNO","Není v databázi"]
["Thomas Kruger",null,null,"Deutschland",null,"Alpe Adria Cup 2023 - Kombi Open",{"$f":"VLOOKUP(F2044,Soutez!A:B,2,FALSE)","v":"AT"},{"$f":"VLOOKUP(F2044,Soutez!A:C,3,FALSE)","v":2023},15,2298,0.755,5416,4089,null,null,"EB29","TK","Není v databázi"]
["Michael Wolff",null,null,"ÖAC Direktmitglied",null,"Alpe Adria Cup 2023 - Kombi Open",{"$f":"VLOOKUP(F2045,Soutez!A:B,2,FALSE)","v":"AT"},{"$f":"VLOOKUP(F2045,Soutez!A:C,3,FALSE)","v":2023},16,1820,0.755,4403,3324,null,null,"Ventus 3M","RU","Není v databázi"]
["Krobath & Sram",null,null,"FRA Wr. Neustadt",null,"Alpe Adria Cup 2023 - Kombi Open",{"$f":"VLOOKUP(F2046,Soutez!A:B,2,FALSE)","v":"AT"},{"$f":"VLOOKUP(F2046,Soutez!A:C,3,FALSE)","v":2023},17,1527,0.755,3732,2818,null,null,"TwinShark","Q","Není v databázi"]
["Volker Polhaus",null,null,"FSVOR",null,"Alpe Adria Cup 2023 - Kombi Open",{"$f":"VLOOKUP(F2047,Soutez!A:B,2,FALSE)","v":"AT"},{"$f":"VLOOKUP(F2047,Soutez!A:C,3,FALSE)","v":2023},18,1475,0.755,3505,2646,null,null,"ASH26E","BV","Není v databázi"]
["Erich Niedl",null,null,"SFC Tulln",null,"Alpe Adria Cup 2023 - Kombi Open",{"$f":"VLOOKUP(F2048,Soutez!A:B,2,FALSE)","v":"AT"},{"$f":"VLOOKUP(F2048,Soutez!A:C,3,FALSE)","v":2023},19,997,0.755,2493,1882,null,null,"Ventus 2cxT","CX","Není v databázi"]
["Radim Hahn",{"$f":"VLOOKUP(A2049,Pilot,2,0)","v":1972},{"$f":"VLOOKUP(A2049,Pilot,5,0)","v":"M"},{"$f":"VLOOKUP(A2049,Pilot,3,0)","v":"Zábřeh"},{"$f":"VLOOKUP(A2049,Pilot,4,0)","v":"CZ/M"},"Alpe Adria Cup 2023 - Kombi Open",{"$f":"VLOOKUP(F2049,Soutez!A:B,2,FALSE)","v":"AT"},{"$f":"VLOOKUP(F2049,Soutez!A:C,3,FALSE)","v":2023},20,954,0.755,2283,1724,"x",null,"Ventus 3","I3",""]
["Franz Salomon",null,null,"KSV Kapfenberg",null,"Alpe Adria Cup 2023 - Kombi Open",{"$f":"VLOOKUP(F2050,Soutez!A:B,2,FALSE)","v":"AT"},{"$f":"VLOOKUP(F2050,Soutez!A:C,3,FALSE)","v":2023},21,933,0.755,2114,1596,null,null,"Ventus M","SB","Není v databázi"]
["Joachim Hirt",null,null,"LSB Donaueschingen",null,"Alpe Adria Cup 2023 - Kombi Open",{"$f":"VLOOKUP(F2051,Soutez!A:B,2,FALSE)","v":"AT"},{"$f":"VLOOKUP(F2051,Soutez!A:C,3,FALSE)","v":2023},22,902,0.755,1926,1454,null,null,"JS3 15m","LG","Není v databázi"]
["Rene Schönmann",null,null,"SGBF",null,"Alpe Adria Cup 2023 - Kombi Open",{"$f":"VLOOKUP(F2052,Soutez!A:B,2,FALSE)","v":"AT"},{"$f":"VLOOKUP(F2052,Soutez!A:C,3,FALSE)","v":2023},23,898,0.755,1788,1350,null,null,"JS1EVO 18m","EVO",{"$f":"IF(ISERROR(VLOOKUP(A2052,Pilot,6,0)),\"Není v databázi\",VLOOKUP(A2052,Pilot,6,0))","v":"Není v databázi"}]
["Josef Strobl",null,null,"FC St. Johann",null,"Alpe Adria Cup 2023 - Kombi Open",{"$f":"VLOOKUP(F2053,Soutez!A:B,2,FALSE)","v":"AT"},{"$f":"VLOOKUP(F2053,Soutez!A:C,3,FALSE)","v":2023},24,710,0.755,1311,990,null,null,"Ventus 2cT","BS","Není v databázi"]
["Martin Picka",{"$f":"VLOOKUP(A2054,Pilot,2,0)","v":1974},{"$f":"VLOOKUP(A2054,Pilot,5,0)","v":"M"},{"$f":"VLOOKUP(A2054,Pilot,3,0)","v":"Tábor"},{"$f":"VLOOKUP(A2054,Pilot,4,0)","v":"CZ/C1"},"Podbrdský pohár 2024 - Kombi",{"$f":"VLOOKUP(F2054,Soutez!A:B,2,FALSE)","v":"CZ"},{"$f":"VLOOKUP(F2054,Soutez!A:C,3,FALSE)","v":2024},1,1278,0.73,{"$f":"ROUND(J2054/MAX($J$2054:$J$2065)*10000*0.7+(MAX($I$2054:$I$2065)-I2054)/(MAX($I$2054:$I$2065)-1)*10000*0.3,0)","v":10000},7300,"x",null,"JS3 RES 18m","NS",{"$f":"IF(ISERROR(VLOOKUP(A2054,Pilot,6,0)),\"Není v databázi\",VLOOKUP(A2054,Pilot,6,0))","v":""}]
["Petr Setka",1971,"M","Letkov","CZ/C1","Podbrdský pohár 2024 - Kombi",{"$f":"VLOOKUP(F2055,Soutez!A:B,2,FALSE)","v":"CZ"},{"$f":"VLOOKUP(F2055,Soutez!A:C,3,FALSE)","v":2024},2,1011,0.73,8238,6014,"x",null,"Ventus 2 cm 18m 565kg (voda)","RS",""]
["Matej Plch",{"$f":"VLOOKUP(A2056,Pilot,2,0)","v":1987},{"$f":"VLOOKUP(A2056,Pilot,5,0)","v":"M"},{"$f":"VLOOKUP(A2056,Pilot,3,0)","v":"Letkov"},{"$f":"VLOOKUP(A2056,Pilot,4,0)","v":"CZ/C1"},"Podbrdský pohár 2024 - Kombi",{"$f":"VLOOKUP(F2056,Soutez!A:B,2,FALSE)","v":"CZ"},{"$f":"VLOOKUP(F2056,Soutez!A:C,3,FALSE)","v":2024},3,994,0.73,7844,5726,"x",null,"LS 8/18m","EJ",""]
["Daniel Novak",1971,"M","Letkov","CZ/C1","Podbrdský pohár 2024 - Kombi",{"$f":"VLOOKUP(F2057,Soutez!A:B,2,FALSE)","v":"CZ"},{"$f":"VLOOKUP(F2057,Soutez!A:C,3,FALSE)","v":2024},4,976,0.73,7446,5436,"x",null,"DuoDiscus,T 700 kg (voda)","DL",""]
["Petr Bartak",1984,"M","Letkov","CZ/C1","Podbrdský pohár 2024 - Kombi",{"$f":"VLOOKUP(F2058,Soutez!A:B,2,FALSE)","v":"CZ"},{"$f":"VLOOKUP(F2058,Soutez!A:C,3,FALSE)","v":2024},5,676,0.73,5503,4017,"x",null,"JS3 RES 18m","BS",""]
["Miroslav Koci",1961,"M","Žamberk","CZ/C2","Podbrdský pohár 2024 - Kombi",{"$f":"VLOOKUP(F2059,Soutez!A:B,2,FALSE)","v":"CZ"},{"$f":"VLOOKUP(F2059,Soutez!A:C,3,FALSE)","v":2024},6,644,0.73,5027,3670,"x",null,"Ventus 2cxm 18m 565kg (voda)","E8",""]
["Petr Jiranek 63",1962,"M","Toužim","CZ/C1","Podbrdský pohár 2024 - Kombi",{"$f":"VLOOKUP(F2060,Soutez!A:B,2,FALSE)","v":"CZ"},{"$f":"VLOOKUP(F2060,Soutez!A:C,3,FALSE)","v":2024},7,580,0.73,4377,3195,null,null,"HPH 304M Shark 560kg 18m (voda)","LK",""]
["Lubomir Svoboda",{"$f":"VLOOKUP(A2061,Pilot,2,0)","v":1959},{"$f":"VLOOKUP(A2061,Pilot,5,0)","v":"M"},{"$f":"VLOOKUP(A2061,Pilot,3,0)","v":"Letkov"},{"$f":"VLOOKUP(A2061,Pilot,4,0)","v":"CZ/C1"},"Podbrdský pohár 2024 - Kombi",{"$f":"VLOOKUP(F2061,Soutez!A:B,2,FALSE)","v":"CZ"},{"$f":"VLOOKUP(F2061,Soutez!A:C,3,FALSE)","v":2024},8,405,0.73,3118,2276,"x",null,"LAK 19 T 18m","LT",""]
["Vratislav Sram",1966,"M","Broumov","CZ/C2","Podbrdský pohár 2024 - Kombi",{"$f":"VLOOKUP(F2062,Soutez!A:B,2,FALSE)","v":"CZ"},{"$f":"VLOOKUP(F2062,Soutez!A:C,3,FALSE)","v":2024},9,341,{"$f":"VLOOKUP(F2062,Soutez,12,0)","v":0.73},2468,1802,null,null,"Nimbus 4DM",7,""]
["Petr Sindelar 80",{"$f":"VLOOKUP(A2063,Pilot,2,0)","v":1980},{"$f":"VLOOKUP(A2063,Pilot,5,0)","v":"M"},{"$f":"VLOOKUP(A2063,Pilot,3,0)","v":"Letkov"},{"$f":"VLOOKUP(A2063,Pilot,4,0)","v":"CZ/C1"},"Podbrdský pohár 2024 - Kombi",{"$f":"VLOOKUP(F2063,Soutez!A:B,2,FALSE)","v":"CZ"},{"$f":"VLOOKUP(F2063,Soutez!A:C,3,FALSE)","v":2024},10,156,0.73,1154,842,"x",null,"DG-800S 18m+W (voda)","9j",""]
["Roman Lanzendorf",1964,"M","Letkov","CZ/C1","Podbrdský pohár 2024 - Kombi",{"$f":"VLOOKUP(F2064,Soutez!A:B,2,FALSE)","v":"CZ"},{"$f":"VLOOKUP(F2064,Soutez!A:C,3,FALSE)","v":2024},11,0,0.73,0,0,null,null,"Ventus ct 17,6m (voda)","AW",""]
["Vaclav Svoboda",1970,"M","Letkov","CZ/C1","Podbrdský pohár 2024 - Kombi",{"$f":"VLOOKUP(F2065,Soutez!A:B,2,FALSE)","v":"CZ"},{"$f":"VLOOKUP(F2065,Soutez!A:C,3,FALSE)","v":2024},11,0,0.73,0,0,null,null,"LS 8/18m",301,""]
["Rene Hudak",{"$f":"VLOOKUP(A2066,Pilot,2,0)","v":1972},{"$f":"VLOOKUP(A2066,Pilot,5,0)","v":"M"},{"$f":"VLOOKUP(A2066,Pilot,3,0)","v":"Kunovice"},{"$f":"VLOOKUP(A2066,Pilot,4,0)","v":"CZ/M"},"JPJ 2024 - Klub",{"$f":"VLOOKUP(F2066,Soutez!A:B,2,FALSE)","v":"CZ"},{"$f":"VLOOKUP(F2066,Soutez!A:C,3,FALSE)","v":2024},1,3186,0.9,{"$f":"ROUND(J2066/MAX($J$2066:$J$2097)*10000*0.7+(MAX($I$2066:$I$2097)-I2066)/(MAX($I$2066:$I$2097)-1)*10000*0.3,0)","v":10000},9000,"x",null,"Std. Cirrus","NK",""]
["Jindrich Svorc",1978,"M","Letňany","CZ/C1","JPJ 2024 - Klub",{"$f":"VLOOKUP(F2067,Soutez!A:B,2,FALSE)","v":"CZ"},{"$f":"VLOOKUP(F2067,Soutez!A:C,3,FALSE)","v":2024},2,3124,0.9,9767,8790,null,null,"Discus bt WL","OI",""]
["Jan Mareth",1979,"M","Frýdlant","CZ/M","JPJ 2024 - Klub",{"$f":"VLOOKUP(F2068,Soutez!A:B,2,FALSE)","v":"CZ"},{"$f":"VLOOKUP(F2068,Soutez!A:C,3,FALSE)","v":2024},3,3110,0.9,9639,8675,"x",null,"ASW-15B","PA",""]
["Pavel Rericha",1967,"M","Moravská Třebová","CZ/M","JPJ 2024 - Klub",{"$f":"VLOOKUP(F2069,Soutez!A:B,2,FALSE)","v":"CZ"},{"$f":"VLOOKUP(F2069,Soutez!A:C,3,FALSE)","v":2024},4,3106,0.9,9534,8581,"x",null,"ASW-19B","NO",""]
["Josef Novak",1981,"M","Kunovice","CZ/M","JPJ 2024 - Klub",{"$f":"VLOOKUP(F2070,Soutez!A:B,2,FALSE)","v":"CZ"},{"$f":"VLOOKUP(F2070,Soutez!A:C,3,FALSE)","v":2024},5,3100,0.9,9424,8482,"x",null,"LS-1f","JT",""]
["Petr Kolomaznik",1981,"M","Šumperk","CZ/M","JPJ 2024 - Klub",{"$f":"VLOOKUP(F2071,Soutez!A:B,2,FALSE)","v":"CZ"},{"$f":"VLOOKUP(F2071,Soutez!A:C,3,FALSE)","v":2024},6,3071,0.9,9263,8337,"x",null,"Discus CS WL","VE",""]
["Jaroslav Buryan",1953,"M","Zábřeh","CZ/M","JPJ 2024 - Klub",{"$f":"VLOOKUP(F2072,Soutez!A:B,2,FALSE)","v":"CZ"},{"$f":"VLOOKUP(F2072,Soutez!A:C,3,FALSE)","v":2024},7,2862,0.9,8707,7836,"x",null,"ASW-20 (A)+L+F 15mL","NS",""]
["Martin Hejny",1984,"M","Šumperk","CZ/M","JPJ 2024 - Klub",{"$f":"VLOOKUP(F2073,Soutez!A:B,2,FALSE)","v":"CZ"},{"$f":"VLOOKUP(F2073,Soutez!A:C,3,FALSE)","v":2024},8,2802,0.9,8479,7631,"x",null,"ASW-19B","B8",""]
["Martin Svarc",1981,"M","Olomouc","CZ/M","JPJ 2024 - Klub",{"$f":"VLOOKUP(F2074,Soutez!A:B,2,FALSE)","v":"CZ"},{"$f":"VLOOKUP(F2074,Soutez!A:C,3,FALSE)","v":2024},9,2778,{"$f":"VLOOKUP(F2074,Soutez,12,0)","v":0.9},8329,7496,"x",null,"DG-101 G","HE",""]
["Karel Horalek",1976,"M","Olomouc","CZ/M","JPJ 2024 - Klub",{"$f":"VLOOKUP(F2075,Soutez!A:B,2,FALSE)","v":"CZ"},{"$f":"VLOOKUP(F2075,Soutez!A:C,3,FALSE)","v":2024},10,2725,0.9,8116,7304,"x",null,"LS-3 15m","Y1",""]
["Stepan Obrovsky",1990,"M","Frýdlant","CZ/M","JPJ 2024 - Klub",{"$f":"VLOOKUP(F2076,Soutez!A:B,2,FALSE)","v":"CZ"},{"$f":"VLOOKUP(F2076,Soutez!A:C,3,FALSE)","v":2024},11,2700,0.9,7964,7168,"x",null,"DG-400 15m","RD",""]
["Jan Vozeh",1995,"M","Rakovník","CZ/C1","JPJ 2024 - Klub",{"$f":"VLOOKUP(F2077,Soutez!A:B,2,FALSE)","v":"CZ"},{"$f":"VLOOKUP(F2077,Soutez!A:C,3,FALSE)","v":2024},12,2684,0.9,7833,7050,"x",null,"LS-7","LZ",""]
["Michaela Krizova",2001,"F","Přibyslav","CZ/C2","JPJ 2024 - Klub",{"$f":"VLOOKUP(F2078,Soutez!A:B,2,FALSE)","v":"CZ"},{"$f":"VLOOKUP(F2078,Soutez!A:C,3,FALSE)","v":2024},13,2578,0.9,7503,6753,"x",null,"LS-4","6L","Junior v roce 2025"]
["Radim Tomala",1972,"M","Prostějov","CZ/M","JPJ 2024 - Klub",{"$f":"VLOOKUP(F2079,Soutez!A:B,2,FALSE)","v":"CZ"},{"$f":"VLOOKUP(F2079,Soutez!A:C,3,FALSE)","v":2024},14,2531,0.9,7303,6573,"x",null,"Std. Cirrus","RT",""]
["Martin Kriz",1968,"M","Přibyslav","CZ/C2","JPJ 2024 - Klub",{"$f":"VLOOKUP(F2080,Soutez!A:B,2,FALSE)","v":"CZ"},{"$f":"VLOOKUP(F2080,Soutez!A:C,3,FALSE)","v":2024},15,2529,0.9,7202,6482,"x",null,"ASW-20 15m",67,""]
["Jan Podhrazsky",1976,"M","Šumperk","CZ/M","JPJ 2024 - Klub",{"$f":"VLOOKUP(F2081,Soutez!A:B,2,FALSE)","v":"CZ"},{"$f":"VLOOKUP(F2081,Soutez!A:C,3,FALSE)","v":2024},16,2526,0.9,7098,6388,"x",null,"Discus b","SJ",""]
["Vojtech Novotny",1992,"M","Kralupy","CZ/C1","JPJ 2024 - Klub",{"$f":"VLOOKUP(F2082,Soutez!A:B,2,FALSE)","v":"CZ"},{"$f":"VLOOKUP(F2082,Soutez!A:C,3,FALSE)","v":2024},17,2445,0.9,6824,{"$f":"ROUND(K2082*L2082,0)","v":6142},"x",null,"LS-1f","EF",""]
["Petr Masik",2001,"M","Zábřeh","CZ/M","JPJ 2024 - Klub",{"$f":"VLOOKUP(F2083,Soutez!A:B,2,FALSE)","v":"CZ"},{"$f":"VLOOKUP(F2083,Soutez!A:C,3,FALSE)","v":2024},18,2385,0.9,6595,5936,"x",null,"Std. Cirrus","MJ","Junior v roce 2025"]
["Jakub Kohn",{"$f":"VLOOKUP(A2084,Pilot,2,0)","v":1992},{"$f":"VLOOKUP(A2084,Pilot,5,0)","v":"M"},{"$f":"VLOOKUP(A2084,Pilot,3,0)","v":"Prostějov"},{"$f":"VLOOKUP(A2084,Pilot,4,0)","v":"CZ/M"},"JPJ 2024 - Klub",{"$f":"VLOOKUP(F2084,Soutez!A:B,2,FALSE)","v":"CZ"},{"$f":"VLOOKUP(F2084,Soutez!A:C,3,FALSE)","v":2024},19,2314,{"$f":"VLOOKUP(F2084,Soutez,12,0)","v":0.9},6342,5708,"x",null,"ASW-15B","FK",""]
["Martin Ficnar",1971,"M","Šumperk","CZ/M","JPJ 2024 - Klub",{"$f":"VLOOKUP(F2085,Soutez!A:B,2,FALSE)","v":"CZ"},{"$f":"VLOOKUP(F2085,Soutez!A:C,3,FALSE)","v":2024},20,2279,0.9,6169,5552,"x",null,"LS-3a 15m","S20",""]
["Martin Urner",1974,"M","Letňany","CZ/C1","JPJ 2024 - Klub",{"$f":"VLOOKUP(F2086,Soutez!A:B,2,FALSE)","v":"CZ"},{"$f":"VLOOKUP(F2086,Soutez!A:C,3,FALSE)","v":2024},21,2217,0.9,5936,5342,null,null,"ASW-15B","JJ",""]
["Roman Schotli",1970,"M","Hranice","CZ/M","JPJ 2024 - Klub",{"$f":"VLOOKUP(F2087,Soutez!A:B,2,FALSE)","v":"CZ"},{"$f":"VLOOKUP(F2087,Soutez!A:C,3,FALSE)","v":2024},22,2062,0.9,5498,4948,"x",null,"ASW-19B",19,""]
["Jaromir Vlk",1959,"M","Šumperk","CZ/M","JPJ 2024 - Klub",{"$f":"VLOOKUP(F2088,Soutez!A:B,2,FALSE)","v":"CZ"},{"$f":"VLOOKUP(F2088,Soutez!A:C,3,FALSE)","v":2024},23,1914,0.9,5076,4568,"x",null,"ASW-15B","R5",""]
["Petr Havrlant",1965,"M","Šumperk","CZ/M","JPJ 2024 - Klub",{"$f":"VLOOKUP(F2089,Soutez!A:B,2,FALSE)","v":"CZ"},{"$f":"VLOOKUP(F2089,Soutez!A:C,3,FALSE)","v":2024},24,1846,0.9,4830,4347,"x",null,"ASW-15B","Q1",""]
["Petr Omelka",1970,"M","Vyškov","CZ/M","JPJ 2024 - Klub",{"$f":"VLOOKUP(F2090,Soutez!A:B,2,FALSE)","v":"CZ"},{"$f":"VLOOKUP(F2090,Soutez!A:C,3,FALSE)","v":2024},25,1363,0.9,3672,3305,"x",null,"DG-400 15m","MR",""]
["Jakub Safar",1990,"M","Olomouc","CZ/M","JPJ 2024 - Klub",{"$f":"VLOOKUP(F2091,Soutez!A:B,2,FALSE)","v":"CZ"},{"$f":"VLOOKUP(F2091,Soutez!A:C,3,FALSE)","v":2024},26,1237,0.9,3298,2968,"x",null,"G-102 Astir cs","AX",""]
["Jan Sobotka",{"$f":"VLOOKUP(A2092,Pilot,2,0)","v":1973},{"$f":"VLOOKUP(A2092,Pilot,5,0)","v":"M"},{"$f":"VLOOKUP(A2092,Pilot,3,0)","v":"Vyškov"},{"$f":"VLOOKUP(A2092,Pilot,4,0)","v":"CZ/M"},"JPJ 2024 - Klub",{"$f":"VLOOKUP(F2092,Soutez!A:B,2,FALSE)","v":"CZ"},{"$f":"VLOOKUP(F2092,Soutez!A:C,3,FALSE)","v":2024},27,1131,0.9,2969,{"$f":"ROUND(K2092*L2092,0)","v":2672},"x",null,"LS-1f","DP",""]
["Michal Linhart",1982,"M","Vyškov","CZ/M","JPJ 2024 - Klub",{"$f":"VLOOKUP(F2093,Soutez!A:B,2,FALSE)","v":"CZ"},{"$f":"VLOOKUP(F2093,Soutez!A:C,3,FALSE)","v":2024},28,1019,0.9,2626,2363,"x",null,"G-102 Astir 77","AS",""]
["Petr Lonsky",1965,"M","Toužim","CZ/C1","JPJ 2024 - Klub",{"$f":"VLOOKUP(F2094,Soutez!A:B,2,FALSE)","v":"CZ"},{"$f":"VLOOKUP(F2094,Soutez!A:C,3,FALSE)","v":2024},28,1019,0.9,2626,2363,null,null,"Std. Cirrus","YU",""]
["Josef Hlusek",1993,"M","Kunovice","CZ/M","JPJ 2024 - Klub",{"$f":"VLOOKUP(F2095,Soutez!A:B,2,FALSE)","v":"CZ"},{"$f":"VLOOKUP(F2095,Soutez!A:C,3,FALSE)","v":2024},30,984,0.9,2356,2120,"x",null,"Std. Cirrus","WO",""]
["Yvona Vyhnankova",1963,"F","Olomouc","CZ/M","JPJ 2024 - Klub",{"$f":"VLOOKUP(F2096,Soutez!A:B,2,FALSE)","v":"CZ"},{"$f":"VLOOKUP(F2096,Soutez!A:C,3,FALSE)","v":2024},31,917,0.9,2112,1901,null,null,"ASW-15","YZ",""]
["David Kraus",1990,"M","Olomouc","CZ/M","JPJ 2024 - Klub",{"$f":"VLOOKUP(F2097,Soutez!A:B,2,FALSE)","v":"CZ"},{"$f":"VLOOKUP(F2097,Soutez!A:C,3,FALSE)","v":2024},32,788,0.9,1731,1558,"x",null,"G-102 Astir cs","AL",""]
["Jan Kotan",{"$f":"VLOOKUP(A2098,Pilot,2,0)","v":1982},{"$f":"VLOOKUP(A2098,Pilot,5,0)","v":"M"},{"$f":"VLOOKUP(A2098,Pilot,3,0)","v":"Letňany"},{"$f":"VLOOKUP(A2098,Pilot,4,0)","v":"CZ/C1"},"JPJ 2024 - Kombi",{"$f":"VLOOKUP(F2098,Soutez!A:B,2,FALSE)","v":"CZ"},{"$f":"VLOOKUP(F2098,Soutez!A:C,3,FALSE)","v":2024},1,3644,0.92500000000000004,{"$f":"ROUND(J2098/MAX($J$2098:$J$2121)*10000*0.7+(MAX($I$2098:$I$2121)-I2098)/(MAX($I$2098:$I$2121)-1)*10000*0.3,0)","v":10000},9250,"x",null,"AS 33 Es 18m","CAT",""]
["Lukas Kriz",2003,"M","Křižanov","CZ/M","JPJ 2024 - Kombi",{"$f":"VLOOKUP(F2099,Soutez!A:B,2,FALSE)","v":"CZ"},{"$f":"VLOOKUP(F2099,Soutez!A:C,3,FALSE)","v":2024},2,3568,0.92500000000000004,{"$f":"ROUND(J2099/MAX($J$2098:$J$2121)*10000*0.7+(MAX($I$2098:$I$2121)-I2099)/(MAX($I$2098:$I$2121)-1)*10000*0.3,0)","v":9724},8995,null,null,"LS-8b 18m","FX","Junior v roce 2025"]
["Petr Koutny",1971,"M","Křižanov","CZ/M","JPJ 2024 - Kombi",{"$f":"VLOOKUP(F2100,Soutez!A:B,2,FALSE)","v":"CZ"},{"$f":"VLOOKUP(F2100,Soutez!A:C,3,FALSE)","v":2024},3,3535,0.92500000000000004,9530,8815,"x",null,"LS-8-18 18m",18,""]
["Marek Blatak",1969,"M","Šumperk","CZ/M","JPJ 2024 - Kombi",{"$f":"VLOOKUP(F2101,Soutez!A:B,2,FALSE)","v":"CZ"},{"$f":"VLOOKUP(F2101,Soutez!A:C,3,FALSE)","v":2024},4,3495,0.92500000000000004,9322,8623,"x",null,"Duo Discus T 700kg","ZS",""]
["Radek Hybl",1980,"M","Šumperk","CZ/M","JPJ 2024 - Kombi",{"$f":"VLOOKUP(F2102,Soutez!A:B,2,FALSE)","v":"CZ"},{"$f":"VLOOKUP(F2102,Soutez!A:C,3,FALSE)","v":2024},5,3379,0.92500000000000004,8969,8296,"x",null,"Ventus cm 17.6m","IHH",""]
["Jan Simon",1970,"M","Kralupy","CZ/C1","JPJ 2024 - Kombi",{"$f":"VLOOKUP(F2103,Soutez!A:B,2,FALSE)","v":"CZ"},{"$f":"VLOOKUP(F2103,Soutez!A:C,3,FALSE)","v":2024},6,3296,0.92500000000000004,8679,8028,"x",null,"Ventus ct 17.6m","KR",""]
["Jan Dersak 69",1969,"M","Kralupy","CZ/C1","JPJ 2024 - Kombi",{"$f":"VLOOKUP(F2104,Soutez!A:B,2,FALSE)","v":"CZ"},{"$f":"VLOOKUP(F2104,Soutez!A:C,3,FALSE)","v":2024},7,2973,0.92500000000000004,7928,7333,null,null,"HpH 304MS SHARK 18m 600kg","DJ",""]
["Jiri Steiger",{"$f":"VLOOKUP(A2105,Pilot,2,0)","v":1969},{"$f":"VLOOKUP(A2105,Pilot,5,0)","v":"M"},{"$f":"VLOOKUP(A2105,Pilot,3,0)","v":"Olomouc"},{"$f":"VLOOKUP(A2105,Pilot,4,0)","v":"CZ/M"},"JPJ 2024 - Kombi",{"$f":"VLOOKUP(F2105,Soutez!A:B,2,FALSE)","v":"CZ"},{"$f":"VLOOKUP(F2105,Soutez!A:C,3,FALSE)","v":2024},8,2908,0.92500000000000004,7673,7098,"x",null,"Ventus 3M 18m","JS",""]
["Michal Cechmanek",1978,"M","Kroměříž","CZ/M","JPJ 2024 - Kombi",{"$f":"VLOOKUP(F2106,Soutez!A:B,2,FALSE)","v":"CZ"},{"$f":"VLOOKUP(F2106,Soutez!A:C,3,FALSE)","v":2024},9,2734,0.92500000000000004,7208,6667,null,null,"Nimbus 4DM","AM",""]
["Jan Kohout",1970,"M","Žamberk","CZ/C2","JPJ 2024 - Kombi",{"$f":"VLOOKUP(F2107,Soutez!A:B,2,FALSE)","v":"CZ"},{"$f":"VLOOKUP(F2107,Soutez!A:C,3,FALSE)","v":2024},10,2634,0.92500000000000004,6886,6370,"x",null,"JS1-C 18m EVO","SK",""]
["Frantisek Vancura",1966,"M","Hranice","CZ/M","JPJ 2024 - Kombi",{"$f":"VLOOKUP(F2108,Soutez!A:B,2,FALSE)","v":"CZ"},{"$f":"VLOOKUP(F2108,Soutez!A:C,3,FALSE)","v":2024},11,2573,0.92500000000000004,6638,6140,null,null,"Nimbus 3T 24.5m WL 750kg","A1",""]
["Tomas Prikryl",1973,"M","Vyškov","CZ/M","JPJ 2024 - Kombi",{"$f":"VLOOKUP(F2109,Soutez!A:B,2,FALSE)","v":"CZ"},{"$f":"VLOOKUP(F2109,Soutez!A:C,3,FALSE)","v":2024},12,2539,0.92500000000000004,6443,5960,"x",null,"Ventus 2cm 18m 525kg","FN",""]
["Jiri Koudela",1974,"M","Vyškov","CZ/M","JPJ 2024 - Kombi",{"$f":"VLOOKUP(F2110,Soutez!A:B,2,FALSE)","v":"CZ"},{"$f":"VLOOKUP(F2110,Soutez!A:C,3,FALSE)","v":2024},13,2200,0.92500000000000004,5661,5236,"x",null,"Ventus cm 17.6m","JK",""]
["Miroslav Koci",1961,"M","Žamberk","CZ/C2","JPJ 2024 - Kombi",{"$f":"VLOOKUP(F2111,Soutez!A:B,2,FALSE)","v":"CZ"},{"$f":"VLOOKUP(F2111,Soutez!A:C,3,FALSE)","v":2024},14,2132,0.92500000000000004,5400,4995,"x",null,"Ventus 2cxm 18m 565kg","E8",""]
["Miroslav Sklenar",1964,"M","Žamberk","CZ/C2","JPJ 2024 - Kombi",{"$f":"VLOOKUP(F2112,Soutez!A:B,2,FALSE)","v":"CZ"},{"$f":"VLOOKUP(F2112,Soutez!A:C,3,FALSE)","v":2024},15,1925,0.92500000000000004,4872,4507,"x",null,"Duo Discus 700kg","VP",""]
["Jan Florian",1992,"M","Zbraslavice","CZ/C1","JPJ 2024 - Kombi",{"$f":"VLOOKUP(F2113,Soutez!A:B,2,FALSE)","v":"CZ"},{"$f":"VLOOKUP(F2113,Soutez!A:C,3,FALSE)","v":2024},16,1893,0.92500000000000004,4680,4329,null,null,"Ventus c 17.6m","LS",""]
["Vit Grossmann",1977,"M","Hranice","CZ/M","JPJ 2024 - Kombi",{"$f":"VLOOKUP(F2114,Soutez!A:B,2,FALSE)","v":"CZ"},{"$f":"VLOOKUP(F2114,Soutez!A:C,3,FALSE)","v":2024},17,1890,0.92500000000000004,4544,4203,"x",null,"Duo Discus 700kg","OK",""]
["Pavel Haluza",1966,"M","Prostějov","CZ/M","JPJ 2024 - Kombi",{"$f":"VLOOKUP(F2115,Soutez!A:B,2,FALSE)","v":"CZ"},{"$f":"VLOOKUP(F2115,Soutez!A:C,3,FALSE)","v":2024},18,1743,0.92500000000000004,4131,3821,"x",null,"Nimbus 2b","HT",""]
["Zdenek Schenk",1972,"M","Hranice","CZ/M","JPJ 2024 - Kombi",{"$f":"VLOOKUP(F2116,Soutez!A:B,2,FALSE)","v":"CZ"},{"$f":"VLOOKUP(F2116,Soutez!A:C,3,FALSE)","v":2024},19,1724,0.92500000000000004,3964,3667,null,null,"ASG-29E 18m","ŠNeK",{"$f":"IF(ISERROR(VLOOKUP(A2116,Pilot,6,0)),\"Není v databázi\",VLOOKUP(A2116,Pilot,6,0))","v":""}]
["Antonin Kutalek",1943,"M","Zábřeh","CZ/M","JPJ 2024 - Kombi",{"$f":"VLOOKUP(F2117,Soutez!A:B,2,FALSE)","v":"CZ"},{"$f":"VLOOKUP(F2117,Soutez!A:C,3,FALSE)","v":2024},20,1672,0.92500000000000004,3734,3454,null,null,"LAK-17AT 18m","GLk",""]
["Roman Cerny",{"$f":"VLOOKUP(A2118,Pilot,2,0)","v":1971},{"$f":"VLOOKUP(A2118,Pilot,5,0)","v":"M"},{"$f":"VLOOKUP(A2118,Pilot,3,0)","v":"Hranice"},{"$f":"VLOOKUP(A2118,Pilot,4,0)","v":"CZ/M"},"JPJ 2024 - Kombi",{"$f":"VLOOKUP(F2118,Soutez!A:B,2,FALSE)","v":"CZ"},{"$f":"VLOOKUP(F2118,Soutez!A:C,3,FALSE)","v":2024},21,1631,0.92500000000000004,3524,3260,"x",null,"Nimbus 3 25.5m 700kg","RF",""]
["Lukas Petrzela",1987,"M","Olomouc","CZ/M","JPJ 2024 - Kombi",{"$f":"VLOOKUP(F2119,Soutez!A:B,2,FALSE)","v":"CZ"},{"$f":"VLOOKUP(F2119,Soutez!A:C,3,FALSE)","v":2024},22,1513,0.92500000000000004,3167,2929,"x",null,"Nimbus 2b","MT",""]
["Beat Albrecht",1953,"M","Šumperk","CZ/M","JPJ 2024 - Kombi",{"$f":"VLOOKUP(F2120,Soutez!A:B,2,FALSE)","v":"CZ"},{"$f":"VLOOKUP(F2120,Soutez!A:C,3,FALSE)","v":2024},23,1406,0.92500000000000004,2831,2619,"x",null,"LS-8-18 18m","GL",""]
["Kamil Sohr",1973,"M","Šumperk","CZ/M","JPJ 2024 - Kombi",{"$f":"VLOOKUP(F2121,Soutez!A:B,2,FALSE)","v":"CZ"},{"$f":"VLOOKUP(F2121,Soutez!A:C,3,FALSE)","v":2024},24,1320,0.92500000000000004,2536,2346,"x",null,"Ventus c 17.6m","W",""]
["Michal Lesinger",{"$f":"VLOOKUP(A2122,Pilot,2,0)","v":1966},{"$f":"VLOOKUP(A2122,Pilot,5,0)","v":"M"},{"$f":"VLOOKUP(A2122,Pilot,3,0)","v":"Moravská Třebová"},{"$f":"VLOOKUP(A2122,Pilot,4,0)","v":"CZ/M"},"AZ Cup 2024 - Klub",{"$f":"VLOOKUP(F2122,Soutez!A:B,2,FALSE)","v":"CZ"},{"$f":"VLOOKUP(F2122,Soutez!A:C,3,FALSE)","v":2024},1,1889,0.92,{"$f":"ROUND(J2122/MAX($J$2122:$J$2149)*10000*0.7+(MAX($I$2122:$I$2149)-I2122)/(MAX($I$2122:$I$2149)-1)*10000*0.3,0)","v":10000},9200,null,null,"ASW 20","LL",""]
["Jaroslav Tomana",1975,"M","Zbraslavice","CZ/C1","AZ Cup 2024 - Klub",{"$f":"VLOOKUP(F2123,Soutez!A:B,2,FALSE)","v":"CZ"},{"$f":"VLOOKUP(F2123,Soutez!A:C,3,FALSE)","v":2024},2,1872,0.92,{"$f":"ROUND(J2123/MAX($J$2122:$J$2149)*10000*0.7+(MAX($I$2122:$I$2149)-I2123)/(MAX($I$2122:$I$2149)-1)*10000*0.3,0)","v":9826},9040,null,null,"ASW 20","A3",""]
["Pavel Trybenekr",1990,"M","Hořice","CZ/C2","AZ Cup 2024 - Klub",{"$f":"VLOOKUP(F2124,Soutez!A:B,2,FALSE)","v":"CZ"},{"$f":"VLOOKUP(F2124,Soutez!A:C,3,FALSE)","v":2024},3,1751,0.92,9266,8525,null,null,"LS 4","PF",""]
["Ivan Harasta 65",1965,"M","Toužim","CZ/C1","AZ Cup 2024 - Klub",{"$f":"VLOOKUP(F2125,Soutez!A:B,2,FALSE)","v":"CZ"},{"$f":"VLOOKUP(F2125,Soutez!A:C,3,FALSE)","v":2024},4,1665,0.92,8837,8130,null,null,"LS 4b","IX",""]
["Martin Sabla",null,null,"Spišská Nová Ves","SK","AZ Cup 2024 - Klub",{"$f":"VLOOKUP(F2126,Soutez!A:B,2,FALSE)","v":"CZ"},{"$f":"VLOOKUP(F2126,Soutez!A:C,3,FALSE)","v":2024},5,1628,0.92,8588,7901,null,null,"ASW 20","IKW","Není v databázi"]
["David Darnady",{"$f":"VLOOKUP(A2127,Pilot,2,0)","v":1987},{"$f":"VLOOKUP(A2127,Pilot,5,0)","v":"M"},{"$f":"VLOOKUP(A2127,Pilot,3,0)","v":"Zbraslavice"},{"$f":"VLOOKUP(A2127,Pilot,4,0)","v":"CZ/C1"},"AZ Cup 2024 - Klub",{"$f":"VLOOKUP(F2127,Soutez!A:B,2,FALSE)","v":"CZ"},{"$f":"VLOOKUP(F2127,Soutez!A:C,3,FALSE)","v":2024},6,1570,0.92,8262,7601,null,null,"ASW 20",311,""]
["Tomas Suchanek",1964,"M","GAC Benešov","CZ/C1","AZ Cup 2024 - Klub",{"$f":"VLOOKUP(F2128,Soutez!A:B,2,FALSE)","v":"CZ"},{"$f":"VLOOKUP(F2128,Soutez!A:C,3,FALSE)","v":2024},7,1567,0.92,8140,7489,null,null,"ASW 20","CX",""]
["Petr Havelka",1997,"M","Zbraslavice","CZ/C1","AZ Cup 2024 - Klub",{"$f":"VLOOKUP(F2129,Soutez!A:B,2,FALSE)","v":"CZ"},{"$f":"VLOOKUP(F2129,Soutez!A:C,3,FALSE)","v":2024},8,1442,0.92,7566,6961,"x",null,"ASW 19","PH",""]
["Martin Urban",1971,"M","Frýdlant","CZ/M","AZ Cup 2024 - Klub",{"$f":"VLOOKUP(F2130,Soutez!A:B,2,FALSE)","v":"CZ"},{"$f":"VLOOKUP(F2130,Soutez!A:C,3,FALSE)","v":2024},9,1439,0.92,7444,6848,"x",null,"LS 3a","SJ",""]
["Frantisek Komarek",1985,"M","Zbraslavice","CZ/C1","AZ Cup 2024 - Klub",{"$f":"VLOOKUP(F2131,Soutez!A:B,2,FALSE)","v":"CZ"},{"$f":"VLOOKUP(F2131,Soutez!A:C,3,FALSE)","v":2024},10,1410,0.92,7225,6647,"x",null,"ASW 19","PM",""]
["Amelie Boulanger",null,null,"Grenoble","FR","AZ Cup 2024 - Klub",{"$f":"VLOOKUP(F2132,Soutez!A:B,2,FALSE)","v":"CZ"},{"$f":"VLOOKUP(F2132,Soutez!A:C,3,FALSE)","v":2024},11,1352,0.92,6899,6347,null,null,"ASW 24",69,"Není v databázi"]
["Viktor Becan",{"$f":"VLOOKUP(A2133,Pilot,2,0)","v":1979},{"$f":"VLOOKUP(A2133,Pilot,5,0)","v":"M"},{"$f":"VLOOKUP(A2133,Pilot,3,0)","v":"Vlašim"},{"$f":"VLOOKUP(A2133,Pilot,4,0)","v":"CZ/C1"},"AZ Cup 2024 - Klub",{"$f":"VLOOKUP(F2133,Soutez!A:B,2,FALSE)","v":"CZ"},{"$f":"VLOOKUP(F2133,Soutez!A:C,3,FALSE)","v":2024},12,1207,0.92,6251,5751,"x",null,"ASW 20 WL","CP",""]
["Petr MaSik",2001,"M","Zábřeh","CZ/M","AZ Cup 2024 - Klub",{"$f":"VLOOKUP(F2134,Soutez!A:B,2,FALSE)","v":"CZ"},{"$f":"VLOOKUP(F2134,Soutez!A:C,3,FALSE)","v":2024},13,1121,0.92,5821,5355,null,null,"ASW 19b",34,"Junior v roce 2025"]
["Adam Sugl",1987,"M","Vyškov","CZ/M","AZ Cup 2024 - Klub",{"$f":"VLOOKUP(F2135,Soutez!A:B,2,FALSE)","v":"CZ"},{"$f":"VLOOKUP(F2135,Soutez!A:C,3,FALSE)","v":2024},14,1108,0.92,5661,5208,"x",null,"Cirrus std.","GT",""]
["Tibor Fratrik",null,null,"SGC Martin","SK","AZ Cup 2024 - Klub",{"$f":"VLOOKUP(F2136,Soutez!A:B,2,FALSE)","v":"CZ"},{"$f":"VLOOKUP(F2136,Soutez!A:C,3,FALSE)","v":2024},15,1080,{"$f":"VLOOKUP(F2136,Soutez,12,0)","v":0.92},5447,5011,null,null,"ASW 20","VG","Není v databázi"]
["Louis Janzam",null,null,"Grenoble Vol à Voile",null,"AZ Cup 2024 - Klub",{"$f":"VLOOKUP(F2137,Soutez!A:B,2,FALSE)","v":"CZ"},{"$f":"VLOOKUP(F2137,Soutez!A:C,3,FALSE)","v":2024},16,1010,0.92,5076,4670,null,null,"Glasflugel 304","IMW","Není v databázi"]
["Christina Solberg Hansen",null,null,"Aarhus Svæveflyveklub","SE","AZ Cup 2024 - Klub",{"$f":"VLOOKUP(F2138,Soutez!A:B,2,FALSE)","v":"CZ"},{"$f":"VLOOKUP(F2138,Soutez!A:C,3,FALSE)","v":2024},17,981,0.92,4857,4468,null,null,"LS 1f","SH","Není v databázi"]
["Louise Rodriguez",null,null,"Bailleau","FR","AZ Cup 2024 - Klub",{"$f":"VLOOKUP(F2139,Soutez!A:B,2,FALSE)","v":"CZ"},{"$f":"VLOOKUP(F2139,Soutez!A:C,3,FALSE)","v":2024},18,979,0.92,4739,4360,null,null,"Discus cs WL",24,"Není v databázi"]
["Jiri Fousek",{"$f":"VLOOKUP(A2140,Pilot,2,0)","v":1990},{"$f":"VLOOKUP(A2140,Pilot,5,0)","v":"M"},{"$f":"VLOOKUP(A2140,Pilot,3,0)","v":"Raná"},{"$f":"VLOOKUP(A2140,Pilot,4,0)","v":"CZ/C2"},"AZ Cup 2024 - Klub",{"$f":"VLOOKUP(F2140,Soutez!A:B,2,FALSE)","v":"CZ"},{"$f":"VLOOKUP(F2140,Soutez!A:C,3,FALSE)","v":2024},19,973,0.92,4606,4238,null,null,"Cirrus std.","LW",""]
["Alex Gulich",2005,"M","Slaný","CZ/C1","AZ Cup 2024 - Klub",{"$f":"VLOOKUP(F2141,Soutez!A:B,2,FALSE)","v":"CZ"},{"$f":"VLOOKUP(F2141,Soutez!A:C,3,FALSE)","v":2024},20,779,0.92,3776,3474,null,null,"Cirrus std.","TI","Junior v roce 2025"]
["Jiri Hodan",{"$f":"VLOOKUP(A2142,Pilot,2,0)","v":1959},{"$f":"VLOOKUP(A2142,Pilot,5,0)","v":"M"},{"$f":"VLOOKUP(A2142,Pilot,3,0)","v":"Zbraslavice"},{"$f":"VLOOKUP(A2142,Pilot,4,0)","v":"CZ/C1"},"AZ Cup 2024 - Klub",{"$f":"VLOOKUP(F2142,Soutez!A:B,2,FALSE)","v":"CZ"},{"$f":"VLOOKUP(F2142,Soutez!A:C,3,FALSE)","v":2024},21,752,0.92,3564,3279,"x",null,"G 103 TwinAstir","RB",""]
["Frantisek Pycha",{"$f":"VLOOKUP(A2143,Pilot,2,0)","v":1972},{"$f":"VLOOKUP(A2143,Pilot,5,0)","v":"M"},{"$f":"VLOOKUP(A2143,Pilot,3,0)","v":"Chrudim"},{"$f":"VLOOKUP(A2143,Pilot,4,0)","v":"CZ/C2"},"AZ Cup 2024 - Klub",{"$f":"VLOOKUP(F2143,Soutez!A:B,2,FALSE)","v":"CZ"},{"$f":"VLOOKUP(F2143,Soutez!A:C,3,FALSE)","v":2024},22,738,0.92,{"$f":"ROUND(J2143/MAX($J$2122:$J$2149)*10000*0.7+(MAX($I$2122:$I$2149)-I2143)/(MAX($I$2122:$I$2149)-1)*10000*0.3,0)","v":3401},3129,"x",null,"Cirrus std.WL","JE",""]
["Jan Kristof",1962,"M","Frýdlant","CZ/M","AZ Cup 2024 - Klub",{"$f":"VLOOKUP(F2144,Soutez!A:B,2,FALSE)","v":"CZ"},{"$f":"VLOOKUP(F2144,Soutez!A:C,3,FALSE)","v":2024},23,583,0.92,2716,2499,"x",null,"LS 3","TX",""]
["Premysl Muzik",1990,"M","Tábor","CZ/C1","AZ Cup 2024 - Klub",{"$f":"VLOOKUP(F2145,Soutez!A:B,2,FALSE)","v":"CZ"},{"$f":"VLOOKUP(F2145,Soutez!A:C,3,FALSE)","v":2024},24,536,0.92,2431,2237,"x",null,"Cirrus std.","IMI",""]
["Ales Nestrojil",{"$f":"VLOOKUP(A2146,Pilot,2,0)","v":1980},{"$f":"VLOOKUP(A2146,Pilot,5,0)","v":"M"},{"$f":"VLOOKUP(A2146,Pilot,3,0)","v":"Medlánky"},{"$f":"VLOOKUP(A2146,Pilot,4,0)","v":"CZ/M"},"AZ Cup 2024 - Klub",{"$f":"VLOOKUP(F2146,Soutez!A:B,2,FALSE)","v":"CZ"},{"$f":"VLOOKUP(F2146,Soutez!A:C,3,FALSE)","v":2024},25,508,0.92,2216,2039,"x",null,"ASW 15","K2",""]
["Jan Mrozek",{"$f":"VLOOKUP(A2147,Pilot,2,0)","v":1982},{"$f":"VLOOKUP(A2147,Pilot,5,0)","v":"M"},{"$f":"VLOOKUP(A2147,Pilot,3,0)","v":"Frýdlant"},{"$f":"VLOOKUP(A2147,Pilot,4,0)","v":"CZ/M"},"AZ Cup 2024 - Klub",{"$f":"VLOOKUP(F2147,Soutez!A:B,2,FALSE)","v":"CZ"},{"$f":"VLOOKUP(F2147,Soutez!A:C,3,FALSE)","v":2024},26,242,0.92,1119,1029,"x",null,"Cirrus std.","E",""]
["Petr Brezina",1963,"M","Frýdlant","CZ/M","AZ Cup 2024 - Klub",{"$f":"VLOOKUP(F2148,Soutez!A:B,2,FALSE)","v":"CZ"},{"$f":"VLOOKUP(F2148,Soutez!A:C,3,FALSE)","v":2024},27,72,0.92,378,348,null,null,"DG 200 15m","AK",""]
["Vaclav Sehnal",1962,"M","Kolín","CZ/C1","AZ Cup 2024 - Klub",{"$f":"VLOOKUP(F2149,Soutez!A:B,2,FALSE)","v":"CZ"},{"$f":"VLOOKUP(F2149,Soutez!A:C,3,FALSE)","v":2024},28,0,0.92,0,0,null,null,"Jantar std. 2 WL","VS",""]
["Henrik Bieler",null,null,"Aeroclub Landau","DE","AZ Cup 2024 - Kombi 15m",{"$f":"VLOOKUP(F2150,Soutez!A:B,2,FALSE)","v":"CZ"},{"$f":"VLOOKUP(F2150,Soutez!A:C,3,FALSE)","v":2024},1,1682,0.92500000000000004,{"$f":"ROUND(J2150/MAX($J$2150:$J$2164)*10000*0.7+(MAX($I$2150:$I$2164)-I2150)/(MAX($I$2150:$I$2164)-1)*10000*0.3,0)","v":10000},9250,null,null,"Ventus 2b","1G","Není v databázi"]
["Julien Duboc",null,null,"TGV Condom","FR","AZ Cup 2024 - Kombi 15m",{"$f":"VLOOKUP(F2151,Soutez!A:B,2,FALSE)","v":"CZ"},{"$f":"VLOOKUP(F2151,Soutez!A:C,3,FALSE)","v":2024},2,1575,0.92500000000000004,{"$f":"ROUND(J2151/MAX($J$2150:$J$2164)*10000*0.7+(MAX($I$2150:$I$2164)-I2151)/(MAX($I$2150:$I$2164)-1)*10000*0.3,0)","v":9340},8640,null,null,"Discus 2a","JPA","Není v databázi"]
["Aude Untersee",null,null,"Planeurs d'Ille-et-Vilaine","FR","AZ Cup 2024 - Kombi 15m",{"$f":"VLOOKUP(F2152,Soutez!A:B,2,FALSE)","v":"CZ"},{"$f":"VLOOKUP(F2152,Soutez!A:C,3,FALSE)","v":2024},3,1469,0.92500000000000004,8685,8034,null,null,"Discus 2a","ET","Není v databázi"]
["Karel Novak",{"$f":"VLOOKUP(A2153,Pilot,2,0)","v":1993},{"$f":"VLOOKUP(A2153,Pilot,5,0)","v":"M"},{"$f":"VLOOKUP(A2153,Pilot,3,0)","v":"Mladá Boleslav"},{"$f":"VLOOKUP(A2153,Pilot,4,0)","v":"CZ/C1"},"AZ Cup 2024 - Kombi 15m",{"$f":"VLOOKUP(F2153,Soutez!A:B,2,FALSE)","v":"CZ"},{"$f":"VLOOKUP(F2153,Soutez!A:C,3,FALSE)","v":2024},4,1359,0.92500000000000004,8013,{"$f":"ROUND(K2153*L2153,0)","v":7412},null,null,"Ventus 2a","AX",""]
["Melanie Gadoulet",null,null,"P2B - Ploërmel","FR","AZ Cup 2024 - Kombi 15m",{"$f":"VLOOKUP(F2154,Soutez!A:B,2,FALSE)","v":"CZ"},{"$f":"VLOOKUP(F2154,Soutez!A:C,3,FALSE)","v":2024},5,1213,0.92500000000000004,7191,6652,null,null,"LS 6a 15m",56,"Není v databázi"]
["Dana Novakova",{"$f":"VLOOKUP(A2155,Pilot,2,0)","v":1965},{"$f":"VLOOKUP(A2155,Pilot,5,0)","v":"F"},{"$f":"VLOOKUP(A2155,Pilot,3,0)","v":"Mladá Boleslav"},{"$f":"VLOOKUP(A2155,Pilot,4,0)","v":"CZ/C1"},"AZ Cup 2024 - Kombi 15m",{"$f":"VLOOKUP(F2155,Soutez!A:B,2,FALSE)","v":"CZ"},{"$f":"VLOOKUP(F2155,Soutez!A:C,3,FALSE)","v":2024},6,1070,0.92500000000000004,6382,5903,null,null,"LS 8 15m","AU",""]
["Jana Treslova",1963,"F","Raná","CZ/C2","AZ Cup 2024 - Kombi 15m",{"$f":"VLOOKUP(F2156,Soutez!A:B,2,FALSE)","v":"CZ"},{"$f":"VLOOKUP(F2156,Soutez!A:C,3,FALSE)","v":2024},7,1053,0.92500000000000004,6097,5640,null,null,"LS 8 15m","W8",""]
["Zdenek Boruvka 54",1954,"M","Jičín","CZ/C2","AZ Cup 2024 - Kombi 15m",{"$f":"VLOOKUP(F2157,Soutez!A:B,2,FALSE)","v":"CZ"},{"$f":"VLOOKUP(F2157,Soutez!A:C,3,FALSE)","v":2024},8,1041,0.92500000000000004,5832,5395,null,null,"LS 8 15m","ZB",""]
["Jan Horak",{"$f":"VLOOKUP(A2158,Pilot,2,0)","v":1971},{"$f":"VLOOKUP(A2158,Pilot,5,0)","v":"M"},{"$f":"VLOOKUP(A2158,Pilot,3,0)","v":"Zbraslavice"},{"$f":"VLOOKUP(A2158,Pilot,4,0)","v":"CZ/C1"},"AZ Cup 2024 - Kombi 15m",{"$f":"VLOOKUP(F2158,Soutez!A:B,2,FALSE)","v":"CZ"},{"$f":"VLOOKUP(F2158,Soutez!A:C,3,FALSE)","v":2024},9,963,0.92500000000000004,5293,4896,null,null,"ASW 20 WL","WX",""]
["Vladimir Foltin",null,null,"Nitra","SK","AZ Cup 2024 - Kombi 15m",{"$f":"VLOOKUP(F2159,Soutez!A:B,2,FALSE)","v":"CZ"},{"$f":"VLOOKUP(F2159,Soutez!A:C,3,FALSE)","v":2024},10,842,0.92500000000000004,{"$f":"ROUND(J2159/MAX($J$2150:$J$2164)*10000*0.7+(MAX($I$2150:$I$2164)-I2159)/(MAX($I$2150:$I$2164)-1)*10000*0.3,0)","v":4576},4233,null,null,"JS3 15m",3,"Není v databázi"]
["Edmund Schuller",null,null,"SGC Martin","SK","AZ Cup 2024 - Kombi 15m",{"$f":"VLOOKUP(F2160,Soutez!A:B,2,FALSE)","v":"CZ"},{"$f":"VLOOKUP(F2160,Soutez!A:C,3,FALSE)","v":2024},11,762,0.92500000000000004,4028,3726,null,null,"Discus 2b","DI","Není v databázi"]
["Jan Smekal",{"$f":"VLOOKUP(A2161,Pilot,2,0)","v":1976},{"$f":"VLOOKUP(A2161,Pilot,5,0)","v":"M"},{"$f":"VLOOKUP(A2161,Pilot,3,0)","v":"Zbraslavice"},{"$f":"VLOOKUP(A2161,Pilot,4,0)","v":"CZ/C1"},"AZ Cup 2024 - Kombi 15m",{"$f":"VLOOKUP(F2161,Soutez!A:B,2,FALSE)","v":"CZ"},{"$f":"VLOOKUP(F2161,Soutez!A:C,3,FALSE)","v":2024},12,714,0.92500000000000004,3614,3343,null,null,"ASW 20 WL","NW",""]
["Radek Zima 78",1978,"M","Hodkovice","CZ/C2","AZ Cup 2024 - Kombi 15m",{"$f":"VLOOKUP(F2162,Soutez!A:B,2,FALSE)","v":"CZ"},{"$f":"VLOOKUP(F2162,Soutez!A:C,3,FALSE)","v":2024},13,539,0.92500000000000004,2672,2472,null,null,"DG-500 22m","YA",""]
["Barbora Moravcova",1994,"F","Zbraslavice","CZ/C1","AZ Cup 2024 - Kombi 15m",{"$f":"VLOOKUP(F2163,Soutez!A:B,2,FALSE)","v":"CZ"},{"$f":"VLOOKUP(F2163,Soutez!A:C,3,FALSE)","v":2024},14,252,0.92500000000000004,1263,1168,null,null,"LS 8 15m","EU",""]
["Pavel Svrcek",1972,"M","Frýdlant","CZ/M","AZ Cup 2024 - Kombi 15m",{"$f":"VLOOKUP(F2164,Soutez!A:B,2,FALSE)","v":"CZ"},{"$f":"VLOOKUP(F2164,Soutez!A:C,3,FALSE)","v":2024},15,155,0.92500000000000004,645,597,"x",null,"DG-400","PS",""]
["David Mach",{"$f":"VLOOKUP(A2165,Pilot,2,0)","v":1994},{"$f":"VLOOKUP(A2165,Pilot,5,0)","v":"M"},{"$f":"VLOOKUP(A2165,Pilot,3,0)","v":"Hronov"},{"$f":"VLOOKUP(A2165,Pilot,4,0)","v":"CZ/C2"},"AZ Cup 2024 - Kombi Open",{"$f":"VLOOKUP(F2165,Soutez!A:B,2,FALSE)","v":"CZ"},{"$f":"VLOOKUP(F2165,Soutez!A:C,3,FALSE)","v":2024},1,1324,0,{"$f":"ROUND(J2165/MAX($J$2165:$J$2203)*10000*0.7+(MAX($I$2165:$I$2203)-I2165)/(MAX($I$2165:$I$2203)-1)*10000*0.3,0)","v":10000},0,null,null,"JS3 18m","ZE",""]
["Jan Kantor",1983,"M","Letňany","CZ/C1","AZ Cup 2024 - Kombi Open",{"$f":"VLOOKUP(F2166,Soutez!A:B,2,FALSE)","v":"CZ"},{"$f":"VLOOKUP(F2166,Soutez!A:C,3,FALSE)","v":2024},2,1204,0,{"$f":"ROUND(J2166/MAX($J$2165:$J$2203)*10000*0.7+(MAX($I$2165:$I$2203)-I2166)/(MAX($I$2165:$I$2203)-1)*10000*0.3,0)","v":9287},0,null,null,"ASG 29E","QX",""]
["Petr Tichy",1973,"M","Zbraslavice","CZ/C1","AZ Cup 2024 - Kombi Open",{"$f":"VLOOKUP(F2167,Soutez!A:B,2,FALSE)","v":"CZ"},{"$f":"VLOOKUP(F2167,Soutez!A:C,3,FALSE)","v":2024},3,1175,0,9054,0,null,null,"ASG 29E","NX",""]
["Alena Netusilova",1970,"F","Zbraslavice","CZ/C1","AZ Cup 2024 - Kombi Open",{"$f":"VLOOKUP(F2168,Soutez!A:B,2,FALSE)","v":"CZ"},{"$f":"VLOOKUP(F2168,Soutez!A:C,3,FALSE)","v":2024},4,1174,0,8970,0,null,null,"JS1 C 18m","JX",""]
["Ondrej Dupal",1966,"M","GAC Benešov","CZ/C1","AZ Cup 2024 - Kombi Open",{"$f":"VLOOKUP(F2169,Soutez!A:B,2,FALSE)","v":"CZ"},{"$f":"VLOOKUP(F2169,Soutez!A:C,3,FALSE)","v":2024},5,1140,0,8711,0,null,null,"ASG 29E","GO",""]
["Ondrej Bordovsky",1983,"M","Krnov","CZ/M","AZ Cup 2024 - Kombi Open",{"$f":"VLOOKUP(F2170,Soutez!A:B,2,FALSE)","v":"CZ"},{"$f":"VLOOKUP(F2170,Soutez!A:C,3,FALSE)","v":2024},6,1105,0,8447,0,null,null,"Ventus c 17,6m","AD",""]
["Radek Krejcirik",1991,"M","Hranice","CZ/M","AZ Cup 2024 - Kombi Open",{"$f":"VLOOKUP(F2171,Soutez!A:B,2,FALSE)","v":"CZ"},{"$f":"VLOOKUP(F2171,Soutez!A:C,3,FALSE)","v":2024},7,1104,0,8363,0,null,null,"JS3 RES 18m","Q1",""]
["Tibor Noga",null,null,"SGC Martin","SK","AZ Cup 2024 - Kombi Open",{"$f":"VLOOKUP(F2172,Soutez!A:B,2,FALSE)","v":"CZ"},{"$f":"VLOOKUP(F2172,Soutez!A:C,3,FALSE)","v":2024},8,1103,0,8279,0,null,null,"Ventus 2c","LN","Není v databázi"]
["Jan Boruvka",{"$f":"VLOOKUP(A2173,Pilot,2,0)","v":1984},{"$f":"VLOOKUP(A2173,Pilot,5,0)","v":"M"},{"$f":"VLOOKUP(A2173,Pilot,3,0)","v":"Jičín"},{"$f":"VLOOKUP(A2173,Pilot,4,0)","v":"CZ/C2"},"AZ Cup 2024 - Kombi Open",{"$f":"VLOOKUP(F2173,Soutez!A:B,2,FALSE)","v":"CZ"},{"$f":"VLOOKUP(F2173,Soutez!A:C,3,FALSE)","v":2024},9,1099,0,8179,0,null,null,"Ventus c 17.6m","EG",""]
["Tomas Rendla",1973,"M","Zbraslavice","CZ/C1","AZ Cup 2024 - Kombi Open",{"$f":"VLOOKUP(F2174,Soutez!A:B,2,FALSE)","v":"CZ"},{"$f":"VLOOKUP(F2174,Soutez!A:C,3,FALSE)","v":2024},10,1095,0,8079,0,null,null,"AS 33 Es","EZ",""]
["Jiri Kusbach",1959,"M","Luhačovice","CZ/M","AZ Cup 2024 - Kombi Open",{"$f":"VLOOKUP(F2175,Soutez!A:B,2,FALSE)","v":"CZ"},{"$f":"VLOOKUP(F2175,Soutez!A:C,3,FALSE)","v":2024},11,1072,0,7878,0,null,null,"Diana 3 FES","B",""]
["Ivan Novak",1962,"M","Mladá Boleslav","CZ/C1","AZ Cup 2024 - Kombi Open",{"$f":"VLOOKUP(F2176,Soutez!A:B,2,FALSE)","v":"CZ"},{"$f":"VLOOKUP(F2176,Soutez!A:C,3,FALSE)","v":2024},12,1050,0,7683,0,null,null,"ASG 29E","QZ",""]
["Zdenek Boruvka 86",1986,"M","Jičín","CZ/C2","AZ Cup 2024 - Kombi Open",{"$f":"VLOOKUP(F2177,Soutez!A:B,2,FALSE)","v":"CZ"},{"$f":"VLOOKUP(F2177,Soutez!A:C,3,FALSE)","v":2024},13,1047,0,7588,0,null,null,"Ventus c 17.6m","VV",{"$f":"IF(ISERROR(VLOOKUP(A2177,Pilot,6,0)),\"Není v databázi\",VLOOKUP(A2177,Pilot,6,0))","v":""}]
["Miguel Schwan",null,null,null,null,"AZ Cup 2024 - Kombi Open",{"$f":"VLOOKUP(F2178,Soutez!A:B,2,FALSE)","v":"CZ"},{"$f":"VLOOKUP(F2178,Soutez!A:C,3,FALSE)","v":2024},14,1035,0,7446,0,null,null,"Ventus 3m",14,"Není v databázi"]
["Milan Lojdl",null,null,"SGC Martin","SK","AZ Cup 2024 - Kombi Open",{"$f":"VLOOKUP(F2179,Soutez!A:B,2,FALSE)","v":"CZ"},{"$f":"VLOOKUP(F2179,Soutez!A:C,3,FALSE)","v":2024},15,1032,0,7351,0,null,null,"Ventuc 2cxt","MJ1","Není v databázi"]
["Petr Krejcirik",{"$f":"VLOOKUP(A2180,Pilot,2,0)","v":1960},{"$f":"VLOOKUP(A2180,Pilot,5,0)","v":"M"},{"$f":"VLOOKUP(A2180,Pilot,3,0)","v":"Hranice"},{"$f":"VLOOKUP(A2180,Pilot,4,0)","v":"CZ/M"},"AZ Cup 2024 - Kombi Open",{"$f":"VLOOKUP(F2180,Soutez!A:B,2,FALSE)","v":"CZ"},{"$f":"VLOOKUP(F2180,Soutez!A:C,3,FALSE)","v":2024},16,1026,0,7240,0,null,null,"AS 33 Es",12,""]
["Jan Kotan",1982,"M","Letňany","CZ/C1","AZ Cup 2024 - Kombi Open",{"$f":"VLOOKUP(F2181,Soutez!A:B,2,FALSE)","v":"CZ"},{"$f":"VLOOKUP(F2181,Soutez!A:C,3,FALSE)","v":2024},17,989,0,6966,0,null,null,"AS 33 Es","CAT",""]
["Radek Kucirek",1973,"M","Havlíčkův Brod","CZ/C2","AZ Cup 2024 - Kombi Open",{"$f":"VLOOKUP(F2182,Soutez!A:B,2,FALSE)","v":"CZ"},{"$f":"VLOOKUP(F2182,Soutez!A:C,3,FALSE)","v":2024},18,972,0,6797,0,null,null,"JS1 21m","ZF",""]
["Hana Treslova",1991,"F","Raná","CZ/C2","AZ Cup 2024 - Kombi Open",{"$f":"VLOOKUP(F2183,Soutez!A:B,2,FALSE)","v":"CZ"},{"$f":"VLOOKUP(F2183,Soutez!A:C,3,FALSE)","v":2024},19,966,0,6686,0,null,null,"JS3 18m","XM",""]
["Petr Malcek",1965,"M","Letňany","CZ/C1","AZ Cup 2024 - Kombi Open",{"$f":"VLOOKUP(F2184,Soutez!A:B,2,FALSE)","v":"CZ"},{"$f":"VLOOKUP(F2184,Soutez!A:C,3,FALSE)","v":2024},20,956,0,6554,0,null,null,"LS 6c 18W","F5",""]
["Martin Picka",1974,"M","Tábor","CZ/C1","AZ Cup 2024 - Kombi Open",{"$f":"VLOOKUP(F2185,Soutez!A:B,2,FALSE)","v":"CZ"},{"$f":"VLOOKUP(F2185,Soutez!A:C,3,FALSE)","v":2024},21,934,0,6359,0,null,null,"JS3 RES 18m","NS",""]
["Tomas Hynek",2002,"M","Dvůr Králové","CZ/C2","AZ Cup 2024 - Kombi Open",{"$f":"VLOOKUP(F2186,Soutez!A:B,2,FALSE)","v":"CZ"},{"$f":"VLOOKUP(F2186,Soutez!A:C,3,FALSE)","v":2024},22,922,0,6217,0,null,null,"Arcus M","FJ","Junior v roce 2025"]
["Milos Srank",null,null,"Nové Zámky","SK","AZ Cup 2024 - Kombi Open",{"$f":"VLOOKUP(F2187,Soutez!A:B,2,FALSE)","v":"CZ"},{"$f":"VLOOKUP(F2187,Soutez!A:C,3,FALSE)","v":2024},23,902,0,6032,0,null,null,"ASG 29E","LK","Není v databázi"]
["Branislav Jesensky",null,null,"SGC Martin","SK","AZ Cup 2024 - Kombi Open",{"$f":"VLOOKUP(F2188,Soutez!A:B,2,FALSE)","v":"CZ"},{"$f":"VLOOKUP(F2188,Soutez!A:C,3,FALSE)","v":2024},24,898,0,5932,0,null,null,"JS1 C 21m","J","Není v databázi"]
["Miha Berginc",null,null,"Aeroklub Celje","SL","AZ Cup 2024 - Kombi Open",{"$f":"VLOOKUP(F2189,Soutez!A:B,2,FALSE)","v":"CZ"},{"$f":"VLOOKUP(F2189,Soutez!A:C,3,FALSE)","v":2024},25,820,0,{"$f":"ROUND(J2189/MAX($J$2165:$J$2203)*10000*0.7+(MAX($I$2165:$I$2203)-I2189)/(MAX($I$2165:$I$2203)-1)*10000*0.3,0)","v":5441},0,null,null,"ASG 29E","BER","Není v databázi"]
["Michal Posluzny",{"$f":"VLOOKUP(A2190,Pilot,2,0)","v":1968},{"$f":"VLOOKUP(A2190,Pilot,5,0)","v":"M"},{"$f":"VLOOKUP(A2190,Pilot,3,0)","v":"Medlánky"},{"$f":"VLOOKUP(A2190,Pilot,4,0)","v":"CZ/M"},"AZ Cup 2024 - Kombi Open",{"$f":"VLOOKUP(F2190,Soutez!A:B,2,FALSE)","v":"CZ"},{"$f":"VLOOKUP(F2190,Soutez!A:C,3,FALSE)","v":2024},26,803,0,5272,0,null,null,"JS3 18m","QX1",""]
["Petr Starek",1974,"M","Zbraslavice","CZ/C1","AZ Cup 2024 - Kombi Open",{"$f":"VLOOKUP(F2191,Soutez!A:B,2,FALSE)","v":"CZ"},{"$f":"VLOOKUP(F2191,Soutez!A:C,3,FALSE)","v":2024},27,775,0,5045,0,null,null,"HpH 304 JS",66,""]
["Lubomir Jakubcak",null,null,"SGC Martin","SK","AZ Cup 2024 - Kombi Open",{"$f":"VLOOKUP(F2192,Soutez!A:B,2,FALSE)","v":"CZ"},{"$f":"VLOOKUP(F2192,Soutez!A:C,3,FALSE)","v":2024},28,721,0,4680,0,null,null,"Arcus M","CAR","Není v databázi"]
["Antonin Kutalek",{"$f":"VLOOKUP(A2193,Pilot,2,0)","v":1943},{"$f":"VLOOKUP(A2193,Pilot,5,0)","v":"M"},{"$f":"VLOOKUP(A2193,Pilot,3,0)","v":"Zábřeh"},{"$f":"VLOOKUP(A2193,Pilot,4,0)","v":"CZ/M"},"AZ Cup 2024 - Kombi Open",{"$f":"VLOOKUP(F2193,Soutez!A:B,2,FALSE)","v":"CZ"},{"$f":"VLOOKUP(F2193,Soutez!A:C,3,FALSE)","v":2024},29,674,0,4353,0,null,null,"LAK 17 AT 18m WL","GL",""]
["Peter Pirc",null,null,"Aeroklub Celje","SL","AZ Cup 2024 - Kombi Open",{"$f":"VLOOKUP(F2194,Soutez!A:B,2,FALSE)","v":"CZ"},{"$f":"VLOOKUP(F2194,Soutez!A:C,3,FALSE)","v":2024},30,668,0,4242,0,null,null,"HpH 304 ES","PX","Není v databázi"]
["Jan Krobath",null,null,null,"AT","AZ Cup 2024 - Kombi Open",{"$f":"VLOOKUP(F2195,Soutez!A:B,2,FALSE)","v":"CZ"},{"$f":"VLOOKUP(F2195,Soutez!A:C,3,FALSE)","v":2024},31,622,0,3920,0,null,null,"TwinShark","Q","Není v databázi"]
["Leos Strnadek",{"$f":"VLOOKUP(A2196,Pilot,2,0)","v":1983},{"$f":"VLOOKUP(A2196,Pilot,5,0)","v":"M"},{"$f":"VLOOKUP(A2196,Pilot,3,0)","v":"Hodkovice"},{"$f":"VLOOKUP(A2196,Pilot,4,0)","v":"CZ/C2"},"AZ Cup 2024 - Kombi Open",{"$f":"VLOOKUP(F2196,Soutez!A:B,2,FALSE)","v":"CZ"},{"$f":"VLOOKUP(F2196,Soutez!A:C,3,FALSE)","v":2024},32,598,0,3714,0,null,null,"ASG 29E","XZ",""]
["Jan Dersak 69",1969,"M","Kralupy","CZ/C1","AZ Cup 2024 - Kombi Open",{"$f":"VLOOKUP(F2197,Soutez!A:B,2,FALSE)","v":"CZ"},{"$f":"VLOOKUP(F2197,Soutez!A:C,3,FALSE)","v":2024},33,590,0,3593,0,null,null,"HpH 304 MS","DJ",""]
["Jan Florian",{"$f":"VLOOKUP(A2198,Pilot,2,0)","v":1992},{"$f":"VLOOKUP(A2198,Pilot,5,0)","v":"M"},{"$f":"VLOOKUP(A2198,Pilot,3,0)","v":"Zbraslavice"},{"$f":"VLOOKUP(A2198,Pilot,4,0)","v":"CZ/C1"},"AZ Cup 2024 - Kombi Open",{"$f":"VLOOKUP(F2198,Soutez!A:B,2,FALSE)","v":"CZ"},{"$f":"VLOOKUP(F2198,Soutez!A:C,3,FALSE)","v":2024},34,484,{"$f":"VLOOKUP(F2198,Soutez,12,0)","v":0},2954,0,null,null,"Ventus c 17.6m","LS",""]
["Ivo Burda",1962,"M","Zbraslavice","CZ/C1","AZ Cup 2024 - Kombi Open",{"$f":"VLOOKUP(F2199,Soutez!A:B,2,FALSE)","v":"CZ"},{"$f":"VLOOKUP(F2199,Soutez!A:C,3,FALSE)","v":2024},35,461,0,2753,0,null,null,"Ventus 2cxm 18m","IB",""]
["Danes Grula",1961,"M","Medlánky","CZ/M","AZ Cup 2024 - Kombi Open",{"$f":"VLOOKUP(F2200,Soutez!A:B,2,FALSE)","v":"CZ"},{"$f":"VLOOKUP(F2200,Soutez!A:C,3,FALSE)","v":2024},36,408,0,2394,0,null,null,"ASG 32 Mi","DX",""]
["Jaromir Jedlicka",1972,"M","Letňany","CZ/C1","AZ Cup 2024 - Kombi Open",{"$f":"VLOOKUP(F2201,Soutez!A:B,2,FALSE)","v":"CZ"},{"$f":"VLOOKUP(F2201,Soutez!A:C,3,FALSE)","v":2024},37,343,0,1971,0,null,null,"HpH 304 MS","TJ",""]
["Petra Ctibor",1991,"F","Medlánky","CZ/M","AZ Cup 2024 - Kombi Open",{"$f":"VLOOKUP(F2202,Soutez!A:B,2,FALSE)","v":"CZ"},{"$f":"VLOOKUP(F2202,Soutez!A:C,3,FALSE)","v":2024},38,200,0,1136,0,null,null,"LAK 17 A 18m WL","PB",""]
["Jaroslav Potmesil",1964,"M","Zbraslavice","CZ/C1","AZ Cup 2024 - Kombi Open",{"$f":"VLOOKUP(F2203,Soutez!A:B,2,FALSE)","v":"CZ"},{"$f":"VLOOKUP(F2203,Soutez!A:C,3,FALSE)","v":2024},39,0,0,0,0,null,null,"TwinShark","TS",""]
["Pavel Trybenekr",{"$f":"VLOOKUP(A2204,Pilot,2,0)","v":1990},{"$f":"VLOOKUP(A2204,Pilot,5,0)","v":"M"},{"$f":"VLOOKUP(A2204,Pilot,3,0)","v":"Hořice"},{"$f":"VLOOKUP(A2204,Pilot,4,0)","v":"CZ/C2"},"PMČR 2024 - Klub",{"$f":"VLOOKUP(F2204,Soutez!A:B,2,FALSE)","v":"CZ"},{"$f":"VLOOKUP(F2204,Soutez!A:C,3,FALSE)","v":2024},1,5268,1.06,{"$f":"ROUND(J2204/MAX($J$2204:$J$2230)*10000*0.7+(MAX($I$2204:$I$2230)-I2204)/(MAX($I$2204:$I$2230)-1)*10000*0.3,0)","v":10000},10600,"x",null,"LS4","PF",""]
["Jaroslav Tomana",{"$f":"VLOOKUP(A2205,Pilot,2,0)","v":1975},{"$f":"VLOOKUP(A2205,Pilot,5,0)","v":"M"},{"$f":"VLOOKUP(A2205,Pilot,3,0)","v":"Zbraslavice"},{"$f":"VLOOKUP(A2205,Pilot,4,0)","v":"CZ/C1"},"PMČR 2024 - Klub",{"$f":"VLOOKUP(F2205,Soutez!A:B,2,FALSE)","v":"CZ"},{"$f":"VLOOKUP(F2205,Soutez!A:C,3,FALSE)","v":2024},2,5055,1.06,{"$f":"ROUND(J2205/MAX($J$2204:$J$2230)*10000*0.7+(MAX($I$2204:$I$2230)-I2205)/(MAX($I$2204:$I$2230)-1)*10000*0.3,0)","v":9602},10178,"x",null,"ASW 20","A3",""]
["Ivan Harasta 65",1965,"M","Toužim","CZ/C1","PMČR 2024 - Klub",{"$f":"VLOOKUP(F2206,Soutez!A:B,2,FALSE)","v":"CZ"},{"$f":"VLOOKUP(F2206,Soutez!A:C,3,FALSE)","v":2024},3,4962,1.06,9363,9925,"x",null,"ASW 20L","CP",""]
["George White",null,null,null,"UK","PMČR 2024 - Klub",{"$f":"VLOOKUP(F2207,Soutez!A:B,2,FALSE)","v":"CZ"},{"$f":"VLOOKUP(F2207,Soutez!A:C,3,FALSE)","v":2024},4,4945,1.06,9225,9779,null,null,"ASW 20 L","ENW","Není v databázi"]
["Jiri Stepanek",{"$f":"VLOOKUP(A2208,Pilot,2,0)","v":1956},{"$f":"VLOOKUP(A2208,Pilot,5,0)","v":"M"},{"$f":"VLOOKUP(A2208,Pilot,3,0)","v":"Moravská Třebová"},{"$f":"VLOOKUP(A2208,Pilot,4,0)","v":"CZ/M"},"PMČR 2024 - Klub",{"$f":"VLOOKUP(F2208,Soutez!A:B,2,FALSE)","v":"CZ"},{"$f":"VLOOKUP(F2208,Soutez!A:C,3,FALSE)","v":2024},5,4800,1.06,8917,9452,"x",null,"ASW 15b","LE",""]
["Tereza Koubkova",1999,"F","Vysoké Mýto","CZ/C2","PMČR 2024 - Klub",{"$f":"VLOOKUP(F2209,Soutez!A:B,2,FALSE)","v":"CZ"},{"$f":"VLOOKUP(F2209,Soutez!A:C,3,FALSE)","v":2024},6,4627,1.06,8571,9085,"x","x","LS 4","IX",""]
["Michal Lesinger",1966,"M","Moravská Třebová","CZ/M","PMČR 2024 - Klub",{"$f":"VLOOKUP(F2210,Soutez!A:B,2,FALSE)","v":"CZ"},{"$f":"VLOOKUP(F2210,Soutez!A:C,3,FALSE)","v":2024},7,4626,1.06,8455,8962,null,null,"ASW 20 A","LL",""]
["Nicolas Caudrelier",null,null,null,"FR","PMČR 2024 - Klub",{"$f":"VLOOKUP(F2211,Soutez!A:B,2,FALSE)","v":"CZ"},{"$f":"VLOOKUP(F2211,Soutez!A:C,3,FALSE)","v":2024},8,4566,1.06,8260,8756,null,null,"ASW 20 CL","VL","Není v databázi"]
["Tomas Hynek",2002,"M","Dvůr Králové","CZ/C2","PMČR 2024 - Klub",{"$f":"VLOOKUP(F2212,Soutez!A:B,2,FALSE)","v":"CZ"},{"$f":"VLOOKUP(F2212,Soutez!A:C,3,FALSE)","v":2024},9,4365,1.06,7877,8350,"x",null,"ASW 20 CL","VW","Junior v roce 2025"]
["Hana Treslova",1991,"F","Raná","CZ/C2","PMČR 2024 - Klub",{"$f":"VLOOKUP(F2213,Soutez!A:B,2,FALSE)","v":"CZ"},{"$f":"VLOOKUP(F2213,Soutez!A:C,3,FALSE)","v":2024},10,4282,1.06,7651,8110,null,null,"Std. Cirrus","CI",""]
["Jan Stastny",2003,"M","Medlánky","CZ/M","PMČR 2024 - Klub",{"$f":"VLOOKUP(F2214,Soutez!A:B,2,FALSE)","v":"CZ"},{"$f":"VLOOKUP(F2214,Soutez!A:C,3,FALSE)","v":2024},11,4262,1.06,7509,7960,null,null,"LS4","6L","Junior v roce 2025"]
["Tomas Suchanek",1964,"M","GAC Benešov","CZ/C1","PMČR 2024 - Klub",{"$f":"VLOOKUP(F2215,Soutez!A:B,2,FALSE)","v":"CZ"},{"$f":"VLOOKUP(F2215,Soutez!A:C,3,FALSE)","v":2024},12,4159,1.06,7257,{"$f":"ROUND(K2215*L2215,0)","v":7692},null,null,"ASW 20","CX",""]
["Petr Stepanek",1989,"M","Moravská Třebová","CZ/M","PMČR 2024 - Klub",{"$f":"VLOOKUP(F2216,Soutez!A:B,2,FALSE)","v":"CZ"},{"$f":"VLOOKUP(F2216,Soutez!A:C,3,FALSE)","v":2024},13,3896,1.06,6792,7200,"x",null,"ASW 19","AE",""]
["Philippe Lata",null,null,null,"DE","PMČR 2024 - Klub",{"$f":"VLOOKUP(F2217,Soutez!A:B,2,FALSE)","v":"CZ"},{"$f":"VLOOKUP(F2217,Soutez!A:C,3,FALSE)","v":2024},14,3812,1.06,6565,6959,null,null,"ASW 20 C","LT","Není v databázi"]
["George Downing",null,null,null,"UK","PMČR 2024 - Klub",{"$f":"VLOOKUP(F2218,Soutez!A:B,2,FALSE)","v":"CZ"},{"$f":"VLOOKUP(F2218,Soutez!A:C,3,FALSE)","v":2024},15,3772,1.06,{"$f":"ROUND(J2218/MAX($J$2204:$J$2230)*10000*0.7+(MAX($I$2204:$I$2230)-I2218)/(MAX($I$2204:$I$2230)-1)*10000*0.3,0)","v":6397},6781,null,null,"ASW 20 L","LD","Není v databázi"]
["Alexandre Fierain",null,null,null,"FR","PMČR 2024 - Klub",{"$f":"VLOOKUP(F2219,Soutez!A:B,2,FALSE)","v":"CZ"},{"$f":"VLOOKUP(F2219,Soutez!A:C,3,FALSE)","v":2024},16,3532,1.06,5962,6320,null,null,"ASW 20","WE","Není v databázi"]
["Jan Vavrin",1987,"M","Vysoké Mýto","CZ/C2","PMČR 2024 - Klub",{"$f":"VLOOKUP(F2220,Soutez!A:B,2,FALSE)","v":"CZ"},{"$f":"VLOOKUP(F2220,Soutez!A:C,3,FALSE)","v":2024},17,3460,1.06,5751,6096,"x",null,"ASW 19",56,""]
["Eldrine Marque",null,null,null,"FR","PMČR 2024 - Klub",{"$f":"VLOOKUP(F2221,Soutez!A:B,2,FALSE)","v":"CZ"},{"$f":"VLOOKUP(F2221,Soutez!A:C,3,FALSE)","v":2024},18,3456,1.06,5631,5969,null,null,"ASW-20 L","DC","Není v databázi"]
["Stepan Filakovsky",2005,"M","Medlánky","CZ/M","PMČR 2024 - Klub",{"$f":"VLOOKUP(F2222,Soutez!A:B,2,FALSE)","v":"CZ"},{"$f":"VLOOKUP(F2222,Soutez!A:C,3,FALSE)","v":2024},19,3035,1.06,4956,5253,null,null,"LS1F","FD","Junior v roce 2025"]
["Michal Drab",1969,"M","Letkov","CZ/C1","PMČR 2024 - Klub",{"$f":"VLOOKUP(F2223,Soutez!A:B,2,FALSE)","v":"CZ"},{"$f":"VLOOKUP(F2223,Soutez!A:C,3,FALSE)","v":2024},20,2777,1.06,4498,4768,null,null,"LS 1d","S3",""]
["Petr Masik",2001,"M","Zábřeh","CZ/M","PMČR 2024 - Klub",{"$f":"VLOOKUP(F2224,Soutez!A:B,2,FALSE)","v":"CZ"},{"$f":"VLOOKUP(F2224,Soutez!A:C,3,FALSE)","v":2024},21,2551,1.06,4082,4327,null,null,"ASW 19B",34,"Junior v roce 2025"]
["Stepan Bartos",2004,"M","Kolín","CZ/C1","PMČR 2024 - Klub",{"$f":"VLOOKUP(F2225,Soutez!A:B,2,FALSE)","v":"CZ"},{"$f":"VLOOKUP(F2225,Soutez!A:C,3,FALSE)","v":2024},22,2247,1.06,3563,3777,null,null,"DG 300 ELAN RG","DG","Junior v roce 2025"]
["Martin Fric",1967,"M","Raná","CZ/C2","PMČR 2024 - Klub",{"$f":"VLOOKUP(F2226,Soutez!A:B,2,FALSE)","v":"CZ"},{"$f":"VLOOKUP(F2226,Soutez!A:C,3,FALSE)","v":2024},23,2223,1.06,3415,3620,null,null,"DG-101","E2",""]
["Karel Mares",1974,"M","Slaný","CZ/C1","PMČR 2024 - Klub",{"$f":"VLOOKUP(F2227,Soutez!A:B,2,FALSE)","v":"CZ"},{"$f":"VLOOKUP(F2227,Soutez!A:C,3,FALSE)","v":2024},24,2127,1.06,3172,3362,"x",null,"Discus B","CT",""]
["Petr Lonsky",1965,"M","Toužim","CZ/C1","PMČR 2024 - Klub",{"$f":"VLOOKUP(F2228,Soutez!A:B,2,FALSE)","v":"CZ"},{"$f":"VLOOKUP(F2228,Soutez!A:C,3,FALSE)","v":2024},25,1547,1.06,2286,2423,null,null,"Std. Cirrus","YU",""]
["Jiri Krofta",1988,"M","Hosín","CZ/C1","PMČR 2024 - Klub",{"$f":"VLOOKUP(F2229,Soutez!A:B,2,FALSE)","v":"CZ"},{"$f":"VLOOKUP(F2229,Soutez!A:C,3,FALSE)","v":2024},26,1486,1.06,2090,2215,null,null,"ASW 19","XP",""]
["Martin Valenta",1969,"M","Toužim","CZ/C1","PMČR 2024 - Klub",{"$f":"VLOOKUP(F2230,Soutez!A:B,2,FALSE)","v":"CZ"},{"$f":"VLOOKUP(F2230,Soutez!A:C,3,FALSE)","v":2024},27,407,1.06,541,573,null,null,"Speed Astir IIb","Y3",""]
["Jan Pavlik",{"$f":"VLOOKUP(A2231,Pilot,2,0)","v":1987},{"$f":"VLOOKUP(A2231,Pilot,5,0)","v":"M"},{"$f":"VLOOKUP(A2231,Pilot,3,0)","v":"Křižanov"},{"$f":"VLOOKUP(A2231,Pilot,4,0)","v":"CZ/M"},"PMČR 2024 - Kombi 15m",{"$f":"VLOOKUP(F2231,Soutez!A:B,2,FALSE)","v":"CZ"},{"$f":"VLOOKUP(F2231,Soutez!A:C,3,FALSE)","v":2024},1,5048,1.0449999999999999,{"$f":"ROUND(J2231/MAX($J$2231:$J$2241)*10000*0.7+(MAX($I$2231:$I$2241)-I2231)/(MAX($I$2231:$I$2241)-1)*10000*0.3,0)","v":10000},10450,"x",null,"LS 8","FX",""]
["Victor Mallick",null,null,null,"UK","PMČR 2024 - Kombi 15m",{"$f":"VLOOKUP(F2232,Soutez!A:B,2,FALSE)","v":"CZ"},{"$f":"VLOOKUP(F2232,Soutez!A:C,3,FALSE)","v":2024},2,5011,1.0449999999999999,{"$f":"ROUND(J2232/MAX($J$2231:$J$2241)*10000*0.7+(MAX($I$2231:$I$2241)-I2232)/(MAX($I$2231:$I$2241)-1)*10000*0.3,0)","v":9649},10083,null,null,"LS 8","ZZ","Není v databázi"]
["Miloslav Cink",1987,"M","Letkov","CZ/C1","PMČR 2024 - Kombi 15m",{"$f":"VLOOKUP(F2233,Soutez!A:B,2,FALSE)","v":"CZ"},{"$f":"VLOOKUP(F2233,Soutez!A:C,3,FALSE)","v":2024},3,4739,1.0449999999999999,8972,9376,"x",null,"LS 8","JB",""]
["Karel Novak",1993,"M","Mladá Boleslav","CZ/C1","PMČR 2024 - Kombi 15m",{"$f":"VLOOKUP(F2234,Soutez!A:B,2,FALSE)","v":"CZ"},{"$f":"VLOOKUP(F2234,Soutez!A:C,3,FALSE)","v":2024},4,4717,1.0449999999999999,8641,9030,null,null,"Ventus 2ax","AX",""]
["Barbora Moravcova",1994,"F","Zbraslavice","CZ/C1","PMČR 2024 - Kombi 15m",{"$f":"VLOOKUP(F2235,Soutez!A:B,2,FALSE)","v":"CZ"},{"$f":"VLOOKUP(F2235,Soutez!A:C,3,FALSE)","v":2024},5,4451,1.0449999999999999,7972,8331,"x",null,"LS 8","EU",""]
["Josef Busek",1967,"M","Hosín","CZ/C1","PMČR 2024 - Kombi 15m",{"$f":"VLOOKUP(F2236,Soutez!A:B,2,FALSE)","v":"CZ"},{"$f":"VLOOKUP(F2236,Soutez!A:C,3,FALSE)","v":2024},6,4266,1.0449999999999999,7416,7750,null,null,"Duo Discus XL","BB",""]
["Jana Treslova",1963,"F","Raná","CZ/C2","PMČR 2024 - Kombi 15m",{"$f":"VLOOKUP(F2237,Soutez!A:B,2,FALSE)","v":"CZ"},{"$f":"VLOOKUP(F2237,Soutez!A:C,3,FALSE)","v":2024},7,4153,1.0449999999999999,6959,7272,"x",null,"LS 8","W8",""]
["Vladimir Foltin",null,null,"Nitra","SK","PMČR 2024 - Kombi 15m",{"$f":"VLOOKUP(F2238,Soutez!A:B,2,FALSE)","v":"CZ"},{"$f":"VLOOKUP(F2238,Soutez!A:C,3,FALSE)","v":2024},8,4002,1.0449999999999999,{"$f":"ROUND(J2238/MAX($J$2231:$J$2241)*10000*0.7+(MAX($I$2231:$I$2241)-I2238)/(MAX($I$2231:$I$2241)-1)*10000*0.3,0)","v":6450},6740,null,null,"JS3 JET 15m",3,"Není v databázi"]
["Petr Koutny",1971,"M","Křižanov","CZ/M","PMČR 2024 - Kombi 15m",{"$f":"VLOOKUP(F2239,Soutez!A:B,2,FALSE)","v":"CZ"},{"$f":"VLOOKUP(F2239,Soutez!A:C,3,FALSE)","v":2024},9,3583,1.0449999999999999,5569,5820,null,null,"LS 8",18,{"$f":"IF(ISERROR(VLOOKUP(A2239,Pilot,6,0)),\"Není v databázi\",VLOOKUP(A2239,Pilot,6,0))","v":""}]
["Pavel Louzecky",1957,"M","Přibyslav","CZ/C2","PMČR 2024 - Kombi 15m",{"$f":"VLOOKUP(F2240,Soutez!A:B,2,FALSE)","v":"CZ"},{"$f":"VLOOKUP(F2240,Soutez!A:C,3,FALSE)","v":2024},10,3532,1.0449999999999999,5198,5432,null,null,"JS3 15m","XM",""]
["Neil McLaughlin",null,null,null,"UK","PMČR 2024 - Kombi 15m",{"$f":"VLOOKUP(F2241,Soutez!A:B,2,FALSE)","v":"CZ"},{"$f":"VLOOKUP(F2241,Soutez!A:C,3,FALSE)","v":2024},11,3066,1.0449999999999999,4252,4443,null,null,"Ventus 2a WL",85,"Není v databázi"]
["Jiri Kusbach",{"$f":"VLOOKUP(A2242,Pilot,2,0)","v":1959},{"$f":"VLOOKUP(A2242,Pilot,5,0)","v":"M"},{"$f":"VLOOKUP(A2242,Pilot,3,0)","v":"Luhačovice"},{"$f":"VLOOKUP(A2242,Pilot,4,0)","v":"CZ/M"},"PMČR 2024 - Kombi Open",{"$f":"VLOOKUP(F2242,Soutez!A:B,2,FALSE)","v":"CZ"},{"$f":"VLOOKUP(F2242,Soutez!A:C,3,FALSE)","v":2024},1,4884,1.0900000000000001,{"$f":"ROUND(J2242/MAX($J$2242:$J$2262)*10000*0.7+(MAX($I$2242:$I$2262)-I2242)/(MAX($I$2242:$I$2262)-1)*10000*0.3,0)","v":10000},10900,"x",null,"Diana 3 FES","B",""]
["Radek Krejcirik",{"$f":"VLOOKUP(A2243,Pilot,2,0)","v":1991},{"$f":"VLOOKUP(A2243,Pilot,5,0)","v":"M"},{"$f":"VLOOKUP(A2243,Pilot,3,0)","v":"Hranice"},{"$f":"VLOOKUP(A2243,Pilot,4,0)","v":"CZ/M"},"PMČR 2024 - Kombi Open",{"$f":"VLOOKUP(F2243,Soutez!A:B,2,FALSE)","v":"CZ"},{"$f":"VLOOKUP(F2243,Soutez!A:C,3,FALSE)","v":2024},2,4757,1.0900000000000001,{"$f":"ROUND(J2243/MAX($J$2242:$J$2262)*10000*0.7+(MAX($I$2242:$I$2262)-I2243)/(MAX($I$2242:$I$2262)-1)*10000*0.3,0)","v":9668},10538,"x",null,"JS3 18m","QX",""]
["Michaela Rendlova",2004,"F","Toužim","CZ/C1","PMČR 2024 - Kombi Open",{"$f":"VLOOKUP(F2244,Soutez!A:B,2,FALSE)","v":"CZ"},{"$f":"VLOOKUP(F2244,Soutez!A:C,3,FALSE)","v":2024},3,4611,1.0900000000000001,9309,10147,"x","x","AS 33 ES 18m","EA","Junior v roce 2025"]
["Petr Tichy",1973,"M","Zbraslavice","CZ/C1","PMČR 2024 - Kombi Open",{"$f":"VLOOKUP(F2245,Soutez!A:B,2,FALSE)","v":"CZ"},{"$f":"VLOOKUP(F2245,Soutez!A:C,3,FALSE)","v":2024},4,4569,1.0900000000000001,9099,9918,"x",null,"ASG 29e 18m","NX",""]
["Alena Netusilova",1970,"F","Zbraslavice","CZ/C1","PMČR 2024 - Kombi Open",{"$f":"VLOOKUP(F2246,Soutez!A:B,2,FALSE)","v":"CZ"},{"$f":"VLOOKUP(F2246,Soutez!A:C,3,FALSE)","v":2024},5,4447,1.0900000000000001,8774,9564,"x","x","JS1 CTJ EVO 18m","JX",""]
["Radek Kucirek",1973,"M","Havlíčkův Brod","CZ/C2","PMČR 2024 - Kombi Open",{"$f":"VLOOKUP(F2247,Soutez!A:B,2,FALSE)","v":"CZ"},{"$f":"VLOOKUP(F2247,Soutez!A:C,3,FALSE)","v":2024},6,4002,1.0900000000000001,7986,8705,null,null,"JS1 C 18m","ZF",""]
["Jan Boruvka",1984,"M","Jičín","CZ/C2","PMČR 2024 - Kombi Open",{"$f":"VLOOKUP(F2248,Soutez!A:B,2,FALSE)","v":"CZ"},{"$f":"VLOOKUP(F2248,Soutez!A:C,3,FALSE)","v":2024},7,3986,1.0900000000000001,7813,8516,"x",null,"Ventus C 17.6m","EG",""]
["Ondrej Dupal",1966,"M","GAC Benešov","CZ/C1","PMČR 2024 - Kombi Open",{"$f":"VLOOKUP(F2249,Soutez!A:B,2,FALSE)","v":"CZ"},{"$f":"VLOOKUP(F2249,Soutez!A:C,3,FALSE)","v":2024},8,3920,1.0900000000000001,7568,8249,null,null,"ASG 29e 18m","GO",""]
["Ivan Novak",1962,"M","Mladá Boleslav","CZ/C1","PMČR 2024 - Kombi Open",{"$f":"VLOOKUP(F2250,Soutez!A:B,2,FALSE)","v":"CZ"},{"$f":"VLOOKUP(F2250,Soutez!A:C,3,FALSE)","v":2024},9,3887,1.0900000000000001,7371,8034,null,null,"ASG 29e 18m","QZ",""]
["David Mach",1994,"M","Hronov","CZ/C2","PMČR 2024 - Kombi Open",{"$f":"VLOOKUP(F2251,Soutez!A:B,2,FALSE)","v":"CZ"},{"$f":"VLOOKUP(F2251,Soutez!A:C,3,FALSE)","v":2024},10,3875,1.0900000000000001,{"$f":"ROUND(J2251/MAX($J$2242:$J$2262)*10000*0.7+(MAX($I$2242:$I$2262)-I2251)/(MAX($I$2242:$I$2262)-1)*10000*0.3,0)","v":7204},7852,null,null,"ASG 29 18m","XZ",""]
["Pavel Jiranek",1993,"M","Toužim","CZ/C1","PMČR 2024 - Kombi Open",{"$f":"VLOOKUP(F2252,Soutez!A:B,2,FALSE)","v":"CZ"},{"$f":"VLOOKUP(F2252,Soutez!A:C,3,FALSE)","v":2024},11,3857,1.0900000000000001,7028,7661,null,null,"Ventus C 17.6m","CS",""]
["Martin Hrivna",1978,"M","Zbraslavice","CZ/C1","PMČR 2024 - Kombi Open",{"$f":"VLOOKUP(F2253,Soutez!A:B,2,FALSE)","v":"CZ"},{"$f":"VLOOKUP(F2253,Soutez!A:C,3,FALSE)","v":2024},12,3747,1.0900000000000001,6720,7325,null,null,"JS3 18m","ZE",""]
["Jiri Fousek",1990,"M","Raná","CZ/C2","PMČR 2024 - Kombi Open",{"$f":"VLOOKUP(F2254,Soutez!A:B,2,FALSE)","v":"CZ"},{"$f":"VLOOKUP(F2254,Soutez!A:C,3,FALSE)","v":2024},13,3726,1.0900000000000001,6540,7129,"x",null,"Ventus C 17.6m","WP",""]
["Tomas Rendla",1973,"M","Zbraslavice","CZ/C1","PMČR 2024 - Kombi Open",{"$f":"VLOOKUP(F2255,Soutez!A:B,2,FALSE)","v":"CZ"},{"$f":"VLOOKUP(F2255,Soutez!A:C,3,FALSE)","v":2024},14,3647,1.0900000000000001,6277,6842,null,null,"AS 33 ES 18m","EZ",""]
["Petr Krejcirik",1960,"M","Hranice","CZ/M","PMČR 2024 - Kombi Open",{"$f":"VLOOKUP(F2256,Soutez!A:B,2,FALSE)","v":"CZ"},{"$f":"VLOOKUP(F2256,Soutez!A:C,3,FALSE)","v":2024},15,3608,1.0900000000000001,6071,6617,null,null,"AS 33 18m",12,""]
["Karel Benisek 76",1976,"M","Toužim","CZ/C1","PMČR 2024 - Kombi Open",{"$f":"VLOOKUP(F2257,Soutez!A:B,2,FALSE)","v":"CZ"},{"$f":"VLOOKUP(F2257,Soutez!A:C,3,FALSE)","v":2024},16,2917,1.0900000000000001,4931,5375,"x",null,"Arcus M20 850kg","EY",""]
["Zdislaw Bednarczuk",null,null,null,"PL","PMČR 2024 - Kombi Open",{"$f":"VLOOKUP(F2258,Soutez!A:B,2,FALSE)","v":"CZ"},{"$f":"VLOOKUP(F2258,Soutez!A:C,3,FALSE)","v":2024},17,2894,1.0900000000000001,4748,5175,null,null,"JS3 JET 18m","ZB","Není v databázi"]
["Michal Cupak",1991,"M","Medlánky","CZ/M","PMČR 2024 - Kombi Open",{"$f":"VLOOKUP(F2259,Soutez!A:B,2,FALSE)","v":"CZ"},{"$f":"VLOOKUP(F2259,Soutez!A:C,3,FALSE)","v":2024},18,2663,{"$f":"VLOOKUP(F2259,Soutez,12,0)","v":1.0900000000000001},4267,4651,null,null,"Ventus C 17.6m","PD",""]
["Radovan Otto",1968,"M","Ústí nad Labem","CZ/C2","PMČR 2024 - Kombi Open",{"$f":"VLOOKUP(F2260,Soutez!A:B,2,FALSE)","v":"CZ"},{"$f":"VLOOKUP(F2260,Soutez!A:C,3,FALSE)","v":2024},19,2530,1.0900000000000001,3926,4279,"x",null,"HpH 304 MS 18m","XX",""]
["Petr Bartak",1984,"M","Letkov","CZ/C1","PMČR 2024 - Kombi Open",{"$f":"VLOOKUP(F2261,Soutez!A:B,2,FALSE)","v":"CZ"},{"$f":"VLOOKUP(F2261,Soutez!A:C,3,FALSE)","v":2024},20,2445,1.0900000000000001,3654,3983,null,null,"JS3 RES 18m","BS",""]
["Anna Piotrowska",null,null,null,"PL","PMČR 2024 - Kombi Open",{"$f":"VLOOKUP(F2262,Soutez!A:B,2,FALSE)","v":"CZ"},{"$f":"VLOOKUP(F2262,Soutez!A:C,3,FALSE)","v":2024},21,2366,1.0900000000000001,3391,3696,null,null,"ASG 29e 18m","HE","Není v databázi"]
["Jan Hruska",{"$f":"VLOOKUP(A2263,Pilot,2,0)","v":1988},{"$f":"VLOOKUP(A2263,Pilot,5,0)","v":"M"},{"$f":"VLOOKUP(A2263,Pilot,3,0)","v":"Tábor"},{"$f":"VLOOKUP(A2263,Pilot,4,0)","v":"CZ/C1"},"PMRg 2024 - Klub",{"$f":"VLOOKUP(F2263,Soutez!A:B,2,FALSE)","v":"CZ"},{"$f":"VLOOKUP(F2263,Soutez!A:C,3,FALSE)","v":2024},1,1293,0.88,{"$f":"ROUND(J2263/MAX($J$2263:$J$2289)*10000*0.7+(MAX($I$2263:$I$2289)-I2263)/(MAX($I$2263:$I$2289)-1)*10000*0.3,0)","v":10000},8800,"x",null,"ASW 15 B","LF",""]
["Lukas Capek",{"$f":"VLOOKUP(A2264,Pilot,2,0)","v":1992},{"$f":"VLOOKUP(A2264,Pilot,5,0)","v":"M"},{"$f":"VLOOKUP(A2264,Pilot,3,0)","v":"Letňany"},{"$f":"VLOOKUP(A2264,Pilot,4,0)","v":"CZ/C1"},"PMRg 2024 - Klub",{"$f":"VLOOKUP(F2264,Soutez!A:B,2,FALSE)","v":"CZ"},{"$f":"VLOOKUP(F2264,Soutez!A:C,3,FALSE)","v":2024},2,1292,0.88,{"$f":"ROUND(J2264/MAX($J$2263:$J$2289)*10000*0.7+(MAX($I$2263:$I$2289)-I2264)/(MAX($I$2263:$I$2289)-1)*10000*0.3,0)","v":9858},8675,"x",null,"Mosquito","LC",""]
["Leos Strnadek",1983,"M","Hodkovice","CZ/C2","PMRg 2024 - Klub",{"$f":"VLOOKUP(F2265,Soutez!A:B,2,FALSE)","v":"CZ"},{"$f":"VLOOKUP(F2265,Soutez!A:C,3,FALSE)","v":2024},3,1259,0.88,9543,8398,"x",null,"ASW 19 B","XP",""]
["Pavlina Horackova",1965,"F","Šumperk","CZ/M","PMRg 2024 - Klub",{"$f":"VLOOKUP(F2266,Soutez!A:B,2,FALSE)","v":"CZ"},{"$f":"VLOOKUP(F2266,Soutez!A:C,3,FALSE)","v":2024},3,1259,0.88,9543,8398,"x","x","SZD-48 Jantar Std. 2","SU",""]
["Michal Kares",1987,"M","Ústí nad Orlicí","CZ/C2","PMRg 2024 - Klub",{"$f":"VLOOKUP(F2267,Soutez!A:B,2,FALSE)","v":"CZ"},{"$f":"VLOOKUP(F2267,Soutez!A:C,3,FALSE)","v":2024},5,1103,0.88,8426,7415,"x",null,"Std. Cirrus","J3",""]
["Jiri Maier 66",1966,"M","Raná","CZ/C2","PMRg 2024 - Klub",{"$f":"VLOOKUP(F2268,Soutez!A:B,2,FALSE)","v":"CZ"},{"$f":"VLOOKUP(F2268,Soutez!A:C,3,FALSE)","v":2024},6,1096,0.88,8252,7262,"x",null,"ASW 24 E","JM",""]
["Katerina Vojtova",1983,"F","Slaný","CZ/C1","PMRg 2024 - Klub",{"$f":"VLOOKUP(F2269,Soutez!A:B,2,FALSE)","v":"CZ"},{"$f":"VLOOKUP(F2269,Soutez!A:C,3,FALSE)","v":2024},7,1070,0.88,7975,7018,"x","x","Std. Cirrus","KAC",""]
["Jiri Hula",1973,"M","Slaný","CZ/C1","PMRg 2024 - Klub",{"$f":"VLOOKUP(F2270,Soutez!A:B,2,FALSE)","v":"CZ"},{"$f":"VLOOKUP(F2270,Soutez!A:C,3,FALSE)","v":2024},8,1062,0.88,7795,6860,"x",null,"Std. Cirrus WL","IT",""]
["Zdenek Balcarek",1967,"M","Kroměříž","CZ/M","PMRg 2024 - Klub",{"$f":"VLOOKUP(F2271,Soutez!A:B,2,FALSE)","v":"CZ"},{"$f":"VLOOKUP(F2271,Soutez!A:C,3,FALSE)","v":2024},9,1035,0.88,7512,6611,null,null,"Discus b","AI",""]
["Jan Smaha",1958,"M","Česká Lípa","CZ/C2","PMRg 2024 - Klub",{"$f":"VLOOKUP(F2272,Soutez!A:B,2,FALSE)","v":"CZ"},{"$f":"VLOOKUP(F2272,Soutez!A:C,3,FALSE)","v":2024},10,1000,0.88,{"$f":"ROUND(J2272/MAX($J$2263:$J$2289)*10000*0.7+(MAX($I$2263:$I$2289)-I2272)/(MAX($I$2263:$I$2289)-1)*10000*0.3,0)","v":7186},6324,null,null,"ASW 15 B","CW",""]
["Stanislav Poslusny",1965,"M","GAC Benešov","CZ/C1","PMRg 2024 - Klub",{"$f":"VLOOKUP(F2273,Soutez!A:B,2,FALSE)","v":"CZ"},{"$f":"VLOOKUP(F2273,Soutez!A:C,3,FALSE)","v":2024},11,974,0.88,6909,6080,"x",null,"Std. Cirrus","SP",""]
["Vaclav Zak",1962,"M","GAC Benešov","CZ/C1","PMRg 2024 - Klub",{"$f":"VLOOKUP(F2274,Soutez!A:B,2,FALSE)","v":"CZ"},{"$f":"VLOOKUP(F2274,Soutez!A:C,3,FALSE)","v":2024},12,944,0.88,6611,5818,"x",null,"Std. Cirrus","TSI",""]
["Matej Krestes",1986,"M","Slaný","CZ/C1","PMRg 2024 - Klub",{"$f":"VLOOKUP(F2275,Soutez!A:B,2,FALSE)","v":"CZ"},{"$f":"VLOOKUP(F2275,Soutez!A:C,3,FALSE)","v":2024},13,912,0.88,6301,5545,"x",null,"Std. Cirrus","CON",""]
["Matej Bartos",1998,"M","Hodkovice","CZ/C2","PMRg 2024 - Klub",{"$f":"VLOOKUP(F2276,Soutez!A:B,2,FALSE)","v":"CZ"},{"$f":"VLOOKUP(F2276,Soutez!A:C,3,FALSE)","v":2024},14,832,0.88,5732,{"$f":"ROUND(K2276*L2276,0)","v":5044},"x",null,"ASW 15 B","BF",""]
["Jiri Krofta",1988,"M","Hosín","CZ/C1","PMRg 2024 - Klub",{"$f":"VLOOKUP(F2277,Soutez!A:B,2,FALSE)","v":"CZ"},{"$f":"VLOOKUP(F2277,Soutez!A:C,3,FALSE)","v":2024},15,759,0.88,5200,4576,"x",null,"Std. Cirrus","UB",""]
["David Riha",1983,"M","Vlašim","CZ/C1","PMRg 2024 - Klub",{"$f":"VLOOKUP(F2278,Soutez!A:B,2,FALSE)","v":"CZ"},{"$f":"VLOOKUP(F2278,Soutez!A:C,3,FALSE)","v":2024},16,744,0.88,4982,4384,"x",null,"ASW 15 B","XE",""]
["Premysl Muzik",1990,"M","Tábor","CZ/C1","PMRg 2024 - Klub",{"$f":"VLOOKUP(F2279,Soutez!A:B,2,FALSE)","v":"CZ"},{"$f":"VLOOKUP(F2279,Soutez!A:C,3,FALSE)","v":2024},17,737,0.88,4808,4231,"x",null,"Std. Cirrus","IMI",""]
["Lukas Maly",1998,"M","Vysoké Mýto","CZ/C2","PMRg 2024 - Klub",{"$f":"VLOOKUP(F2280,Soutez!A:B,2,FALSE)","v":"CZ"},{"$f":"VLOOKUP(F2280,Soutez!A:C,3,FALSE)","v":2024},18,684,0.88,4385,3859,"x",null,"Discus CS",65,""]
["Martin Kriz",1968,"M","Přibyslav","CZ/C2","PMRg 2024 - Klub",{"$f":"VLOOKUP(F2281,Soutez!A:B,2,FALSE)","v":"CZ"},{"$f":"VLOOKUP(F2281,Soutez!A:C,3,FALSE)","v":2024},19,628,0.88,3945,3472,null,null,"ASW 20",67,""]
["Michal Fortik",1976,"M","Točná","CZ/C1","PMRg 2024 - Klub",{"$f":"VLOOKUP(F2282,Soutez!A:B,2,FALSE)","v":"CZ"},{"$f":"VLOOKUP(F2282,Soutez!A:C,3,FALSE)","v":2024},20,618,0.88,3755,3304,"x",null,"ASW 15 B","B",""]
["Pavel Koudelka",1973,"M","Křižanov","CZ/M","PMRg 2024 - Klub",{"$f":"VLOOKUP(F2283,Soutez!A:B,2,FALSE)","v":"CZ"},{"$f":"VLOOKUP(F2283,Soutez!A:C,3,FALSE)","v":2024},21,259,0.88,1675,1474,"x",null,"Std. Cirrus","ZL",""]
["Jan Zahradka",1981,"M","Hodkovice","CZ/C2","PMRg 2024 - Klub",{"$f":"VLOOKUP(F2284,Soutez!A:B,2,FALSE)","v":"CZ"},{"$f":"VLOOKUP(F2284,Soutez!A:C,3,FALSE)","v":2024},22,156,0.88,981,863,"x",null,"Std. Cirrus","AR",""]
["Petr Weinhauer",1977,"M","Tábor","CZ/C1","PMRg 2024 - Klub",{"$f":"VLOOKUP(F2285,Soutez!A:B,2,FALSE)","v":"CZ"},{"$f":"VLOOKUP(F2285,Soutez!A:C,3,FALSE)","v":2024},23,0,0.88,0,0,null,null,"VSO-10","F3",""]
["Michal Vranek",1993,"M","Hosín","CZ/C1","PMRg 2024 - Klub",{"$f":"VLOOKUP(F2286,Soutez!A:B,2,FALSE)","v":"CZ"},{"$f":"VLOOKUP(F2286,Soutez!A:C,3,FALSE)","v":2024},23,0,0.88,0,0,null,null,"DG 100","8W",""]
["Eva Klapkova",1993,"F","Raná","CZ/C2","PMRg 2024 - Klub",{"$f":"VLOOKUP(F2287,Soutez!A:B,2,FALSE)","v":"CZ"},{"$f":"VLOOKUP(F2287,Soutez!A:C,3,FALSE)","v":2024},23,0,0.88,0,0,null,null,"ASW 15","TZ",""]
["Jan Louda",1986,"M","Mladá Boleslav","CZ/C1","PMRg 2024 - Klub",{"$f":"VLOOKUP(F2288,Soutez!A:B,2,FALSE)","v":"CZ"},{"$f":"VLOOKUP(F2288,Soutez!A:C,3,FALSE)","v":2024},23,0,0.88,0,0,null,null,"ASW 19 B","XS",""]
["Daniel Devecka",1981,"M","Vlašim","CZ/C1","PMRg 2024 - Klub",{"$f":"VLOOKUP(F2289,Soutez!A:B,2,FALSE)","v":"CZ"},{"$f":"VLOOKUP(F2289,Soutez!A:C,3,FALSE)","v":2024},23,0,0.88,0,0,null,null,"LS 3a","2G",""]
["Petr Panek",{"$f":"VLOOKUP(A2290,Pilot,2,0)","v":1975},{"$f":"VLOOKUP(A2290,Pilot,5,0)","v":"M"},{"$f":"VLOOKUP(A2290,Pilot,3,0)","v":"Dvůr Králové"},{"$f":"VLOOKUP(A2290,Pilot,4,0)","v":"CZ/C2"},"PMRg 2024 - Kombi",{"$f":"VLOOKUP(F2290,Soutez!A:B,2,FALSE)","v":"CZ"},{"$f":"VLOOKUP(F2290,Soutez!A:C,3,FALSE)","v":2024},1,1018,0.9,{"$f":"ROUND(J2290/MAX($J$2290:$J$2301)*10000*0.7+(MAX($I$2290:$I$2301)-I2290)/(MAX($I$2290:$I$2301)-1)*10000*0.3,0)","v":10000},9000,"x",null,"JS-1b EVO JET","IGC",""]
["Radek Zima 78",{"$f":"VLOOKUP(A2291,Pilot,2,0)","v":1978},{"$f":"VLOOKUP(A2291,Pilot,5,0)","v":"M"},{"$f":"VLOOKUP(A2291,Pilot,3,0)","v":"Hodkovice"},{"$f":"VLOOKUP(A2291,Pilot,4,0)","v":"CZ/C2"},"PMRg 2024 - Kombi",{"$f":"VLOOKUP(F2291,Soutez!A:B,2,FALSE)","v":"CZ"},{"$f":"VLOOKUP(F2291,Soutez!A:C,3,FALSE)","v":2024},2,1004,0.9,{"$f":"ROUND(J2291/MAX($J$2290:$J$2301)*10000*0.7+(MAX($I$2290:$I$2301)-I2291)/(MAX($I$2290:$I$2301)-1)*10000*0.3,0)","v":9604},8644,"x",null,"ASG 29 E 18m","XZ",""]
["Michaela Rendlova",2004,"F","Toužim","CZ/C1","PMRg 2024 - Kombi",{"$f":"VLOOKUP(F2292,Soutez!A:B,2,FALSE)","v":"CZ"},{"$f":"VLOOKUP(F2292,Soutez!A:C,3,FALSE)","v":2024},3,916,0.9,8699,7829,null,null,"LS 8","W8","Junior v roce 2025"]
["Jaromir Macoun",1999,"M","Jičín","CZ/C2","PMRg 2024 - Kombi",{"$f":"VLOOKUP(F2293,Soutez!A:B,2,FALSE)","v":"CZ"},{"$f":"VLOOKUP(F2293,Soutez!A:C,3,FALSE)","v":2024},4,832,0.9,7821,7039,null,null,"LS 8","EU",""]
["Lukas Kriz",2003,"M","Křižanov","CZ/M","PMRg 2024 - Kombi",{"$f":"VLOOKUP(F2294,Soutez!A:B,2,FALSE)","v":"CZ"},{"$f":"VLOOKUP(F2294,Soutez!A:C,3,FALSE)","v":2024},5,820,0.9,7439,6695,null,null,"LS 8","AU","Junior v roce 2025"]
["Jaroslav Potmesil",1964,"M","Zbraslavice","CZ/C1","PMRg 2024 - Kombi",{"$f":"VLOOKUP(F2295,Soutez!A:B,2,FALSE)","v":"CZ"},{"$f":"VLOOKUP(F2295,Soutez!A:C,3,FALSE)","v":2024},6,626,0.9,5805,5225,"x",null,"TwinShark","TS",""]
["Matej Plch",1987,"M","Letkov","CZ/C1","PMRg 2024 - Kombi",{"$f":"VLOOKUP(F2296,Soutez!A:B,2,FALSE)","v":"CZ"},{"$f":"VLOOKUP(F2296,Soutez!A:C,3,FALSE)","v":2024},7,588,0.9,5243,4719,"x",null,"LS 8 18m","EJ",""]
["Pavel Svetlik",1968,"M","Kunovice","CZ/M","PMRg 2024 - Kombi",{"$f":"VLOOKUP(F2297,Soutez!A:B,2,FALSE)","v":"CZ"},{"$f":"VLOOKUP(F2297,Soutez!A:C,3,FALSE)","v":2024},8,581,0.9,4895,4406,"x",null,"DG 500 22m","YA",""]
["Antonin Kutalek",1943,"M","Zábřeh","CZ/M","PMRg 2024 - Kombi",{"$f":"VLOOKUP(F2298,Soutez!A:B,2,FALSE)","v":"CZ"},{"$f":"VLOOKUP(F2298,Soutez!A:C,3,FALSE)","v":2024},9,378,0.9,3199,2879,null,null,"LAK-17A T 15m","GL",""]
["Michael Fik",1972,"M","Strakonice","CZ/C1","PMRg 2024 - Kombi",{"$f":"VLOOKUP(F2299,Soutez!A:B,2,FALSE)","v":"CZ"},{"$f":"VLOOKUP(F2299,Soutez!A:C,3,FALSE)","v":2024},10,259,0.9,2081,1873,"x",null,"Duo Discus","DD",""]
["Zdenek Buben",1978,"M","Hodkovice","CZ/C2","PMRg 2024 - Kombi",{"$f":"VLOOKUP(F2300,Soutez!A:B,2,FALSE)","v":"CZ"},{"$f":"VLOOKUP(F2300,Soutez!A:C,3,FALSE)","v":2024},11,0,0.9,0,0,null,null,"ASW 27 B WL","MF",{"$f":"IF(ISERROR(VLOOKUP(A2300,Pilot,6,0)),\"Není v databázi\",VLOOKUP(A2300,Pilot,6,0))","v":""}]
["Ondrej Dvorak 87",1987,"M","Raná","CZ/C2","PMRg 2024 - Kombi",{"$f":"VLOOKUP(F2301,Soutez!A:B,2,FALSE)","v":"CZ"},{"$f":"VLOOKUP(F2301,Soutez!A:C,3,FALSE)","v":2024},11,0,0.9,{"$f":"ROUND(J2301/MAX($J$2290:$J$2301)*10000*0.7+(MAX($I$2290:$I$2301)-I2301)/(MAX($I$2290:$I$2301)-1)*10000*0.3,0)","v":0},0,null,null,"Ventus a 15 WL","FW",""]
["Michaela Krizova",{"$f":"VLOOKUP(A2302,Pilot,2,0)","v":2001},{"$f":"VLOOKUP(A2302,Pilot,5,0)","v":"F"},{"$f":"VLOOKUP(A2302,Pilot,3,0)","v":"Přibyslav"},{"$f":"VLOOKUP(A2302,Pilot,4,0)","v":"CZ/C2"},"PMČRj 2024 - Klub",{"$f":"VLOOKUP(F2302,Soutez!A:B,2,FALSE)","v":"CZ"},{"$f":"VLOOKUP(F2302,Soutez!A:C,3,FALSE)","v":2024},1,1350,0.91,{"$f":"ROUND(J2302/MAX($J$2302:$J$2336)*10000*0.7+(MAX($I$2302:$I$2336)-I2302)/(MAX($I$2302:$I$2336)-1)*10000*0.3,0)","v":10000},9100,"x","x","LS 4","6L","Junior v roce 2025"]
["Tereza Koubkova",{"$f":"VLOOKUP(A2303,Pilot,2,0)","v":1999},{"$f":"VLOOKUP(A2303,Pilot,5,0)","v":"F"},{"$f":"VLOOKUP(A2303,Pilot,3,0)","v":"Vysoké Mýto"},{"$f":"VLOOKUP(A2303,Pilot,4,0)","v":"CZ/C2"},"PMČRj 2024 - Klub",{"$f":"VLOOKUP(F2303,Soutez!A:B,2,FALSE)","v":"CZ"},{"$f":"VLOOKUP(F2303,Soutez!A:C,3,FALSE)","v":2024},2,1311,0.91,{"$f":"ROUND(J2303/MAX($J$2302:$J$2336)*10000*0.7+(MAX($I$2302:$I$2336)-I2303)/(MAX($I$2302:$I$2336)-1)*10000*0.3,0)","v":9710},8836,"x","x","LS 4","IX",""]
["Vit Morkovsky",2000,"M","Polička","CZ/C2","PMČRj 2024 - Klub",{"$f":"VLOOKUP(F2304,Soutez!A:B,2,FALSE)","v":"CZ"},{"$f":"VLOOKUP(F2304,Soutez!A:C,3,FALSE)","v":2024},3,1271,0.91,9414,8567,"x",null,"ASW 24 WL","SM","Junior v roce 2025"]
["Alex Gulich",2005,"M","Slaný","CZ/C1","PMČRj 2024 - Klub",{"$f":"VLOOKUP(F2305,Soutez!A:B,2,FALSE)","v":"CZ"},{"$f":"VLOOKUP(F2305,Soutez!A:C,3,FALSE)","v":2024},4,1219,0.91,9056,8241,"x",null,"std. Cirrus","TI","Junior v roce 2025"]
["Jan Beran",1999,"M","Kladno","CZ/C1","PMČRj 2024 - Klub",{"$f":"VLOOKUP(F2306,Soutez!A:B,2,FALSE)","v":"CZ"},{"$f":"VLOOKUP(F2306,Soutez!A:C,3,FALSE)","v":2024},5,1182,0.91,8776,7986,"x",null,"ASW 19 B","HB",""]
["Vit Tvrdik",2000,"M","Letňany","CZ/C1","PMČRj 2024 - Klub",{"$f":"VLOOKUP(F2307,Soutez!A:B,2,FALSE)","v":"CZ"},{"$f":"VLOOKUP(F2307,Soutez!A:C,3,FALSE)","v":2024},6,1148,0.91,8511,7745,"x",null,"ASW 19 B","KZ","Junior v roce 2025"]
["Agathe Moro",null,null,"Les ailes du Maine planeur","FR","PMČRj 2024 - Klub",{"$f":"VLOOKUP(F2308,Soutez!A:B,2,FALSE)","v":"CZ"},{"$f":"VLOOKUP(F2308,Soutez!A:C,3,FALSE)","v":2024},7,1141,0.91,8387,7632,null,null,"C101A","EJ","Není v databázi"]
["Stepan Bartos",{"$f":"VLOOKUP(A2309,Pilot,2,0)","v":2004},{"$f":"VLOOKUP(A2309,Pilot,5,0)","v":"M"},{"$f":"VLOOKUP(A2309,Pilot,3,0)","v":"Kolín"},{"$f":"VLOOKUP(A2309,Pilot,4,0)","v":"CZ/C1"},"PMČRj 2024 - Klub",{"$f":"VLOOKUP(F2309,Soutez!A:B,2,FALSE)","v":"CZ"},{"$f":"VLOOKUP(F2309,Soutez!A:C,3,FALSE)","v":2024},8,1105,0.91,8112,7382,"x",null,"Discus b WL","LD","Junior v roce 2025"]
["Jan Stastny",{"$f":"VLOOKUP(A2310,Pilot,2,0)","v":2003},{"$f":"VLOOKUP(A2310,Pilot,5,0)","v":"M"},{"$f":"VLOOKUP(A2310,Pilot,3,0)","v":"Medlánky"},{"$f":"VLOOKUP(A2310,Pilot,4,0)","v":"CZ/M"},"PMČRj 2024 - Klub",{"$f":"VLOOKUP(F2310,Soutez!A:B,2,FALSE)","v":"CZ"},{"$f":"VLOOKUP(F2310,Soutez!A:C,3,FALSE)","v":2024},9,1097,0.91,7982,7264,null,null,"ASW 20","CXI","Junior v roce 2025"]
["Tibor Hezina",2002,"M","Křižanov","CZ/M","PMČRj 2024 - Klub",{"$f":"VLOOKUP(F2311,Soutez!A:B,2,FALSE)","v":"CZ"},{"$f":"VLOOKUP(F2311,Soutez!A:C,3,FALSE)","v":2024},10,1068,0.91,7744,7047,"x",null,"Std. Cirrus WL","IJ","Junior v roce 2025"]
["Tomas Hynek",2002,"M","Dvůr Králové","CZ/C2","PMČRj 2024 - Klub",{"$f":"VLOOKUP(F2312,Soutez!A:B,2,FALSE)","v":"CZ"},{"$f":"VLOOKUP(F2312,Soutez!A:C,3,FALSE)","v":2024},11,1052,0.91,7572,6891,null,null,"ASW 20 C","VW","Junior v roce 2025"]
["Eliska Kudejova",2006,"F","Strakonice","CZ/C1","PMČRj 2024 - Klub",{"$f":"VLOOKUP(F2313,Soutez!A:B,2,FALSE)","v":"CZ"},{"$f":"VLOOKUP(F2313,Soutez!A:C,3,FALSE)","v":2024},12,1035,0.91,7396,6730,"x","x","DG 100G","JL","Junior v roce 2025"]
["Vladimir Hammer",2000,"M","Letkov","CZ/C1","PMČRj 2024 - Klub",{"$f":"VLOOKUP(F2314,Soutez!A:B,2,FALSE)","v":"CZ"},{"$f":"VLOOKUP(F2314,Soutez!A:C,3,FALSE)","v":2024},13,1020,0.91,7230,6579,null,null,"ASW 20","A3","Junior v roce 2025"]
["Martin Stastny",2005,"M","Medlánky","CZ/M","PMČRj 2024 - Klub",{"$f":"VLOOKUP(F2315,Soutez!A:B,2,FALSE)","v":"CZ"},{"$f":"VLOOKUP(F2315,Soutez!A:C,3,FALSE)","v":2024},14,1012,0.91,7100,6461,"x",null,"Std. Cirrus WL","CX","Junior v roce 2025"]
["Filip Mrstny",2006,"M","Beroun","CZ/C1","PMČRj 2024 - Klub",{"$f":"VLOOKUP(F2316,Soutez!A:B,2,FALSE)","v":"CZ"},{"$f":"VLOOKUP(F2316,Soutez!A:C,3,FALSE)","v":2024},15,978,0.91,6836,6221,"x",null,"Std. Cirrus",57,"Junior v roce 2025"]
["Ivan Morkovsky",2008,"M","Polička","CZ/C2","PMČRj 2024 - Klub",{"$f":"VLOOKUP(F2317,Soutez!A:B,2,FALSE)","v":"CZ"},{"$f":"VLOOKUP(F2317,Soutez!A:C,3,FALSE)","v":2024},16,972,0.91,6716,6112,"x",null,"ASW 15 B","BE","Junior v roce 2025"]
["Stepan Filakovsky",2005,"M","Medlánky","CZ/M","PMČRj 2024 - Klub",{"$f":"VLOOKUP(F2318,Soutez!A:B,2,FALSE)","v":"CZ"},{"$f":"VLOOKUP(F2318,Soutez!A:C,3,FALSE)","v":2024},17,941,0.91,6467,5885,"x",null,"LS 1-F","FD","Junior v roce 2025"]
["Vojtech Vach 03",2003,"M","Vrchlabí","CZ/C2","PMČRj 2024 - Klub",{"$f":"VLOOKUP(F2319,Soutez!A:B,2,FALSE)","v":"CZ"},{"$f":"VLOOKUP(F2319,Soutez!A:C,3,FALSE)","v":2024},18,903,0.91,6182,5626,null,null,"Std. Cirrus","UY","Junior v roce 2025"]
["Marek Novotny",2004,"M","Kladno","CZ/C1","PMČRj 2024 - Klub",{"$f":"VLOOKUP(F2320,Soutez!A:B,2,FALSE)","v":"CZ"},{"$f":"VLOOKUP(F2320,Soutez!A:C,3,FALSE)","v":2024},19,898,{"$f":"VLOOKUP(F2320,Soutez,12,0)","v":0.91},6068,5522,"x",null,"ASW 15 B","LK","Junior v roce 2025"]
["Katerina Vancurova",2002,"F","Hranice","CZ/M","PMČRj 2024 - Klub",{"$f":"VLOOKUP(F2321,Soutez!A:B,2,FALSE)","v":"CZ"},{"$f":"VLOOKUP(F2321,Soutez!A:C,3,FALSE)","v":2024},20,871,0.91,5840,5314,"x","x","Discus CS WL","HD","Junior v roce 2025"]
["Adam Hepal",2004,"M","Moravská Třebová","CZ/M","PMČRj 2024 - Klub",{"$f":"VLOOKUP(F2322,Soutez!A:B,2,FALSE)","v":"CZ"},{"$f":"VLOOKUP(F2322,Soutez!A:C,3,FALSE)","v":2024},21,866,0.91,5726,5211,"x",null,"ASW 19 B","NO","Junior v roce 2025"]
["Martin Neuvirt",2001,"M","Přibyslav","CZ/C2","PMČRj 2024 - Klub",{"$f":"VLOOKUP(F2323,Soutez!A:B,2,FALSE)","v":"CZ"},{"$f":"VLOOKUP(F2323,Soutez!A:C,3,FALSE)","v":2024},22,855,0.91,5580,5078,"x",null,"Std. Cirrus","2C","Junior v roce 2025"]
["Jan Svestka",2005,"M","Křižanov","CZ/M","PMČRj 2024 - Klub",{"$f":"VLOOKUP(F2324,Soutez!A:B,2,FALSE)","v":"CZ"},{"$f":"VLOOKUP(F2324,Soutez!A:C,3,FALSE)","v":2024},23,850,0.91,{"$f":"ROUND(J2324/MAX($J$2302:$J$2336)*10000*0.7+(MAX($I$2302:$I$2336)-I2324)/(MAX($I$2302:$I$2336)-1)*10000*0.3,0)","v":5466},4974,"x",null,"ASW 19 B","A1","Junior v roce 2025"]
["Michal Prochazka",2006,"M","Beroun","CZ/C1","PMČRj 2024 - Klub",{"$f":"VLOOKUP(F2325,Soutez!A:B,2,FALSE)","v":"CZ"},{"$f":"VLOOKUP(F2325,Soutez!A:C,3,FALSE)","v":2024},24,744,0.91,4828,4393,"x",null,"VSO-10","B1","Junior v roce 2025"]
["Vojtech Pavek",2000,"M","Medlánky","CZ/M","PMČRj 2024 - Klub",{"$f":"VLOOKUP(F2326,Soutez!A:B,2,FALSE)","v":"CZ"},{"$f":"VLOOKUP(F2326,Soutez!A:C,3,FALSE)","v":2024},25,742,0.91,4730,4304,"x",null,"Std. Cirrus","MP","Junior v roce 2025"]
["Ondrej Hurina",2003,"M","Zábřeh","CZ/M","PMČRj 2024 - Klub",{"$f":"VLOOKUP(F2327,Soutez!A:B,2,FALSE)","v":"CZ"},{"$f":"VLOOKUP(F2327,Soutez!A:C,3,FALSE)","v":2024},26,741,0.91,4636,4219,"x",null,"Std. Cirrus","MJ","Junior v roce 2025"]
["Petr Hosek",2001,"M","Beroun","CZ/C1","PMČRj 2024 - Klub",{"$f":"VLOOKUP(F2328,Soutez!A:B,2,FALSE)","v":"CZ"},{"$f":"VLOOKUP(F2328,Soutez!A:C,3,FALSE)","v":2024},27,727,0.91,4476,4073,"x",null,"Std. Cirrus","BU","Junior v roce 2025"]
["Vit Pavelka",2004,"M","Moravská Třebová","CZ/M","PMČRj 2024 - Klub",{"$f":"VLOOKUP(F2329,Soutez!A:B,2,FALSE)","v":"CZ"},{"$f":"VLOOKUP(F2329,Soutez!A:C,3,FALSE)","v":2024},28,665,0.91,4066,3700,"x",null,"ASW 15 B","LE","Junior v roce 2025"]
["Petr Masik",2001,"M","Zábřeh","CZ/M","PMČRj 2024 - Klub",{"$f":"VLOOKUP(F2330,Soutez!A:B,2,FALSE)","v":"CZ"},{"$f":"VLOOKUP(F2330,Soutez!A:C,3,FALSE)","v":2024},29,630,0.91,3796,3454,null,null,"ASW 19 B",34,"Junior v roce 2025"]
["Jiri Maier 99",1999,"M","Raná","CZ/C2","PMČRj 2024 - Klub",{"$f":"VLOOKUP(F2331,Soutez!A:B,2,FALSE)","v":"CZ"},{"$f":"VLOOKUP(F2331,Soutez!A:C,3,FALSE)","v":2024},30,611,0.91,3609,3284,"x",null,"Discus bT WL","TAL",""]
["Tim Raasch",2000,"M","Polička","CZ/C2","PMČRj 2024 - Klub",{"$f":"VLOOKUP(F2332,Soutez!A:B,2,FALSE)","v":"CZ"},{"$f":"VLOOKUP(F2332,Soutez!A:C,3,FALSE)","v":2024},31,607,0.91,3500,3185,"x",null,"ASW 28","RC","Junior v roce 2025"]
["Filip Riabec",2006,"M","Broumov","CZ/C2","PMČRj 2024 - Klub",{"$f":"VLOOKUP(F2333,Soutez!A:B,2,FALSE)","v":"CZ"},{"$f":"VLOOKUP(F2333,Soutez!A:C,3,FALSE)","v":2024},32,537,0.91,3049,2775,"x",null,"ASW 15 B","PC","Junior v roce 2025"]
["Vojtech Bystricky",2004,"M","Strakonice","CZ/C1","PMČRj 2024 - Klub",{"$f":"VLOOKUP(F2334,Soutez!A:B,2,FALSE)","v":"CZ"},{"$f":"VLOOKUP(F2334,Soutez!A:C,3,FALSE)","v":2024},33,527,0.91,2909,2647,"x",null,"VSO-10","L3","Junior v roce 2025"]
["Jan Hlavacek 04",2004,"M","Hosín","CZ/C1","PMČRj 2024 - Klub",{"$f":"VLOOKUP(F2335,Soutez!A:B,2,FALSE)","v":"CZ"},{"$f":"VLOOKUP(F2335,Soutez!A:C,3,FALSE)","v":2024},34,228,0.91,1270,1156,"x",null,"ASW 15 B","2P","Junior v roce 2025"]
["Fabian Curda",2004,"M","Zábřeh","CZ/M","PMČRj 2024 - Klub",{"$f":"VLOOKUP(F2336,Soutez!A:B,2,FALSE)","v":"CZ"},{"$f":"VLOOKUP(F2336,Soutez!A:C,3,FALSE)","v":2024},35,0,0.91,0,0,null,null,"DG 300","U7","Junior v roce 2025"]
["Michal Cechmanek",{"$f":"VLOOKUP(A2337,Pilot,2,0)","v":1978},{"$f":"VLOOKUP(A2337,Pilot,5,0)","v":"M"},{"$f":"VLOOKUP(A2337,Pilot,3,0)","v":"Kroměříž"},{"$f":"VLOOKUP(A2337,Pilot,4,0)","v":"CZ/M"},"FL 2024 - Klub",{"$f":"VLOOKUP(F2337,Soutez!A:B,2,FALSE)","v":"CZ"},{"$f":"VLOOKUP(F2337,Soutez!A:C,3,FALSE)","v":2024},1,2523,0.755,{"$f":"ROUND(J2337/MAX($J$2337:$J$2352)*10000*0.7+(MAX($I$2337:$I$2352)-I2337)/(MAX($I$2337:$I$2352)-1)*10000*0.3,0)","v":10000},{"$f":"ROUND(K2337*L2337,0)","v":7550},"x",null,"ASW 20 WL","MK",""]
["David Vrchota",{"$f":"VLOOKUP(A2338,Pilot,2,0)","v":1976},{"$f":"VLOOKUP(A2338,Pilot,5,0)","v":"M"},{"$f":"VLOOKUP(A2338,Pilot,3,0)","v":"Jaroměř"},{"$f":"VLOOKUP(A2338,Pilot,4,0)","v":"CZ/C2"},"FL 2024 - Klub",{"$f":"VLOOKUP(F2338,Soutez!A:B,2,FALSE)","v":"CZ"},{"$f":"VLOOKUP(F2338,Soutez!A:C,3,FALSE)","v":2024},2,2510,0.755,{"$f":"ROUND(J2338/MAX($J$2337:$J$2352)*10000*0.7+(MAX($I$2337:$I$2352)-I2338)/(MAX($I$2337:$I$2352)-1)*10000*0.3,0)","v":9764},7372,"x",null,"Discus b","JA",""]
["Jan Sponer",1988,"M","Medlánky","CZ/M","FL 2024 - Klub",{"$f":"VLOOKUP(F2339,Soutez!A:B,2,FALSE)","v":"CZ"},{"$f":"VLOOKUP(F2339,Soutez!A:C,3,FALSE)","v":2024},3,2419,0.755,9311,7030,"x",null,"Std. Cirrus","EX",""]
["David Sachl",1978,"M","Kralupy","CZ/C1","FL 2024 - Klub",{"$f":"VLOOKUP(F2340,Soutez!A:B,2,FALSE)","v":"CZ"},{"$f":"VLOOKUP(F2340,Soutez!A:C,3,FALSE)","v":2024},4,2330,0.755,8865,6693,"x",null,"DG 300","BK",""]
["Jakub Kohn",1992,"M","Prostějov","CZ/M","FL 2024 - Klub",{"$f":"VLOOKUP(F2341,Soutez!A:B,2,FALSE)","v":"CZ"},{"$f":"VLOOKUP(F2341,Soutez!A:C,3,FALSE)","v":2024},5,2188,0.755,8271,6245,"x",null,"ASW 15 B","FK",""]
["Adam Sugl",1987,"M","Vyškov","CZ/M","FL 2024 - Klub",{"$f":"VLOOKUP(F2342,Soutez!A:B,2,FALSE)","v":"CZ"},{"$f":"VLOOKUP(F2342,Soutez!A:C,3,FALSE)","v":2024},6,2023,0.755,7613,5748,"x",null,"Std. Cirrus","GT",""]
["Rostislav Stryk",1972,"M","Frýdlant","CZ/M","FL 2024 - Klub",{"$f":"VLOOKUP(F2343,Soutez!A:B,2,FALSE)","v":"CZ"},{"$f":"VLOOKUP(F2343,Soutez!A:C,3,FALSE)","v":2024},7,1759,0.755,6680,5043,"x",null,"Std. Cirrus",22,""]
["Jan Matejovsky",1972,"M","Hranice","CZ/M","FL 2024 - Klub",{"$f":"VLOOKUP(F2344,Soutez!A:B,2,FALSE)","v":"CZ"},{"$f":"VLOOKUP(F2344,Soutez!A:C,3,FALSE)","v":2024},8,1608,0.755,{"$f":"ROUND(J2344/MAX($J$2337:$J$2352)*10000*0.7+(MAX($I$2337:$I$2352)-I2344)/(MAX($I$2337:$I$2352)-1)*10000*0.3,0)","v":6061},4576,"x",null,"Std. Cirrus","XII",""]
["Zdenek Mach",1976,"M","Broumov","CZ/C2","FL 2024 - Klub",{"$f":"VLOOKUP(F2345,Soutez!A:B,2,FALSE)","v":"CZ"},{"$f":"VLOOKUP(F2345,Soutez!A:C,3,FALSE)","v":2024},9,1598,0.755,5834,4405,"x",null,"LS 1-d","MZ",""]
["Jiri Pelucha",1984,"M","Frýdlant","CZ/M","FL 2024 - Klub",{"$f":"VLOOKUP(F2346,Soutez!A:B,2,FALSE)","v":"CZ"},{"$f":"VLOOKUP(F2346,Soutez!A:C,3,FALSE)","v":2024},10,1331,0.755,4893,3694,"x",null,"DG 400 17m","PS",""]
["Daniel Suchy",1995,"M","Hranice","CZ/M","FL 2024 - Klub",{"$f":"VLOOKUP(F2347,Soutez!A:B,2,FALSE)","v":"CZ"},{"$f":"VLOOKUP(F2347,Soutez!A:C,3,FALSE)","v":2024},11,1278,0.755,4546,3432,"x",null,"G 102 Astir CS","W7",""]
["Jan Mareth",1979,"M","Frýdlant","CZ/M","FL 2024 - Klub",{"$f":"VLOOKUP(F2348,Soutez!A:B,2,FALSE)","v":"CZ"},{"$f":"VLOOKUP(F2348,Soutez!A:C,3,FALSE)","v":2024},12,1273,0.755,4332,3271,"x",null,"ASW 15 B","PA",""]
["Petr Brezina",1963,"M","Frýdlant","CZ/M","FL 2024 - Klub",{"$f":"VLOOKUP(F2349,Soutez!A:B,2,FALSE)","v":"CZ"},{"$f":"VLOOKUP(F2349,Soutez!A:C,3,FALSE)","v":2024},13,1146,0.755,3780,2854,"x",null,"LS 1-f","EM",""]
["Martin Urban",1971,"M","Frýdlant","CZ/M","FL 2024 - Klub",{"$f":"VLOOKUP(F2350,Soutez!A:B,2,FALSE)","v":"CZ"},{"$f":"VLOOKUP(F2350,Soutez!A:C,3,FALSE)","v":2024},14,903,0.755,2905,2193,null,null,"LS 3a","SJ",""]
["Stepan Obrovsky",1990,"M","Frýdlant","CZ/M","FL 2024 - Klub",{"$f":"VLOOKUP(F2351,Soutez!A:B,2,FALSE)","v":"CZ"},{"$f":"VLOOKUP(F2351,Soutez!A:C,3,FALSE)","v":2024},15,809,0.755,2445,1846,null,null,"DG 400 17m","RD",""]
["Jan Kristof",1962,"M","Frýdlant","CZ/M","FL 2024 - Klub",{"$f":"VLOOKUP(F2352,Soutez!A:B,2,FALSE)","v":"CZ"},{"$f":"VLOOKUP(F2352,Soutez!A:C,3,FALSE)","v":2024},16,384,0.755,1065,804,null,null,"LS 3","TX",""]
["Lumir Motyka",{"$f":"VLOOKUP(A2353,Pilot,2,0)","v":1955},{"$f":"VLOOKUP(A2353,Pilot,5,0)","v":"M"},{"$f":"VLOOKUP(A2353,Pilot,3,0)","v":"Frýdlant"},{"$f":"VLOOKUP(A2353,Pilot,4,0)","v":"CZ/M"},"FL 2024 - Kombi",{"$f":"VLOOKUP(F2353,Soutez!A:B,2,FALSE)","v":"CZ"},{"$f":"VLOOKUP(F2353,Soutez!A:C,3,FALSE)","v":2024},1,1247,0,{"$f":"ROUND(J2353/MAX($J$2353:$J$2359)*10000*0.7+(MAX($I$2353:$I$2359)-I2353)/(MAX($I$2353:$I$2359)-1)*10000*0.3,0)","v":10000},0,null,null,"LAK-12","DE",""]
["Pavel Foldyna",{"$f":"VLOOKUP(A2354,Pilot,2,0)","v":1976},{"$f":"VLOOKUP(A2354,Pilot,5,0)","v":"M"},{"$f":"VLOOKUP(A2354,Pilot,3,0)","v":"Frýdlant"},{"$f":"VLOOKUP(A2354,Pilot,4,0)","v":"CZ/M"},"FL 2024 - Kombi",{"$f":"VLOOKUP(F2354,Soutez!A:B,2,FALSE)","v":"CZ"},{"$f":"VLOOKUP(F2354,Soutez!A:C,3,FALSE)","v":2024},2,1004,0,{"$f":"ROUND(J2354/MAX($J$2353:$J$2359)*10000*0.7+(MAX($I$2353:$I$2359)-I2354)/(MAX($I$2353:$I$2359)-1)*10000*0.3,0)","v":8136},0,null,null,"Duo Discus -700 kg",777,""]
["Radim Hahn",1972,"M","Zábřeh","CZ/M","FL 2024 - Kombi",{"$f":"VLOOKUP(F2355,Soutez!A:B,2,FALSE)","v":"CZ"},{"$f":"VLOOKUP(F2355,Soutez!A:C,3,FALSE)","v":2024},3,878,0,{"$f":"ROUND(J2355/MAX($J$2353:$J$2359)*10000*0.7+(MAX($I$2353:$I$2359)-I2355)/(MAX($I$2353:$I$2359)-1)*10000*0.3,0)","v":6929},0,null,null,"Arcus M","II",""]
["Frantisek Vancura",1966,"M","Hranice","CZ/M","FL 2024 - Kombi",{"$f":"VLOOKUP(F2356,Soutez!A:B,2,FALSE)","v":"CZ"},{"$f":"VLOOKUP(F2356,Soutez!A:C,3,FALSE)","v":2024},4,775,0,5850,0,null,null,"Nimbus 3T 24.5m","A1",""]
["Milos Dedera",{"$f":"VLOOKUP(A2357,Pilot,2,0)","v":1956},{"$f":"VLOOKUP(A2357,Pilot,5,0)","v":"M"},{"$f":"VLOOKUP(A2357,Pilot,3,0)","v":"Jihlava"},{"$f":"VLOOKUP(A2357,Pilot,4,0)","v":"CZ/M"},"FL 2024 - Kombi",{"$f":"VLOOKUP(F2357,Soutez!A:B,2,FALSE)","v":"CZ"},{"$f":"VLOOKUP(F2357,Soutez!A:C,3,FALSE)","v":2024},5,567,0,4183,0,null,null,"DG 500M 22m","T1",""]
["Milos Matejka",1956,"M","Beroun","CZ/C1","FL 2024 - Kombi",{"$f":"VLOOKUP(F2358,Soutez!A:B,2,FALSE)","v":"CZ"},{"$f":"VLOOKUP(F2358,Soutez!A:C,3,FALSE)","v":2024},6,442,0,2981,0,null,null,"Discus b WL","SH",""]
["Roman Cerny",1971,"M","Hranice","CZ/M","FL 2024 - Kombi",{"$f":"VLOOKUP(F2359,Soutez!A:B,2,FALSE)","v":"CZ"},{"$f":"VLOOKUP(F2359,Soutez!A:C,3,FALSE)","v":2024},7,0,0,0,0,null,null,"Nimbus 3 25.5m","RF",""]
["Ivan Harasta 65",{"$f":"VLOOKUP(A2360,Pilot,2,0)","v":1965},{"$f":"VLOOKUP(A2360,Pilot,5,0)","v":"M"},{"$f":"VLOOKUP(A2360,Pilot,3,0)","v":"Toužim"},{"$f":"VLOOKUP(A2360,Pilot,4,0)","v":"CZ/C1"},"Toužim Cup 2024 - Klub",{"$f":"VLOOKUP(F2360,Soutez!A:B,2,FALSE)","v":"CZ"},{"$f":"VLOOKUP(F2360,Soutez!A:C,3,FALSE)","v":2024},1,2265,0.91,{"$f":"ROUND(J2360/MAX($J$2360:$J$2382)*10000*0.7+(MAX($I$2360:$I$2382)-I2360)/(MAX($I$2360:$I$2382)-1)*10000*0.3,0)","v":10000},9100,"x",null,"LS-1d","CL",{"$f":"IF(ISERROR(VLOOKUP(A2360,Pilot,6,0)),\"Není v databázi\",VLOOKUP(A2360,Pilot,6,0))","v":""}]
["Hana TreSlova",{"$f":"VLOOKUP(A2361,Pilot,2,0)","v":1991},{"$f":"VLOOKUP(A2361,Pilot,5,0)","v":"F"},{"$f":"VLOOKUP(A2361,Pilot,3,0)","v":"Raná"},{"$f":"VLOOKUP(A2361,Pilot,4,0)","v":"CZ/C2"},"Toužim Cup 2024 - Klub",{"$f":"VLOOKUP(F2361,Soutez!A:B,2,FALSE)","v":"CZ"},{"$f":"VLOOKUP(F2361,Soutez!A:C,3,FALSE)","v":2024},2,2166,0.91,{"$f":"ROUND(J2361/MAX($J$2360:$J$2382)*10000*0.7+(MAX($I$2360:$I$2382)-I2361)/(MAX($I$2360:$I$2382)-1)*10000*0.3,0)","v":9558},8698,null,null,"Std. Cirrus","CI",""]
["Roman Jokl",1979,"M","Letkov","CZ/C1","Toužim Cup 2024 - Klub",{"$f":"VLOOKUP(F2362,Soutez!A:B,2,FALSE)","v":"CZ"},{"$f":"VLOOKUP(F2362,Soutez!A:C,3,FALSE)","v":2024},3,2121,0.91,9282,8447,"x",null,"ASW-19B","JL",""]
["Jiri Vondracek",1989,"M","Kladno","CZ/C1","Toužim Cup 2024 - Klub",{"$f":"VLOOKUP(F2363,Soutez!A:B,2,FALSE)","v":"CZ"},{"$f":"VLOOKUP(F2363,Soutez!A:C,3,FALSE)","v":2024},4,2117,0.91,9134,8312,"x",null,"H-201b Std. Libelle WL",442,""]
["Jiri Fousek",1990,"M","Raná","CZ/C2","Toužim Cup 2024 - Klub",{"$f":"VLOOKUP(F2364,Soutez!A:B,2,FALSE)","v":"CZ"},{"$f":"VLOOKUP(F2364,Soutez!A:C,3,FALSE)","v":2024},5,2085,0.91,8898,8097,"x",null,"Std. Cirrus","LW",""]
["Michal Drab",1969,"M","Letkov","CZ/C1","Toužim Cup 2024 - Klub",{"$f":"VLOOKUP(F2365,Soutez!A:B,2,FALSE)","v":"CZ"},{"$f":"VLOOKUP(F2365,Soutez!A:C,3,FALSE)","v":2024},6,1959,0.91,8372,7619,"x",null,"LS-1c","S3",""]
["Jan Smekal",1976,"M","Zbraslavice","CZ/C1","Toužim Cup 2024 - Klub",{"$f":"VLOOKUP(F2366,Soutez!A:B,2,FALSE)","v":"CZ"},{"$f":"VLOOKUP(F2366,Soutez!A:C,3,FALSE)","v":2024},7,1809,0.91,7773,7073,"x",null,"ASW-20 (A)+L+F /15m","NW",""]
["Jan MuknSnabl",1992,"M","Letkov","CZ/C1","Toužim Cup 2024 - Klub",{"$f":"VLOOKUP(F2367,Soutez!A:B,2,FALSE)","v":"CZ"},{"$f":"VLOOKUP(F2367,Soutez!A:C,3,FALSE)","v":2024},8,1777,0.91,7537,6859,null,null,"Discus b","SJ",""]
["Martin Fric",1967,"M","Raná","CZ/C2","Toužim Cup 2024 - Klub",{"$f":"VLOOKUP(F2368,Soutez!A:B,2,FALSE)","v":"CZ"},{"$f":"VLOOKUP(F2368,Soutez!A:C,3,FALSE)","v":2024},9,1567,0.91,6752,6144,"x",null,"DG-101 G","E2",""]
["Jan Zanda",1983,"M","Letkov","CZ/C1","Toužim Cup 2024 - Klub",{"$f":"VLOOKUP(F2369,Soutez!A:B,2,FALSE)","v":"CZ"},{"$f":"VLOOKUP(F2369,Soutez!A:C,3,FALSE)","v":2024},10,1552,0.91,6569,5978,"x",null,"LS-1c","AN",""]
["Lukas Koukal",1991,"M","Letkov","CZ/C1","Toužim Cup 2024 - Klub",{"$f":"VLOOKUP(F2370,Soutez!A:B,2,FALSE)","v":"CZ"},{"$f":"VLOOKUP(F2370,Soutez!A:C,3,FALSE)","v":2024},11,1540,0.91,6396,5820,"x",null,"ASW-15B","T1",""]
["Jiri Prochazka",1971,"M","Toužim","CZ/C1","Toužim Cup 2024 - Klub",{"$f":"VLOOKUP(F2371,Soutez!A:B,2,FALSE)","v":"CZ"},{"$f":"VLOOKUP(F2371,Soutez!A:C,3,FALSE)","v":2024},12,1462,0.91,{"$f":"ROUND(J2371/MAX($J$2360:$J$2382)*10000*0.7+(MAX($I$2360:$I$2382)-I2371)/(MAX($I$2360:$I$2382)-1)*10000*0.3,0)","v":6018},5476,null,null,"Janus CM (FG) (fix gear=pevný podvozek)","J59",""]
["LukaS Plocek",1990,"M","Mladá Boleslav","CZ/C1","Toužim Cup 2024 - Klub",{"$f":"VLOOKUP(F2372,Soutez!A:B,2,FALSE)","v":"CZ"},{"$f":"VLOOKUP(F2372,Soutez!A:C,3,FALSE)","v":2024},13,1389,0.91,5656,5147,null,null,"ASW-19B","AH",""]
["Daniel Dvorak",1980,"M","Letkov","CZ/C1","Toužim Cup 2024 - Klub",{"$f":"VLOOKUP(F2373,Soutez!A:B,2,FALSE)","v":"CZ"},{"$f":"VLOOKUP(F2373,Soutez!A:C,3,FALSE)","v":2024},14,1381,0.91,5495,5000,"x",null,"Std. Cirrus","LD",""]
["Tomas Talanda",1988,"M","Křižanov","CZ/M","Toužim Cup 2024 - Klub",{"$f":"VLOOKUP(F2374,Soutez!A:B,2,FALSE)","v":"CZ"},{"$f":"VLOOKUP(F2374,Soutez!A:C,3,FALSE)","v":2024},15,1334,0.91,5214,4745,"x",null,"Janus C (FG) (fix gear=pevný podvozek)","GVed",""]
["Jiri Cincera",1966,"M","Toužim","CZ/C1","Toužim Cup 2024 - Klub",{"$f":"VLOOKUP(F2375,Soutez!A:B,2,FALSE)","v":"CZ"},{"$f":"VLOOKUP(F2375,Soutez!A:C,3,FALSE)","v":2024},16,852,0.91,3588,3265,"x",null,"LS-1c","CI",""]
["Tomas Jung",1950,"M","Zbraslavice","CZ/C1","Toužim Cup 2024 - Klub",{"$f":"VLOOKUP(F2376,Soutez!A:B,2,FALSE)","v":"CZ"},{"$f":"VLOOKUP(F2376,Soutez!A:C,3,FALSE)","v":2024},17,799,0.91,3287,2991,"x",null,"ASW-19B",2,""]
["Tomas Seifert",1972,"M","Raná","CZ/C2","Toužim Cup 2024 - Klub",{"$f":"VLOOKUP(F2377,Soutez!A:B,2,FALSE)","v":"CZ"},{"$f":"VLOOKUP(F2377,Soutez!A:C,3,FALSE)","v":2024},18,773,0.91,3071,2795,"x",null,"ASW-15B","MC",""]
["Jan Vacik",1977,"M","Staňkov","CZ/C1","Toužim Cup 2024 - Klub",{"$f":"VLOOKUP(F2378,Soutez!A:B,2,FALSE)","v":"CZ"},{"$f":"VLOOKUP(F2378,Soutez!A:C,3,FALSE)","v":2024},19,724,0.91,2783,2533,"x",null,"Std. Cirrus",4,""]
["Marie Vesela",1999,"F","Staňkov","CZ/C1","Toužim Cup 2024 - Klub",{"$f":"VLOOKUP(F2379,Soutez!A:B,2,FALSE)","v":"CZ"},{"$f":"VLOOKUP(F2379,Soutez!A:C,3,FALSE)","v":2024},20,487,0.91,1914,1742,"x","x","Discus b","IJK",""]
["Martin Valenta",1969,"M","Toužim","CZ/C1","Toužim Cup 2024 - Klub",{"$f":"VLOOKUP(F2380,Soutez!A:B,2,FALSE)","v":"CZ"},{"$f":"VLOOKUP(F2380,Soutez!A:C,3,FALSE)","v":2024},21,473,0.91,1735,1579,"x",null,"G-104 Speed Astir II b","Y3",""]
["Miroslav Odlozilik",1973,"M","Křižanov","CZ/M","Toužim Cup 2024 - Klub",{"$f":"VLOOKUP(F2381,Soutez!A:B,2,FALSE)","v":"CZ"},{"$f":"VLOOKUP(F2381,Soutez!A:C,3,FALSE)","v":2024},22,443,{"$f":"VLOOKUP(F2381,Soutez,12,0)","v":0.91},1505,1370,"x",null,"G-103 Twin Basic dvojí (zatahovací podvozek) nemá nádrže","RB",""]
["Rudolf Jung",1954,"M","Zbraslavice","CZ/C1","Toužim Cup 2024 - Klub",{"$f":"VLOOKUP(F2382,Soutez!A:B,2,FALSE)","v":"CZ"},{"$f":"VLOOKUP(F2382,Soutez!A:C,3,FALSE)","v":2024},23,441,0.91,1363,1240,"x",null,"G-103 Twin III dvojí (pevný podvozek)","TO",""]
["Ondrej Dupal",{"$f":"VLOOKUP(A2383,Pilot,2,0)","v":1966},{"$f":"VLOOKUP(A2383,Pilot,5,0)","v":"M"},{"$f":"VLOOKUP(A2383,Pilot,3,0)","v":"GAC Benešov"},{"$f":"VLOOKUP(A2383,Pilot,4,0)","v":"CZ/C1"},"Toužim Cup 2024 - Kombi",{"$f":"VLOOKUP(F2383,Soutez!A:B,2,FALSE)","v":"CZ"},{"$f":"VLOOKUP(F2383,Soutez!A:C,3,FALSE)","v":2024},1,2223,0.91500000000000004,{"$f":"ROUND(J2383/MAX($J$2383:$J$2414)*10000*0.7+(MAX($I$2383:$I$2414)-I2383)/(MAX($I$2383:$I$2414)-1)*10000*0.3,0)","v":10000},9150,"x",null,"ASG-29E /18m","GO",""]
["Ondrej Bordovsky",{"$f":"VLOOKUP(A2384,Pilot,2,0)","v":1983},{"$f":"VLOOKUP(A2384,Pilot,5,0)","v":"M"},{"$f":"VLOOKUP(A2384,Pilot,3,0)","v":"Krnov"},{"$f":"VLOOKUP(A2384,Pilot,4,0)","v":"CZ/M"},"Toužim Cup 2024 - Kombi",{"$f":"VLOOKUP(F2384,Soutez!A:B,2,FALSE)","v":"CZ"},{"$f":"VLOOKUP(F2384,Soutez!A:C,3,FALSE)","v":2024},2,2204,0.91500000000000004,{"$f":"ROUND(J2384/MAX($J$2383:$J$2414)*10000*0.7+(MAX($I$2383:$I$2414)-I2384)/(MAX($I$2383:$I$2414)-1)*10000*0.3,0)","v":9843},9006,"x",null,"Ventus c /17,6m","AD",""]
["Tomas Rendla",1973,"M","Zbraslavice","CZ/C1","Toužim Cup 2024 - Kombi",{"$f":"VLOOKUP(F2385,Soutez!A:B,2,FALSE)","v":"CZ"},{"$f":"VLOOKUP(F2385,Soutez!A:C,3,FALSE)","v":2024},3,2193,0.91500000000000004,9712,8886,"x",null,"AS 33 /18m","EZ",""]
["Vaclav Svoboda",1970,"M","Letkov","CZ/C1","Toužim Cup 2024 - Kombi",{"$f":"VLOOKUP(F2386,Soutez!A:B,2,FALSE)","v":"CZ"},{"$f":"VLOOKUP(F2386,Soutez!A:C,3,FALSE)","v":2024},4,2171,0.91500000000000004,9546,8735,"x",null,"LS-8-18 /18m",301,""]
["Michal LeSinger",1966,"M","Moravská Třebová","CZ/M","Toužim Cup 2024 - Kombi",{"$f":"VLOOKUP(F2387,Soutez!A:B,2,FALSE)","v":"CZ"},{"$f":"VLOOKUP(F2387,Soutez!A:C,3,FALSE)","v":2024},5,2148,0.91500000000000004,9377,8580,null,null,"ASG-32 Mi -800 kg","DX",""]
["Jan Viskot",1995,"M","Břeclav","CZ/M","Toužim Cup 2024 - Kombi",{"$f":"VLOOKUP(F2388,Soutez!A:B,2,FALSE)","v":"CZ"},{"$f":"VLOOKUP(F2388,Soutez!A:C,3,FALSE)","v":2024},6,2090,0.91500000000000004,9097,8324,"x",null,"Duo Discus (700 kg)","OK",""]
["Lubomir Motl",1959,"M","Kyjov","CZ/M","Toužim Cup 2024 - Kombi",{"$f":"VLOOKUP(F2389,Soutez!A:B,2,FALSE)","v":"CZ"},{"$f":"VLOOKUP(F2389,Soutez!A:C,3,FALSE)","v":2024},7,2088,0.91500000000000004,8994,8230,"x",null,"Nimbus 4DM","AM",""]
["Martin Picka",1974,"M","Tábor","CZ/C1","Toužim Cup 2024 - Kombi",{"$f":"VLOOKUP(F2390,Soutez!A:B,2,FALSE)","v":"CZ"},{"$f":"VLOOKUP(F2390,Soutez!A:C,3,FALSE)","v":2024},8,1974,0.91500000000000004,8539,7813,"x",null,"JS3-18m","NS",""]
["Pavel Jiranek",1993,"M","Toužim","CZ/C1","Toužim Cup 2024 - Kombi",{"$f":"VLOOKUP(F2391,Soutez!A:B,2,FALSE)","v":"CZ"},{"$f":"VLOOKUP(F2391,Soutez!A:C,3,FALSE)","v":2024},9,1953,0.91500000000000004,8376,7664,null,null,"Ventus c /17,6m","CS",""]
["Vratislav Sram",1966,"M","Broumov","CZ/C2","Toužim Cup 2024 - Kombi",{"$f":"VLOOKUP(F2392,Soutez!A:B,2,FALSE)","v":"CZ"},{"$f":"VLOOKUP(F2392,Soutez!A:C,3,FALSE)","v":2024},10,1950,0.91500000000000004,8269,7566,"x",null,"Nimbus 4DM",7,""]
["David Zapletal",1970,"M","Mladá Boleslav","CZ/C1","Toužim Cup 2024 - Kombi",{"$f":"VLOOKUP(F2393,Soutez!A:B,2,FALSE)","v":"CZ"},{"$f":"VLOOKUP(F2393,Soutez!A:C,3,FALSE)","v":2024},11,1807,0.91500000000000004,7722,7066,"x",null,"Ventus c /17,6m","PUP",""]
["Petr Bartak",1984,"M","Letkov","CZ/C1","Toužim Cup 2024 - Kombi",{"$f":"VLOOKUP(F2394,Soutez!A:B,2,FALSE)","v":"CZ"},{"$f":"VLOOKUP(F2394,Soutez!A:C,3,FALSE)","v":2024},12,1786,0.91500000000000004,{"$f":"ROUND(J2394/MAX($J$2383:$J$2414)*10000*0.7+(MAX($I$2383:$I$2414)-I2394)/(MAX($I$2383:$I$2414)-1)*10000*0.3,0)","v":7559},6916,"x",null,"JS3-18m","BS",""]
["Frantisek Myska",1968,"M","Most","CZ/C2","Toužim Cup 2024 - Kombi",{"$f":"VLOOKUP(F2395,Soutez!A:B,2,FALSE)","v":"CZ"},{"$f":"VLOOKUP(F2395,Soutez!A:C,3,FALSE)","v":2024},13,1783,0.91500000000000004,7453,6819,"x",null,"Ventus bt /16,6m","SK",""]
["Jan Dersak 69",1969,"M","Kralupy","CZ/C1","Toužim Cup 2024 - Kombi",{"$f":"VLOOKUP(F2396,Soutez!A:B,2,FALSE)","v":"CZ"},{"$f":"VLOOKUP(F2396,Soutez!A:C,3,FALSE)","v":2024},14,1714,0.91500000000000004,7139,6532,null,null,"HpH 304MS SHARK","DJ",""]
["Petr Jiranek 63",1962,"M","Toužim","CZ/C1","Toužim Cup 2024 - Kombi",{"$f":"VLOOKUP(F2397,Soutez!A:B,2,FALSE)","v":"CZ"},{"$f":"VLOOKUP(F2397,Soutez!A:C,3,FALSE)","v":2024},15,1690,0.91500000000000004,6967,6375,"x",null,"HpH 304MS SHARK","LK",""]
["Gerald Moser-Furst",null,null,"USFC Krems","AT","Toužim Cup 2024 - Kombi",{"$f":"VLOOKUP(F2398,Soutez!A:B,2,FALSE)","v":"CZ"},{"$f":"VLOOKUP(F2398,Soutez!A:C,3,FALSE)","v":2024},16,1637,0.91500000000000004,6703,{"$f":"ROUND(K2398*L2398,0)","v":6133},null,null,"Duo Discus (700 kg)","K2","Není v databázi"]
["Petr Jiranek 91",{"$f":"VLOOKUP(A2399,Pilot,2,0)","v":1991},{"$f":"VLOOKUP(A2399,Pilot,5,0)","v":"M"},{"$f":"VLOOKUP(A2399,Pilot,3,0)","v":"Toužim"},{"$f":"VLOOKUP(A2399,Pilot,4,0)","v":"CZ/C1"},"Toužim Cup 2024 - Kombi",{"$f":"VLOOKUP(F2399,Soutez!A:B,2,FALSE)","v":"CZ"},{"$f":"VLOOKUP(F2399,Soutez!A:C,3,FALSE)","v":2024},17,1583,0.91500000000000004,6436,5889,"x",null,"Ventus c /17,6m","PC",""]
["Olga Mokosova",{"$f":"VLOOKUP(A2400,Pilot,2,0)","v":1970},{"$f":"VLOOKUP(A2400,Pilot,5,0)","v":"F"},{"$f":"VLOOKUP(A2400,Pilot,3,0)","v":"Jihlava"},{"$f":"VLOOKUP(A2400,Pilot,4,0)","v":"CZ/M"},"Toužim Cup 2024 - Kombi",{"$f":"VLOOKUP(F2400,Soutez!A:B,2,FALSE)","v":"CZ"},{"$f":"VLOOKUP(F2400,Soutez!A:C,3,FALSE)","v":2024},18,1493,0.91500000000000004,6056,5541,"x","x","LS-6c /18m WL","MM",""]
["Jan Florian",1992,"M","Zbraslavice","CZ/C1","Toužim Cup 2024 - Kombi",{"$f":"VLOOKUP(F2401,Soutez!A:B,2,FALSE)","v":"CZ"},{"$f":"VLOOKUP(F2401,Soutez!A:C,3,FALSE)","v":2024},19,1479,0.91500000000000004,5915,5412,"x",null,"Ventus c /17,6m","LS",""]
["Anna Lanzendorfova",2005,"F","Letkov","CZ/C1","Toužim Cup 2024 - Kombi",{"$f":"VLOOKUP(F2402,Soutez!A:B,2,FALSE)","v":"CZ"},{"$f":"VLOOKUP(F2402,Soutez!A:C,3,FALSE)","v":2024},20,1360,0.91500000000000004,5444,4981,"x","x","Duo Discus T (700kg)","ZS","Junior v roce 2025"]
["Martin Zahalka",1987,"M","Staňkov","CZ/C1","Toužim Cup 2024 - Kombi",{"$f":"VLOOKUP(F2403,Soutez!A:B,2,FALSE)","v":"CZ"},{"$f":"VLOOKUP(F2403,Soutez!A:C,3,FALSE)","v":2024},21,1273,0.91500000000000004,5073,4642,"x",null,"DG-400 17m","FF",""]
["Radovan Otto",1968,"M","Ústí nad Labem","CZ/C2","Toužim Cup 2024 - Kombi",{"$f":"VLOOKUP(F2404,Soutez!A:B,2,FALSE)","v":"CZ"},{"$f":"VLOOKUP(F2404,Soutez!A:C,3,FALSE)","v":2024},22,1271,0.91500000000000004,4970,4548,"x",null,"HpH 304MS SHARK /18m (560 kg)","XX",""]
["Antonin Kutalek",1943,"M","Zábřeh","CZ/M","Toužim Cup 2024 - Kombi",{"$f":"VLOOKUP(F2405,Soutez!A:B,2,FALSE)","v":"CZ"},{"$f":"VLOOKUP(F2405,Soutez!A:C,3,FALSE)","v":2024},23,1123,0.91500000000000004,4407,4032,"x",null,"LAK 17 AT 18m","GL",""]
["Roman Lanzendorf",1964,"M","Letkov","CZ/C1","Toužim Cup 2024 - Kombi",{"$f":"VLOOKUP(F2406,Soutez!A:B,2,FALSE)","v":"CZ"},{"$f":"VLOOKUP(F2406,Soutez!A:C,3,FALSE)","v":2024},24,1031,0.91500000000000004,4021,3679,"x",null,"Ventus ct /17,6m","AW",""]
["Zdenek Schenk",1972,"M","Hranice","CZ/M","Toužim Cup 2024 - Kombi",{"$f":"VLOOKUP(F2407,Soutez!A:B,2,FALSE)","v":"CZ"},{"$f":"VLOOKUP(F2407,Soutez!A:C,3,FALSE)","v":2024},25,1025,0.91500000000000004,3905,3573,null,null,"ASG-29E /18m","ŠNeK",""]
["FrantiSek Vancura",1966,"M","Hranice","CZ/M","Toužim Cup 2024 - Kombi",{"$f":"VLOOKUP(F2408,Soutez!A:B,2,FALSE)","v":"CZ"},{"$f":"VLOOKUP(F2408,Soutez!A:C,3,FALSE)","v":2024},26,1010,0.91500000000000004,3761,3441,null,null,"HpH 304 TS Twin Shark S 850kg","FNC",""]
["Vit Prokop",1987,"M","Medlánky","CZ/M","Toužim Cup 2024 - Kombi",{"$f":"VLOOKUP(F2409,Soutez!A:B,2,FALSE)","v":"CZ"},{"$f":"VLOOKUP(F2409,Soutez!A:C,3,FALSE)","v":2024},27,820,0.91500000000000004,3066,2805,"x",null,"Ventus c /17,6m","PD",""]
["Jiri Pajer",1977,"M","Zbraslavice","CZ/C1","Toužim Cup 2024 - Kombi",{"$f":"VLOOKUP(F2410,Soutez!A:B,2,FALSE)","v":"CZ"},{"$f":"VLOOKUP(F2410,Soutez!A:C,3,FALSE)","v":2024},28,615,0.91500000000000004,2324,2126,"x",null,"HpH 304 TS Twin Shark MS (850 kg)","NZ",""]
["Jaroslav Sefc",1971,"M","Broumov","CZ/C2","Toužim Cup 2024 - Kombi",{"$f":"VLOOKUP(F2411,Soutez!A:B,2,FALSE)","v":"CZ"},{"$f":"VLOOKUP(F2411,Soutez!A:C,3,FALSE)","v":2024},29,345,0.91500000000000004,1377,1260,"x",null,"ASH 26 E WL","SB",""]
["Tomas Profeld",1964,"M","Jičín","CZ/C2","Toužim Cup 2024 - Kombi",{"$f":"VLOOKUP(F2412,Soutez!A:B,2,FALSE)","v":"CZ"},{"$f":"VLOOKUP(F2412,Soutez!A:C,3,FALSE)","v":2024},30,270,0.91500000000000004,1044,955,"x",null,"Ventus 2cm /18m 525 kg","OZ",""]
["Roman Michalek",1974,"M","Toužim","CZ/C1","Toužim Cup 2024 - Kombi",{"$f":"VLOOKUP(F2413,Soutez!A:B,2,FALSE)","v":"CZ"},{"$f":"VLOOKUP(F2413,Soutez!A:C,3,FALSE)","v":2024},31,29,0.91500000000000004,188,172,"x",null,"DG-400 17m","TK",""]
["Karel Benisek 76",1976,"M","Toužim","CZ/C1","Toužim Cup 2024 - Kombi",{"$f":"VLOOKUP(F2414,Soutez!A:B,2,FALSE)","v":"CZ"},{"$f":"VLOOKUP(F2414,Soutez!A:C,3,FALSE)","v":2024},32,0,0.91500000000000004,0,0,null,null,"Ventus ct /17,6m","KB",""]
["Wolfgang Sluka",{"$f":"VLOOKUP(A2415,Pilot,2,0)","v":1942},{"$f":"VLOOKUP(A2415,Pilot,5,0)","v":"M"},{"$f":"VLOOKUP(A2415,Pilot,3,0)","v":"Liberec"},{"$f":"VLOOKUP(A2415,Pilot,4,0)","v":"CZ/C2"},"Safari Cup 2024 - Klub",{"$f":"VLOOKUP(F2415,Soutez!A:B,2,FALSE)","v":"CZ"},{"$f":"VLOOKUP(F2415,Soutez!A:C,3,FALSE)","v":2024},1,1325,0.73,{"$f":"ROUND(J2415/MAX($J$2415:$J$2441)*10000*0.7+(MAX($I$2415:$I$2441)-I2415)/(MAX($I$2415:$I$2441)-1)*10000*0.3,0)","v":10000},7300,"x",null,"Std. Cirrus","KA",""]
["Daniel Ryba",{"$f":"VLOOKUP(A2416,Pilot,2,0)","v":1994},{"$f":"VLOOKUP(A2416,Pilot,5,0)","v":"M"},{"$f":"VLOOKUP(A2416,Pilot,3,0)","v":"Dvůr Králové"},{"$f":"VLOOKUP(A2416,Pilot,4,0)","v":"CZ/C2"},"Safari Cup 2024 - Klub",{"$f":"VLOOKUP(F2416,Soutez!A:B,2,FALSE)","v":"CZ"},{"$f":"VLOOKUP(F2416,Soutez!A:C,3,FALSE)","v":2024},2,1211,0.73,{"$f":"ROUND(J2416/MAX($J$2415:$J$2441)*10000*0.7+(MAX($I$2415:$I$2441)-I2416)/(MAX($I$2415:$I$2441)-1)*10000*0.3,0)","v":9282},6776,"x",null,"Janus b dvojí","V1",""]
["Marek Kornec",1957,"M","Dvůr Králové","CZ/C2","Safari Cup 2024 - Klub",{"$f":"VLOOKUP(F2417,Soutez!A:B,2,FALSE)","v":"CZ"},{"$f":"VLOOKUP(F2417,Soutez!A:C,3,FALSE)","v":2024},3,1176,0.73,8982,6557,"x",null,"Janus C (FG)","KSS",""]
["Radim Sobek",1977,"M","Hranice","CZ/M","Safari Cup 2024 - Klub",{"$f":"VLOOKUP(F2418,Soutez!A:B,2,FALSE)","v":"CZ"},{"$f":"VLOOKUP(F2418,Soutez!A:C,3,FALSE)","v":2024},4,1115,0.73,8544,6237,null,null,"TST-10M Atlas",7,""]
["Krzysztof Pienkowski",null,null,"Bielsko-Biala","PL","Safari Cup 2024 - Klub",{"$f":"VLOOKUP(F2419,Soutez!A:B,2,FALSE)","v":"CZ"},{"$f":"VLOOKUP(F2419,Soutez!A:C,3,FALSE)","v":2024},5,1082,0.73,8255,6026,null,null,"LS-4","KP","Není v databázi"]
["Ondrej Teichman",{"$f":"VLOOKUP(A2420,Pilot,2,0)","v":1984},{"$f":"VLOOKUP(A2420,Pilot,5,0)","v":"M"},{"$f":"VLOOKUP(A2420,Pilot,3,0)","v":"Dvůr Králové"},{"$f":"VLOOKUP(A2420,Pilot,4,0)","v":"CZ/C2"},"Safari Cup 2024 - Klub",{"$f":"VLOOKUP(F2420,Soutez!A:B,2,FALSE)","v":"CZ"},{"$f":"VLOOKUP(F2420,Soutez!A:C,3,FALSE)","v":2024},6,1046,0.73,7949,5803,"x",null,"Cirrus VTC","OT",""]
["Jan Hybner",{"$f":"VLOOKUP(A2421,Pilot,2,0)","v":1977},{"$f":"VLOOKUP(A2421,Pilot,5,0)","v":"M"},{"$f":"VLOOKUP(A2421,Pilot,3,0)","v":"Liberec"},{"$f":"VLOOKUP(A2421,Pilot,4,0)","v":"CZ/C2"},"Safari Cup 2024 - Klub",{"$f":"VLOOKUP(F2421,Soutez!A:B,2,FALSE)","v":"CZ"},{"$f":"VLOOKUP(F2421,Soutez!A:C,3,FALSE)","v":2024},7,1024,0.73,7718,5634,"x",null,"HpH 304cz 15m","LB",""]
["Tomas Kulhavy",2001,"M","Liberec","CZ/C2","Safari Cup 2024 - Klub",{"$f":"VLOOKUP(F2422,Soutez!A:B,2,FALSE)","v":"CZ"},{"$f":"VLOOKUP(F2422,Soutez!A:C,3,FALSE)","v":2024},8,1008,0.73,{"$f":"ROUND(J2422/MAX($J$2415:$J$2441)*10000*0.7+(MAX($I$2415:$I$2441)-I2422)/(MAX($I$2415:$I$2441)-1)*10000*0.3,0)","v":7518},5488,"x",null,"LS-3 15m","R9",{"$f":"IF(ISERROR(VLOOKUP(A2422,Pilot,6,0)),\"Není v databázi\",VLOOKUP(A2422,Pilot,6,0))","v":"Junior v roce 2025"}]
["Jaroslav Sima",1972,"M","Chomutov","CZ/C2","Safari Cup 2024 - Klub",{"$f":"VLOOKUP(F2423,Soutez!A:B,2,FALSE)","v":"CZ"},{"$f":"VLOOKUP(F2423,Soutez!A:C,3,FALSE)","v":2024},9,959,0.73,7143,5214,"x",null,"G-104 Speed Astir II","V2",""]
["Aleksander Jedrosz",null,null,null,"PL","Safari Cup 2024 - Klub",{"$f":"VLOOKUP(F2424,Soutez!A:B,2,FALSE)","v":"CZ"},{"$f":"VLOOKUP(F2424,Soutez!A:C,3,FALSE)","v":2024},10,957,0.73,7017,5122,null,null,"Centrair C-101A Pegase","AJ","Není v databázi"]
["Jerzy Mikolajczyk",null,null,"AZM/KSS","PL","Safari Cup 2024 - Klub",{"$f":"VLOOKUP(F2425,Soutez!A:B,2,FALSE)","v":"CZ"},{"$f":"VLOOKUP(F2425,Soutez!A:C,3,FALSE)","v":2024},11,801,0.73,6078,4437,null,null,"LS-4","YL","Není v databázi"]
["Martin Markl",{"$f":"VLOOKUP(A2426,Pilot,2,0)","v":1960},{"$f":"VLOOKUP(A2426,Pilot,5,0)","v":"M"},{"$f":"VLOOKUP(A2426,Pilot,3,0)","v":"Kolín"},{"$f":"VLOOKUP(A2426,Pilot,4,0)","v":"CZ/C1"},"Safari Cup 2024 - Klub",{"$f":"VLOOKUP(F2426,Soutez!A:B,2,FALSE)","v":"CZ"},{"$f":"VLOOKUP(F2426,Soutez!A:C,3,FALSE)","v":2024},12,786,0.73,5883,4295,"x",null,"ASK-21 dvojí","AK",""]
["Martin Cicvarek",{"$f":"VLOOKUP(A2427,Pilot,2,0)","v":1966},{"$f":"VLOOKUP(A2427,Pilot,5,0)","v":"M"},{"$f":"VLOOKUP(A2427,Pilot,3,0)","v":"Liberec"},{"$f":"VLOOKUP(A2427,Pilot,4,0)","v":"CZ/C2"},"Safari Cup 2024 - Klub",{"$f":"VLOOKUP(F2427,Soutez!A:B,2,FALSE)","v":"CZ"},{"$f":"VLOOKUP(F2427,Soutez!A:C,3,FALSE)","v":2024},13,781,0.73,5741,4191,"x",null,"KKB 15E+ (FES)","AC",""]
["Vojtech Pivonka",1976,"M","Vrchlabí","CZ/C2","Safari Cup 2024 - Klub",{"$f":"VLOOKUP(F2428,Soutez!A:B,2,FALSE)","v":"CZ"},{"$f":"VLOOKUP(F2428,Soutez!A:C,3,FALSE)","v":2024},14,749,0.73,{"$f":"ROUND(J2428/MAX($J$2415:$J$2441)*10000*0.7+(MAX($I$2415:$I$2441)-I2428)/(MAX($I$2415:$I$2441)-1)*10000*0.3,0)","v":5457},3984,"x",null,"G-103 Twin Astir dvojí (RG)",5,""]
["Vladislav Cadsky",1975,"M","Kolín","CZ/C1","Safari Cup 2024 - Klub",{"$f":"VLOOKUP(F2429,Soutez!A:B,2,FALSE)","v":"CZ"},{"$f":"VLOOKUP(F2429,Soutez!A:C,3,FALSE)","v":2024},15,712,0.73,5146,3757,"x",null,"G-102 Astir Jeans","VI",""]
["Jan Gohl",null,null,"Wroclaw","PL","Safari Cup 2024 - Klub",{"$f":"VLOOKUP(F2430,Soutez!A:B,2,FALSE)","v":"CZ"},{"$f":"VLOOKUP(F2430,Soutez!A:C,3,FALSE)","v":2024},16,668,0.73,4798,3503,null,null,"LS-1d","GX","Není v databázi"]
["Leos Nosek",{"$f":"VLOOKUP(A2431,Pilot,2,0)","v":1958},{"$f":"VLOOKUP(A2431,Pilot,5,0)","v":"M"},{"$f":"VLOOKUP(A2431,Pilot,3,0)","v":"Křižanov"},{"$f":"VLOOKUP(A2431,Pilot,4,0)","v":"CZ/M"},"Safari Cup 2024 - Klub",{"$f":"VLOOKUP(F2431,Soutez!A:B,2,FALSE)","v":"CZ"},{"$f":"VLOOKUP(F2431,Soutez!A:C,3,FALSE)","v":2024},17,628,0.73,4472,3265,"x",null,"G-104 Speed Astir II b","LE",""]
["Milan Bado",1975,"M","Kolín","CZ/C1","Safari Cup 2024 - Klub",{"$f":"VLOOKUP(F2432,Soutez!A:B,2,FALSE)","v":"CZ"},{"$f":"VLOOKUP(F2432,Soutez!A:C,3,FALSE)","v":2024},18,597,0.73,4192,3060,"x",null,"Std. Cirrus","FU",""]
["Karel Policky",1950,"M","Kolín","CZ/C1","Safari Cup 2024 - Klub",{"$f":"VLOOKUP(F2433,Soutez!A:B,2,FALSE)","v":"CZ"},{"$f":"VLOOKUP(F2433,Soutez!A:C,3,FALSE)","v":2024},19,568,0.73,3924,2865,"x",null,"VSO-10",93,""]
["Pavel Derda",1952,"M","Dvůr Králové","CZ/C2","Safari Cup 2024 - Klub",{"$f":"VLOOKUP(F2434,Soutez!A:B,2,FALSE)","v":"CZ"},{"$f":"VLOOKUP(F2434,Soutez!A:C,3,FALSE)","v":2024},20,531,0.73,3613,2637,"x",null,"Cirrus VTC","VTC",""]
["Martin Benesovsky",1975,"M","Kolín","CZ/C1","Safari Cup 2024 - Klub",{"$f":"VLOOKUP(F2435,Soutez!A:B,2,FALSE)","v":"CZ"},{"$f":"VLOOKUP(F2435,Soutez!A:C,3,FALSE)","v":2024},21,526,0.73,3471,2534,"x",null,"G-104 Speed Astir II b","M2",""]
["Krzysztof Kostka",null,null,"Jelenia Góra","PL","Safari Cup 2024 - Klub",{"$f":"VLOOKUP(F2436,Soutez!A:B,2,FALSE)","v":"CZ"},{"$f":"VLOOKUP(F2436,Soutez!A:C,3,FALSE)","v":2024},22,476,0.73,3092,2257,null,null,"DG 300","N5","Není v databázi"]
["Radek Bartos",{"$f":"VLOOKUP(A2437,Pilot,2,0)","v":1971},{"$f":"VLOOKUP(A2437,Pilot,5,0)","v":"M"},{"$f":"VLOOKUP(A2437,Pilot,3,0)","v":"Kolín"},{"$f":"VLOOKUP(A2437,Pilot,4,0)","v":"CZ/C1"},"Safari Cup 2024 - Klub",{"$f":"VLOOKUP(F2437,Soutez!A:B,2,FALSE)","v":"CZ"},{"$f":"VLOOKUP(F2437,Soutez!A:C,3,FALSE)","v":2024},23,472,0.73,2955,2157,"x",null,"DG-300 Club Elan (RG)","DG",""]
["Leszek Karczewski",null,null,"Podhalaňski","PL","Safari Cup 2024 - Klub",{"$f":"VLOOKUP(F2438,Soutez!A:B,2,FALSE)","v":"CZ"},{"$f":"VLOOKUP(F2438,Soutez!A:C,3,FALSE)","v":2024},23,472,0.73,2955,2157,null,null,"Std. Cirrus","KL","Není v databázi"]
["Stanislaw Buchman",null,null,"Wroclaw","PL","Safari Cup 2024 - Klub",{"$f":"VLOOKUP(F2439,Soutez!A:B,2,FALSE)","v":"CZ"},{"$f":"VLOOKUP(F2439,Soutez!A:C,3,FALSE)","v":2024},23,472,0.73,2955,2157,null,null,"G-102 Astir Jeans",33,"Není v databázi"]
["Karel Ertl",{"$f":"VLOOKUP(A2440,Pilot,2,0)","v":1939},{"$f":"VLOOKUP(A2440,Pilot,5,0)","v":"M"},{"$f":"VLOOKUP(A2440,Pilot,3,0)","v":"LK Břeclav"},{"$f":"VLOOKUP(A2440,Pilot,4,0)","v":"CZ/M"},"Safari Cup 2024 - Klub",{"$f":"VLOOKUP(F2440,Soutez!A:B,2,FALSE)","v":"CZ"},{"$f":"VLOOKUP(F2440,Soutez!A:C,3,FALSE)","v":2024},26,3,0.73,131,96,"x",null,"TST-10M Atlas","KE",""]
["Romuald Dorofiejczyk",null,null,"KSS","PL","Safari Cup 2024 - Klub",{"$f":"VLOOKUP(F2441,Soutez!A:B,2,FALSE)","v":"CZ"},{"$f":"VLOOKUP(F2441,Soutez!A:C,3,FALSE)","v":2024},27,0,0.73,{"$f":"ROUND(J2441/MAX($J$2415:$J$2441)*10000*0.7+(MAX($I$2415:$I$2441)-I2441)/(MAX($I$2415:$I$2441)-1)*10000*0.3,0)","v":0},0,null,null,"DG 300","NS","Není v databázi"]
["Milan Meisner",{"$f":"VLOOKUP(A2442,Pilot,2,0)","v":1961},{"$f":"VLOOKUP(A2442,Pilot,5,0)","v":"M"},{"$f":"VLOOKUP(A2442,Pilot,3,0)","v":"Dvůr Králové"},{"$f":"VLOOKUP(A2442,Pilot,4,0)","v":"CZ/C2"},"Safari Cup 2024 - Kombi",{"$f":"VLOOKUP(F2442,Soutez!A:B,2,FALSE)","v":"CZ"},{"$f":"VLOOKUP(F2442,Soutez!A:C,3,FALSE)","v":2024},1,1545,{"$f":"VLOOKUP(F2442,Soutez,12,0)","v":0.75},{"$f":"ROUND(J2442/MAX($J$2442:$J$2451)*10000*0.7+(MAX($I$2442:$I$2451)-I2442)/(MAX($I$2442:$I$2451)-1)*10000*0.3,0)","v":10000},7500,"x",null,"LAK-17B FES 18m","TF",""]
["Jan Pazour",1979,"M","Dvůr Králové","CZ/C2","Safari Cup 2024 - Kombi",{"$f":"VLOOKUP(F2443,Soutez!A:B,2,FALSE)","v":"CZ"},{"$f":"VLOOKUP(F2443,Soutez!A:C,3,FALSE)","v":2024},2,1275,0.75,{"$f":"ROUND(J2443/MAX($J$2442:$J$2451)*10000*0.7+(MAX($I$2442:$I$2451)-I2443)/(MAX($I$2442:$I$2451)-1)*10000*0.3,0)","v":8443},6332,"x",null,"ASW-20 L +FL 16,6m","JP",""]
["Ladislav Prokes",1954,"M","Vrchlabí","CZ/C2","Safari Cup 2024 - Kombi",{"$f":"VLOOKUP(F2444,Soutez!A:B,2,FALSE)","v":"CZ"},{"$f":"VLOOKUP(F2444,Soutez!A:C,3,FALSE)","v":2024},3,1247,0.75,7983,5987,"x",null,"Discus b","VR",""]
["Tomas Ditrt",1969,"M","Podhořany","CZ/C2","Safari Cup 2024 - Kombi",{"$f":"VLOOKUP(F2445,Soutez!A:B,2,FALSE)","v":"CZ"},{"$f":"VLOOKUP(F2445,Soutez!A:C,3,FALSE)","v":2024},4,1133,0.75,7133,5350,"x",null,"HpH 304MS SHARK 18m -560 kg","TDi",""]
["Milan Dvorak",1965,"M","Liberec","CZ/C2","Safari Cup 2024 - Kombi",{"$f":"VLOOKUP(F2446,Soutez!A:B,2,FALSE)","v":"CZ"},{"$f":"VLOOKUP(F2446,Soutez!A:C,3,FALSE)","v":2024},5,1132,0.75,6795,5096,"x",null,"HpH 304cz 17,4m","IH",""]
["Radek Bares",1963,"M","Jičín","CZ/C2","Safari Cup 2024 - Kombi",{"$f":"VLOOKUP(F2447,Soutez!A:B,2,FALSE)","v":"CZ"},{"$f":"VLOOKUP(F2447,Soutez!A:C,3,FALSE)","v":2024},6,1078,0.75,6217,4663,"x",null,"Ventus c 17.6m","GE",""]
["Slavomir Tanglmajer",1966,"M","Chomutov","CZ/C2","Safari Cup 2024 - Kombi",{"$f":"VLOOKUP(F2448,Soutez!A:B,2,FALSE)","v":"CZ"},{"$f":"VLOOKUP(F2448,Soutez!A:C,3,FALSE)","v":2024},7,876,0.75,{"$f":"ROUND(J2448/MAX($J$2442:$J$2451)*10000*0.7+(MAX($I$2442:$I$2451)-I2448)/(MAX($I$2442:$I$2451)-1)*10000*0.3,0)","v":4969},3727,"x",null,"DG 400 17m","ST",""]
["Petr Omelka",1970,"M","Vyškov","CZ/M","Safari Cup 2024 - Kombi",{"$f":"VLOOKUP(F2449,Soutez!A:B,2,FALSE)","v":"CZ"},{"$f":"VLOOKUP(F2449,Soutez!A:C,3,FALSE)","v":2024},8,348,0.75,2243,1682,"x",null,"DG 400 17m","MR",""]
["Jiri Veprek",1959,"M","Dvůr Králové","CZ/C2","Safari Cup 2024 - Kombi",{"$f":"VLOOKUP(F2450,Soutez!A:B,2,FALSE)","v":"CZ"},{"$f":"VLOOKUP(F2450,Soutez!A:C,3,FALSE)","v":2024},9,122,0.75,886,665,"x",null,"HpH 304cz 17,4m","KN",""]
["Josef Plechac",1942,"M","Hronov","CZ/C2","Safari Cup 2024 - Kombi",{"$f":"VLOOKUP(F2451,Soutez!A:B,2,FALSE)","v":"CZ"},{"$f":"VLOOKUP(F2451,Soutez!A:C,3,FALSE)","v":2024},10,16,0.75,72,54,"x",null,"Nimbus 2M","PM",""]
["Petr Hofman",{"$f":"VLOOKUP(A2452,Pilot,2,0)","v":1984},{"$f":"VLOOKUP(A2452,Pilot,5,0)","v":"M"},{"$f":"VLOOKUP(A2452,Pilot,3,0)","v":"Letňany"},{"$f":"VLOOKUP(A2452,Pilot,4,0)","v":"CZ/C1"},"PPV 2024 - Klub",{"$f":"VLOOKUP(F2452,Soutez!A:B,2,FALSE)","v":"CZ"},{"$f":"VLOOKUP(F2452,Soutez!A:C,3,FALSE)","v":2024},1,4432,0.96000000000000008,{"$f":"ROUND(J2452/MAX($J$2452:$J$2481)*10000*0.7+(MAX($I$2452:$I$2481)-I2452)/(MAX($I$2452:$I$2481)-1)*10000*0.3,0)","v":10000},9600,"x",null,"ASW 15 B","MA",""]
["Pavel Rericha",1967,"M","Moravská Třebová","CZ/M","PPV 2024 - Klub",{"$f":"VLOOKUP(F2453,Soutez!A:B,2,FALSE)","v":"CZ"},{"$f":"VLOOKUP(F2453,Soutez!A:C,3,FALSE)","v":2024},2,4392,0.96000000000000008,{"$f":"ROUND(J2453/MAX($J$2452:$J$2481)*10000*0.7+(MAX($I$2452:$I$2481)-I2453)/(MAX($I$2452:$I$2481)-1)*10000*0.3,0)","v":9833},9440,"x",null,"ASW 19 B","NO",""]
["Hana Treslova",1991,"F","Raná","CZ/C2","PPV 2024 - Klub",{"$f":"VLOOKUP(F2454,Soutez!A:B,2,FALSE)","v":"CZ"},{"$f":"VLOOKUP(F2454,Soutez!A:C,3,FALSE)","v":2024},3,4375,0.96000000000000008,9703,9315,"x","x","Std. Cirrus","CI",""]
["Jindrich Svorc",1978,"M","Letňany","CZ/C1","PPV 2024 - Klub",{"$f":"VLOOKUP(F2455,Soutez!A:B,2,FALSE)","v":"CZ"},{"$f":"VLOOKUP(F2455,Soutez!A:C,3,FALSE)","v":2024},4,4302,0.96000000000000008,9484,9105,"x",null,"Discus bT WL","OI",""]
["Martin Urner",1974,"M","Letňany","CZ/C1","PPV 2024 - Klub",{"$f":"VLOOKUP(F2456,Soutez!A:B,2,FALSE)","v":"CZ"},{"$f":"VLOOKUP(F2456,Soutez!A:C,3,FALSE)","v":2024},5,4177,0.96000000000000008,9183,8816,"x",null,"ASW 15 B","JJ",""]
["Jakub Malik",1999,"M","Letňany","CZ/C1","PPV 2024 - Klub",{"$f":"VLOOKUP(F2457,Soutez!A:B,2,FALSE)","v":"CZ"},{"$f":"VLOOKUP(F2457,Soutez!A:C,3,FALSE)","v":2024},6,4142,0.96000000000000008,9025,8664,"x",null,"Discus b WL","DP",""]
["Jan Zahradka",1981,"M","Hodkovice","CZ/C2","PPV 2024 - Klub",{"$f":"VLOOKUP(F2458,Soutez!A:B,2,FALSE)","v":"CZ"},{"$f":"VLOOKUP(F2458,Soutez!A:C,3,FALSE)","v":2024},7,4119,0.96000000000000008,8885,8530,"x",null,"Std. Cirrus","AR",""]
["Lukas Capek",1992,"M","Letňany","CZ/C1","PPV 2024 - Klub",{"$f":"VLOOKUP(F2459,Soutez!A:B,2,FALSE)","v":"CZ"},{"$f":"VLOOKUP(F2459,Soutez!A:C,3,FALSE)","v":2024},8,4113,0.96000000000000008,8772,{"$f":"ROUND(K2459*L2459,0)","v":8421},"x",null,"Mosquito","LC",""]
["Vaclav Marel",1974,"M","Jaroměř","CZ/C2","PPV 2024 - Klub",{"$f":"VLOOKUP(F2460,Soutez!A:B,2,FALSE)","v":"CZ"},{"$f":"VLOOKUP(F2460,Soutez!A:C,3,FALSE)","v":2024},9,4090,0.96000000000000008,8632,8287,"x",null,"Std. Cirrus","IF",""]
["Petr Malcek",1965,"M","Letňany","CZ/C1","PPV 2024 - Klub",{"$f":"VLOOKUP(F2461,Soutez!A:B,2,FALSE)","v":"CZ"},{"$f":"VLOOKUP(F2461,Soutez!A:C,3,FALSE)","v":2024},10,4044,0.96000000000000008,8456,8118,"x",null,"Discus b","LH",""]
["Jan Hruska",1988,"M","Tábor","CZ/C1","PPV 2024 - Klub",{"$f":"VLOOKUP(F2462,Soutez!A:B,2,FALSE)","v":"CZ"},{"$f":"VLOOKUP(F2462,Soutez!A:C,3,FALSE)","v":2024},11,3908,0.96000000000000008,8138,7812,"x",null,"ASW 15 B","LF",""]
["Milan Svoboda 80",1980,"M","Havlíčkův Brod","CZ/C2","PPV 2024 - Klub",{"$f":"VLOOKUP(F2463,Soutez!A:B,2,FALSE)","v":"CZ"},{"$f":"VLOOKUP(F2463,Soutez!A:C,3,FALSE)","v":2024},12,3690,0.96000000000000008,7690,7382,"x",null,"VT-116 Orlic 2",46,""]
["Pavel Liska",1965,"M","Roudnice","CZ/C2","PPV 2024 - Klub",{"$f":"VLOOKUP(F2464,Soutez!A:B,2,FALSE)","v":"CZ"},{"$f":"VLOOKUP(F2464,Soutez!A:C,3,FALSE)","v":2024},13,3660,0.96000000000000008,7539,7237,"x",null,"ASW 19 B","RCE",""]
["Jaroslav Buryan",1953,"M","Zábřeh","CZ/M","PPV 2024 - Klub",{"$f":"VLOOKUP(F2465,Soutez!A:B,2,FALSE)","v":"CZ"},{"$f":"VLOOKUP(F2465,Soutez!A:C,3,FALSE)","v":2024},14,3605,0.96000000000000008,7349,7055,null,null,"ASW 20","NS",""]
["Radoslav Pur",1973,"M","Hosín","CZ/C1","PPV 2024 - Klub",{"$f":"VLOOKUP(F2466,Soutez!A:B,2,FALSE)","v":"CZ"},{"$f":"VLOOKUP(F2466,Soutez!A:C,3,FALSE)","v":2024},15,3277,0.96000000000000008,{"$f":"ROUND(J2466/MAX($J$2452:$J$2481)*10000*0.7+(MAX($I$2452:$I$2481)-I2466)/(MAX($I$2452:$I$2481)-1)*10000*0.3,0)","v":6727},6458,"x",null,"DG 200","EK",""]
["Filip Sirc",1993,"M","Letňany","CZ/C1","PPV 2024 - Klub",{"$f":"VLOOKUP(F2467,Soutez!A:B,2,FALSE)","v":"CZ"},{"$f":"VLOOKUP(F2467,Soutez!A:C,3,FALSE)","v":2024},16,3075,0.96000000000000008,6305,6053,"x",null,"ASW 19","WT",""]
["Petr Rozhon",1972,"M","Hosín","CZ/C1","PPV 2024 - Klub",{"$f":"VLOOKUP(F2468,Soutez!A:B,2,FALSE)","v":"CZ"},{"$f":"VLOOKUP(F2468,Soutez!A:C,3,FALSE)","v":2024},17,3014,0.96000000000000008,6105,5861,"x",null,"VSO-10",9,""]
["Frantisek Suna",1983,"M","Hosín","CZ/C1","PPV 2024 - Klub",{"$f":"VLOOKUP(F2469,Soutez!A:B,2,FALSE)","v":"CZ"},{"$f":"VLOOKUP(F2469,Soutez!A:C,3,FALSE)","v":2024},18,2943,0.96000000000000008,5890,5654,"x",null,"DG 100",78,""]
["David Benda",1974,"M","Letňany","CZ/C1","PPV 2024 - Klub",{"$f":"VLOOKUP(F2470,Soutez!A:B,2,FALSE)","v":"CZ"},{"$f":"VLOOKUP(F2470,Soutez!A:C,3,FALSE)","v":2024},19,2848,0.96000000000000008,5636,5411,"x",null,"G 102 Astir CS","PD",""]
["Filip Malik",2001,"M","Letňany","CZ/C1","PPV 2024 - Klub",{"$f":"VLOOKUP(F2471,Soutez!A:B,2,FALSE)","v":"CZ"},{"$f":"VLOOKUP(F2471,Soutez!A:C,3,FALSE)","v":2024},20,2820,0.96000000000000008,5488,5268,"x",null,"VSO-10","L5","Junior v roce 2025"]
["Miloslav Hulmak",1963,"M","Hosín","CZ/C1","PPV 2024 - Klub",{"$f":"VLOOKUP(F2472,Soutez!A:B,2,FALSE)","v":"CZ"},{"$f":"VLOOKUP(F2472,Soutez!A:C,3,FALSE)","v":2024},21,2679,0.96000000000000008,5162,4956,"x",null,"ASW 15 B","HH",""]
["Josef Kolman",1983,"M","Letňany","CZ/C1","PPV 2024 - Klub",{"$f":"VLOOKUP(F2473,Soutez!A:B,2,FALSE)","v":"CZ"},{"$f":"VLOOKUP(F2473,Soutez!A:C,3,FALSE)","v":2024},22,2570,0.96000000000000008,4887,4692,"x",null,"ASW 15 B","BA4",""]
["Ivan Kuzelka",1945,"M","Havlíčkův Brod","CZ/C2","PPV 2024 - Klub",{"$f":"VLOOKUP(F2474,Soutez!A:B,2,FALSE)","v":"CZ"},{"$f":"VLOOKUP(F2474,Soutez!A:C,3,FALSE)","v":2024},23,2429,0.96000000000000008,4561,4379,"x",null,"VT-116 Orlic 2","I",""]
["Jiri Holcman",1976,"M","Hosín","CZ/C1","PPV 2024 - Klub",{"$f":"VLOOKUP(F2475,Soutez!A:B,2,FALSE)","v":"CZ"},{"$f":"VLOOKUP(F2475,Soutez!A:C,3,FALSE)","v":2024},24,2305,0.96000000000000008,4261,4091,"x",null,"ASW 19","BO",""]
["Vojtech Hajek",1987,"M","Mladá Boleslav","CZ/C1","PPV 2024 - Klub",{"$f":"VLOOKUP(F2476,Soutez!A:B,2,FALSE)","v":"CZ"},{"$f":"VLOOKUP(F2476,Soutez!A:C,3,FALSE)","v":2024},25,2154,0.96000000000000008,3919,3762,"x",null,"Std. Cirrus","BW",""]
["Petr Styblo",1975,"M","Letňany","CZ/C1","PPV 2024 - Klub",{"$f":"VLOOKUP(F2477,Soutez!A:B,2,FALSE)","v":"CZ"},{"$f":"VLOOKUP(F2477,Soutez!A:C,3,FALSE)","v":2024},26,2006,0.96000000000000008,3582,3439,"x",null,"G 102 Astir CS","PJ",""]
["Vaclav Petru",1974,"M","Letňany","CZ/C1","PPV 2024 - Klub",{"$f":"VLOOKUP(F2478,Soutez!A:B,2,FALSE)","v":"CZ"},{"$f":"VLOOKUP(F2478,Soutez!A:C,3,FALSE)","v":2024},27,1952,0.96000000000000008,3393,3257,"x",null,"Alpin T","AI",""]
["Jiri Donat",1983,"M","Letňany","CZ/C1","PPV 2024 - Klub",{"$f":"VLOOKUP(F2479,Soutez!A:B,2,FALSE)","v":"CZ"},{"$f":"VLOOKUP(F2479,Soutez!A:C,3,FALSE)","v":2024},28,1172,0.96000000000000008,2058,1976,"x",null,"Std. Cirrus WL","JE",""]
["Milos Hrabe",1979,"M","Letňany","CZ/C1","PPV 2024 - Klub",{"$f":"VLOOKUP(F2480,Soutez!A:B,2,FALSE)","v":"CZ"},{"$f":"VLOOKUP(F2480,Soutez!A:C,3,FALSE)","v":2024},29,981,0.96000000000000008,1653,1587,"x",null,"Std. Cirrus","L8",""]
["Tomas Holenda",1956,"M","Havlíčkův Brod","CZ/C2","PPV 2024 - Klub",{"$f":"VLOOKUP(F2481,Soutez!A:B,2,FALSE)","v":"CZ"},{"$f":"VLOOKUP(F2481,Soutez!A:C,3,FALSE)","v":2024},30,771,0.96000000000000008,1218,1169,"x",null,"VT-116 Orlic 2","ZUZ",""]
["Jan Boruvka",{"$f":"VLOOKUP(A2482,Pilot,2,0)","v":1984},{"$f":"VLOOKUP(A2482,Pilot,5,0)","v":"M"},{"$f":"VLOOKUP(A2482,Pilot,3,0)","v":"Jičín"},{"$f":"VLOOKUP(A2482,Pilot,4,0)","v":"CZ/C2"},"PPV 2024 - Kombi",{"$f":"VLOOKUP(F2482,Soutez!A:B,2,FALSE)","v":"CZ"},{"$f":"VLOOKUP(F2482,Soutez!A:C,3,FALSE)","v":2024},1,3834,0.92500000000000004,{"$f":"ROUND(J2482/MAX($J$2482:$J$2512)*10000*0.7+(MAX($I$2482:$I$2512)-I2482)/(MAX($I$2482:$I$2512)-1)*10000*0.3,0)","v":10000},9250,"x",null,"Ventus c 17.6m","EG",""]
["Jan Kotan",1982,"M","Letňany","CZ/C1","PPV 2024 - Kombi",{"$f":"VLOOKUP(F2483,Soutez!A:B,2,FALSE)","v":"CZ"},{"$f":"VLOOKUP(F2483,Soutez!A:C,3,FALSE)","v":2024},2,3785,0.92500000000000004,{"$f":"ROUND(J2483/MAX($J$2482:$J$2512)*10000*0.7+(MAX($I$2482:$I$2512)-I2483)/(MAX($I$2482:$I$2512)-1)*10000*0.3,0)","v":9811},9075,"x",null,"AS 33 Es 18m","CAT",{"$f":"IF(ISERROR(VLOOKUP(A2483,Pilot,6,0)),\"Není v databázi\",VLOOKUP(A2483,Pilot,6,0))","v":""}]
["Tomas Bobok",null,null,"Prievidza","SK","PPV 2024 - Kombi",{"$f":"VLOOKUP(F2484,Soutez!A:B,2,FALSE)","v":"CZ"},{"$f":"VLOOKUP(F2484,Soutez!A:C,3,FALSE)","v":2024},3,3735,0.92500000000000004,9619,8898,null,null,"Discus 2cT 18m","AL","Není v databázi"]
["Jan Kantor",1983,"M","Letňany","CZ/C1","PPV 2024 - Kombi",{"$f":"VLOOKUP(F2485,Soutez!A:B,2,FALSE)","v":"CZ"},{"$f":"VLOOKUP(F2485,Soutez!A:C,3,FALSE)","v":2024},4,3721,0.92500000000000004,9494,8782,"x",null,"ASG 29 E 18m","QX",""]
["Ondrej Bordovsky",1983,"M","Krnov","CZ/M","PPV 2024 - Kombi",{"$f":"VLOOKUP(F2486,Soutez!A:B,2,FALSE)","v":"CZ"},{"$f":"VLOOKUP(F2486,Soutez!A:C,3,FALSE)","v":2024},5,3663,0.92500000000000004,9288,8591,null,null,"Ventus c 17.6m","AD",""]
["Eduard Niko",1988,"M","Zbraslavice","CZ/C1","PPV 2024 - Kombi",{"$f":"VLOOKUP(F2487,Soutez!A:B,2,FALSE)","v":"CZ"},{"$f":"VLOOKUP(F2487,Soutez!A:C,3,FALSE)","v":2024},6,3609,0.92500000000000004,9089,8407,"x",null,"Discus 2cT 18m","AE",""]
["Josef Busek",1967,"M","Hosín","CZ/C1","PPV 2024 - Kombi",{"$f":"VLOOKUP(F2488,Soutez!A:B,2,FALSE)","v":"CZ"},{"$f":"VLOOKUP(F2488,Soutez!A:C,3,FALSE)","v":2024},7,3582,0.92500000000000004,8940,8270,"x",null,"Duo Discus X","BB",""]
["Zdenek Boruvka 86",1986,"M","Jičín","CZ/C2","PPV 2024 - Kombi",{"$f":"VLOOKUP(F2489,Soutez!A:B,2,FALSE)","v":"CZ"},{"$f":"VLOOKUP(F2489,Soutez!A:C,3,FALSE)","v":2024},8,3426,0.92500000000000004,8555,7913,"x",null,"Ventus c 17.6m","VV",""]
["David Zapletal",1970,"M","Mladá Boleslav","CZ/C1","PPV 2024 - Kombi",{"$f":"VLOOKUP(F2490,Soutez!A:B,2,FALSE)","v":"CZ"},{"$f":"VLOOKUP(F2490,Soutez!A:C,3,FALSE)","v":2024},9,3410,0.92500000000000004,8426,7794,"x",null,"Ventus c 17.6m","PUP",""]
["Dana Novakova",1965,"F","Mladá Boleslav","CZ/C1","PPV 2024 - Kombi",{"$f":"VLOOKUP(F2491,Soutez!A:B,2,FALSE)","v":"CZ"},{"$f":"VLOOKUP(F2491,Soutez!A:C,3,FALSE)","v":2024},10,3393,0.92500000000000004,8295,7673,"x",null,"LS 8 18m","ID",""]
["Jan Simon",1970,"M","Kralupy","CZ/C1","PPV 2024 - Kombi",{"$f":"VLOOKUP(F2492,Soutez!A:B,2,FALSE)","v":"CZ"},{"$f":"VLOOKUP(F2492,Soutez!A:C,3,FALSE)","v":2024},11,3274,0.92500000000000004,7978,7380,"x",null,"Ventus cT 17.6m","KR",""]
["Jan Dersak 69",1969,"M","Kralupy","CZ/C1","PPV 2024 - Kombi",{"$f":"VLOOKUP(F2493,Soutez!A:B,2,FALSE)","v":"CZ"},{"$f":"VLOOKUP(F2493,Soutez!A:C,3,FALSE)","v":2024},12,3256,0.92500000000000004,7845,7257,null,null,"HpH 304 MS Shark","DJ",""]
["Petr Hotovy",1958,"M","Česká Lípa","CZ/C2","PPV 2024 - Kombi",{"$f":"VLOOKUP(F2494,Soutez!A:B,2,FALSE)","v":"CZ"},{"$f":"VLOOKUP(F2494,Soutez!A:C,3,FALSE)","v":2024},13,3191,0.92500000000000004,7626,7054,null,null,"JS1 18m","IGC",""]
["Petr Babak",1973,"M","Hořice","CZ/C2","PPV 2024 - Kombi",{"$f":"VLOOKUP(F2495,Soutez!A:B,2,FALSE)","v":"CZ"},{"$f":"VLOOKUP(F2495,Soutez!A:C,3,FALSE)","v":2024},14,3166,0.92500000000000004,7480,6919,"x",null,"Ventus 2cM 18m","LS",""]
["Jiri Koudela",1974,"M","Vyškov","CZ/M","PPV 2024 - Kombi",{"$f":"VLOOKUP(F2496,Soutez!A:B,2,FALSE)","v":"CZ"},{"$f":"VLOOKUP(F2496,Soutez!A:C,3,FALSE)","v":2024},15,3121,0.92500000000000004,{"$f":"ROUND(J2496/MAX($J$2482:$J$2512)*10000*0.7+(MAX($I$2482:$I$2512)-I2496)/(MAX($I$2482:$I$2512)-1)*10000*0.3,0)","v":7298},6751,"x",null,"Ventus cM 17.6m","JK",""]
["Milos Srank",null,null,null,"SK","PPV 2024 - Kombi",{"$f":"VLOOKUP(F2497,Soutez!A:B,2,FALSE)","v":"CZ"},{"$f":"VLOOKUP(F2497,Soutez!A:C,3,FALSE)","v":2024},16,3051,0.92500000000000004,7070,6540,null,null,"ASG 29 E 18m","LK","Není v databázi"]
["Zdenek Schenk",1972,"M","Hranice","CZ/M","PPV 2024 - Kombi",{"$f":"VLOOKUP(F2498,Soutez!A:B,2,FALSE)","v":"CZ"},{"$f":"VLOOKUP(F2498,Soutez!A:C,3,FALSE)","v":2024},17,3014,0.92500000000000004,6903,6385,"x",null,"ASG 29 E 18m","SNeK",""]
["Zdenek Boruvka 54",1954,"M","Jičín","CZ/C2","PPV 2024 - Kombi",{"$f":"VLOOKUP(F2499,Soutez!A:B,2,FALSE)","v":"CZ"},{"$f":"VLOOKUP(F2499,Soutez!A:C,3,FALSE)","v":2024},18,2983,0.92500000000000004,6746,6240,"x",null,"LS 8 18m","ZB",""]
["Marek Blatak",1969,"M","Šumperk","CZ/M","PPV 2024 - Kombi",{"$f":"VLOOKUP(F2500,Soutez!A:B,2,FALSE)","v":"CZ"},{"$f":"VLOOKUP(F2500,Soutez!A:C,3,FALSE)","v":2024},19,2929,0.92500000000000004,6548,6057,"x",null,"Duo Discus T","ZS",""]
["Ales Vyhnal",1989,"M","Kralupy","CZ/C1","PPV 2024 - Kombi",{"$f":"VLOOKUP(F2501,Soutez!A:B,2,FALSE)","v":"CZ"},{"$f":"VLOOKUP(F2501,Soutez!A:C,3,FALSE)","v":2024},20,2918,0.92500000000000004,6428,5946,"x",null,"Nimbus 3 22.9m WL","HS",""]
["Vaclav Hruza",1965,"M","Břeclav","CZ/M","PPV 2024 - Kombi",{"$f":"VLOOKUP(F2502,Soutez!A:B,2,FALSE)","v":"CZ"},{"$f":"VLOOKUP(F2502,Soutez!A:C,3,FALSE)","v":2024},21,2798,0.92500000000000004,6109,5651,"x",null,"HpH 304 TS Twin Shark","PH",""]
["Tomas Ptacovsky",1981,"M","Letňany","CZ/C1","PPV 2024 - Kombi",{"$f":"VLOOKUP(F2503,Soutez!A:B,2,FALSE)","v":"CZ"},{"$f":"VLOOKUP(F2503,Soutez!A:C,3,FALSE)","v":2024},22,2612,0.92500000000000004,5669,5244,"x",null,"Ventus c 17.6m","UC",""]
["Jan Florian",1992,"M","Zbraslavice","CZ/C1","PPV 2024 - Kombi",{"$f":"VLOOKUP(F2504,Soutez!A:B,2,FALSE)","v":"CZ"},{"$f":"VLOOKUP(F2504,Soutez!A:C,3,FALSE)","v":2024},23,2377,{"$f":"VLOOKUP(F2504,Soutez,12,0)","v":0.92500000000000004},5140,4755,null,null,"Ventus c 17.6m","LS",""]
["Peter Janoska",null,null,null,"SK","PPV 2024 - Kombi",{"$f":"VLOOKUP(F2505,Soutez!A:B,2,FALSE)","v":"CZ"},{"$f":"VLOOKUP(F2505,Soutez!A:C,3,FALSE)","v":2024},24,2337,0.92500000000000004,4967,4594,null,null,"LS 6 17.5m","N6","Není v databázi"]
["Martin Holik",1959,"M","Letňany","CZ/C1","PPV 2024 - Kombi",{"$f":"VLOOKUP(F2506,Soutez!A:B,2,FALSE)","v":"CZ"},{"$f":"VLOOKUP(F2506,Soutez!A:C,3,FALSE)","v":2024},25,2275,0.92500000000000004,4754,4397,"x",null,"LS 6 18m","F5",""]
["Ivo Burda",1962,"M","Zbraslavice","CZ/C1","PPV 2024 - Kombi",{"$f":"VLOOKUP(F2507,Soutez!A:B,2,FALSE)","v":"CZ"},{"$f":"VLOOKUP(F2507,Soutez!A:C,3,FALSE)","v":2024},26,2192,0.92500000000000004,4502,4164,"x",null,"Ventus 2cxM 18m","IB",""]
["Lukas Benedikt",null,null,null,"SK","PPV 2024 - Kombi",{"$f":"VLOOKUP(F2508,Soutez!A:B,2,FALSE)","v":"CZ"},{"$f":"VLOOKUP(F2508,Soutez!A:C,3,FALSE)","v":2024},27,2076,0.92500000000000004,4190,3876,null,null,"Ventus 3F 18m","LB","Není v databázi"]
["Antonin Kutalek",1943,"M","Zábřeh","CZ/M","PPV 2024 - Kombi",{"$f":"VLOOKUP(F2509,Soutez!A:B,2,FALSE)","v":"CZ"},{"$f":"VLOOKUP(F2509,Soutez!A:C,3,FALSE)","v":2024},28,1894,0.92500000000000004,3758,3476,null,null,"LAK-17A T 18m","GL",""]
["Radek Zima 75",1975,"M","Břeclav","CZ/M","PPV 2024 - Kombi",{"$f":"VLOOKUP(F2510,Soutez!A:B,2,FALSE)","v":"CZ"},{"$f":"VLOOKUP(F2510,Soutez!A:C,3,FALSE)","v":2024},29,1822,0.92500000000000004,3527,3262,"x",null,"Ventus cM 17.6m","RK",""]
["Milos Mach",null,null,null,"SK","PPV 2024 - Kombi",{"$f":"VLOOKUP(F2511,Soutez!A:B,2,FALSE)","v":"CZ"},{"$f":"VLOOKUP(F2511,Soutez!A:C,3,FALSE)","v":2024},30,1739,0.92500000000000004,3275,3029,null,null,"Discus 2cT 18m","JH","Není v databázi"]
["Juraj Dudas",1990,"M","Křižanov","CZ/M","PPV 2024 - Kombi",{"$f":"VLOOKUP(F2512,Soutez!A:B,2,FALSE)","v":"CZ"},{"$f":"VLOOKUP(F2512,Soutez!A:C,3,FALSE)","v":2024},31,1654,0.92500000000000004,3020,2794,"x",null,"Ventus cT 17.6m","JQ",""]
["David Riha",{"$f":"VLOOKUP(A2513,Pilot,2,0)","v":1983},{"$f":"VLOOKUP(A2513,Pilot,5,0)","v":"M"},{"$f":"VLOOKUP(A2513,Pilot,3,0)","v":"Vlašim"},{"$f":"VLOOKUP(A2513,Pilot,4,0)","v":"CZ/C1"},"Ranský pohár 2024 - Klub",{"$f":"VLOOKUP(F2513,Soutez!A:B,2,FALSE)","v":"CZ"},{"$f":"VLOOKUP(F2513,Soutez!A:C,3,FALSE)","v":2024},1,3849,0.76500000000000001,{"$f":"ROUND(J2513/MAX($J$2513:$J$2534)*10000*0.7+(MAX($I$2513:$I$2534)-I2513)/(MAX($I$2513:$I$2534)-1)*10000*0.3,0)","v":10000},7650,"x",null,"ASW 15 B","XE",""]
["Jiri Maier 99",1999,"M","Raná","CZ/C2","Ranský pohár 2024 - Klub",{"$f":"VLOOKUP(F2514,Soutez!A:B,2,FALSE)","v":"CZ"},{"$f":"VLOOKUP(F2514,Soutez!A:C,3,FALSE)","v":2024},2,3648,0.76500000000000001,9492,7261,"x",null,"Discus bT WL","TAL",""]
["Petr Panek",{"$f":"VLOOKUP(A2515,Pilot,2,0)","v":1975},{"$f":"VLOOKUP(A2515,Pilot,5,0)","v":"M"},{"$f":"VLOOKUP(A2515,Pilot,3,0)","v":"Dvůr Králové"},{"$f":"VLOOKUP(A2515,Pilot,4,0)","v":"CZ/C2"},"Ranský pohár 2024 - Klub",{"$f":"VLOOKUP(F2515,Soutez!A:B,2,FALSE)","v":"CZ"},{"$f":"VLOOKUP(F2515,Soutez!A:C,3,FALSE)","v":2024},3,3607,0.76500000000000001,9274,7095,"x",null,"Std. Cirrus WL","UY",""]
["Jiri Maier 66",{"$f":"VLOOKUP(A2516,Pilot,2,0)","v":1966},{"$f":"VLOOKUP(A2516,Pilot,5,0)","v":"M"},{"$f":"VLOOKUP(A2516,Pilot,3,0)","v":"Raná"},{"$f":"VLOOKUP(A2516,Pilot,4,0)","v":"CZ/C2"},"Ranský pohár 2024 - Klub",{"$f":"VLOOKUP(F2516,Soutez!A:B,2,FALSE)","v":"CZ"},{"$f":"VLOOKUP(F2516,Soutez!A:C,3,FALSE)","v":2024},4,3496,0.76500000000000001,8929,6831,"x",null,"ASW 24 E WL","JM",""]
["Petr Benes",1980,"M","Raná","CZ/C2","Ranský pohár 2024 - Klub",{"$f":"VLOOKUP(F2517,Soutez!A:B,2,FALSE)","v":"CZ"},{"$f":"VLOOKUP(F2517,Soutez!A:C,3,FALSE)","v":2024},5,349,0.76500000000000001,3063,2343,"x",null,"Std. Cirrus","EX",""]
["Marek Svancara",1976,"M","GAC Benešov","CZ/C1","Ranský pohár 2024 - Klub",{"$f":"VLOOKUP(F2518,Soutez!A:B,2,FALSE)","v":"CZ"},{"$f":"VLOOKUP(F2518,Soutez!A:C,3,FALSE)","v":2024},6,3472,0.76500000000000001,8600,6579,"x",null,"Std. Cirrus","GT",""]
["Frantisek Filandr",1956,"M","Most","CZ/C2","Ranský pohár 2024 - Klub",{"$f":"VLOOKUP(F2519,Soutez!A:B,2,FALSE)","v":"CZ"},{"$f":"VLOOKUP(F2519,Soutez!A:C,3,FALSE)","v":2024},7,3296,0.76500000000000001,8137,6225,"x",null,"Std. Cirrus","FF",""]
["Jan Smaha",{"$f":"VLOOKUP(A2520,Pilot,2,0)","v":1958},{"$f":"VLOOKUP(A2520,Pilot,5,0)","v":"M"},{"$f":"VLOOKUP(A2520,Pilot,3,0)","v":"Česká Lípa"},{"$f":"VLOOKUP(A2520,Pilot,4,0)","v":"CZ/C2"},"Ranský pohár 2024 - Klub",{"$f":"VLOOKUP(F2520,Soutez!A:B,2,FALSE)","v":"CZ"},{"$f":"VLOOKUP(F2520,Soutez!A:C,3,FALSE)","v":2024},8,3246,0.76500000000000001,7903,6046,null,null,"ASW 15 B","CW",""]
["Dalibor Pek",1968,"M","Raná","CZ/C2","Ranský pohár 2024 - Klub",{"$f":"VLOOKUP(F2521,Soutez!A:B,2,FALSE)","v":"CZ"},{"$f":"VLOOKUP(F2521,Soutez!A:C,3,FALSE)","v":2024},9,2918,0.76500000000000001,7164,{"$f":"ROUND(K2521*L2521,0)","v":5480},"x",null,"Std. Cirrus","GP",""]
["Adam Laburda",2005,"M","Raná","CZ/C2","Ranský pohár 2024 - Klub",{"$f":"VLOOKUP(F2522,Soutez!A:B,2,FALSE)","v":"CZ"},{"$f":"VLOOKUP(F2522,Soutez!A:C,3,FALSE)","v":2024},10,2398,0.76500000000000001,6075,4647,"x",null,"VSO-10",59,"Junior v roce 2025"]
["Vojtech Kostejn",1974,"M","Česká Lípa","CZ/C2","Ranský pohár 2024 - Klub",{"$f":"VLOOKUP(F2523,Soutez!A:B,2,FALSE)","v":"CZ"},{"$f":"VLOOKUP(F2523,Soutez!A:C,3,FALSE)","v":2024},11,2318,0.76500000000000001,5787,4427,"x",null,"ASW 15 B","T",""]
["Tomas Novak",1974,"M","Česká Lípa","CZ/C2","Ranský pohár 2024 - Klub",{"$f":"VLOOKUP(F2524,Soutez!A:B,2,FALSE)","v":"CZ"},{"$f":"VLOOKUP(F2524,Soutez!A:C,3,FALSE)","v":2024},12,2152,0.76500000000000001,5342,4087,"x",null,"Std. Cirrus","CV",""]
["Daniel Devecka",1981,"M","Vlašim","CZ/C1","Ranský pohár 2024 - Klub",{"$f":"VLOOKUP(F2525,Soutez!A:B,2,FALSE)","v":"CZ"},{"$f":"VLOOKUP(F2525,Soutez!A:C,3,FALSE)","v":2024},13,1854,0.76500000000000001,4657,3563,"x",null,"LS 3a","2G",""]
["Tomas Mezera",1973,"M","Raná","CZ/C2","Ranský pohár 2024 - Klub",{"$f":"VLOOKUP(F2526,Soutez!A:B,2,FALSE)","v":"CZ"},{"$f":"VLOOKUP(F2526,Soutez!A:C,3,FALSE)","v":2024},14,1796,0.76500000000000001,4409,3373,"x",null,"M-35",36,""]
["Rostislav Fric",1973,"M","Raná","CZ/C2","Ranský pohár 2024 - Klub",{"$f":"VLOOKUP(F2527,Soutez!A:B,2,FALSE)","v":"CZ"},{"$f":"VLOOKUP(F2527,Soutez!A:C,3,FALSE)","v":2024},15,1767,0.76500000000000001,4214,3224,"x",null,"ASW 19","FR",""]
["Jana Mezerova",1975,"F","Raná","CZ/C2","Ranský pohár 2024 - Klub",{"$f":"VLOOKUP(F2528,Soutez!A:B,2,FALSE)","v":"CZ"},{"$f":"VLOOKUP(F2528,Soutez!A:C,3,FALSE)","v":2024},16,1761,0.76500000000000001,4060,3106,"x","x","LS 1-0","AL",""]
["Martin Fric",1967,"M","Raná","CZ/C2","Ranský pohár 2024 - Klub",{"$f":"VLOOKUP(F2529,Soutez!A:B,2,FALSE)","v":"CZ"},{"$f":"VLOOKUP(F2529,Soutez!A:C,3,FALSE)","v":2024},17,161,0.76500000000000001,1007,770,null,null,"Janus 18.2m","RA",""]
["Jaromir Vlk",1959,"M","Šumperk","CZ/M","Ranský pohár 2024 - Klub",{"$f":"VLOOKUP(F2530,Soutez!A:B,2,FALSE)","v":"CZ"},{"$f":"VLOOKUP(F2530,Soutez!A:C,3,FALSE)","v":2024},18,1514,0.76500000000000001,3325,2544,null,null,"ASW 15 B",15,""]
["Eva Klapkova",1993,"F","Raná","CZ/C2","Ranský pohár 2024 - Klub",{"$f":"VLOOKUP(F2531,Soutez!A:B,2,FALSE)","v":"CZ"},{"$f":"VLOOKUP(F2531,Soutez!A:C,3,FALSE)","v":2024},19,1436,0.76500000000000001,3040,2326,"x","x","ASW 15","TZ",""]
["Sarka Lochova",1966,"F","Šumperk","CZ/M","Ranský pohár 2024 - Klub",{"$f":"VLOOKUP(F2532,Soutez!A:B,2,FALSE)","v":"CZ"},{"$f":"VLOOKUP(F2532,Soutez!A:C,3,FALSE)","v":2024},20,1373,0.76500000000000001,2783,2129,"x","x","ASW 15 B","R5",""]
["Pavel Melichar",1983,"M","Vlašim","CZ/C1","Ranský pohár 2024 - Klub",{"$f":"VLOOKUP(F2533,Soutez!A:B,2,FALSE)","v":"CZ"},{"$f":"VLOOKUP(F2533,Soutez!A:C,3,FALSE)","v":2024},21,341,0.76500000000000001,763,584,"x",null,"VSO-10 C","V3",""]
["Petr Lonsky",1965,"M","Toužim","CZ/C1","Ranský pohár 2024 - Klub",{"$f":"VLOOKUP(F2534,Soutez!A:B,2,FALSE)","v":"CZ"},{"$f":"VLOOKUP(F2534,Soutez!A:C,3,FALSE)","v":2024},22,0,0.76500000000000001,0,0,null,null,"Cirrus VTC 17.74m","JP",""]
["Milos Dedera",{"$f":"VLOOKUP(A2535,Pilot,2,0)","v":1956},{"$f":"VLOOKUP(A2535,Pilot,5,0)","v":"M"},{"$f":"VLOOKUP(A2535,Pilot,3,0)","v":"Jihlava"},{"$f":"VLOOKUP(A2535,Pilot,4,0)","v":"CZ/M"},"Pohár Českého Ráje 2024 - Klub",{"$f":"VLOOKUP(F2535,Soutez!A:B,2,FALSE)","v":"CZ"},{"$f":"VLOOKUP(F2535,Soutez!A:C,3,FALSE)","v":2024},1,1184,0.73,{"$f":"ROUND(J2535/MAX($J$2535:$J$2550)*10000*0.7+(MAX($I$2535:$I$2550)-I2535)/(MAX($I$2535:$I$2550)-1)*10000*0.3,0)","v":10000},7300,"x",null,"Tukan","MD",""]
["Petr Rygl",{"$f":"VLOOKUP(A2536,Pilot,2,0)","v":1966},{"$f":"VLOOKUP(A2536,Pilot,5,0)","v":"M"},{"$f":"VLOOKUP(A2536,Pilot,3,0)","v":"Jičín"},{"$f":"VLOOKUP(A2536,Pilot,4,0)","v":"CZ/C2"},"Pohár Českého Ráje 2024 - Klub",{"$f":"VLOOKUP(F2536,Soutez!A:B,2,FALSE)","v":"CZ"},{"$f":"VLOOKUP(F2536,Soutez!A:C,3,FALSE)","v":2024},2,1016,0.73,{"$f":"ROUND(J2536/MAX($J$2535:$J$2550)*10000*0.7+(MAX($I$2535:$I$2550)-I2536)/(MAX($I$2535:$I$2550)-1)*10000*0.3,0)","v":8792},6418,"x",null,"ASW 15","A18",""]
["Petr Tax",1968,"M","Jičín","CZ/C2","Pohár Českého Ráje 2024 - Klub",{"$f":"VLOOKUP(F2537,Soutez!A:B,2,FALSE)","v":"CZ"},{"$f":"VLOOKUP(F2537,Soutez!A:C,3,FALSE)","v":2024},3,941,0.73,8135,5939,"x",null,"TEREJ II 13,5","TP",""]
["Jan Sobek",2004,"M","Hranice","CZ/M","Pohár Českého Ráje 2024 - Klub",{"$f":"VLOOKUP(F2538,Soutez!A:B,2,FALSE)","v":"CZ"},{"$f":"VLOOKUP(F2538,Soutez!A:C,3,FALSE)","v":2024},4,724,0.73,6638,4846,"x",null,"TST-10 Atlas M",7,"Junior v roce 2025"]
["Radek Tobolka",1977,"M","Jičín","CZ/C2","Pohár Českého Ráje 2024 - Klub",{"$f":"VLOOKUP(F2539,Soutez!A:B,2,FALSE)","v":"CZ"},{"$f":"VLOOKUP(F2539,Soutez!A:C,3,FALSE)","v":2024},5,699,0.73,6275,4581,"x",null,"TST-10 Atlas M",10,""]
["Dusan Patocka",1972,"M","Vrchlabí","CZ/C2","Pohár Českého Ráje 2024 - Klub",{"$f":"VLOOKUP(F2540,Soutez!A:B,2,FALSE)","v":"CZ"},{"$f":"VLOOKUP(F2540,Soutez!A:C,3,FALSE)","v":2024},6,651,0.73,5777,4217,"x",null,"VT-116",116,""]
["Ondrej Stepan",1984,"M","Žamberk","CZ/C2","Pohár Českého Ráje 2024 - Klub",{"$f":"VLOOKUP(F2541,Soutez!A:B,2,FALSE)","v":"CZ"},{"$f":"VLOOKUP(F2541,Soutez!A:C,3,FALSE)","v":2024},7,630,0.73,5439,3970,"x",null,"L-SPATZ 55","D1",""]
["Martin Stransky",1964,"M","Jičín","CZ/C2","Pohár Českého Ráje 2024 - Klub",{"$f":"VLOOKUP(F2542,Soutez!A:B,2,FALSE)","v":"CZ"},{"$f":"VLOOKUP(F2542,Soutez!A:C,3,FALSE)","v":2024},8,572,0.73,4882,3564,"x",null,"Std. Cirrus","SC",""]
["Boris Guic",1966,"M","Zbraslavice","CZ/C1","Pohár Českého Ráje 2024 - Klub",{"$f":"VLOOKUP(F2543,Soutez!A:B,2,FALSE)","v":"CZ"},{"$f":"VLOOKUP(F2543,Soutez!A:C,3,FALSE)","v":2024},9,549,0.73,4531,3308,"x",null,"TEREJ II 13,5","BG",""]
["Jan Karas",1985,"M","Jihlava","CZ/M","Pohár Českého Ráje 2024 - Klub",{"$f":"VLOOKUP(F2544,Soutez!A:B,2,FALSE)","v":"CZ"},{"$f":"VLOOKUP(F2544,Soutez!A:C,3,FALSE)","v":2024},10,461,0.73,3797,2772,"x",null,"Banjo MH","JK",""]
["Milan Bado",1975,"M","Kolín","CZ/C1","Pohár Českého Ráje 2024 - Klub",{"$f":"VLOOKUP(F2545,Soutez!A:B,2,FALSE)","v":"CZ"},{"$f":"VLOOKUP(F2545,Soutez!A:C,3,FALSE)","v":2024},11,330,0.73,2808,2050,"x",null,"Std. Cirrus","FU",{"$f":"IF(ISERROR(VLOOKUP(A2545,Pilot,6,0)),\"Není v databázi\",VLOOKUP(A2545,Pilot,6,0))","v":""}]
["Martin Markl",1960,"M","Kolín","CZ/C1","Pohár Českého Ráje 2024 - Klub",{"$f":"VLOOKUP(F2546,Soutez!A:B,2,FALSE)","v":"CZ"},{"$f":"VLOOKUP(F2546,Soutez!A:C,3,FALSE)","v":2024},12,72,0.73,1069,780,null,null,"TEREJ I","VIP",""]
["Jiri Pixa",1968,"M","Slaný","CZ/C1","Pohár Českého Ráje 2024 - Klub",{"$f":"VLOOKUP(F2547,Soutez!A:B,2,FALSE)","v":"CZ"},{"$f":"VLOOKUP(F2547,Soutez!A:C,3,FALSE)","v":2024},13,33,0.73,624,456,"x",null,"Astir CS Jeans","HXY",""]
["Ondrej Dostal",0,"M",0,"CZ","Pohár Českého Ráje 2024 - Klub",{"$f":"VLOOKUP(F2548,Soutez!A:B,2,FALSE)","v":"CZ"},{"$f":"VLOOKUP(F2548,Soutez!A:C,3,FALSE)","v":2024},14,32,0.73,403,294,"x",null,"VIVA","OD",""]
["Karel Ertl",1939,"M","LK Břeclav","CZ/M","Pohár Českého Ráje 2024 - Klub",{"$f":"VLOOKUP(F2549,Soutez!A:B,2,FALSE)","v":"CZ"},{"$f":"VLOOKUP(F2549,Soutez!A:C,3,FALSE)","v":2024},15,0,0.73,0,0,null,null,"TST-10 Atlas M","KE",""]
["Pavel Schejbal",1967,"M","Vrchlabí","CZ/C2","Pohár Českého Ráje 2024 - Klub",{"$f":"VLOOKUP(F2550,Soutez!A:B,2,FALSE)","v":"CZ"},{"$f":"VLOOKUP(F2550,Soutez!A:C,3,FALSE)","v":2024},15,0,0.73,0,0,null,null,"TUKAN",74,""]
["David Popovsky",{"$f":"VLOOKUP(A2551,Pilot,2,0)","v":1976},{"$f":"VLOOKUP(A2551,Pilot,5,0)","v":"M"},{"$f":"VLOOKUP(A2551,Pilot,3,0)","v":"Rakovník"},{"$f":"VLOOKUP(A2551,Pilot,4,0)","v":"CZ/C1"},"Rakovnická Dlaždice 2024 - Kombi",{"$f":"VLOOKUP(F2551,Soutez!A:B,2,FALSE)","v":"CZ"},{"$f":"VLOOKUP(F2551,Soutez!A:C,3,FALSE)","v":2024},1,3242,0.755,{"$f":"ROUND(J2551/MAX($J$2551:$J$2570)*10000*0.7+(MAX($I$2551:$I$2570)-I2551)/(MAX($I$2551:$I$2570)-1)*10000*0.3,0)","v":10000},7550,"x",null,"ASW 24",76,""]
["Jiri Vondracek",{"$f":"VLOOKUP(A2552,Pilot,2,0)","v":1989},{"$f":"VLOOKUP(A2552,Pilot,5,0)","v":"M"},{"$f":"VLOOKUP(A2552,Pilot,3,0)","v":"Kladno"},{"$f":"VLOOKUP(A2552,Pilot,4,0)","v":"CZ/C1"},"Rakovnická Dlaždice 2024 - Kombi",{"$f":"VLOOKUP(F2552,Soutez!A:B,2,FALSE)","v":"CZ"},{"$f":"VLOOKUP(F2552,Soutez!A:C,3,FALSE)","v":2024},2,3183,0.755,{"$f":"ROUND(J2552/MAX($J$2551:$J$2570)*10000*0.7+(MAX($I$2551:$I$2570)-I2552)/(MAX($I$2551:$I$2570)-1)*10000*0.3,0)","v":9715},7335,"x",null,"Std. Libelle",442,""]
["Vojtech Vach 03",2003,"M","Vrchlabí","CZ/C2","Rakovnická Dlaždice 2024 - Kombi",{"$f":"VLOOKUP(F2553,Soutez!A:B,2,FALSE)","v":"CZ"},{"$f":"VLOOKUP(F2553,Soutez!A:C,3,FALSE)","v":2024},3,3173,0.755,9535,7199,"x",null,"ASW 19","HB","Junior v roce 2025"]
["Alex Gulich",2005,"M","Slaný","CZ/C1","Rakovnická Dlaždice 2024 - Kombi",{"$f":"VLOOKUP(F2554,Soutez!A:B,2,FALSE)","v":"CZ"},{"$f":"VLOOKUP(F2554,Soutez!A:C,3,FALSE)","v":2024},4,3086,0.755,9189,6938,"x",null,"Std. Cirrus","TI","Junior v roce 2025"]
["Jakub KmoSek",1978,"M","Zbraslavice","CZ/C1","Rakovnická Dlaždice 2024 - Kombi",{"$f":"VLOOKUP(F2555,Soutez!A:B,2,FALSE)","v":"CZ"},{"$f":"VLOOKUP(F2555,Soutez!A:C,3,FALSE)","v":2024},5,2990,0.755,8824,6662,null,null,"Std. Cirrus","ST",""]
["Jan Hlavacek 65",1965,"M","Rakovník","CZ/C1","Rakovnická Dlaždice 2024 - Kombi",{"$f":"VLOOKUP(F2556,Soutez!A:B,2,FALSE)","v":"CZ"},{"$f":"VLOOKUP(F2556,Soutez!A:C,3,FALSE)","v":2024},6,2983,0.755,8651,6532,"x",null,"Discus b",79,""]
["Jan Beran",1999,"M","Kladno","CZ/C1","Rakovnická Dlaždice 2024 - Kombi",{"$f":"VLOOKUP(F2557,Soutez!A:B,2,FALSE)","v":"CZ"},{"$f":"VLOOKUP(F2557,Soutez!A:C,3,FALSE)","v":2024},7,2927,0.755,8372,6321,null,null,"ASW 20","KL",""]
["Jan Vozeh",1995,"M","Rakovník","CZ/C1","Rakovnická Dlaždice 2024 - Kombi",{"$f":"VLOOKUP(F2558,Soutez!A:B,2,FALSE)","v":"CZ"},{"$f":"VLOOKUP(F2558,Soutez!A:C,3,FALSE)","v":2024},8,2852,0.755,8053,6080,"x",null,"LS 7","LZ",""]
["Eliska Kudejova",2006,"F","Strakonice","CZ/C1","Rakovnická Dlaždice 2024 - Kombi",{"$f":"VLOOKUP(F2559,Soutez!A:B,2,FALSE)","v":"CZ"},{"$f":"VLOOKUP(F2559,Soutez!A:C,3,FALSE)","v":2024},9,2501,0.755,7137,5388,"x","x","DG 100","JL","Junior v roce 2025"]
["Miroslav Macik",1983,"M","Rakovník","CZ/C1","Rakovnická Dlaždice 2024 - Kombi",{"$f":"VLOOKUP(F2560,Soutez!A:B,2,FALSE)","v":"CZ"},{"$f":"VLOOKUP(F2560,Soutez!A:C,3,FALSE)","v":2024},10,2478,0.755,6929,5231,"x",null,"Std. Cirrus","OG",""]
["Jan Konecny",1972,"M","Rakovník","CZ/C1","Rakovnická Dlaždice 2024 - Kombi",{"$f":"VLOOKUP(F2561,Soutez!A:B,2,FALSE)","v":"CZ"},{"$f":"VLOOKUP(F2561,Soutez!A:C,3,FALSE)","v":2024},11,2278,0.755,6340,4787,"x",null,"LS 7 WL",72,""]
["Vojtech Pavek",2000,"M","Medlánky","CZ/M","Rakovnická Dlaždice 2024 - Kombi",{"$f":"VLOOKUP(F2562,Soutez!A:B,2,FALSE)","v":"CZ"},{"$f":"VLOOKUP(F2562,Soutez!A:C,3,FALSE)","v":2024},12,2232,0.755,6082,4592,"x",null,"Std. Cirrus","MP","Junior v roce 2025"]
["Jiri Maier 66",1966,"M","Raná","CZ/C2","Rakovnická Dlaždice 2024 - Kombi",{"$f":"VLOOKUP(F2563,Soutez!A:B,2,FALSE)","v":"CZ"},{"$f":"VLOOKUP(F2563,Soutez!A:C,3,FALSE)","v":2024},13,2042,0.755,5514,4163,"x",null,"Discus bt WL","TAL",""]
["Josef Beran",1982,"M","Slaný","CZ/C1","Rakovnická Dlaždice 2024 - Kombi",{"$f":"VLOOKUP(F2564,Soutez!A:B,2,FALSE)","v":"CZ"},{"$f":"VLOOKUP(F2564,Soutez!A:C,3,FALSE)","v":2024},14,1954,0.755,5166,3900,"x",null,"Std. Cirrus","SN",""]
["Petr Lonsky",1965,"M","Toužim","CZ/C1","Rakovnická Dlaždice 2024 - Kombi",{"$f":"VLOOKUP(F2565,Soutez!A:B,2,FALSE)","v":"CZ"},{"$f":"VLOOKUP(F2565,Soutez!A:C,3,FALSE)","v":2024},15,1405,{"$f":"VLOOKUP(F2565,Soutez,12,0)","v":0.755},3823,2886,null,null,"Std. Cirrus","YU",""]
["Lubomir Mekota",1956,"M","Plasy","CZ/C1","Rakovnická Dlaždice 2024 - Kombi",{"$f":"VLOOKUP(F2566,Soutez!A:B,2,FALSE)","v":"CZ"},{"$f":"VLOOKUP(F2566,Soutez!A:C,3,FALSE)","v":2024},16,1346,0.755,{"$f":"ROUND(J2566/MAX($J$2551:$J$2570)*10000*0.7+(MAX($I$2551:$I$2570)-I2566)/(MAX($I$2551:$I$2570)-1)*10000*0.3,0)","v":3538},2671,"x",null,"LS 1-d","HV",""]
["Eva Klapkova",1993,"F","Raná","CZ/C2","Rakovnická Dlaždice 2024 - Kombi",{"$f":"VLOOKUP(F2567,Soutez!A:B,2,FALSE)","v":"CZ"},{"$f":"VLOOKUP(F2567,Soutez!A:C,3,FALSE)","v":2024},17,1188,0.755,3039,2294,"x","x","ASW 15","TZ",""]
["Jan Heroudek",1970,"M","Rakovník","CZ/C1","Rakovnická Dlaždice 2024 - Kombi",{"$f":"VLOOKUP(F2568,Soutez!A:B,2,FALSE)","v":"CZ"},{"$f":"VLOOKUP(F2568,Soutez!A:C,3,FALSE)","v":2024},18,766,0.755,1970,1487,"x",null,"DG 100",75,""]
["Roman Bradac",1974,"M","Rakovník","CZ/C1","Rakovnická Dlaždice 2024 - Kombi",{"$f":"VLOOKUP(F2569,Soutez!A:B,2,FALSE)","v":"CZ"},{"$f":"VLOOKUP(F2569,Soutez!A:C,3,FALSE)","v":2024},19,418,0.755,1060,800,"x",null,"DG 101","JO",""]
["Karel Mrazek",1954,"M","Slaný","CZ/C1","Rakovnická Dlaždice 2024 - Kombi",{"$f":"VLOOKUP(F2570,Soutez!A:B,2,FALSE)","v":"CZ"},{"$f":"VLOOKUP(F2570,Soutez!A:C,3,FALSE)","v":2024},20,284,0.755,613,463,"x",null,"ASW 15","ET",""]
["Jacek Flis",null,null,"Poland",null,"EGC 2024 - Klub",{"$f":"VLOOKUP(F2571,Soutez!A:B,2,FALSE)","v":"CZ"},{"$f":"VLOOKUP(F2571,Soutez!A:C,3,FALSE)","v":2024},1,9763,1.1000000000000001,{"$f":"ROUND(J2571/MAX($J$2571:$J$2610)*10000*0.7+(MAX($I$2571:$I$2610)-I2571)/(MAX($I$2571:$I$2610)-1)*10000*0.3,0)","v":10000},{"$f":"ROUND(K2571*L2571,0)","v":11000},null,null,"LS 3 wl","FLS",{"$f":"IF(ISERROR(VLOOKUP(A2571,Pilot,6,0)),\"Není v databázi\",VLOOKUP(A2571,Pilot,6,0))","v":"Není v databázi"}]
["Tomas Suchanek",{"$f":"VLOOKUP(A2572,Pilot,2,0)","v":1964},{"$f":"VLOOKUP(A2572,Pilot,5,0)","v":"M"},{"$f":"VLOOKUP(A2572,Pilot,3,0)","v":"GAC Benešov"},{"$f":"VLOOKUP(A2572,Pilot,4,0)","v":"CZ/C1"},"EGC 2024 - Klub",{"$f":"VLOOKUP(F2572,Soutez!A:B,2,FALSE)","v":"CZ"},{"$f":"VLOOKUP(F2572,Soutez!A:C,3,FALSE)","v":2024},2,9531,1.1000000000000001,{"$f":"ROUND(J2572/MAX($J$2571:$J$2610)*10000*0.7+(MAX($I$2571:$I$2610)-I2572)/(MAX($I$2571:$I$2610)-1)*10000*0.3,0)","v":9757},10733,"x",null,"ASW 20","CX",""]
["Gvidas Sabeckis",null,null,"Lithuania",null,"EGC 2024 - Klub",{"$f":"VLOOKUP(F2573,Soutez!A:B,2,FALSE)","v":"CZ"},{"$f":"VLOOKUP(F2573,Soutez!A:C,3,FALSE)","v":2024},3,9458,1.1000000000000001,9627,10590,null,null,"ASW 20a",5,"Není v databázi"]
["Kim Toppari",null,null,"Finland",null,"EGC 2024 - Klub",{"$f":"VLOOKUP(F2574,Soutez!A:B,2,FALSE)","v":"CZ"},{"$f":"VLOOKUP(F2574,Soutez!A:C,3,FALSE)","v":2024},4,9354,1.1000000000000001,9476,10424,null,null,"LS 7 wl","KT","Není v databázi"]
["Tapio Tourula",null,null,"Finland",null,"EGC 2024 - Klub",{"$f":"VLOOKUP(F2575,Soutez!A:B,2,FALSE)","v":"CZ"},{"$f":"VLOOKUP(F2575,Soutez!A:C,3,FALSE)","v":2024},5,9331,1.1000000000000001,9383,10321,null,null,"LS 7","PF","Není v databázi"]
["Mikolaj Zdun",null,null,"Poland",null,"EGC 2024 - Klub",{"$f":"VLOOKUP(F2576,Soutez!A:B,2,FALSE)","v":"CZ"},{"$f":"VLOOKUP(F2576,Soutez!A:C,3,FALSE)","v":2024},6,9241,1.1000000000000001,9241,10165,null,null,"LS 3 wl","PP","Není v databázi"]
["Jaroslav Tomana",{"$f":"VLOOKUP(A2577,Pilot,2,0)","v":1975},{"$f":"VLOOKUP(A2577,Pilot,5,0)","v":"M"},{"$f":"VLOOKUP(A2577,Pilot,3,0)","v":"Zbraslavice"},{"$f":"VLOOKUP(A2577,Pilot,4,0)","v":"CZ/C1"},"EGC 2024 - Klub",{"$f":"VLOOKUP(F2577,Soutez!A:B,2,FALSE)","v":"CZ"},{"$f":"VLOOKUP(F2577,Soutez!A:C,3,FALSE)","v":2024},7,9240,1.1000000000000001,9163,10079,"x",null,"ASW 20","A3",""]
["Michal Lesinger",1966,"M","Moravská Třebová","CZ/M","EGC 2024 - Klub",{"$f":"VLOOKUP(F2578,Soutez!A:B,2,FALSE)","v":"CZ"},{"$f":"VLOOKUP(F2578,Soutez!A:C,3,FALSE)","v":2024},8,9076,1.1000000000000001,8969,9866,"x",null,"ASW 20L","LL",""]
["Ringaudas Kikalas",null,null,"Lithuania",null,"EGC 2024 - Klub",{"$f":"VLOOKUP(F2579,Soutez!A:B,2,FALSE)","v":"CZ"},{"$f":"VLOOKUP(F2579,Soutez!A:C,3,FALSE)","v":2024},9,8825,1.1000000000000001,8712,9583,null,null,"ASW 20","YYY","Není v databázi"]
["Hugo Corbille",null,null,"France",null,"EGC 2024 - Klub",{"$f":"VLOOKUP(F2580,Soutez!A:B,2,FALSE)","v":"CZ"},{"$f":"VLOOKUP(F2580,Soutez!A:C,3,FALSE)","v":2024},10,8763,1.1000000000000001,8591,9450,null,null,"LS7 NEO","HG","Není v databázi"]
["Toby Freeland",null,null,"United Kingdom",null,"EGC 2024 - Klub",{"$f":"VLOOKUP(F2581,Soutez!A:B,2,FALSE)","v":"CZ"},{"$f":"VLOOKUP(F2581,Soutez!A:C,3,FALSE)","v":2024},11,8728,1.1000000000000001,8489,9338,null,null,"ASW 20l",212,"Není v databázi"]
["Gyorgy Gulyas",null,null,"Hungary",null,"EGC 2024 - Klub",{"$f":"VLOOKUP(F2582,Soutez!A:B,2,FALSE)","v":"CZ"},{"$f":"VLOOKUP(F2582,Soutez!A:C,3,FALSE)","v":2024},12,8704,1.1000000000000001,8395,9235,null,null,"ASW 20","AD","Není v databázi"]
["Ferenc Tamas",null,null,"Hungary",null,"EGC 2024 - Klub",{"$f":"VLOOKUP(F2583,Soutez!A:B,2,FALSE)","v":"CZ"},{"$f":"VLOOKUP(F2583,Soutez!A:C,3,FALSE)","v":2024},13,8700,1.1000000000000001,8315,9147,null,null,"LS 3 wl","XW","Není v databázi"]
["Josef Kozar",null,null,"Slovakia",null,"EGC 2024 - Klub",{"$f":"VLOOKUP(F2584,Soutez!A:B,2,FALSE)","v":"CZ"},{"$f":"VLOOKUP(F2584,Soutez!A:C,3,FALSE)","v":2024},14,8646,1.1000000000000001,8199,9019,null,null,"ASW 20","IKW","Není v databázi"]
["David Darnady",{"$f":"VLOOKUP(A2585,Pilot,2,0)","v":1987},{"$f":"VLOOKUP(A2585,Pilot,5,0)","v":"M"},{"$f":"VLOOKUP(A2585,Pilot,3,0)","v":"Zbraslavice"},{"$f":"VLOOKUP(A2585,Pilot,4,0)","v":"CZ/C1"},"EGC 2024 - Klub",{"$f":"VLOOKUP(F2585,Soutez!A:B,2,FALSE)","v":"CZ"},{"$f":"VLOOKUP(F2585,Soutez!A:C,3,FALSE)","v":2024},15,8583,{"$f":"VLOOKUP(F2585,Soutez,12,0)","v":1.1000000000000001},8077,8885,"x",null,"ASW 20 l",311,""]
["James Ewence",null,null,"United Kingdom",null,"EGC 2024 - Klub",{"$f":"VLOOKUP(F2586,Soutez!A:B,2,FALSE)","v":"CZ"},{"$f":"VLOOKUP(F2586,Soutez!A:C,3,FALSE)","v":2024},16,8466,1.1000000000000001,7916,8708,null,null,"Discus CS",364,"Není v databázi"]
["Marcus Dawert",null,null,"Germany",null,"EGC 2024 - Klub",{"$f":"VLOOKUP(F2587,Soutez!A:B,2,FALSE)","v":"CZ"},{"$f":"VLOOKUP(F2587,Soutez!A:C,3,FALSE)","v":2024},17,8457,1.1000000000000001,7833,8616,null,null,"DG 300 wl","MX","Není v databázi"]
["Mikko Ylihärsilä",null,null,"Finland",null,"EGC 2024 - Klub",{"$f":"VLOOKUP(F2588,Soutez!A:B,2,FALSE)","v":"CZ"},{"$f":"VLOOKUP(F2588,Soutez!A:C,3,FALSE)","v":2024},18,8415,1.1000000000000001,7726,8499,null,null,"LS7","GE","Není v databázi"]
["Uwe Melzer",null,null,"Germany",null,"EGC 2024 - Klub",{"$f":"VLOOKUP(F2589,Soutez!A:B,2,FALSE)","v":"CZ"},{"$f":"VLOOKUP(F2589,Soutez!A:C,3,FALSE)","v":2024},19,8353,1.1000000000000001,7604,8364,null,null,"LS 4 wl","UWE","Není v databázi"]
["Lapo Alessandro Busi",null,null,"Italy",null,"EGC 2024 - Klub",{"$f":"VLOOKUP(F2590,Soutez!A:B,2,FALSE)","v":"CZ"},{"$f":"VLOOKUP(F2590,Soutez!A:C,3,FALSE)","v":2024},20,8311,1.1000000000000001,7497,8247,null,null,"ASW 20","LAB","Není v databázi"]
["Roelof Corporaal",null,null,"Netherlands",null,"EGC 2024 - Klub",{"$f":"VLOOKUP(F2591,Soutez!A:B,2,FALSE)","v":"CZ"},{"$f":"VLOOKUP(F2591,Soutez!A:C,3,FALSE)","v":2024},21,8295,1.1000000000000001,7409,8150,null,null,"LS 7 wl","IK","Není v databázi"]
["Uffe Edslev",null,null,"Denmark",null,"EGC 2024 - Klub",{"$f":"VLOOKUP(F2592,Soutez!A:B,2,FALSE)","v":"CZ"},{"$f":"VLOOKUP(F2592,Soutez!A:C,3,FALSE)","v":2024},22,8201,1.1000000000000001,7265,7992,null,null,"LS 4a wl","LE","Není v databázi"]
["Viktor Becan",{"$f":"VLOOKUP(A2593,Pilot,2,0)","v":1979},{"$f":"VLOOKUP(A2593,Pilot,5,0)","v":"M"},{"$f":"VLOOKUP(A2593,Pilot,3,0)","v":"Vlašim"},{"$f":"VLOOKUP(A2593,Pilot,4,0)","v":"CZ/C1"},"EGC 2024 - Klub",{"$f":"VLOOKUP(F2593,Soutez!A:B,2,FALSE)","v":"CZ"},{"$f":"VLOOKUP(F2593,Soutez!A:C,3,FALSE)","v":2024},23,8157,1.1000000000000001,7156,7872,"x",null,"ASW 20","CR",""]
["Simon Gantner",null,null,"Switzerland",null,"EGC 2024 - Klub",{"$f":"VLOOKUP(F2594,Soutez!A:B,2,FALSE)","v":"CZ"},{"$f":"VLOOKUP(F2594,Soutez!A:C,3,FALSE)","v":2024},24,8079,1.1000000000000001,7023,7725,null,null,"LS 4a","MN","Není v databázi"]
["Christer Mjøs",null,null,"Norway",null,"EGC 2024 - Klub",{"$f":"VLOOKUP(F2595,Soutez!A:B,2,FALSE)","v":"CZ"},{"$f":"VLOOKUP(F2595,Soutez!A:C,3,FALSE)","v":2024},25,7816,1.1000000000000001,6758,7434,null,null,"ASW 20","UF","Není v databázi"]
["Robert Alin Simion",null,null,"Romania",null,"EGC 2024 - Klub",{"$f":"VLOOKUP(F2596,Soutez!A:B,2,FALSE)","v":"CZ"},{"$f":"VLOOKUP(F2596,Soutez!A:C,3,FALSE)","v":2024},26,7671,1.1000000000000001,6577,7235,null,null,"LS 4a","Y2","Není v databázi"]
["Giacomo Dall'Olio",null,null,"Italy",null,"EGC 2024 - Klub",{"$f":"VLOOKUP(F2597,Soutez!A:B,2,FALSE)","v":"CZ"},{"$f":"VLOOKUP(F2597,Soutez!A:C,3,FALSE)","v":2024},27,7657,1.1000000000000001,6490,7139,null,null,"Discus B","IX","Není v databázi"]
["Yves Muller",null,null,"Switzerland",null,"EGC 2024 - Klub",{"$f":"VLOOKUP(F2598,Soutez!A:B,2,FALSE)","v":"CZ"},{"$f":"VLOOKUP(F2598,Soutez!A:C,3,FALSE)","v":2024},28,7581,1.1000000000000001,6359,6995,null,null,"ASW 24 wl","CRN","Není v databázi"]
["Nicolas Bernhard",null,null,"France",null,"EGC 2024 - Klub",{"$f":"VLOOKUP(F2599,Soutez!A:B,2,FALSE)","v":"CZ"},{"$f":"VLOOKUP(F2599,Soutez!A:C,3,FALSE)","v":2024},29,7559,1.1000000000000001,6266,6893,null,null,"LS7 NEO","AG","Není v databázi"]
["Dylan Osolian",null,null,"Sweden",null,"EGC 2024 - Klub",{"$f":"VLOOKUP(F2600,Soutez!A:B,2,FALSE)","v":"CZ"},{"$f":"VLOOKUP(F2600,Soutez!A:C,3,FALSE)","v":2024},30,7524,1.1000000000000001,6164,6780,null,null,"LS 3","CP","Není v databázi"]
["Alexandre Melot",null,null,"Belgium",null,"EGC 2024 - Klub",{"$f":"VLOOKUP(F2601,Soutez!A:B,2,FALSE)","v":"CZ"},{"$f":"VLOOKUP(F2601,Soutez!A:C,3,FALSE)","v":2024},31,7166,1.1000000000000001,5830,6413,null,null,"ASW 20 B","FY","Není v databázi"]
["Alex Pop",null,null,"Romania",null,"EGC 2024 - Klub",{"$f":"VLOOKUP(F2602,Soutez!A:B,2,FALSE)","v":"CZ"},{"$f":"VLOOKUP(F2602,Soutez!A:C,3,FALSE)","v":2024},32,7080,1.1000000000000001,5692,6261,null,null,"LS 4a","Y3","Není v databázi"]
["Felipe Cvitanich",null,null,"Denmark",null,"EGC 2024 - Klub",{"$f":"VLOOKUP(F2603,Soutez!A:B,2,FALSE)","v":"CZ"},{"$f":"VLOOKUP(F2603,Soutez!A:C,3,FALSE)","v":2024},33,6825,1.1000000000000001,5432,5975,null,null,"ASW 20 wl","KW","Není v databázi"]
["Sondre Bjøro",null,null,"Norway",null,"EGC 2024 - Klub",{"$f":"VLOOKUP(F2604,Soutez!A:B,2,FALSE)","v":"CZ"},{"$f":"VLOOKUP(F2604,Soutez!A:C,3,FALSE)","v":2024},34,6769,1.1000000000000001,5315,5847,null,null,"ASW 20","TE","Není v databázi"]
["Jelle Vandebeeck",null,null,"Belgium",null,"EGC 2024 - Klub",{"$f":"VLOOKUP(F2605,Soutez!A:B,2,FALSE)","v":"CZ"},{"$f":"VLOOKUP(F2605,Soutez!A:C,3,FALSE)","v":2024},35,6729,1.1000000000000001,5209,5730,null,null,"ASW 24 wl",24,"Není v databázi"]
["Dani Zaninovic",null,null,"Croatia",null,"EGC 2024 - Klub",{"$f":"VLOOKUP(F2606,Soutez!A:B,2,FALSE)","v":"CZ"},{"$f":"VLOOKUP(F2606,Soutez!A:C,3,FALSE)","v":2024},36,6580,1.1000000000000001,5026,5529,null,null,"ASW 24 wl","HR3","Není v databázi"]
["Frane Franic",null,null,"Croatia",null,"EGC 2024 - Klub",{"$f":"VLOOKUP(F2607,Soutez!A:B,2,FALSE)","v":"CZ"},{"$f":"VLOOKUP(F2607,Soutez!A:C,3,FALSE)","v":2024},37,5999,1.1000000000000001,4532,4985,null,null,"Pegase 101B","3C","Není v databázi"]
["Jaume Prats",null,null,"Spain",null,"EGC 2024 - Klub",{"$f":"VLOOKUP(F2608,Soutez!A:B,2,FALSE)","v":"CZ"},{"$f":"VLOOKUP(F2608,Soutez!A:C,3,FALSE)","v":2024},38,5229,1.1000000000000001,3903,{"$f":"ROUND(K2608*L2608,0)","v":4293},null,null,"ASW 24",44,"Není v databázi"]
["Diana Schuit",null,null,"Luxembourg",null,"EGC 2024 - Klub",{"$f":"VLOOKUP(F2609,Soutez!A:B,2,FALSE)","v":"CZ"},{"$f":"VLOOKUP(F2609,Soutez!A:C,3,FALSE)","v":2024},39,4956,1.1000000000000001,3630,3993,null,null,"LS 1f","JO","Není v databázi"]
["Samuel Richardson",null,null,"Sweden",null,"EGC 2024 - Klub",{"$f":"VLOOKUP(F2610,Soutez!A:B,2,FALSE)","v":"CZ"},{"$f":"VLOOKUP(F2610,Soutez!A:C,3,FALSE)","v":2024},40,184,1.1000000000000001,132,145,null,null,"Mosquito","TI","Není v databázi"]
["Robin Sittmann",null,null,"Germany",null,"EGC 2024 - Std",{"$f":"VLOOKUP(F2611,Soutez!A:B,2,FALSE)","v":"CZ"},{"$f":"VLOOKUP(F2611,Soutez!A:C,3,FALSE)","v":2024},1,8586,1.125,{"$f":"ROUND(J2611/MAX($J$2611:$J$2643)*10000*0.7+(MAX($I$2611:$I$2643)-I2611)/(MAX($I$2611:$I$2643)-1)*10000*0.3,0)","v":10000},11250,null,null,"Discus 2a","RA","Není v databázi"]
["Jan Pavlik",{"$f":"VLOOKUP(A2612,Pilot,2,0)","v":1987},{"$f":"VLOOKUP(A2612,Pilot,5,0)","v":"M"},{"$f":"VLOOKUP(A2612,Pilot,3,0)","v":"Křižanov"},{"$f":"VLOOKUP(A2612,Pilot,4,0)","v":"CZ/M"},"EGC 2024 - Std",{"$f":"VLOOKUP(F2612,Soutez!A:B,2,FALSE)","v":"CZ"},{"$f":"VLOOKUP(F2612,Soutez!A:C,3,FALSE)","v":2024},2,8571,1.125,9894,11131,"x",null,"LS 8b","FX",""]
["Miloslav Cink",1987,"M","Letkov","CZ/C1","EGC 2024 - Std",{"$f":"VLOOKUP(F2613,Soutez!A:B,2,FALSE)","v":"CZ"},{"$f":"VLOOKUP(F2613,Soutez!A:C,3,FALSE)","v":2024},3,8541,1.125,9776,10998,"x",null,"LS 8b","JB",""]
["Lukas Kriz",2003,"M","Křižanov","CZ/M","EGC 2024 - Std",{"$f":"VLOOKUP(F2614,Soutez!A:B,2,FALSE)","v":"CZ"},{"$f":"VLOOKUP(F2614,Soutez!A:C,3,FALSE)","v":2024},4,8533,1.125,9676,10886,"x",null,"LS 8a","AU","Junior v roce 2025"]
["Henry Inigo-Jones",null,null,"United Kingdom",null,"EGC 2024 - Std",{"$f":"VLOOKUP(F2615,Soutez!A:B,2,FALSE)","v":"CZ"},{"$f":"VLOOKUP(F2615,Soutez!A:C,3,FALSE)","v":2024},5,8486,1.125,9543,10736,null,null,"LS 8",95,"Není v databázi"]
["Simon Briel",null,null,"Germany",null,"EGC 2024 - Std",{"$f":"VLOOKUP(F2616,Soutez!A:B,2,FALSE)","v":"CZ"},{"$f":"VLOOKUP(F2616,Soutez!A:C,3,FALSE)","v":2024},6,8458,1.125,9427,10605,null,null,"Discus 2a","SB","Není v databázi"]
["Lasse Edslev",null,null,"Denmark",null,"EGC 2024 - Std",{"$f":"VLOOKUP(F2617,Soutez!A:B,2,FALSE)","v":"CZ"},{"$f":"VLOOKUP(F2617,Soutez!A:C,3,FALSE)","v":2024},7,8399,1.125,9285,10446,null,null,"LS 8a","EC","Není v databázi"]
["Julien Duboc",null,null,"France",null,"EGC 2024 - Std",{"$f":"VLOOKUP(F2618,Soutez!A:B,2,FALSE)","v":"CZ"},{"$f":"VLOOKUP(F2618,Soutez!A:C,3,FALSE)","v":2024},8,8165,1.125,9001,10126,null,null,"Discus 2a","JPA","Není v databázi"]
["Norbert Scarlat",null,null,"Romania",null,"EGC 2024 - Std",{"$f":"VLOOKUP(F2619,Soutez!A:B,2,FALSE)","v":"CZ"},{"$f":"VLOOKUP(F2619,Soutez!A:C,3,FALSE)","v":2024},9,8156,1.125,8899,10011,null,null,"Discus 2a","YB","Není v databázi"]
["Robin Smit",null,null,"Netherlands",null,"EGC 2024 - Std",{"$f":"VLOOKUP(F2620,Soutez!A:B,2,FALSE)","v":"CZ"},{"$f":"VLOOKUP(F2620,Soutez!A:C,3,FALSE)","v":2024},10,8072,1.125,8737,9829,null,null,"LS 8","VNE","Není v databázi"]
["Lukasz Blaszczyk",null,null,"Poland",null,"EGC 2024 - Std",{"$f":"VLOOKUP(F2621,Soutez!A:B,2,FALSE)","v":"CZ"},{"$f":"VLOOKUP(F2621,Soutez!A:C,3,FALSE)","v":2024},11,8069,1.125,8641,9721,null,null,"Discus 2a","I","Není v databázi"]
["Jeroen Jennen",null,null,"Belgium",null,"EGC 2024 - Std",{"$f":"VLOOKUP(F2622,Soutez!A:B,2,FALSE)","v":"CZ"},{"$f":"VLOOKUP(F2622,Soutez!A:C,3,FALSE)","v":2024},12,8004,1.125,8494,9556,null,null,"Discus 2t","YU","Není v databázi"]
["Jan-Ola Nordh",null,null,"Sweden",null,"EGC 2024 - Std",{"$f":"VLOOKUP(F2623,Soutez!A:B,2,FALSE)","v":"CZ"},{"$f":"VLOOKUP(F2623,Soutez!A:C,3,FALSE)","v":2024},13,7963,1.125,8367,9413,null,null,"Discus 2t","TA","Není v databázi"]
["Joris Vainius",null,null,"Lithuania",null,"EGC 2024 - Std",{"$f":"VLOOKUP(F2624,Soutez!A:B,2,FALSE)","v":"CZ"},{"$f":"VLOOKUP(F2624,Soutez!A:C,3,FALSE)","v":2024},14,7810,1.125,8149,9168,null,null,"LS 8a","MG","Není v databázi"]
["Maciej Kowalski",null,null,"Poland",null,"EGC 2024 - Std",{"$f":"VLOOKUP(F2625,Soutez!A:B,2,FALSE)","v":"CZ"},{"$f":"VLOOKUP(F2625,Soutez!A:C,3,FALSE)","v":2024},15,7777,1.125,8028,9032,null,null,"Discus 2a","Y","Není v databázi"]
["Elias Severholt Fourati",null,null,"Sweden",null,"EGC 2024 - Std",{"$f":"VLOOKUP(F2626,Soutez!A:B,2,FALSE)","v":"CZ"},{"$f":"VLOOKUP(F2626,Soutez!A:C,3,FALSE)","v":2024},16,7643,1.125,7825,8803,null,null,"LS 8",1,"Není v databázi"]
["Paul Fritche",null,null,"United Kingdom",null,"EGC 2024 - Std",{"$f":"VLOOKUP(F2627,Soutez!A:B,2,FALSE)","v":"CZ"},{"$f":"VLOOKUP(F2627,Soutez!A:C,3,FALSE)","v":2024},17,7641,1.125,7730,8696,null,null,"LS 8","L4",{"$f":"IF(ISERROR(VLOOKUP(A2627,Pilot,6,0)),\"Není v databázi\",VLOOKUP(A2627,Pilot,6,0))","v":"Není v databázi"}]
["Maros Divok",null,null,"Slovakia",null,"EGC 2024 - Std",{"$f":"VLOOKUP(F2628,Soutez!A:B,2,FALSE)","v":"CZ"},{"$f":"VLOOKUP(F2628,Soutez!A:C,3,FALSE)","v":2024},18,7619,1.125,7618,8570,null,null,"LS 8","D","Není v databázi"]
["Sami Rissanen",null,null,"Finland",null,"EGC 2024 - Std",{"$f":"VLOOKUP(F2629,Soutez!A:B,2,FALSE)","v":"CZ"},{"$f":"VLOOKUP(F2629,Soutez!A:C,3,FALSE)","v":2024},19,7373,1.125,7324,8240,null,null,"LS 8 T","LK","Není v databázi"]
["Frank Hiemstra",null,null,"Netherlands",null,"EGC 2024 - Std",{"$f":"VLOOKUP(F2630,Soutez!A:B,2,FALSE)","v":"CZ"},{"$f":"VLOOKUP(F2630,Soutez!A:C,3,FALSE)","v":2024},20,7350,1.125,7211,8112,null,null,"LS 8","E5","Není v databázi"]
["Ionut Tudor",null,null,"Romania",null,"EGC 2024 - Std",{"$f":"VLOOKUP(F2631,Soutez!A:B,2,FALSE)","v":"CZ"},{"$f":"VLOOKUP(F2631,Soutez!A:C,3,FALSE)","v":2024},21,7225,1.125,7015,7892,null,null,"Discus 2a","YA","Není v databázi"]
["Antti Koskiniemi",null,null,"Finland",null,"EGC 2024 - Std",{"$f":"VLOOKUP(F2632,Soutez!A:B,2,FALSE)","v":"CZ"},{"$f":"VLOOKUP(F2632,Soutez!A:C,3,FALSE)","v":2024},22,7160,1.125,6869,7728,null,null,"Discus 2b","JS","Není v databázi"]
["Aude Untersee",null,null,"France",null,"EGC 2024 - Std",{"$f":"VLOOKUP(F2633,Soutez!A:B,2,FALSE)","v":"CZ"},{"$f":"VLOOKUP(F2633,Soutez!A:C,3,FALSE)","v":2024},23,7024,1.125,6664,7497,null,null,"Discus 2a","ET","Není v databázi"]
["Davide Giovanelli",null,null,"Switzerland",null,"EGC 2024 - Std",{"$f":"VLOOKUP(F2634,Soutez!A:B,2,FALSE)","v":"CZ"},{"$f":"VLOOKUP(F2634,Soutez!A:C,3,FALSE)","v":2024},24,7018,1.125,6565,7386,null,null,"Discus 2b","TS","Není v databázi"]
["Geza Toth",null,null,"Hungary",null,"EGC 2024 - Std",{"$f":"VLOOKUP(F2635,Soutez!A:B,2,FALSE)","v":"CZ"},{"$f":"VLOOKUP(F2635,Soutez!A:C,3,FALSE)","v":2024},25,7010,1.125,6465,7273,null,null,"Discus 2a","ALB","Není v databázi"]
["Szabolcs Veigli",null,null,"Hungary",null,"EGC 2024 - Std",{"$f":"VLOOKUP(F2636,Soutez!A:B,2,FALSE)","v":"CZ"},{"$f":"VLOOKUP(F2636,Soutez!A:C,3,FALSE)","v":2024},26,6721,1.125,6136,6903,null,null,"Discus 2a","HUN","Není v databázi"]
["Jef Kell",null,null,"Belgium",null,"EGC 2024 - Std",{"$f":"VLOOKUP(F2637,Soutez!A:B,2,FALSE)","v":"CZ"},{"$f":"VLOOKUP(F2637,Soutez!A:C,3,FALSE)","v":2024},27,6619,1.125,5959,6704,null,null,"LS 8","LT","Není v databázi"]
["Edmund Schuller",null,null,"Slovakia",null,"EGC 2024 - Std",{"$f":"VLOOKUP(F2638,Soutez!A:B,2,FALSE)","v":"CZ"},{"$f":"VLOOKUP(F2638,Soutez!A:C,3,FALSE)","v":2024},28,6117,1.125,5456,6138,null,null,"Discus 2b","DI","Není v databázi"]
["Luca Urbani",null,null,"Italy",null,"EGC 2024 - Std",{"$f":"VLOOKUP(F2639,Soutez!A:B,2,FALSE)","v":"CZ"},{"$f":"VLOOKUP(F2639,Soutez!A:C,3,FALSE)","v":2024},29,6036,1.125,5296,5958,null,null,"Discus 2a","LR","Není v databázi"]
["Andrius Tamulenas",null,null,"Lithuania",null,"EGC 2024 - Std",{"$f":"VLOOKUP(F2640,Soutez!A:B,2,FALSE)","v":"CZ"},{"$f":"VLOOKUP(F2640,Soutez!A:C,3,FALSE)","v":2024},30,5885,1.125,5079,5714,null,null,"LS 8","H8","Není v databázi"]
["Erik Døssing",null,null,"Denmark",null,"EGC 2024 - Std",{"$f":"VLOOKUP(F2641,Soutez!A:B,2,FALSE)","v":"CZ"},{"$f":"VLOOKUP(F2641,Soutez!A:C,3,FALSE)","v":2024},31,5756,1.125,4880,5490,null,null,"Discus 2t","AA","Není v databázi"]
["Grozdan Meglaj",null,null,"Croatia",null,"EGC 2024 - Std",{"$f":"VLOOKUP(F2642,Soutez!A:B,2,FALSE)","v":"CZ"},{"$f":"VLOOKUP(F2642,Soutez!A:C,3,FALSE)","v":2024},32,2817,1.125,2390,2689,null,null,"DG-300","GM","Není v databázi"]
["Lorenzo Monti",null,null,"Italy",null,"EGC 2024 - Std",{"$f":"VLOOKUP(F2643,Soutez!A:B,2,FALSE)","v":"CZ"},{"$f":"VLOOKUP(F2643,Soutez!A:C,3,FALSE)","v":2024},33,2155,1.125,1757,1977,null,null,"LAK 19","B9","Není v databázi"]
["Lukasz Grabowski",null,null,"Poland",null,"EGC 2024 - 15m",{"$f":"VLOOKUP(F2644,Soutez!A:B,2,FALSE)","v":"CZ"},{"$f":"VLOOKUP(F2644,Soutez!A:C,3,FALSE)","v":2024},1,8.7279999999999998,1.0900000000000001,{"$f":"ROUND(J2644/MAX($J$2644:$J$2670)*10000*0.7+(MAX($I$2644:$I$2670)-I2644)/(MAX($I$2644:$I$2670)-1)*10000*0.3,0)","v":10000},10900,null,null,"Diana 2","RP","Není v databázi"]
["Pawel Wojciechowski",null,null,"Poland",null,"EGC 2024 - 15m",{"$f":"VLOOKUP(F2645,Soutez!A:B,2,FALSE)","v":"CZ"},{"$f":"VLOOKUP(F2645,Soutez!A:C,3,FALSE)","v":2024},2,8.5259999999999998,1.0900000000000001,9723,10598,null,null,"Diana 2 fes","ZJ","Není v databázi"]
["Karel Novak",{"$f":"VLOOKUP(A2646,Pilot,2,0)","v":1993},{"$f":"VLOOKUP(A2646,Pilot,5,0)","v":"M"},{"$f":"VLOOKUP(A2646,Pilot,3,0)","v":"Mladá Boleslav"},{"$f":"VLOOKUP(A2646,Pilot,4,0)","v":"CZ/C1"},"EGC 2024 - 15m",{"$f":"VLOOKUP(F2646,Soutez!A:B,2,FALSE)","v":"CZ"},{"$f":"VLOOKUP(F2646,Soutez!A:C,3,FALSE)","v":2024},3,8.5079999999999991,{"$f":"VLOOKUP(F2646,Soutez,12,0)","v":1.0900000000000001},9593,10456,"x",null,"Ventus 2ax","AX",""]
["Uwe Wahlig",null,null,"Germany",null,"EGC 2024 - 15m",{"$f":"VLOOKUP(F2647,Soutez!A:B,2,FALSE)","v":"CZ"},{"$f":"VLOOKUP(F2647,Soutez!A:C,3,FALSE)","v":2024},4,8.4809999999999999,1.0900000000000001,9456,10307,null,null,"Ventus 3T 15m","3V","Není v databázi"]
["Marius Pluscauskas",null,null,"Lithuania",null,"EGC 2024 - 15m",{"$f":"VLOOKUP(F2648,Soutez!A:B,2,FALSE)","v":"CZ"},{"$f":"VLOOKUP(F2648,Soutez!A:C,3,FALSE)","v":2024},4,8.4809999999999999,1.0900000000000001,9456,10307,null,null,"SZD-56-2 Diana 2","BB","Není v databázi"]
["Stephan Grunder",null,null,"Netherlands",null,"EGC 2024 - 15m",{"$f":"VLOOKUP(F2649,Soutez!A:B,2,FALSE)","v":"CZ"},{"$f":"VLOOKUP(F2649,Soutez!A:C,3,FALSE)","v":2024},6,8.282,1.0900000000000001,9065,9881,null,null,"Ventus 2a","EY","Není v databázi"]
["Kevin Faur",null,null,"France",null,"EGC 2024 - 15m",{"$f":"VLOOKUP(F2650,Soutez!A:B,2,FALSE)","v":"CZ"},{"$f":"VLOOKUP(F2650,Soutez!A:C,3,FALSE)","v":2024},7,8.0809999999999995,1.0900000000000001,8789,9580,null,null,"Ventus 2a","IR","Není v databázi"]
["Filip Bojanowski",null,null,"Denmark",null,"EGC 2024 - 15m",{"$f":"VLOOKUP(F2651,Soutez!A:B,2,FALSE)","v":"CZ"},{"$f":"VLOOKUP(F2651,Soutez!A:C,3,FALSE)","v":2024},8,8.0429999999999993,1.0900000000000001,8643,9421,null,null,"AS33es",12,"Není v databázi"]
["Marc Schick",null,null,"Germany",null,"EGC 2024 - 15m",{"$f":"VLOOKUP(F2652,Soutez!A:B,2,FALSE)","v":"CZ"},{"$f":"VLOOKUP(F2652,Soutez!A:C,3,FALSE)","v":2024},9,7.9950000000000001,1.0900000000000001,8489,9253,null,null,"Ventus 2b","GI","Není v databázi"]
["Owen McCormack",null,null,"United Kingdom",null,"EGC 2024 - 15m",{"$f":"VLOOKUP(F2653,Soutez!A:B,2,FALSE)","v":"CZ"},{"$f":"VLOOKUP(F2653,Soutez!A:C,3,FALSE)","v":2024},10,7.891,1.0900000000000001,8290,9036,null,null,"Ventus 2a",77,"Není v databázi"]
["Riccardo Brigliadori",null,null,"Italy",null,"EGC 2024 - 15m",{"$f":"VLOOKUP(F2654,Soutez!A:B,2,FALSE)","v":"CZ"},{"$f":"VLOOKUP(F2654,Soutez!A:C,3,FALSE)","v":2024},11,7.8049999999999997,1.0900000000000001,8106,8836,null,null,"JS3 Jet","LEO","Není v databázi"]
["Thomas Leduc",null,null,"Belgium",null,"EGC 2024 - 15m",{"$f":"VLOOKUP(F2655,Soutez!A:B,2,FALSE)","v":"CZ"},{"$f":"VLOOKUP(F2655,Soutez!A:C,3,FALSE)","v":2024},12,7.79,1.0900000000000001,7978,8696,null,null,"Ventus 2cxa 15m","LX","Není v databázi"]
["Rasmus Ørskov",null,null,"Denmark",null,"EGC 2024 - 15m",{"$f":"VLOOKUP(F2656,Soutez!A:B,2,FALSE)","v":"CZ"},{"$f":"VLOOKUP(F2656,Soutez!A:C,3,FALSE)","v":2024},13,7.6790000000000003,1.0900000000000001,7774,8474,null,null,"JS3 RES 15m","RX","Není v databázi"]
["Sikko Vermeer",null,null,"Netherlands",null,"EGC 2024 - 15m",{"$f":"VLOOKUP(F2657,Soutez!A:B,2,FALSE)","v":"CZ"},{"$f":"VLOOKUP(F2657,Soutez!A:C,3,FALSE)","v":2024},14,7.6609999999999996,1.0900000000000001,7644,8332,null,null,"ASG 29 es 15m",29,"Není v databázi"]
["Tamas Vamosi",null,null,"Hungary",null,"EGC 2024 - 15m",{"$f":"VLOOKUP(F2658,Soutez!A:B,2,FALSE)","v":"CZ"},{"$f":"VLOOKUP(F2658,Soutez!A:C,3,FALSE)","v":2024},15,7.44,1.0900000000000001,7352,8014,null,null,"Ventus 2a","V8","Není v databázi"]
["Vladimir Foltin",null,null,"Slovakia",null,"EGC 2024 - 15m",{"$f":"VLOOKUP(F2659,Soutez!A:B,2,FALSE)","v":"CZ"},{"$f":"VLOOKUP(F2659,Soutez!A:C,3,FALSE)","v":2024},16,7.3890000000000002,1.0900000000000001,7195,7843,null,null,"JS3 Jet 15m",3,"Není v databázi"]
["Lorenzo Fornari",null,null,"Italy",null,"EGC 2024 - 15m",{"$f":"VLOOKUP(F2660,Soutez!A:B,2,FALSE)","v":"CZ"},{"$f":"VLOOKUP(F2660,Soutez!A:C,3,FALSE)","v":2024},17,7.3280000000000003,1.0900000000000001,7031,7664,null,null,"Ventus 2ax","LD","Není v databázi"]
["Vladas Motuza",null,null,"Lithuania",null,"EGC 2024 - 15m",{"$f":"VLOOKUP(F2661,Soutez!A:B,2,FALSE)","v":"CZ"},{"$f":"VLOOKUP(F2661,Soutez!A:C,3,FALSE)","v":2024},18,7.0919999999999996,1.0900000000000001,6726,7331,null,null,"ASG 29 15m","M7","Není v databázi"]
["Neil McLaughlin",null,null,"United Kingdom",null,"EGC 2024 - 15m",{"$f":"VLOOKUP(F2662,Soutez!A:B,2,FALSE)","v":"CZ"},{"$f":"VLOOKUP(F2662,Soutez!A:C,3,FALSE)","v":2024},19,7.0129999999999999,1.0900000000000001,6548,7137,null,null,"Ventus 2ax",85,"Není v databázi"]
["Eric Garnier",null,null,"France",null,"EGC 2024 - 15m",{"$f":"VLOOKUP(F2663,Soutez!A:B,2,FALSE)","v":"CZ"},{"$f":"VLOOKUP(F2663,Soutez!A:C,3,FALSE)","v":2024},20,6.8209999999999997,1.0900000000000001,6278,6843,null,null,"ASG 29 es 15m","VG","Není v databázi"]
["Daan Spruyt",null,null,"Belgium",null,"EGC 2024 - 15m",{"$f":"VLOOKUP(F2664,Soutez!A:B,2,FALSE)","v":"CZ"},{"$f":"VLOOKUP(F2664,Soutez!A:C,3,FALSE)","v":2024},21,6.734,1.0900000000000001,6093,6641,null,null,"Ventus 2a","FS","Není v databázi"]
["Elek Czigler",null,null,"Hungary",null,"EGC 2024 - 15m",{"$f":"VLOOKUP(F2665,Soutez!A:B,2,FALSE)","v":"CZ"},{"$f":"VLOOKUP(F2665,Soutez!A:C,3,FALSE)","v":2024},22,6.6260000000000003,1.0900000000000001,5891,6421,null,null,"Ventus 2a","C","Není v databázi"]
["Paul Bernhard",null,null,"Austria",null,"EGC 2024 - 15m",{"$f":"VLOOKUP(F2666,Soutez!A:B,2,FALSE)","v":"CZ"},{"$f":"VLOOKUP(F2666,Soutez!A:C,3,FALSE)","v":2024},23,5.742,1.0900000000000001,5067,5523,null,null,"ASW 27","ES","Není v databázi"]
["Mark Käppeli",null,null,"Switzerland",null,"EGC 2024 - 15m",{"$f":"VLOOKUP(F2667,Soutez!A:B,2,FALSE)","v":"CZ"},{"$f":"VLOOKUP(F2667,Soutez!A:C,3,FALSE)","v":2024},24,5.65,1.0900000000000001,4878,5317,null,null,"JS3 RES 15m","MK","Není v databázi"]
["Pavel Louzecky",{"$f":"VLOOKUP(A2668,Pilot,2,0)","v":1957},{"$f":"VLOOKUP(A2668,Pilot,5,0)","v":"M"},{"$f":"VLOOKUP(A2668,Pilot,3,0)","v":"Přibyslav"},{"$f":"VLOOKUP(A2668,Pilot,4,0)","v":"CZ/C2"},"EGC 2024 - 15m",{"$f":"VLOOKUP(F2668,Soutez!A:B,2,FALSE)","v":"CZ"},{"$f":"VLOOKUP(F2668,Soutez!A:C,3,FALSE)","v":2024},25,5.6079999999999997,1.0900000000000001,4728,5154,null,null,"JS3 Jet 15m","XM",""]
["Peter Cutting",null,null,"Sweden",null,"EGC 2024 - 15m",{"$f":"VLOOKUP(F2669,Soutez!A:B,2,FALSE)","v":"CZ"},{"$f":"VLOOKUP(F2669,Soutez!A:C,3,FALSE)","v":2024},26,5.4530000000000003,1.0900000000000001,4489,4893,null,null,"JS3 Res 15m","VZ","Není v databázi"]
["George Schuit",null,null,"Luxembourg",null,"EGC 2024 - 15m",{"$f":"VLOOKUP(F2670,Soutez!A:B,2,FALSE)","v":"CZ"},{"$f":"VLOOKUP(F2670,Soutez!A:C,3,FALSE)","v":2024},27,2.7389999999999999,1.0900000000000001,2197,2395,null,null,"JS3 Jet 15m","MM","Není v databázi"]
["Stepan Bartos",{"$f":"VLOOKUP(A2671,Pilot,2,0)","v":2004},{"$f":"VLOOKUP(A2671,Pilot,5,0)","v":"M"},{"$f":"VLOOKUP(A2671,Pilot,3,0)","v":"Kolín"},{"$f":"VLOOKUP(A2671,Pilot,4,0)","v":"CZ/C1"},"GGP MB 2024 - Klub GP",{"$f":"VLOOKUP(F2671,Soutez!A:B,2,FALSE)","v":"CZ"},{"$f":"VLOOKUP(F2671,Soutez!A:C,3,FALSE)","v":2024},1,30,0.88,{"$f":"ROUND((MAX($I$2671:$I$2685)-I2671)/(MAX($I$2671:$I$2685)-1)*10000,0)","v":10000},8800,"x",null,"DG-300","DG","Junior v roce 2025"]
["Katerina Vojtova",{"$f":"VLOOKUP(A2672,Pilot,2,0)","v":1983},{"$f":"VLOOKUP(A2672,Pilot,5,0)","v":"F"},{"$f":"VLOOKUP(A2672,Pilot,3,0)","v":"Slaný"},{"$f":"VLOOKUP(A2672,Pilot,4,0)","v":"CZ/C1"},"GGP MB 2024 - Klub GP",{"$f":"VLOOKUP(F2672,Soutez!A:B,2,FALSE)","v":"CZ"},{"$f":"VLOOKUP(F2672,Soutez!A:C,3,FALSE)","v":2024},2,20,0.88,{"$f":"ROUND((MAX($I$2671:$I$2685)-I2672)/(MAX($I$2671:$I$2685)-1)*10000,0)","v":9091},{"$f":"ROUND(K2672*L2672,0)","v":8000},"x","x","Std. Cirrus","KAC",""]
["Eliska Kudejova",2006,"F","Strakonice","CZ/C1","GGP MB 2024 - Klub GP",{"$f":"VLOOKUP(F2673,Soutez!A:B,2,FALSE)","v":"CZ"},{"$f":"VLOOKUP(F2673,Soutez!A:C,3,FALSE)","v":2024},3,16,0.88,8182,7200,"x","x","DG-101 G","JL","Junior v roce 2025"]
["Vaclav Marel",1974,"M","Jaroměř","CZ/C2","GGP MB 2024 - Klub GP",{"$f":"VLOOKUP(F2674,Soutez!A:B,2,FALSE)","v":"CZ"},{"$f":"VLOOKUP(F2674,Soutez!A:C,3,FALSE)","v":2024},4,14,0.88,7273,6400,null,null,"Std. Cirrus","IF",""]
["Tereza Koubkova",1999,"F","Vysoké Mýto","CZ/C2","GGP MB 2024 - Klub GP",{"$f":"VLOOKUP(F2675,Soutez!A:B,2,FALSE)","v":"CZ"},{"$f":"VLOOKUP(F2675,Soutez!A:C,3,FALSE)","v":2024},4,14,0.88,7273,6400,null,null,"Std.Cirrus","WY",""]
["Ondrej Teichman",1984,"M","Dvůr Králové","CZ/C2","GGP MB 2024 - Klub GP",{"$f":"VLOOKUP(F2676,Soutez!A:B,2,FALSE)","v":"CZ"},{"$f":"VLOOKUP(F2676,Soutez!A:C,3,FALSE)","v":2024},6,13,0.88,5455,4800,null,null,"Cirrus VTC","OT",""]
["Jiri Hula",1973,"M","Slaný","CZ/C1","GGP MB 2024 - Klub GP",{"$f":"VLOOKUP(F2677,Soutez!A:B,2,FALSE)","v":"CZ"},{"$f":"VLOOKUP(F2677,Soutez!A:C,3,FALSE)","v":2024},7,11,0.88,4545,4000,null,null,"Std. Cirrus","IT",""]
["Matej Krestes",1986,"M","Slaný","CZ/C1","GGP MB 2024 - Klub GP",{"$f":"VLOOKUP(F2678,Soutez!A:B,2,FALSE)","v":"CZ"},{"$f":"VLOOKUP(F2678,Soutez!A:C,3,FALSE)","v":2024},8,7,0.88,3636,3200,"x",null,"Std. Cirrus","CON",""]
["Martin Krizovic",1971,"M","Přibyslav","CZ/C2","GGP MB 2024 - Klub GP",{"$f":"VLOOKUP(F2679,Soutez!A:B,2,FALSE)","v":"CZ"},{"$f":"VLOOKUP(F2679,Soutez!A:C,3,FALSE)","v":2024},8,7,0.88,3636,{"$f":"ROUND(K2679*L2679,0)","v":3200},"x",null,"Std. Cirrus",96,""]
["Jakub Sachl",2006,"M","Kralupy","CZ/C1","GGP MB 2024 - Klub GP",{"$f":"VLOOKUP(F2680,Soutez!A:B,2,FALSE)","v":"CZ"},{"$f":"VLOOKUP(F2680,Soutez!A:C,3,FALSE)","v":2024},10,3,0.88,{"$f":"ROUND((MAX($I$2671:$I$2685)-I2681)/(MAX($I$2671:$I$2685)-1)*10000,0)","v":1818},1600,"x",null,"DG-300","BK","Junior v roce 2025"]
["Jiri Bergman",1978,"M","Mladá Boleslav","CZ/C1","GGP MB 2024 - Klub GP",{"$f":"VLOOKUP(F2681,Soutez!A:B,2,FALSE)","v":"CZ"},{"$f":"VLOOKUP(F2681,Soutez!A:C,3,FALSE)","v":2024},10,3,0.88,{"$f":"ROUND((MAX($I$2671:$I$2685)-I2682)/(MAX($I$2671:$I$2685)-1)*10000,0)","v":0},0,null,null,"Std. Cirrus","BW",""]
["Martin Neuvirt",2001,"M","Přibyslav","CZ/C2","GGP MB 2024 - Klub GP",{"$f":"VLOOKUP(F2682,Soutez!A:B,2,FALSE)","v":"CZ"},{"$f":"VLOOKUP(F2682,Soutez!A:C,3,FALSE)","v":2024},12,0,0.88,{"$f":"ROUND((MAX($I$2671:$I$2685)-I2683)/(MAX($I$2671:$I$2685)-1)*10000,0)","v":0},0,null,null,"Std. Cirrus","2C","Junior v roce 2025"]
["Matej Bartos",1998,"M","Hodkovice","CZ/C2","GGP MB 2024 - Klub GP",{"$f":"VLOOKUP(F2683,Soutez!A:B,2,FALSE)","v":"CZ"},{"$f":"VLOOKUP(F2683,Soutez!A:C,3,FALSE)","v":2024},12,0,0.88,{"$f":"ROUND((MAX($I$2671:$I$2685)-I2684)/(MAX($I$2671:$I$2685)-1)*10000,0)","v":0},0,null,null,"ASW-19b","XP",""]
["Jiri Bartunek",1982,"M","Mladá Boleslav","CZ/C1","GGP MB 2024 - Klub GP",{"$f":"VLOOKUP(F2684,Soutez!A:B,2,FALSE)","v":"CZ"},{"$f":"VLOOKUP(F2684,Soutez!A:C,3,FALSE)","v":2024},12,0,0.88,{"$f":"ROUND((MAX($I$2671:$I$2685)-I2685)/(MAX($I$2671:$I$2685)-1)*10000,0)","v":0},{"$f":"ROUND(K2684*L2684,0)","v":0},null,null,"ASW-15","MB",""]
["Pavel Derda",1952,"M","Dvůr Králové","CZ/C2","GGP MB 2024 - Klub GP",{"$f":"VLOOKUP(F2685,Soutez!A:B,2,FALSE)","v":"CZ"},{"$f":"VLOOKUP(F2685,Soutez!A:C,3,FALSE)","v":2024},12,0,0.88,null,0,null,null,"Cirrus VTC","VTC",""]
["David Sachl",{"$f":"VLOOKUP(A2686,Pilot,2,0)","v":1978},{"$f":"VLOOKUP(A2686,Pilot,5,0)","v":"M"},{"$f":"VLOOKUP(A2686,Pilot,3,0)","v":"Kralupy"},{"$f":"VLOOKUP(A2686,Pilot,4,0)","v":"CZ/C1"},"GGP MB 2022 - Pohár MV - Kombi",{"$f":"VLOOKUP(F2686,Soutez!A:B,2,FALSE)","v":"CZ"},{"$f":"VLOOKUP(F2686,Soutez!A:C,3,FALSE)","v":2022},1,1298,0.91500000000000004,{"$f":"ROUND(J2686/MAX($J$2686:$J$2698)*10000*0.7+(MAX($I$2686:$I$2698)-I2686)/(MAX($I$2686:$I$2698)-1)*10000*0.3,0)","v":10000},{"$f":"ROUND(K2686*L2686,0)","v":9150},"x",null,"ASW 27b WL","MF",{"$f":"IF(ISERROR(VLOOKUP(A2686,Pilot,6,0)),\"Není v databázi\",VLOOKUP(A2686,Pilot,6,0))","v":""}]
["Hana Treslova",{"$f":"VLOOKUP(A2687,Pilot,2,0)","v":1991},{"$f":"VLOOKUP(A2687,Pilot,5,0)","v":"F"},{"$f":"VLOOKUP(A2687,Pilot,3,0)","v":"Raná"},{"$f":"VLOOKUP(A2687,Pilot,4,0)","v":"CZ/C2"},"GGP MB 2022 - Pohár MV - Kombi",{"$f":"VLOOKUP(F2687,Soutez!A:B,2,FALSE)","v":"CZ"},{"$f":"VLOOKUP(F2687,Soutez!A:C,3,FALSE)","v":2022},2,1222,0.91500000000000004,{"$f":"ROUND(J2687/MAX($J$2686:$J$2698)*10000*0.7+(MAX($I$2686:$I$2698)-I2687)/(MAX($I$2686:$I$2698)-1)*10000*0.3,0)","v":9340},8546,null,null,"JS3 18m","XM",""]
["Leos Strnadek",1983,"M","Hodkovice","CZ/C2","GGP MB 2022 - Pohár MV - Kombi",{"$f":"VLOOKUP(F2688,Soutez!A:B,2,FALSE)","v":"CZ"},{"$f":"VLOOKUP(F2688,Soutez!A:C,3,FALSE)","v":2022},3,1191,0.91500000000000004,8923,8165,"x",null,"ASG 29e 18m","XZ",""]
["Karel Novak",1993,"M","Mladá Boleslav","CZ/C1","GGP MB 2022 - Pohár MV - Kombi",{"$f":"VLOOKUP(F2689,Soutez!A:B,2,FALSE)","v":"CZ"},{"$f":"VLOOKUP(F2689,Soutez!A:C,3,FALSE)","v":2022},4,1099,0.91500000000000004,8177,7482,null,null,"Ventus 2a 15m","AX",""]
["Jan Hejret",1976,"M","Jaroměř","CZ/C2","GGP MB 2022 - Pohár MV - Kombi",{"$f":"VLOOKUP(F2690,Soutez!A:B,2,FALSE)","v":"CZ"},{"$f":"VLOOKUP(F2690,Soutez!A:C,3,FALSE)","v":2022},5,1072,0.91500000000000004,7781,7120,"x",null,"Ventus C 17.6m","WP",""]
["Tomas Hynek",2002,"M","Dvůr Králové","CZ/C2","GGP MB 2022 - Pohár MV - Kombi",{"$f":"VLOOKUP(F2691,Soutez!A:B,2,FALSE)","v":"CZ"},{"$f":"VLOOKUP(F2691,Soutez!A:C,3,FALSE)","v":2022},6,763,0.91500000000000004,5865,5366,null,null,"LS 8 15m","EU","Junior v roce 2025"]
["Jan Zapletal",1997,"M","Břeclav","CZ/M","GGP MB 2022 - Pohár MV - Kombi",{"$f":"VLOOKUP(F2692,Soutez!A:B,2,FALSE)","v":"CZ"},{"$f":"VLOOKUP(F2692,Soutez!A:C,3,FALSE)","v":2022},7,660,0.91500000000000004,5059,4629,null,null,"ASG-29e 18m","2L",""]
["Martin Soucek",1975,"M","Mladá Boleslav","CZ/C1","GGP MB 2022 - Pohár MV - Kombi",{"$f":"VLOOKUP(F2693,Soutez!A:B,2,FALSE)","v":"CZ"},{"$f":"VLOOKUP(F2693,Soutez!A:C,3,FALSE)","v":2022},8,567,0.91500000000000004,4308,3942,null,null,"DG 200 17m WL","MS",""]
["Jan Ratz",1987,"M","Zbraslavice","CZ/C1","GGP MB 2022 - Pohár MV - Kombi",{"$f":"VLOOKUP(F2694,Soutez!A:B,2,FALSE)","v":"CZ"},{"$f":"VLOOKUP(F2694,Soutez!A:C,3,FALSE)","v":2022},9,546,0.91500000000000004,3945,3610,null,null,"Ventus a 15m WL -500kg","FW",""]
["Libor Bednarik",1972,"M","Kunovice","CZ/M","GGP MB 2022 - Pohár MV - Kombi",{"$f":"VLOOKUP(F2695,Soutez!A:B,2,FALSE)","v":"CZ"},{"$f":"VLOOKUP(F2695,Soutez!A:C,3,FALSE)","v":2022},10,448,0.91500000000000004,3166,2897,"x",null,"HPH 304TS -850kg","KEG",""]
["Petra CTIBOR",1991,"F","Medlánky","CZ/M","GGP MB 2022 - Pohár MV - Kombi",{"$f":"VLOOKUP(F2696,Soutez!A:B,2,FALSE)","v":"CZ"},{"$f":"VLOOKUP(F2696,Soutez!A:C,3,FALSE)","v":2022},11,241,0.91500000000000004,1800,1647,null,null,"LAK-17A 18m WL","PB",""]
["Marek Kornec",1957,"M","Dvůr Králové","CZ/C2","GGP MB 2022 - Pohár MV - Kombi",{"$f":"VLOOKUP(F2697,Soutez!A:B,2,FALSE)","v":"CZ"},{"$f":"VLOOKUP(F2697,Soutez!A:C,3,FALSE)","v":2022},12,200,0.91500000000000004,1329,1216,null,null,"Janus C FG","KS",""]
["Jan Muknsnabl",1992,"M","Letkov","CZ/C1","GGP MB 2022 - Pohár MV - Kombi",{"$f":"VLOOKUP(F2698,Soutez!A:B,2,FALSE)","v":"CZ"},{"$f":"VLOOKUP(F2698,Soutez!A:C,3,FALSE)","v":2022},13,0,0.91500000000000004,0,0,null,null,"LS-8 neo 18m","EJ",""]
["Martijn Eerdekens",null,null,null,null,"JWGC 2024 - Klub",{"$f":"VLOOKUP(F2699,Soutez!A:B,2,FALSE)","v":"PL"},{"$f":"VLOOKUP(F2699,Soutez!A:C,3,FALSE)","v":2024},1,8863,1.07,{"$f":"ROUND(J2699/MAX($J$2699:$J$2742)*10000*0.7+(MAX($I$2699:$I$2742)-I2699)/(MAX($I$2699:$I$2742)-1)*10000*0.3,0)","v":10000},{"$f":"ROUND(K2699*L2699,0)","v":10700},null,null,"LS3 (376,4kg)","PM","Není v databázi"]
["Kim Toppari",null,null,null,null,"JWGC 2024 - Klub",{"$f":"VLOOKUP(F2700,Soutez!A:B,2,FALSE)","v":"PL"},{"$f":"VLOOKUP(F2700,Soutez!A:C,3,FALSE)","v":2024},2,8772,1.07,{"$f":"ROUND(J2700/MAX($J$2699:$J$2742)*10000*0.7+(MAX($I$2699:$I$2742)-I2700)/(MAX($I$2699:$I$2742)-1)*10000*0.3,0)","v":9858},10548,null,null,"LS7 neo WL (339,6kg)","KT","Není v databázi"]
["Alexandre Fierain",null,null,null,null,"JWGC 2024 - Klub",{"$f":"VLOOKUP(F2701,Soutez!A:B,2,FALSE)","v":"PL"},{"$f":"VLOOKUP(F2701,Soutez!A:C,3,FALSE)","v":2024},3,8601,1.07,9654,10330,null,null,"ASW 20 (351,2kg)","WE","Není v databázi"]
["Nicolas Caudrelier",null,null,null,null,"JWGC 2024 - Klub",{"$f":"VLOOKUP(F2702,Soutez!A:B,2,FALSE)","v":"PL"},{"$f":"VLOOKUP(F2702,Soutez!A:C,3,FALSE)","v":2024},4,8517,1.07,9517,10183,null,null,"ASW 20CL (351,0kg)","VL","Není v databázi"]
["Wiktor Czubski",null,null,null,null,"JWGC 2024 - Klub",{"$f":"VLOOKUP(F2703,Soutez!A:B,2,FALSE)","v":"PL"},{"$f":"VLOOKUP(F2703,Soutez!A:C,3,FALSE)","v":2024},5,8449,1.07,9394,10052,null,null,"ASW 20F (371,9kg)","TO","Není v databázi"]
["Jan Stastny",{"$f":"VLOOKUP(A2704,Pilot,2,0)","v":2003},{"$f":"VLOOKUP(A2704,Pilot,5,0)","v":"M"},{"$f":"VLOOKUP(A2704,Pilot,3,0)","v":"Medlánky"},{"$f":"VLOOKUP(A2704,Pilot,4,0)","v":"CZ/M"},"JWGC 2024 - Klub",{"$f":"VLOOKUP(F2704,Soutez!A:B,2,FALSE)","v":"PL"},{"$f":"VLOOKUP(F2704,Soutez!A:C,3,FALSE)","v":2024},6,8371,1.07,9263,9911,"x",null,"ASW 20L (352,8kg)","CX","Junior v roce 2025"]
["Tomas Hynek",{"$f":"VLOOKUP(A2705,Pilot,2,0)","v":2002},{"$f":"VLOOKUP(A2705,Pilot,5,0)","v":"M"},{"$f":"VLOOKUP(A2705,Pilot,3,0)","v":"Dvůr Králové"},{"$f":"VLOOKUP(A2705,Pilot,4,0)","v":"CZ/C2"},"JWGC 2024 - Klub",{"$f":"VLOOKUP(F2705,Soutez!A:B,2,FALSE)","v":"PL"},{"$f":"VLOOKUP(F2705,Soutez!A:C,3,FALSE)","v":2024},7,8271,{"$f":"VLOOKUP(F2705,Soutez,12,0)","v":1.07},9114,9752,"x",null,"ASW 20CL (348,2kg)","VW","Junior v roce 2025"]
["Jens Andersen",null,null,null,null,"JWGC 2024 - Klub",{"$f":"VLOOKUP(F2706,Soutez!A:B,2,FALSE)","v":"PL"},{"$f":"VLOOKUP(F2706,Soutez!A:C,3,FALSE)","v":2024},8,8216,1.07,9001,9631,null,null,"Mosquito (384,0kg)","N8","Není v databázi"]
["Simon SiSka",null,null,null,null,"JWGC 2024 - Klub",{"$f":"VLOOKUP(F2707,Soutez!A:B,2,FALSE)","v":"PL"},{"$f":"VLOOKUP(F2707,Soutez!A:C,3,FALSE)","v":2024},9,8151,1.07,8880,9502,null,null,"ASW 24 WL (355,0kg)","CK","Není v databázi"]
["Lars van Breemen",null,null,null,null,"JWGC 2024 - Klub",{"$f":"VLOOKUP(F2708,Soutez!A:B,2,FALSE)","v":"PL"},{"$f":"VLOOKUP(F2708,Soutez!A:C,3,FALSE)","v":2024},10,8142,1.07,8803,9419,null,null,"LS4 neo WL (359,8kg)","S4","Není v databázi"]
["Tomasz Kurowski",null,null,null,null,"JWGC 2024 - Klub",{"$f":"VLOOKUP(F2709,Soutez!A:B,2,FALSE)","v":"PL"},{"$f":"VLOOKUP(F2709,Soutez!A:C,3,FALSE)","v":2024},11,8049,1.07,8659,9265,null,null,"LS3a (377,0kg)","BO","Není v databázi"]
["Elias Severholt Fourati",null,null,null,null,"JWGC 2024 - Klub",{"$f":"VLOOKUP(F2710,Soutez!A:B,2,FALSE)","v":"PL"},{"$f":"VLOOKUP(F2710,Soutez!A:C,3,FALSE)","v":2024},12,8020,1.07,8567,9167,null,null,"Genesis 2 (358,2kg)","S","Není v databázi"]
["Nils Zitzelsberger",null,null,null,null,"JWGC 2024 - Klub",{"$f":"VLOOKUP(F2711,Soutez!A:B,2,FALSE)","v":"PL"},{"$f":"VLOOKUP(F2711,Soutez!A:C,3,FALSE)","v":2024},13,7974,1.07,8461,9053,null,null,"Discus b (364,8kg)","Ac3","Není v databázi"]
["Alessandro Bassalti",null,null,null,null,"JWGC 2024 - Klub",{"$f":"VLOOKUP(F2712,Soutez!A:B,2,FALSE)","v":"PL"},{"$f":"VLOOKUP(F2712,Soutez!A:C,3,FALSE)","v":2024},14,7916,1.07,8345,8929,null,null,"Discus b (363,6kg)","5I","Není v databázi"]
["Tim Kremers",null,null,null,null,"JWGC 2024 - Klub",{"$f":"VLOOKUP(F2713,Soutez!A:B,2,FALSE)","v":"PL"},{"$f":"VLOOKUP(F2713,Soutez!A:C,3,FALSE)","v":2024},15,7828,1.07,8206,8780,null,null,"LS4a (355,2kg)","Au","Není v databázi"]
["Jokūbas Motūza",null,null,null,null,"JWGC 2024 - Klub",{"$f":"VLOOKUP(F2714,Soutez!A:B,2,FALSE)","v":"PL"},{"$f":"VLOOKUP(F2714,Soutez!A:C,3,FALSE)","v":2024},16,7786,1.07,8103,8670,null,null,"Jantar Std. (369,6kg)","JM","Není v databázi"]
["Andrea Paganin",null,null,null,null,"JWGC 2024 - Klub",{"$f":"VLOOKUP(F2715,Soutez!A:B,2,FALSE)","v":"PL"},{"$f":"VLOOKUP(F2715,Soutez!A:C,3,FALSE)","v":2024},17,7741,1.07,7998,8558,null,null,"ASW 24 WL (340,6kg)","RB","Není v databázi"]
["George White",null,null,null,null,"JWGC 2024 - Klub",{"$f":"VLOOKUP(F2716,Soutez!A:B,2,FALSE)","v":"PL"},{"$f":"VLOOKUP(F2716,Soutez!A:C,3,FALSE)","v":2024},18,7726,1.07,7916,8470,null,null,"ASW 20L (360,4kg)","ENW","Není v databázi"]
["Dylan Osolian",null,null,null,null,"JWGC 2024 - Klub",{"$f":"VLOOKUP(F2717,Soutez!A:B,2,FALSE)","v":"PL"},{"$f":"VLOOKUP(F2717,Soutez!A:C,3,FALSE)","v":2024},19,7675,1.07,7806,8352,null,null,"LS3 (391,0kg)","CP","Není v databázi"]
["Clement de Pechy",null,null,null,null,"JWGC 2024 - Klub",{"$f":"VLOOKUP(F2718,Soutez!A:B,2,FALSE)","v":"PL"},{"$f":"VLOOKUP(F2718,Soutez!A:C,3,FALSE)","v":2024},20,7584,1.07,7664,8200,null,null,"ASW 20FL (377,6kg)","LX","Není v databázi"]
["Oskar Minds",null,null,null,null,"JWGC 2024 - Klub",{"$f":"VLOOKUP(F2719,Soutez!A:B,2,FALSE)","v":"PL"},{"$f":"VLOOKUP(F2719,Soutez!A:C,3,FALSE)","v":2024},21,7393,1.07,7444,7965,null,null,"LS4 (340,4kg)","MD","Není v databázi"]
["Florian Kraja",null,null,null,null,"JWGC 2024 - Klub",{"$f":"VLOOKUP(F2720,Soutez!A:B,2,FALSE)","v":"PL"},{"$f":"VLOOKUP(F2720,Soutez!A:C,3,FALSE)","v":2024},22,7239,1.07,{"$f":"ROUND(J2720/MAX($J$2699:$J$2742)*10000*0.7+(MAX($I$2699:$I$2742)-I2720)/(MAX($I$2699:$I$2742)-1)*10000*0.3,0)","v":7252},7760,null,null,"LS7 WL (331,6kg)","RX","Není v databázi"]
["Moriz Urwyler",null,null,null,null,"JWGC 2024 - Klub",{"$f":"VLOOKUP(F2721,Soutez!A:B,2,FALSE)","v":"PL"},{"$f":"VLOOKUP(F2721,Soutez!A:C,3,FALSE)","v":2024},23,7112,1.07,7082,7578,null,null,"Discus b WL (362,4kg)","OM","Není v databázi"]
["David Neumann",null,null,null,null,"JWGC 2024 - Klub",{"$f":"VLOOKUP(F2722,Soutez!A:B,2,FALSE)","v":"PL"},{"$f":"VLOOKUP(F2722,Soutez!A:C,3,FALSE)","v":2024},24,7088,1.07,6993,7483,null,null,"ASW 24 WL (354,2kg)","LL","Není v databázi"]
["Michał Okoń",null,null,null,null,"JWGC 2024 - Klub",{"$f":"VLOOKUP(F2723,Soutez!A:B,2,FALSE)","v":"PL"},{"$f":"VLOOKUP(F2723,Soutez!A:C,3,FALSE)","v":2024},25,7006,1.07,6859,7339,null,null,"ASW 20FL WL (372,0kg)","MT","Není v databázi"]
["Wout Sliedregt",null,null,null,null,"JWGC 2024 - Klub",{"$f":"VLOOKUP(F2724,Soutez!A:B,2,FALSE)","v":"PL"},{"$f":"VLOOKUP(F2724,Soutez!A:C,3,FALSE)","v":2024},26,6814,1.07,6638,7103,null,null,"LS4a (330,8kg)","AG","Není v databázi"]
["Robbe Van Brandt",null,null,null,null,"JWGC 2024 - Klub",{"$f":"VLOOKUP(F2725,Soutez!A:B,2,FALSE)","v":"PL"},{"$f":"VLOOKUP(F2725,Soutez!A:C,3,FALSE)","v":2024},27,6787,1.07,6546,7004,null,null,"Discus b WL (326,0kg)","PX","Není v databázi"]
["Jakob Schreiber",null,null,null,null,"JWGC 2024 - Klub",{"$f":"VLOOKUP(F2726,Soutez!A:B,2,FALSE)","v":"PL"},{"$f":"VLOOKUP(F2726,Soutez!A:C,3,FALSE)","v":2024},28,6628,1.07,6351,6796,null,null,"LS4b (362,2kg)","VS3","Není v databázi"]
["Mike Tiffin",null,null,null,null,"JWGC 2024 - Klub",{"$f":"VLOOKUP(F2727,Soutez!A:B,2,FALSE)","v":"PL"},{"$f":"VLOOKUP(F2727,Soutez!A:C,3,FALSE)","v":2024},29,6586,1.07,6248,{"$f":"ROUND(K2727*L2727,0)","v":6685},null,null,"LS4b (352,6kg)","6L","Není v databázi"]
["Kengo Matsumoto",null,null,null,null,"JWGC 2024 - Klub",{"$f":"VLOOKUP(F2728,Soutez!A:B,2,FALSE)","v":"PL"},{"$f":"VLOOKUP(F2728,Soutez!A:C,3,FALSE)","v":2024},30,6492,1.07,6104,6531,null,null,"ASW 20FL (371,5kg)","X11","Není v databázi"]
["Mate Meszaros",null,null,null,null,"JWGC 2024 - Klub",{"$f":"VLOOKUP(F2729,Soutez!A:B,2,FALSE)","v":"PL"},{"$f":"VLOOKUP(F2729,Soutez!A:C,3,FALSE)","v":2024},31,6439,1.07,5993,6413,null,null,"ASW 19b (382,8kg)","DB","Není v databázi"]
["Terje Lindtveit",null,null,null,null,"JWGC 2024 - Klub",{"$f":"VLOOKUP(F2730,Soutez!A:B,2,FALSE)","v":"PL"},{"$f":"VLOOKUP(F2730,Soutez!A:C,3,FALSE)","v":2024},32,6118,1.07,5669,6066,null,null,"ASW 20 (364,4kg)","TE","Není v databázi"]
["Jacob Barnes jr.",null,null,null,null,"JWGC 2024 - Klub",{"$f":"VLOOKUP(F2731,Soutez!A:B,2,FALSE)","v":"PL"},{"$f":"VLOOKUP(F2731,Soutez!A:C,3,FALSE)","v":2024},33,5929,1.07,5450,5832,null,null,"ASW 20L (375,4kg)","RD","Není v databázi"]
["Matthias Feitzinger",null,null,null,null,"JWGC 2024 - Klub",{"$f":"VLOOKUP(F2732,Soutez!A:B,2,FALSE)","v":"PL"},{"$f":"VLOOKUP(F2732,Soutez!A:C,3,FALSE)","v":2024},34,5872,1.07,5335,5708,null,null,"LS4a (333,6kg)","FO","Není v databázi"]
["David McMaster",null,null,null,null,"JWGC 2024 - Klub",{"$f":"VLOOKUP(F2733,Soutez!A:B,2,FALSE)","v":"PL"},{"$f":"VLOOKUP(F2733,Soutez!A:C,3,FALSE)","v":2024},35,5756,1.07,5174,5536,null,null,"ASW 24b WL (333,2kg)","AC","Není v databázi"]
["Steven Tellmann",null,null,null,null,"JWGC 2024 - Klub",{"$f":"VLOOKUP(F2734,Soutez!A:B,2,FALSE)","v":"PL"},{"$f":"VLOOKUP(F2734,Soutez!A:C,3,FALSE)","v":2024},36,5719,1.07,5075,{"$f":"ROUND(K2734*L2734,0)","v":5430},null,null,"ASW 20F (384,6kg)","S3","Není v databázi"]
["Eirik Brenner Marthins",null,null,null,null,"JWGC 2024 - Klub",{"$f":"VLOOKUP(F2735,Soutez!A:B,2,FALSE)","v":"PL"},{"$f":"VLOOKUP(F2735,Soutez!A:C,3,FALSE)","v":2024},37,5562,1.07,4881,5223,null,null,"Discus T WL (347,6kg)","DW","Není v databázi"]
["Raphael Lutz",null,null,null,null,"JWGC 2024 - Klub",{"$f":"VLOOKUP(F2736,Soutez!A:B,2,FALSE)","v":"PL"},{"$f":"VLOOKUP(F2736,Soutez!A:C,3,FALSE)","v":2024},38,5325,1.07,4624,4948,null,null,"LS4b neo WL (363,8kg)","C5","Není v databázi"]
["Gionata Donati",null,null,null,null,"JWGC 2024 - Klub",{"$f":"VLOOKUP(F2737,Soutez!A:B,2,FALSE)","v":"PL"},{"$f":"VLOOKUP(F2737,Soutez!A:C,3,FALSE)","v":2024},39,5263,1.07,4506,4821,null,null,"LS3 (373,2kg)","IL","Není v databázi"]
["Austėja Urbanaviciūtė",null,null,null,null,"JWGC 2024 - Klub",{"$f":"VLOOKUP(F2738,Soutez!A:B,2,FALSE)","v":"PL"},{"$f":"VLOOKUP(F2738,Soutez!A:C,3,FALSE)","v":2024},40,5118,1.07,4321,4623,null,null,"LS3a (338,2kg)","QT","Není v databázi"]
["Frida Bjørø",null,null,null,null,"JWGC 2024 - Klub",{"$f":"VLOOKUP(F2739,Soutez!A:B,2,FALSE)","v":"PL"},{"$f":"VLOOKUP(F2739,Soutez!A:C,3,FALSE)","v":2024},41,3469,1.07,2949,3155,null,null,"LS4 (315,2kg)","LG","Není v databázi"]
["Ghazi Satriando Humaid Junior",null,null,null,null,"JWGC 2024 - Klub",{"$f":"VLOOKUP(F2740,Soutez!A:B,2,FALSE)","v":"PL"},{"$f":"VLOOKUP(F2740,Soutez!A:C,3,FALSE)","v":2024},42,2163,1.07,1848,1977,null,null,"LS1f neo WL (341,2kg)","7W","Není v databázi"]
["Vladimir Hammer",{"$f":"VLOOKUP(A2741,Pilot,2,0)","v":2000},{"$f":"VLOOKUP(A2741,Pilot,5,0)","v":"M"},{"$f":"VLOOKUP(A2741,Pilot,3,0)","v":"Letkov"},{"$f":"VLOOKUP(A2741,Pilot,4,0)","v":"CZ/C1"},"JWGC 2024 - Klub",{"$f":"VLOOKUP(F2741,Soutez!A:B,2,FALSE)","v":"PL"},{"$f":"VLOOKUP(F2741,Soutez!A:C,3,FALSE)","v":2024},43,1480,1.07,1239,1326,null,null,"ASW 20 (363,7kg)","A3","Junior v roce 2025"]
["George Downing",null,null,null,null,"JWGC 2024 - Klub",{"$f":"VLOOKUP(F2742,Soutez!A:B,2,FALSE)","v":"PL"},{"$f":"VLOOKUP(F2742,Soutez!A:C,3,FALSE)","v":2024},44,639,1.07,505,540,null,null,"ASW 20L (361,9kg)","LD","Není v databázi"]
["Max Maslak",null,null,null,null,"JWGC 2024 - Std",{"$f":"VLOOKUP(F2743,Soutez!A:B,2,FALSE)","v":"PL"},{"$f":"VLOOKUP(F2743,Soutez!A:C,3,FALSE)","v":2024},1,8175,1.0900000000000001,{"$f":"ROUND(J2743/MAX($J$2743:$J$2765)*10000*0.7+(MAX($I$2743:$I$2765)-I2743)/(MAX($I$2743:$I$2765)-1)*10000*0.3,0)","v":10000},10900,null,null,"LS8","AR","Není v databázi"]
["Thomas Greenhill",null,null,null,null,"JWGC 2024 - Std",{"$f":"VLOOKUP(F2744,Soutez!A:B,2,FALSE)","v":"PL"},{"$f":"VLOOKUP(F2744,Soutez!A:C,3,FALSE)","v":2024},2,8114,1.0900000000000001,{"$f":"ROUND(J2744/MAX($J$2743:$J$2765)*10000*0.7+(MAX($I$2743:$I$2765)-I2744)/(MAX($I$2743:$I$2765)-1)*10000*0.3,0)","v":9811},10694,null,null,"Discus 2a","GX","Není v databázi"]
["Nils Schlautmann",null,null,null,null,"JWGC 2024 - Std",{"$f":"VLOOKUP(F2745,Soutez!A:B,2,FALSE)","v":"PL"},{"$f":"VLOOKUP(F2745,Soutez!A:C,3,FALSE)","v":2024},3,8007,1.0900000000000001,9583,10445,null,null,"LS8","PI","Není v databázi"]
["Phillip Jonker",null,null,null,null,"JWGC 2024 - Std",{"$f":"VLOOKUP(F2746,Soutez!A:B,2,FALSE)","v":"PL"},{"$f":"VLOOKUP(F2746,Soutez!A:C,3,FALSE)","v":2024},4,7947,1.0900000000000001,9396,10242,null,null,"LS8","BY","Není v databázi"]
["Jakub Kaczorowski",null,null,null,null,"JWGC 2024 - Std",{"$f":"VLOOKUP(F2747,Soutez!A:B,2,FALSE)","v":"PL"},{"$f":"VLOOKUP(F2747,Soutez!A:C,3,FALSE)","v":2024},5,7920,1.0900000000000001,9236,10067,null,null,"LS8","LOT",{"$f":"IF(ISERROR(VLOOKUP(A2747,Pilot,6,0)),\"Není v databázi\",VLOOKUP(A2747,Pilot,6,0))","v":"Není v databázi"}]
["Victor Mallick",null,null,null,null,"JWGC 2024 - Std",{"$f":"VLOOKUP(F2748,Soutez!A:B,2,FALSE)","v":"PL"},{"$f":"VLOOKUP(F2748,Soutez!A:C,3,FALSE)","v":2024},6,7897,1.0900000000000001,9080,9897,null,null,"LS8","ZZ","Není v databázi"]
["Henry Inigo-Jones",null,null,null,null,"JWGC 2024 - Std",{"$f":"VLOOKUP(F2749,Soutez!A:B,2,FALSE)","v":"PL"},{"$f":"VLOOKUP(F2749,Soutez!A:C,3,FALSE)","v":2024},6,7897,1.0900000000000001,9080,9897,null,null,"LS8",95,"Není v databázi"]
["Jan Schulz",null,null,null,null,"JWGC 2024 - Std",{"$f":"VLOOKUP(F2750,Soutez!A:B,2,FALSE)","v":"PL"},{"$f":"VLOOKUP(F2750,Soutez!A:C,3,FALSE)","v":2024},8,7880,1.0900000000000001,8793,9584,null,null,"LS8","KS","Není v databázi"]
["Jaromir Macoun",{"$f":"VLOOKUP(A2751,Pilot,2,0)","v":1999},{"$f":"VLOOKUP(A2751,Pilot,5,0)","v":"M"},{"$f":"VLOOKUP(A2751,Pilot,3,0)","v":"Jičín"},{"$f":"VLOOKUP(A2751,Pilot,4,0)","v":"CZ/C2"},"JWGC 2024 - Std",{"$f":"VLOOKUP(F2751,Soutez!A:B,2,FALSE)","v":"PL"},{"$f":"VLOOKUP(F2751,Soutez!A:C,3,FALSE)","v":2024},9,7798,1.0900000000000001,8586,9359,"x",null,"LS8","EU",""]
["Lukas Kriz",{"$f":"VLOOKUP(A2752,Pilot,2,0)","v":2003},{"$f":"VLOOKUP(A2752,Pilot,5,0)","v":"M"},{"$f":"VLOOKUP(A2752,Pilot,3,0)","v":"Křižanov"},{"$f":"VLOOKUP(A2752,Pilot,4,0)","v":"CZ/M"},"JWGC 2024 - Std",{"$f":"VLOOKUP(F2752,Soutez!A:B,2,FALSE)","v":"PL"},{"$f":"VLOOKUP(F2752,Soutez!A:C,3,FALSE)","v":2024},10,7761,1.0900000000000001,{"$f":"ROUND(J2752/MAX($J$2743:$J$2765)*10000*0.7+(MAX($I$2743:$I$2765)-I2752)/(MAX($I$2743:$I$2765)-1)*10000*0.3,0)","v":8418},9176,null,null,"LS8","AU1","Junior v roce 2025"]
["Lasse Edslev",null,null,null,null,"JWGC 2024 - Std",{"$f":"VLOOKUP(F2753,Soutez!A:B,2,FALSE)","v":"PL"},{"$f":"VLOOKUP(F2753,Soutez!A:C,3,FALSE)","v":2024},11,7711,1.0900000000000001,8239,8981,null,null,"LS8","EC","Není v databázi"]
["Jasper Jansen",null,null,null,null,"JWGC 2024 - Std",{"$f":"VLOOKUP(F2754,Soutez!A:B,2,FALSE)","v":"PL"},{"$f":"VLOOKUP(F2754,Soutez!A:C,3,FALSE)","v":2024},12,7677,1.0900000000000001,8074,8801,null,null,"LS8e neo",71,"Není v databázi"]
["Maciej Kowalski",null,null,null,null,"JWGC 2024 - Std",{"$f":"VLOOKUP(F2755,Soutez!A:B,2,FALSE)","v":"PL"},{"$f":"VLOOKUP(F2755,Soutez!A:C,3,FALSE)","v":2024},13,7550,1.0900000000000001,7828,8533,null,null,"Discus 2a","Y","Není v databázi"]
["Niels van Nieuwland",null,null,null,null,"JWGC 2024 - Std",{"$f":"VLOOKUP(F2756,Soutez!A:B,2,FALSE)","v":"PL"},{"$f":"VLOOKUP(F2756,Soutez!A:C,3,FALSE)","v":2024},14,7478,1.0900000000000001,7630,8317,null,null,"LS8 neo","VNE","Není v databázi"]
["Michaela Rendlova",{"$f":"VLOOKUP(A2757,Pilot,2,0)","v":2004},{"$f":"VLOOKUP(A2757,Pilot,5,0)","v":"F"},{"$f":"VLOOKUP(A2757,Pilot,3,0)","v":"Toužim"},{"$f":"VLOOKUP(A2757,Pilot,4,0)","v":"CZ/C1"},"JWGC 2024 - Std",{"$f":"VLOOKUP(F2757,Soutez!A:B,2,FALSE)","v":"PL"},{"$f":"VLOOKUP(F2757,Soutez!A:C,3,FALSE)","v":2024},15,7421,1.0900000000000001,7445,8115,null,null,"LS8","W8","Junior v roce 2025"]
["Lucas Oyaux",null,null,null,null,"JWGC 2024 - Std",{"$f":"VLOOKUP(F2758,Soutez!A:B,2,FALSE)","v":"PL"},{"$f":"VLOOKUP(F2758,Soutez!A:C,3,FALSE)","v":2024},16,7341,1.0900000000000001,7240,7892,null,null,"Discus 2a","VN1","Není v databázi"]
["Henry Richard Daly",null,null,null,null,"JWGC 2024 - Std",{"$f":"VLOOKUP(F2759,Soutez!A:B,2,FALSE)","v":"PL"},{"$f":"VLOOKUP(F2759,Soutez!A:C,3,FALSE)","v":2024},17,7273,1.0900000000000001,7046,7680,null,null,"LS8","FX","Není v databázi"]
["Jacob Bøgelund Lassen",null,null,null,null,"JWGC 2024 - Std",{"$f":"VLOOKUP(F2760,Soutez!A:B,2,FALSE)","v":"PL"},{"$f":"VLOOKUP(F2760,Soutez!A:C,3,FALSE)","v":2024},18,7258,1.0900000000000001,6897,7518,null,null,"Discus 2a","MK","Není v databázi"]
["Theo Napoleon",null,null,null,null,"JWGC 2024 - Std",{"$f":"VLOOKUP(F2761,Soutez!A:B,2,FALSE)","v":"PL"},{"$f":"VLOOKUP(F2761,Soutez!A:C,3,FALSE)","v":2024},19,7043,1.0900000000000001,6576,7168,null,null,"Discus-2a","AX","Není v databázi"]
["Noud Kaaij",null,null,null,null,"JWGC 2024 - Std",{"$f":"VLOOKUP(F2762,Soutez!A:B,2,FALSE)","v":"PL"},{"$f":"VLOOKUP(F2762,Soutez!A:C,3,FALSE)","v":2024},20,7015,1.0900000000000001,6416,6993,null,null,"LS8 neo 15m","VK","Není v databázi"]
["Titas JovaiSa",null,null,null,null,"JWGC 2024 - Std",{"$f":"VLOOKUP(F2763,Soutez!A:B,2,FALSE)","v":"PL"},{"$f":"VLOOKUP(F2763,Soutez!A:C,3,FALSE)","v":2024},21,6720,1.0900000000000001,6027,6569,null,null,"LS8","MG","Není v databázi"]
["Oliver Ramsay",null,null,null,null,"JWGC 2024 - Std",{"$f":"VLOOKUP(F2764,Soutez!A:B,2,FALSE)","v":"PL"},{"$f":"VLOOKUP(F2764,Soutez!A:C,3,FALSE)","v":2024},22,6641,1.0900000000000001,5823,6347,null,null,"LS8","B","Není v databázi"]
["Wiktor Łaciński",null,null,null,null,"JWGC 2024 - Std",{"$f":"VLOOKUP(F2765,Soutez!A:B,2,FALSE)","v":"PL"},{"$f":"VLOOKUP(F2765,Soutez!A:C,3,FALSE)","v":2024},23,6556,1.0900000000000001,5614,6119,null,null,"Discus 2a","I","Není v databázi"]
["Jakob Schreiber",null,null,null,null,"Pribina Cup 2024 - Klub",{"$f":"VLOOKUP(F2766,Soutez!A:B,2,FALSE)","v":"SK"},{"$f":"VLOOKUP(F2766,Soutez!A:C,3,FALSE)","v":2024},1,3359,0.91500000000000004,{"$f":"ROUND(J2766/MAX($J$2766:$J$2776)*10000*0.7+(MAX($I$2766:$I$2776)-I2766)/(MAX($I$2766:$I$2776)-1)*10000*0.3,0)","v":10000},9150,null,null,"LS 4","VS3","Není v databázi"]
["Raphael Gramer",null,null,null,null,"Pribina Cup 2024 - Klub",{"$f":"VLOOKUP(F2767,Soutez!A:B,2,FALSE)","v":"SK"},{"$f":"VLOOKUP(F2767,Soutez!A:C,3,FALSE)","v":2024},2,3349,{"$f":"VLOOKUP(F2767,Soutez,12,0)","v":0.91500000000000004},9679,8856,null,null,"LS 4","M2","Není v databázi"]
["Matthias Feitzinger",null,null,"SFC Ried",null,"Pribina Cup 2024 - Klub",{"$f":"VLOOKUP(F2768,Soutez!A:B,2,FALSE)","v":"SK"},{"$f":"VLOOKUP(F2768,Soutez!A:C,3,FALSE)","v":2024},3,3200,0.91500000000000004,9069,8298,null,null,"LS 4","FO","Není v databázi"]
["Michal Lesinger",{"$f":"VLOOKUP(A2769,Pilot,2,0)","v":1966},{"$f":"VLOOKUP(A2769,Pilot,5,0)","v":"M"},{"$f":"VLOOKUP(A2769,Pilot,3,0)","v":"Moravská Třebová"},{"$f":"VLOOKUP(A2769,Pilot,4,0)","v":"CZ/M"},"Pribina Cup 2024 - Klub",{"$f":"VLOOKUP(F2769,Soutez!A:B,2,FALSE)","v":"SK"},{"$f":"VLOOKUP(F2769,Soutez!A:C,3,FALSE)","v":2024},4,2913,0.91500000000000004,8171,7476,null,null,"ASW 20","LL",""]
["Pavol Klein",null,null,null,null,"Pribina Cup 2024 - Klub",{"$f":"VLOOKUP(F2770,Soutez!A:B,2,FALSE)","v":"SK"},{"$f":"VLOOKUP(F2770,Soutez!A:C,3,FALSE)","v":2024},5,2671,0.91500000000000004,7366,{"$f":"ROUND(K2770*L2770,0)","v":6740},null,null,"Std. Libelle",109,"Není v databázi"]
["Martin Snirc",null,null,null,null,"Pribina Cup 2024 - Klub",{"$f":"VLOOKUP(F2771,Soutez!A:B,2,FALSE)","v":"SK"},{"$f":"VLOOKUP(F2771,Soutez!A:C,3,FALSE)","v":2024},6,2467,0.91500000000000004,6641,6077,null,null,"DG 400 17m",400,"Není v databázi"]
["Pawel Glowacki",null,null,null,null,"Pribina Cup 2024 - Klub",{"$f":"VLOOKUP(F2772,Soutez!A:B,2,FALSE)","v":"SK"},{"$f":"VLOOKUP(F2772,Soutez!A:C,3,FALSE)","v":2024},7,2267,0.91500000000000004,5924,5420,null,null,"Pegase C-101A","J7","Není v databázi"]
["Juraj Sidor",null,null,"AK Holic",null,"Pribina Cup 2024 - Klub",{"$f":"VLOOKUP(F2773,Soutez!A:B,2,FALSE)","v":"SK"},{"$f":"VLOOKUP(F2773,Soutez!A:C,3,FALSE)","v":2024},8,1400,0.91500000000000004,3818,3493,null,null,"Std. Cirrus","NM","Není v databázi"]
["Peter Janoska",null,null,null,null,"Pribina Cup 2024 - Klub",{"$f":"VLOOKUP(F2774,Soutez!A:B,2,FALSE)","v":"SK"},{"$f":"VLOOKUP(F2774,Soutez!A:C,3,FALSE)","v":2024},9,1222,0.91500000000000004,3147,2880,null,null,"Pegase C-101A","EB","Není v databázi"]
["Filip Pechac",null,null,"Nitra",null,"Pribina Cup 2024 - Klub",{"$f":"VLOOKUP(F2775,Soutez!A:B,2,FALSE)","v":"SK"},{"$f":"VLOOKUP(F2775,Soutez!A:C,3,FALSE)","v":2024},10,810,0.91500000000000004,1988,1819,null,null,"Pegase C-101A","J2","Není v databázi"]
["Jozef Duc",null,null,"Nitra",null,"Pribina Cup 2024 - Klub",{"$f":"VLOOKUP(F2776,Soutez!A:B,2,FALSE)","v":"SK"},{"$f":"VLOOKUP(F2776,Soutez!A:C,3,FALSE)","v":2024},11,434,0.91500000000000004,904,827,null,null,"LS 6","N6","Není v databázi"]
["Petr Krejcirik",{"$f":"VLOOKUP(A2777,Pilot,2,0)","v":1960},{"$f":"VLOOKUP(A2777,Pilot,5,0)","v":"M"},{"$f":"VLOOKUP(A2777,Pilot,3,0)","v":"Hranice"},{"$f":"VLOOKUP(A2777,Pilot,4,0)","v":"CZ/M"},"Pribina Cup 2024 - Kombi Open",{"$f":"VLOOKUP(F2777,Soutez!A:B,2,FALSE)","v":"SK"},{"$f":"VLOOKUP(F2777,Soutez!A:C,3,FALSE)","v":2024},1,1943,0.95000000000000007,{"$f":"ROUND(J2777/MAX($J$2777:$J$2797)*10000*0.7+(MAX($I$2777:$I$2797)-I2777)/(MAX($I$2777:$I$2797)-1)*10000*0.3,0)","v":10000},9500,"x",null,"AS 33 Es 18m",12,""]
["Zdislaw Bednarczuk",null,null,null,null,"Pribina Cup 2024 - Kombi Open",{"$f":"VLOOKUP(F2778,Soutez!A:B,2,FALSE)","v":"SK"},{"$f":"VLOOKUP(F2778,Soutez!A:C,3,FALSE)","v":2024},2,1900,0.95000000000000007,{"$f":"ROUND(J2778/MAX($J$2777:$J$2797)*10000*0.7+(MAX($I$2777:$I$2797)-I2778)/(MAX($I$2777:$I$2797)-1)*10000*0.3,0)","v":9695},9210,null,null,"JS3 T 18m","ZB","Není v databázi"]
["Tomas Rendla",{"$f":"VLOOKUP(A2779,Pilot,2,0)","v":1973},{"$f":"VLOOKUP(A2779,Pilot,5,0)","v":"M"},{"$f":"VLOOKUP(A2779,Pilot,3,0)","v":"Zbraslavice"},{"$f":"VLOOKUP(A2779,Pilot,4,0)","v":"CZ/C1"},"Pribina Cup 2024 - Kombi Open",{"$f":"VLOOKUP(F2779,Soutez!A:B,2,FALSE)","v":"SK"},{"$f":"VLOOKUP(F2779,Soutez!A:C,3,FALSE)","v":2024},3,1816,0.95000000000000007,9242,8780,"x",null,"Arcus","EY",""]
["Marek Pechanec",{"$f":"VLOOKUP(A2780,Pilot,2,0)","v":1970},{"$f":"VLOOKUP(A2780,Pilot,5,0)","v":"M"},{"$f":"VLOOKUP(A2780,Pilot,3,0)","v":"Luhačovice"},{"$f":"VLOOKUP(A2780,Pilot,4,0)","v":"CZ/M"},"Pribina Cup 2024 - Kombi Open",{"$f":"VLOOKUP(F2780,Soutez!A:B,2,FALSE)","v":"SK"},{"$f":"VLOOKUP(F2780,Soutez!A:C,3,FALSE)","v":2024},4,1813,0.95000000000000007,9082,8628,"x",null,"JS3 18m","Q1",""]
["Jernej Lokovsek",null,null,"Aeroklub ALC Lesce",null,"Pribina Cup 2024 - Kombi Open",{"$f":"VLOOKUP(F2781,Soutez!A:B,2,FALSE)","v":"SK"},{"$f":"VLOOKUP(F2781,Soutez!A:C,3,FALSE)","v":2024},5,1705,0.95000000000000007,8543,8116,null,null,"JS3 18m","NL","Není v databázi"]
["Vladimir Foltin",null,null,"Aeroklub Nitra",null,"Pribina Cup 2024 - Kombi Open",{"$f":"VLOOKUP(F2782,Soutez!A:B,2,FALSE)","v":"SK"},{"$f":"VLOOKUP(F2782,Soutez!A:C,3,FALSE)","v":2024},6,1688,0.95000000000000007,8331,7914,null,null,"JS3 18m",3,"Není v databázi"]
["Jan Pavlik",{"$f":"VLOOKUP(A2783,Pilot,2,0)","v":1987},{"$f":"VLOOKUP(A2783,Pilot,5,0)","v":"M"},{"$f":"VLOOKUP(A2783,Pilot,3,0)","v":"Křižanov"},{"$f":"VLOOKUP(A2783,Pilot,4,0)","v":"CZ/M"},"Pribina Cup 2024 - Kombi Open",{"$f":"VLOOKUP(F2783,Soutez!A:B,2,FALSE)","v":"SK"},{"$f":"VLOOKUP(F2783,Soutez!A:C,3,FALSE)","v":2024},7,1629,0.95000000000000007,7969,7571,null,null,"LS 8 18m","JW",""]
["Bogdan Dorozko",null,null,null,null,"Pribina Cup 2024 - Kombi Open",{"$f":"VLOOKUP(F2784,Soutez!A:B,2,FALSE)","v":"SK"},{"$f":"VLOOKUP(F2784,Soutez!A:C,3,FALSE)","v":2024},8,1569,0.95000000000000007,7603,7223,null,null,"ASG 29 18m","29L","Není v databázi"]
["Karel Novak",{"$f":"VLOOKUP(A2785,Pilot,2,0)","v":1993},{"$f":"VLOOKUP(A2785,Pilot,5,0)","v":"M"},{"$f":"VLOOKUP(A2785,Pilot,3,0)","v":"Mladá Boleslav"},{"$f":"VLOOKUP(A2785,Pilot,4,0)","v":"CZ/C1"},"Pribina Cup 2024 - Kombi Open",{"$f":"VLOOKUP(F2785,Soutez!A:B,2,FALSE)","v":"SK"},{"$f":"VLOOKUP(F2785,Soutez!A:C,3,FALSE)","v":2024},9,1502,0.95000000000000007,7211,6850,null,null,"Ventus 2a","AX",""]
["Hana Treslova",1991,"F","Raná","CZ/C2","Pribina Cup 2024 - Kombi Open",{"$f":"VLOOKUP(F2786,Soutez!A:B,2,FALSE)","v":"SK"},{"$f":"VLOOKUP(F2786,Soutez!A:C,3,FALSE)","v":2024},10,1389,0.95000000000000007,{"$f":"ROUND(J2786/MAX($J$2777:$J$2797)*10000*0.7+(MAX($I$2777:$I$2797)-I2786)/(MAX($I$2777:$I$2797)-1)*10000*0.3,0)","v":6654},6321,null,null,"JS3 18m","XM",""]
["Jana Treslova",1963,"F","Raná","CZ/C2","Pribina Cup 2024 - Kombi Open",{"$f":"VLOOKUP(F2787,Soutez!A:B,2,FALSE)","v":"SK"},{"$f":"VLOOKUP(F2787,Soutez!A:C,3,FALSE)","v":2024},11,1350,0.95000000000000007,6364,6046,null,null,"LS 8 18m","W8",""]
["Kornel Negro",null,null,null,null,"Pribina Cup 2024 - Kombi Open",{"$f":"VLOOKUP(F2788,Soutez!A:B,2,FALSE)","v":"SK"},{"$f":"VLOOKUP(F2788,Soutez!A:C,3,FALSE)","v":2024},12,1347,0.95000000000000007,6203,5893,null,null,"AS 33 Es 18m","GPS","Není v databázi"]
["Luka Znidarsic",null,null,"Ak Postojna",null,"Pribina Cup 2024 - Kombi Open",{"$f":"VLOOKUP(F2789,Soutez!A:B,2,FALSE)","v":"SK"},{"$f":"VLOOKUP(F2789,Soutez!A:C,3,FALSE)","v":2024},13,1321,0.95000000000000007,5959,5661,null,null,"Duo Discus","LF","Není v databázi"]
["Rene Schönmann",null,null,"SGBF Segelfluggruppe Basel Fricktal",null,"Pribina Cup 2024 - Kombi Open",{"$f":"VLOOKUP(F2790,Soutez!A:B,2,FALSE)","v":"SK"},{"$f":"VLOOKUP(F2790,Soutez!A:C,3,FALSE)","v":2024},14,1279,0.95000000000000007,5658,5375,null,null,"JS1C 21m","LI","Není v databázi"]
["Zsolt Osi",null,null,null,null,"Pribina Cup 2024 - Kombi Open",{"$f":"VLOOKUP(F2791,Soutez!A:B,2,FALSE)","v":"SK"},{"$f":"VLOOKUP(F2791,Soutez!A:C,3,FALSE)","v":2024},15,1230,0.95000000000000007,5331,5064,null,null,"ASW 22 BLE","BY","Není v databázi"]
["Ivan Novak",{"$f":"VLOOKUP(A2792,Pilot,2,0)","v":1962},{"$f":"VLOOKUP(A2792,Pilot,5,0)","v":"M"},{"$f":"VLOOKUP(A2792,Pilot,3,0)","v":"Mladá Boleslav"},{"$f":"VLOOKUP(A2792,Pilot,4,0)","v":"CZ/C1"},"Pribina Cup 2024 - Kombi Open",{"$f":"VLOOKUP(F2792,Soutez!A:B,2,FALSE)","v":"SK"},{"$f":"VLOOKUP(F2792,Soutez!A:C,3,FALSE)","v":2024},16,1226,0.95000000000000007,5167,4909,null,null,"ASG 29/18m","QZ",""]
["Matsumoto & Hupka",null,null,null,null,"Pribina Cup 2024 - Kombi Open",{"$f":"VLOOKUP(F2793,Soutez!A:B,2,FALSE)","v":"SK"},{"$f":"VLOOKUP(F2793,Soutez!A:C,3,FALSE)","v":2024},17,1122,0.95000000000000007,4642,4410,null,null,"DG 1000T 20m","NIT","Není v databázi"]
["Tapio Tourula",null,null,null,null,"Pribina Cup 2024 - Kombi Open",{"$f":"VLOOKUP(F2794,Soutez!A:B,2,FALSE)","v":"SK"},{"$f":"VLOOKUP(F2794,Soutez!A:C,3,FALSE)","v":2024},18,1073,0.95000000000000007,4316,4100,null,null,"Ventus 3F 18m","3F","Není v databázi"]
["Werner Danz",null,null,null,null,"Pribina Cup 2024 - Kombi Open",{"$f":"VLOOKUP(F2795,Soutez!A:B,2,FALSE)","v":"SK"},{"$f":"VLOOKUP(F2795,Soutez!A:C,3,FALSE)","v":2024},19,674,0.95000000000000007,2728,2592,null,null,"Antares 18T","BT","Není v databázi"]
["Szabo & Szabo",null,null,"Aeroclub",null,"Pribina Cup 2024 - Kombi Open",{"$f":"VLOOKUP(F2796,Soutez!A:B,2,FALSE)","v":"SK"},{"$f":"VLOOKUP(F2796,Soutez!A:C,3,FALSE)","v":2024},20,399,0.95000000000000007,1587,1508,null,null,"HpH 304 TS Twin Shark","HPX","Není v databázi"]
["Botond Szabadfi",null,null,"Malev Aeroclub LHDK",null,"Pribina Cup 2024 - Kombi Open",{"$f":"VLOOKUP(F2797,Soutez!A:B,2,FALSE)","v":"SK"},{"$f":"VLOOKUP(F2797,Soutez!A:C,3,FALSE)","v":2024},21,0,0.95000000000000007,0,0,null,null,"ASG 29/18m","BB","Není v databázi"]
["Wiktor Czubski",null,null,null,null,"Fatraglide 2024 - Klub",{"$f":"VLOOKUP(F2798,Soutez!A:B,2,FALSE)","v":"SK"},{"$f":"VLOOKUP(F2798,Soutez!A:C,3,FALSE)","v":2024},1,4689,0.76500000000000001,{"$f":"ROUND(J2798/MAX($J$2798:$J$2826)*10000*0.7+(MAX($I$2798:$I$2826)-I2798)/(MAX($I$2798:$I$2826)-1)*10000*0.3,0)","v":10000},7650,null,null,"SZD-55","JB","Není v databázi"]
["Milan Surovcik Jr.",null,null,null,null,"Fatraglide 2024 - Klub",{"$f":"VLOOKUP(F2799,Soutez!A:B,2,FALSE)","v":"SK"},{"$f":"VLOOKUP(F2799,Soutez!A:C,3,FALSE)","v":2024},2,4527,0.76500000000000001,{"$f":"ROUND(J2799/MAX($J$2798:$J$2826)*10000*0.7+(MAX($I$2798:$I$2826)-I2799)/(MAX($I$2798:$I$2826)-1)*10000*0.3,0)","v":9651},7383,null,null,"ASW 20","S","Není v databázi"]
["Simon Siska",null,null,null,null,"Fatraglide 2024 - Klub",{"$f":"VLOOKUP(F2800,Soutez!A:B,2,FALSE)","v":"SK"},{"$f":"VLOOKUP(F2800,Soutez!A:C,3,FALSE)","v":2024},3,4486,0.76500000000000001,9483,7254,null,null,"ASW 24 WL","CK","Není v databázi"]
["Daniel Smolka",null,null,null,null,"Fatraglide 2024 - Klub",{"$f":"VLOOKUP(F2801,Soutez!A:B,2,FALSE)","v":"SK"},{"$f":"VLOOKUP(F2801,Soutez!A:C,3,FALSE)","v":2024},4,4451,0.76500000000000001,9323,7132,null,null,"ASW-20","MP","Není v databázi"]
["Martin Sabla",null,null,null,null,"Fatraglide 2024 - Klub",{"$f":"VLOOKUP(F2802,Soutez!A:B,2,FALSE)","v":"SK"},{"$f":"VLOOKUP(F2802,Soutez!A:C,3,FALSE)","v":2024},5,4416,0.76500000000000001,9164,{"$f":"ROUND(K2802*L2802,0)","v":7010},null,null,"ASW 20","IKW","Není v databázi"]
["Jozef Kozar",null,null,null,null,"Fatraglide 2024 - Klub",{"$f":"VLOOKUP(F2803,Soutez!A:B,2,FALSE)","v":"SK"},{"$f":"VLOOKUP(F2803,Soutez!A:C,3,FALSE)","v":2024},6,4326,0.76500000000000001,8922,6825,null,null,"LS 1-f","MF","Není v databázi"]
["Jakub Kos",null,null,null,null,"Fatraglide 2024 - Klub",{"$f":"VLOOKUP(F2804,Soutez!A:B,2,FALSE)","v":"SK"},{"$f":"VLOOKUP(F2804,Soutez!A:C,3,FALSE)","v":2024},7,4244,0.76500000000000001,8693,6650,null,null,"Jantar STD 2","LZ","Není v databázi"]
["Jan Horak",{"$f":"VLOOKUP(A2805,Pilot,2,0)","v":1971},{"$f":"VLOOKUP(A2805,Pilot,5,0)","v":"M"},{"$f":"VLOOKUP(A2805,Pilot,3,0)","v":"Zbraslavice"},{"$f":"VLOOKUP(A2805,Pilot,4,0)","v":"CZ/C1"},"Fatraglide 2024 - Klub",{"$f":"VLOOKUP(F2805,Soutez!A:B,2,FALSE)","v":"SK"},{"$f":"VLOOKUP(F2805,Soutez!A:C,3,FALSE)","v":2024},8,4106,0.76500000000000001,8380,6411,"x",null,"ASW 20A WL","WX",""]
["Tibor Fratrik",null,null,null,null,"Fatraglide 2024 - Klub",{"$f":"VLOOKUP(F2806,Soutez!A:B,2,FALSE)","v":"SK"},{"$f":"VLOOKUP(F2806,Soutez!A:C,3,FALSE)","v":2024},9,3949,0.76500000000000001,8038,6149,null,null,"ASW 20 C","VG","Není v databázi"]
["Oskar Glegola",null,null,null,null,"Fatraglide 2024 - Klub",{"$f":"VLOOKUP(F2807,Soutez!A:B,2,FALSE)","v":"SK"},{"$f":"VLOOKUP(F2807,Soutez!A:C,3,FALSE)","v":2024},10,3773,0.76500000000000001,7668,5866,null,null,"Jantar STD 2","FL","Není v databázi"]
["Julia Walowska",null,null,null,null,"Fatraglide 2024 - Klub",{"$f":"VLOOKUP(F2808,Soutez!A:B,2,FALSE)","v":"SK"},{"$f":"VLOOKUP(F2808,Soutez!A:C,3,FALSE)","v":2024},11,3674,0.76500000000000001,7413,5671,null,null,"Jantar STD 3","HI",{"$f":"IF(ISERROR(VLOOKUP(A2808,Pilot,6,0)),\"Není v databázi\",VLOOKUP(A2808,Pilot,6,0))","v":"Není v databázi"}]
["Filip Durda",null,null,null,null,"Fatraglide 2024 - Klub",{"$f":"VLOOKUP(F2809,Soutez!A:B,2,FALSE)","v":"SK"},{"$f":"VLOOKUP(F2809,Soutez!A:C,3,FALSE)","v":2024},12,3640,0.76500000000000001,7255,5550,null,null,"SZD-48-3M Brawo","BI","Není v databázi"]
["Michal Okon",null,null,null,null,"Fatraglide 2024 - Klub",{"$f":"VLOOKUP(F2810,Soutez!A:B,2,FALSE)","v":"SK"},{"$f":"VLOOKUP(F2810,Soutez!A:C,3,FALSE)","v":2024},13,3358,0.76500000000000001,6727,5146,null,null,"ASW 20 WL","MT","Není v databázi"]
["Lubomir Belusko",null,null,null,null,"Fatraglide 2024 - Klub",{"$f":"VLOOKUP(F2811,Soutez!A:B,2,FALSE)","v":"SK"},{"$f":"VLOOKUP(F2811,Soutez!A:C,3,FALSE)","v":2024},14,3099,0.76500000000000001,6234,4769,null,null,"C101D Pegase","HS","Není v databázi"]
["Peter Ronai",null,null,null,null,"Fatraglide 2024 - Klub",{"$f":"VLOOKUP(F2812,Soutez!A:B,2,FALSE)","v":"SK"},{"$f":"VLOOKUP(F2812,Soutez!A:C,3,FALSE)","v":2024},15,2953,0.76500000000000001,5908,4520,null,null,"ASW 20","TE","Není v databázi"]
["Aneta Chabora",null,null,null,null,"Fatraglide 2024 - Klub",{"$f":"VLOOKUP(F2813,Soutez!A:B,2,FALSE)","v":"SK"},{"$f":"VLOOKUP(F2813,Soutez!A:C,3,FALSE)","v":2024},16,2683,0.76500000000000001,5398,4129,null,null,"Jantar STD 3","B","Není v databázi"]
["Martin Marincak",null,null,null,null,"Fatraglide 2024 - Klub",{"$f":"VLOOKUP(F2814,Soutez!A:B,2,FALSE)","v":"SK"},{"$f":"VLOOKUP(F2814,Soutez!A:C,3,FALSE)","v":2024},17,2498,0.76500000000000001,5015,3836,null,null,"LS 1-f","HL","Není v databázi"]
["Gabor Erseki",null,null,null,null,"Fatraglide 2024 - Klub",{"$f":"VLOOKUP(F2815,Soutez!A:B,2,FALSE)","v":"SK"},{"$f":"VLOOKUP(F2815,Soutez!A:C,3,FALSE)","v":2024},18,2322,0.76500000000000001,4645,3553,null,null,"ASW 15","NK","Není v databázi"]
["Antonio Rudolf Kalik",null,null,null,null,"Fatraglide 2024 - Klub",{"$f":"VLOOKUP(F2816,Soutez!A:B,2,FALSE)","v":"SK"},{"$f":"VLOOKUP(F2816,Soutez!A:C,3,FALSE)","v":2024},19,2165,0.76500000000000001,4303,3292,null,null,"LS 3","AK","Není v databázi"]
["Marek Seman",null,null,null,null,"Fatraglide 2024 - Klub",{"$f":"VLOOKUP(F2817,Soutez!A:B,2,FALSE)","v":"SK"},{"$f":"VLOOKUP(F2817,Soutez!A:C,3,FALSE)","v":2024},20,1951,0.76500000000000001,3877,2966,null,null,"Std. Cirrus","CV","Není v databázi"]
["Oldrich Kounovsky",{"$f":"VLOOKUP(A2818,Pilot,2,0)","v":1976},{"$f":"VLOOKUP(A2818,Pilot,5,0)","v":"M"},{"$f":"VLOOKUP(A2818,Pilot,3,0)","v":"Medlánky"},{"$f":"VLOOKUP(A2818,Pilot,4,0)","v":"CZ/M"},"Fatraglide 2024 - Klub",{"$f":"VLOOKUP(F2818,Soutez!A:B,2,FALSE)","v":"SK"},{"$f":"VLOOKUP(F2818,Soutez!A:C,3,FALSE)","v":2024},21,1928,0.76500000000000001,3735,2857,"x",null,"Std. Cirrus","A7",""]
["Albert Hackl",null,null,null,null,"Fatraglide 2024 - Klub",{"$f":"VLOOKUP(F2819,Soutez!A:B,2,FALSE)","v":"SK"},{"$f":"VLOOKUP(F2819,Soutez!A:C,3,FALSE)","v":2024},22,1865,0.76500000000000001,3534,2704,null,null,"Astir CS Top","PC","Není v databázi"]
["Gabor Bors",null,null,null,null,"Fatraglide 2024 - Klub",{"$f":"VLOOKUP(F2820,Soutez!A:B,2,FALSE)","v":"SK"},{"$f":"VLOOKUP(F2820,Soutez!A:C,3,FALSE)","v":2024},23,1833,0.76500000000000001,3379,2585,null,null,"Mini nimbus","SU","Není v databázi"]
["Peter Gasparovic",null,null,null,null,"Fatraglide 2024 - Klub",{"$f":"VLOOKUP(F2821,Soutez!A:B,2,FALSE)","v":"SK"},{"$f":"VLOOKUP(F2821,Soutez!A:C,3,FALSE)","v":2024},24,1777,0.76500000000000001,3189,2440,null,null,"ASW 19 B","A4","Není v databázi"]
["Michaela Soltysova",null,null,null,null,"Fatraglide 2024 - Klub",{"$f":"VLOOKUP(F2822,Soutez!A:B,2,FALSE)","v":"SK"},{"$f":"VLOOKUP(F2822,Soutez!A:C,3,FALSE)","v":2024},25,1598,0.76500000000000001,2814,2153,null,null,"VSO-10","M6","Není v databázi"]
["Adam Sabla",null,null,null,null,"Fatraglide 2024 - Klub",{"$f":"VLOOKUP(F2823,Soutez!A:B,2,FALSE)","v":"SK"},{"$f":"VLOOKUP(F2823,Soutez!A:C,3,FALSE)","v":2024},26,1475,0.76500000000000001,2523,1930,null,null,"VSO-10","M3","Není v databázi"]
["Rastislav Krak",null,null,null,null,"Fatraglide 2024 - Klub",{"$f":"VLOOKUP(F2824,Soutez!A:B,2,FALSE)","v":"SK"},{"$f":"VLOOKUP(F2824,Soutez!A:C,3,FALSE)","v":2024},27,1135,0.76500000000000001,1909,1460,null,null,"ASW 19 B","A1","Není v databázi"]
["Peter Sedmak",null,null,null,null,"Fatraglide 2024 - Klub",{"$f":"VLOOKUP(F2825,Soutez!A:B,2,FALSE)","v":"SK"},{"$f":"VLOOKUP(F2825,Soutez!A:C,3,FALSE)","v":2024},28,461,0.76500000000000001,795,608,null,null,"LS 4","MA","Není v databázi"]
["Lukas Kostovcik",null,null,null,null,"Fatraglide 2024 - Klub",{"$f":"VLOOKUP(F2826,Soutez!A:B,2,FALSE)","v":"SK"},{"$f":"VLOOKUP(F2826,Soutez!A:C,3,FALSE)","v":2024},29,87,0.76500000000000001,130,99,null,null,"Std. Cirrus","MJ","Není v databázi"]
["Pavol Cerny",null,null,null,null,"Fatraglide 2024 - Kombi",{"$f":"VLOOKUP(F2827,Soutez!A:B,2,FALSE)","v":"SK"},{"$f":"VLOOKUP(F2827,Soutez!A:C,3,FALSE)","v":2024},1,4173,0.76500000000000001,{"$f":"ROUND(J2827/MAX($J$2827:$J$2854)*10000*0.7+(MAX($I$2827:$I$2854)-I2827)/(MAX($I$2827:$I$2854)-1)*10000*0.3,0)","v":10000},7650,null,null,"HpH 304MS Shark 18m 600 kg","EP","Není v databázi"]
["Marek Pechanec",{"$f":"VLOOKUP(A2828,Pilot,2,0)","v":1970},{"$f":"VLOOKUP(A2828,Pilot,5,0)","v":"M"},{"$f":"VLOOKUP(A2828,Pilot,3,0)","v":"Luhačovice"},{"$f":"VLOOKUP(A2828,Pilot,4,0)","v":"CZ/M"},"Fatraglide 2024 - Kombi",{"$f":"VLOOKUP(F2828,Soutez!A:B,2,FALSE)","v":"SK"},{"$f":"VLOOKUP(F2828,Soutez!A:C,3,FALSE)","v":2024},2,4070,{"$f":"VLOOKUP(F2828,Soutez,12,0)","v":0.76500000000000001},{"$f":"ROUND(J2828/MAX($J$2827:$J$2854)*10000*0.7+(MAX($I$2827:$I$2854)-I2828)/(MAX($I$2827:$I$2854)-1)*10000*0.3,0)","v":9716},{"$f":"ROUND(K2828*L2828,0)","v":7433},"x",null,"JS3 RES 18m","Q1",""]
["Branislav Jesensky",null,null,null,null,"Fatraglide 2024 - Kombi",{"$f":"VLOOKUP(F2829,Soutez!A:B,2,FALSE)","v":"SK"},{"$f":"VLOOKUP(F2829,Soutez!A:C,3,FALSE)","v":2024},3,3711,0.76500000000000001,9003,6887,null,null,"JS1-C TJ 21","J","Není v databázi"]
["Janos Sindely",null,null,null,null,"Fatraglide 2024 - Kombi",{"$f":"VLOOKUP(F2830,Soutez!A:B,2,FALSE)","v":"SK"},{"$f":"VLOOKUP(F2830,Soutez!A:C,3,FALSE)","v":2024},4,3316,0.76500000000000001,8229,6295,null,null,"JS1-CTJ 18 EVO","RZ","Není v databázi"]
["Martin Furjes",null,null,null,null,"Fatraglide 2024 - Kombi",{"$f":"VLOOKUP(F2831,Soutez!A:B,2,FALSE)","v":"SK"},{"$f":"VLOOKUP(F2831,Soutez!A:C,3,FALSE)","v":2024},5,3302,0.76500000000000001,8094,6192,null,null,"AS 33 Es 18m",12,"Není v databázi"]
["Kovalcik & Manka",null,null,null,null,"Fatraglide 2024 - Kombi",{"$f":"VLOOKUP(F2832,Soutez!A:B,2,FALSE)","v":"SK"},{"$f":"VLOOKUP(F2832,Soutez!A:C,3,FALSE)","v":2024},6,3235,0.76500000000000001,7871,6021,null,null,"Arcus M","2P","Není v databázi"]
["Roman Petro",null,null,null,null,"Fatraglide 2024 - Kombi",{"$f":"VLOOKUP(F2833,Soutez!A:B,2,FALSE)","v":"SK"},{"$f":"VLOOKUP(F2833,Soutez!A:C,3,FALSE)","v":2024},6,3235,0.76500000000000001,7871,6021,null,null,"DG 1000T 20m","NIT","Není v databázi"]
["Lubik Jakubcak",null,null,null,null,"Fatraglide 2024 - Kombi",{"$f":"VLOOKUP(F2834,Soutez!A:B,2,FALSE)","v":"SK"},{"$f":"VLOOKUP(F2834,Soutez!A:C,3,FALSE)","v":2024},8,3233,0.76500000000000001,7645,5848,null,null,"Arcus M","CAR","Není v databázi"]
["Michal Cupak",{"$f":"VLOOKUP(A2835,Pilot,2,0)","v":1991},{"$f":"VLOOKUP(A2835,Pilot,5,0)","v":"M"},{"$f":"VLOOKUP(A2835,Pilot,3,0)","v":"Medlánky"},{"$f":"VLOOKUP(A2835,Pilot,4,0)","v":"CZ/M"},"Fatraglide 2024 - Kombi",{"$f":"VLOOKUP(F2835,Soutez!A:B,2,FALSE)","v":"SK"},{"$f":"VLOOKUP(F2835,Soutez!A:C,3,FALSE)","v":2024},9,3173,0.76500000000000001,7434,5687,"x",null,"Ventus c 17.6m","PD",""]
["Edmund Schuller",null,null,null,null,"Fatraglide 2024 - Kombi",{"$f":"VLOOKUP(F2836,Soutez!A:B,2,FALSE)","v":"SK"},{"$f":"VLOOKUP(F2836,Soutez!A:C,3,FALSE)","v":2024},10,3100,0.76500000000000001,7200,5508,null,null,"Discus 2b","DI","Není v databázi"]
["Mathias Muench",null,null,null,null,"Fatraglide 2024 - Kombi",{"$f":"VLOOKUP(F2837,Soutez!A:B,2,FALSE)","v":"SK"},{"$f":"VLOOKUP(F2837,Soutez!A:C,3,FALSE)","v":2024},11,2987,0.76500000000000001,6899,5278,null,null,"DG 800 A/B 18m","MU","Není v databázi"]
["Milos Srank",null,null,null,null,"Fatraglide 2024 - Kombi",{"$f":"VLOOKUP(F2838,Soutez!A:B,2,FALSE)","v":"SK"},{"$f":"VLOOKUP(F2838,Soutez!A:C,3,FALSE)","v":2024},12,2971,0.76500000000000001,6761,5172,null,null,"ASG 29 E 18m","LK","Není v databázi"]
["Marek Straka",null,null,null,null,"Fatraglide 2024 - Kombi",{"$f":"VLOOKUP(F2839,Soutez!A:B,2,FALSE)","v":"SK"},{"$f":"VLOOKUP(F2839,Soutez!A:C,3,FALSE)","v":2024},13,2931,0.76500000000000001,{"$f":"ROUND(J2839/MAX($J$2827:$J$2854)*10000*0.7+(MAX($I$2827:$I$2854)-I2839)/(MAX($I$2827:$I$2854)-1)*10000*0.3,0)","v":6583},5036,null,null,"Ventus 2cxT 18m 565 kg","AI","Není v databázi"]
["Viliam Kubovcik",null,null,null,null,"Fatraglide 2024 - Kombi",{"$f":"VLOOKUP(F2840,Soutez!A:B,2,FALSE)","v":"SK"},{"$f":"VLOOKUP(F2840,Soutez!A:C,3,FALSE)","v":2024},14,2920,0.76500000000000001,6454,4937,null,null,"JS3 RES 18m","VV","Není v databázi"]
["Zsolt Osi",null,null,null,null,"Fatraglide 2024 - Kombi",{"$f":"VLOOKUP(F2841,Soutez!A:B,2,FALSE)","v":"SK"},{"$f":"VLOOKUP(F2841,Soutez!A:C,3,FALSE)","v":2024},15,2882,0.76500000000000001,6279,{"$f":"ROUND(K2841*L2841,0)","v":4803},null,null,"ASW 22 BLE 810 kg","BY","Není v databázi"]
["Miroslav Puffler",null,null,null,null,"Fatraglide 2024 - Kombi",{"$f":"VLOOKUP(F2842,Soutez!A:B,2,FALSE)","v":"SK"},{"$f":"VLOOKUP(F2842,Soutez!A:C,3,FALSE)","v":2024},16,2847,0.76500000000000001,6109,4673,null,null,"Ventus cT 17,6m","TN","Není v databázi"]
["Petr Hotovy",{"$f":"VLOOKUP(A2843,Pilot,2,0)","v":1958},{"$f":"VLOOKUP(A2843,Pilot,5,0)","v":"M"},{"$f":"VLOOKUP(A2843,Pilot,3,0)","v":"Česká Lípa"},{"$f":"VLOOKUP(A2843,Pilot,4,0)","v":"CZ/C2"},"Fatraglide 2024 - Kombi",{"$f":"VLOOKUP(F2843,Soutez!A:B,2,FALSE)","v":"SK"},{"$f":"VLOOKUP(F2843,Soutez!A:C,3,FALSE)","v":2024},17,2800,0.76500000000000001,5919,4528,null,null,"JS1-BTJ 18m","IGC",""]
["Tibor Noga",null,null,null,null,"Fatraglide 2024 - Kombi",{"$f":"VLOOKUP(F2844,Soutez!A:B,2,FALSE)","v":"SK"},{"$f":"VLOOKUP(F2844,Soutez!A:C,3,FALSE)","v":2024},18,2763,0.76500000000000001,5746,{"$f":"ROUND(K2844*L2844,0)","v":4396},null,null,"Ventus 2c 18m","LN","Není v databázi"]
["Peter Pokorny",null,null,null,null,"Fatraglide 2024 - Kombi",{"$f":"VLOOKUP(F2845,Soutez!A:B,2,FALSE)","v":"SK"},{"$f":"VLOOKUP(F2845,Soutez!A:C,3,FALSE)","v":2024},19,2370,0.76500000000000001,4976,3807,null,null,"ASG 29 E 18m","9E","Není v databázi"]
["Milan Lojdl",null,null,null,null,"Fatraglide 2024 - Kombi",{"$f":"VLOOKUP(F2846,Soutez!A:B,2,FALSE)","v":"SK"},{"$f":"VLOOKUP(F2846,Soutez!A:C,3,FALSE)","v":2024},20,2311,0.76500000000000001,4765,{"$f":"ROUND(K2846*L2846,0)","v":3645},null,null,"Ventus 2cxT 18m 600","MJ1","Není v databázi"]
["Lukas Benedikt",null,null,null,null,"Fatraglide 2024 - Kombi",{"$f":"VLOOKUP(F2847,Soutez!A:B,2,FALSE)","v":"SK"},{"$f":"VLOOKUP(F2847,Soutez!A:C,3,FALSE)","v":2024},21,2256,0.76500000000000001,4562,3490,null,null,"Ventus 3F 18m","LB","Není v databázi"]
["Lubomir Doupal",{"$f":"VLOOKUP(A2848,Pilot,2,0)","v":1975},{"$f":"VLOOKUP(A2848,Pilot,5,0)","v":"M"},{"$f":"VLOOKUP(A2848,Pilot,3,0)","v":"Kroměříž"},{"$f":"VLOOKUP(A2848,Pilot,4,0)","v":"CZ/M"},"Fatraglide 2024 - Kombi",{"$f":"VLOOKUP(F2848,Soutez!A:B,2,FALSE)","v":"SK"},{"$f":"VLOOKUP(F2848,Soutez!A:C,3,FALSE)","v":2024},22,2184,0.76500000000000001,4330,3312,"x",null,"Arcus M","FJ",""]
["Kromka & Kollar",null,null,null,null,"Fatraglide 2024 - Kombi",{"$f":"VLOOKUP(F2849,Soutez!A:B,2,FALSE)","v":"SK"},{"$f":"VLOOKUP(F2849,Soutez!A:C,3,FALSE)","v":2024},23,2104,0.76500000000000001,4085,{"$f":"ROUND(K2849*L2849,0)","v":3125},null,null,"Arcus M","TA3","Není v databázi"]
["Peter Abonyi",null,null,null,null,"Fatraglide 2024 - Kombi",{"$f":"VLOOKUP(F2850,Soutez!A:B,2,FALSE)","v":"SK"},{"$f":"VLOOKUP(F2850,Soutez!A:C,3,FALSE)","v":2024},24,2050,0.76500000000000001,3883,2970,null,null,"Ventus c 17,6m","PA","Není v databázi"]
["Anton Zelenaj",null,null,null,null,"Fatraglide 2024 - Kombi",{"$f":"VLOOKUP(F2851,Soutez!A:B,2,FALSE)","v":"SK"},{"$f":"VLOOKUP(F2851,Soutez!A:C,3,FALSE)","v":2024},25,2007,0.76500000000000001,3700,2831,null,null,"ASW 27 WL","TZ","Není v databázi"]
["Vaclav Hruza",{"$f":"VLOOKUP(A2852,Pilot,2,0)","v":1965},{"$f":"VLOOKUP(A2852,Pilot,5,0)","v":"M"},{"$f":"VLOOKUP(A2852,Pilot,3,0)","v":"Břeclav"},{"$f":"VLOOKUP(A2852,Pilot,4,0)","v":"CZ/M"},"Fatraglide 2024 - Kombi",{"$f":"VLOOKUP(F2852,Soutez!A:B,2,FALSE)","v":"SK"},{"$f":"VLOOKUP(F2852,Soutez!A:C,3,FALSE)","v":2024},26,2004,0.76500000000000001,3584,2742,"x",null,"HpH 304MS Shark 18m 600 kg","TH",""]
["Martin Cicvarek",1966,"M","Liberec","CZ/C2","Fatraglide 2024 - Kombi",{"$f":"VLOOKUP(F2853,Soutez!A:B,2,FALSE)","v":"SK"},{"$f":"VLOOKUP(F2853,Soutez!A:C,3,FALSE)","v":2024},27,1676,0.76500000000000001,2923,{"$f":"ROUND(K2853*L2853,0)","v":2236},null,null,"KKB 18 FES","AC",""]
["Peter Ziak",null,null,null,null,"Fatraglide 2024 - Kombi",{"$f":"VLOOKUP(F2854,Soutez!A:B,2,FALSE)","v":"SK"},{"$f":"VLOOKUP(F2854,Soutez!A:C,3,FALSE)","v":2024},28,791,0.76500000000000001,1327,{"$f":"ROUND(K2854*L2854,0)","v":1015},null,null,"LAK-17B FES 18m","PZ","Není v databázi"]
["Ivan Novak",{"$f":"VLOOKUP(A2855,Pilot,2,0)","v":1962},{"$f":"VLOOKUP(A2855,Pilot,5,0)","v":"M"},{"$f":"VLOOKUP(A2855,Pilot,3,0)","v":"Mladá Boleslav"},{"$f":"VLOOKUP(A2855,Pilot,4,0)","v":"CZ/C1"},"PMSR 2024 - Kombi",{"$f":"VLOOKUP(F2855,Soutez!A:B,2,FALSE)","v":"SK"},{"$f":"VLOOKUP(F2855,Soutez!A:C,3,FALSE)","v":2024},1,4042,0.93500000000000005,{"$f":"ROUND(J2855/MAX($J$2855:$J$2874)*10000*0.7+(MAX($I$2855:$I$2874)-I2855)/(MAX($I$2855:$I$2874)-1)*10000*0.3,0)","v":10000},9350,"x",null,"ASG 29 18m","QZ",{"$f":"IF(ISERROR(VLOOKUP(A2855,Pilot,6,0)),\"Není v databázi\",VLOOKUP(A2855,Pilot,6,0))","v":""}]
["Divok & Divokova",null,null,"Spišská Nová Ves/Future Fly Bidovce",null,"PMSR 2024 - Kombi",{"$f":"VLOOKUP(F2856,Soutez!A:B,2,FALSE)","v":"SK"},{"$f":"VLOOKUP(F2856,Soutez!A:C,3,FALSE)","v":2024},2,3939,0.93500000000000005,{"$f":"ROUND(J2856/MAX($J$2855:$J$2874)*10000*0.7+(MAX($I$2855:$I$2874)-I2856)/(MAX($I$2855:$I$2874)-1)*10000*0.3,0)","v":9664},9036,null,null,"Duo Discus XL","SNV","Není v databázi"]
["Jiri Kusbach",{"$f":"VLOOKUP(A2857,Pilot,2,0)","v":1959},{"$f":"VLOOKUP(A2857,Pilot,5,0)","v":"M"},{"$f":"VLOOKUP(A2857,Pilot,3,0)","v":"Luhačovice"},{"$f":"VLOOKUP(A2857,Pilot,4,0)","v":"CZ/M"},"PMSR 2024 - Kombi",{"$f":"VLOOKUP(F2857,Soutez!A:B,2,FALSE)","v":"SK"},{"$f":"VLOOKUP(F2857,Soutez!A:C,3,FALSE)","v":2024},3,3844,0.93500000000000005,9341,8734,null,null,"Diana 3 FES","B",""]
["Martin FurjeS",null,null,"SGC Martin",null,"PMSR 2024 - Kombi",{"$f":"VLOOKUP(F2858,Soutez!A:B,2,FALSE)","v":"SK"},{"$f":"VLOOKUP(F2858,Soutez!A:C,3,FALSE)","v":2024},4,3779,0.93500000000000005,9071,8481,null,null,"AS 33 Es 18m",12,"Není v databázi"]
["Viliam Kubovcik",null,null,"AK Poprad",null,"PMSR 2024 - Kombi",{"$f":"VLOOKUP(F2859,Soutez!A:B,2,FALSE)","v":"SK"},{"$f":"VLOOKUP(F2859,Soutez!A:C,3,FALSE)","v":2024},5,3715,0.93500000000000005,8802,8230,null,null,"JS3 RES 18m","VV","Není v databázi"]
["Tibor Noga",null,null,"SGC Martin",null,"PMSR 2024 - Kombi",{"$f":"VLOOKUP(F2860,Soutez!A:B,2,FALSE)","v":"SK"},{"$f":"VLOOKUP(F2860,Soutez!A:C,3,FALSE)","v":2024},6,3384,0.93500000000000005,8071,7546,null,null,"Ventus 2c 18m","LN","Není v databázi"]
["Dana Novakova",{"$f":"VLOOKUP(A2861,Pilot,2,0)","v":1965},{"$f":"VLOOKUP(A2861,Pilot,5,0)","v":"F"},{"$f":"VLOOKUP(A2861,Pilot,3,0)","v":"Mladá Boleslav"},{"$f":"VLOOKUP(A2861,Pilot,4,0)","v":"CZ/C1"},"PMSR 2024 - Kombi",{"$f":"VLOOKUP(F2861,Soutez!A:B,2,FALSE)","v":"SK"},{"$f":"VLOOKUP(F2861,Soutez!A:C,3,FALSE)","v":2024},7,3347,0.93500000000000005,7849,7339,null,null,"LS 8 18m","ID",""]
["Jan Divok",null,null,"AK Sp.Nová Ves",null,"PMSR 2024 - Kombi",{"$f":"VLOOKUP(F2862,Soutez!A:B,2,FALSE)","v":"SK"},{"$f":"VLOOKUP(F2862,Soutez!A:C,3,FALSE)","v":2024},8,3337,0.93500000000000005,7674,7175,null,null,"Discus 2cT 18m","DJ","Není v databázi"]
["Jana Treslova",{"$f":"VLOOKUP(A2863,Pilot,2,0)","v":1963},{"$f":"VLOOKUP(A2863,Pilot,5,0)","v":"F"},{"$f":"VLOOKUP(A2863,Pilot,3,0)","v":"Raná"},{"$f":"VLOOKUP(A2863,Pilot,4,0)","v":"CZ/C2"},"PMSR 2024 - Kombi",{"$f":"VLOOKUP(F2863,Soutez!A:B,2,FALSE)","v":"SK"},{"$f":"VLOOKUP(F2863,Soutez!A:C,3,FALSE)","v":2024},9,3165,0.93500000000000005,{"$f":"ROUND(J2863/MAX($J$2855:$J$2874)*10000*0.7+(MAX($I$2855:$I$2874)-I2863)/(MAX($I$2855:$I$2874)-1)*10000*0.3,0)","v":7218},6749,"x",null,"LS 8 18m","JB",""]
["Edmund Schuller",null,null,"SGC Martin",null,"PMSR 2024 - Kombi",{"$f":"VLOOKUP(F2864,Soutez!A:B,2,FALSE)","v":"SK"},{"$f":"VLOOKUP(F2864,Soutez!A:C,3,FALSE)","v":2024},10,2838,0.93500000000000005,6494,6072,null,null,"Discus 2b","DI","Není v databázi"]
["Janos Sindely",null,null,"Alfoldi",null,"PMSR 2024 - Kombi",{"$f":"VLOOKUP(F2865,Soutez!A:B,2,FALSE)","v":"SK"},{"$f":"VLOOKUP(F2865,Soutez!A:C,3,FALSE)","v":2024},11,2730,0.93500000000000005,6149,{"$f":"ROUND(K2865*L2865,0)","v":5749},null,null,"JS1 CTJ EVO 18m","RZ","Není v databázi"]
["Jakubcak & Kollarova",null,null,"SGC Martin",null,"PMSR 2024 - Kombi",{"$f":"VLOOKUP(F2866,Soutez!A:B,2,FALSE)","v":"SK"},{"$f":"VLOOKUP(F2866,Soutez!A:C,3,FALSE)","v":2024},12,2678,0.93500000000000005,5901,5517,null,null,"Arcus M","CAR","Není v databázi"]
["Kovalcik & Varsik",null,null,"AK Bratislava",null,"PMSR 2024 - Kombi",{"$f":"VLOOKUP(F2867,Soutez!A:B,2,FALSE)","v":"SK"},{"$f":"VLOOKUP(F2867,Soutez!A:C,3,FALSE)","v":2024},13,2632,0.93500000000000005,5663,5295,null,null,"Arcus M","2P","Není v databázi"]
["Kollar & Kromka",null,null,"AK Poprad",null,"PMSR 2024 - Kombi",{"$f":"VLOOKUP(F2868,Soutez!A:B,2,FALSE)","v":"SK"},{"$f":"VLOOKUP(F2868,Soutez!A:C,3,FALSE)","v":2024},14,2444,0.93500000000000005,5180,4843,null,null,"Arcus M","TA3","Není v databázi"]
["Marek Straka",null,null,"AK Dubnica nad Váhom",null,"PMSR 2024 - Kombi",{"$f":"VLOOKUP(F2869,Soutez!A:B,2,FALSE)","v":"SK"},{"$f":"VLOOKUP(F2869,Soutez!A:C,3,FALSE)","v":2024},15,2197,0.93500000000000005,4594,4295,null,null,"Ventus 2cxT 18m","AI","Není v databázi"]
["Gabriela Belakova",null,null,"AK Prievidza",null,"PMSR 2024 - Kombi",{"$f":"VLOOKUP(F2870,Soutez!A:B,2,FALSE)","v":"SK"},{"$f":"VLOOKUP(F2870,Soutez!A:C,3,FALSE)","v":2024},16,1971,0.93500000000000005,4045,3782,null,null,"Ventus 3M 18m","CAT","Není v databázi"]
["Jan Paepke",null,null,"AK Prievidza",null,"PMSR 2024 - Kombi",{"$f":"VLOOKUP(F2871,Soutez!A:B,2,FALSE)","v":"SK"},{"$f":"VLOOKUP(F2871,Soutez!A:C,3,FALSE)","v":2024},17,1921,0.93500000000000005,3801,3554,null,null,"LAK-17A T 18m","AK","Není v databázi"]
["Peter Abonyi",null,null,"SGC Martin",null,"PMSR 2024 - Kombi",{"$f":"VLOOKUP(F2872,Soutez!A:B,2,FALSE)","v":"SK"},{"$f":"VLOOKUP(F2872,Soutez!A:C,3,FALSE)","v":2024},18,1760,0.93500000000000005,3364,3145,null,null,"Ventus c 17.6m","PA","Není v databázi"]
["Jan Keher",null,null,"AK Prievidza",null,"PMSR 2024 - Kombi",{"$f":"VLOOKUP(F2873,Soutez!A:B,2,FALSE)","v":"SK"},{"$f":"VLOOKUP(F2873,Soutez!A:C,3,FALSE)","v":2024},19,1679,0.93500000000000005,3066,2867,null,null,"Discus 2cT 18m","EF","Není v databázi"]
["Viktoria Divokova",null,null,"Spišska Nová Ves",null,"PMSR 2024 - Kombi",{"$f":"VLOOKUP(F2874,Soutez!A:B,2,FALSE)","v":"SK"},{"$f":"VLOOKUP(F2874,Soutez!A:C,3,FALSE)","v":2024},20,1500,0.93500000000000005,2598,2429,null,null,"AS 33 Es 18m","D","Není v databázi"]
["Mayr & Seischab",null,null,null,null,"Lilienthal Glide 2024 - Duo 20m",{"$f":"VLOOKUP(F2875,Soutez!A:B,2,FALSE)","v":"DE"},{"$f":"VLOOKUP(F2875,Soutez!A:C,3,FALSE)","v":2024},1,4481,{"$f":"VLOOKUP(F2875,Soutez,12,0)","v":0.76},{"$f":"ROUND(J2875/MAX($J$2875:$J$2902)*10000*0.7+(MAX($I$2875:$I$2902)-I2875)/(MAX($I$2875:$I$2902)-1)*10000*0.3,0)","v":10000},7600,null,null,"ASG 32Mi","LX","Není v databázi"]
["Trapp & Reiß",null,null,null,null,"Lilienthal Glide 2024 - Duo 20m",{"$f":"VLOOKUP(F2876,Soutez!A:B,2,FALSE)","v":"DE"},{"$f":"VLOOKUP(F2876,Soutez!A:C,3,FALSE)","v":2024},2,4469,0.76,9870,7501,null,null,"Arcus M","1H","Není v databázi"]
["Arne Kerlin",null,null,null,null,"Lilienthal Glide 2024 - Duo 20m",{"$f":"VLOOKUP(F2877,Soutez!A:B,2,FALSE)","v":"DE"},{"$f":"VLOOKUP(F2877,Soutez!A:C,3,FALSE)","v":2024},3,4403,0.76,9656,7339,null,null,"Arcus M","DH","Není v databázi"]
["Hezel & Hezel",null,null,null,null,"Lilienthal Glide 2024 - Duo 20m",{"$f":"VLOOKUP(F2878,Soutez!A:B,2,FALSE)","v":"DE"},{"$f":"VLOOKUP(F2878,Soutez!A:C,3,FALSE)","v":2024},4,4259,0.76,9320,7083,null,null,"Arcus T","WA","Není v databázi"]
["Wagner & Muller",null,null,null,null,"Lilienthal Glide 2024 - Duo 20m",{"$f":"VLOOKUP(F2879,Soutez!A:B,2,FALSE)","v":"DE"},{"$f":"VLOOKUP(F2879,Soutez!A:C,3,FALSE)","v":2024},5,4209,0.76,9131,6940,null,null,"Arcus M","WM","Není v databázi"]
["Pfennig & Klossok",null,null,null,null,"Lilienthal Glide 2024 - Duo 20m",{"$f":"VLOOKUP(F2880,Soutez!A:B,2,FALSE)","v":"DE"},{"$f":"VLOOKUP(F2880,Soutez!A:C,3,FALSE)","v":2024},6,4166,0.76,8952,6804,null,null,"Arcus M","WK","Není v databázi"]
["Sommer & Zettier",null,null,null,null,"Lilienthal Glide 2024 - Duo 20m",{"$f":"VLOOKUP(F2881,Soutez!A:B,2,FALSE)","v":"DE"},{"$f":"VLOOKUP(F2881,Soutez!A:C,3,FALSE)","v":2024},7,4141,0.76,8802,6690,null,null,"Arcus M","7L","Není v databázi"]
["Stahf & Stahf",null,null,null,null,"Lilienthal Glide 2024 - Duo 20m",{"$f":"VLOOKUP(F2882,Soutez!A:B,2,FALSE)","v":"DE"},{"$f":"VLOOKUP(F2882,Soutez!A:C,3,FALSE)","v":2024},8,4075,0.76,8588,6527,null,null,"Arcus M",12,"Není v databázi"]
["Michaela Krizova",{"$f":"VLOOKUP(A2883,Pilot,2,0)","v":2001},{"$f":"VLOOKUP(A2883,Pilot,5,0)","v":"F"},{"$f":"VLOOKUP(A2883,Pilot,3,0)","v":"Přibyslav"},{"$f":"VLOOKUP(A2883,Pilot,4,0)","v":"CZ/C2"},"Lilienthal Glide 2024 - Duo 20m",{"$f":"VLOOKUP(F2883,Soutez!A:B,2,FALSE)","v":"DE"},{"$f":"VLOOKUP(F2883,Soutez!A:C,3,FALSE)","v":2024},9,4066,0.76,8463,6432,null,null,"fs33",33,"Junior v roce 2025"]
["Bick & Danders",null,null,null,null,"Lilienthal Glide 2024 - Duo 20m",{"$f":"VLOOKUP(F2884,Soutez!A:B,2,FALSE)","v":"DE"},{"$f":"VLOOKUP(F2884,Soutez!A:C,3,FALSE)","v":2024},10,3801,0.76,7938,6033,null,null,"Arcus T","HLB","Není v databázi"]
["Dengel & Dengel",null,null,null,null,"Lilienthal Glide 2024 - Duo 20m",{"$f":"VLOOKUP(F2885,Soutez!A:B,2,FALSE)","v":"DE"},{"$f":"VLOOKUP(F2885,Soutez!A:C,3,FALSE)","v":2024},11,3734,0.76,7722,5869,null,null,"Arcus M","ISP","Není v databázi"]
["Frank Fröhlich",null,null,null,null,"Lilienthal Glide 2024 - Duo 20m",{"$f":"VLOOKUP(F2886,Soutez!A:B,2,FALSE)","v":"DE"},{"$f":"VLOOKUP(F2886,Soutez!A:C,3,FALSE)","v":2024},12,3679,0.76,7525,5719,null,null,"ASG 32Mi","SKY","Není v databázi"]
["Dellinger & Dellinger",null,null,null,null,"Lilienthal Glide 2024 - Duo 20m",{"$f":"VLOOKUP(F2887,Soutez!A:B,2,FALSE)","v":"DE"},{"$f":"VLOOKUP(F2887,Soutez!A:C,3,FALSE)","v":2024},13,3636,0.76,7347,5584,null,null,"Arcus M","NM","Není v databázi"]
["Meinecke & Nitt",null,null,null,null,"Lilienthal Glide 2024 - Duo 20m",{"$f":"VLOOKUP(F2888,Soutez!A:B,2,FALSE)","v":"DE"},{"$f":"VLOOKUP(F2888,Soutez!A:C,3,FALSE)","v":2024},14,3630,{"$f":"VLOOKUP(F2888,Soutez,12,0)","v":0.76},7226,5492,null,null,"Duo Discus","XL","Není v databázi"]
["Hafner & Pawel",null,null,null,null,"Lilienthal Glide 2024 - Duo 20m",{"$f":"VLOOKUP(F2889,Soutez!A:B,2,FALSE)","v":"DE"},{"$f":"VLOOKUP(F2889,Soutez!A:C,3,FALSE)","v":2024},15,3598,0.76,7065,5369,null,null,"Duo Discus","DU","Není v databázi"]
["Leismann & Ditzel",null,null,null,null,"Lilienthal Glide 2024 - Duo 20m",{"$f":"VLOOKUP(F2890,Soutez!A:B,2,FALSE)","v":"DE"},{"$f":"VLOOKUP(F2890,Soutez!A:C,3,FALSE)","v":2024},16,3553,0.76,6884,{"$f":"ROUND(K2890*L2890,0)","v":5232},null,null,"Arcus T","E7","Není v databázi"]
["Bornfleth & Bornfleth",null,null,null,null,"Lilienthal Glide 2024 - Duo 20m",{"$f":"VLOOKUP(F2891,Soutez!A:B,2,FALSE)","v":"DE"},{"$f":"VLOOKUP(F2891,Soutez!A:C,3,FALSE)","v":2024},17,3442,0.76,6599,5015,null,null,"Twin Shark","TX","Není v databázi"]
["Wroblewski & Walter",null,null,null,null,"Lilienthal Glide 2024 - Duo 20m",{"$f":"VLOOKUP(F2892,Soutez!A:B,2,FALSE)","v":"DE"},{"$f":"VLOOKUP(F2892,Soutez!A:C,3,FALSE)","v":2024},18,3406,0.76,6432,4888,null,null,"ASG 32 Mi","TB","Není v databázi"]
["Buhlmann & Stewing",null,null,null,null,"Lilienthal Glide 2024 - Duo 20m",{"$f":"VLOOKUP(F2893,Soutez!A:B,2,FALSE)","v":"DE"},{"$f":"VLOOKUP(F2893,Soutez!A:C,3,FALSE)","v":2024},19,3292,0.76,6143,4669,null,null,"Arcus M","BC","Není v databázi"]
["Horn & Holighaus",null,null,null,null,"Lilienthal Glide 2024 - Duo 20m",{"$f":"VLOOKUP(F2894,Soutez!A:B,2,FALSE)","v":"DE"},{"$f":"VLOOKUP(F2894,Soutez!A:C,3,FALSE)","v":2024},20,3272,0.76,6000,4560,null,null,"Arcus M","EG","Není v databázi"]
["Altmann & Freiheit",null,null,null,null,"Lilienthal Glide 2024 - Duo 20m",{"$f":"VLOOKUP(F2895,Soutez!A:B,2,FALSE)","v":"DE"},{"$f":"VLOOKUP(F2895,Soutez!A:C,3,FALSE)","v":2024},21,3128,0.76,5664,4305,null,null,"Arcus M","BG","Není v databázi"]
["Schreyer & Samson",null,null,null,null,"Lilienthal Glide 2024 - Duo 20m",{"$f":"VLOOKUP(F2896,Soutez!A:B,2,FALSE)","v":"DE"},{"$f":"VLOOKUP(F2896,Soutez!A:C,3,FALSE)","v":2024},22,3121,0.76,5542,4212,null,null,"ASG 32 Mi",32,"Není v databázi"]
["Meyer & Labusga",null,null,null,null,"Lilienthal Glide 2024 - Duo 20m",{"$f":"VLOOKUP(F2897,Soutez!A:B,2,FALSE)","v":"DE"},{"$f":"VLOOKUP(F2897,Soutez!A:C,3,FALSE)","v":2024},23,2990,0.76,5226,3972,null,null,"Duo Discus XLT","FM","Není v databázi"]
["Dennis Dost",null,null,null,null,"Lilienthal Glide 2024 - Duo 20m",{"$f":"VLOOKUP(F2898,Soutez!A:B,2,FALSE)","v":"DE"},{"$f":"VLOOKUP(F2898,Soutez!A:C,3,FALSE)","v":2024},24,2883,0.76,4948,3760,null,null,"Duo Discus XL","BW4","Není v databázi"]
["Habertag & Gottscheck",null,null,null,null,"Lilienthal Glide 2024 - Duo 20m",{"$f":"VLOOKUP(F2899,Soutez!A:B,2,FALSE)","v":"DE"},{"$f":"VLOOKUP(F2899,Soutez!A:C,3,FALSE)","v":2024},25,2796,0.76,4701,3573,null,null,"Duo Discus XLT","BR","Není v databázi"]
["Köster & Depil",null,null,null,null,"Lilienthal Glide 2024 - Duo 20m",{"$f":"VLOOKUP(F2900,Soutez!A:B,2,FALSE)","v":"DE"},{"$f":"VLOOKUP(F2900,Soutez!A:C,3,FALSE)","v":2024},26,2756,0.76,4528,{"$f":"ROUND(K2900*L2900,0)","v":3441},null,null,"Twin Shark","DTS","Není v databázi"]
["Schneider & Reinshagen",null,null,null,null,"Lilienthal Glide 2024 - Duo 20m",{"$f":"VLOOKUP(F2901,Soutez!A:B,2,FALSE)","v":"DE"},{"$f":"VLOOKUP(F2901,Soutez!A:C,3,FALSE)","v":2024},27,2353,0.76,3787,2878,null,null,"ASG 32 Mi","OM","Není v databázi"]
["Kai Lindenberg",null,null,null,null,"Lilienthal Glide 2024 - Duo 20m",{"$f":"VLOOKUP(F2902,Soutez!A:B,2,FALSE)","v":"DE"},{"$f":"VLOOKUP(F2902,Soutez!A:C,3,FALSE)","v":2024},28,1540,0.76,2406,1829,null,null,"Arcus M","PM","Není v databázi"]
["Bouderlique & de Pechy",null,null,"Planeurs d'Ille-et-Vilaine",null,"Hahnweide 2024 - Duo 20m",{"$f":"VLOOKUP(F2903,Soutez!A:B,2,FALSE)","v":"DE"},{"$f":"VLOOKUP(F2903,Soutez!A:C,3,FALSE)","v":2024},1,3628,0.93,{"$f":"ROUND(J2903/MAX($J$2903:$J$2922)*10000*0.7+(MAX($I$2903:$I$2922)-I2903)/(MAX($I$2903:$I$2922)-1)*10000*0.3,0)","v":10000},9300,null,null,"Arcus M","LB","Není v databázi"]
["Sommer & Gall",null,null,null,null,"Hahnweide 2024 - Duo 20m",{"$f":"VLOOKUP(F2904,Soutez!A:B,2,FALSE)","v":"DE"},{"$f":"VLOOKUP(F2904,Soutez!A:C,3,FALSE)","v":2024},2,3589,0.93,{"$f":"ROUND(J2904/MAX($J$2903:$J$2922)*10000*0.7+(MAX($I$2903:$I$2922)-I2904)/(MAX($I$2903:$I$2922)-1)*10000*0.3,0)","v":9767},9083,null,null,"Arcus M","7L","Není v databázi"]
["Hillebrand & Kopsieker",null,null,null,null,"Hahnweide 2024 - Duo 20m",{"$f":"VLOOKUP(F2905,Soutez!A:B,2,FALSE)","v":"DE"},{"$f":"VLOOKUP(F2905,Soutez!A:C,3,FALSE)","v":2024},3,3457,0.93,9354,8699,null,null,"Arcus M","XP","Není v databázi"]
["Schramme & Schramme",null,null,null,null,"Hahnweide 2024 - Duo 20m",{"$f":"VLOOKUP(F2906,Soutez!A:B,2,FALSE)","v":"DE"},{"$f":"VLOOKUP(F2906,Soutez!A:C,3,FALSE)","v":2024},4,3447,0.93,9177,8535,null,null,"Arcus M","Y4","Není v databázi"]
["Huhmann & Kharadi",null,null,null,null,"Hahnweide 2024 - Duo 20m",{"$f":"VLOOKUP(F2907,Soutez!A:B,2,FALSE)","v":"DE"},{"$f":"VLOOKUP(F2907,Soutez!A:C,3,FALSE)","v":2024},5,3441,0.93,9008,8377,null,null,"Arcus T","BE","Není v databázi"]
["Tomas Rendla",{"$f":"VLOOKUP(A2908,Pilot,2,0)","v":1973},{"$f":"VLOOKUP(A2908,Pilot,5,0)","v":"M"},{"$f":"VLOOKUP(A2908,Pilot,3,0)","v":"Zbraslavice"},{"$f":"VLOOKUP(A2908,Pilot,4,0)","v":"CZ/C1"},"Hahnweide 2024 - Duo 20m",{"$f":"VLOOKUP(F2908,Soutez!A:B,2,FALSE)","v":"DE"},{"$f":"VLOOKUP(F2908,Soutez!A:C,3,FALSE)","v":2024},6,3382,0.93,8736,8124,null,null,"Arcus M","EY",""]
["Dierschke & Ferreira",null,null,null,null,"Hahnweide 2024 - Duo 20m",{"$f":"VLOOKUP(F2909,Soutez!A:B,2,FALSE)","v":"DE"},{"$f":"VLOOKUP(F2909,Soutez!A:C,3,FALSE)","v":2024},7,3344,0.93,8505,7910,null,null,"Arcus T","BN","Není v databázi"]
["Delfosse & De Broqueville",null,null,null,null,"Hahnweide 2024 - Duo 20m",{"$f":"VLOOKUP(F2910,Soutez!A:B,2,FALSE)","v":"DE"},{"$f":"VLOOKUP(F2910,Soutez!A:C,3,FALSE)","v":2024},8,3281,0.93,8225,7649,null,null,"Arcus T","2AS","Není v databázi"]
["Jones & Coppin",null,null,null,null,"Hahnweide 2024 - Duo 20m",{"$f":"VLOOKUP(F2911,Soutez!A:B,2,FALSE)","v":"DE"},{"$f":"VLOOKUP(F2911,Soutez!A:C,3,FALSE)","v":2024},9,3186,0.93,7884,7332,null,null,"Arcus M","I10","Není v databázi"]
["Lutz & Janowitsch",null,null,"FRA-Wiener Neustadt",null,"Hahnweide 2024 - Duo 20m",{"$f":"VLOOKUP(F2912,Soutez!A:B,2,FALSE)","v":"DE"},{"$f":"VLOOKUP(F2912,Soutez!A:C,3,FALSE)","v":2024},10,3110,0.93,7579,7048,null,null,"Arcus M",13,"Není v databázi"]
["Christiaan Bielen",null,null,"KaCk",null,"Hahnweide 2024 - Duo 20m",{"$f":"VLOOKUP(F2913,Soutez!A:B,2,FALSE)","v":"DE"},{"$f":"VLOOKUP(F2913,Soutez!A:C,3,FALSE)","v":2024},11,3048,0.93,7302,6791,null,null,"Arcus T","CR","Není v databázi"]
["Laurenz Theisinger",null,null,"DJK Landau",null,"Hahnweide 2024 - Duo 20m",{"$f":"VLOOKUP(F2914,Soutez!A:B,2,FALSE)","v":"DE"},{"$f":"VLOOKUP(F2914,Soutez!A:C,3,FALSE)","v":2024},12,3036,0.93,7121,6623,null,null,"ASG 32","EG","Není v databázi"]
["Martin Theisinger",null,null,"DJK Segelfluggemeinschaft Landau e.V.",null,"Hahnweide 2024 - Duo 20m",{"$f":"VLOOKUP(F2915,Soutez!A:B,2,FALSE)","v":"DE"},{"$f":"VLOOKUP(F2915,Soutez!A:C,3,FALSE)","v":2024},13,2858,0.93,{"$f":"ROUND(J2915/MAX($J$2903:$J$2922)*10000*0.7+(MAX($I$2903:$I$2922)-I2915)/(MAX($I$2903:$I$2922)-1)*10000*0.3,0)","v":6620},6157,null,null,"Arcus M","WT","Není v databázi"]
["Steffen Clement",null,null,"Fliegergruppe Neckartal Köngen",null,"Hahnweide 2024 - Duo 20m",{"$f":"VLOOKUP(F2916,Soutez!A:B,2,FALSE)","v":"DE"},{"$f":"VLOOKUP(F2916,Soutez!A:C,3,FALSE)","v":2024},14,2808,0.93,6365,5919,null,null,"Arcus T",69,{"$f":"IF(ISERROR(VLOOKUP(A2916,Pilot,6,0)),\"Není v databázi\",VLOOKUP(A2916,Pilot,6,0))","v":"Není v databázi"}]
["Tim Schneider",null,null,"Sfc Hirzenhain e.V",null,"Hahnweide 2024 - Duo 20m",{"$f":"VLOOKUP(F2917,Soutez!A:B,2,FALSE)","v":"DE"},{"$f":"VLOOKUP(F2917,Soutez!A:C,3,FALSE)","v":2024},15,2709,0.93,6016,5595,null,null,"Arcus T","DD","Není v databázi"]
["Elias Weber",null,null,"Aero Club Stuttgart e.V.",null,"Hahnweide 2024 - Duo 20m",{"$f":"VLOOKUP(F2918,Soutez!A:B,2,FALSE)","v":"DE"},{"$f":"VLOOKUP(F2918,Soutez!A:C,3,FALSE)","v":2024},16,2476,0.93,5409,5030,null,null,"Arcus M","AC2","Není v databázi"]
["Krauss & Schweizer",null,null,null,null,"Hahnweide 2024 - Duo 20m",{"$f":"VLOOKUP(F2919,Soutez!A:B,2,FALSE)","v":"DE"},{"$f":"VLOOKUP(F2919,Soutez!A:C,3,FALSE)","v":2024},17,2331,0.93,4971,4623,null,null,"Arcus M","SS","Není v databázi"]
["Puttmann & Hauser",null,null,"SCS",null,"Hahnweide 2024 - Duo 20m",{"$f":"VLOOKUP(F2920,Soutez!A:B,2,FALSE)","v":"DE"},{"$f":"VLOOKUP(F2920,Soutez!A:C,3,FALSE)","v":2024},18,2275,0.93,4705,4376,null,null,"Duo Discus","S4","Není v databázi"]
["Bernhard & Nicolas",null,null,"Fayence",null,"Hahnweide 2024 - Duo 20m",{"$f":"VLOOKUP(F2921,Soutez!A:B,2,FALSE)","v":"DE"},{"$f":"VLOOKUP(F2921,Soutez!A:C,3,FALSE)","v":2024},19,2262,0.93,4522,4205,null,null,"HPH 304 M","NB","Není v databázi"]
["Jan-lucas Aberle",null,null,"Aero Club Stuttgart e.V.",null,"Hahnweide 2024 - Duo 20m",{"$f":"VLOOKUP(F2922,Soutez!A:B,2,FALSE)","v":"DE"},{"$f":"VLOOKUP(F2922,Soutez!A:C,3,FALSE)","v":2024},20,2211,0.93,4266,3967,null,null,"Arcus M","AA","Není v databázi"]
["Stefan Langer",null,null,"Germany",null,"WGC 2024 - 18m",{"$f":"VLOOKUP(F2923,Soutez!A:B,2,FALSE)","v":"US"},{"$f":"VLOOKUP(F2923,Soutez!A:C,3,FALSE)","v":2024},1,9843,{"$f":"VLOOKUP(F2923,Soutez,12,0)","v":1.135},{"$f":"ROUND(J2923/MAX($J$2923:$J$2954)*10000*0.7+(MAX($I$2923:$I$2954)-I2923)/(MAX($I$2923:$I$2954)-1)*10000*0.3,0)","v":10000},{"$f":"ROUND(K2923*L2923,0)","v":11350},null,null,"AS 33 Me","SF","Není v databázi"]
["Simon Schröder",null,null,"Germany",null,"WGC 2024 - 18m",{"$f":"VLOOKUP(F2924,Soutez!A:B,2,FALSE)","v":"US"},{"$f":"VLOOKUP(F2924,Soutez!A:C,3,FALSE)","v":2024},2,9636,{"$f":"VLOOKUP(F2924,Soutez,12,0)","v":1.135},{"$f":"ROUND(J2924/MAX($J$2923:$J$2954)*10000*0.7+(MAX($I$2923:$I$2954)-I2924)/(MAX($I$2923:$I$2954)-1)*10000*0.3,0)","v":9756},{"$f":"ROUND(K2924*L2924,0)","v":11073},null,null,"Ventus 3e","ELF","Není v databázi"]
["Christophe Abadie",null,null,"France",null,"WGC 2024 - 18m",{"$f":"VLOOKUP(F2925,Soutez!A:B,2,FALSE)","v":"US"},{"$f":"VLOOKUP(F2925,Soutez!A:C,3,FALSE)","v":2024},3,9592,1.135,{"$f":"ROUND(J2925/MAX($J$2923:$J$2954)*10000*0.7+(MAX($I$2923:$I$2954)-I2925)/(MAX($I$2923:$I$2954)-1)*10000*0.3,0)","v":9628},10928,null,null,"JS3 TJ 18m","2L","Není v databázi"]
["Jeroen Verkuijl",null,null,"Netherlands",null,"WGC 2024 - 18m",{"$f":"VLOOKUP(F2926,Soutez!A:B,2,FALSE)","v":"US"},{"$f":"VLOOKUP(F2926,Soutez!A:C,3,FALSE)","v":2024},4,9431,1.135,{"$f":"ROUND(J2926/MAX($J$2923:$J$2954)*10000*0.7+(MAX($I$2923:$I$2954)-I2926)/(MAX($I$2923:$I$2954)-1)*10000*0.3,0)","v":9417},10688,null,null,"JS3-TJ","QT","Není v databázi"]
["Matthew Scutter",null,null,"Australia",null,"WGC 2024 - 18m",{"$f":"VLOOKUP(F2927,Soutez!A:B,2,FALSE)","v":"US"},{"$f":"VLOOKUP(F2927,Soutez!A:C,3,FALSE)","v":2024},5,9408,1.135,{"$f":"ROUND(J2927/MAX($J$2923:$J$2954)*10000*0.7+(MAX($I$2923:$I$2954)-I2927)/(MAX($I$2923:$I$2954)-1)*10000*0.3,0)","v":9304},{"$f":"ROUND(K2927*L2927,0)","v":10560},null,null,"JS3","5M","Není v databázi"]
["Sjaak Selen",null,null,"Netherlands",null,"WGC 2024 - 18m",{"$f":"VLOOKUP(F2928,Soutez!A:B,2,FALSE)","v":"US"},{"$f":"VLOOKUP(F2928,Soutez!A:C,3,FALSE)","v":2024},6,9234,1.135,{"$f":"ROUND(J2928/MAX($J$2923:$J$2954)*10000*0.7+(MAX($I$2923:$I$2954)-I2928)/(MAX($I$2923:$I$2954)-1)*10000*0.3,0)","v":9083},10309,null,null,"JS3 TJ 18m","2S","Není v databázi"]
["JD Barrois",null,null,"France",null,"WGC 2024 - 18m",{"$f":"VLOOKUP(F2929,Soutez!A:B,2,FALSE)","v":"US"},{"$f":"VLOOKUP(F2929,Soutez!A:C,3,FALSE)","v":2024},7,9150,1.135,{"$f":"ROUND(J2929/MAX($J$2923:$J$2954)*10000*0.7+(MAX($I$2923:$I$2954)-I2929)/(MAX($I$2923:$I$2954)-1)*10000*0.3,0)","v":8927},10132,null,null,"JS3 18m","LB","Není v databázi"]
["Anne Ducarouge",null,null,"France",null,"WGC 2024 - 18m",{"$f":"VLOOKUP(F2930,Soutez!A:B,2,FALSE)","v":"US"},{"$f":"VLOOKUP(F2930,Soutez!A:C,3,FALSE)","v":2024},8,9136,1.135,{"$f":"ROUND(J2930/MAX($J$2923:$J$2954)*10000*0.7+(MAX($I$2923:$I$2954)-I2930)/(MAX($I$2923:$I$2954)-1)*10000*0.3,0)","v":8820},10011,null,null,"JS3 18m","KW","Není v databázi"]
["Arne J Boye-Møller",null,null,"Denmark",null,"WGC 2024 - 18m",{"$f":"VLOOKUP(F2931,Soutez!A:B,2,FALSE)","v":"US"},{"$f":"VLOOKUP(F2931,Soutez!A:C,3,FALSE)","v":2024},9,9061,1.135,{"$f":"ROUND(J2931/MAX($J$2923:$J$2954)*10000*0.7+(MAX($I$2923:$I$2954)-I2931)/(MAX($I$2923:$I$2954)-1)*10000*0.3,0)","v":8670},9840,null,null,"JS3 TJ 18m","AB","Není v databázi"]
["Sean Fidler",null,null,"USA",null,"WGC 2024 - 18m",{"$f":"VLOOKUP(F2932,Soutez!A:B,2,FALSE)","v":"US"},{"$f":"VLOOKUP(F2932,Soutez!A:C,3,FALSE)","v":2024},10,8992,1.135,{"$f":"ROUND(J2932/MAX($J$2923:$J$2954)*10000*0.7+(MAX($I$2923:$I$2954)-I2932)/(MAX($I$2923:$I$2954)-1)*10000*0.3,0)","v":8524},9675,null,null,"AS 33 Es","ZO","Není v databázi"]
["Ian MacArthur",null,null,"Great Britain",null,"WGC 2024 - 18m",{"$f":"VLOOKUP(F2933,Soutez!A:B,2,FALSE)","v":"US"},{"$f":"VLOOKUP(F2933,Soutez!A:C,3,FALSE)","v":2024},11,8981,{"$f":"VLOOKUP(F2933,Soutez,12,0)","v":1.135},{"$f":"ROUND(J2933/MAX($J$2923:$J$2954)*10000*0.7+(MAX($I$2923:$I$2954)-I2933)/(MAX($I$2923:$I$2954)-1)*10000*0.3,0)","v":8419},9556,null,null,"JS3","DZ","Není v databázi"]
["Linas Miezlaiskis",null,null,"Lithuania",null,"WGC 2024 - 18m",{"$f":"VLOOKUP(F2934,Soutez!A:B,2,FALSE)","v":"US"},{"$f":"VLOOKUP(F2934,Soutez!A:C,3,FALSE)","v":2024},12,8945,1.135,{"$f":"ROUND(J2934/MAX($J$2923:$J$2954)*10000*0.7+(MAX($I$2923:$I$2954)-I2934)/(MAX($I$2923:$I$2954)-1)*10000*0.3,0)","v":8297},9417,null,null,"AS 33 18m","V","Není v databázi"]
["Werner Amann",null,null,"Austria",null,"WGC 2024 - 18m",{"$f":"VLOOKUP(F2935,Soutez!A:B,2,FALSE)","v":"US"},{"$f":"VLOOKUP(F2935,Soutez!A:C,3,FALSE)","v":2024},13,8885,1.135,{"$f":"ROUND(J2935/MAX($J$2923:$J$2954)*10000*0.7+(MAX($I$2923:$I$2954)-I2935)/(MAX($I$2923:$I$2954)-1)*10000*0.3,0)","v":8157},9258,null,null,"AS 33 Es","WG","Není v databázi"]
["Radek Krejcirik",{"$f":"VLOOKUP(A2936,Pilot,2,0)","v":1991},{"$f":"VLOOKUP(A2936,Pilot,5,0)","v":"M"},{"$f":"VLOOKUP(A2936,Pilot,3,0)","v":"Hranice"},{"$f":"VLOOKUP(A2936,Pilot,4,0)","v":"CZ/M"},"WGC 2024 - 18m",{"$f":"VLOOKUP(F2936,Soutez!A:B,2,FALSE)","v":"US"},{"$f":"VLOOKUP(F2936,Soutez!A:C,3,FALSE)","v":2024},14,8880,1.135,{"$f":"ROUND(J2936/MAX($J$2923:$J$2954)*10000*0.7+(MAX($I$2923:$I$2954)-I2936)/(MAX($I$2923:$I$2954)-1)*10000*0.3,0)","v":8057},9145,null,null,"JS3 TJ 18m","QX",""]
["Uys Jonker",null,null,"South Africa",null,"WGC 2024 - 18m",{"$f":"VLOOKUP(F2937,Soutez!A:B,2,FALSE)","v":"US"},{"$f":"VLOOKUP(F2937,Soutez!A:C,3,FALSE)","v":2024},15,8688,1.135,{"$f":"ROUND(J2937/MAX($J$2923:$J$2954)*10000*0.7+(MAX($I$2923:$I$2954)-I2937)/(MAX($I$2923:$I$2954)-1)*10000*0.3,0)","v":7824},8880,null,null,"JS3 TJ 18m","AJ","Není v databázi"]
["Lumpy Paterson",null,null,"Australia",null,"WGC 2024 - 18m",{"$f":"VLOOKUP(F2938,Soutez!A:B,2,FALSE)","v":"US"},{"$f":"VLOOKUP(F2938,Soutez!A:C,3,FALSE)","v":2024},16,8678,1.135,{"$f":"ROUND(J2938/MAX($J$2923:$J$2954)*10000*0.7+(MAX($I$2923:$I$2954)-I2938)/(MAX($I$2923:$I$2954)-1)*10000*0.3,0)","v":7720},8762,null,null,"JS-3-18m","LP","Není v databázi"]
["Yves Gerster",null,null,"Switzerland",null,"WGC 2024 - 18m",{"$f":"VLOOKUP(F2939,Soutez!A:B,2,FALSE)","v":"US"},{"$f":"VLOOKUP(F2939,Soutez!A:C,3,FALSE)","v":2024},16,8678,1.135,{"$f":"ROUND(J2939/MAX($J$2923:$J$2954)*10000*0.7+(MAX($I$2923:$I$2954)-I2939)/(MAX($I$2923:$I$2954)-1)*10000*0.3,0)","v":7720},8762,null,null,"JS3 TJ 18m","JR","Není v databázi"]
["Manu Litt",null,null,"Belgium",null,"WGC 2024 - 18m",{"$f":"VLOOKUP(F2940,Soutez!A:B,2,FALSE)","v":"US"},{"$f":"VLOOKUP(F2940,Soutez!A:C,3,FALSE)","v":2024},18,8577,1.135,{"$f":"ROUND(J2940/MAX($J$2923:$J$2954)*10000*0.7+(MAX($I$2923:$I$2954)-I2940)/(MAX($I$2923:$I$2954)-1)*10000*0.3,0)","v":7455},8461,null,null,"JS3 18m","MM","Není v databázi"]
["Peter Harvey",null,null,"Great Britain",null,"WGC 2024 - 18m",{"$f":"VLOOKUP(F2941,Soutez!A:B,2,FALSE)","v":"US"},{"$f":"VLOOKUP(F2941,Soutez!A:C,3,FALSE)","v":2024},19,8558,1.135,{"$f":"ROUND(J2941/MAX($J$2923:$J$2954)*10000*0.7+(MAX($I$2923:$I$2954)-I2941)/(MAX($I$2923:$I$2954)-1)*10000*0.3,0)","v":7344},8335,null,null,"Ventus 3T","N1","Není v databázi"]
["Jerzy Szemplinski",null,null,"Canada",null,"WGC 2024 - 18m",{"$f":"VLOOKUP(F2942,Soutez!A:B,2,FALSE)","v":"US"},{"$f":"VLOOKUP(F2942,Soutez!A:C,3,FALSE)","v":2024},20,8552,1.135,{"$f":"ROUND(J2942/MAX($J$2923:$J$2954)*10000*0.7+(MAX($I$2923:$I$2954)-I2942)/(MAX($I$2923:$I$2954)-1)*10000*0.3,0)","v":7243},8221,null,null,"AS 33 Es","XG","Není v databázi"]
["Zoltan Hamar",null,null,"Hungary",null,"WGC 2024 - 18m",{"$f":"VLOOKUP(F2943,Soutez!A:B,2,FALSE)","v":"US"},{"$f":"VLOOKUP(F2943,Soutez!A:C,3,FALSE)","v":2024},21,8342,1.135,{"$f":"ROUND(J2943/MAX($J$2923:$J$2954)*10000*0.7+(MAX($I$2923:$I$2954)-I2943)/(MAX($I$2923:$I$2954)-1)*10000*0.3,0)","v":6997},7942,null,null,"JS-3-15m","BK","Není v databázi"]
["Stefano Ghiorzo",null,null,"Italy",null,"WGC 2024 - 18m",{"$f":"VLOOKUP(F2944,Soutez!A:B,2,FALSE)","v":"US"},{"$f":"VLOOKUP(F2944,Soutez!A:C,3,FALSE)","v":2024},22,8262,1.135,{"$f":"ROUND(J2944/MAX($J$2923:$J$2954)*10000*0.7+(MAX($I$2923:$I$2954)-I2944)/(MAX($I$2923:$I$2954)-1)*10000*0.3,0)","v":6843},7767,null,null,"Ventus 3M 18m","NJ","Není v databázi"]
["Thomas Gostner",null,null,"Italy",null,"WGC 2024 - 18m",{"$f":"VLOOKUP(F2945,Soutez!A:B,2,FALSE)","v":"US"},{"$f":"VLOOKUP(F2945,Soutez!A:C,3,FALSE)","v":2024},23,8180,1.135,{"$f":"ROUND(J2945/MAX($J$2923:$J$2954)*10000*0.7+(MAX($I$2923:$I$2954)-I2945)/(MAX($I$2923:$I$2954)-1)*10000*0.3,0)","v":6688},7591,null,null,"Ventus 3T","GT","Není v databázi"]
["Martin Hrivna",{"$f":"VLOOKUP(A2946,Pilot,2,0)","v":1978},{"$f":"VLOOKUP(A2946,Pilot,5,0)","v":"M"},{"$f":"VLOOKUP(A2946,Pilot,3,0)","v":"Zbraslavice"},{"$f":"VLOOKUP(A2946,Pilot,4,0)","v":"CZ/C1"},"WGC 2024 - 18m",{"$f":"VLOOKUP(F2946,Soutez!A:B,2,FALSE)","v":"US"},{"$f":"VLOOKUP(F2946,Soutez!A:C,3,FALSE)","v":2024},24,8166,1.135,{"$f":"ROUND(J2946/MAX($J$2923:$J$2954)*10000*0.7+(MAX($I$2923:$I$2954)-I2946)/(MAX($I$2923:$I$2954)-1)*10000*0.3,0)","v":6582},7471,null,null,"JS3 TJ 18m","ZE",""]
["Dawid Pretorius",null,null,"South Africa",null,"WGC 2024 - 18m",{"$f":"VLOOKUP(F2947,Soutez!A:B,2,FALSE)","v":"US"},{"$f":"VLOOKUP(F2947,Soutez!A:C,3,FALSE)","v":2024},25,7589,1.135,{"$f":"ROUND(J2947/MAX($J$2923:$J$2954)*10000*0.7+(MAX($I$2923:$I$2954)-I2947)/(MAX($I$2923:$I$2954)-1)*10000*0.3,0)","v":6074},6894,null,null,"JS3 TJ 18m","IMS","Není v databázi"]
["Sergei Morozov",null,null,"Canada",null,"WGC 2024 - 18m",{"$f":"VLOOKUP(F2948,Soutez!A:B,2,FALSE)","v":"US"},{"$f":"VLOOKUP(F2948,Soutez!A:C,3,FALSE)","v":2024},26,7513,1.135,{"$f":"ROUND(J2948/MAX($J$2923:$J$2954)*10000*0.7+(MAX($I$2923:$I$2954)-I2948)/(MAX($I$2923:$I$2954)-1)*10000*0.3,0)","v":5924},6724,null,null,"ASG29","MS","Není v databázi"]
["Sean Murphy",null,null,"USA",null,"WGC 2024 - 18m",{"$f":"VLOOKUP(F2949,Soutez!A:B,2,FALSE)","v":"US"},{"$f":"VLOOKUP(F2949,Soutez!A:C,3,FALSE)","v":2024},27,6736,1.135,{"$f":"ROUND(J2949/MAX($J$2923:$J$2954)*10000*0.7+(MAX($I$2923:$I$2954)-I2949)/(MAX($I$2923:$I$2954)-1)*10000*0.3,0)","v":5274},5986,null,null,"JS3 TJ 18m","XC","Není v databázi"]
["Lukasz Wojcik",null,null,"Poland",null,"WGC 2024 - 18m",{"$f":"VLOOKUP(F2950,Soutez!A:B,2,FALSE)","v":"US"},{"$f":"VLOOKUP(F2950,Soutez!A:C,3,FALSE)","v":2024},28,6729,1.135,{"$f":"ROUND(J2950/MAX($J$2923:$J$2954)*10000*0.7+(MAX($I$2923:$I$2954)-I2950)/(MAX($I$2923:$I$2954)-1)*10000*0.3,0)","v":5173},5871,null,null,"JS3 18m","FS","Není v databázi"]
["Alena Netusilova",{"$f":"VLOOKUP(A2951,Pilot,2,0)","v":1970},{"$f":"VLOOKUP(A2951,Pilot,5,0)","v":"F"},{"$f":"VLOOKUP(A2951,Pilot,3,0)","v":"Zbraslavice"},{"$f":"VLOOKUP(A2951,Pilot,4,0)","v":"CZ/C1"},"WGC 2024 - 18m",{"$f":"VLOOKUP(F2951,Soutez!A:B,2,FALSE)","v":"US"},{"$f":"VLOOKUP(F2951,Soutez!A:C,3,FALSE)","v":2024},29,6256,1.135,{"$f":"ROUND(J2951/MAX($J$2923:$J$2954)*10000*0.7+(MAX($I$2923:$I$2954)-I2951)/(MAX($I$2923:$I$2954)-1)*10000*0.3,0)","v":4739},5379,null,null,"JS3 RES 18m","A7",""]
["Jan Hasslid",null,null,"Sweden",null,"WGC 2024 - 18m",{"$f":"VLOOKUP(F2952,Soutez!A:B,2,FALSE)","v":"US"},{"$f":"VLOOKUP(F2952,Soutez!A:C,3,FALSE)","v":2024},30,6252,1.135,{"$f":"ROUND(J2952/MAX($J$2923:$J$2954)*10000*0.7+(MAX($I$2923:$I$2954)-I2952)/(MAX($I$2923:$I$2954)-1)*10000*0.3,0)","v":4640},5266,null,null,"JS3 RES 18m","MII","Není v databázi"]
["Werner Rüegger",null,null,"Switzerland",null,"WGC 2024 - 18m",{"$f":"VLOOKUP(F2953,Soutez!A:B,2,FALSE)","v":"US"},{"$f":"VLOOKUP(F2953,Soutez!A:C,3,FALSE)","v":2024},31,6250,1.135,{"$f":"ROUND(J2953/MAX($J$2923:$J$2954)*10000*0.7+(MAX($I$2923:$I$2954)-I2953)/(MAX($I$2923:$I$2954)-1)*10000*0.3,0)","v":4542},5155,null,null,"JS1 TJ 18m","A8","Není v databázi"]
["Renato Stefanuto",null,null,"Brazil",null,"WGC 2024 - 18m",{"$f":"VLOOKUP(F2954,Soutez!A:B,2,FALSE)","v":"US"},{"$f":"VLOOKUP(F2954,Soutez!A:C,3,FALSE)","v":2024},32,6147,1.135,{"$f":"ROUND(J2954/MAX($J$2923:$J$2954)*10000*0.7+(MAX($I$2923:$I$2954)-I2954)/(MAX($I$2923:$I$2954)-1)*10000*0.3,0)","v":4372},4962,null,null,"JS3-RES","ST","Není v databázi"]
["Arnold & Striedieck",null,null,"USA",null,"WGC 2024 - Duo 20m",{"$f":"VLOOKUP(F2955,Soutez!A:B,2,FALSE)","v":"US"},{"$f":"VLOOKUP(F2955,Soutez!A:C,3,FALSE)","v":2024},1,9616,{"$f":"VLOOKUP(F2955,Soutez,12,0)","v":1.085},{"$f":"ROUND(J2955/MAX($J$2955:$J$2970)*10000*0.7+(MAX($I$2955:$I$2970)-I2955)/(MAX($I$2955:$I$2970)-1)*10000*0.3,0)","v":10000},{"$f":"ROUND(K2955*L2955,0)","v":10850},null,null,"Arcus M","L","Není v databázi"]
["Rubaj & Matkowski",null,null,"Poland",null,"WGC 2024 - Duo 20m",{"$f":"VLOOKUP(F2956,Soutez!A:B,2,FALSE)","v":"US"},{"$f":"VLOOKUP(F2956,Soutez!A:C,3,FALSE)","v":2024},2,9552,{"$f":"VLOOKUP(F2956,Soutez,12,0)","v":1.085},{"$f":"ROUND(J2956/MAX($J$2955:$J$2970)*10000*0.7+(MAX($I$2955:$I$2970)-I2956)/(MAX($I$2955:$I$2970)-1)*10000*0.3,0)","v":9753},{"$f":"ROUND(K2956*L2956,0)","v":10582},null,null,"ASG 32 Mi","MD","Není v databázi"]
["Lutz & Janowitsch",null,null,"Austria",null,"WGC 2024 - Duo 20m",{"$f":"VLOOKUP(F2957,Soutez!A:B,2,FALSE)","v":"US"},{"$f":"VLOOKUP(F2957,Soutez!A:C,3,FALSE)","v":2024},3,9499,{"$f":"VLOOKUP(F2957,Soutez,12,0)","v":1.085},{"$f":"ROUND(J2957/MAX($J$2955:$J$2970)*10000*0.7+(MAX($I$2955:$I$2970)-I2957)/(MAX($I$2955:$I$2970)-1)*10000*0.3,0)","v":9515},10324,null,null,"Arcus M","BF","Není v databázi"]
["Woolley & Gateley",null,null,"Australia",null,"WGC 2024 - Duo 20m",{"$f":"VLOOKUP(F2958,Soutez!A:B,2,FALSE)","v":"US"},{"$f":"VLOOKUP(F2958,Soutez!A:C,3,FALSE)","v":2024},4,9484,{"$f":"VLOOKUP(F2958,Soutez,12,0)","v":1.085},{"$f":"ROUND(J2958/MAX($J$2955:$J$2970)*10000*0.7+(MAX($I$2955:$I$2970)-I2958)/(MAX($I$2955:$I$2970)-1)*10000*0.3,0)","v":9304},{"$f":"ROUND(K2958*L2958,0)","v":10095},null,null,"Arcus M","AXO","Není v databázi"]
["Bouderlique & de Péchy",null,null,"France",null,"WGC 2024 - Duo 20m",{"$f":"VLOOKUP(F2959,Soutez!A:B,2,FALSE)","v":"US"},{"$f":"VLOOKUP(F2959,Soutez!A:C,3,FALSE)","v":2024},5,9417,{"$f":"VLOOKUP(F2959,Soutez,12,0)","v":1.085},{"$f":"ROUND(J2959/MAX($J$2955:$J$2970)*10000*0.7+(MAX($I$2955:$I$2970)-I2959)/(MAX($I$2955:$I$2970)-1)*10000*0.3,0)","v":9055},9825,null,null,"Arcus T","MG","Není v databázi"]
["Borgmann & Van Houweninge",null,null,"Netherlands",null,"WGC 2024 - Duo 20m",{"$f":"VLOOKUP(F2960,Soutez!A:B,2,FALSE)","v":"US"},{"$f":"VLOOKUP(F2960,Soutez!A:C,3,FALSE)","v":2024},6,9212,{"$f":"VLOOKUP(F2960,Soutez,12,0)","v":1.085},{"$f":"ROUND(J2960/MAX($J$2955:$J$2970)*10000*0.7+(MAX($I$2955:$I$2970)-I2960)/(MAX($I$2955:$I$2970)-1)*10000*0.3,0)","v":8706},9446,null,null,"Arcus M",3,"Není v databázi"]
["Jones & Coppin",null,null,"Great Britain",null,"WGC 2024 - Duo 20m",{"$f":"VLOOKUP(F2961,Soutez!A:B,2,FALSE)","v":"US"},{"$f":"VLOOKUP(F2961,Soutez!A:C,3,FALSE)","v":2024},7,9021,{"$f":"VLOOKUP(F2961,Soutez,12,0)","v":1.085},{"$f":"ROUND(J2961/MAX($J$2955:$J$2970)*10000*0.7+(MAX($I$2955:$I$2970)-I2961)/(MAX($I$2955:$I$2970)-1)*10000*0.3,0)","v":8367},9078,null,null,"Arcus M","AXC","Není v databázi"]
["Theisinger & Frey",null,null,"Germany",null,"WGC 2024 - Duo 20m",{"$f":"VLOOKUP(F2962,Soutez!A:B,2,FALSE)","v":"US"},{"$f":"VLOOKUP(F2962,Soutez!A:C,3,FALSE)","v":2024},8,8589,{"$f":"VLOOKUP(F2962,Soutez,12,0)","v":1.085},{"$f":"ROUND(J2962/MAX($J$2955:$J$2970)*10000*0.7+(MAX($I$2955:$I$2970)-I2962)/(MAX($I$2955:$I$2970)-1)*10000*0.3,0)","v":7852},8519,null,null,"Arcus M","WT","Není v databázi"]
["Delfosse & de Broqueville",null,null,"Belgium",null,"WGC 2024 - Duo 20m",{"$f":"VLOOKUP(F2963,Soutez!A:B,2,FALSE)","v":"US"},{"$f":"VLOOKUP(F2963,Soutez!A:C,3,FALSE)","v":2024},9,8571,{"$f":"VLOOKUP(F2963,Soutez,12,0)","v":1.085},{"$f":"ROUND(J2963/MAX($J$2955:$J$2970)*10000*0.7+(MAX($I$2955:$I$2970)-I2963)/(MAX($I$2955:$I$2970)-1)*10000*0.3,0)","v":7639},8288,null,null,"Arcus T","2AS","Není v databázi"]
["Pulkkinen & Teronen",null,null,"Finland",null,"WGC 2024 - Duo 20m",{"$f":"VLOOKUP(F2964,Soutez!A:B,2,FALSE)","v":"US"},{"$f":"VLOOKUP(F2964,Soutez!A:C,3,FALSE)","v":2024},10,8499,{"$f":"VLOOKUP(F2964,Soutez,12,0)","v":1.085},{"$f":"ROUND(J2964/MAX($J$2955:$J$2970)*10000*0.7+(MAX($I$2955:$I$2970)-I2964)/(MAX($I$2955:$I$2970)-1)*10000*0.3,0)","v":7387},8015,null,null,"Arcus M","MH","Není v databázi"]
["Negro & Bano",null,null,"Hungary",null,"WGC 2024 - Duo 20m",{"$f":"VLOOKUP(F2965,Soutez!A:B,2,FALSE)","v":"US"},{"$f":"VLOOKUP(F2965,Soutez!A:C,3,FALSE)","v":2024},11,8487,{"$f":"VLOOKUP(F2965,Soutez,12,0)","v":1.085},{"$f":"ROUND(J2965/MAX($J$2955:$J$2970)*10000*0.7+(MAX($I$2955:$I$2970)-I2965)/(MAX($I$2955:$I$2970)-1)*10000*0.3,0)","v":7178},7788,null,null,"Twin Shark`","TS","Není v databázi"]
["Brunazzo & Acquaderni",null,null,"Italy",null,"WGC 2024 - Duo 20m",{"$f":"VLOOKUP(F2966,Soutez!A:B,2,FALSE)","v":"US"},{"$f":"VLOOKUP(F2966,Soutez!A:C,3,FALSE)","v":2024},12,7810,{"$f":"VLOOKUP(F2966,Soutez,12,0)","v":1.085},{"$f":"ROUND(J2966/MAX($J$2955:$J$2970)*10000*0.7+(MAX($I$2955:$I$2970)-I2966)/(MAX($I$2955:$I$2970)-1)*10000*0.3,0)","v":6485},7036,null,null,"Arcus M","PP","Není v databázi"]
["Ivan Novak",{"$f":"VLOOKUP(A2967,Pilot,2,0)","v":1962},{"$f":"VLOOKUP(A2967,Pilot,5,0)","v":"M"},{"$f":"VLOOKUP(A2967,Pilot,3,0)","v":"Mladá Boleslav"},{"$f":"VLOOKUP(A2967,Pilot,4,0)","v":"CZ/C1"},"WGC 2024 - Duo 20m",{"$f":"VLOOKUP(F2967,Soutez!A:B,2,FALSE)","v":"US"},{"$f":"VLOOKUP(F2967,Soutez!A:C,3,FALSE)","v":2024},13,7754,{"$f":"VLOOKUP(F2967,Soutez,12,0)","v":1.085},{"$f":"ROUND(J2967/MAX($J$2955:$J$2970)*10000*0.7+(MAX($I$2955:$I$2970)-I2967)/(MAX($I$2955:$I$2970)-1)*10000*0.3,0)","v":6245},6776,null,null,"Twin Shark","TSK",""]
["Denner & Coetzee",null,null,"South Africa",null,"WGC 2024 - Duo 20m",{"$f":"VLOOKUP(F2968,Soutez!A:B,2,FALSE)","v":"US"},{"$f":"VLOOKUP(F2968,Soutez!A:C,3,FALSE)","v":2024},14,7745,{"$f":"VLOOKUP(F2968,Soutez,12,0)","v":1.085},{"$f":"ROUND(J2968/MAX($J$2955:$J$2970)*10000*0.7+(MAX($I$2955:$I$2970)-I2968)/(MAX($I$2955:$I$2970)-1)*10000*0.3,0)","v":6038},6551,null,null,"Arcus M","EL","Není v databázi"]
["Jørgensen & Nielsen",null,null,"Denmark",null,"WGC 2024 - Duo 20m",{"$f":"VLOOKUP(F2969,Soutez!A:B,2,FALSE)","v":"US"},{"$f":"VLOOKUP(F2969,Soutez!A:C,3,FALSE)","v":2024},15,7601,{"$f":"VLOOKUP(F2969,Soutez,12,0)","v":1.085},{"$f":"ROUND(J2969/MAX($J$2955:$J$2970)*10000*0.7+(MAX($I$2955:$I$2970)-I2969)/(MAX($I$2955:$I$2970)-1)*10000*0.3,0)","v":5733},6220,null,null,"Arcus T","JT","Není v databázi"]
["Essex & Rossi",null,null,"New Zealand",null,"WGC 2024 - Duo 20m",{"$f":"VLOOKUP(F2970,Soutez!A:B,2,FALSE)","v":"US"},{"$f":"VLOOKUP(F2970,Soutez!A:C,3,FALSE)","v":2024},16,6297,{"$f":"VLOOKUP(F2970,Soutez,12,0)","v":1.085},{"$f":"ROUND(J2970/MAX($J$2955:$J$2970)*10000*0.7+(MAX($I$2955:$I$2970)-I2970)/(MAX($I$2955:$I$2970)-1)*10000*0.3,0)","v":4584},4974,null,null,"ASG 32Mi","UC","Není v databázi"]
["Felipe Levin",null,null,"Germany",null,"WGC 2024 - Open",{"$f":"VLOOKUP(F2971,Soutez!A:B,2,FALSE)","v":"US"},{"$f":"VLOOKUP(F2971,Soutez!A:C,3,FALSE)","v":2024},1,10887,{"$f":"VLOOKUP(F2971,Soutez,12,0)","v":1.0900000000000001},{"$f":"ROUND(J2971/MAX($J$2971:$J$2987)*10000*0.7+(MAX($I$2971:$I$2987)-I2971)/(MAX($I$2971:$I$2987)-1)*10000*0.3,0)","v":10000},{"$f":"ROUND(K2971*L2971,0)","v":10900},null,null,"EB 29R","FL","Není v databázi"]
["Michael Sommer",null,null,"Germany",null,"WGC 2024 - Open",{"$f":"VLOOKUP(F2972,Soutez!A:B,2,FALSE)","v":"US"},{"$f":"VLOOKUP(F2972,Soutez!A:C,3,FALSE)","v":2024},2,10782,{"$f":"VLOOKUP(F2972,Soutez,12,0)","v":1.0900000000000001},{"$f":"ROUND(J2972/MAX($J$2971:$J$2987)*10000*0.7+(MAX($I$2971:$I$2987)-I2972)/(MAX($I$2971:$I$2987)-1)*10000*0.3,0)","v":9745},{"$f":"ROUND(K2972*L2972,0)","v":10622},null,null,"EB29R","EB","Není v databázi"]
["Laurent Aboulin",null,null,"France",null,"WGC 2024 - Open",{"$f":"VLOOKUP(F2973,Soutez!A:B,2,FALSE)","v":"US"},{"$f":"VLOOKUP(F2973,Soutez!A:C,3,FALSE)","v":2024},3,10485,{"$f":"VLOOKUP(F2973,Soutez,12,0)","v":1.0900000000000001},{"$f":"ROUND(J2973/MAX($J$2971:$J$2987)*10000*0.7+(MAX($I$2971:$I$2987)-I2973)/(MAX($I$2971:$I$2987)-1)*10000*0.3,0)","v":9367},10210,null,null,"JS1C 21m","FD","Není v databázi"]
["Sylvain Gerbaud",null,null,"France",null,"WGC 2024 - Open",{"$f":"VLOOKUP(F2974,Soutez!A:B,2,FALSE)","v":"US"},{"$f":"VLOOKUP(F2974,Soutez!A:C,3,FALSE)","v":2024},4,10402,{"$f":"VLOOKUP(F2974,Soutez,12,0)","v":1.0900000000000001},{"$f":"ROUND(J2974/MAX($J$2971:$J$2987)*10000*0.7+(MAX($I$2971:$I$2987)-I2974)/(MAX($I$2971:$I$2987)-1)*10000*0.3,0)","v":9126},9947,null,null,"EB 29R",72,"Není v databázi"]
["François Jeremiasse",null,null,"Netherlands",null,"WGC 2024 - Open",{"$f":"VLOOKUP(F2975,Soutez!A:B,2,FALSE)","v":"US"},{"$f":"VLOOKUP(F2975,Soutez!A:C,3,FALSE)","v":2024},5,10331,{"$f":"VLOOKUP(F2975,Soutez,12,0)","v":1.0900000000000001},{"$f":"ROUND(J2975/MAX($J$2971:$J$2987)*10000*0.7+(MAX($I$2971:$I$2987)-I2975)/(MAX($I$2971:$I$2987)-1)*10000*0.3,0)","v":8893},9693,null,null,"EB29R","XR","Není v databázi"]
["Jim Lee",null,null,"USA",null,"WGC 2024 - Open",{"$f":"VLOOKUP(F2976,Soutez!A:B,2,FALSE)","v":"US"},{"$f":"VLOOKUP(F2976,Soutez!A:C,3,FALSE)","v":2024},6,10182,{"$f":"VLOOKUP(F2976,Soutez,12,0)","v":1.0900000000000001},{"$f":"ROUND(J2976/MAX($J$2971:$J$2987)*10000*0.7+(MAX($I$2971:$I$2987)-I2976)/(MAX($I$2971:$I$2987)-1)*10000*0.3,0)","v":8609},9384,null,null,"EB 29R","1C","Není v databázi"]
["Attie Jonker",null,null,"South Africa",null,"WGC 2024 - Open",{"$f":"VLOOKUP(F2977,Soutez!A:B,2,FALSE)","v":"US"},{"$f":"VLOOKUP(F2977,Soutez!A:C,3,FALSE)","v":2024},7,9806,{"$f":"VLOOKUP(F2977,Soutez,12,0)","v":1.0900000000000001},{"$f":"ROUND(J2977/MAX($J$2971:$J$2987)*10000*0.7+(MAX($I$2971:$I$2987)-I2977)/(MAX($I$2971:$I$2987)-1)*10000*0.3,0)","v":8180},8916,null,null,"JS5",5,{"$f":"IF(ISERROR(VLOOKUP(A2977,Pilot,6,0)),\"Není v databázi\",VLOOKUP(A2977,Pilot,6,0))","v":"Není v databázi"}]
["Russell Cheetham",null,null,"Great Britain",null,"WGC 2024 - Open",{"$f":"VLOOKUP(F2978,Soutez!A:B,2,FALSE)","v":"US"},{"$f":"VLOOKUP(F2978,Soutez!A:C,3,FALSE)","v":2024},8,9500,{"$f":"VLOOKUP(F2978,Soutez,12,0)","v":1.0900000000000001},{"$f":"ROUND(J2978/MAX($J$2971:$J$2987)*10000*0.7+(MAX($I$2971:$I$2987)-I2978)/(MAX($I$2971:$I$2987)-1)*10000*0.3,0)","v":7796},8498,null,null,"JS-1-21m","E1","Není v databázi"]
["Zoran Frenc",null,null,"Serbia",null,"WGC 2024 - Open",{"$f":"VLOOKUP(F2979,Soutez!A:B,2,FALSE)","v":"US"},{"$f":"VLOOKUP(F2979,Soutez!A:C,3,FALSE)","v":2024},9,9458,{"$f":"VLOOKUP(F2979,Soutez,12,0)","v":1.0900000000000001},{"$f":"ROUND(J2979/MAX($J$2971:$J$2987)*10000*0.7+(MAX($I$2971:$I$2987)-I2979)/(MAX($I$2971:$I$2987)-1)*10000*0.3,0)","v":7581},8263,null,null,"JS5","ZF","Není v databázi"]
["Oscar Goudriaan",null,null,"South Africa",null,"WGC 2024 - Open",{"$f":"VLOOKUP(F2980,Soutez!A:B,2,FALSE)","v":"US"},{"$f":"VLOOKUP(F2980,Soutez!A:C,3,FALSE)","v":2024},10,9386,{"$f":"VLOOKUP(F2980,Soutez,12,0)","v":1.0900000000000001},{"$f":"ROUND(J2980/MAX($J$2971:$J$2987)*10000*0.7+(MAX($I$2971:$I$2987)-I2980)/(MAX($I$2971:$I$2987)-1)*10000*0.3,0)","v":7347},8008,null,null,"JS5","OG","Není v databázi"]
["Bas Seijffert",null,null,"Netherlands",null,"WGC 2024 - Open",{"$f":"VLOOKUP(F2981,Soutez!A:B,2,FALSE)","v":"US"},{"$f":"VLOOKUP(F2981,Soutez!A:C,3,FALSE)","v":2024},11,9304,{"$f":"VLOOKUP(F2981,Soutez,12,0)","v":1.0900000000000001},{"$f":"ROUND(J2981/MAX($J$2971:$J$2987)*10000*0.7+(MAX($I$2971:$I$2987)-I2981)/(MAX($I$2971:$I$2987)-1)*10000*0.3,0)","v":7107},7747,null,null,"JS1C TJ 21m","BJ","Není v databázi"]
["Keith Baugh",null,null,"USA",null,"WGC 2024 - Open",{"$f":"VLOOKUP(F2982,Soutez!A:B,2,FALSE)","v":"US"},{"$f":"VLOOKUP(F2982,Soutez!A:C,3,FALSE)","v":2024},12,9297,{"$f":"VLOOKUP(F2982,Soutez,12,0)","v":1.0900000000000001},{"$f":"ROUND(J2982/MAX($J$2971:$J$2987)*10000*0.7+(MAX($I$2971:$I$2987)-I2982)/(MAX($I$2971:$I$2987)-1)*10000*0.3,0)","v":6915},7537,null,null,"JS1C TJ 21m","AG","Není v databázi"]
["Peter Szabo",null,null,"Hungary",null,"WGC 2024 - Open",{"$f":"VLOOKUP(F2983,Soutez!A:B,2,FALSE)","v":"US"},{"$f":"VLOOKUP(F2983,Soutez!A:C,3,FALSE)","v":2024},13,9197,{"$f":"VLOOKUP(F2983,Soutez,12,0)","v":1.0900000000000001},{"$f":"ROUND(J2983/MAX($J$2971:$J$2987)*10000*0.7+(MAX($I$2971:$I$2987)-I2983)/(MAX($I$2971:$I$2987)-1)*10000*0.3,0)","v":6663},{"$f":"ROUND(K2983*L2983,0)","v":7263},null,null,"JS5","BX","Není v databázi"]
["Tim Jenkinson",null,null,"Great Britain",null,"WGC 2024 - Open",{"$f":"VLOOKUP(F2984,Soutez!A:B,2,FALSE)","v":"US"},{"$f":"VLOOKUP(F2984,Soutez!A:C,3,FALSE)","v":2024},14,9105,{"$f":"VLOOKUP(F2984,Soutez,12,0)","v":1.0900000000000001},{"$f":"ROUND(J2984/MAX($J$2971:$J$2987)*10000*0.7+(MAX($I$2971:$I$2987)-I2984)/(MAX($I$2971:$I$2987)-1)*10000*0.3,0)","v":6417},6995,null,null,"JS1C TJ 21m","TJ","Není v databázi"]
["Radek Kucirek",{"$f":"VLOOKUP(A2985,Pilot,2,0)","v":1973},{"$f":"VLOOKUP(A2985,Pilot,5,0)","v":"M"},{"$f":"VLOOKUP(A2985,Pilot,3,0)","v":"Havlíčkův Brod"},{"$f":"VLOOKUP(A2985,Pilot,4,0)","v":"CZ/C2"},"WGC 2024 - Open",{"$f":"VLOOKUP(F2985,Soutez!A:B,2,FALSE)","v":"US"},{"$f":"VLOOKUP(F2985,Soutez!A:C,3,FALSE)","v":2024},15,8266,{"$f":"VLOOKUP(F2985,Soutez,12,0)","v":1.0900000000000001},{"$f":"ROUND(J2985/MAX($J$2971:$J$2987)*10000*0.7+(MAX($I$2971:$I$2987)-I2985)/(MAX($I$2971:$I$2987)-1)*10000*0.3,0)","v":5690},6202,null,null,"JS1C TJ 21m","ZP",""]
["Geoffrey (Geoff) Brown",null,null,"Australia",null,"WGC 2024 - Open",{"$f":"VLOOKUP(F2986,Soutez!A:B,2,FALSE)","v":"US"},{"$f":"VLOOKUP(F2986,Soutez!A:C,3,FALSE)","v":2024},16,7176,{"$f":"VLOOKUP(F2986,Soutez,12,0)","v":1.0900000000000001},{"$f":"ROUND(J2986/MAX($J$2971:$J$2987)*10000*0.7+(MAX($I$2971:$I$2987)-I2986)/(MAX($I$2971:$I$2987)-1)*10000*0.3,0)","v":4801},5233,null,null,"JS1C TJ 21m","CG","Není v databázi"]
["Claudio Schmidt",null,null,"Brazil",null,"WGC 2024 - Open",{"$f":"VLOOKUP(F2987,Soutez!A:B,2,FALSE)","v":"US"},{"$f":"VLOOKUP(F2987,Soutez!A:C,3,FALSE)","v":2024},17,7050,{"$f":"VLOOKUP(F2987,Soutez,12,0)","v":1.0900000000000001},{"$f":"ROUND(J2987/MAX($J$2971:$J$2987)*10000*0.7+(MAX($I$2971:$I$2987)-I2987)/(MAX($I$2971:$I$2987)-1)*10000*0.3,0)","v":4533},4941,null,null,"Nixus","SA","Není v databázi"]

{"sheet":"Zebrik G","index":7,"n_rows":452,"n_cols":14,"rows_kept":452,"cut":false,"hidden":false,"merged":[]}
[null,{"$f":"\"Všeobecný Žebřík pilotů plachtařů PK AeČR \"&A6","v":"Všeobecný Žebřík pilotů plachtařů PK AeČR 2024"},null,null,null,null,null,null,{"$f":"Zmeny!A6","v":"2025-02-05"},"Rev.",{"$f":"Zmeny!B6","v":"03"},{"$f":"Zmeny!C6","v":"Final: opravy od soutěžících, přidáno WGC 2024 v Uvalde, odstraněno HOP 2024"}]
[]
[null,"G","x",null,null,null,null,null,"Junior v roce:","Junior v roce:",{"$f":"\"Repre družstvo \"&I4","v":"Repre družstvo 2025"},{"$f":"\"Repre výběr \"&I4","v":"Repre výběr 2025"},{"$f":"\"W \"&L3","v":"W Repre výběr 2025"},"Poznámka"]
[null,null,null,null,null,null,null,null,{"$f":"A6+1","v":2025},{"$f":"I4+1","v":2026},"(RD)","(RV)","(WRV)"]
["Pořadí",null,null,null,null,null,"Data",null,{"$f":"COUNTIF(I7:I939,\"Junior v roce \"&$I$4)","v":41},{"$f":"COUNTIF(J7:J939,\"Junior v roce \"&$J$4)","v":36},{"$f":"COUNTIF(K7:K939,\"RD \"&$I$4)","v":0},{"$f":"COUNTIF(L7:L939,\"RV \"&$I$4)","v":31},{"$f":"COUNTIF(M7:M939,\"WRV \"&$I$4)","v":10},{"$f":"COUNTIF(N7:N939,\"<>\")","v":0}]
[2024,"Jméno","Rok narození","M/F","Aeroklub","Region","Součet z Bi×Kinp","Počet G"]
[{"$f":"RANK(G7,G:G)","v":1},"Jan Pavlik",1987,"M","Křižanov","CZ/M",32031,3,{"$f":"IF(C7=\"(prázdné)\",\"\",IF(($I$4-C7)>25,\"\",\"Junior v roce \"&$I$4))","v":""},{"$f":"IF(C7=\"(prázdné)\",\"\",IF(($J$4-C7)>25,\"\",\"Junior v roce \"&$J$4))","v":""},null,"RV 2025",{"$f":"IF(ISERROR(VLOOKUP(B7,'Zebrik W'!$B$7:$L$1000,11,0)),\"\",IF(VLOOKUP(B7,'Zebrik W'!$B$7:$L$1000,11,0)=0,\"--\",VLOOKUP(B7,'Zebrik W'!$B$7:$L$1000,11,0)))","v":""}]
[{"$f":"RANK(G8,G:G)","v":2},"Tomas Suchanek",1964,"M","GAC Benešov","CZ/C1",31983,3,{"$f":"IF(C8=\"(prázdné)\",\"\",IF(($I$4-C8)>25,\"\",\"Junior v roce \"&$I$4))","v":""},{"$f":"IF(C8=\"(prázdné)\",\"\",IF(($J$4-C8)>25,\"\",\"Junior v roce \"&$J$4))","v":""},null,"RV 2025",{"$f":"IF(ISERROR(VLOOKUP(B8,'Zebrik W'!$B$7:$L$1000,11,0)),\"\",IF(VLOOKUP(B8,'Zebrik W'!$B$7:$L$1000,11,0)=0,\"--\",VLOOKUP(B8,'Zebrik W'!$B$7:$L$1000,11,0)))","v":""}]
[{"$f":"RANK(G9,G:G)","v":3},"Radek Krejcirik",1991,"M","Hranice","CZ/M",31449,3,"","",null,"RV 2025",{"$f":"IF(ISERROR(VLOOKUP(B9,'Zebrik W'!$B$7:$L$1000,11,0)),\"\",IF(VLOOKUP(B9,'Zebrik W'!$B$7:$L$1000,11,0)=0,\"--\",VLOOKUP(B9,'Zebrik W'!$B$7:$L$1000,11,0)))","v":""}]
[{"$f":"RANK(G10,G:G)","v":4},"Lukas Kriz",2003,"M","Křižanov","CZ/M",31340,3,"Junior v roce 2025","Junior v roce 2026",null,"RV 2025",{"$f":"IF(ISERROR(VLOOKUP(B10,'Zebrik W'!$B$7:$L$1000,11,0)),\"\",IF(VLOOKUP(B10,'Zebrik W'!$B$7:$L$1000,11,0)=0,\"--\",VLOOKUP(B10,'Zebrik W'!$B$7:$L$1000,11,0)))","v":""}]
[{"$f":"RANK(G11,G:G)","v":5},"Miloslav Cink",1987,"M","Letkov","CZ/C1",30974,3,"","",null,"RV 2025",{"$f":"IF(ISERROR(VLOOKUP(B11,'Zebrik W'!$B$7:$L$1000,11,0)),\"\",IF(VLOOKUP(B11,'Zebrik W'!$B$7:$L$1000,11,0)=0,\"--\",VLOOKUP(B11,'Zebrik W'!$B$7:$L$1000,11,0)))","v":""}]
[{"$f":"RANK(G12,G:G)","v":6},"Jaroslav Tomana",1975,"M","Zbraslavice","CZ/C1",30243,3,"","",null,"RV 2025",{"$f":"IF(ISERROR(VLOOKUP(B12,'Zebrik W'!$B$7:$L$1000,11,0)),\"\",IF(VLOOKUP(B12,'Zebrik W'!$B$7:$L$1000,11,0)=0,\"--\",VLOOKUP(B12,'Zebrik W'!$B$7:$L$1000,11,0)))","v":""}]
[{"$f":"RANK(G13,G:G)","v":7},"Michal Lesinger",1966,"M","Moravská Třebová","CZ/M",30108,3,"","",null,"RV 2025",{"$f":"IF(ISERROR(VLOOKUP(B13,'Zebrik W'!$B$7:$L$1000,11,0)),\"\",IF(VLOOKUP(B13,'Zebrik W'!$B$7:$L$1000,11,0)=0,\"--\",VLOOKUP(B13,'Zebrik W'!$B$7:$L$1000,11,0)))","v":""}]
[{"$f":"RANK(G14,G:G)","v":8},"Radek Kucirek",1973,"M","Havlíčkův Brod","CZ/C2",29844,3,"","",null,"RV 2025",{"$f":"IF(ISERROR(VLOOKUP(B14,'Zebrik W'!$B$7:$L$1000,11,0)),\"\",IF(VLOOKUP(B14,'Zebrik W'!$B$7:$L$1000,11,0)=0,\"--\",VLOOKUP(B14,'Zebrik W'!$B$7:$L$1000,11,0)))","v":""}]
[{"$f":"RANK(G15,G:G)","v":9},"Pavel Trybenekr",1990,"M","Hořice","CZ/C2",29378,3,"","",null,"RV 2025",{"$f":"IF(ISERROR(VLOOKUP(B15,'Zebrik W'!$B$7:$L$1000,11,0)),\"\",IF(VLOOKUP(B15,'Zebrik W'!$B$7:$L$1000,11,0)=0,\"--\",VLOOKUP(B15,'Zebrik W'!$B$7:$L$1000,11,0)))","v":""}]
[{"$f":"RANK(G16,G:G)","v":10},"Jaromir Macoun",1999,"M","Jičín","CZ/C2",29301,3,"","",null,"RV 2025",{"$f":"IF(ISERROR(VLOOKUP(B16,'Zebrik W'!$B$7:$L$1000,11,0)),\"\",IF(VLOOKUP(B16,'Zebrik W'!$B$7:$L$1000,11,0)=0,\"--\",VLOOKUP(B16,'Zebrik W'!$B$7:$L$1000,11,0)))","v":""}]
[{"$f":"RANK(G17,G:G)","v":11},"Karel Novak",1993,"M","Mladá Boleslav","CZ/C1",29123,3,"","",null,"RV 2025",{"$f":"IF(ISERROR(VLOOKUP(B17,'Zebrik W'!$B$7:$L$1000,11,0)),\"\",IF(VLOOKUP(B17,'Zebrik W'!$B$7:$L$1000,11,0)=0,\"--\",VLOOKUP(B17,'Zebrik W'!$B$7:$L$1000,11,0)))","v":""}]
[{"$f":"RANK(G18,G:G)","v":12},"Ivan Novak",1962,"M","Mladá Boleslav","CZ/C1",29001,3,"","",null,"RV 2025",{"$f":"IF(ISERROR(VLOOKUP(B18,'Zebrik W'!$B$7:$L$1000,11,0)),\"\",IF(VLOOKUP(B18,'Zebrik W'!$B$7:$L$1000,11,0)=0,\"--\",VLOOKUP(B18,'Zebrik W'!$B$7:$L$1000,11,0)))","v":""}]
[{"$f":"RANK(G19,G:G)","v":13},"Jiri Kusbach",1959,"M","Luhačovice","CZ/M",28909,3,"","",null,"RV 2025",{"$f":"IF(ISERROR(VLOOKUP(B19,'Zebrik W'!$B$7:$L$1000,11,0)),\"\",IF(VLOOKUP(B19,'Zebrik W'!$B$7:$L$1000,11,0)=0,\"--\",VLOOKUP(B19,'Zebrik W'!$B$7:$L$1000,11,0)))","v":""}]
[{"$f":"RANK(G20,G:G)","v":14},"Michaela Rendlova",2004,"F","Toužim","CZ/C1",28854,3,"Junior v roce 2025","Junior v roce 2026",null,"RV 2025",{"$f":"IF(ISERROR(VLOOKUP(B20,'Zebrik W'!$B$7:$L$1000,11,0)),\"\",IF(VLOOKUP(B20,'Zebrik W'!$B$7:$L$1000,11,0)=0,\"--\",VLOOKUP(B20,'Zebrik W'!$B$7:$L$1000,11,0)))","v":"WRV 2025"}]
[{"$f":"RANK(G21,G:G)","v":15},"Martin Hrivna",1978,"M","Zbraslavice","CZ/C1",28772,3,"","",null,"RV 2025",{"$f":"IF(ISERROR(VLOOKUP(B21,'Zebrik W'!$B$7:$L$1000,11,0)),\"\",IF(VLOOKUP(B21,'Zebrik W'!$B$7:$L$1000,11,0)=0,\"--\",VLOOKUP(B21,'Zebrik W'!$B$7:$L$1000,11,0)))","v":""}]
[{"$f":"RANK(G22,G:G)","v":16},"Jan Stastny",2003,"M","Medlánky","CZ/M",28760,3,"Junior v roce 2025","Junior v roce 2026",null,"RV 2025",{"$f":"IF(ISERROR(VLOOKUP(B22,'Zebrik W'!$B$7:$L$1000,11,0)),\"\",IF(VLOOKUP(B22,'Zebrik W'!$B$7:$L$1000,11,0)=0,\"--\",VLOOKUP(B22,'Zebrik W'!$B$7:$L$1000,11,0)))","v":""}]
[{"$f":"RANK(G23,G:G)","v":17},"Petr Tichy",1973,"M","Zbraslavice","CZ/C1",28522,3,"","",null,"RV 2025",{"$f":"IF(ISERROR(VLOOKUP(B23,'Zebrik W'!$B$7:$L$1000,11,0)),\"\",IF(VLOOKUP(B23,'Zebrik W'!$B$7:$L$1000,11,0)=0,\"--\",VLOOKUP(B23,'Zebrik W'!$B$7:$L$1000,11,0)))","v":""}]
[{"$f":"RANK(G24,G:G)","v":18},"Pavel Louzecky",1957,"M","Přibyslav","CZ/C2",28281,3,"","",null,"RV 2025",{"$f":"IF(ISERROR(VLOOKUP(B24,'Zebrik W'!$B$7:$L$1000,11,0)),\"\",IF(VLOOKUP(B24,'Zebrik W'!$B$7:$L$1000,11,0)=0,\"--\",VLOOKUP(B24,'Zebrik W'!$B$7:$L$1000,11,0)))","v":""}]
[{"$f":"RANK(G25,G:G)","v":19},"Tomas Rendla",1973,"M","Zbraslavice","CZ/C1",28211,3,"","",null,"RV 2025",{"$f":"IF(ISERROR(VLOOKUP(B25,'Zebrik W'!$B$7:$L$1000,11,0)),\"\",IF(VLOOKUP(B25,'Zebrik W'!$B$7:$L$1000,11,0)=0,\"--\",VLOOKUP(B25,'Zebrik W'!$B$7:$L$1000,11,0)))","v":""}]
[{"$f":"RANK(G26,G:G)","v":20},"Ivan Harasta 65",1965,"M","Toužim","CZ/C1",28199,3,"","",null,"RV 2025",{"$f":"IF(ISERROR(VLOOKUP(B26,'Zebrik W'!$B$7:$L$1000,11,0)),\"\",IF(VLOOKUP(B26,'Zebrik W'!$B$7:$L$1000,11,0)=0,\"--\",VLOOKUP(B26,'Zebrik W'!$B$7:$L$1000,11,0)))","v":""}]
[{"$f":"RANK(G27,G:G)","v":21},"David Mach",1994,"M","Hronov","CZ/C2",28142,3,"","",null,null,{"$f":"IF(ISERROR(VLOOKUP(B27,'Zebrik W'!$B$7:$L$1000,11,0)),\"\",IF(VLOOKUP(B27,'Zebrik W'!$B$7:$L$1000,11,0)=0,\"--\",VLOOKUP(B27,'Zebrik W'!$B$7:$L$1000,11,0)))","v":""}]
[{"$f":"RANK(G28,G:G)","v":22},"Petr Krejcirik",1960,"M","Hranice","CZ/M",28137,3,"","",null,null,{"$f":"IF(ISERROR(VLOOKUP(B28,'Zebrik W'!$B$7:$L$1000,11,0)),\"\",IF(VLOOKUP(B28,'Zebrik W'!$B$7:$L$1000,11,0)=0,\"--\",VLOOKUP(B28,'Zebrik W'!$B$7:$L$1000,11,0)))","v":""}]
[{"$f":"RANK(G29,G:G)","v":23},"Hana Treslova",1991,"F","Raná","CZ/C2",27964,3,"","",null,"RV 2025",{"$f":"IF(ISERROR(VLOOKUP(B29,'Zebrik W'!$B$7:$L$1000,11,0)),\"\",IF(VLOOKUP(B29,'Zebrik W'!$B$7:$L$1000,11,0)=0,\"--\",VLOOKUP(B29,'Zebrik W'!$B$7:$L$1000,11,0)))","v":"WRV 2025"}]
[{"$f":"RANK(G30,G:G)","v":24},"Petr Hotovy",1958,"M","Česká Lípa","CZ/C2",27526,3,"","",null,null,{"$f":"IF(ISERROR(VLOOKUP(B30,'Zebrik W'!$B$7:$L$1000,11,0)),\"\",IF(VLOOKUP(B30,'Zebrik W'!$B$7:$L$1000,11,0)=0,\"--\",VLOOKUP(B30,'Zebrik W'!$B$7:$L$1000,11,0)))","v":""}]
[{"$f":"RANK(G31,G:G)","v":25},"Jan Kotan",1982,"M","Letňany","CZ/C1",27475,3,"","",null,null,{"$f":"IF(ISERROR(VLOOKUP(B31,'Zebrik W'!$B$7:$L$1000,11,0)),\"\",IF(VLOOKUP(B31,'Zebrik W'!$B$7:$L$1000,11,0)=0,\"--\",VLOOKUP(B31,'Zebrik W'!$B$7:$L$1000,11,0)))","v":""}]
[{"$f":"RANK(G32,G:G)","v":26},"Pavel Rericha",1967,"M","Moravská Třebová","CZ/M",27321,3,"","",null,null,{"$f":"IF(ISERROR(VLOOKUP(B32,'Zebrik W'!$B$7:$L$1000,11,0)),\"\",IF(VLOOKUP(B32,'Zebrik W'!$B$7:$L$1000,11,0)=0,\"--\",VLOOKUP(B32,'Zebrik W'!$B$7:$L$1000,11,0)))","v":""}]
[{"$f":"RANK(G33,G:G)","v":27},"Barbora Moravcova",1994,"F","Zbraslavice","CZ/C1",27158,3,"","",null,"RV 2025",{"$f":"IF(ISERROR(VLOOKUP(B33,'Zebrik W'!$B$7:$L$1000,11,0)),\"\",IF(VLOOKUP(B33,'Zebrik W'!$B$7:$L$1000,11,0)=0,\"--\",VLOOKUP(B33,'Zebrik W'!$B$7:$L$1000,11,0)))","v":"WRV 2025"}]
[{"$f":"RANK(G34,G:G)","v":28},"Alena Netusilova",1970,"F","Zbraslavice","CZ/C1",27075,3,"","",null,"RV 2025",{"$f":"IF(ISERROR(VLOOKUP(B34,'Zebrik W'!$B$7:$L$1000,11,0)),\"\",IF(VLOOKUP(B34,'Zebrik W'!$B$7:$L$1000,11,0)=0,\"--\",VLOOKUP(B34,'Zebrik W'!$B$7:$L$1000,11,0)))","v":"WRV 2025"}]
[{"$f":"RANK(G35,G:G)","v":29},"Ondrej Bordovsky",1983,"M","Krnov","CZ/M",27047,3,"","",null,null,{"$f":"IF(ISERROR(VLOOKUP(B35,'Zebrik W'!$B$7:$L$1000,11,0)),\"\",IF(VLOOKUP(B35,'Zebrik W'!$B$7:$L$1000,11,0)=0,\"--\",VLOOKUP(B35,'Zebrik W'!$B$7:$L$1000,11,0)))","v":""}]
[{"$f":"RANK(G36,G:G)","v":30},"Vit Morkovsky",2000,"M","Polička","CZ/C2",26966,3,"Junior v roce 2025","",null,"RV 2025",{"$f":"IF(ISERROR(VLOOKUP(B36,'Zebrik W'!$B$7:$L$1000,11,0)),\"\",IF(VLOOKUP(B36,'Zebrik W'!$B$7:$L$1000,11,0)=0,\"--\",VLOOKUP(B36,'Zebrik W'!$B$7:$L$1000,11,0)))","v":""}]
[{"$f":"RANK(G37,G:G)","v":31},"Ondrej Dupal",1966,"M","GAC Benešov","CZ/C1",26940,3,"","",null,null,{"$f":"IF(ISERROR(VLOOKUP(B37,'Zebrik W'!$B$7:$L$1000,11,0)),\"\",IF(VLOOKUP(B37,'Zebrik W'!$B$7:$L$1000,11,0)=0,\"--\",VLOOKUP(B37,'Zebrik W'!$B$7:$L$1000,11,0)))","v":""}]
[{"$f":"RANK(G38,G:G)","v":32},"Jindrich Svorc",1978,"M","Letňany","CZ/C1",26788,3,"","",null,null,{"$f":"IF(ISERROR(VLOOKUP(B38,'Zebrik W'!$B$7:$L$1000,11,0)),\"\",IF(VLOOKUP(B38,'Zebrik W'!$B$7:$L$1000,11,0)=0,\"--\",VLOOKUP(B38,'Zebrik W'!$B$7:$L$1000,11,0)))","v":""}]
[{"$f":"RANK(G39,G:G)","v":33},"Jan Boruvka",1984,"M","Jičín","CZ/C2",26732,3,"","",null,null,{"$f":"IF(ISERROR(VLOOKUP(B39,'Zebrik W'!$B$7:$L$1000,11,0)),\"\",IF(VLOOKUP(B39,'Zebrik W'!$B$7:$L$1000,11,0)=0,\"--\",VLOOKUP(B39,'Zebrik W'!$B$7:$L$1000,11,0)))","v":""}]
[{"$f":"RANK(G40,G:G)","v":34},"Pavel Jiranek",1993,"M","Toužim","CZ/C1",26601,3,"","",null,null,{"$f":"IF(ISERROR(VLOOKUP(B40,'Zebrik W'!$B$7:$L$1000,11,0)),\"\",IF(VLOOKUP(B40,'Zebrik W'!$B$7:$L$1000,11,0)=0,\"--\",VLOOKUP(B40,'Zebrik W'!$B$7:$L$1000,11,0)))","v":""}]
[{"$f":"RANK(G41,G:G)","v":35},"Tereza Koubkova",1999,"F","Vysoké Mýto","CZ/C2",26578,3,"","",null,"RV 2025",{"$f":"IF(ISERROR(VLOOKUP(B41,'Zebrik W'!$B$7:$L$1000,11,0)),\"\",IF(VLOOKUP(B41,'Zebrik W'!$B$7:$L$1000,11,0)=0,\"--\",VLOOKUP(B41,'Zebrik W'!$B$7:$L$1000,11,0)))","v":"WRV 2025"}]
[{"$f":"RANK(G42,G:G)","v":36},"Petr Hofman",1984,"M","Letňany","CZ/C1",26542,3,"","",null,null,{"$f":"IF(ISERROR(VLOOKUP(B42,'Zebrik W'!$B$7:$L$1000,11,0)),\"\",IF(VLOOKUP(B42,'Zebrik W'!$B$7:$L$1000,11,0)=0,\"--\",VLOOKUP(B42,'Zebrik W'!$B$7:$L$1000,11,0)))","v":""}]
[{"$f":"RANK(G43,G:G)","v":37},"Tomas Hynek",2002,"M","Dvůr Králové","CZ/C2",26463,3,"Junior v roce 2025","Junior v roce 2026",null,"RV 2025",{"$f":"IF(ISERROR(VLOOKUP(B43,'Zebrik W'!$B$7:$L$1000,11,0)),\"\",IF(VLOOKUP(B43,'Zebrik W'!$B$7:$L$1000,11,0)=0,\"--\",VLOOKUP(B43,'Zebrik W'!$B$7:$L$1000,11,0)))","v":""}]
[{"$f":"RANK(G44,G:G)","v":37},"Frantisek Vancura",1966,"M","Hranice","CZ/M",26463,3,"","",null,null,{"$f":"IF(ISERROR(VLOOKUP(B44,'Zebrik W'!$B$7:$L$1000,11,0)),\"\",IF(VLOOKUP(B44,'Zebrik W'!$B$7:$L$1000,11,0)=0,\"--\",VLOOKUP(B44,'Zebrik W'!$B$7:$L$1000,11,0)))","v":""}]
[{"$f":"RANK(G45,G:G)","v":39},"David Darnady",1987,"M","Zbraslavice","CZ/C1",26413,3,"","",null,null,{"$f":"IF(ISERROR(VLOOKUP(B45,'Zebrik W'!$B$7:$L$1000,11,0)),\"\",IF(VLOOKUP(B45,'Zebrik W'!$B$7:$L$1000,11,0)=0,\"--\",VLOOKUP(B45,'Zebrik W'!$B$7:$L$1000,11,0)))","v":""}]
[{"$f":"RANK(G46,G:G)","v":40},"Radek Hybl",1980,"M","Šumperk","CZ/M",26337,3,"","",null,null,{"$f":"IF(ISERROR(VLOOKUP(B46,'Zebrik W'!$B$7:$L$1000,11,0)),\"\",IF(VLOOKUP(B46,'Zebrik W'!$B$7:$L$1000,11,0)=0,\"--\",VLOOKUP(B46,'Zebrik W'!$B$7:$L$1000,11,0)))","v":""}]
[{"$f":"RANK(G47,G:G)","v":41},"Lukas Capek",1992,"M","Letňany","CZ/C1",26196,3,"","",null,null,{"$f":"IF(ISERROR(VLOOKUP(B47,'Zebrik W'!$B$7:$L$1000,11,0)),\"\",IF(VLOOKUP(B47,'Zebrik W'!$B$7:$L$1000,11,0)=0,\"--\",VLOOKUP(B47,'Zebrik W'!$B$7:$L$1000,11,0)))","v":""}]
[{"$f":"RANK(G48,G:G)","v":42},"Rene Hudak",1972,"M","Kunovice","CZ/M",25868,3,"","",null,null,{"$f":"IF(ISERROR(VLOOKUP(B48,'Zebrik W'!$B$7:$L$1000,11,0)),\"\",IF(VLOOKUP(B48,'Zebrik W'!$B$7:$L$1000,11,0)=0,\"--\",VLOOKUP(B48,'Zebrik W'!$B$7:$L$1000,11,0)))","v":""}]
[{"$f":"RANK(G49,G:G)","v":43},"Jan Viskot",1995,"M","Břeclav","CZ/M",25719,3,"","",null,null,{"$f":"IF(ISERROR(VLOOKUP(B49,'Zebrik W'!$B$7:$L$1000,11,0)),\"\",IF(VLOOKUP(B49,'Zebrik W'!$B$7:$L$1000,11,0)=0,\"--\",VLOOKUP(B49,'Zebrik W'!$B$7:$L$1000,11,0)))","v":""}]
[{"$f":"RANK(G50,G:G)","v":44},"Roman Jokl",1979,"M","Letkov","CZ/C1",25510,3,"","",null,null,{"$f":"IF(ISERROR(VLOOKUP(B50,'Zebrik W'!$B$7:$L$1000,11,0)),\"\",IF(VLOOKUP(B50,'Zebrik W'!$B$7:$L$1000,11,0)=0,\"--\",VLOOKUP(B50,'Zebrik W'!$B$7:$L$1000,11,0)))","v":""}]
[{"$f":"RANK(G51,G:G)","v":45},"Jan Kantor",1983,"M","Letňany","CZ/C1",25359,3,"","",null,null,{"$f":"IF(ISERROR(VLOOKUP(B51,'Zebrik W'!$B$7:$L$1000,11,0)),\"\",IF(VLOOKUP(B51,'Zebrik W'!$B$7:$L$1000,11,0)=0,\"--\",VLOOKUP(B51,'Zebrik W'!$B$7:$L$1000,11,0)))","v":""}]
[{"$f":"RANK(G52,G:G)","v":46},"Dana Novakova",1965,"F","Mladá Boleslav","CZ/C1",25270,3,"","",null,"RV 2025",{"$f":"IF(ISERROR(VLOOKUP(B52,'Zebrik W'!$B$7:$L$1000,11,0)),\"\",IF(VLOOKUP(B52,'Zebrik W'!$B$7:$L$1000,11,0)=0,\"--\",VLOOKUP(B52,'Zebrik W'!$B$7:$L$1000,11,0)))","v":"WRV 2025"}]
[{"$f":"RANK(G53,G:G)","v":47},"Josef Novak",1981,"M","Kunovice","CZ/M",25139,3,"","",null,null,{"$f":"IF(ISERROR(VLOOKUP(B53,'Zebrik W'!$B$7:$L$1000,11,0)),\"\",IF(VLOOKUP(B53,'Zebrik W'!$B$7:$L$1000,11,0)=0,\"--\",VLOOKUP(B53,'Zebrik W'!$B$7:$L$1000,11,0)))","v":""}]
[{"$f":"RANK(G54,G:G)","v":48},"Jan Hruska",1988,"M","Tábor","CZ/C1",24600,3,"","",null,null,{"$f":"IF(ISERROR(VLOOKUP(B54,'Zebrik W'!$B$7:$L$1000,11,0)),\"\",IF(VLOOKUP(B54,'Zebrik W'!$B$7:$L$1000,11,0)=0,\"--\",VLOOKUP(B54,'Zebrik W'!$B$7:$L$1000,11,0)))","v":""}]
[{"$f":"RANK(G55,G:G)","v":49},"Josef Busek",1967,"M","Hosín","CZ/C1",24554,3,"","",null,null,{"$f":"IF(ISERROR(VLOOKUP(B55,'Zebrik W'!$B$7:$L$1000,11,0)),\"\",IF(VLOOKUP(B55,'Zebrik W'!$B$7:$L$1000,11,0)=0,\"--\",VLOOKUP(B55,'Zebrik W'!$B$7:$L$1000,11,0)))","v":""}]
[{"$f":"RANK(G56,G:G)","v":50},"Michal Cechmanek",1978,"M","Kroměříž","CZ/M",24523,3,"","",null,null,{"$f":"IF(ISERROR(VLOOKUP(B56,'Zebrik W'!$B$7:$L$1000,11,0)),\"\",IF(VLOOKUP(B56,'Zebrik W'!$B$7:$L$1000,11,0)=0,\"--\",VLOOKUP(B56,'Zebrik W'!$B$7:$L$1000,11,0)))","v":""}]
[{"$f":"RANK(G57,G:G)","v":51},"Vaclav Marel",1974,"M","Jaroměř","CZ/C2",24264,3,"","",null,null,{"$f":"IF(ISERROR(VLOOKUP(B57,'Zebrik W'!$B$7:$L$1000,11,0)),\"\",IF(VLOOKUP(B57,'Zebrik W'!$B$7:$L$1000,11,0)=0,\"--\",VLOOKUP(B57,'Zebrik W'!$B$7:$L$1000,11,0)))","v":""}]
[{"$f":"RANK(G58,G:G)","v":52},"Jiri Steiger",1969,"M","Olomouc","CZ/M",24231,3,"","",null,null,{"$f":"IF(ISERROR(VLOOKUP(B58,'Zebrik W'!$B$7:$L$1000,11,0)),\"\",IF(VLOOKUP(B58,'Zebrik W'!$B$7:$L$1000,11,0)=0,\"--\",VLOOKUP(B58,'Zebrik W'!$B$7:$L$1000,11,0)))","v":""}]
[{"$f":"RANK(G59,G:G)","v":53},"Martin Urner",1974,"M","Letňany","CZ/C1",24229,3,"","",null,null,{"$f":"IF(ISERROR(VLOOKUP(B59,'Zebrik W'!$B$7:$L$1000,11,0)),\"\",IF(VLOOKUP(B59,'Zebrik W'!$B$7:$L$1000,11,0)=0,\"--\",VLOOKUP(B59,'Zebrik W'!$B$7:$L$1000,11,0)))","v":""}]
[{"$f":"RANK(G60,G:G)","v":54},"Petr Koutny",1971,"M","Křižanov","CZ/M",24205,3,"","",null,null,{"$f":"IF(ISERROR(VLOOKUP(B60,'Zebrik W'!$B$7:$L$1000,11,0)),\"\",IF(VLOOKUP(B60,'Zebrik W'!$B$7:$L$1000,11,0)=0,\"--\",VLOOKUP(B60,'Zebrik W'!$B$7:$L$1000,11,0)))","v":""}]
[{"$f":"RANK(G61,G:G)","v":55},"Vladimir Hammer",2000,"M","Letkov","CZ/C1",24167,3,"Junior v roce 2025","",null,null,{"$f":"IF(ISERROR(VLOOKUP(B61,'Zebrik W'!$B$7:$L$1000,11,0)),\"\",IF(VLOOKUP(B61,'Zebrik W'!$B$7:$L$1000,11,0)=0,\"--\",VLOOKUP(B61,'Zebrik W'!$B$7:$L$1000,11,0)))","v":""}]
[{"$f":"RANK(G62,G:G)","v":56},"Marek Pechanec",1970,"M","Luhačovice","CZ/M",24158,3,"","",null,null,{"$f":"IF(ISERROR(VLOOKUP(B62,'Zebrik W'!$B$7:$L$1000,11,0)),\"\",IF(VLOOKUP(B62,'Zebrik W'!$B$7:$L$1000,11,0)=0,\"--\",VLOOKUP(B62,'Zebrik W'!$B$7:$L$1000,11,0)))","v":""}]
[{"$f":"RANK(G63,G:G)","v":57},"Petr Panek",1975,"M","Dvůr Králové","CZ/C2",24049,3,"","",null,null,{"$f":"IF(ISERROR(VLOOKUP(B63,'Zebrik W'!$B$7:$L$1000,11,0)),\"\",IF(VLOOKUP(B63,'Zebrik W'!$B$7:$L$1000,11,0)=0,\"--\",VLOOKUP(B63,'Zebrik W'!$B$7:$L$1000,11,0)))","v":""}]
[{"$f":"RANK(G64,G:G)","v":58},"Jakub Malik",1999,"M","Letňany","CZ/C1",23968,3,"","",null,null,{"$f":"IF(ISERROR(VLOOKUP(B64,'Zebrik W'!$B$7:$L$1000,11,0)),\"\",IF(VLOOKUP(B64,'Zebrik W'!$B$7:$L$1000,11,0)=0,\"--\",VLOOKUP(B64,'Zebrik W'!$B$7:$L$1000,11,0)))","v":""}]
[{"$f":"RANK(G65,G:G)","v":59},"Jiri Stepanek",1956,"M","Moravská Třebová","CZ/M",23821,3,"","",null,null,{"$f":"IF(ISERROR(VLOOKUP(B65,'Zebrik W'!$B$7:$L$1000,11,0)),\"\",IF(VLOOKUP(B65,'Zebrik W'!$B$7:$L$1000,11,0)=0,\"--\",VLOOKUP(B65,'Zebrik W'!$B$7:$L$1000,11,0)))","v":""}]
[{"$f":"RANK(G66,G:G)","v":60},"Jan Beran",1999,"M","Kladno","CZ/C1",23766,3,"","",null,null,{"$f":"IF(ISERROR(VLOOKUP(B66,'Zebrik W'!$B$7:$L$1000,11,0)),\"\",IF(VLOOKUP(B66,'Zebrik W'!$B$7:$L$1000,11,0)=0,\"--\",VLOOKUP(B66,'Zebrik W'!$B$7:$L$1000,11,0)))","v":""}]
[{"$f":"RANK(G67,G:G)","v":61},"Jaroslav Buryan",1953,"M","Zábřeh","CZ/M",23746,3,"","",null,null,{"$f":"IF(ISERROR(VLOOKUP(B67,'Zebrik W'!$B$7:$L$1000,11,0)),\"\",IF(VLOOKUP(B67,'Zebrik W'!$B$7:$L$1000,11,0)=0,\"--\",VLOOKUP(B67,'Zebrik W'!$B$7:$L$1000,11,0)))","v":""}]
[{"$f":"RANK(G68,G:G)","v":62},"Zdenek Boruvka 86",1986,"M","Jičín","CZ/C2",23670,3,"","",null,null,{"$f":"IF(ISERROR(VLOOKUP(B68,'Zebrik W'!$B$7:$L$1000,11,0)),\"\",IF(VLOOKUP(B68,'Zebrik W'!$B$7:$L$1000,11,0)=0,\"--\",VLOOKUP(B68,'Zebrik W'!$B$7:$L$1000,11,0)))","v":""}]
[{"$f":"RANK(G69,G:G)","v":63},"Michaela Krizova",2001,"F","Přibyslav","CZ/C2",23631,3,"Junior v roce 2025","Junior v roce 2026",null,"RV 2025",{"$f":"IF(ISERROR(VLOOKUP(B69,'Zebrik W'!$B$7:$L$1000,11,0)),\"\",IF(VLOOKUP(B69,'Zebrik W'!$B$7:$L$1000,11,0)=0,\"--\",VLOOKUP(B69,'Zebrik W'!$B$7:$L$1000,11,0)))","v":"WRV 2025"}]
[{"$f":"RANK(G70,G:G)","v":64},"Stepan Bartos",2004,"M","Kolín","CZ/C1",23332,3,"Junior v roce 2025","Junior v roce 2026",null,null,{"$f":"IF(ISERROR(VLOOKUP(B70,'Zebrik W'!$B$7:$L$1000,11,0)),\"\",IF(VLOOKUP(B70,'Zebrik W'!$B$7:$L$1000,11,0)=0,\"--\",VLOOKUP(B70,'Zebrik W'!$B$7:$L$1000,11,0)))","v":""}]
[{"$f":"RANK(G71,G:G)","v":65},"Martin Urban",1971,"M","Frýdlant","CZ/M",23289,3,"","",null,null,{"$f":"IF(ISERROR(VLOOKUP(B71,'Zebrik W'!$B$7:$L$1000,11,0)),\"\",IF(VLOOKUP(B71,'Zebrik W'!$B$7:$L$1000,11,0)=0,\"--\",VLOOKUP(B71,'Zebrik W'!$B$7:$L$1000,11,0)))","v":""}]
[{"$f":"RANK(G72,G:G)","v":66},"Jan Dersak 69",1969,"M","Kralupy","CZ/C1",23287,3,{"$f":"IF(C72=\"(prázdné)\",\"\",IF(($I$4-C72)>25,\"\",\"Junior v roce \"&$I$4))","v":""},{"$f":"IF(C72=\"(prázdné)\",\"\",IF(($J$4-C72)>25,\"\",\"Junior v roce \"&$J$4))","v":""},null,null,{"$f":"IF(ISERROR(VLOOKUP(B72,'Zebrik W'!$B$7:$L$1000,11,0)),\"\",IF(VLOOKUP(B72,'Zebrik W'!$B$7:$L$1000,11,0)=0,\"--\",VLOOKUP(B72,'Zebrik W'!$B$7:$L$1000,11,0)))","v":""}]
[{"$f":"RANK(G73,G:G)","v":67},"Vratislav Sram",1966,"M","Broumov","CZ/C2",23259,3,"","",null,null,{"$f":"IF(ISERROR(VLOOKUP(B73,'Zebrik W'!$B$7:$L$1000,11,0)),\"\",IF(VLOOKUP(B73,'Zebrik W'!$B$7:$L$1000,11,0)=0,\"--\",VLOOKUP(B73,'Zebrik W'!$B$7:$L$1000,11,0)))","v":""}]
[{"$f":"RANK(G74,G:G)","v":68},"Jana Treslova",1963,"F","Raná","CZ/C2",23080,3,"","",null,"RV 2025",{"$f":"IF(ISERROR(VLOOKUP(B74,'Zebrik W'!$B$7:$L$1000,11,0)),\"\",IF(VLOOKUP(B74,'Zebrik W'!$B$7:$L$1000,11,0)=0,\"--\",VLOOKUP(B74,'Zebrik W'!$B$7:$L$1000,11,0)))","v":"WRV 2025"}]
[{"$f":"RANK(G75,G:G)","v":69},"David Sachl",1978,"M","Kralupy","CZ/C1",23027,3,"","",null,null,{"$f":"IF(ISERROR(VLOOKUP(B75,'Zebrik W'!$B$7:$L$1000,11,0)),\"\",IF(VLOOKUP(B75,'Zebrik W'!$B$7:$L$1000,11,0)=0,\"--\",VLOOKUP(B75,'Zebrik W'!$B$7:$L$1000,11,0)))","v":""}]
[{"$f":"RANK(G76,G:G)","v":70},"Zdenek Balcarek",1967,"M","Kroměříž","CZ/M",23026,3,"","",null,null,{"$f":"IF(ISERROR(VLOOKUP(B76,'Zebrik W'!$B$7:$L$1000,11,0)),\"\",IF(VLOOKUP(B76,'Zebrik W'!$B$7:$L$1000,11,0)=0,\"--\",VLOOKUP(B76,'Zebrik W'!$B$7:$L$1000,11,0)))","v":""}]
[{"$f":"RANK(G77,G:G)","v":71},"Radek Zima 78",1978,"M","Hodkovice","CZ/C2",22940,3,"","",null,null,{"$f":"IF(ISERROR(VLOOKUP(B77,'Zebrik W'!$B$7:$L$1000,11,0)),\"\",IF(VLOOKUP(B77,'Zebrik W'!$B$7:$L$1000,11,0)=0,\"--\",VLOOKUP(B77,'Zebrik W'!$B$7:$L$1000,11,0)))","v":""}]
[{"$f":"RANK(G78,G:G)","v":72},"Jan Simon",1970,"M","Kralupy","CZ/C1",22932,3,"","",null,null,{"$f":"IF(ISERROR(VLOOKUP(B78,'Zebrik W'!$B$7:$L$1000,11,0)),\"\",IF(VLOOKUP(B78,'Zebrik W'!$B$7:$L$1000,11,0)=0,\"--\",VLOOKUP(B78,'Zebrik W'!$B$7:$L$1000,11,0)))","v":""}]
[{"$f":"RANK(G79,G:G)","v":73},"Jiri Vondracek",1989,"M","Kladno","CZ/C1",22885,3,"","",null,null,{"$f":"IF(ISERROR(VLOOKUP(B79,'Zebrik W'!$B$7:$L$1000,11,0)),\"\",IF(VLOOKUP(B79,'Zebrik W'!$B$7:$L$1000,11,0)=0,\"--\",VLOOKUP(B79,'Zebrik W'!$B$7:$L$1000,11,0)))","v":""}]
[{"$f":"RANK(G80,G:G)","v":74},"Marek Blatak",1969,"M","Šumperk","CZ/M",22843,3,"","",null,null,{"$f":"IF(ISERROR(VLOOKUP(B80,'Zebrik W'!$B$7:$L$1000,11,0)),\"\",IF(VLOOKUP(B80,'Zebrik W'!$B$7:$L$1000,11,0)=0,\"--\",VLOOKUP(B80,'Zebrik W'!$B$7:$L$1000,11,0)))","v":""}]
[{"$f":"RANK(G81,G:G)","v":75},"David Zapletal",1970,"M","Mladá Boleslav","CZ/C1",22779,3,"","",null,null,{"$f":"IF(ISERROR(VLOOKUP(B81,'Zebrik W'!$B$7:$L$1000,11,0)),\"\",IF(VLOOKUP(B81,'Zebrik W'!$B$7:$L$1000,11,0)=0,\"--\",VLOOKUP(B81,'Zebrik W'!$B$7:$L$1000,11,0)))","v":""}]
[{"$f":"RANK(G82,G:G)","v":76},"Radim Sobek",1977,"M","Hranice","CZ/M",22599,3,"","",null,null,{"$f":"IF(ISERROR(VLOOKUP(B82,'Zebrik W'!$B$7:$L$1000,11,0)),\"\",IF(VLOOKUP(B82,'Zebrik W'!$B$7:$L$1000,11,0)=0,\"--\",VLOOKUP(B82,'Zebrik W'!$B$7:$L$1000,11,0)))","v":""}]
[{"$f":"RANK(G83,G:G)","v":77},"Jan Ratz",1987,"M","Zbraslavice","CZ/C1",22264,3,"","",null,null,{"$f":"IF(ISERROR(VLOOKUP(B83,'Zebrik W'!$B$7:$L$1000,11,0)),\"\",IF(VLOOKUP(B83,'Zebrik W'!$B$7:$L$1000,11,0)=0,\"--\",VLOOKUP(B83,'Zebrik W'!$B$7:$L$1000,11,0)))","v":""}]
[{"$f":"RANK(G84,G:G)","v":78},"David Vrchota",1976,"M","Jaroměř","CZ/C2",22261,3,"","",null,null,{"$f":"IF(ISERROR(VLOOKUP(B84,'Zebrik W'!$B$7:$L$1000,11,0)),\"\",IF(VLOOKUP(B84,'Zebrik W'!$B$7:$L$1000,11,0)=0,\"--\",VLOOKUP(B84,'Zebrik W'!$B$7:$L$1000,11,0)))","v":""}]
[{"$f":"RANK(G85,G:G)","v":79},"Jan Smaha",1958,"M","Česká Lípa","CZ/C2",22235,3,"","",null,null,{"$f":"IF(ISERROR(VLOOKUP(B85,'Zebrik W'!$B$7:$L$1000,11,0)),\"\",IF(VLOOKUP(B85,'Zebrik W'!$B$7:$L$1000,11,0)=0,\"--\",VLOOKUP(B85,'Zebrik W'!$B$7:$L$1000,11,0)))","v":""}]
[{"$f":"RANK(G86,G:G)","v":80},"Milan Svoboda 80",1980,"M","Havlíčkův Brod","CZ/C2",22009,3,"","",null,null,{"$f":"IF(ISERROR(VLOOKUP(B86,'Zebrik W'!$B$7:$L$1000,11,0)),\"\",IF(VLOOKUP(B86,'Zebrik W'!$B$7:$L$1000,11,0)=0,\"--\",VLOOKUP(B86,'Zebrik W'!$B$7:$L$1000,11,0)))","v":""}]
[{"$f":"RANK(G87,G:G)","v":81},"Jan Sponer",1988,"M","Medlánky","CZ/M",21791,3,"","",null,null,{"$f":"IF(ISERROR(VLOOKUP(B87,'Zebrik W'!$B$7:$L$1000,11,0)),\"\",IF(VLOOKUP(B87,'Zebrik W'!$B$7:$L$1000,11,0)=0,\"--\",VLOOKUP(B87,'Zebrik W'!$B$7:$L$1000,11,0)))","v":""}]
[{"$f":"RANK(G88,G:G)","v":82},"Jan Podhrazsky",1976,"M","Šumperk","CZ/M",21688,3,"","",null,null,{"$f":"IF(ISERROR(VLOOKUP(B88,'Zebrik W'!$B$7:$L$1000,11,0)),\"\",IF(VLOOKUP(B88,'Zebrik W'!$B$7:$L$1000,11,0)=0,\"--\",VLOOKUP(B88,'Zebrik W'!$B$7:$L$1000,11,0)))","v":""}]
[{"$f":"RANK(G89,G:G)","v":83},"Michal Cupak",1991,"M","Medlánky","CZ/M",21502,3,"","",null,null,{"$f":"IF(ISERROR(VLOOKUP(B89,'Zebrik W'!$B$7:$L$1000,11,0)),\"\",IF(VLOOKUP(B89,'Zebrik W'!$B$7:$L$1000,11,0)=0,\"--\",VLOOKUP(B89,'Zebrik W'!$B$7:$L$1000,11,0)))","v":""}]
[{"$f":"RANK(G90,G:G)","v":84},"Jan Horak",1971,"M","Zbraslavice","CZ/C1",21347,3,"","",null,null,{"$f":"IF(ISERROR(VLOOKUP(B90,'Zebrik W'!$B$7:$L$1000,11,0)),\"\",IF(VLOOKUP(B90,'Zebrik W'!$B$7:$L$1000,11,0)=0,\"--\",VLOOKUP(B90,'Zebrik W'!$B$7:$L$1000,11,0)))","v":""}]
[{"$f":"RANK(G91,G:G)","v":85},"Jiri Fousek",1990,"M","Raná","CZ/C2",21303,3,"","",null,null,{"$f":"IF(ISERROR(VLOOKUP(B91,'Zebrik W'!$B$7:$L$1000,11,0)),\"\",IF(VLOOKUP(B91,'Zebrik W'!$B$7:$L$1000,11,0)=0,\"--\",VLOOKUP(B91,'Zebrik W'!$B$7:$L$1000,11,0)))","v":""}]
[{"$f":"RANK(G92,G:G)","v":86},"Martin Ficnar",1971,"M","Šumperk","CZ/M",21216,3,"","",null,null,{"$f":"IF(ISERROR(VLOOKUP(B92,'Zebrik W'!$B$7:$L$1000,11,0)),\"\",IF(VLOOKUP(B92,'Zebrik W'!$B$7:$L$1000,11,0)=0,\"--\",VLOOKUP(B92,'Zebrik W'!$B$7:$L$1000,11,0)))","v":""}]
[{"$f":"RANK(G93,G:G)","v":87},"Martin Kriz",1968,"M","Přibyslav","CZ/C2",21138,3,"","",null,null,{"$f":"IF(ISERROR(VLOOKUP(B93,'Zebrik W'!$B$7:$L$1000,11,0)),\"\",IF(VLOOKUP(B93,'Zebrik W'!$B$7:$L$1000,11,0)=0,\"--\",VLOOKUP(B93,'Zebrik W'!$B$7:$L$1000,11,0)))","v":""}]
[{"$f":"RANK(G94,G:G)","v":88},"Petr Havelka",1997,"M","Zbraslavice","CZ/C1",21127,3,"","",null,null,{"$f":"IF(ISERROR(VLOOKUP(B94,'Zebrik W'!$B$7:$L$1000,11,0)),\"\",IF(VLOOKUP(B94,'Zebrik W'!$B$7:$L$1000,11,0)=0,\"--\",VLOOKUP(B94,'Zebrik W'!$B$7:$L$1000,11,0)))","v":""}]
[{"$f":"RANK(G95,G:G)","v":89},"Zdenek Boruvka 54",1954,"M","Jičín","CZ/C2",21105,3,"","",null,null,{"$f":"IF(ISERROR(VLOOKUP(B95,'Zebrik W'!$B$7:$L$1000,11,0)),\"\",IF(VLOOKUP(B95,'Zebrik W'!$B$7:$L$1000,11,0)=0,\"--\",VLOOKUP(B95,'Zebrik W'!$B$7:$L$1000,11,0)))","v":""}]
[{"$f":"RANK(G96,G:G)","v":90},"Martin Svarc",1981,"M","Olomouc","CZ/M",20877,3,"","",null,null,{"$f":"IF(ISERROR(VLOOKUP(B96,'Zebrik W'!$B$7:$L$1000,11,0)),\"\",IF(VLOOKUP(B96,'Zebrik W'!$B$7:$L$1000,11,0)=0,\"--\",VLOOKUP(B96,'Zebrik W'!$B$7:$L$1000,11,0)))","v":""}]
[{"$f":"RANK(G97,G:G)","v":91},"Jiri Prochazka",1971,"M","Toužim","CZ/C1",20876,3,"","",null,null,{"$f":"IF(ISERROR(VLOOKUP(B97,'Zebrik W'!$B$7:$L$1000,11,0)),\"\",IF(VLOOKUP(B97,'Zebrik W'!$B$7:$L$1000,11,0)=0,\"--\",VLOOKUP(B97,'Zebrik W'!$B$7:$L$1000,11,0)))","v":""}]
[{"$f":"RANK(G98,G:G)","v":92},"Martin Zahalka",1987,"M","Staňkov","CZ/C1",20542,3,"","",null,null,{"$f":"IF(ISERROR(VLOOKUP(B98,'Zebrik W'!$B$7:$L$1000,11,0)),\"\",IF(VLOOKUP(B98,'Zebrik W'!$B$7:$L$1000,11,0)=0,\"--\",VLOOKUP(B98,'Zebrik W'!$B$7:$L$1000,11,0)))","v":""}]
[{"$f":"RANK(G99,G:G)","v":93},"Jan Pazour",1979,"M","Dvůr Králové","CZ/C2",20360,3,"","",null,null,{"$f":"IF(ISERROR(VLOOKUP(B99,'Zebrik W'!$B$7:$L$1000,11,0)),\"\",IF(VLOOKUP(B99,'Zebrik W'!$B$7:$L$1000,11,0)=0,\"--\",VLOOKUP(B99,'Zebrik W'!$B$7:$L$1000,11,0)))","v":""}]
[{"$f":"RANK(G100,G:G)","v":94},"Rostislav Stryk",1972,"M","Frýdlant","CZ/M",20312,3,"","",null,null,{"$f":"IF(ISERROR(VLOOKUP(B100,'Zebrik W'!$B$7:$L$1000,11,0)),\"\",IF(VLOOKUP(B100,'Zebrik W'!$B$7:$L$1000,11,0)=0,\"--\",VLOOKUP(B100,'Zebrik W'!$B$7:$L$1000,11,0)))","v":""}]
[{"$f":"RANK(G101,G:G)","v":95},"Katerina Vojtova",1983,"F","Slaný","CZ/C1",20303,3,"","",null,"RV 2025",{"$f":"IF(ISERROR(VLOOKUP(B101,'Zebrik W'!$B$7:$L$1000,11,0)),\"\",IF(VLOOKUP(B101,'Zebrik W'!$B$7:$L$1000,11,0)=0,\"--\",VLOOKUP(B101,'Zebrik W'!$B$7:$L$1000,11,0)))","v":"WRV 2025"}]
[{"$f":"RANK(G102,G:G)","v":96},"Josef Kolman",1983,"M","Letňany","CZ/C1",20255,3,"","",null,null,{"$f":"IF(ISERROR(VLOOKUP(B102,'Zebrik W'!$B$7:$L$1000,11,0)),\"\",IF(VLOOKUP(B102,'Zebrik W'!$B$7:$L$1000,11,0)=0,\"--\",VLOOKUP(B102,'Zebrik W'!$B$7:$L$1000,11,0)))","v":""}]
[{"$f":"RANK(G103,G:G)","v":97},"Marek Kornec",1957,"M","Dvůr Králové","CZ/C2",20249,3,"","",null,null,{"$f":"IF(ISERROR(VLOOKUP(B103,'Zebrik W'!$B$7:$L$1000,11,0)),\"\",IF(VLOOKUP(B103,'Zebrik W'!$B$7:$L$1000,11,0)=0,\"--\",VLOOKUP(B103,'Zebrik W'!$B$7:$L$1000,11,0)))","v":""}]
[{"$f":"RANK(G104,G:G)","v":98},"Stepan Obrovsky",1990,"M","Frýdlant","CZ/M",20245,3,"","",null,null,{"$f":"IF(ISERROR(VLOOKUP(B104,'Zebrik W'!$B$7:$L$1000,11,0)),\"\",IF(VLOOKUP(B104,'Zebrik W'!$B$7:$L$1000,11,0)=0,\"--\",VLOOKUP(B104,'Zebrik W'!$B$7:$L$1000,11,0)))","v":""}]
[{"$f":"RANK(G105,G:G)","v":99},"Jan Smekal",1976,"M","Zbraslavice","CZ/C1",20208,3,"","",null,null,{"$f":"IF(ISERROR(VLOOKUP(B105,'Zebrik W'!$B$7:$L$1000,11,0)),\"\",IF(VLOOKUP(B105,'Zebrik W'!$B$7:$L$1000,11,0)=0,\"--\",VLOOKUP(B105,'Zebrik W'!$B$7:$L$1000,11,0)))","v":""}]
[{"$f":"RANK(G106,G:G)","v":100},"Frantisek Myska",1968,"M","Most","CZ/C2",20164,3,"","",null,null,{"$f":"IF(ISERROR(VLOOKUP(B106,'Zebrik W'!$B$7:$L$1000,11,0)),\"\",IF(VLOOKUP(B106,'Zebrik W'!$B$7:$L$1000,11,0)=0,\"--\",VLOOKUP(B106,'Zebrik W'!$B$7:$L$1000,11,0)))","v":""}]
[{"$f":"RANK(G107,G:G)","v":101},"Jan Mareth",1979,"M","Frýdlant","CZ/M",20128,3,"","",null,null,{"$f":"IF(ISERROR(VLOOKUP(B107,'Zebrik W'!$B$7:$L$1000,11,0)),\"\",IF(VLOOKUP(B107,'Zebrik W'!$B$7:$L$1000,11,0)=0,\"--\",VLOOKUP(B107,'Zebrik W'!$B$7:$L$1000,11,0)))","v":""}]
[{"$f":"RANK(G108,G:G)","v":102},"Zdenek Schenk",1972,"M","Hranice","CZ/M",20051,3,"","",null,null,{"$f":"IF(ISERROR(VLOOKUP(B108,'Zebrik W'!$B$7:$L$1000,11,0)),\"\",IF(VLOOKUP(B108,'Zebrik W'!$B$7:$L$1000,11,0)=0,\"--\",VLOOKUP(B108,'Zebrik W'!$B$7:$L$1000,11,0)))","v":""}]
[{"$f":"RANK(G109,G:G)","v":103},"Petr Setka",1971,"M","Letkov","CZ/C1",19996,3,"","",null,null,{"$f":"IF(ISERROR(VLOOKUP(B109,'Zebrik W'!$B$7:$L$1000,11,0)),\"\",IF(VLOOKUP(B109,'Zebrik W'!$B$7:$L$1000,11,0)=0,\"--\",VLOOKUP(B109,'Zebrik W'!$B$7:$L$1000,11,0)))","v":""}]
[{"$f":"RANK(G110,G:G)","v":104},"Viktor Becan",1979,"M","Vlašim","CZ/C1",19921,3,"","",null,null,{"$f":"IF(ISERROR(VLOOKUP(B110,'Zebrik W'!$B$7:$L$1000,11,0)),\"\",IF(VLOOKUP(B110,'Zebrik W'!$B$7:$L$1000,11,0)=0,\"--\",VLOOKUP(B110,'Zebrik W'!$B$7:$L$1000,11,0)))","v":""}]
[{"$f":"RANK(G111,G:G)","v":105},"Stepan Filakovsky",2005,"M","Medlánky","CZ/M",19803,3,"Junior v roce 2025","Junior v roce 2026",null,null,{"$f":"IF(ISERROR(VLOOKUP(B111,'Zebrik W'!$B$7:$L$1000,11,0)),\"\",IF(VLOOKUP(B111,'Zebrik W'!$B$7:$L$1000,11,0)=0,\"--\",VLOOKUP(B111,'Zebrik W'!$B$7:$L$1000,11,0)))","v":""}]
[{"$f":"RANK(G112,G:G)","v":106},"Michal Drab",1969,"M","Letkov","CZ/C1",19766,3,"","",null,null,{"$f":"IF(ISERROR(VLOOKUP(B112,'Zebrik W'!$B$7:$L$1000,11,0)),\"\",IF(VLOOKUP(B112,'Zebrik W'!$B$7:$L$1000,11,0)=0,\"--\",VLOOKUP(B112,'Zebrik W'!$B$7:$L$1000,11,0)))","v":""}]
[{"$f":"RANK(G113,G:G)","v":107},"Daniel Dvorak",1980,"M","Letkov","CZ/C1",19751,3,"","",null,null,{"$f":"IF(ISERROR(VLOOKUP(B113,'Zebrik W'!$B$7:$L$1000,11,0)),\"\",IF(VLOOKUP(B113,'Zebrik W'!$B$7:$L$1000,11,0)=0,\"--\",VLOOKUP(B113,'Zebrik W'!$B$7:$L$1000,11,0)))","v":""}]
[{"$f":"RANK(G114,G:G)","v":108},"Alex Gulich",2005,"M","Slaný","CZ/C1",19731,3,"Junior v roce 2025","Junior v roce 2026",null,null,{"$f":"IF(ISERROR(VLOOKUP(B114,'Zebrik W'!$B$7:$L$1000,11,0)),\"\",IF(VLOOKUP(B114,'Zebrik W'!$B$7:$L$1000,11,0)=0,\"--\",VLOOKUP(B114,'Zebrik W'!$B$7:$L$1000,11,0)))","v":""}]
[{"$f":"RANK(G115,G:G)","v":109},"Pavel Liska",1965,"M","Roudnice","CZ/C2",19700,3,"","",null,null,{"$f":"IF(ISERROR(VLOOKUP(B115,'Zebrik W'!$B$7:$L$1000,11,0)),\"\",IF(VLOOKUP(B115,'Zebrik W'!$B$7:$L$1000,11,0)=0,\"--\",VLOOKUP(B115,'Zebrik W'!$B$7:$L$1000,11,0)))","v":""}]
[{"$f":"RANK(G116,G:G)","v":110},"Tomas Kulhavy",2001,"M","Liberec","CZ/C2",19570,3,"Junior v roce 2025","Junior v roce 2026",null,null,{"$f":"IF(ISERROR(VLOOKUP(B116,'Zebrik W'!$B$7:$L$1000,11,0)),\"\",IF(VLOOKUP(B116,'Zebrik W'!$B$7:$L$1000,11,0)=0,\"--\",VLOOKUP(B116,'Zebrik W'!$B$7:$L$1000,11,0)))","v":""}]
[{"$f":"RANK(G117,G:G)","v":111},"Wolfgang Sluka",1942,"M","Liberec","CZ/C2",19534,3,"","",null,null,{"$f":"IF(ISERROR(VLOOKUP(B117,'Zebrik W'!$B$7:$L$1000,11,0)),\"\",IF(VLOOKUP(B117,'Zebrik W'!$B$7:$L$1000,11,0)=0,\"--\",VLOOKUP(B117,'Zebrik W'!$B$7:$L$1000,11,0)))","v":""}]
[{"$f":"RANK(G118,G:G)","v":112},"Karel Horalek",1976,"M","Olomouc","CZ/M",19398,3,"","",null,null,{"$f":"IF(ISERROR(VLOOKUP(B118,'Zebrik W'!$B$7:$L$1000,11,0)),\"\",IF(VLOOKUP(B118,'Zebrik W'!$B$7:$L$1000,11,0)=0,\"--\",VLOOKUP(B118,'Zebrik W'!$B$7:$L$1000,11,0)))","v":""}]
[{"$f":"RANK(G119,G:G)","v":113},"Eliska Kudejova",2006,"F","Strakonice","CZ/C1",19318,3,"Junior v roce 2025","Junior v roce 2026",null,null,{"$f":"IF(ISERROR(VLOOKUP(B119,'Zebrik W'!$B$7:$L$1000,11,0)),\"\",IF(VLOOKUP(B119,'Zebrik W'!$B$7:$L$1000,11,0)=0,\"--\",VLOOKUP(B119,'Zebrik W'!$B$7:$L$1000,11,0)))","v":"--"}]
[{"$f":"RANK(G120,G:G)","v":114},"Vojtech Vach 03",2003,"M","Vrchlabí","CZ/C2",19297,3,"Junior v roce 2025","Junior v roce 2026",null,null,{"$f":"IF(ISERROR(VLOOKUP(B120,'Zebrik W'!$B$7:$L$1000,11,0)),\"\",IF(VLOOKUP(B120,'Zebrik W'!$B$7:$L$1000,11,0)=0,\"--\",VLOOKUP(B120,'Zebrik W'!$B$7:$L$1000,11,0)))","v":""}]
[{"$f":"RANK(G121,G:G)","v":115},"Jiri Koudela",1974,"M","Vyškov","CZ/M",19235,3,"","",null,null,{"$f":"IF(ISERROR(VLOOKUP(B121,'Zebrik W'!$B$7:$L$1000,11,0)),\"\",IF(VLOOKUP(B121,'Zebrik W'!$B$7:$L$1000,11,0)=0,\"--\",VLOOKUP(B121,'Zebrik W'!$B$7:$L$1000,11,0)))","v":""}]
[{"$f":"RANK(G122,G:G)","v":116},"Jiri Hula",1973,"M","Slaný","CZ/C1",19224,3,"","",null,null,{"$f":"IF(ISERROR(VLOOKUP(B122,'Zebrik W'!$B$7:$L$1000,11,0)),\"\",IF(VLOOKUP(B122,'Zebrik W'!$B$7:$L$1000,11,0)=0,\"--\",VLOOKUP(B122,'Zebrik W'!$B$7:$L$1000,11,0)))","v":""}]
[{"$f":"RANK(G123,G:G)","v":117},"Petr Babak",1973,"M","Hořice","CZ/C2",19194,3,"","",null,null,{"$f":"IF(ISERROR(VLOOKUP(B123,'Zebrik W'!$B$7:$L$1000,11,0)),\"\",IF(VLOOKUP(B123,'Zebrik W'!$B$7:$L$1000,11,0)=0,\"--\",VLOOKUP(B123,'Zebrik W'!$B$7:$L$1000,11,0)))","v":""}]
[{"$f":"RANK(G124,G:G)","v":118},"Lukas Maly",1998,"M","Vysoké Mýto","CZ/C2",19008,3,"","",null,null,{"$f":"IF(ISERROR(VLOOKUP(B124,'Zebrik W'!$B$7:$L$1000,11,0)),\"\",IF(VLOOKUP(B124,'Zebrik W'!$B$7:$L$1000,11,0)=0,\"--\",VLOOKUP(B124,'Zebrik W'!$B$7:$L$1000,11,0)))","v":""}]
[{"$f":"RANK(G125,G:G)","v":119},"Petr Rozhon",1972,"M","Hosín","CZ/C1",18983,3,"","",null,null,{"$f":"IF(ISERROR(VLOOKUP(B125,'Zebrik W'!$B$7:$L$1000,11,0)),\"\",IF(VLOOKUP(B125,'Zebrik W'!$B$7:$L$1000,11,0)=0,\"--\",VLOOKUP(B125,'Zebrik W'!$B$7:$L$1000,11,0)))","v":""}]
[{"$f":"RANK(G126,G:G)","v":120},"Ondrej Teichman",1984,"M","Dvůr Králové","CZ/C2",18969,3,"","",null,null,{"$f":"IF(ISERROR(VLOOKUP(B126,'Zebrik W'!$B$7:$L$1000,11,0)),\"\",IF(VLOOKUP(B126,'Zebrik W'!$B$7:$L$1000,11,0)=0,\"--\",VLOOKUP(B126,'Zebrik W'!$B$7:$L$1000,11,0)))","v":""}]
[{"$f":"RANK(G127,G:G)","v":121},"Jaroslav Potmesil",1964,"M","Zbraslavice","CZ/C1",18967,3,"","",null,null,{"$f":"IF(ISERROR(VLOOKUP(B127,'Zebrik W'!$B$7:$L$1000,11,0)),\"\",IF(VLOOKUP(B127,'Zebrik W'!$B$7:$L$1000,11,0)=0,\"--\",VLOOKUP(B127,'Zebrik W'!$B$7:$L$1000,11,0)))","v":""}]
[{"$f":"RANK(G128,G:G)","v":122},"Jan Vozeh",1995,"M","Rakovník","CZ/C1",18828,3,"","",null,null,{"$f":"IF(ISERROR(VLOOKUP(B128,'Zebrik W'!$B$7:$L$1000,11,0)),\"\",IF(VLOOKUP(B128,'Zebrik W'!$B$7:$L$1000,11,0)=0,\"--\",VLOOKUP(B128,'Zebrik W'!$B$7:$L$1000,11,0)))","v":""}]
[{"$f":"RANK(G129,G:G)","v":123},"Jaroslav Sima",1972,"M","Chomutov","CZ/C2",18735,3,"","",null,null,{"$f":"IF(ISERROR(VLOOKUP(B129,'Zebrik W'!$B$7:$L$1000,11,0)),\"\",IF(VLOOKUP(B129,'Zebrik W'!$B$7:$L$1000,11,0)=0,\"--\",VLOOKUP(B129,'Zebrik W'!$B$7:$L$1000,11,0)))","v":""}]
[{"$f":"RANK(G130,G:G)","v":124},"Tomas Ditrt",1969,"M","Podhořany","CZ/C2",18654,3,"","",null,null,{"$f":"IF(ISERROR(VLOOKUP(B130,'Zebrik W'!$B$7:$L$1000,11,0)),\"\",IF(VLOOKUP(B130,'Zebrik W'!$B$7:$L$1000,11,0)=0,\"--\",VLOOKUP(B130,'Zebrik W'!$B$7:$L$1000,11,0)))","v":""}]
[{"$f":"RANK(G131,G:G)","v":125},"Miloslav Hulmak",1963,"M","Hosín","CZ/C1",18624,3,"","",null,null,{"$f":"IF(ISERROR(VLOOKUP(B131,'Zebrik W'!$B$7:$L$1000,11,0)),\"\",IF(VLOOKUP(B131,'Zebrik W'!$B$7:$L$1000,11,0)=0,\"--\",VLOOKUP(B131,'Zebrik W'!$B$7:$L$1000,11,0)))","v":""}]
[{"$f":"RANK(G132,G:G)","v":126},"Ladislav Prokes",1954,"M","Vrchlabí","CZ/C2",18564,3,"","",null,null,{"$f":"IF(ISERROR(VLOOKUP(B132,'Zebrik W'!$B$7:$L$1000,11,0)),\"\",IF(VLOOKUP(B132,'Zebrik W'!$B$7:$L$1000,11,0)=0,\"--\",VLOOKUP(B132,'Zebrik W'!$B$7:$L$1000,11,0)))","v":""}]
[{"$f":"RANK(G133,G:G)","v":127},"Jaromir Pauer",1974,"M","Hosín","CZ/C1",18432,3,"","",null,null,{"$f":"IF(ISERROR(VLOOKUP(B133,'Zebrik W'!$B$7:$L$1000,11,0)),\"\",IF(VLOOKUP(B133,'Zebrik W'!$B$7:$L$1000,11,0)=0,\"--\",VLOOKUP(B133,'Zebrik W'!$B$7:$L$1000,11,0)))","v":""}]
[{"$f":"RANK(G134,G:G)","v":128},"Petr Kolomaznik",1981,"M","Šumperk","CZ/M",18324,3,"","",null,null,{"$f":"IF(ISERROR(VLOOKUP(B134,'Zebrik W'!$B$7:$L$1000,11,0)),\"\",IF(VLOOKUP(B134,'Zebrik W'!$B$7:$L$1000,11,0)=0,\"--\",VLOOKUP(B134,'Zebrik W'!$B$7:$L$1000,11,0)))","v":""}]
[{"$f":"RANK(G135,G:G)","v":129},"Vaclav Svoboda",1970,"M","Letkov","CZ/C1",18272,3,"","",null,null,{"$f":"IF(ISERROR(VLOOKUP(B135,'Zebrik W'!$B$7:$L$1000,11,0)),\"\",IF(VLOOKUP(B135,'Zebrik W'!$B$7:$L$1000,11,0)=0,\"--\",VLOOKUP(B135,'Zebrik W'!$B$7:$L$1000,11,0)))","v":""}]
[{"$f":"RANK(G136,G:G)","v":130},"Petr Bartak",1984,"M","Letkov","CZ/C1",18268,3,{"$f":"IF(C136=\"(prázdné)\",\"\",IF(($I$4-C136)>25,\"\",\"Junior v roce \"&$I$4))","v":""},{"$f":"IF(C136=\"(prázdné)\",\"\",IF(($J$4-C136)>25,\"\",\"Junior v roce \"&$J$4))","v":""},null,null,{"$f":"IF(ISERROR(VLOOKUP(B136,'Zebrik W'!$B$7:$L$1000,11,0)),\"\",IF(VLOOKUP(B136,'Zebrik W'!$B$7:$L$1000,11,0)=0,\"--\",VLOOKUP(B136,'Zebrik W'!$B$7:$L$1000,11,0)))","v":""}]
[{"$f":"RANK(G137,G:G)","v":131},"Jiri Maier 66",1966,"M","Raná","CZ/C2",18256,3,"","",null,null,{"$f":"IF(ISERROR(VLOOKUP(B137,'Zebrik W'!$B$7:$L$1000,11,0)),\"\",IF(VLOOKUP(B137,'Zebrik W'!$B$7:$L$1000,11,0)=0,\"--\",VLOOKUP(B137,'Zebrik W'!$B$7:$L$1000,11,0)))","v":""}]
[{"$f":"RANK(G138,G:G)","v":132},"Josef Novotny",1983,"M","Přibyslav","CZ/C2",18100,2,"","",null,null,{"$f":"IF(ISERROR(VLOOKUP(B138,'Zebrik W'!$B$7:$L$1000,11,0)),\"\",IF(VLOOKUP(B138,'Zebrik W'!$B$7:$L$1000,11,0)=0,\"--\",VLOOKUP(B138,'Zebrik W'!$B$7:$L$1000,11,0)))","v":""}]
[{"$f":"RANK(G139,G:G)","v":133},"David Popovsky",1976,"M","Rakovník","CZ/C1",18059,3,"","",null,null,{"$f":"IF(ISERROR(VLOOKUP(B139,'Zebrik W'!$B$7:$L$1000,11,0)),\"\",IF(VLOOKUP(B139,'Zebrik W'!$B$7:$L$1000,11,0)=0,\"--\",VLOOKUP(B139,'Zebrik W'!$B$7:$L$1000,11,0)))","v":""}]
[{"$f":"RANK(G140,G:G)","v":134},"Petr Lonsky",1965,"M","Toužim","CZ/C1",17920,3,"","",null,null,{"$f":"IF(ISERROR(VLOOKUP(B140,'Zebrik W'!$B$7:$L$1000,11,0)),\"\",IF(VLOOKUP(B140,'Zebrik W'!$B$7:$L$1000,11,0)=0,\"--\",VLOOKUP(B140,'Zebrik W'!$B$7:$L$1000,11,0)))","v":""}]
[{"$f":"RANK(G141,G:G)","v":135},"Jan Hybner",1977,"M","Liberec","CZ/C2",17888,3,"","",null,null,{"$f":"IF(ISERROR(VLOOKUP(B141,'Zebrik W'!$B$7:$L$1000,11,0)),\"\",IF(VLOOKUP(B141,'Zebrik W'!$B$7:$L$1000,11,0)=0,\"--\",VLOOKUP(B141,'Zebrik W'!$B$7:$L$1000,11,0)))","v":""}]
[{"$f":"RANK(G142,G:G)","v":136},"Vojtech Hajek",1987,"M","Mladá Boleslav","CZ/C1",17838,3,"","",null,null,{"$f":"IF(ISERROR(VLOOKUP(B142,'Zebrik W'!$B$7:$L$1000,11,0)),\"\",IF(VLOOKUP(B142,'Zebrik W'!$B$7:$L$1000,11,0)=0,\"--\",VLOOKUP(B142,'Zebrik W'!$B$7:$L$1000,11,0)))","v":""}]
[{"$f":"RANK(G143,G:G)","v":137},"Pavlina Horackova",1965,"F","Šumperk","CZ/M",17765,3,"","",null,null,{"$f":"IF(ISERROR(VLOOKUP(B143,'Zebrik W'!$B$7:$L$1000,11,0)),\"\",IF(VLOOKUP(B143,'Zebrik W'!$B$7:$L$1000,11,0)=0,\"--\",VLOOKUP(B143,'Zebrik W'!$B$7:$L$1000,11,0)))","v":"--"}]
[{"$f":"RANK(G144,G:G)","v":138},"Jan Florian",1992,"M","Zbraslavice","CZ/C1",17754,3,"","",null,null,{"$f":"IF(ISERROR(VLOOKUP(B144,'Zebrik W'!$B$7:$L$1000,11,0)),\"\",IF(VLOOKUP(B144,'Zebrik W'!$B$7:$L$1000,11,0)=0,\"--\",VLOOKUP(B144,'Zebrik W'!$B$7:$L$1000,11,0)))","v":""}]
[{"$f":"RANK(G145,G:G)","v":139},"Jakub Kohn",1992,"M","Prostějov","CZ/M",17573,3,"","",null,null,{"$f":"IF(ISERROR(VLOOKUP(B145,'Zebrik W'!$B$7:$L$1000,11,0)),\"\",IF(VLOOKUP(B145,'Zebrik W'!$B$7:$L$1000,11,0)=0,\"--\",VLOOKUP(B145,'Zebrik W'!$B$7:$L$1000,11,0)))","v":""}]
[{"$f":"RANK(G146,G:G)","v":140},"Petr Havrlant",1965,"M","Šumperk","CZ/M",17354,3,"","",null,null,{"$f":"IF(ISERROR(VLOOKUP(B146,'Zebrik W'!$B$7:$L$1000,11,0)),\"\",IF(VLOOKUP(B146,'Zebrik W'!$B$7:$L$1000,11,0)=0,\"--\",VLOOKUP(B146,'Zebrik W'!$B$7:$L$1000,11,0)))","v":""}]
[{"$f":"RANK(G147,G:G)","v":141},"Eduard Niko",1988,"M","Zbraslavice","CZ/C1",17332,2,"","",null,null,{"$f":"IF(ISERROR(VLOOKUP(B147,'Zebrik W'!$B$7:$L$1000,11,0)),\"\",IF(VLOOKUP(B147,'Zebrik W'!$B$7:$L$1000,11,0)=0,\"--\",VLOOKUP(B147,'Zebrik W'!$B$7:$L$1000,11,0)))","v":""}]
[{"$f":"RANK(G148,G:G)","v":142},"Jan Louda",1986,"M","Mladá Boleslav","CZ/C1",17229,2,"","",null,null,{"$f":"IF(ISERROR(VLOOKUP(B148,'Zebrik W'!$B$7:$L$1000,11,0)),\"\",IF(VLOOKUP(B148,'Zebrik W'!$B$7:$L$1000,11,0)=0,\"--\",VLOOKUP(B148,'Zebrik W'!$B$7:$L$1000,11,0)))","v":""}]
[{"$f":"RANK(G149,G:G)","v":143},"Frantisek Suna",1983,"M","Hosín","CZ/C1",17103,3,"","",null,null,{"$f":"IF(ISERROR(VLOOKUP(B149,'Zebrik W'!$B$7:$L$1000,11,0)),\"\",IF(VLOOKUP(B149,'Zebrik W'!$B$7:$L$1000,11,0)=0,\"--\",VLOOKUP(B149,'Zebrik W'!$B$7:$L$1000,11,0)))","v":""}]
[{"$f":"RANK(G150,G:G)","v":144},"Petr Masik",2001,"M","Zábřeh","CZ/M",16938,3,"Junior v roce 2025","Junior v roce 2026",null,null,{"$f":"IF(ISERROR(VLOOKUP(B150,'Zebrik W'!$B$7:$L$1000,11,0)),\"\",IF(VLOOKUP(B150,'Zebrik W'!$B$7:$L$1000,11,0)=0,\"--\",VLOOKUP(B150,'Zebrik W'!$B$7:$L$1000,11,0)))","v":""}]
[{"$f":"RANK(G151,G:G)","v":145},"Radek Zima 75",1975,"M","Břeclav","CZ/M",16877,3,"","",null,null,{"$f":"IF(ISERROR(VLOOKUP(B151,'Zebrik W'!$B$7:$L$1000,11,0)),\"\",IF(VLOOKUP(B151,'Zebrik W'!$B$7:$L$1000,11,0)=0,\"--\",VLOOKUP(B151,'Zebrik W'!$B$7:$L$1000,11,0)))","v":""}]
[{"$f":"RANK(G152,G:G)","v":146},"Tomas Prikryl",1973,"M","Vyškov","CZ/M",16835,3,"","",null,null,{"$f":"IF(ISERROR(VLOOKUP(B152,'Zebrik W'!$B$7:$L$1000,11,0)),\"\",IF(VLOOKUP(B152,'Zebrik W'!$B$7:$L$1000,11,0)=0,\"--\",VLOOKUP(B152,'Zebrik W'!$B$7:$L$1000,11,0)))","v":""}]
[{"$f":"RANK(G153,G:G)","v":147},"Milan Meisner",1961,"M","Dvůr Králové","CZ/C2",16748,3,"","",null,null,{"$f":"IF(ISERROR(VLOOKUP(B153,'Zebrik W'!$B$7:$L$1000,11,0)),\"\",IF(VLOOKUP(B153,'Zebrik W'!$B$7:$L$1000,11,0)=0,\"--\",VLOOKUP(B153,'Zebrik W'!$B$7:$L$1000,11,0)))","v":""}]
[{"$f":"RANK(G154,G:G)","v":148},"Petr Malcek",1965,"M","Letňany","CZ/C1",16727,3,"","",null,null,{"$f":"IF(ISERROR(VLOOKUP(B154,'Zebrik W'!$B$7:$L$1000,11,0)),\"\",IF(VLOOKUP(B154,'Zebrik W'!$B$7:$L$1000,11,0)=0,\"--\",VLOOKUP(B154,'Zebrik W'!$B$7:$L$1000,11,0)))","v":""}]
[{"$f":"RANK(G155,G:G)","v":149},"Roman Lanzendorf",1964,"M","Letkov","CZ/C1",16703,3,"","",null,null,{"$f":"IF(ISERROR(VLOOKUP(B155,'Zebrik W'!$B$7:$L$1000,11,0)),\"\",IF(VLOOKUP(B155,'Zebrik W'!$B$7:$L$1000,11,0)=0,\"--\",VLOOKUP(B155,'Zebrik W'!$B$7:$L$1000,11,0)))","v":""}]
[{"$f":"RANK(G156,G:G)","v":150},"Leos Strnadek",1983,"M","Hodkovice","CZ/C2",16563,2,"","",null,null,{"$f":"IF(ISERROR(VLOOKUP(B156,'Zebrik W'!$B$7:$L$1000,11,0)),\"\",IF(VLOOKUP(B156,'Zebrik W'!$B$7:$L$1000,11,0)=0,\"--\",VLOOKUP(B156,'Zebrik W'!$B$7:$L$1000,11,0)))","v":""}]
[{"$f":"RANK(G157,G:G)","v":151},"Martin Cicvarek",1966,"M","Liberec","CZ/C2",16474,3,"","",null,null,{"$f":"IF(ISERROR(VLOOKUP(B157,'Zebrik W'!$B$7:$L$1000,11,0)),\"\",IF(VLOOKUP(B157,'Zebrik W'!$B$7:$L$1000,11,0)=0,\"--\",VLOOKUP(B157,'Zebrik W'!$B$7:$L$1000,11,0)))","v":""}]
[{"$f":"RANK(G158,G:G)","v":152},"Radoslav Pur",1973,"M","Hosín","CZ/C1",16412,3,"","",null,null,{"$f":"IF(ISERROR(VLOOKUP(B158,'Zebrik W'!$B$7:$L$1000,11,0)),\"\",IF(VLOOKUP(B158,'Zebrik W'!$B$7:$L$1000,11,0)=0,\"--\",VLOOKUP(B158,'Zebrik W'!$B$7:$L$1000,11,0)))","v":""}]
[{"$f":"RANK(G159,G:G)","v":153},"Martin Fric",1967,"M","Raná","CZ/C2",16335,3,"","",null,null,{"$f":"IF(ISERROR(VLOOKUP(B159,'Zebrik W'!$B$7:$L$1000,11,0)),\"\",IF(VLOOKUP(B159,'Zebrik W'!$B$7:$L$1000,11,0)=0,\"--\",VLOOKUP(B159,'Zebrik W'!$B$7:$L$1000,11,0)))","v":""}]
[{"$f":"RANK(G160,G:G)","v":154},"Frantisek Komarek",1985,"M","Zbraslavice","CZ/C1",16184,3,"","",null,null,{"$f":"IF(ISERROR(VLOOKUP(B160,'Zebrik W'!$B$7:$L$1000,11,0)),\"\",IF(VLOOKUP(B160,'Zebrik W'!$B$7:$L$1000,11,0)=0,\"--\",VLOOKUP(B160,'Zebrik W'!$B$7:$L$1000,11,0)))","v":""}]
[{"$f":"RANK(G161,G:G)","v":155},"Tibor Hezina",2002,"M","Křižanov","CZ/M",16063,3,"Junior v roce 2025","Junior v roce 2026",null,null,{"$f":"IF(ISERROR(VLOOKUP(B161,'Zebrik W'!$B$7:$L$1000,11,0)),\"\",IF(VLOOKUP(B161,'Zebrik W'!$B$7:$L$1000,11,0)=0,\"--\",VLOOKUP(B161,'Zebrik W'!$B$7:$L$1000,11,0)))","v":""}]
[{"$f":"RANK(G162,G:G)","v":156},"Martin Picka",1974,"M","Tábor","CZ/C1",16055,3,"","",null,null,{"$f":"IF(ISERROR(VLOOKUP(B162,'Zebrik W'!$B$7:$L$1000,11,0)),\"\",IF(VLOOKUP(B162,'Zebrik W'!$B$7:$L$1000,11,0)=0,\"--\",VLOOKUP(B162,'Zebrik W'!$B$7:$L$1000,11,0)))","v":""}]
[{"$f":"RANK(G163,G:G)","v":157},"Tomas Ptacovsky",1981,"M","Letňany","CZ/C1",15976,3,"","",null,null,{"$f":"IF(ISERROR(VLOOKUP(B163,'Zebrik W'!$B$7:$L$1000,11,0)),\"\",IF(VLOOKUP(B163,'Zebrik W'!$B$7:$L$1000,11,0)=0,\"--\",VLOOKUP(B163,'Zebrik W'!$B$7:$L$1000,11,0)))","v":""}]
[{"$f":"RANK(G164,G:G)","v":158},"Jan Zanda",1983,"M","Letkov","CZ/C1",15914,3,"","",null,null,{"$f":"IF(ISERROR(VLOOKUP(B164,'Zebrik W'!$B$7:$L$1000,11,0)),\"\",IF(VLOOKUP(B164,'Zebrik W'!$B$7:$L$1000,11,0)=0,\"--\",VLOOKUP(B164,'Zebrik W'!$B$7:$L$1000,11,0)))","v":""}]
[{"$f":"RANK(G165,G:G)","v":159},"Olga Mokosova",1970,"F","Jihlava","CZ/M",15852,3,"","",null,null,{"$f":"IF(ISERROR(VLOOKUP(B165,'Zebrik W'!$B$7:$L$1000,11,0)),\"\",IF(VLOOKUP(B165,'Zebrik W'!$B$7:$L$1000,11,0)=0,\"--\",VLOOKUP(B165,'Zebrik W'!$B$7:$L$1000,11,0)))","v":"--"}]
[{"$f":"RANK(G166,G:G)","v":160},"Jiri Maier 99",1999,"M","Raná","CZ/C2",15770,3,"","",null,null,{"$f":"IF(ISERROR(VLOOKUP(B166,'Zebrik W'!$B$7:$L$1000,11,0)),\"\",IF(VLOOKUP(B166,'Zebrik W'!$B$7:$L$1000,11,0)=0,\"--\",VLOOKUP(B166,'Zebrik W'!$B$7:$L$1000,11,0)))","v":""}]
[{"$f":"RANK(G167,G:G)","v":161},"Ales Vyhnal",1989,"M","Kralupy","CZ/C1",15589,3,"","",null,null,{"$f":"IF(ISERROR(VLOOKUP(B167,'Zebrik W'!$B$7:$L$1000,11,0)),\"\",IF(VLOOKUP(B167,'Zebrik W'!$B$7:$L$1000,11,0)=0,\"--\",VLOOKUP(B167,'Zebrik W'!$B$7:$L$1000,11,0)))","v":""}]
[{"$f":"RANK(G168,G:G)","v":162},"Petr Stepanek",1989,"M","Moravská Třebová","CZ/M",15586,2,"","",null,null,{"$f":"IF(ISERROR(VLOOKUP(B168,'Zebrik W'!$B$7:$L$1000,11,0)),\"\",IF(VLOOKUP(B168,'Zebrik W'!$B$7:$L$1000,11,0)=0,\"--\",VLOOKUP(B168,'Zebrik W'!$B$7:$L$1000,11,0)))","v":""}]
[{"$f":"RANK(G169,G:G)","v":163},"Martin Stastny",2005,"M","Medlánky","CZ/M",15561,3,"Junior v roce 2025","Junior v roce 2026",null,null,{"$f":"IF(ISERROR(VLOOKUP(B169,'Zebrik W'!$B$7:$L$1000,11,0)),\"\",IF(VLOOKUP(B169,'Zebrik W'!$B$7:$L$1000,11,0)=0,\"--\",VLOOKUP(B169,'Zebrik W'!$B$7:$L$1000,11,0)))","v":""}]
[{"$f":"RANK(G170,G:G)","v":164},"Radim Tomala",1972,"M","Prostějov","CZ/M",15502,3,"","",null,null,{"$f":"IF(ISERROR(VLOOKUP(B170,'Zebrik W'!$B$7:$L$1000,11,0)),\"\",IF(VLOOKUP(B170,'Zebrik W'!$B$7:$L$1000,11,0)=0,\"--\",VLOOKUP(B170,'Zebrik W'!$B$7:$L$1000,11,0)))","v":""}]
[{"$f":"RANK(G171,G:G)","v":165},"Lubomir Motl",1959,"M","Kyjov","CZ/M",15429,2,"","",null,null,{"$f":"IF(ISERROR(VLOOKUP(B171,'Zebrik W'!$B$7:$L$1000,11,0)),\"\",IF(VLOOKUP(B171,'Zebrik W'!$B$7:$L$1000,11,0)=0,\"--\",VLOOKUP(B171,'Zebrik W'!$B$7:$L$1000,11,0)))","v":""}]
[{"$f":"RANK(G172,G:G)","v":166},"Vaclav Hruza",1965,"M","Břeclav","CZ/M",15085,3,"","",null,null,{"$f":"IF(ISERROR(VLOOKUP(B172,'Zebrik W'!$B$7:$L$1000,11,0)),\"\",IF(VLOOKUP(B172,'Zebrik W'!$B$7:$L$1000,11,0)=0,\"--\",VLOOKUP(B172,'Zebrik W'!$B$7:$L$1000,11,0)))","v":""}]
[{"$f":"RANK(G173,G:G)","v":167},"Miroslav Koci",1961,"M","Žamberk","CZ/C2",14847,3,"","",null,null,{"$f":"IF(ISERROR(VLOOKUP(B173,'Zebrik W'!$B$7:$L$1000,11,0)),\"\",IF(VLOOKUP(B173,'Zebrik W'!$B$7:$L$1000,11,0)=0,\"--\",VLOOKUP(B173,'Zebrik W'!$B$7:$L$1000,11,0)))","v":""}]
[{"$f":"RANK(G174,G:G)","v":168},"Vit Prokop",1987,"M","Medlánky","CZ/M",14826,3,"","",null,null,{"$f":"IF(ISERROR(VLOOKUP(B174,'Zebrik W'!$B$7:$L$1000,11,0)),\"\",IF(VLOOKUP(B174,'Zebrik W'!$B$7:$L$1000,11,0)=0,\"--\",VLOOKUP(B174,'Zebrik W'!$B$7:$L$1000,11,0)))","v":""}]
[{"$f":"RANK(G175,G:G)","v":169},"Martin Suchy",1969,"M","Hranice","CZ/M",14805,2,"","",null,null,{"$f":"IF(ISERROR(VLOOKUP(B175,'Zebrik W'!$B$7:$L$1000,11,0)),\"\",IF(VLOOKUP(B175,'Zebrik W'!$B$7:$L$1000,11,0)=0,\"--\",VLOOKUP(B175,'Zebrik W'!$B$7:$L$1000,11,0)))","v":""}]
[{"$f":"RANK(G176,G:G)","v":170},"Petr Jiranek 63",1962,"M","Toužim","CZ/C1",14746,3,"","",null,null,{"$f":"IF(ISERROR(VLOOKUP(B176,'Zebrik W'!$B$7:$L$1000,11,0)),\"\",IF(VLOOKUP(B176,'Zebrik W'!$B$7:$L$1000,11,0)=0,\"--\",VLOOKUP(B176,'Zebrik W'!$B$7:$L$1000,11,0)))","v":""}]
[{"$f":"RANK(G177,G:G)","v":171},"Roman Schotli",1970,"M","Hranice","CZ/M",14743,3,"","",null,null,{"$f":"IF(ISERROR(VLOOKUP(B177,'Zebrik W'!$B$7:$L$1000,11,0)),\"\",IF(VLOOKUP(B177,'Zebrik W'!$B$7:$L$1000,11,0)=0,\"--\",VLOOKUP(B177,'Zebrik W'!$B$7:$L$1000,11,0)))","v":""}]
[{"$f":"RANK(G178,G:G)","v":172},"Marek Svancara",1976,"M","GAC Benešov","CZ/C1",14652,2,"","",null,null,{"$f":"IF(ISERROR(VLOOKUP(B178,'Zebrik W'!$B$7:$L$1000,11,0)),\"\",IF(VLOOKUP(B178,'Zebrik W'!$B$7:$L$1000,11,0)=0,\"--\",VLOOKUP(B178,'Zebrik W'!$B$7:$L$1000,11,0)))","v":""}]
[{"$f":"RANK(G179,G:G)","v":173},"Katerina Vancurova",2002,"F","Hranice","CZ/M",14586,3,"Junior v roce 2025","Junior v roce 2026",null,null,{"$f":"IF(ISERROR(VLOOKUP(B179,'Zebrik W'!$B$7:$L$1000,11,0)),\"\",IF(VLOOKUP(B179,'Zebrik W'!$B$7:$L$1000,11,0)=0,\"--\",VLOOKUP(B179,'Zebrik W'!$B$7:$L$1000,11,0)))","v":"--"}]
[{"$f":"RANK(G180,G:G)","v":174},"Jan Zahradka",1981,"M","Hodkovice","CZ/C2",14522,3,"","",null,null,{"$f":"IF(ISERROR(VLOOKUP(B180,'Zebrik W'!$B$7:$L$1000,11,0)),\"\",IF(VLOOKUP(B180,'Zebrik W'!$B$7:$L$1000,11,0)=0,\"--\",VLOOKUP(B180,'Zebrik W'!$B$7:$L$1000,11,0)))","v":""}]
[{"$f":"RANK(G181,G:G)","v":175},"Lukas Koukal",1991,"M","Letkov","CZ/C1",14487,2,"","",null,null,{"$f":"IF(ISERROR(VLOOKUP(B181,'Zebrik W'!$B$7:$L$1000,11,0)),\"\",IF(VLOOKUP(B181,'Zebrik W'!$B$7:$L$1000,11,0)=0,\"--\",VLOOKUP(B181,'Zebrik W'!$B$7:$L$1000,11,0)))","v":""}]
[{"$f":"RANK(G182,G:G)","v":176},"Michal Vranek",1993,"M","Hosín","CZ/C1",14453,3,"","",null,null,{"$f":"IF(ISERROR(VLOOKUP(B182,'Zebrik W'!$B$7:$L$1000,11,0)),\"\",IF(VLOOKUP(B182,'Zebrik W'!$B$7:$L$1000,11,0)=0,\"--\",VLOOKUP(B182,'Zebrik W'!$B$7:$L$1000,11,0)))","v":""}]
[{"$f":"RANK(G183,G:G)","v":177},"Jan Zezula",1979,"M","Letňany","CZ/C1",14441,3,"","",null,null,{"$f":"IF(ISERROR(VLOOKUP(B183,'Zebrik W'!$B$7:$L$1000,11,0)),\"\",IF(VLOOKUP(B183,'Zebrik W'!$B$7:$L$1000,11,0)=0,\"--\",VLOOKUP(B183,'Zebrik W'!$B$7:$L$1000,11,0)))","v":""}]
[{"$f":"RANK(G184,G:G)","v":178},"Pavel Foldyna",1976,"M","Frýdlant","CZ/M",14405,2,"","",null,null,{"$f":"IF(ISERROR(VLOOKUP(B184,'Zebrik W'!$B$7:$L$1000,11,0)),\"\",IF(VLOOKUP(B184,'Zebrik W'!$B$7:$L$1000,11,0)=0,\"--\",VLOOKUP(B184,'Zebrik W'!$B$7:$L$1000,11,0)))","v":""}]
[{"$f":"RANK(G185,G:G)","v":179},"Adam Sugl",1987,"M","Vyškov","CZ/M",14351,3,"","",null,null,{"$f":"IF(ISERROR(VLOOKUP(B185,'Zebrik W'!$B$7:$L$1000,11,0)),\"\",IF(VLOOKUP(B185,'Zebrik W'!$B$7:$L$1000,11,0)=0,\"--\",VLOOKUP(B185,'Zebrik W'!$B$7:$L$1000,11,0)))","v":""}]
[{"$f":"RANK(G186,G:G)","v":180},"Pavel Haluza",1966,"M","Prostějov","CZ/M",14184,3,"","",null,null,{"$f":"IF(ISERROR(VLOOKUP(B186,'Zebrik W'!$B$7:$L$1000,11,0)),\"\",IF(VLOOKUP(B186,'Zebrik W'!$B$7:$L$1000,11,0)=0,\"--\",VLOOKUP(B186,'Zebrik W'!$B$7:$L$1000,11,0)))","v":""}]
[{"$f":"RANK(G187,G:G)","v":181},"Karel Benisek 76",1976,"M","Toužim","CZ/C1",13894,2,"","",null,null,{"$f":"IF(ISERROR(VLOOKUP(B187,'Zebrik W'!$B$7:$L$1000,11,0)),\"\",IF(VLOOKUP(B187,'Zebrik W'!$B$7:$L$1000,11,0)=0,\"--\",VLOOKUP(B187,'Zebrik W'!$B$7:$L$1000,11,0)))","v":""}]
[{"$f":"RANK(G188,G:G)","v":182},"Danes Grula",1961,"M","Medlánky","CZ/M",13884,2,"","",null,null,{"$f":"IF(ISERROR(VLOOKUP(B188,'Zebrik W'!$B$7:$L$1000,11,0)),\"\",IF(VLOOKUP(B188,'Zebrik W'!$B$7:$L$1000,11,0)=0,\"--\",VLOOKUP(B188,'Zebrik W'!$B$7:$L$1000,11,0)))","v":""}]
[{"$f":"RANK(G189,G:G)","v":183},"Pavel Koudelka",1973,"M","Křižanov","CZ/M",13866,3,"","",null,null,{"$f":"IF(ISERROR(VLOOKUP(B189,'Zebrik W'!$B$7:$L$1000,11,0)),\"\",IF(VLOOKUP(B189,'Zebrik W'!$B$7:$L$1000,11,0)=0,\"--\",VLOOKUP(B189,'Zebrik W'!$B$7:$L$1000,11,0)))","v":""}]
[{"$f":"RANK(G190,G:G)","v":184},"Lukas Hynek",1979,"M","Dvůr Králové","CZ/C2",13853,2,"","",null,null,{"$f":"IF(ISERROR(VLOOKUP(B190,'Zebrik W'!$B$7:$L$1000,11,0)),\"\",IF(VLOOKUP(B190,'Zebrik W'!$B$7:$L$1000,11,0)=0,\"--\",VLOOKUP(B190,'Zebrik W'!$B$7:$L$1000,11,0)))","v":""}]
[{"$f":"RANK(G191,G:G)","v":185},"Miroslav Sklenar",1964,"M","Žamberk","CZ/C2",13716,3,"","",null,null,{"$f":"IF(ISERROR(VLOOKUP(B191,'Zebrik W'!$B$7:$L$1000,11,0)),\"\",IF(VLOOKUP(B191,'Zebrik W'!$B$7:$L$1000,11,0)=0,\"--\",VLOOKUP(B191,'Zebrik W'!$B$7:$L$1000,11,0)))","v":""}]
[{"$f":"RANK(G192,G:G)","v":186},"Slavomir Piskaty 84",1984,"M","Kunovice","CZ/M",13704,2,"","",null,null,{"$f":"IF(ISERROR(VLOOKUP(B192,'Zebrik W'!$B$7:$L$1000,11,0)),\"\",IF(VLOOKUP(B192,'Zebrik W'!$B$7:$L$1000,11,0)=0,\"--\",VLOOKUP(B192,'Zebrik W'!$B$7:$L$1000,11,0)))","v":""}]
[{"$f":"RANK(G193,G:G)","v":187},"Jan Vavrin",1987,"M","Vysoké Mýto","CZ/C2",13689,2,"","",null,null,{"$f":"IF(ISERROR(VLOOKUP(B193,'Zebrik W'!$B$7:$L$1000,11,0)),\"\",IF(VLOOKUP(B193,'Zebrik W'!$B$7:$L$1000,11,0)=0,\"--\",VLOOKUP(B193,'Zebrik W'!$B$7:$L$1000,11,0)))","v":""}]
[{"$f":"RANK(G194,G:G)","v":188},"Matej Krestes",1986,"M","Slaný","CZ/C1",13618,3,"","",null,null,{"$f":"IF(ISERROR(VLOOKUP(B194,'Zebrik W'!$B$7:$L$1000,11,0)),\"\",IF(VLOOKUP(B194,'Zebrik W'!$B$7:$L$1000,11,0)=0,\"--\",VLOOKUP(B194,'Zebrik W'!$B$7:$L$1000,11,0)))","v":""}]
[{"$f":"RANK(G195,G:G)","v":189},"Jiri Krofta",1988,"M","Hosín","CZ/C1",13573,3,"","",null,null,{"$f":"IF(ISERROR(VLOOKUP(B195,'Zebrik W'!$B$7:$L$1000,11,0)),\"\",IF(VLOOKUP(B195,'Zebrik W'!$B$7:$L$1000,11,0)=0,\"--\",VLOOKUP(B195,'Zebrik W'!$B$7:$L$1000,11,0)))","v":""}]
[{"$f":"RANK(G196,G:G)","v":190},"Antonin Kutalek",1943,"M","Zábřeh","CZ/M",13513,3,"","",null,null,{"$f":"IF(ISERROR(VLOOKUP(B196,'Zebrik W'!$B$7:$L$1000,11,0)),\"\",IF(VLOOKUP(B196,'Zebrik W'!$B$7:$L$1000,11,0)=0,\"--\",VLOOKUP(B196,'Zebrik W'!$B$7:$L$1000,11,0)))","v":""}]
[{"$f":"RANK(G197,G:G)","v":191},"Adam Hepal",2004,"M","Moravská Třebová","CZ/M",13465,3,"Junior v roce 2025","Junior v roce 2026",null,null,{"$f":"IF(ISERROR(VLOOKUP(B197,'Zebrik W'!$B$7:$L$1000,11,0)),\"\",IF(VLOOKUP(B197,'Zebrik W'!$B$7:$L$1000,11,0)=0,\"--\",VLOOKUP(B197,'Zebrik W'!$B$7:$L$1000,11,0)))","v":""}]
[{"$f":"RANK(G198,G:G)","v":192},"Petr Starek",1974,"M","Zbraslavice","CZ/C1",13423,2,"","",null,null,{"$f":"IF(ISERROR(VLOOKUP(B198,'Zebrik W'!$B$7:$L$1000,11,0)),\"\",IF(VLOOKUP(B198,'Zebrik W'!$B$7:$L$1000,11,0)=0,\"--\",VLOOKUP(B198,'Zebrik W'!$B$7:$L$1000,11,0)))","v":""}]
[{"$f":"RANK(G199,G:G)","v":193},"Petra Piskata",1989,"F","Luhačovice","CZ/M",13250,2,"","",null,"RV 2025",{"$f":"IF(ISERROR(VLOOKUP(B199,'Zebrik W'!$B$7:$L$1000,11,0)),\"\",IF(VLOOKUP(B199,'Zebrik W'!$B$7:$L$1000,11,0)=0,\"--\",VLOOKUP(B199,'Zebrik W'!$B$7:$L$1000,11,0)))","v":"WRV 2025"}]
[{"$f":"RANK(G200,G:G)","v":194},"Filip Mrstny",2006,"M","Beroun","CZ/C1",13239,2,{"$f":"IF(C200=\"(prázdné)\",\"\",IF(($I$4-C200)>25,\"\",\"Junior v roce \"&$I$4))","v":"Junior v roce 2025"},{"$f":"IF(C200=\"(prázdné)\",\"\",IF(($J$4-C200)>25,\"\",\"Junior v roce \"&$J$4))","v":"Junior v roce 2026"},null,null,{"$f":"IF(ISERROR(VLOOKUP(B200,'Zebrik W'!$B$7:$L$1000,11,0)),\"\",IF(VLOOKUP(B200,'Zebrik W'!$B$7:$L$1000,11,0)=0,\"--\",VLOOKUP(B200,'Zebrik W'!$B$7:$L$1000,11,0)))","v":""}]
[{"$f":"RANK(G201,G:G)","v":195},"Jan Kohout",1970,"M","Žamberk","CZ/C2",13193,2,"","",null,null,{"$f":"IF(ISERROR(VLOOKUP(B201,'Zebrik W'!$B$7:$L$1000,11,0)),\"\",IF(VLOOKUP(B201,'Zebrik W'!$B$7:$L$1000,11,0)=0,\"--\",VLOOKUP(B201,'Zebrik W'!$B$7:$L$1000,11,0)))","v":""}]
[{"$f":"RANK(G202,G:G)","v":196},"Martin Hejny",1984,"M","Šumperk","CZ/M",13170,2,"","",null,null,{"$f":"IF(ISERROR(VLOOKUP(B202,'Zebrik W'!$B$7:$L$1000,11,0)),\"\",IF(VLOOKUP(B202,'Zebrik W'!$B$7:$L$1000,11,0)=0,\"--\",VLOOKUP(B202,'Zebrik W'!$B$7:$L$1000,11,0)))","v":""}]
[{"$f":"RANK(G203,G:G)","v":197},"Jaromir Vlk",1959,"M","Šumperk","CZ/M",13155,3,"","",null,null,{"$f":"IF(ISERROR(VLOOKUP(B203,'Zebrik W'!$B$7:$L$1000,11,0)),\"\",IF(VLOOKUP(B203,'Zebrik W'!$B$7:$L$1000,11,0)=0,\"--\",VLOOKUP(B203,'Zebrik W'!$B$7:$L$1000,11,0)))","v":""}]
[{"$f":"RANK(G204,G:G)","v":198},"Filip Malik",2001,"M","Letňany","CZ/C1",13117,3,"Junior v roce 2025","Junior v roce 2026",null,null,{"$f":"IF(ISERROR(VLOOKUP(B204,'Zebrik W'!$B$7:$L$1000,11,0)),\"\",IF(VLOOKUP(B204,'Zebrik W'!$B$7:$L$1000,11,0)=0,\"--\",VLOOKUP(B204,'Zebrik W'!$B$7:$L$1000,11,0)))","v":""}]
[{"$f":"RANK(G205,G:G)","v":199},"Ivo Burda",1962,"M","Zbraslavice","CZ/C1",13070,3,"","",null,null,{"$f":"IF(ISERROR(VLOOKUP(B205,'Zebrik W'!$B$7:$L$1000,11,0)),\"\",IF(VLOOKUP(B205,'Zebrik W'!$B$7:$L$1000,11,0)=0,\"--\",VLOOKUP(B205,'Zebrik W'!$B$7:$L$1000,11,0)))","v":""}]
[{"$f":"RANK(G206,G:G)","v":200},"David Tejnora",1982,"M","Jaroměř","CZ/C2",12857,2,"","",null,null,{"$f":"IF(ISERROR(VLOOKUP(B206,'Zebrik W'!$B$7:$L$1000,11,0)),\"\",IF(VLOOKUP(B206,'Zebrik W'!$B$7:$L$1000,11,0)=0,\"--\",VLOOKUP(B206,'Zebrik W'!$B$7:$L$1000,11,0)))","v":""}]
[{"$f":"RANK(G207,G:G)","v":201},"Vojtech Novotny",1992,"M","Kralupy","CZ/C1",12790,2,"","",null,null,{"$f":"IF(ISERROR(VLOOKUP(B207,'Zebrik W'!$B$7:$L$1000,11,0)),\"\",IF(VLOOKUP(B207,'Zebrik W'!$B$7:$L$1000,11,0)=0,\"--\",VLOOKUP(B207,'Zebrik W'!$B$7:$L$1000,11,0)))","v":""}]
[{"$f":"RANK(G208,G:G)","v":202},"Beat Albrecht",1953,"M","Šumperk","CZ/M",12782,3,"","",null,null,{"$f":"IF(ISERROR(VLOOKUP(B208,'Zebrik W'!$B$7:$L$1000,11,0)),\"\",IF(VLOOKUP(B208,'Zebrik W'!$B$7:$L$1000,11,0)=0,\"--\",VLOOKUP(B208,'Zebrik W'!$B$7:$L$1000,11,0)))","v":""}]
[{"$f":"RANK(G209,G:G)","v":203},"Milan Dvorak",1965,"M","Liberec","CZ/C2",12646,2,"","",null,null,{"$f":"IF(ISERROR(VLOOKUP(B209,'Zebrik W'!$B$7:$L$1000,11,0)),\"\",IF(VLOOKUP(B209,'Zebrik W'!$B$7:$L$1000,11,0)=0,\"--\",VLOOKUP(B209,'Zebrik W'!$B$7:$L$1000,11,0)))","v":""}]
[{"$f":"RANK(G210,G:G)","v":204},"Jan Svestka",2005,"M","Křižanov","CZ/M",12597,3,"Junior v roce 2025","Junior v roce 2026",null,null,{"$f":"IF(ISERROR(VLOOKUP(B210,'Zebrik W'!$B$7:$L$1000,11,0)),\"\",IF(VLOOKUP(B210,'Zebrik W'!$B$7:$L$1000,11,0)=0,\"--\",VLOOKUP(B210,'Zebrik W'!$B$7:$L$1000,11,0)))","v":""}]
[{"$f":"RANK(G211,G:G)","v":205},"Petr Jiranek 91",1991,"M","Toužim","CZ/C1",12385,2,"","",null,null,{"$f":"IF(ISERROR(VLOOKUP(B211,'Zebrik W'!$B$7:$L$1000,11,0)),\"\",IF(VLOOKUP(B211,'Zebrik W'!$B$7:$L$1000,11,0)=0,\"--\",VLOOKUP(B211,'Zebrik W'!$B$7:$L$1000,11,0)))","v":""}]
[{"$f":"RANK(G212,G:G)","v":206},"Tomas Talanda",1988,"M","Křižanov","CZ/M",12230,2,"","",null,null,{"$f":"IF(ISERROR(VLOOKUP(B212,'Zebrik W'!$B$7:$L$1000,11,0)),\"\",IF(VLOOKUP(B212,'Zebrik W'!$B$7:$L$1000,11,0)=0,\"--\",VLOOKUP(B212,'Zebrik W'!$B$7:$L$1000,11,0)))","v":""}]
[{"$f":"RANK(G213,G:G)","v":207},"Lukas Plocek",1990,"M","Mladá Boleslav","CZ/C1",12134,2,"","",null,null,{"$f":"IF(ISERROR(VLOOKUP(B213,'Zebrik W'!$B$7:$L$1000,11,0)),\"\",IF(VLOOKUP(B213,'Zebrik W'!$B$7:$L$1000,11,0)=0,\"--\",VLOOKUP(B213,'Zebrik W'!$B$7:$L$1000,11,0)))","v":""}]
[{"$f":"RANK(G214,G:G)","v":208},"Martin Stepanek",1987,"M","Moravská Třebová","CZ/M",12067,2,"","",null,null,{"$f":"IF(ISERROR(VLOOKUP(B214,'Zebrik W'!$B$7:$L$1000,11,0)),\"\",IF(VLOOKUP(B214,'Zebrik W'!$B$7:$L$1000,11,0)=0,\"--\",VLOOKUP(B214,'Zebrik W'!$B$7:$L$1000,11,0)))","v":""}]
[{"$f":"RANK(G215,G:G)","v":209},"David Riha",1983,"M","Vlašim","CZ/C1",12034,2,"","",null,null,{"$f":"IF(ISERROR(VLOOKUP(B215,'Zebrik W'!$B$7:$L$1000,11,0)),\"\",IF(VLOOKUP(B215,'Zebrik W'!$B$7:$L$1000,11,0)=0,\"--\",VLOOKUP(B215,'Zebrik W'!$B$7:$L$1000,11,0)))","v":""}]
[{"$f":"RANK(G216,G:G)","v":210},"Fabian Curda",2004,"M","Zábřeh","CZ/M",11964,3,"Junior v roce 2025","Junior v roce 2026",null,null,{"$f":"IF(ISERROR(VLOOKUP(B216,'Zebrik W'!$B$7:$L$1000,11,0)),\"\",IF(VLOOKUP(B216,'Zebrik W'!$B$7:$L$1000,11,0)=0,\"--\",VLOOKUP(B216,'Zebrik W'!$B$7:$L$1000,11,0)))","v":""}]
[{"$f":"RANK(G217,G:G)","v":211},"Lubomir Doupal",1975,"M","Kroměříž","CZ/M",11869,3,"","",null,null,{"$f":"IF(ISERROR(VLOOKUP(B217,'Zebrik W'!$B$7:$L$1000,11,0)),\"\",IF(VLOOKUP(B217,'Zebrik W'!$B$7:$L$1000,11,0)=0,\"--\",VLOOKUP(B217,'Zebrik W'!$B$7:$L$1000,11,0)))","v":""}]
[{"$f":"RANK(G218,G:G)","v":212},"Slavomir Tanglmajer",1966,"M","Chomutov","CZ/C2",11772,3,"","",null,null,{"$f":"IF(ISERROR(VLOOKUP(B218,'Zebrik W'!$B$7:$L$1000,11,0)),\"\",IF(VLOOKUP(B218,'Zebrik W'!$B$7:$L$1000,11,0)=0,\"--\",VLOOKUP(B218,'Zebrik W'!$B$7:$L$1000,11,0)))","v":""}]
[{"$f":"RANK(G219,G:G)","v":213},"Vojtech Pavek",2000,"M","Medlánky","CZ/M",11771,3,"Junior v roce 2025","",null,null,{"$f":"IF(ISERROR(VLOOKUP(B219,'Zebrik W'!$B$7:$L$1000,11,0)),\"\",IF(VLOOKUP(B219,'Zebrik W'!$B$7:$L$1000,11,0)=0,\"--\",VLOOKUP(B219,'Zebrik W'!$B$7:$L$1000,11,0)))","v":""}]
[{"$f":"RANK(G220,G:G)","v":214},"Karel Policky",1950,"M","Kolín","CZ/C1",11633,3,"","",null,null,{"$f":"IF(ISERROR(VLOOKUP(B220,'Zebrik W'!$B$7:$L$1000,11,0)),\"\",IF(VLOOKUP(B220,'Zebrik W'!$B$7:$L$1000,11,0)=0,\"--\",VLOOKUP(B220,'Zebrik W'!$B$7:$L$1000,11,0)))","v":""}]
[{"$f":"RANK(G221,G:G)","v":215},"Lumir Motyka",1955,"M","Frýdlant","CZ/M",11603,2,"","",null,null,{"$f":"IF(ISERROR(VLOOKUP(B221,'Zebrik W'!$B$7:$L$1000,11,0)),\"\",IF(VLOOKUP(B221,'Zebrik W'!$B$7:$L$1000,11,0)=0,\"--\",VLOOKUP(B221,'Zebrik W'!$B$7:$L$1000,11,0)))","v":""}]
[{"$f":"RANK(G222,G:G)","v":216},"Radek Bares",1963,"M","Jičín","CZ/C2",11485,2,"","",null,null,{"$f":"IF(ISERROR(VLOOKUP(B222,'Zebrik W'!$B$7:$L$1000,11,0)),\"\",IF(VLOOKUP(B222,'Zebrik W'!$B$7:$L$1000,11,0)=0,\"--\",VLOOKUP(B222,'Zebrik W'!$B$7:$L$1000,11,0)))","v":""}]
[{"$f":"RANK(G223,G:G)","v":217},"Oldrich Bartonik",1961,"M","Luhačovice","CZ/M",11292,2,"","",null,null,{"$f":"IF(ISERROR(VLOOKUP(B223,'Zebrik W'!$B$7:$L$1000,11,0)),\"\",IF(VLOOKUP(B223,'Zebrik W'!$B$7:$L$1000,11,0)=0,\"--\",VLOOKUP(B223,'Zebrik W'!$B$7:$L$1000,11,0)))","v":""}]
[{"$f":"RANK(G224,G:G)","v":218},"Vojtech Pivonka",1976,"M","Vrchlabí","CZ/C2",11178,2,"","",null,null,{"$f":"IF(ISERROR(VLOOKUP(B224,'Zebrik W'!$B$7:$L$1000,11,0)),\"\",IF(VLOOKUP(B224,'Zebrik W'!$B$7:$L$1000,11,0)=0,\"--\",VLOOKUP(B224,'Zebrik W'!$B$7:$L$1000,11,0)))","v":""}]
[{"$f":"RANK(G225,G:G)","v":219},"Martin Holik",1959,"M","Letňany","CZ/C1",11035,3,"","",null,null,{"$f":"IF(ISERROR(VLOOKUP(B225,'Zebrik W'!$B$7:$L$1000,11,0)),\"\",IF(VLOOKUP(B225,'Zebrik W'!$B$7:$L$1000,11,0)=0,\"--\",VLOOKUP(B225,'Zebrik W'!$B$7:$L$1000,11,0)))","v":""}]
[{"$f":"RANK(G226,G:G)","v":220},"Jan Hejret",1976,"M","Jaroměř","CZ/C2",10895,2,"","",null,null,{"$f":"IF(ISERROR(VLOOKUP(B226,'Zebrik W'!$B$7:$L$1000,11,0)),\"\",IF(VLOOKUP(B226,'Zebrik W'!$B$7:$L$1000,11,0)=0,\"--\",VLOOKUP(B226,'Zebrik W'!$B$7:$L$1000,11,0)))","v":""}]
[{"$f":"RANK(G227,G:G)","v":221},"Matej Bartos",1998,"M","Hodkovice","CZ/C2",10887,2,"","",null,null,{"$f":"IF(ISERROR(VLOOKUP(B227,'Zebrik W'!$B$7:$L$1000,11,0)),\"\",IF(VLOOKUP(B227,'Zebrik W'!$B$7:$L$1000,11,0)=0,\"--\",VLOOKUP(B227,'Zebrik W'!$B$7:$L$1000,11,0)))","v":""}]
[{"$f":"RANK(G228,G:G)","v":222},"Ivan Kuzelka",1945,"M","Havlíčkův Brod","CZ/C2",10788,3,"","",null,null,{"$f":"IF(ISERROR(VLOOKUP(B228,'Zebrik W'!$B$7:$L$1000,11,0)),\"\",IF(VLOOKUP(B228,'Zebrik W'!$B$7:$L$1000,11,0)=0,\"--\",VLOOKUP(B228,'Zebrik W'!$B$7:$L$1000,11,0)))","v":""}]
[{"$f":"RANK(G229,G:G)","v":223},"Vit Grossmann",1977,"M","Hranice","CZ/M",10662,3,"","",null,null,{"$f":"IF(ISERROR(VLOOKUP(B229,'Zebrik W'!$B$7:$L$1000,11,0)),\"\",IF(VLOOKUP(B229,'Zebrik W'!$B$7:$L$1000,11,0)=0,\"--\",VLOOKUP(B229,'Zebrik W'!$B$7:$L$1000,11,0)))","v":""}]
[{"$f":"RANK(G230,G:G)","v":224},"Jiri Holcman",1976,"M","Hosín","CZ/C1",10512,3,"","",null,null,{"$f":"IF(ISERROR(VLOOKUP(B230,'Zebrik W'!$B$7:$L$1000,11,0)),\"\",IF(VLOOKUP(B230,'Zebrik W'!$B$7:$L$1000,11,0)=0,\"--\",VLOOKUP(B230,'Zebrik W'!$B$7:$L$1000,11,0)))","v":""}]
[{"$f":"RANK(G231,G:G)","v":225},"Vaclav Sehnal",1962,"M","Kolín","CZ/C1",10485,2,"","",null,null,{"$f":"IF(ISERROR(VLOOKUP(B231,'Zebrik W'!$B$7:$L$1000,11,0)),\"\",IF(VLOOKUP(B231,'Zebrik W'!$B$7:$L$1000,11,0)=0,\"--\",VLOOKUP(B231,'Zebrik W'!$B$7:$L$1000,11,0)))","v":""}]
[{"$f":"RANK(G232,G:G)","v":226},"Martin Markl",1960,"M","Kolín","CZ/C1",10476,3,"","",null,null,{"$f":"IF(ISERROR(VLOOKUP(B232,'Zebrik W'!$B$7:$L$1000,11,0)),\"\",IF(VLOOKUP(B232,'Zebrik W'!$B$7:$L$1000,11,0)=0,\"--\",VLOOKUP(B232,'Zebrik W'!$B$7:$L$1000,11,0)))","v":""}]
[{"$f":"RANK(G233,G:G)","v":227},"Matej Plch",1987,"M","Letkov","CZ/C1",10445,2,"","",null,null,{"$f":"IF(ISERROR(VLOOKUP(B233,'Zebrik W'!$B$7:$L$1000,11,0)),\"\",IF(VLOOKUP(B233,'Zebrik W'!$B$7:$L$1000,11,0)=0,\"--\",VLOOKUP(B233,'Zebrik W'!$B$7:$L$1000,11,0)))","v":""}]
[{"$f":"RANK(G234,G:G)","v":228},"Lukas Petrzela",1987,"M","Olomouc","CZ/M",10437,3,"","",null,null,{"$f":"IF(ISERROR(VLOOKUP(B234,'Zebrik W'!$B$7:$L$1000,11,0)),\"\",IF(VLOOKUP(B234,'Zebrik W'!$B$7:$L$1000,11,0)=0,\"--\",VLOOKUP(B234,'Zebrik W'!$B$7:$L$1000,11,0)))","v":""}]
[{"$f":"RANK(G235,G:G)","v":229},"Slavomir Valecko",1960,"M","Hranice","CZ/M",10188,2,"","",null,null,{"$f":"IF(ISERROR(VLOOKUP(B235,'Zebrik W'!$B$7:$L$1000,11,0)),\"\",IF(VLOOKUP(B235,'Zebrik W'!$B$7:$L$1000,11,0)=0,\"--\",VLOOKUP(B235,'Zebrik W'!$B$7:$L$1000,11,0)))","v":""}]
[{"$f":"RANK(G236,G:G)","v":230},"Ladislav Jozsa",1981,"M","Medlánky","CZ/M",10168,2,"","",null,null,{"$f":"IF(ISERROR(VLOOKUP(B236,'Zebrik W'!$B$7:$L$1000,11,0)),\"\",IF(VLOOKUP(B236,'Zebrik W'!$B$7:$L$1000,11,0)=0,\"--\",VLOOKUP(B236,'Zebrik W'!$B$7:$L$1000,11,0)))","v":""}]
[{"$f":"RANK(G237,G:G)","v":231},"Tomas Seifert",1972,"M","Raná","CZ/C2",10086,3,"","",null,null,{"$f":"IF(ISERROR(VLOOKUP(B237,'Zebrik W'!$B$7:$L$1000,11,0)),\"\",IF(VLOOKUP(B237,'Zebrik W'!$B$7:$L$1000,11,0)=0,\"--\",VLOOKUP(B237,'Zebrik W'!$B$7:$L$1000,11,0)))","v":""}]
[{"$f":"RANK(G238,G:G)","v":232},"Vladimir Jirka",1965,"M","Zábřeh","CZ/M",9950,2,"","",null,null,{"$f":"IF(ISERROR(VLOOKUP(B238,'Zebrik W'!$B$7:$L$1000,11,0)),\"\",IF(VLOOKUP(B238,'Zebrik W'!$B$7:$L$1000,11,0)=0,\"--\",VLOOKUP(B238,'Zebrik W'!$B$7:$L$1000,11,0)))","v":""}]
[{"$f":"RANK(G239,G:G)","v":233},"Daniel Ryba",1994,"M","Dvůr Králové","CZ/C2",9878,2,"","",null,null,{"$f":"IF(ISERROR(VLOOKUP(B239,'Zebrik W'!$B$7:$L$1000,11,0)),\"\",IF(VLOOKUP(B239,'Zebrik W'!$B$7:$L$1000,11,0)=0,\"--\",VLOOKUP(B239,'Zebrik W'!$B$7:$L$1000,11,0)))","v":""}]
[{"$f":"RANK(G240,G:G)","v":234},"Michal Hemrle",1974,"M","Česká Lípa","CZ/C2",9780,3,"","",null,null,{"$f":"IF(ISERROR(VLOOKUP(B240,'Zebrik W'!$B$7:$L$1000,11,0)),\"\",IF(VLOOKUP(B240,'Zebrik W'!$B$7:$L$1000,11,0)=0,\"--\",VLOOKUP(B240,'Zebrik W'!$B$7:$L$1000,11,0)))","v":""}]
[{"$f":"RANK(G241,G:G)","v":235},"Roman Mracek",1980,"M","Letkov","CZ/C1",9777,1,"","",null,null,{"$f":"IF(ISERROR(VLOOKUP(B241,'Zebrik W'!$B$7:$L$1000,11,0)),\"\",IF(VLOOKUP(B241,'Zebrik W'!$B$7:$L$1000,11,0)=0,\"--\",VLOOKUP(B241,'Zebrik W'!$B$7:$L$1000,11,0)))","v":""}]
[{"$f":"RANK(G242,G:G)","v":236},"Milos Matejka",1956,"M","Beroun","CZ/C1",9627,2,"","",null,null,{"$f":"IF(ISERROR(VLOOKUP(B242,'Zebrik W'!$B$7:$L$1000,11,0)),\"\",IF(VLOOKUP(B242,'Zebrik W'!$B$7:$L$1000,11,0)=0,\"--\",VLOOKUP(B242,'Zebrik W'!$B$7:$L$1000,11,0)))","v":""}]
[{"$f":"RANK(G243,G:G)","v":237},"Filip Sirc",1993,"M","Letňany","CZ/C1",9590,2,"","",null,null,{"$f":"IF(ISERROR(VLOOKUP(B243,'Zebrik W'!$B$7:$L$1000,11,0)),\"\",IF(VLOOKUP(B243,'Zebrik W'!$B$7:$L$1000,11,0)=0,\"--\",VLOOKUP(B243,'Zebrik W'!$B$7:$L$1000,11,0)))","v":""}]
[{"$f":"RANK(G244,G:G)","v":238},"David Benda",1974,"M","Letňany","CZ/C1",9274,2,"","",null,null,{"$f":"IF(ISERROR(VLOOKUP(B244,'Zebrik W'!$B$7:$L$1000,11,0)),\"\",IF(VLOOKUP(B244,'Zebrik W'!$B$7:$L$1000,11,0)=0,\"--\",VLOOKUP(B244,'Zebrik W'!$B$7:$L$1000,11,0)))","v":""}]
[{"$f":"RANK(G245,G:G)","v":239},"Tomas Jung",1950,"M","Zbraslavice","CZ/C1",9161,3,"","",null,null,{"$f":"IF(ISERROR(VLOOKUP(B245,'Zebrik W'!$B$7:$L$1000,11,0)),\"\",IF(VLOOKUP(B245,'Zebrik W'!$B$7:$L$1000,11,0)=0,\"--\",VLOOKUP(B245,'Zebrik W'!$B$7:$L$1000,11,0)))","v":""}]
[{"$f":"RANK(G246,G:G)","v":240},"Tomas Profeld",1964,"M","Jičín","CZ/C2",9107,3,"","",null,null,{"$f":"IF(ISERROR(VLOOKUP(B246,'Zebrik W'!$B$7:$L$1000,11,0)),\"\",IF(VLOOKUP(B246,'Zebrik W'!$B$7:$L$1000,11,0)=0,\"--\",VLOOKUP(B246,'Zebrik W'!$B$7:$L$1000,11,0)))","v":""}]
[{"$f":"RANK(G247,G:G)","v":241},"Tomas Mezera",1973,"M","Raná","CZ/C2",9087,2,"","",null,null,{"$f":"IF(ISERROR(VLOOKUP(B247,'Zebrik W'!$B$7:$L$1000,11,0)),\"\",IF(VLOOKUP(B247,'Zebrik W'!$B$7:$L$1000,11,0)=0,\"--\",VLOOKUP(B247,'Zebrik W'!$B$7:$L$1000,11,0)))","v":""}]
[{"$f":"RANK(G248,G:G)","v":242},"Pavel Derda",1952,"M","Dvůr Králové","CZ/C2",9058,3,"","",null,null,{"$f":"IF(ISERROR(VLOOKUP(B248,'Zebrik W'!$B$7:$L$1000,11,0)),\"\",IF(VLOOKUP(B248,'Zebrik W'!$B$7:$L$1000,11,0)=0,\"--\",VLOOKUP(B248,'Zebrik W'!$B$7:$L$1000,11,0)))","v":""}]
[{"$f":"RANK(G249,G:G)","v":243},"Petr Brezina",1963,"M","Frýdlant","CZ/M",9054,3,"","",null,null,{"$f":"IF(ISERROR(VLOOKUP(B249,'Zebrik W'!$B$7:$L$1000,11,0)),\"\",IF(VLOOKUP(B249,'Zebrik W'!$B$7:$L$1000,11,0)=0,\"--\",VLOOKUP(B249,'Zebrik W'!$B$7:$L$1000,11,0)))","v":""}]
[{"$f":"RANK(G250,G:G)","v":244},"Martin Valenta",1969,"M","Toužim","CZ/C1",8977,3,"","",null,null,{"$f":"IF(ISERROR(VLOOKUP(B250,'Zebrik W'!$B$7:$L$1000,11,0)),\"\",IF(VLOOKUP(B250,'Zebrik W'!$B$7:$L$1000,11,0)=0,\"--\",VLOOKUP(B250,'Zebrik W'!$B$7:$L$1000,11,0)))","v":""}]
[{"$f":"RANK(G251,G:G)","v":245},"Leos Nosek",1958,"M","Křižanov","CZ/M",8940,3,"","",null,null,{"$f":"IF(ISERROR(VLOOKUP(B251,'Zebrik W'!$B$7:$L$1000,11,0)),\"\",IF(VLOOKUP(B251,'Zebrik W'!$B$7:$L$1000,11,0)=0,\"--\",VLOOKUP(B251,'Zebrik W'!$B$7:$L$1000,11,0)))","v":""}]
[{"$f":"RANK(G252,G:G)","v":246},"Zdenek Mach",1976,"M","Broumov","CZ/C2",8889,2,"","",null,null,{"$f":"IF(ISERROR(VLOOKUP(B252,'Zebrik W'!$B$7:$L$1000,11,0)),\"\",IF(VLOOKUP(B252,'Zebrik W'!$B$7:$L$1000,11,0)=0,\"--\",VLOOKUP(B252,'Zebrik W'!$B$7:$L$1000,11,0)))","v":""}]
[{"$f":"RANK(G253,G:G)","v":247},"Radovan Otto",1968,"M","Ústí nad Labem","CZ/C2",8827,2,"","",null,null,{"$f":"IF(ISERROR(VLOOKUP(B253,'Zebrik W'!$B$7:$L$1000,11,0)),\"\",IF(VLOOKUP(B253,'Zebrik W'!$B$7:$L$1000,11,0)=0,\"--\",VLOOKUP(B253,'Zebrik W'!$B$7:$L$1000,11,0)))","v":""}]
[{"$f":"RANK(G254,G:G)","v":248},"Vaclav Petru",1974,"M","Letňany","CZ/C1",8822,3,"","",null,null,{"$f":"IF(ISERROR(VLOOKUP(B254,'Zebrik W'!$B$7:$L$1000,11,0)),\"\",IF(VLOOKUP(B254,'Zebrik W'!$B$7:$L$1000,11,0)=0,\"--\",VLOOKUP(B254,'Zebrik W'!$B$7:$L$1000,11,0)))","v":""}]
[{"$f":"RANK(G255,G:G)","v":249},"Pavel Zima",1979,"M","Břeclav","CZ/M",8783,1,"","",null,null,{"$f":"IF(ISERROR(VLOOKUP(B255,'Zebrik W'!$B$7:$L$1000,11,0)),\"\",IF(VLOOKUP(B255,'Zebrik W'!$B$7:$L$1000,11,0)=0,\"--\",VLOOKUP(B255,'Zebrik W'!$B$7:$L$1000,11,0)))","v":""}]
[{"$f":"RANK(G256,G:G)","v":250},"Lukas Hykl",1985,"M","Kolín","CZ/C1",8692,2,"","",null,null,{"$f":"IF(ISERROR(VLOOKUP(B256,'Zebrik W'!$B$7:$L$1000,11,0)),\"\",IF(VLOOKUP(B256,'Zebrik W'!$B$7:$L$1000,11,0)=0,\"--\",VLOOKUP(B256,'Zebrik W'!$B$7:$L$1000,11,0)))","v":""}]
[{"$f":"RANK(G257,G:G)","v":251},"Karel Mares",1974,"M","Slaný","CZ/C1",8664,2,"","",null,null,{"$f":"IF(ISERROR(VLOOKUP(B257,'Zebrik W'!$B$7:$L$1000,11,0)),\"\",IF(VLOOKUP(B257,'Zebrik W'!$B$7:$L$1000,11,0)=0,\"--\",VLOOKUP(B257,'Zebrik W'!$B$7:$L$1000,11,0)))","v":""}]
[{"$f":"RANK(G258,G:G)","v":252},"Jana Veprekova",1961,"F","Dvůr Králové","CZ/C2",8580,1,"","",null,null,{"$f":"IF(ISERROR(VLOOKUP(B258,'Zebrik W'!$B$7:$L$1000,11,0)),\"\",IF(VLOOKUP(B258,'Zebrik W'!$B$7:$L$1000,11,0)=0,\"--\",VLOOKUP(B258,'Zebrik W'!$B$7:$L$1000,11,0)))","v":"--"}]
[{"$f":"RANK(G259,G:G)","v":253},"Jan Kristof",1962,"M","Frýdlant","CZ/M",8526,3,"","",null,null,{"$f":"IF(ISERROR(VLOOKUP(B259,'Zebrik W'!$B$7:$L$1000,11,0)),\"\",IF(VLOOKUP(B259,'Zebrik W'!$B$7:$L$1000,11,0)=0,\"--\",VLOOKUP(B259,'Zebrik W'!$B$7:$L$1000,11,0)))","v":""}]
[{"$f":"RANK(G260,G:G)","v":254},"Michal Kratochvil",1984,"M","Slaný","CZ/C1",8510,1,"","",null,null,{"$f":"IF(ISERROR(VLOOKUP(B260,'Zebrik W'!$B$7:$L$1000,11,0)),\"\",IF(VLOOKUP(B260,'Zebrik W'!$B$7:$L$1000,11,0)=0,\"--\",VLOOKUP(B260,'Zebrik W'!$B$7:$L$1000,11,0)))","v":""}]
[{"$f":"RANK(G261,G:G)","v":255},"Jiri Donat",1983,"M","Letňany","CZ/C1",8438,3,"","",null,null,{"$f":"IF(ISERROR(VLOOKUP(B261,'Zebrik W'!$B$7:$L$1000,11,0)),\"\",IF(VLOOKUP(B261,'Zebrik W'!$B$7:$L$1000,11,0)=0,\"--\",VLOOKUP(B261,'Zebrik W'!$B$7:$L$1000,11,0)))","v":""}]
[{"$f":"RANK(G262,G:G)","v":256},"Ales Holoubek",1966,"M","Jičín","CZ/C2",8408,2,"","",null,null,{"$f":"IF(ISERROR(VLOOKUP(B262,'Zebrik W'!$B$7:$L$1000,11,0)),\"\",IF(VLOOKUP(B262,'Zebrik W'!$B$7:$L$1000,11,0)=0,\"--\",VLOOKUP(B262,'Zebrik W'!$B$7:$L$1000,11,0)))","v":""}]
[{"$f":"RANK(G263,G:G)","v":257},"Lukas Volek",2004,"M","Hodkovice","CZ/C2",8081,1,"Junior v roce 2025","Junior v roce 2026",null,null,{"$f":"IF(ISERROR(VLOOKUP(B263,'Zebrik W'!$B$7:$L$1000,11,0)),\"\",IF(VLOOKUP(B263,'Zebrik W'!$B$7:$L$1000,11,0)=0,\"--\",VLOOKUP(B263,'Zebrik W'!$B$7:$L$1000,11,0)))","v":""}]
[{"$f":"RANK(G264,G:G)","v":258},"Michael Fik",1972,"M","Strakonice","CZ/C1",8031,2,{"$f":"IF(C264=\"(prázdné)\",\"\",IF(($I$4-C264)>25,\"\",\"Junior v roce \"&$I$4))","v":""},{"$f":"IF(C264=\"(prázdné)\",\"\",IF(($J$4-C264)>25,\"\",\"Junior v roce \"&$J$4))","v":""},null,null,{"$f":"IF(ISERROR(VLOOKUP(B264,'Zebrik W'!$B$7:$L$1000,11,0)),\"\",IF(VLOOKUP(B264,'Zebrik W'!$B$7:$L$1000,11,0)=0,\"--\",VLOOKUP(B264,'Zebrik W'!$B$7:$L$1000,11,0)))","v":""}]
[{"$f":"RANK(G265,G:G)","v":259},"Martin Benesovsky",1975,"M","Kolín","CZ/C1",7950,3,"","",null,null,{"$f":"IF(ISERROR(VLOOKUP(B265,'Zebrik W'!$B$7:$L$1000,11,0)),\"\",IF(VLOOKUP(B265,'Zebrik W'!$B$7:$L$1000,11,0)=0,\"--\",VLOOKUP(B265,'Zebrik W'!$B$7:$L$1000,11,0)))","v":""}]
[{"$f":"RANK(G266,G:G)","v":260},"Antonin Novotny",1972,"M","Luhačovice","CZ/M",7886,1,"","",null,null,{"$f":"IF(ISERROR(VLOOKUP(B266,'Zebrik W'!$B$7:$L$1000,11,0)),\"\",IF(VLOOKUP(B266,'Zebrik W'!$B$7:$L$1000,11,0)=0,\"--\",VLOOKUP(B266,'Zebrik W'!$B$7:$L$1000,11,0)))","v":""}]
[{"$f":"RANK(G267,G:G)","v":261},"Ivan Tvrdik",1997,"M","Letňany","CZ/C1",7877,1,"","",null,null,{"$f":"IF(ISERROR(VLOOKUP(B267,'Zebrik W'!$B$7:$L$1000,11,0)),\"\",IF(VLOOKUP(B267,'Zebrik W'!$B$7:$L$1000,11,0)=0,\"--\",VLOOKUP(B267,'Zebrik W'!$B$7:$L$1000,11,0)))","v":""}]
[{"$f":"RANK(G268,G:G)","v":262},"Vit Tvrdik",2000,"M","Letňany","CZ/C1",7745,1,"Junior v roce 2025","",null,null,{"$f":"IF(ISERROR(VLOOKUP(B268,'Zebrik W'!$B$7:$L$1000,11,0)),\"\",IF(VLOOKUP(B268,'Zebrik W'!$B$7:$L$1000,11,0)=0,\"--\",VLOOKUP(B268,'Zebrik W'!$B$7:$L$1000,11,0)))","v":""}]
[{"$f":"RANK(G269,G:G)","v":263},"Petr Styblo",1975,"M","Letňany","CZ/C1",7726,2,"","",null,null,{"$f":"IF(ISERROR(VLOOKUP(B269,'Zebrik W'!$B$7:$L$1000,11,0)),\"\",IF(VLOOKUP(B269,'Zebrik W'!$B$7:$L$1000,11,0)=0,\"--\",VLOOKUP(B269,'Zebrik W'!$B$7:$L$1000,11,0)))","v":""}]
[{"$f":"RANK(G270,G:G)","v":264},"Radim Hahn",1972,"M","Zábřeh","CZ/M",7688,2,"","",null,null,{"$f":"IF(ISERROR(VLOOKUP(B270,'Zebrik W'!$B$7:$L$1000,11,0)),\"\",IF(VLOOKUP(B270,'Zebrik W'!$B$7:$L$1000,11,0)=0,\"--\",VLOOKUP(B270,'Zebrik W'!$B$7:$L$1000,11,0)))","v":""}]
[{"$f":"RANK(G271,G:G)","v":265},"Yvona Vyhnankova",1963,"F","Olomouc","CZ/M",7661,3,"","",null,null,{"$f":"IF(ISERROR(VLOOKUP(B271,'Zebrik W'!$B$7:$L$1000,11,0)),\"\",IF(VLOOKUP(B271,'Zebrik W'!$B$7:$L$1000,11,0)=0,\"--\",VLOOKUP(B271,'Zebrik W'!$B$7:$L$1000,11,0)))","v":"--"}]
[{"$f":"RANK(G272,G:G)","v":266},"Jakub Kmosek",1978,"M","Zbraslavice","CZ/C1",7582,1,"","",null,null,{"$f":"IF(ISERROR(VLOOKUP(B272,'Zebrik W'!$B$7:$L$1000,11,0)),\"\",IF(VLOOKUP(B272,'Zebrik W'!$B$7:$L$1000,11,0)=0,\"--\",VLOOKUP(B272,'Zebrik W'!$B$7:$L$1000,11,0)))","v":""}]
[{"$f":"RANK(G273,G:G)","v":267},"Michal Navratil",1985,"M","Křižanov","CZ/M",7550,1,"","",null,null,{"$f":"IF(ISERROR(VLOOKUP(B273,'Zebrik W'!$B$7:$L$1000,11,0)),\"\",IF(VLOOKUP(B273,'Zebrik W'!$B$7:$L$1000,11,0)=0,\"--\",VLOOKUP(B273,'Zebrik W'!$B$7:$L$1000,11,0)))","v":""}]
[{"$f":"RANK(G274,G:G)","v":267},"Oldrich Slavicek",1959,"M","Hronov","CZ/C2",7550,1,"","",null,null,{"$f":"IF(ISERROR(VLOOKUP(B274,'Zebrik W'!$B$7:$L$1000,11,0)),\"\",IF(VLOOKUP(B274,'Zebrik W'!$B$7:$L$1000,11,0)=0,\"--\",VLOOKUP(B274,'Zebrik W'!$B$7:$L$1000,11,0)))","v":""}]
[{"$f":"RANK(G275,G:G)","v":269},"Daniel Suchy",1995,"M","Hranice","CZ/M",7523,2,"","",null,null,{"$f":"IF(ISERROR(VLOOKUP(B275,'Zebrik W'!$B$7:$L$1000,11,0)),\"\",IF(VLOOKUP(B275,'Zebrik W'!$B$7:$L$1000,11,0)=0,\"--\",VLOOKUP(B275,'Zebrik W'!$B$7:$L$1000,11,0)))","v":""}]
[{"$f":"RANK(G276,G:G)","v":270},"Antonin Konicek",1973,"M","Kunovice","CZ/M",7475,1,"","",null,null,{"$f":"IF(ISERROR(VLOOKUP(B276,'Zebrik W'!$B$7:$L$1000,11,0)),\"\",IF(VLOOKUP(B276,'Zebrik W'!$B$7:$L$1000,11,0)=0,\"--\",VLOOKUP(B276,'Zebrik W'!$B$7:$L$1000,11,0)))","v":""}]
[{"$f":"RANK(G277,G:G)","v":271},"Petr Hosek",2001,"M","Beroun","CZ/C1",7455,2,"Junior v roce 2025","Junior v roce 2026",null,null,{"$f":"IF(ISERROR(VLOOKUP(B277,'Zebrik W'!$B$7:$L$1000,11,0)),\"\",IF(VLOOKUP(B277,'Zebrik W'!$B$7:$L$1000,11,0)=0,\"--\",VLOOKUP(B277,'Zebrik W'!$B$7:$L$1000,11,0)))","v":""}]
[{"$f":"RANK(G278,G:G)","v":272},"Rudolf Jung",1954,"M","Zbraslavice","CZ/C1",7454,3,"","",null,null,{"$f":"IF(ISERROR(VLOOKUP(B278,'Zebrik W'!$B$7:$L$1000,11,0)),\"\",IF(VLOOKUP(B278,'Zebrik W'!$B$7:$L$1000,11,0)=0,\"--\",VLOOKUP(B278,'Zebrik W'!$B$7:$L$1000,11,0)))","v":""}]
[{"$f":"RANK(G279,G:G)","v":273},"Michal Kares",1987,"M","Ústí nad Orlicí","CZ/C2",7415,1,"","",null,null,{"$f":"IF(ISERROR(VLOOKUP(B279,'Zebrik W'!$B$7:$L$1000,11,0)),\"\",IF(VLOOKUP(B279,'Zebrik W'!$B$7:$L$1000,11,0)=0,\"--\",VLOOKUP(B279,'Zebrik W'!$B$7:$L$1000,11,0)))","v":""}]
[{"$f":"RANK(G280,G:G)","v":274},"Anna Bordovska",1989,"F","Mladá Boleslav","CZ/C1",7324,1,"","",null,null,{"$f":"IF(ISERROR(VLOOKUP(B280,'Zebrik W'!$B$7:$L$1000,11,0)),\"\",IF(VLOOKUP(B280,'Zebrik W'!$B$7:$L$1000,11,0)=0,\"--\",VLOOKUP(B280,'Zebrik W'!$B$7:$L$1000,11,0)))","v":"--"}]
[{"$f":"RANK(G281,G:G)","v":275},"Milos Dedera",1956,"M","Jihlava","CZ/M",7300,1,"","",null,null,{"$f":"IF(ISERROR(VLOOKUP(B281,'Zebrik W'!$B$7:$L$1000,11,0)),\"\",IF(VLOOKUP(B281,'Zebrik W'!$B$7:$L$1000,11,0)=0,\"--\",VLOOKUP(B281,'Zebrik W'!$B$7:$L$1000,11,0)))","v":""}]
[{"$f":"RANK(G282,G:G)","v":276},"Jiri Hodan",1959,"M","Zbraslavice","CZ/C1",7265,3,"","",null,null,{"$f":"IF(ISERROR(VLOOKUP(B282,'Zebrik W'!$B$7:$L$1000,11,0)),\"\",IF(VLOOKUP(B282,'Zebrik W'!$B$7:$L$1000,11,0)=0,\"--\",VLOOKUP(B282,'Zebrik W'!$B$7:$L$1000,11,0)))","v":""}]
[{"$f":"RANK(G283,G:G)","v":276},"Jiri Cincera",1966,"M","Toužim","CZ/C1",7265,2,"","",null,null,{"$f":"IF(ISERROR(VLOOKUP(B283,'Zebrik W'!$B$7:$L$1000,11,0)),\"\",IF(VLOOKUP(B283,'Zebrik W'!$B$7:$L$1000,11,0)=0,\"--\",VLOOKUP(B283,'Zebrik W'!$B$7:$L$1000,11,0)))","v":""}]
[{"$f":"RANK(G284,G:G)","v":278},"Pavel Trojan",1960,"M","Chrudim","CZ/C2",7223,1,"","",null,null,{"$f":"IF(ISERROR(VLOOKUP(B284,'Zebrik W'!$B$7:$L$1000,11,0)),\"\",IF(VLOOKUP(B284,'Zebrik W'!$B$7:$L$1000,11,0)=0,\"--\",VLOOKUP(B284,'Zebrik W'!$B$7:$L$1000,11,0)))","v":""}]
[{"$f":"RANK(G285,G:G)","v":279},"Jiri Janda",1966,"M","Letňany","CZ/C1",7189,2,"","",null,null,{"$f":"IF(ISERROR(VLOOKUP(B285,'Zebrik W'!$B$7:$L$1000,11,0)),\"\",IF(VLOOKUP(B285,'Zebrik W'!$B$7:$L$1000,11,0)=0,\"--\",VLOOKUP(B285,'Zebrik W'!$B$7:$L$1000,11,0)))","v":""}]
[{"$f":"RANK(G286,G:G)","v":280},"Tim Raasch",2000,"M","Polička","CZ/C2",7063,2,"Junior v roce 2025","",null,null,{"$f":"IF(ISERROR(VLOOKUP(B286,'Zebrik W'!$B$7:$L$1000,11,0)),\"\",IF(VLOOKUP(B286,'Zebrik W'!$B$7:$L$1000,11,0)=0,\"--\",VLOOKUP(B286,'Zebrik W'!$B$7:$L$1000,11,0)))","v":""}]
[{"$f":"RANK(G287,G:G)","v":281},"Michal Posluzny",1968,"M","Medlánky","CZ/M",7041,1,"","",null,null,{"$f":"IF(ISERROR(VLOOKUP(B287,'Zebrik W'!$B$7:$L$1000,11,0)),\"\",IF(VLOOKUP(B287,'Zebrik W'!$B$7:$L$1000,11,0)=0,\"--\",VLOOKUP(B287,'Zebrik W'!$B$7:$L$1000,11,0)))","v":""}]
[{"$f":"RANK(G288,G:G)","v":282},"Jan Matejovsky",1972,"M","Hranice","CZ/M",7030,2,"","",null,null,{"$f":"IF(ISERROR(VLOOKUP(B288,'Zebrik W'!$B$7:$L$1000,11,0)),\"\",IF(VLOOKUP(B288,'Zebrik W'!$B$7:$L$1000,11,0)=0,\"--\",VLOOKUP(B288,'Zebrik W'!$B$7:$L$1000,11,0)))","v":""}]
[{"$f":"RANK(G289,G:G)","v":283},"Roman Cerny",1971,"M","Hranice","CZ/M",6968,2,"","",null,null,{"$f":"IF(ISERROR(VLOOKUP(B289,'Zebrik W'!$B$7:$L$1000,11,0)),\"\",IF(VLOOKUP(B289,'Zebrik W'!$B$7:$L$1000,11,0)=0,\"--\",VLOOKUP(B289,'Zebrik W'!$B$7:$L$1000,11,0)))","v":""}]
[{"$f":"RANK(G290,G:G)","v":284},"Frantisek Pycha",1972,"M","Chrudim","CZ/C2",6959,2,"","",null,null,{"$f":"IF(ISERROR(VLOOKUP(B290,'Zebrik W'!$B$7:$L$1000,11,0)),\"\",IF(VLOOKUP(B290,'Zebrik W'!$B$7:$L$1000,11,0)=0,\"--\",VLOOKUP(B290,'Zebrik W'!$B$7:$L$1000,11,0)))","v":""}]
[{"$f":"RANK(G291,G:G)","v":285},"Michal Maly",1982,"M","Broumov","CZ/C2",6953,1,"","",null,null,{"$f":"IF(ISERROR(VLOOKUP(B291,'Zebrik W'!$B$7:$L$1000,11,0)),\"\",IF(VLOOKUP(B291,'Zebrik W'!$B$7:$L$1000,11,0)=0,\"--\",VLOOKUP(B291,'Zebrik W'!$B$7:$L$1000,11,0)))","v":""}]
[{"$f":"RANK(G292,G:G)","v":286},"Petr Hora",1948,"M","Hodkovice","CZ/C2",6900,1,"","",null,null,{"$f":"IF(ISERROR(VLOOKUP(B292,'Zebrik W'!$B$7:$L$1000,11,0)),\"\",IF(VLOOKUP(B292,'Zebrik W'!$B$7:$L$1000,11,0)=0,\"--\",VLOOKUP(B292,'Zebrik W'!$B$7:$L$1000,11,0)))","v":""}]
[{"$f":"RANK(G293,G:G)","v":286},"Petr Omelka",1970,"M","Vyškov","CZ/M",6900,3,"","",null,null,{"$f":"IF(ISERROR(VLOOKUP(B293,'Zebrik W'!$B$7:$L$1000,11,0)),\"\",IF(VLOOKUP(B293,'Zebrik W'!$B$7:$L$1000,11,0)=0,\"--\",VLOOKUP(B293,'Zebrik W'!$B$7:$L$1000,11,0)))","v":""}]
[{"$f":"RANK(G294,G:G)","v":288},"Martin Soucek",1975,"M","Mladá Boleslav","CZ/C1",6899,1,"","",null,null,{"$f":"IF(ISERROR(VLOOKUP(B294,'Zebrik W'!$B$7:$L$1000,11,0)),\"\",IF(VLOOKUP(B294,'Zebrik W'!$B$7:$L$1000,11,0)=0,\"--\",VLOOKUP(B294,'Zebrik W'!$B$7:$L$1000,11,0)))","v":""}]
[{"$f":"RANK(G295,G:G)","v":289},"Vit Pavelka",2004,"M","Moravská Třebová","CZ/M",6860,2,"Junior v roce 2025","Junior v roce 2026",null,null,{"$f":"IF(ISERROR(VLOOKUP(B295,'Zebrik W'!$B$7:$L$1000,11,0)),\"\",IF(VLOOKUP(B295,'Zebrik W'!$B$7:$L$1000,11,0)=0,\"--\",VLOOKUP(B295,'Zebrik W'!$B$7:$L$1000,11,0)))","v":""}]
[{"$f":"RANK(G296,G:G)","v":290},"Martin Piskacek",1991,"M","Křižanov","CZ/M",6832,2,"","",null,null,{"$f":"IF(ISERROR(VLOOKUP(B296,'Zebrik W'!$B$7:$L$1000,11,0)),\"\",IF(VLOOKUP(B296,'Zebrik W'!$B$7:$L$1000,11,0)=0,\"--\",VLOOKUP(B296,'Zebrik W'!$B$7:$L$1000,11,0)))","v":""}]
[{"$f":"RANK(G297,G:G)","v":291},"Vaclav Kult",1973,"M","Broumov","CZ/C2",6634,1,"","",null,null,{"$f":"IF(ISERROR(VLOOKUP(B297,'Zebrik W'!$B$7:$L$1000,11,0)),\"\",IF(VLOOKUP(B297,'Zebrik W'!$B$7:$L$1000,11,0)=0,\"--\",VLOOKUP(B297,'Zebrik W'!$B$7:$L$1000,11,0)))","v":""}]
[{"$f":"RANK(G298,G:G)","v":292},"Jiri Slemr",1979,"M","Vysoké Mýto","CZ/C2",6575,1,"","",null,null,{"$f":"IF(ISERROR(VLOOKUP(B298,'Zebrik W'!$B$7:$L$1000,11,0)),\"\",IF(VLOOKUP(B298,'Zebrik W'!$B$7:$L$1000,11,0)=0,\"--\",VLOOKUP(B298,'Zebrik W'!$B$7:$L$1000,11,0)))","v":""}]
[{"$f":"RANK(G299,G:G)","v":293},"Tomas Malik",1972,"M","Letňany","CZ/C1",6564,1,"","",null,null,{"$f":"IF(ISERROR(VLOOKUP(B299,'Zebrik W'!$B$7:$L$1000,11,0)),\"\",IF(VLOOKUP(B299,'Zebrik W'!$B$7:$L$1000,11,0)=0,\"--\",VLOOKUP(B299,'Zebrik W'!$B$7:$L$1000,11,0)))","v":""}]
[{"$f":"RANK(G300,G:G)","v":294},"Jana Mezerova",1975,"F","Raná","CZ/C2",6542,2,"","",null,null,{"$f":"IF(ISERROR(VLOOKUP(B300,'Zebrik W'!$B$7:$L$1000,11,0)),\"\",IF(VLOOKUP(B300,'Zebrik W'!$B$7:$L$1000,11,0)=0,\"--\",VLOOKUP(B300,'Zebrik W'!$B$7:$L$1000,11,0)))","v":"--"}]
[{"$f":"RANK(G301,G:G)","v":295},"Oldrich Kounovsky",1976,"M","Medlánky","CZ/M",6541,2,"","",null,null,{"$f":"IF(ISERROR(VLOOKUP(B301,'Zebrik W'!$B$7:$L$1000,11,0)),\"\",IF(VLOOKUP(B301,'Zebrik W'!$B$7:$L$1000,11,0)=0,\"--\",VLOOKUP(B301,'Zebrik W'!$B$7:$L$1000,11,0)))","v":""}]
[{"$f":"RANK(G302,G:G)","v":296},"Jan Hlavacek 65",1965,"M","Rakovník","CZ/C1",6532,1,"","",null,null,{"$f":"IF(ISERROR(VLOOKUP(B302,'Zebrik W'!$B$7:$L$1000,11,0)),\"\",IF(VLOOKUP(B302,'Zebrik W'!$B$7:$L$1000,11,0)=0,\"--\",VLOOKUP(B302,'Zebrik W'!$B$7:$L$1000,11,0)))","v":""}]
[{"$f":"RANK(G303,G:G)","v":297},"Vladimir Abraham",1962,"M","Raná","CZ/C2",6513,1,"","",null,null,{"$f":"IF(ISERROR(VLOOKUP(B303,'Zebrik W'!$B$7:$L$1000,11,0)),\"\",IF(VLOOKUP(B303,'Zebrik W'!$B$7:$L$1000,11,0)=0,\"--\",VLOOKUP(B303,'Zebrik W'!$B$7:$L$1000,11,0)))","v":""}]
[{"$f":"RANK(G304,G:G)","v":298},"Premysl Muzik",1990,"M","Tábor","CZ/C1",6468,2,"","",null,null,{"$f":"IF(ISERROR(VLOOKUP(B304,'Zebrik W'!$B$7:$L$1000,11,0)),\"\",IF(VLOOKUP(B304,'Zebrik W'!$B$7:$L$1000,11,0)=0,\"--\",VLOOKUP(B304,'Zebrik W'!$B$7:$L$1000,11,0)))","v":""}]
[{"$f":"RANK(G305,G:G)","v":299},"Milan Bado",1975,"M","Kolín","CZ/C1",6436,3,"","",null,null,{"$f":"IF(ISERROR(VLOOKUP(B305,'Zebrik W'!$B$7:$L$1000,11,0)),\"\",IF(VLOOKUP(B305,'Zebrik W'!$B$7:$L$1000,11,0)=0,\"--\",VLOOKUP(B305,'Zebrik W'!$B$7:$L$1000,11,0)))","v":""}]
[{"$f":"RANK(G306,G:G)","v":300},"Petr Rygl",1966,"M","Jičín","CZ/C2",6418,1,"","",null,null,{"$f":"IF(ISERROR(VLOOKUP(B306,'Zebrik W'!$B$7:$L$1000,11,0)),\"\",IF(VLOOKUP(B306,'Zebrik W'!$B$7:$L$1000,11,0)=0,\"--\",VLOOKUP(B306,'Zebrik W'!$B$7:$L$1000,11,0)))","v":""}]
[{"$f":"RANK(G307,G:G)","v":301},"Miroslav Stepan",1955,"M","Žamberk","CZ/C2",6339,1,"","",null,null,{"$f":"IF(ISERROR(VLOOKUP(B307,'Zebrik W'!$B$7:$L$1000,11,0)),\"\",IF(VLOOKUP(B307,'Zebrik W'!$B$7:$L$1000,11,0)=0,\"--\",VLOOKUP(B307,'Zebrik W'!$B$7:$L$1000,11,0)))","v":""}]
[{"$f":"RANK(G308,G:G)","v":302},"Michal Buryan",1977,"M","Vysoké Mýto","CZ/C2",6293,1,"","",null,null,{"$f":"IF(ISERROR(VLOOKUP(B308,'Zebrik W'!$B$7:$L$1000,11,0)),\"\",IF(VLOOKUP(B308,'Zebrik W'!$B$7:$L$1000,11,0)=0,\"--\",VLOOKUP(B308,'Zebrik W'!$B$7:$L$1000,11,0)))","v":""}]
[{"$f":"RANK(G309,G:G)","v":303},"Michal Coufal",1999,"M","Jičín","CZ/C2",6265,1,"","",null,null,{"$f":"IF(ISERROR(VLOOKUP(B309,'Zebrik W'!$B$7:$L$1000,11,0)),\"\",IF(VLOOKUP(B309,'Zebrik W'!$B$7:$L$1000,11,0)=0,\"--\",VLOOKUP(B309,'Zebrik W'!$B$7:$L$1000,11,0)))","v":""}]
[{"$f":"RANK(G310,G:G)","v":304},"Frantisek Filandr",1956,"M","Most","CZ/C2",6225,1,"","",null,null,{"$f":"IF(ISERROR(VLOOKUP(B310,'Zebrik W'!$B$7:$L$1000,11,0)),\"\",IF(VLOOKUP(B310,'Zebrik W'!$B$7:$L$1000,11,0)=0,\"--\",VLOOKUP(B310,'Zebrik W'!$B$7:$L$1000,11,0)))","v":""}]
[{"$f":"RANK(G311,G:G)","v":305},"Tomas Holenda",1956,"M","Havlíčkův Brod","CZ/C2",6171,3,"","",null,null,{"$f":"IF(ISERROR(VLOOKUP(B311,'Zebrik W'!$B$7:$L$1000,11,0)),\"\",IF(VLOOKUP(B311,'Zebrik W'!$B$7:$L$1000,11,0)=0,\"--\",VLOOKUP(B311,'Zebrik W'!$B$7:$L$1000,11,0)))","v":""}]
[{"$f":"RANK(G312,G:G)","v":306},"Ondrej Blaha",1976,"M","Letňany","CZ/C1",6143,1,"","",null,null,{"$f":"IF(ISERROR(VLOOKUP(B312,'Zebrik W'!$B$7:$L$1000,11,0)),\"\",IF(VLOOKUP(B312,'Zebrik W'!$B$7:$L$1000,11,0)=0,\"--\",VLOOKUP(B312,'Zebrik W'!$B$7:$L$1000,11,0)))","v":""}]
[{"$f":"RANK(G313,G:G)","v":307},"Ivan Morkovsky",2008,"M","Polička","CZ/C2",6112,1,"Junior v roce 2025","Junior v roce 2026",null,null,{"$f":"IF(ISERROR(VLOOKUP(B313,'Zebrik W'!$B$7:$L$1000,11,0)),\"\",IF(VLOOKUP(B313,'Zebrik W'!$B$7:$L$1000,11,0)=0,\"--\",VLOOKUP(B313,'Zebrik W'!$B$7:$L$1000,11,0)))","v":""}]
[{"$f":"RANK(G314,G:G)","v":308},"Stanislav Poslusny",1965,"M","GAC Benešov","CZ/C1",6080,1,"","",null,null,{"$f":"IF(ISERROR(VLOOKUP(B314,'Zebrik W'!$B$7:$L$1000,11,0)),\"\",IF(VLOOKUP(B314,'Zebrik W'!$B$7:$L$1000,11,0)=0,\"--\",VLOOKUP(B314,'Zebrik W'!$B$7:$L$1000,11,0)))","v":""}]
[{"$f":"RANK(G315,G:G)","v":309},"Michal Linhart",1982,"M","Vyškov","CZ/M",6077,3,"","",null,null,{"$f":"IF(ISERROR(VLOOKUP(B315,'Zebrik W'!$B$7:$L$1000,11,0)),\"\",IF(VLOOKUP(B315,'Zebrik W'!$B$7:$L$1000,11,0)=0,\"--\",VLOOKUP(B315,'Zebrik W'!$B$7:$L$1000,11,0)))","v":""}]
[{"$f":"RANK(G316,G:G)","v":310},"Jan Muknsnabl",1992,"M","Letkov","CZ/C1",5990,1,"","",null,null,{"$f":"IF(ISERROR(VLOOKUP(B316,'Zebrik W'!$B$7:$L$1000,11,0)),\"\",IF(VLOOKUP(B316,'Zebrik W'!$B$7:$L$1000,11,0)=0,\"--\",VLOOKUP(B316,'Zebrik W'!$B$7:$L$1000,11,0)))","v":""}]
[{"$f":"RANK(G317,G:G)","v":311},"Jan Cerveny",1984,"M","Jaroměř","CZ/C2",5982,1,"","",null,null,{"$f":"IF(ISERROR(VLOOKUP(B317,'Zebrik W'!$B$7:$L$1000,11,0)),\"\",IF(VLOOKUP(B317,'Zebrik W'!$B$7:$L$1000,11,0)=0,\"--\",VLOOKUP(B317,'Zebrik W'!$B$7:$L$1000,11,0)))","v":""}]
[{"$f":"RANK(G318,G:G)","v":312},"Petr Seibrt",1974,"M","Náchod","CZ/C2",5941,1,"","",null,null,{"$f":"IF(ISERROR(VLOOKUP(B318,'Zebrik W'!$B$7:$L$1000,11,0)),\"\",IF(VLOOKUP(B318,'Zebrik W'!$B$7:$L$1000,11,0)=0,\"--\",VLOOKUP(B318,'Zebrik W'!$B$7:$L$1000,11,0)))","v":""}]
[{"$f":"RANK(G319,G:G)","v":313},"Petr Tax",1968,"M","Jičín","CZ/C2",5939,1,"","",null,null,{"$f":"IF(ISERROR(VLOOKUP(B319,'Zebrik W'!$B$7:$L$1000,11,0)),\"\",IF(VLOOKUP(B319,'Zebrik W'!$B$7:$L$1000,11,0)=0,\"--\",VLOOKUP(B319,'Zebrik W'!$B$7:$L$1000,11,0)))","v":""}]
[{"$f":"RANK(G320,G:G)","v":314},"Tomas Hulmak",1999,"M","Hosín","CZ/C1",5848,1,"","",null,null,{"$f":"IF(ISERROR(VLOOKUP(B320,'Zebrik W'!$B$7:$L$1000,11,0)),\"\",IF(VLOOKUP(B320,'Zebrik W'!$B$7:$L$1000,11,0)=0,\"--\",VLOOKUP(B320,'Zebrik W'!$B$7:$L$1000,11,0)))","v":""}]
[{"$f":"RANK(G321,G:G)","v":315},"Vaclav Zak",1962,"M","GAC Benešov","CZ/C1",5818,1,"","",null,null,{"$f":"IF(ISERROR(VLOOKUP(B321,'Zebrik W'!$B$7:$L$1000,11,0)),\"\",IF(VLOOKUP(B321,'Zebrik W'!$B$7:$L$1000,11,0)=0,\"--\",VLOOKUP(B321,'Zebrik W'!$B$7:$L$1000,11,0)))","v":""}]
[{"$f":"RANK(G322,G:G)","v":315},"Sarka Lochova",1966,"F","Šumperk","CZ/M",5818,2,"","",null,null,{"$f":"IF(ISERROR(VLOOKUP(B322,'Zebrik W'!$B$7:$L$1000,11,0)),\"\",IF(VLOOKUP(B322,'Zebrik W'!$B$7:$L$1000,11,0)=0,\"--\",VLOOKUP(B322,'Zebrik W'!$B$7:$L$1000,11,0)))","v":"--"}]
[{"$f":"RANK(G323,G:G)","v":317},"Tereza Ludvikova",1997,"F","Jaroměř","CZ/C2",5772,1,"","",null,null,{"$f":"IF(ISERROR(VLOOKUP(B323,'Zebrik W'!$B$7:$L$1000,11,0)),\"\",IF(VLOOKUP(B323,'Zebrik W'!$B$7:$L$1000,11,0)=0,\"--\",VLOOKUP(B323,'Zebrik W'!$B$7:$L$1000,11,0)))","v":"--"}]
[{"$f":"RANK(G324,G:G)","v":318},"Vladislav Cadsky",1975,"M","Kolín","CZ/C1",5753,2,"","",null,null,{"$f":"IF(ISERROR(VLOOKUP(B324,'Zebrik W'!$B$7:$L$1000,11,0)),\"\",IF(VLOOKUP(B324,'Zebrik W'!$B$7:$L$1000,11,0)=0,\"--\",VLOOKUP(B324,'Zebrik W'!$B$7:$L$1000,11,0)))","v":""}]
[{"$f":"RANK(G325,G:G)","v":319},"Jan Zapletal",1997,"M","Břeclav","CZ/M",5738,1,"","",null,null,{"$f":"IF(ISERROR(VLOOKUP(B325,'Zebrik W'!$B$7:$L$1000,11,0)),\"\",IF(VLOOKUP(B325,'Zebrik W'!$B$7:$L$1000,11,0)=0,\"--\",VLOOKUP(B325,'Zebrik W'!$B$7:$L$1000,11,0)))","v":""}]
[{"$f":"RANK(G326,G:G)","v":320},"Jan Rott",1962,"M","Hronov","CZ/C2",5716,1,"","",null,null,{"$f":"IF(ISERROR(VLOOKUP(B326,'Zebrik W'!$B$7:$L$1000,11,0)),\"\",IF(VLOOKUP(B326,'Zebrik W'!$B$7:$L$1000,11,0)=0,\"--\",VLOOKUP(B326,'Zebrik W'!$B$7:$L$1000,11,0)))","v":""}]
[{"$f":"RANK(G327,G:G)","v":321},"Richard Jensen",1965,"M","Zbraslavice","CZ/C1",5607,1,"","",null,null,{"$f":"IF(ISERROR(VLOOKUP(B327,'Zebrik W'!$B$7:$L$1000,11,0)),\"\",IF(VLOOKUP(B327,'Zebrik W'!$B$7:$L$1000,11,0)=0,\"--\",VLOOKUP(B327,'Zebrik W'!$B$7:$L$1000,11,0)))","v":""}]
[{"$f":"RANK(G328,G:G)","v":322},"Oldrich Hlavacek",1973,"M","Medlánky","CZ/M",5536,1,{"$f":"IF(C328=\"(prázdné)\",\"\",IF(($I$4-C328)>25,\"\",\"Junior v roce \"&$I$4))","v":""},{"$f":"IF(C328=\"(prázdné)\",\"\",IF(($J$4-C328)>25,\"\",\"Junior v roce \"&$J$4))","v":""},null,null,{"$f":"IF(ISERROR(VLOOKUP(B328,'Zebrik W'!$B$7:$L$1000,11,0)),\"\",IF(VLOOKUP(B328,'Zebrik W'!$B$7:$L$1000,11,0)=0,\"--\",VLOOKUP(B328,'Zebrik W'!$B$7:$L$1000,11,0)))","v":""}]
[{"$f":"RANK(G329,G:G)","v":323},"Marek Novotny",2004,"M","Kladno","CZ/C1",5522,1,"Junior v roce 2025","Junior v roce 2026",null,null,{"$f":"IF(ISERROR(VLOOKUP(B329,'Zebrik W'!$B$7:$L$1000,11,0)),\"\",IF(VLOOKUP(B329,'Zebrik W'!$B$7:$L$1000,11,0)=0,\"--\",VLOOKUP(B329,'Zebrik W'!$B$7:$L$1000,11,0)))","v":""}]
[{"$f":"RANK(G330,G:G)","v":324},"Dalibor Pek",1968,"M","Raná","CZ/C2",5480,1,"","",null,null,{"$f":"IF(ISERROR(VLOOKUP(B330,'Zebrik W'!$B$7:$L$1000,11,0)),\"\",IF(VLOOKUP(B330,'Zebrik W'!$B$7:$L$1000,11,0)=0,\"--\",VLOOKUP(B330,'Zebrik W'!$B$7:$L$1000,11,0)))","v":""}]
[{"$f":"RANK(G331,G:G)","v":325},"Petr Fisar",1974,"M","Ústí nad Orlicí","CZ/C2",5459,1,"","",null,null,{"$f":"IF(ISERROR(VLOOKUP(B331,'Zebrik W'!$B$7:$L$1000,11,0)),\"\",IF(VLOOKUP(B331,'Zebrik W'!$B$7:$L$1000,11,0)=0,\"--\",VLOOKUP(B331,'Zebrik W'!$B$7:$L$1000,11,0)))","v":""}]
[{"$f":"RANK(G332,G:G)","v":326},"Daniel Novak",1971,"M","Letkov","CZ/C1",5436,1,"","",null,null,{"$f":"IF(ISERROR(VLOOKUP(B332,'Zebrik W'!$B$7:$L$1000,11,0)),\"\",IF(VLOOKUP(B332,'Zebrik W'!$B$7:$L$1000,11,0)=0,\"--\",VLOOKUP(B332,'Zebrik W'!$B$7:$L$1000,11,0)))","v":""}]
[{"$f":"RANK(G333,G:G)","v":327},"Jaroslav Hot",1965,"M","Toužim","CZ/C1",5422,2,"","",null,null,{"$f":"IF(ISERROR(VLOOKUP(B333,'Zebrik W'!$B$7:$L$1000,11,0)),\"\",IF(VLOOKUP(B333,'Zebrik W'!$B$7:$L$1000,11,0)=0,\"--\",VLOOKUP(B333,'Zebrik W'!$B$7:$L$1000,11,0)))","v":""}]
[{"$f":"RANK(G334,G:G)","v":328},"Tereza Novakova",1993,"F","Chrudim","CZ/C2",5377,2,"","",null,null,{"$f":"IF(ISERROR(VLOOKUP(B334,'Zebrik W'!$B$7:$L$1000,11,0)),\"\",IF(VLOOKUP(B334,'Zebrik W'!$B$7:$L$1000,11,0)=0,\"--\",VLOOKUP(B334,'Zebrik W'!$B$7:$L$1000,11,0)))","v":"--"}]
[{"$f":"RANK(G335,G:G)","v":329},"Jakub Hlavacek",1991,"M","Letkov","CZ/C1",5283,1,"","",null,null,{"$f":"IF(ISERROR(VLOOKUP(B335,'Zebrik W'!$B$7:$L$1000,11,0)),\"\",IF(VLOOKUP(B335,'Zebrik W'!$B$7:$L$1000,11,0)=0,\"--\",VLOOKUP(B335,'Zebrik W'!$B$7:$L$1000,11,0)))","v":""}]
[{"$f":"RANK(G336,G:G)","v":330},"Miroslav Macik",1983,"M","Rakovník","CZ/C1",5231,1,"","",null,null,{"$f":"IF(ISERROR(VLOOKUP(B336,'Zebrik W'!$B$7:$L$1000,11,0)),\"\",IF(VLOOKUP(B336,'Zebrik W'!$B$7:$L$1000,11,0)=0,\"--\",VLOOKUP(B336,'Zebrik W'!$B$7:$L$1000,11,0)))","v":""}]
[{"$f":"RANK(G337,G:G)","v":331},"Matej Jelinek",1999,"M","Hronov","CZ/C2",5206,1,"","",null,null,{"$f":"IF(ISERROR(VLOOKUP(B337,'Zebrik W'!$B$7:$L$1000,11,0)),\"\",IF(VLOOKUP(B337,'Zebrik W'!$B$7:$L$1000,11,0)=0,\"--\",VLOOKUP(B337,'Zebrik W'!$B$7:$L$1000,11,0)))","v":""}]
[{"$f":"RANK(G338,G:G)","v":332},"Martin Vnoucek",1972,"M","Vlašim","CZ/C1",5203,1,"","",null,null,{"$f":"IF(ISERROR(VLOOKUP(B338,'Zebrik W'!$B$7:$L$1000,11,0)),\"\",IF(VLOOKUP(B338,'Zebrik W'!$B$7:$L$1000,11,0)=0,\"--\",VLOOKUP(B338,'Zebrik W'!$B$7:$L$1000,11,0)))","v":""}]
[{"$f":"RANK(G339,G:G)","v":333},"Dusan Gadas",1960,"M","Hranice","CZ/M",5134,1,"","",null,null,{"$f":"IF(ISERROR(VLOOKUP(B339,'Zebrik W'!$B$7:$L$1000,11,0)),\"\",IF(VLOOKUP(B339,'Zebrik W'!$B$7:$L$1000,11,0)=0,\"--\",VLOOKUP(B339,'Zebrik W'!$B$7:$L$1000,11,0)))","v":""}]
[{"$f":"RANK(G340,G:G)","v":334},"Martin Neuvirt",2001,"M","Přibyslav","CZ/C2",5078,1,"Junior v roce 2025","Junior v roce 2026",null,null,{"$f":"IF(ISERROR(VLOOKUP(B340,'Zebrik W'!$B$7:$L$1000,11,0)),\"\",IF(VLOOKUP(B340,'Zebrik W'!$B$7:$L$1000,11,0)=0,\"--\",VLOOKUP(B340,'Zebrik W'!$B$7:$L$1000,11,0)))","v":""}]
[{"$f":"RANK(G341,G:G)","v":335},"Radek Bartos",1971,"M","Kolín","CZ/C1",5062,3,"","",null,null,{"$f":"IF(ISERROR(VLOOKUP(B341,'Zebrik W'!$B$7:$L$1000,11,0)),\"\",IF(VLOOKUP(B341,'Zebrik W'!$B$7:$L$1000,11,0)=0,\"--\",VLOOKUP(B341,'Zebrik W'!$B$7:$L$1000,11,0)))","v":""}]
[{"$f":"RANK(G342,G:G)","v":336},"Anna Lanzendorfova",2005,"F","Letkov","CZ/C1",4981,1,"Junior v roce 2025","Junior v roce 2026",null,null,{"$f":"IF(ISERROR(VLOOKUP(B342,'Zebrik W'!$B$7:$L$1000,11,0)),\"\",IF(VLOOKUP(B342,'Zebrik W'!$B$7:$L$1000,11,0)=0,\"--\",VLOOKUP(B342,'Zebrik W'!$B$7:$L$1000,11,0)))","v":"--"}]
[{"$f":"RANK(G343,G:G)","v":337},"Linda Vasatova",1990,"F","Mladá Boleslav","CZ/C1",4951,1,"","",null,null,{"$f":"IF(ISERROR(VLOOKUP(B343,'Zebrik W'!$B$7:$L$1000,11,0)),\"\",IF(VLOOKUP(B343,'Zebrik W'!$B$7:$L$1000,11,0)=0,\"--\",VLOOKUP(B343,'Zebrik W'!$B$7:$L$1000,11,0)))","v":"--"}]
[{"$f":"RANK(G344,G:G)","v":338},"Roman Michalek",1974,"M","Toužim","CZ/C1",4916,3,"","",null,null,{"$f":"IF(ISERROR(VLOOKUP(B344,'Zebrik W'!$B$7:$L$1000,11,0)),\"\",IF(VLOOKUP(B344,'Zebrik W'!$B$7:$L$1000,11,0)=0,\"--\",VLOOKUP(B344,'Zebrik W'!$B$7:$L$1000,11,0)))","v":""}]
[{"$f":"RANK(G345,G:G)","v":339},"Matous Schmidt",1981,"M","Letňany","CZ/C1",4899,2,"","",null,null,{"$f":"IF(ISERROR(VLOOKUP(B345,'Zebrik W'!$B$7:$L$1000,11,0)),\"\",IF(VLOOKUP(B345,'Zebrik W'!$B$7:$L$1000,11,0)=0,\"--\",VLOOKUP(B345,'Zebrik W'!$B$7:$L$1000,11,0)))","v":""}]
[{"$f":"RANK(G346,G:G)","v":340},"Jan Sobek",2004,"M","Hranice","CZ/M",4846,1,"Junior v roce 2025","Junior v roce 2026",null,null,{"$f":"IF(ISERROR(VLOOKUP(B346,'Zebrik W'!$B$7:$L$1000,11,0)),\"\",IF(VLOOKUP(B346,'Zebrik W'!$B$7:$L$1000,11,0)=0,\"--\",VLOOKUP(B346,'Zebrik W'!$B$7:$L$1000,11,0)))","v":""}]
[{"$f":"RANK(G347,G:G)","v":341},"Antonin Bordovsky",1951,"M","Krnov","CZ/M",4840,1,"","",null,null,{"$f":"IF(ISERROR(VLOOKUP(B347,'Zebrik W'!$B$7:$L$1000,11,0)),\"\",IF(VLOOKUP(B347,'Zebrik W'!$B$7:$L$1000,11,0)=0,\"--\",VLOOKUP(B347,'Zebrik W'!$B$7:$L$1000,11,0)))","v":""}]
[{"$f":"RANK(G348,G:G)","v":342},"Jan Konecny",1972,"M","Rakovník","CZ/C1",4787,1,"","",null,null,{"$f":"IF(ISERROR(VLOOKUP(B348,'Zebrik W'!$B$7:$L$1000,11,0)),\"\",IF(VLOOKUP(B348,'Zebrik W'!$B$7:$L$1000,11,0)=0,\"--\",VLOOKUP(B348,'Zebrik W'!$B$7:$L$1000,11,0)))","v":""}]
[{"$f":"RANK(G349,G:G)","v":343},"Petr Vodicka",1965,"M","Jaroměř","CZ/C2",4708,1,"","",null,null,{"$f":"IF(ISERROR(VLOOKUP(B349,'Zebrik W'!$B$7:$L$1000,11,0)),\"\",IF(VLOOKUP(B349,'Zebrik W'!$B$7:$L$1000,11,0)=0,\"--\",VLOOKUP(B349,'Zebrik W'!$B$7:$L$1000,11,0)))","v":""}]
[{"$f":"RANK(G350,G:G)","v":344},"Petr Vezda",1974,"M","Medlánky","CZ/M",4695,1,"","",null,null,{"$f":"IF(ISERROR(VLOOKUP(B350,'Zebrik W'!$B$7:$L$1000,11,0)),\"\",IF(VLOOKUP(B350,'Zebrik W'!$B$7:$L$1000,11,0)=0,\"--\",VLOOKUP(B350,'Zebrik W'!$B$7:$L$1000,11,0)))","v":""}]
[{"$f":"RANK(G351,G:G)","v":345},"Josef Kreutzer",1992,"M","Letkov","CZ/C1",4683,1,"","",null,null,{"$f":"IF(ISERROR(VLOOKUP(B351,'Zebrik W'!$B$7:$L$1000,11,0)),\"\",IF(VLOOKUP(B351,'Zebrik W'!$B$7:$L$1000,11,0)=0,\"--\",VLOOKUP(B351,'Zebrik W'!$B$7:$L$1000,11,0)))","v":""}]
[{"$f":"RANK(G352,G:G)","v":346},"Boris Bachraty",1974,"M","Kyjov","CZ/M",4668,1,"","",null,null,{"$f":"IF(ISERROR(VLOOKUP(B352,'Zebrik W'!$B$7:$L$1000,11,0)),\"\",IF(VLOOKUP(B352,'Zebrik W'!$B$7:$L$1000,11,0)=0,\"--\",VLOOKUP(B352,'Zebrik W'!$B$7:$L$1000,11,0)))","v":""}]
[{"$f":"RANK(G353,G:G)","v":347},"Adam Laburda",2005,"M","Raná","CZ/C2",4647,1,"Junior v roce 2025","Junior v roce 2026",null,null,{"$f":"IF(ISERROR(VLOOKUP(B353,'Zebrik W'!$B$7:$L$1000,11,0)),\"\",IF(VLOOKUP(B353,'Zebrik W'!$B$7:$L$1000,11,0)=0,\"--\",VLOOKUP(B353,'Zebrik W'!$B$7:$L$1000,11,0)))","v":""}]
[{"$f":"RANK(G354,G:G)","v":348},"Eva Klapkova",1993,"F","Raná","CZ/C2",4620,2,"","",null,null,{"$f":"IF(ISERROR(VLOOKUP(B354,'Zebrik W'!$B$7:$L$1000,11,0)),\"\",IF(VLOOKUP(B354,'Zebrik W'!$B$7:$L$1000,11,0)=0,\"--\",VLOOKUP(B354,'Zebrik W'!$B$7:$L$1000,11,0)))","v":"--"}]
[{"$f":"RANK(G355,G:G)","v":349},"Radek Tobolka",1977,"M","Jičín","CZ/C2",4581,1,"","",null,null,{"$f":"IF(ISERROR(VLOOKUP(B355,'Zebrik W'!$B$7:$L$1000,11,0)),\"\",IF(VLOOKUP(B355,'Zebrik W'!$B$7:$L$1000,11,0)=0,\"--\",VLOOKUP(B355,'Zebrik W'!$B$7:$L$1000,11,0)))","v":""}]
[{"$f":"RANK(G356,G:G)","v":350},"Daniel Marek",1983,"M","Hosín","CZ/C1",4472,1,"","",null,null,{"$f":"IF(ISERROR(VLOOKUP(B356,'Zebrik W'!$B$7:$L$1000,11,0)),\"\",IF(VLOOKUP(B356,'Zebrik W'!$B$7:$L$1000,11,0)=0,\"--\",VLOOKUP(B356,'Zebrik W'!$B$7:$L$1000,11,0)))","v":""}]
[{"$f":"RANK(G357,G:G)","v":351},"Vojtech Kostejn",1974,"M","Česká Lípa","CZ/C2",4427,1,"","",null,null,{"$f":"IF(ISERROR(VLOOKUP(B357,'Zebrik W'!$B$7:$L$1000,11,0)),\"\",IF(VLOOKUP(B357,'Zebrik W'!$B$7:$L$1000,11,0)=0,\"--\",VLOOKUP(B357,'Zebrik W'!$B$7:$L$1000,11,0)))","v":""}]
[{"$f":"RANK(G358,G:G)","v":352},"Pavel Svetlik",1968,"M","Kunovice","CZ/M",4406,1,"","",null,null,{"$f":"IF(ISERROR(VLOOKUP(B358,'Zebrik W'!$B$7:$L$1000,11,0)),\"\",IF(VLOOKUP(B358,'Zebrik W'!$B$7:$L$1000,11,0)=0,\"--\",VLOOKUP(B358,'Zebrik W'!$B$7:$L$1000,11,0)))","v":""}]
[{"$f":"RANK(G359,G:G)","v":353},"Tomas Zamecnik",1988,"M","Zbraslavice","CZ/C1",4405,1,"","",null,null,{"$f":"IF(ISERROR(VLOOKUP(B359,'Zebrik W'!$B$7:$L$1000,11,0)),\"\",IF(VLOOKUP(B359,'Zebrik W'!$B$7:$L$1000,11,0)=0,\"--\",VLOOKUP(B359,'Zebrik W'!$B$7:$L$1000,11,0)))","v":""}]
[{"$f":"RANK(G360,G:G)","v":354},"Michal Prochazka",2006,"M","Beroun","CZ/C1",4393,1,"Junior v roce 2025","Junior v roce 2026",null,null,{"$f":"IF(ISERROR(VLOOKUP(B360,'Zebrik W'!$B$7:$L$1000,11,0)),\"\",IF(VLOOKUP(B360,'Zebrik W'!$B$7:$L$1000,11,0)=0,\"--\",VLOOKUP(B360,'Zebrik W'!$B$7:$L$1000,11,0)))","v":""}]
[{"$f":"RANK(G361,G:G)","v":355},"Jan Sustr 76",1976,"M","Raná","CZ/C2",4386,1,"","",null,null,{"$f":"IF(ISERROR(VLOOKUP(B361,'Zebrik W'!$B$7:$L$1000,11,0)),\"\",IF(VLOOKUP(B361,'Zebrik W'!$B$7:$L$1000,11,0)=0,\"--\",VLOOKUP(B361,'Zebrik W'!$B$7:$L$1000,11,0)))","v":""}]
[{"$f":"RANK(G362,G:G)","v":356},"Jaromir Jedlicka",1972,"M","Letňany","CZ/C1",4255,1,"","",null,null,{"$f":"IF(ISERROR(VLOOKUP(B362,'Zebrik W'!$B$7:$L$1000,11,0)),\"\",IF(VLOOKUP(B362,'Zebrik W'!$B$7:$L$1000,11,0)=0,\"--\",VLOOKUP(B362,'Zebrik W'!$B$7:$L$1000,11,0)))","v":""}]
[{"$f":"RANK(G363,G:G)","v":357},"Ondrej Hurina",2003,"M","Zábřeh","CZ/M",4219,1,"Junior v roce 2025","Junior v roce 2026",null,null,{"$f":"IF(ISERROR(VLOOKUP(B363,'Zebrik W'!$B$7:$L$1000,11,0)),\"\",IF(VLOOKUP(B363,'Zebrik W'!$B$7:$L$1000,11,0)=0,\"--\",VLOOKUP(B363,'Zebrik W'!$B$7:$L$1000,11,0)))","v":""}]
[{"$f":"RANK(G364,G:G)","v":358},"Dusan Patocka",1972,"M","Vrchlabí","CZ/C2",4217,1,"","",null,null,{"$f":"IF(ISERROR(VLOOKUP(B364,'Zebrik W'!$B$7:$L$1000,11,0)),\"\",IF(VLOOKUP(B364,'Zebrik W'!$B$7:$L$1000,11,0)=0,\"--\",VLOOKUP(B364,'Zebrik W'!$B$7:$L$1000,11,0)))","v":""}]
[{"$f":"RANK(G365,G:G)","v":359},"Jan Sobotka",1973,"M","Vyškov","CZ/M",4205,2,"","",null,null,{"$f":"IF(ISERROR(VLOOKUP(B365,'Zebrik W'!$B$7:$L$1000,11,0)),\"\",IF(VLOOKUP(B365,'Zebrik W'!$B$7:$L$1000,11,0)=0,\"--\",VLOOKUP(B365,'Zebrik W'!$B$7:$L$1000,11,0)))","v":""}]
[{"$f":"RANK(G366,G:G)","v":360},"Peter Kaspar",1980,"M","Vyškov","CZ/M",4113,1,"","",null,null,{"$f":"IF(ISERROR(VLOOKUP(B366,'Zebrik W'!$B$7:$L$1000,11,0)),\"\",IF(VLOOKUP(B366,'Zebrik W'!$B$7:$L$1000,11,0)=0,\"--\",VLOOKUP(B366,'Zebrik W'!$B$7:$L$1000,11,0)))","v":""}]
[{"$f":"RANK(G367,G:G)","v":361},"Jaroslav Sefc",1971,"M","Broumov","CZ/C2",4107,2,"","",null,null,{"$f":"IF(ISERROR(VLOOKUP(B367,'Zebrik W'!$B$7:$L$1000,11,0)),\"\",IF(VLOOKUP(B367,'Zebrik W'!$B$7:$L$1000,11,0)=0,\"--\",VLOOKUP(B367,'Zebrik W'!$B$7:$L$1000,11,0)))","v":""}]
[{"$f":"RANK(G368,G:G)","v":362},"Tomas Novak",1974,"M","Česká Lípa","CZ/C2",4087,1,"","",null,null,{"$f":"IF(ISERROR(VLOOKUP(B368,'Zebrik W'!$B$7:$L$1000,11,0)),\"\",IF(VLOOKUP(B368,'Zebrik W'!$B$7:$L$1000,11,0)=0,\"--\",VLOOKUP(B368,'Zebrik W'!$B$7:$L$1000,11,0)))","v":""}]
[{"$f":"RANK(G369,G:G)","v":363},"Petr Valenta 76",1976,"M","Jaroměř","CZ/C2",3990,1,"","",null,null,{"$f":"IF(ISERROR(VLOOKUP(B369,'Zebrik W'!$B$7:$L$1000,11,0)),\"\",IF(VLOOKUP(B369,'Zebrik W'!$B$7:$L$1000,11,0)=0,\"--\",VLOOKUP(B369,'Zebrik W'!$B$7:$L$1000,11,0)))","v":""}]
[{"$f":"RANK(G370,G:G)","v":364},"Ondrej Stepan",1984,"M","Žamberk","CZ/C2",3970,1,"","",null,null,{"$f":"IF(ISERROR(VLOOKUP(B370,'Zebrik W'!$B$7:$L$1000,11,0)),\"\",IF(VLOOKUP(B370,'Zebrik W'!$B$7:$L$1000,11,0)=0,\"--\",VLOOKUP(B370,'Zebrik W'!$B$7:$L$1000,11,0)))","v":""}]
[{"$f":"RANK(G371,G:G)","v":365},"Petr Jedlicka",1987,"M","Medlánky","CZ/M",3961,1,"","",null,null,{"$f":"IF(ISERROR(VLOOKUP(B371,'Zebrik W'!$B$7:$L$1000,11,0)),\"\",IF(VLOOKUP(B371,'Zebrik W'!$B$7:$L$1000,11,0)=0,\"--\",VLOOKUP(B371,'Zebrik W'!$B$7:$L$1000,11,0)))","v":""}]
[{"$f":"RANK(G372,G:G)","v":366},"Josef Beran",1982,"M","Slaný","CZ/C1",3900,1,"","",null,null,{"$f":"IF(ISERROR(VLOOKUP(B372,'Zebrik W'!$B$7:$L$1000,11,0)),\"\",IF(VLOOKUP(B372,'Zebrik W'!$B$7:$L$1000,11,0)=0,\"--\",VLOOKUP(B372,'Zebrik W'!$B$7:$L$1000,11,0)))","v":""}]
[{"$f":"RANK(G373,G:G)","v":367},"Milos Hrabe",1979,"M","Letňany","CZ/C1",3879,3,"","",null,null,{"$f":"IF(ISERROR(VLOOKUP(B373,'Zebrik W'!$B$7:$L$1000,11,0)),\"\",IF(VLOOKUP(B373,'Zebrik W'!$B$7:$L$1000,11,0)=0,\"--\",VLOOKUP(B373,'Zebrik W'!$B$7:$L$1000,11,0)))","v":""}]
[{"$f":"RANK(G374,G:G)","v":368},"Jaromir Hendrych",1954,"M","Raná","CZ/C2",3855,1,"","",null,null,{"$f":"IF(ISERROR(VLOOKUP(B374,'Zebrik W'!$B$7:$L$1000,11,0)),\"\",IF(VLOOKUP(B374,'Zebrik W'!$B$7:$L$1000,11,0)=0,\"--\",VLOOKUP(B374,'Zebrik W'!$B$7:$L$1000,11,0)))","v":""}]
[{"$f":"RANK(G375,G:G)","v":369},"Milos Pajr",1966,"M","Jičín","CZ/C2",3769,1,"","",null,null,{"$f":"IF(ISERROR(VLOOKUP(B375,'Zebrik W'!$B$7:$L$1000,11,0)),\"\",IF(VLOOKUP(B375,'Zebrik W'!$B$7:$L$1000,11,0)=0,\"--\",VLOOKUP(B375,'Zebrik W'!$B$7:$L$1000,11,0)))","v":""}]
[{"$f":"RANK(G376,G:G)","v":370},"Jiri Pelucha",1984,"M","Frýdlant","CZ/M",3694,1,"","",null,null,{"$f":"IF(ISERROR(VLOOKUP(B376,'Zebrik W'!$B$7:$L$1000,11,0)),\"\",IF(VLOOKUP(B376,'Zebrik W'!$B$7:$L$1000,11,0)=0,\"--\",VLOOKUP(B376,'Zebrik W'!$B$7:$L$1000,11,0)))","v":""}]
[{"$f":"RANK(G377,G:G)","v":371},"Milos Nyvlt",1963,"M","Hronov","CZ/C2",3635,1,"","",null,null,{"$f":"IF(ISERROR(VLOOKUP(B377,'Zebrik W'!$B$7:$L$1000,11,0)),\"\",IF(VLOOKUP(B377,'Zebrik W'!$B$7:$L$1000,11,0)=0,\"--\",VLOOKUP(B377,'Zebrik W'!$B$7:$L$1000,11,0)))","v":""}]
[{"$f":"RANK(G378,G:G)","v":372},"Martin Stransky",1964,"M","Jičín","CZ/C2",3564,1,"","",null,null,{"$f":"IF(ISERROR(VLOOKUP(B378,'Zebrik W'!$B$7:$L$1000,11,0)),\"\",IF(VLOOKUP(B378,'Zebrik W'!$B$7:$L$1000,11,0)=0,\"--\",VLOOKUP(B378,'Zebrik W'!$B$7:$L$1000,11,0)))","v":""}]
[{"$f":"RANK(G379,G:G)","v":373},"Daniel Devecka",1981,"M","Vlašim","CZ/C1",3563,1,"","",null,null,{"$f":"IF(ISERROR(VLOOKUP(B379,'Zebrik W'!$B$7:$L$1000,11,0)),\"\",IF(VLOOKUP(B379,'Zebrik W'!$B$7:$L$1000,11,0)=0,\"--\",VLOOKUP(B379,'Zebrik W'!$B$7:$L$1000,11,0)))","v":""}]
[{"$f":"RANK(G380,G:G)","v":374},"Josef Hlusek",1993,"M","Kunovice","CZ/M",3502,2,"","",null,null,{"$f":"IF(ISERROR(VLOOKUP(B380,'Zebrik W'!$B$7:$L$1000,11,0)),\"\",IF(VLOOKUP(B380,'Zebrik W'!$B$7:$L$1000,11,0)=0,\"--\",VLOOKUP(B380,'Zebrik W'!$B$7:$L$1000,11,0)))","v":""}]
[{"$f":"RANK(G381,G:G)","v":375},"Karel Ertl",1939,"M","LK Břeclav","CZ/M",3462,3,"","",null,null,{"$f":"IF(ISERROR(VLOOKUP(B381,'Zebrik W'!$B$7:$L$1000,11,0)),\"\",IF(VLOOKUP(B381,'Zebrik W'!$B$7:$L$1000,11,0)=0,\"--\",VLOOKUP(B381,'Zebrik W'!$B$7:$L$1000,11,0)))","v":""}]
[{"$f":"RANK(G382,G:G)","v":376},"Vojtech Sehnal",1994,"M","Kolín","CZ/C1",3401,1,"","",null,null,{"$f":"IF(ISERROR(VLOOKUP(B382,'Zebrik W'!$B$7:$L$1000,11,0)),\"\",IF(VLOOKUP(B382,'Zebrik W'!$B$7:$L$1000,11,0)=0,\"--\",VLOOKUP(B382,'Zebrik W'!$B$7:$L$1000,11,0)))","v":""}]
[{"$f":"RANK(G383,G:G)","v":377},"Boris Guic",1966,"M","Zbraslavice","CZ/C1",3308,1,"","",null,null,{"$f":"IF(ISERROR(VLOOKUP(B383,'Zebrik W'!$B$7:$L$1000,11,0)),\"\",IF(VLOOKUP(B383,'Zebrik W'!$B$7:$L$1000,11,0)=0,\"--\",VLOOKUP(B383,'Zebrik W'!$B$7:$L$1000,11,0)))","v":""}]
[{"$f":"RANK(G384,G:G)","v":378},"Michal Fortik",1976,"M","Točná","CZ/C1",3304,1,"","",null,null,{"$f":"IF(ISERROR(VLOOKUP(B384,'Zebrik W'!$B$7:$L$1000,11,0)),\"\",IF(VLOOKUP(B384,'Zebrik W'!$B$7:$L$1000,11,0)=0,\"--\",VLOOKUP(B384,'Zebrik W'!$B$7:$L$1000,11,0)))","v":""}]
[{"$f":"RANK(G385,G:G)","v":379},"Radim Zielinski",1969,"M","Frýdlant","CZ/M",3272,1,"","",null,null,{"$f":"IF(ISERROR(VLOOKUP(B385,'Zebrik W'!$B$7:$L$1000,11,0)),\"\",IF(VLOOKUP(B385,'Zebrik W'!$B$7:$L$1000,11,0)=0,\"--\",VLOOKUP(B385,'Zebrik W'!$B$7:$L$1000,11,0)))","v":""}]
[{"$f":"RANK(G386,G:G)","v":380},"Rostislav Fric",1973,"M","Raná","CZ/C2",3224,1,"","",null,null,{"$f":"IF(ISERROR(VLOOKUP(B386,'Zebrik W'!$B$7:$L$1000,11,0)),\"\",IF(VLOOKUP(B386,'Zebrik W'!$B$7:$L$1000,11,0)=0,\"--\",VLOOKUP(B386,'Zebrik W'!$B$7:$L$1000,11,0)))","v":""}]
[{"$f":"RANK(G387,G:G)","v":381},"Martin Krizovic",1971,"M","Přibyslav","CZ/C2",3200,1,"","",null,null,{"$f":"IF(ISERROR(VLOOKUP(B387,'Zebrik W'!$B$7:$L$1000,11,0)),\"\",IF(VLOOKUP(B387,'Zebrik W'!$B$7:$L$1000,11,0)=0,\"--\",VLOOKUP(B387,'Zebrik W'!$B$7:$L$1000,11,0)))","v":""}]
[{"$f":"RANK(G388,G:G)","v":382},"Petr Sochor",1986,"M","Hosín","CZ/C1",3116,1,"","",null,null,{"$f":"IF(ISERROR(VLOOKUP(B388,'Zebrik W'!$B$7:$L$1000,11,0)),\"\",IF(VLOOKUP(B388,'Zebrik W'!$B$7:$L$1000,11,0)=0,\"--\",VLOOKUP(B388,'Zebrik W'!$B$7:$L$1000,11,0)))","v":""}]
[{"$f":"RANK(G389,G:G)","v":383},"Jiri Suchomel",1950,"M","Broumov","CZ/C2",3038,1,"","",null,null,{"$f":"IF(ISERROR(VLOOKUP(B389,'Zebrik W'!$B$7:$L$1000,11,0)),\"\",IF(VLOOKUP(B389,'Zebrik W'!$B$7:$L$1000,11,0)=0,\"--\",VLOOKUP(B389,'Zebrik W'!$B$7:$L$1000,11,0)))","v":""}]
[{"$f":"RANK(G390,G:G)","v":384},"Michal Ondracek",1966,"M","Medlánky","CZ/M",3019,1,"","",null,null,{"$f":"IF(ISERROR(VLOOKUP(B390,'Zebrik W'!$B$7:$L$1000,11,0)),\"\",IF(VLOOKUP(B390,'Zebrik W'!$B$7:$L$1000,11,0)=0,\"--\",VLOOKUP(B390,'Zebrik W'!$B$7:$L$1000,11,0)))","v":""}]
[{"$f":"RANK(G391,G:G)","v":385},"Jakub Safar",1990,"M","Olomouc","CZ/M",2968,1,"","",null,null,{"$f":"IF(ISERROR(VLOOKUP(B391,'Zebrik W'!$B$7:$L$1000,11,0)),\"\",IF(VLOOKUP(B391,'Zebrik W'!$B$7:$L$1000,11,0)=0,\"--\",VLOOKUP(B391,'Zebrik W'!$B$7:$L$1000,11,0)))","v":""}]
[{"$f":"RANK(G392,G:G)","v":386},"Ondrej Hart",1990,"M","Letňany","CZ/C1",2954,1,{"$f":"IF(C392=\"(prázdné)\",\"\",IF(($I$4-C392)>25,\"\",\"Junior v roce \"&$I$4))","v":""},{"$f":"IF(C392=\"(prázdné)\",\"\",IF(($J$4-C392)>25,\"\",\"Junior v roce \"&$J$4))","v":""},null,null,{"$f":"IF(ISERROR(VLOOKUP(B392,'Zebrik W'!$B$7:$L$1000,11,0)),\"\",IF(VLOOKUP(B392,'Zebrik W'!$B$7:$L$1000,11,0)=0,\"--\",VLOOKUP(B392,'Zebrik W'!$B$7:$L$1000,11,0)))","v":""}]
[{"$f":"RANK(G393,G:G)","v":387},"Libor Bednarik",1972,"M","Kunovice","CZ/M",2897,1,"","",null,null,{"$f":"IF(ISERROR(VLOOKUP(B393,'Zebrik W'!$B$7:$L$1000,11,0)),\"\",IF(VLOOKUP(B393,'Zebrik W'!$B$7:$L$1000,11,0)=0,\"--\",VLOOKUP(B393,'Zebrik W'!$B$7:$L$1000,11,0)))","v":""}]
[{"$f":"RANK(G394,G:G)","v":388},"Petr Cernicky",1974,"M","Toužim","CZ/C1",2842,2,"","",null,null,{"$f":"IF(ISERROR(VLOOKUP(B394,'Zebrik W'!$B$7:$L$1000,11,0)),\"\",IF(VLOOKUP(B394,'Zebrik W'!$B$7:$L$1000,11,0)=0,\"--\",VLOOKUP(B394,'Zebrik W'!$B$7:$L$1000,11,0)))","v":""}]
[{"$f":"RANK(G395,G:G)","v":389},"Jiri Veprek",1959,"M","Dvůr Králové","CZ/C2",2814,3,"","",null,null,{"$f":"IF(ISERROR(VLOOKUP(B395,'Zebrik W'!$B$7:$L$1000,11,0)),\"\",IF(VLOOKUP(B395,'Zebrik W'!$B$7:$L$1000,11,0)=0,\"--\",VLOOKUP(B395,'Zebrik W'!$B$7:$L$1000,11,0)))","v":""}]
[{"$f":"RANK(G396,G:G)","v":390},"Juraj Dudas",1990,"M","Křižanov","CZ/M",2794,1,"","",null,null,{"$f":"IF(ISERROR(VLOOKUP(B396,'Zebrik W'!$B$7:$L$1000,11,0)),\"\",IF(VLOOKUP(B396,'Zebrik W'!$B$7:$L$1000,11,0)=0,\"--\",VLOOKUP(B396,'Zebrik W'!$B$7:$L$1000,11,0)))","v":""}]
[{"$f":"RANK(G397,G:G)","v":391},"Filip Riabec",2006,"M","Broumov","CZ/C2",2775,1,"Junior v roce 2025","Junior v roce 2026",null,null,{"$f":"IF(ISERROR(VLOOKUP(B397,'Zebrik W'!$B$7:$L$1000,11,0)),\"\",IF(VLOOKUP(B397,'Zebrik W'!$B$7:$L$1000,11,0)=0,\"--\",VLOOKUP(B397,'Zebrik W'!$B$7:$L$1000,11,0)))","v":""}]
[{"$f":"RANK(G398,G:G)","v":392},"Jan Karas",1985,"M","Jihlava","CZ/M",2772,1,"","",null,null,{"$f":"IF(ISERROR(VLOOKUP(B398,'Zebrik W'!$B$7:$L$1000,11,0)),\"\",IF(VLOOKUP(B398,'Zebrik W'!$B$7:$L$1000,11,0)=0,\"--\",VLOOKUP(B398,'Zebrik W'!$B$7:$L$1000,11,0)))","v":""}]
[{"$f":"RANK(G399,G:G)","v":393},"Jan Blaha",1983,"M","Kyjov","CZ/M",2750,1,"","",null,null,{"$f":"IF(ISERROR(VLOOKUP(B399,'Zebrik W'!$B$7:$L$1000,11,0)),\"\",IF(VLOOKUP(B399,'Zebrik W'!$B$7:$L$1000,11,0)=0,\"--\",VLOOKUP(B399,'Zebrik W'!$B$7:$L$1000,11,0)))","v":""}]
[{"$f":"RANK(G400,G:G)","v":394},"Michal Janda",1972,"M","Broumov","CZ/C2",2720,1,"","",null,null,{"$f":"IF(ISERROR(VLOOKUP(B400,'Zebrik W'!$B$7:$L$1000,11,0)),\"\",IF(VLOOKUP(B400,'Zebrik W'!$B$7:$L$1000,11,0)=0,\"--\",VLOOKUP(B400,'Zebrik W'!$B$7:$L$1000,11,0)))","v":""}]
[{"$f":"RANK(G401,G:G)","v":395},"Lubomir Mekota",1956,"M","Plasy","CZ/C1",2671,1,"","",null,null,{"$f":"IF(ISERROR(VLOOKUP(B401,'Zebrik W'!$B$7:$L$1000,11,0)),\"\",IF(VLOOKUP(B401,'Zebrik W'!$B$7:$L$1000,11,0)=0,\"--\",VLOOKUP(B401,'Zebrik W'!$B$7:$L$1000,11,0)))","v":""}]
[{"$f":"RANK(G402,G:G)","v":396},"Vojtech Bystricky",2004,"M","Strakonice","CZ/C1",2647,1,"Junior v roce 2025","Junior v roce 2026",null,null,{"$f":"IF(ISERROR(VLOOKUP(B402,'Zebrik W'!$B$7:$L$1000,11,0)),\"\",IF(VLOOKUP(B402,'Zebrik W'!$B$7:$L$1000,11,0)=0,\"--\",VLOOKUP(B402,'Zebrik W'!$B$7:$L$1000,11,0)))","v":""}]
[{"$f":"RANK(G403,G:G)","v":397},"Ludek Mikl",1963,"M","Šumperk","CZ/M",2589,2,"","",null,null,{"$f":"IF(ISERROR(VLOOKUP(B403,'Zebrik W'!$B$7:$L$1000,11,0)),\"\",IF(VLOOKUP(B403,'Zebrik W'!$B$7:$L$1000,11,0)=0,\"--\",VLOOKUP(B403,'Zebrik W'!$B$7:$L$1000,11,0)))","v":""}]
[{"$f":"RANK(G404,G:G)","v":398},"Jiri Vavrina",1958,"M","Kyjov","CZ/M",2577,1,"","",null,null,{"$f":"IF(ISERROR(VLOOKUP(B404,'Zebrik W'!$B$7:$L$1000,11,0)),\"\",IF(VLOOKUP(B404,'Zebrik W'!$B$7:$L$1000,11,0)=0,\"--\",VLOOKUP(B404,'Zebrik W'!$B$7:$L$1000,11,0)))","v":""}]
[{"$f":"RANK(G405,G:G)","v":399},"Lukas Zach",1987,"M","Vyškov","CZ/M",2560,2,"","",null,null,{"$f":"IF(ISERROR(VLOOKUP(B405,'Zebrik W'!$B$7:$L$1000,11,0)),\"\",IF(VLOOKUP(B405,'Zebrik W'!$B$7:$L$1000,11,0)=0,\"--\",VLOOKUP(B405,'Zebrik W'!$B$7:$L$1000,11,0)))","v":""}]
[{"$f":"RANK(G406,G:G)","v":400},"Jan Vacik",1977,"M","Staňkov","CZ/C1",2533,1,"","",null,null,{"$f":"IF(ISERROR(VLOOKUP(B406,'Zebrik W'!$B$7:$L$1000,11,0)),\"\",IF(VLOOKUP(B406,'Zebrik W'!$B$7:$L$1000,11,0)=0,\"--\",VLOOKUP(B406,'Zebrik W'!$B$7:$L$1000,11,0)))","v":""}]
[{"$f":"RANK(G407,G:G)","v":401},"Miroslav Major",1968,"M","Kralupy","CZ/C1",2452,1,"","",null,null,{"$f":"IF(ISERROR(VLOOKUP(B407,'Zebrik W'!$B$7:$L$1000,11,0)),\"\",IF(VLOOKUP(B407,'Zebrik W'!$B$7:$L$1000,11,0)=0,\"--\",VLOOKUP(B407,'Zebrik W'!$B$7:$L$1000,11,0)))","v":""}]
[{"$f":"RANK(G408,G:G)","v":402},"Frantisek Kriz",1961,"M","Toužim","CZ/C1",2398,2,"","",null,null,{"$f":"IF(ISERROR(VLOOKUP(B408,'Zebrik W'!$B$7:$L$1000,11,0)),\"\",IF(VLOOKUP(B408,'Zebrik W'!$B$7:$L$1000,11,0)=0,\"--\",VLOOKUP(B408,'Zebrik W'!$B$7:$L$1000,11,0)))","v":""}]
[{"$f":"RANK(G409,G:G)","v":403},"Kamil Sohr",1973,"M","Šumperk","CZ/M",2346,1,"","",null,null,{"$f":"IF(ISERROR(VLOOKUP(B409,'Zebrik W'!$B$7:$L$1000,11,0)),\"\",IF(VLOOKUP(B409,'Zebrik W'!$B$7:$L$1000,11,0)=0,\"--\",VLOOKUP(B409,'Zebrik W'!$B$7:$L$1000,11,0)))","v":""}]
[{"$f":"RANK(G410,G:G)","v":404},"Petr Benes",1980,"M","Raná","CZ/C2",2343,1,"","",null,null,{"$f":"IF(ISERROR(VLOOKUP(B410,'Zebrik W'!$B$7:$L$1000,11,0)),\"\",IF(VLOOKUP(B410,'Zebrik W'!$B$7:$L$1000,11,0)=0,\"--\",VLOOKUP(B410,'Zebrik W'!$B$7:$L$1000,11,0)))","v":""}]
[{"$f":"RANK(G411,G:G)","v":405},"Lubomir Svoboda",1959,"M","Letkov","CZ/C1",2276,1,"","",null,null,{"$f":"IF(ISERROR(VLOOKUP(B411,'Zebrik W'!$B$7:$L$1000,11,0)),\"\",IF(VLOOKUP(B411,'Zebrik W'!$B$7:$L$1000,11,0)=0,\"--\",VLOOKUP(B411,'Zebrik W'!$B$7:$L$1000,11,0)))","v":""}]
[{"$f":"RANK(G412,G:G)","v":406},"Pavel Svrcek",1972,"M","Frýdlant","CZ/M",2266,2,"","",null,null,{"$f":"IF(ISERROR(VLOOKUP(B412,'Zebrik W'!$B$7:$L$1000,11,0)),\"\",IF(VLOOKUP(B412,'Zebrik W'!$B$7:$L$1000,11,0)=0,\"--\",VLOOKUP(B412,'Zebrik W'!$B$7:$L$1000,11,0)))","v":""}]
[{"$f":"RANK(G413,G:G)","v":407},"Jan Platenik",1981,"M","Krnov","CZ/M",2265,1,"","",null,null,{"$f":"IF(ISERROR(VLOOKUP(B413,'Zebrik W'!$B$7:$L$1000,11,0)),\"\",IF(VLOOKUP(B413,'Zebrik W'!$B$7:$L$1000,11,0)=0,\"--\",VLOOKUP(B413,'Zebrik W'!$B$7:$L$1000,11,0)))","v":""}]
[{"$f":"RANK(G414,G:G)","v":408},"Michal Nutil",1966,"M","Náchod","CZ/C2",2258,1,"","",null,null,{"$f":"IF(ISERROR(VLOOKUP(B414,'Zebrik W'!$B$7:$L$1000,11,0)),\"\",IF(VLOOKUP(B414,'Zebrik W'!$B$7:$L$1000,11,0)=0,\"--\",VLOOKUP(B414,'Zebrik W'!$B$7:$L$1000,11,0)))","v":""}]
[{"$f":"RANK(G415,G:G)","v":409},"Marie Vesela",1999,"F","Staňkov","CZ/C1",2222,2,"","",null,null,{"$f":"IF(ISERROR(VLOOKUP(B415,'Zebrik W'!$B$7:$L$1000,11,0)),\"\",IF(VLOOKUP(B415,'Zebrik W'!$B$7:$L$1000,11,0)=0,\"--\",VLOOKUP(B415,'Zebrik W'!$B$7:$L$1000,11,0)))","v":"--"}]
[{"$f":"RANK(G416,G:G)","v":410},"Jiri Dockal",1982,"M","Letňany","CZ/C1",2200,1,"","",null,null,{"$f":"IF(ISERROR(VLOOKUP(B416,'Zebrik W'!$B$7:$L$1000,11,0)),\"\",IF(VLOOKUP(B416,'Zebrik W'!$B$7:$L$1000,11,0)=0,\"--\",VLOOKUP(B416,'Zebrik W'!$B$7:$L$1000,11,0)))","v":""}]
[{"$f":"RANK(G417,G:G)","v":411},"Jaroslav Kares",1962,"M","Olomouc","CZ/M",2178,1,"","",null,null,{"$f":"IF(ISERROR(VLOOKUP(B417,'Zebrik W'!$B$7:$L$1000,11,0)),\"\",IF(VLOOKUP(B417,'Zebrik W'!$B$7:$L$1000,11,0)=0,\"--\",VLOOKUP(B417,'Zebrik W'!$B$7:$L$1000,11,0)))","v":""}]
[{"$f":"RANK(G418,G:G)","v":412},"Jiri Pajer",1977,"M","Zbraslavice","CZ/C1",2126,1,"","",null,null,{"$f":"IF(ISERROR(VLOOKUP(B418,'Zebrik W'!$B$7:$L$1000,11,0)),\"\",IF(VLOOKUP(B418,'Zebrik W'!$B$7:$L$1000,11,0)=0,\"--\",VLOOKUP(B418,'Zebrik W'!$B$7:$L$1000,11,0)))","v":""}]
[{"$f":"RANK(G419,G:G)","v":413},"Vojtech Vach 76",1976,"M","Nové Město nad Metují","CZ/C2",2089,1,"","",null,null,{"$f":"IF(ISERROR(VLOOKUP(B419,'Zebrik W'!$B$7:$L$1000,11,0)),\"\",IF(VLOOKUP(B419,'Zebrik W'!$B$7:$L$1000,11,0)=0,\"--\",VLOOKUP(B419,'Zebrik W'!$B$7:$L$1000,11,0)))","v":""}]
[{"$f":"RANK(G420,G:G)","v":414},"Ales Nestrojil",1980,"M","Medlánky","CZ/M",2039,1,"","",null,null,{"$f":"IF(ISERROR(VLOOKUP(B420,'Zebrik W'!$B$7:$L$1000,11,0)),\"\",IF(VLOOKUP(B420,'Zebrik W'!$B$7:$L$1000,11,0)=0,\"--\",VLOOKUP(B420,'Zebrik W'!$B$7:$L$1000,11,0)))","v":""}]
[{"$f":"RANK(G421,G:G)","v":415},"Miroslav Mancik",1976,"M","Kyjov","CZ/M",1862,1,"","",null,null,{"$f":"IF(ISERROR(VLOOKUP(B421,'Zebrik W'!$B$7:$L$1000,11,0)),\"\",IF(VLOOKUP(B421,'Zebrik W'!$B$7:$L$1000,11,0)=0,\"--\",VLOOKUP(B421,'Zebrik W'!$B$7:$L$1000,11,0)))","v":""}]
[{"$f":"RANK(G422,G:G)","v":416},"Martin Svacina",1965,"M","Frýdlant","CZ/M",1636,1,"","",null,null,{"$f":"IF(ISERROR(VLOOKUP(B422,'Zebrik W'!$B$7:$L$1000,11,0)),\"\",IF(VLOOKUP(B422,'Zebrik W'!$B$7:$L$1000,11,0)=0,\"--\",VLOOKUP(B422,'Zebrik W'!$B$7:$L$1000,11,0)))","v":""}]
[{"$f":"RANK(G423,G:G)","v":417},"Milos Eichler",1964,"M","Dvůr Králové","CZ/C2",1629,1,"","",null,null,{"$f":"IF(ISERROR(VLOOKUP(B423,'Zebrik W'!$B$7:$L$1000,11,0)),\"\",IF(VLOOKUP(B423,'Zebrik W'!$B$7:$L$1000,11,0)=0,\"--\",VLOOKUP(B423,'Zebrik W'!$B$7:$L$1000,11,0)))","v":""}]
[{"$f":"RANK(G424,G:G)","v":418},"Jakub Sachl",2006,"M","Kralupy","CZ/C1",1600,1,"Junior v roce 2025","Junior v roce 2026",null,null,{"$f":"IF(ISERROR(VLOOKUP(B424,'Zebrik W'!$B$7:$L$1000,11,0)),\"\",IF(VLOOKUP(B424,'Zebrik W'!$B$7:$L$1000,11,0)=0,\"--\",VLOOKUP(B424,'Zebrik W'!$B$7:$L$1000,11,0)))","v":""}]
[{"$f":"RANK(G425,G:G)","v":419},"David Kraus",1990,"M","Olomouc","CZ/M",1558,1,"","",null,null,{"$f":"IF(ISERROR(VLOOKUP(B425,'Zebrik W'!$B$7:$L$1000,11,0)),\"\",IF(VLOOKUP(B425,'Zebrik W'!$B$7:$L$1000,11,0)=0,\"--\",VLOOKUP(B425,'Zebrik W'!$B$7:$L$1000,11,0)))","v":""}]
[{"$f":"RANK(G426,G:G)","v":420},"Albert Schneider",1967,"M","Hranice","CZ/M",1533,1,"","",null,null,{"$f":"IF(ISERROR(VLOOKUP(B426,'Zebrik W'!$B$7:$L$1000,11,0)),\"\",IF(VLOOKUP(B426,'Zebrik W'!$B$7:$L$1000,11,0)=0,\"--\",VLOOKUP(B426,'Zebrik W'!$B$7:$L$1000,11,0)))","v":""}]
[{"$f":"RANK(G427,G:G)","v":421},"Pavel Handl",1971,"M","Kroměříž","CZ/M",1489,2,"","",null,null,{"$f":"IF(ISERROR(VLOOKUP(B427,'Zebrik W'!$B$7:$L$1000,11,0)),\"\",IF(VLOOKUP(B427,'Zebrik W'!$B$7:$L$1000,11,0)=0,\"--\",VLOOKUP(B427,'Zebrik W'!$B$7:$L$1000,11,0)))","v":""}]
[{"$f":"RANK(G428,G:G)","v":422},"Jan Heroudek",1970,"M","Rakovník","CZ/C1",1487,1,"","",null,null,{"$f":"IF(ISERROR(VLOOKUP(B428,'Zebrik W'!$B$7:$L$1000,11,0)),\"\",IF(VLOOKUP(B428,'Zebrik W'!$B$7:$L$1000,11,0)=0,\"--\",VLOOKUP(B428,'Zebrik W'!$B$7:$L$1000,11,0)))","v":""}]
[{"$f":"RANK(G429,G:G)","v":423},"Vladimir Spilka",1940,"M","Hranice","CZ/M",1426,1,"","",null,null,{"$f":"IF(ISERROR(VLOOKUP(B429,'Zebrik W'!$B$7:$L$1000,11,0)),\"\",IF(VLOOKUP(B429,'Zebrik W'!$B$7:$L$1000,11,0)=0,\"--\",VLOOKUP(B429,'Zebrik W'!$B$7:$L$1000,11,0)))","v":""}]
[{"$f":"RANK(G430,G:G)","v":424},"Frantisek Brozman",1960,"M","Tachov","CZ/C1",1421,2,"","",null,null,{"$f":"IF(ISERROR(VLOOKUP(B430,'Zebrik W'!$B$7:$L$1000,11,0)),\"\",IF(VLOOKUP(B430,'Zebrik W'!$B$7:$L$1000,11,0)=0,\"--\",VLOOKUP(B430,'Zebrik W'!$B$7:$L$1000,11,0)))","v":""}]
[{"$f":"RANK(G431,G:G)","v":425},"Miroslav Odlozilik",1973,"M","Křižanov","CZ/M",1370,1,"","",null,null,{"$f":"IF(ISERROR(VLOOKUP(B431,'Zebrik W'!$B$7:$L$1000,11,0)),\"\",IF(VLOOKUP(B431,'Zebrik W'!$B$7:$L$1000,11,0)=0,\"--\",VLOOKUP(B431,'Zebrik W'!$B$7:$L$1000,11,0)))","v":""}]
[{"$f":"RANK(G432,G:G)","v":426},"Ludek Kluger",1963,"M","Tábor","CZ/C1",1366,1,"","",null,null,{"$f":"IF(ISERROR(VLOOKUP(B432,'Zebrik W'!$B$7:$L$1000,11,0)),\"\",IF(VLOOKUP(B432,'Zebrik W'!$B$7:$L$1000,11,0)=0,\"--\",VLOOKUP(B432,'Zebrik W'!$B$7:$L$1000,11,0)))","v":""}]
[{"$f":"RANK(G433,G:G)","v":427},"Petr Vlasak",1974,"M","Medlánky","CZ/M",1336,1,"","",null,null,{"$f":"IF(ISERROR(VLOOKUP(B433,'Zebrik W'!$B$7:$L$1000,11,0)),\"\",IF(VLOOKUP(B433,'Zebrik W'!$B$7:$L$1000,11,0)=0,\"--\",VLOOKUP(B433,'Zebrik W'!$B$7:$L$1000,11,0)))","v":""}]
[{"$f":"RANK(G434,G:G)","v":428},"David Nenicka",2005,"M","Hranice","CZ/M",1322,1,"Junior v roce 2025","Junior v roce 2026",null,null,{"$f":"IF(ISERROR(VLOOKUP(B434,'Zebrik W'!$B$7:$L$1000,11,0)),\"\",IF(VLOOKUP(B434,'Zebrik W'!$B$7:$L$1000,11,0)=0,\"--\",VLOOKUP(B434,'Zebrik W'!$B$7:$L$1000,11,0)))","v":""}]
[{"$f":"RANK(G435,G:G)","v":429},"Jan Hlavacek 04",2004,"M","Hosín","CZ/C1",1156,1,"Junior v roce 2025","Junior v roce 2026",null,null,{"$f":"IF(ISERROR(VLOOKUP(B435,'Zebrik W'!$B$7:$L$1000,11,0)),\"\",IF(VLOOKUP(B435,'Zebrik W'!$B$7:$L$1000,11,0)=0,\"--\",VLOOKUP(B435,'Zebrik W'!$B$7:$L$1000,11,0)))","v":""}]
[{"$f":"RANK(G436,G:G)","v":430},"Jan Mrozek",1982,"M","Frýdlant","CZ/M",1029,1,"","",null,null,{"$f":"IF(ISERROR(VLOOKUP(B436,'Zebrik W'!$B$7:$L$1000,11,0)),\"\",IF(VLOOKUP(B436,'Zebrik W'!$B$7:$L$1000,11,0)=0,\"--\",VLOOKUP(B436,'Zebrik W'!$B$7:$L$1000,11,0)))","v":""}]
[{"$f":"RANK(G437,G:G)","v":431},"Radek Jaksa",1979,"M","Prostějov","CZ/M",1006,1,"","",null,null,{"$f":"IF(ISERROR(VLOOKUP(B437,'Zebrik W'!$B$7:$L$1000,11,0)),\"\",IF(VLOOKUP(B437,'Zebrik W'!$B$7:$L$1000,11,0)=0,\"--\",VLOOKUP(B437,'Zebrik W'!$B$7:$L$1000,11,0)))","v":""}]
[{"$f":"RANK(G438,G:G)","v":432},"Tomas Vaclavik",1974,"M","Hosín","CZ/C1",874,1,"","",null,null,{"$f":"IF(ISERROR(VLOOKUP(B438,'Zebrik W'!$B$7:$L$1000,11,0)),\"\",IF(VLOOKUP(B438,'Zebrik W'!$B$7:$L$1000,11,0)=0,\"--\",VLOOKUP(B438,'Zebrik W'!$B$7:$L$1000,11,0)))","v":""}]
[{"$f":"RANK(G439,G:G)","v":433},"Petr Sindelar 80",1980,"M","Letkov","CZ/C1",842,1,"","",null,null,{"$f":"IF(ISERROR(VLOOKUP(B439,'Zebrik W'!$B$7:$L$1000,11,0)),\"\",IF(VLOOKUP(B439,'Zebrik W'!$B$7:$L$1000,11,0)=0,\"--\",VLOOKUP(B439,'Zebrik W'!$B$7:$L$1000,11,0)))","v":""}]
[{"$f":"RANK(G440,G:G)","v":434},"Stanislav Doskocil",1978,"M","Medlánky","CZ/M",818,1,"","",null,null,{"$f":"IF(ISERROR(VLOOKUP(B440,'Zebrik W'!$B$7:$L$1000,11,0)),\"\",IF(VLOOKUP(B440,'Zebrik W'!$B$7:$L$1000,11,0)=0,\"--\",VLOOKUP(B440,'Zebrik W'!$B$7:$L$1000,11,0)))","v":""}]
[{"$f":"RANK(G441,G:G)","v":435},"Roman Bradac",1974,"M","Rakovník","CZ/C1",800,1,"","",null,null,{"$f":"IF(ISERROR(VLOOKUP(B441,'Zebrik W'!$B$7:$L$1000,11,0)),\"\",IF(VLOOKUP(B441,'Zebrik W'!$B$7:$L$1000,11,0)=0,\"--\",VLOOKUP(B441,'Zebrik W'!$B$7:$L$1000,11,0)))","v":""}]
[{"$f":"RANK(G442,G:G)","v":436},"Martin Marek",1967,"M","Roudnice","CZ/C2",696,1,"","",null,null,{"$f":"IF(ISERROR(VLOOKUP(B442,'Zebrik W'!$B$7:$L$1000,11,0)),\"\",IF(VLOOKUP(B442,'Zebrik W'!$B$7:$L$1000,11,0)=0,\"--\",VLOOKUP(B442,'Zebrik W'!$B$7:$L$1000,11,0)))","v":""}]
[{"$f":"RANK(G443,G:G)","v":437},"Pavel Melichar",1983,"M","Vlašim","CZ/C1",584,1,"","",null,null,{"$f":"IF(ISERROR(VLOOKUP(B443,'Zebrik W'!$B$7:$L$1000,11,0)),\"\",IF(VLOOKUP(B443,'Zebrik W'!$B$7:$L$1000,11,0)=0,\"--\",VLOOKUP(B443,'Zebrik W'!$B$7:$L$1000,11,0)))","v":""}]
[{"$f":"RANK(G444,G:G)","v":438},"Martin Koci",1975,"M","Ústí nad Orlicí","CZ/C2",563,1,"","",null,null,{"$f":"IF(ISERROR(VLOOKUP(B444,'Zebrik W'!$B$7:$L$1000,11,0)),\"\",IF(VLOOKUP(B444,'Zebrik W'!$B$7:$L$1000,11,0)=0,\"--\",VLOOKUP(B444,'Zebrik W'!$B$7:$L$1000,11,0)))","v":""}]
[{"$f":"RANK(G445,G:G)","v":439},"Karel Mrazek",1954,"M","Slaný","CZ/C1",463,1,"","",null,null,{"$f":"IF(ISERROR(VLOOKUP(B445,'Zebrik W'!$B$7:$L$1000,11,0)),\"\",IF(VLOOKUP(B445,'Zebrik W'!$B$7:$L$1000,11,0)=0,\"--\",VLOOKUP(B445,'Zebrik W'!$B$7:$L$1000,11,0)))","v":""}]
[{"$f":"RANK(G446,G:G)","v":440},"Jiri Pixa",1968,"M","Slaný","CZ/C1",456,1,"","",null,null,{"$f":"IF(ISERROR(VLOOKUP(B446,'Zebrik W'!$B$7:$L$1000,11,0)),\"\",IF(VLOOKUP(B446,'Zebrik W'!$B$7:$L$1000,11,0)=0,\"--\",VLOOKUP(B446,'Zebrik W'!$B$7:$L$1000,11,0)))","v":""}]
[{"$f":"RANK(G447,G:G)","v":441},"Jan Drbohlav",1999,"M","Hodkovice","CZ/C2",305,1,"","",null,null,{"$f":"IF(ISERROR(VLOOKUP(B447,'Zebrik W'!$B$7:$L$1000,11,0)),\"\",IF(VLOOKUP(B447,'Zebrik W'!$B$7:$L$1000,11,0)=0,\"--\",VLOOKUP(B447,'Zebrik W'!$B$7:$L$1000,11,0)))","v":""}]
[{"$f":"RANK(G448,G:G)","v":442},"Vaclav Halek",1966,"M","Toužim","CZ/C1",298,1,"","",null,null,{"$f":"IF(ISERROR(VLOOKUP(B448,'Zebrik W'!$B$7:$L$1000,11,0)),\"\",IF(VLOOKUP(B448,'Zebrik W'!$B$7:$L$1000,11,0)=0,\"--\",VLOOKUP(B448,'Zebrik W'!$B$7:$L$1000,11,0)))","v":""}]
[{"$f":"RANK(G449,G:G)","v":443},"Ondrej Dostal",0,"M",0,"CZ",294,1,"","",null,null,{"$f":"IF(ISERROR(VLOOKUP(B449,'Zebrik W'!$B$7:$L$1000,11,0)),\"\",IF(VLOOKUP(B449,'Zebrik W'!$B$7:$L$1000,11,0)=0,\"--\",VLOOKUP(B449,'Zebrik W'!$B$7:$L$1000,11,0)))","v":""}]
[{"$f":"RANK(G450,G:G)","v":444},"Jan Hrbatsch",1989,"M","Hodkovice","CZ/C2",142,1,"","",null,null,{"$f":"IF(ISERROR(VLOOKUP(B450,'Zebrik W'!$B$7:$L$1000,11,0)),\"\",IF(VLOOKUP(B450,'Zebrik W'!$B$7:$L$1000,11,0)=0,\"--\",VLOOKUP(B450,'Zebrik W'!$B$7:$L$1000,11,0)))","v":""}]
[{"$f":"RANK(G451,G:G)","v":445},"Jiri Tomicek",1947,"M","Dvůr Králové","CZ/C2",109,1,"","",null,null,{"$f":"IF(ISERROR(VLOOKUP(B451,'Zebrik W'!$B$7:$L$1000,11,0)),\"\",IF(VLOOKUP(B451,'Zebrik W'!$B$7:$L$1000,11,0)=0,\"--\",VLOOKUP(B451,'Zebrik W'!$B$7:$L$1000,11,0)))","v":""}]
[{"$f":"RANK(G452,G:G)","v":446},"Josef Plechac",1942,"M","Hronov","CZ/C2",62,2,"","",null,null,{"$f":"IF(ISERROR(VLOOKUP(B452,'Zebrik W'!$B$7:$L$1000,11,0)),\"\",IF(VLOOKUP(B452,'Zebrik W'!$B$7:$L$1000,11,0)=0,\"--\",VLOOKUP(B452,'Zebrik W'!$B$7:$L$1000,11,0)))","v":""}]

{"sheet":"Zebrik W","index":8,"n_rows":36,"n_cols":13,"rows_kept":36,"cut":false,"hidden":false,"merged":[]}
[null,{"$f":"\"Ženský Žebřík pilotek plachtařek PK AeČR \"&A6","v":"Ženský Žebřík pilotek plachtařek PK AeČR 2024"},null,null,null,null,null,null,{"$f":"'Zebrik G'!I1","v":"2025-02-05"},"Rev.",{"$f":"'Zebrik G'!K1","v":"03"},{"$f":"'Zebrik G'!L1","v":"Final: opravy od soutěžících, přidáno WGC 2024 v Uvalde, odstraněno HOP 2024"}]
[]
[null,"W","x",null,null,null,null,null,"Juniorka v roce:","Juniorka v roce:",{"$f":"\"W Repre družstvo \"&I4","v":"W Repre družstvo 2025"},{"$f":"\"W Repre výběr \"&I4","v":"W Repre výběr 2025"},"Poznámka"]
[null,null,null,null,null,null,null,null,{"$f":"A6+1","v":2025},{"$f":"A6+2","v":2026},"(WRD)","(WRV)"]
["Pořadí",null,null,null,null,null,"Data",null,{"$f":"COUNTIF(I7:I489,\"Juniorka v roce \"&$I$4)","v":5},{"$f":"COUNTIF(J7:J489,\"Juniorka v roce \"&$J$4)","v":5},{"$f":"COUNTIF(K7:K489,\"WRD \"&$I$4)","v":0},{"$f":"COUNTIF(L7:L489,\"WRV \"&$I$4)","v":11},{"$f":"COUNTIF(M7:M489,\"<>\")","v":0}]
[{"$f":"'Zebrik G'!A6","v":2024},"Jméno","Rok narození","M/F","Aeroklub","Region","Součet z Bi×Kinp","Počet W"]
[{"$f":"RANK(G7,G:G)","v":1},"Alena Netusilova",1970,"F","Zbraslavice","CZ/C1",29868,3,{"$f":"IF(C7=\"(prázdné)\",\"\",IF(($I$4-C7)>25,\"\",\"Juniorka v roce \"&$I$4))","v":""},{"$f":"IF(C7=\"(prázdné)\",\"\",IF(($J$4-C7)>25,\"\",\"Juniorka v roce \"&$J$4))","v":""},null,"WRV 2025"]
[2,"Barbora Moravcova",1994,"F","Zbraslavice","CZ/C1",29377,3,{"$f":"IF(C8=\"(prázdné)\",\"\",IF(($I$4-C8)>25,\"\",\"Juniorka v roce \"&$I$4))","v":""},{"$f":"IF(C8=\"(prázdné)\",\"\",IF(($J$4-C8)>25,\"\",\"Juniorka v roce \"&$J$4))","v":""},null,"WRV 2025"]
[3,"Michaela Rendlova",2004,"F","Toužim","CZ/C1",28854,3,"Juniorka v roce 2025","Juniorka v roce 2026",null,"WRV 2025"]
[4,"Hana Treslova",1991,"F","Raná","CZ/C2",27964,3,"","",null,"WRV 2025"]
[5,"Tereza Koubkova",1999,"F","Vysoké Mýto","CZ/C2",27515,3,"","",null,"WRV 2025"]
[6,"Michaela Krizova",2001,"F","Přibyslav","CZ/C2",27106,3,"Juniorka v roce 2025","Juniorka v roce 2026",null,"WRV 2025"]
[7,"Dana Novakova",1965,"F","Mladá Boleslav","CZ/C1",26952,3,"","",null,"WRV 2025"]
[8,"Petra Piskata",1989,"F","Luhačovice","CZ/M",26436,3,"","",null,"WRV 2025"]
[9,"Jana Treslova",1963,"F","Raná","CZ/C2",25204,3,"","",null,"WRV 2025"]
[10,"Katerina Vojtova",1983,"F","Slaný","CZ/C1",20303,3,"","",null,"WRV 2025"]
[11,"Eliska Kudejova",2006,"F","Strakonice","CZ/C1",19318,3,"Juniorka v roce 2025","Juniorka v roce 2026"]
[12,"Pavlina Horackova",1965,"F","Šumperk","CZ/M",17765,3,"",""]
[13,"Olga Mokosova",1970,"F","Jihlava","CZ/M",15852,3,"",""]
[14,"Katerina Vancurova",2002,"F","Hranice","CZ/M",14586,3,"Juniorka v roce 2025","Juniorka v roce 2026"]
[15,"Jana Veprekova",1961,"F","Dvůr Králové","CZ/C2",9314,1,"",""]
[16,"Klara Teichmannova",1993,"F","Hronov","CZ/C2",7851,1,"","",null,"WRV 2025"]
[17,"Yvona Vyhnankova",1963,"F","Olomouc","CZ/M",7661,3,"",""]
[18,"Anna Bordovska",1989,"F","Mladá Boleslav","CZ/C1",7324,1,"",""]
[19,"Jana Mezerova",1975,"F","Raná","CZ/C2",6542,2,"",""]
[20,"Sarka Lochova",1966,"F","Šumperk","CZ/M",5818,2,"",""]
[21,"Tereza Ludvikova",1997,"F","Jaroměř","CZ/C2",5772,1,"",""]
[22,"Tereza Novakova",1993,"F","Chrudim","CZ/C2",5377,2,"",""]
[23,"Anna Lanzendorfova",2005,"F","Letkov","CZ/C1",4981,1,"Juniorka v roce 2025","Juniorka v roce 2026"]
[24,"Linda Vasatova",1990,"F","Mladá Boleslav","CZ/C1",4951,1,"",""]
[25,"Eva Klapkova",1993,"F","Raná","CZ/C2",4620,2,"",""]
[26,"Marie Vesela",1999,"F","Staňkov","CZ/C1",2222,2,"",""]
[null,null,null,null,null,null,null,null,{"$f":"IF(C33=\"(prázdné)\",\"\",IF(($I$4-C33)>25,\"\",\"Juniorka v roce \"&$I$4))","v":""},{"$f":"IF(C33=\"(prázdné)\",\"\",IF(($J$4-C33)>25,\"\",\"Juniorka v roce \"&$J$4))","v":""}]
[null,null,null,null,null,null,null,null,"",""]
[null,null,null,null,null,null,null,null,"",""]
[null,null,null,null,null,null,null,null,"",""]

{"sheet":"KB PMRg 2022","index":9,"n_rows":26,"n_cols":13,"rows_kept":26,"cut":false,"hidden":false,"merged":[[0,0,0,12]]}
["PMRg 2022 - Hodkovice - Korigované body"]
["Pořadí v KB","Jméno","Rok narození","M/F","Aeroklub","Region","Soutěž","Pořadí ve třídě","Body ve třídě","Bi","Typ","CN","Junior"]
[{"$f":"RANK(J3,J:J)","v":1},"Michal Lesinger",{"$f":"VLOOKUP(B3,Pilot,2,0)","v":1966},{"$f":"VLOOKUP(B3,Pilot,5,0)","v":"M"},{"$f":"VLOOKUP(B3,Pilot,3,0)","v":"Moravská Třebová"},{"$f":"VLOOKUP(B3,Pilot,4,0)","v":"CZ/M"},"PMRg 2022 - Klub",1,3948,10000,"ASW 20","LL",{"$f":"IF(ISERROR(VLOOKUP(B3,Pilot,6,0)),\"Není v databázi\",VLOOKUP(B3,Pilot,6,0))","v":""}]
[1,"Lukas Capek",1992,"M","Letňany","CZ/C1","PMRg 2022 - Kombi",1,3354,10000,"Mosquito","LC",""]
[3,"Jiri Kusbach",1959,"M","Luhačovice","CZ/M","PMRg 2022 - Klub",2,3831,9543,"KKB-15E FES","B",""]
[4,"Jaroslav Potmesil",1964,"M","Zbraslavice","CZ/C1","PMRg 2022 - Kombi",2,2942,8807,"HpH 304 TS Twin Shark","TS",""]
[5,"Jan Smaha",1958,"M","Česká Lípa","CZ/C2","PMRg 2022 - Klub",3,3458,8631,"ASW 15 B","CW",""]
[6,"Lukas Maly",1998,"M","Vysoké Mýto","CZ/C2","PMRg 2022 - Klub",4,3447,8362,"Discus b",65,""]
[7,"Jiri Stepanek",1956,"M","Moravská Třebová","CZ/M","PMRg 2022 - Klub",5,3387,8005,"ASW 15 B","LE",""]
[8,"Martin Stepanek",1987,"M","Moravská Třebová","CZ/M","PMRg 2022 - Klub",6,3361,7709,"ASW 19 B","AE",""]
[9,"Petr Hora",1948,"M","Hodkovice","CZ/C2","PMRg 2022 - Kombi",3,2515,7582,"HpH 304 MS Shark","B1",""]
[10,"Tomas Kulhavy",2001,"M","Liberec","CZ/C2","PMRg 2022 - Kombi",4,2500,7218,"HpH 304 CZ 17.4m","IH","Junior v roce 2025"]
[11,"Tomas Hynek",2002,"M","Dvůr Králové","CZ/C2","PMRg 2022 - Klub",7,3190,7156,"DG 200","HL","Junior v roce 2025"]
[12,"Pavel Koudelka",1973,"M","Křižanov","CZ/M","PMRg 2022 - Klub",8,3156,6846,"Std. Cirrus","ZL",""]
[13,"Antonin Kutalek",1943,"M","Zábřeh","CZ/M","PMRg 2022 - Kombi",5,2340,6550,"LAK-17A T 18m","GL",""]
[14,"Michaela Krizova",2001,"F","Přibyslav","CZ/C2","PMRg 2022 - Klub",9,2951,6232,"ASW 15 B","BE","Junior v roce 2025"]
[15,"Pavlina Horackova",1965,"F","Šumperk","CZ/M","PMRg 2022 - Klub",10,2618,5392,"SZD-48 Jantar Std. 2","SU",""]
[16,"Katerina Vancurova",2002,"F","Hranice","CZ/M","PMRg 2022 - Klub",11,2331,4633,"Discus b","HD","Junior v roce 2025"]
[17,"Radek Zima 78",1978,"M","Hodkovice","CZ/C2","PMRg 2022 - Kombi",6,1372,4197,"ASG 29 E 18m","XZ",""]
[18,"Jan Florian",1992,"M","Zbraslavice","CZ/C1","PMRg 2022 - Klub",12,2188,4129,"Std. Cirrus","C1",""]
[19,"Jiri Krofta",1988,"M","Hosín","CZ/C1","PMRg 2022 - Klub",13,1904,3376,"Std. Cirrus","YU",""]
[20,"Jaromir Macoun",1999,"M","Jičín","CZ/C2","PMRg 2022 - Kombi",7,225,1470,"LS 8","EU",""]
[21,"Ivan Tvrdik",1997,"M","Letňany","CZ/C1","PMRg 2022 - Kombi",8,221,1128,"ASW 20 16.6m","NW",""]
[22,"Jan Drbohlav",1999,"M","Hodkovice","CZ/C2","PMRg 2022 - Kombi",9,1,335,"G 103 Twin Astir","BL",""]
[23,"Vojtech Hajek",1987,"M","Mladá Boleslav","CZ/C1","PMRg 2022 - Kombi",10,0,0,"Duo Discus",777,""]
[23,"Karel Novak",1993,"M","Mladá Boleslav","CZ/C1","PMRg 2022 - Kombi",10,0,0,"LS 8","ID",""]

{"sheet":"KB PMRg 2023","index":10,"n_rows":27,"n_cols":13,"rows_kept":27,"cut":false,"hidden":false,"merged":[[0,0,0,12]]}
["PMRg 2023 - Hosín - Korigované body"]
["Pořadí v KB","Jméno","Rok narození","M/F","Aeroklub","Region","Soutěž","Pořadí ve třídě","Body ve třídě","Bi","Typ","CN","Junior"]
[{"$f":"RANK(J3,J:J)","v":1},"Pavel Rericha",{"$f":"VLOOKUP(B3,Pilot,2,0)","v":1967},{"$f":"VLOOKUP(B3,Pilot,5,0)","v":"M"},{"$f":"VLOOKUP(B3,Pilot,3,0)","v":"Moravská Třebová"},{"$f":"VLOOKUP(B3,Pilot,4,0)","v":"CZ/M"},"PMRg 2023 - Klub",1,8730,10000,"ASW-19B","NO",{"$f":"IF(ISERROR(VLOOKUP(B3,Pilot,6,0)),\"Není v databázi\",VLOOKUP(B3,Pilot,6,0))","v":""}]
[1,"Lukas Kriz",{"$f":"VLOOKUP(B4,Pilot,2,0)","v":2003},{"$f":"VLOOKUP(B4,Pilot,5,0)","v":"M"},{"$f":"VLOOKUP(B4,Pilot,3,0)","v":"Křižanov"},{"$f":"VLOOKUP(B4,Pilot,4,0)","v":"CZ/M"},"PMRg, PMČRj 2023 - Kombi",1,9417,10000,"LS 8 15m","AU","Junior v roce 2025"]
[3,"Jaromir Macoun",1999,"M","Jičín","CZ/C2","PMRg, PMČRj 2023 - Kombi",2,9221,9554,"LS 8A","EU",""]
[4,"Jan Louda",1986,"M","Mladá Boleslav","CZ/C1","PMRg 2023 - Klub",2,8448,9543,"ASW-19","XS",""]
[5,"Josef Busek",1967,"M","Hosín","CZ/C1","PMRg, PMČRj 2023 - Kombi",3,8601,8793,"Duo Discus","BB",""]
[6,"Marek Svancara",1976,"M","GAC Benešov","CZ/C1","PMRg 2023 - Klub",3,7660,8681,"Std. Cirrus","GT",""]
[7,"Jan Smaha",1958,"M","Česká Lípa","CZ/C2","PMRg 2023 - Klub",4,7225,8101,"ASW-15B","CW",""]
[8,"Théo Manfredi",null,null,"Association Aéronautique du Val d\\'Oise","FR","PMRg, PMČRj 2023 - Kombi",4,7258,7495,"LAK-17A WL 15m","LE","Není v databázi"]
[9,"Jaromir Pauer",{"$f":"VLOOKUP(B11,Pilot,2,0)","v":1974},{"$f":"VLOOKUP(B11,Pilot,5,0)","v":"M"},{"$f":"VLOOKUP(B11,Pilot,3,0)","v":"Hosín"},{"$f":"VLOOKUP(B11,Pilot,4,0)","v":"CZ/C1"},"PMRg, PMČRj 2023 - Kombi",5,6880,6914,"Ventus B 16.6m WL","7F",""]
[10,"Petr Rozhon",1972,"M","Hosín","CZ/C1","PMRg 2023 - Klub",5,5980,6872,"VSO-10",9,""]
[11,"Pavel Koudelka",1973,"M","Křižanov","CZ/M","PMRg 2023 - Klub",6,5915,6589,"STD. Cirrus","ZL",""]
[12,"Michael Fik",1972,"M","Strakonice","CZ/C1","PMRg, PMČRj 2023 - Kombi",6,6702,6482,"Ventus 2c","ZR",""]
[13,"Jiri Krofta",1988,"M","Hosín","CZ/C1","PMRg 2023 - Klub",7,5909,6353,"Std. Cirrus","UY",""]
[14,"Michal Vranek",1993,"M","Hosín","CZ/C1","PMRg 2023 - Klub",8,5599,5874,"DG-100","8W",""]
[15,"Karel Mares",1974,"M","Slaný","CZ/C1","PMRg, PMČRj 2023 - Kombi",7,5894,5581,"Duo Discus XT","DD",""]
[16,"Miloslav Hulmak",1963,"M","Hosín","CZ/C1","PMRg 2023 - Klub",9,4969,5138,"ASW-15B","HH",""]
[17,"Radek Zima 78",1978,"M","Hodkovice","CZ/C2","PMRg, PMČRj 2023 - Kombi",8,5577,5046,"DG 500 22m","YA",""]
[18,"Daniel Marek",1983,"M","Hosín","CZ/C1","PMRg 2023 - Klub",10,4846,4809,"Std. Cirrus","XII",""]
[19,"Frantisek Suna",1983,"M","Hosín","CZ/C1","PMRg 2023 - Klub",11,4331,4165,"DG-100",78,""]
[20,"Peter Janoska",null,null,"Nitra","SK","PMRg, PMČRj 2023 - Kombi",9,4662,4065,"LS 6C /17,5m","N6","Není v databázi"]
[21,"Michal Hemrle",{"$f":"VLOOKUP(B23,Pilot,2,0)","v":1974},{"$f":"VLOOKUP(B23,Pilot,5,0)","v":"M"},{"$f":"VLOOKUP(B23,Pilot,3,0)","v":"Česká Lípa"},{"$f":"VLOOKUP(B23,Pilot,4,0)","v":"CZ/C2"},"PMRg, PMČRj 2023 - Kombi",10,4036,3300,"ASG 29 Es 18m","ET",""]
[22,"Radoslav Pur",1973,"M","Hosín","CZ/C1","PMRg 2023 - Klub",12,3358,3154,"DG-200","EK",""]
[23,"Jiri Holcman",1976,"M","Hosín","CZ/C1","PMRg 2023 - Klub",13,2234,2022,"ASW-19","BO",""]
[24,"Tomas Vaclavik",1974,"M","Hosín","CZ/C1","PMRg, PMČRj 2023 - Kombi",11,1238,920,"LAK-12",12,""]
[25,"Petr Sochor",1986,"M","Hosín","CZ/C1","PMRg 2023 - Klub",14,0,0,"ASW-15B","6Y",""]

{"sheet":"KB PMRg 2024","index":11,"n_rows":41,"n_cols":13,"rows_kept":41,"cut":false,"hidden":false,"merged":[[0,0,0,12]]}
["PMRg 2024 - Hodkovice - Korigované body"]
["Pořadí v KB","Jméno","Rok narození","M/F","Aeroklub","Region","Soutěž","Pořadí ve třídě","Body ve třídě","Bi","Typ","CN","Junior"]
[{"$f":"RANK(J3,J:J)","v":1},"Jan Hruska",{"$f":"VLOOKUP(B3,Pilot,2,0)","v":1988},{"$f":"VLOOKUP(B3,Pilot,5,0)","v":"M"},{"$f":"VLOOKUP(B3,Pilot,3,0)","v":"Tábor"},{"$f":"VLOOKUP(B3,Pilot,4,0)","v":"CZ/C1"},"PMRg 2024 - Klub",1,1293,10000,"ASW 15 B","LF",{"$f":"IF(ISERROR(VLOOKUP(B3,Pilot,6,0)),\"Není v databázi\",VLOOKUP(B3,Pilot,6,0))","v":""}]
[{"$f":"RANK(J4,J:J)","v":1},"Petr Panek",1975,"M","Dvůr Králové","CZ/C2","PMRg 2024 - Kombi",1,1018,10000,"JS-1b EVO JET","IGC",{"$f":"IF(ISERROR(VLOOKUP(B4,Pilot,6,0)),\"Není v databázi\",VLOOKUP(B4,Pilot,6,0))","v":""}]
[{"$f":"RANK(J5,J:J)","v":3},"Lukas Capek",1992,"M","Letňany","CZ/C1","PMRg 2024 - Klub",2,1292,9858,"Mosquito","LC",{"$f":"IF(ISERROR(VLOOKUP(B5,Pilot,6,0)),\"Není v databázi\",VLOOKUP(B5,Pilot,6,0))","v":""}]
[{"$f":"RANK(J6,J:J)","v":4},"Radek Zima 78",1978,"M","Hodkovice","CZ/C2","PMRg 2024 - Kombi",2,1004,9604,"ASG 29 E 18m","XZ",{"$f":"IF(ISERROR(VLOOKUP(B6,Pilot,6,0)),\"Není v databázi\",VLOOKUP(B6,Pilot,6,0))","v":""}]
[{"$f":"RANK(J7,J:J)","v":5},"Leos Strnadek",1983,"M","Hodkovice","CZ/C2","PMRg 2024 - Klub",3,1259,9543,"ASW 19 B","XP",{"$f":"IF(ISERROR(VLOOKUP(B7,Pilot,6,0)),\"Není v databázi\",VLOOKUP(B7,Pilot,6,0))","v":""}]
[{"$f":"RANK(J8,J:J)","v":5},"Pavlina Horackova",1965,"F","Šumperk","CZ/M","PMRg 2024 - Klub",3,1259,9543,"SZD-48 Jantar Std. 2","SU",{"$f":"IF(ISERROR(VLOOKUP(B8,Pilot,6,0)),\"Není v databázi\",VLOOKUP(B8,Pilot,6,0))","v":""}]
[{"$f":"RANK(J9,J:J)","v":7},"Michaela Rendlova",2004,"F","Toužim","CZ/C1","PMRg 2024 - Kombi",3,916,8699,"LS 8","W8",{"$f":"IF(ISERROR(VLOOKUP(B9,Pilot,6,0)),\"Není v databázi\",VLOOKUP(B9,Pilot,6,0))","v":"Junior v roce 2025"}]
[{"$f":"RANK(J10,J:J)","v":8},"Michal Kares",1987,"M","Ústí nad Orlicí","CZ/C2","PMRg 2024 - Klub",5,1103,8426,"Std. Cirrus","J3",{"$f":"IF(ISERROR(VLOOKUP(B10,Pilot,6,0)),\"Není v databázi\",VLOOKUP(B10,Pilot,6,0))","v":""}]
[{"$f":"RANK(J11,J:J)","v":9},"Jiri Maier 66",1966,"M","Raná","CZ/C2","PMRg 2024 - Klub",6,1096,8252,"ASW 24 E","JM",{"$f":"IF(ISERROR(VLOOKUP(B11,Pilot,6,0)),\"Není v databázi\",VLOOKUP(B11,Pilot,6,0))","v":""}]
[{"$f":"RANK(J12,J:J)","v":10},"Katerina Vojtova",1983,"F","Slaný","CZ/C1","PMRg 2024 - Klub",7,1070,7975,"Std. Cirrus","KAC",{"$f":"IF(ISERROR(VLOOKUP(B12,Pilot,6,0)),\"Není v databázi\",VLOOKUP(B12,Pilot,6,0))","v":""}]
[{"$f":"RANK(J13,J:J)","v":11},"Jaromir Macoun",1999,"M","Jičín","CZ/C2","PMRg 2024 - Kombi",4,832,7821,"LS 8","EU",{"$f":"IF(ISERROR(VLOOKUP(B13,Pilot,6,0)),\"Není v databázi\",VLOOKUP(B13,Pilot,6,0))","v":""}]
[{"$f":"RANK(J14,J:J)","v":12},"Jiri Hula",1973,"M","Slaný","CZ/C1","PMRg 2024 - Klub",8,1062,7795,"Std. Cirrus WL","IT",{"$f":"IF(ISERROR(VLOOKUP(B14,Pilot,6,0)),\"Není v databázi\",VLOOKUP(B14,Pilot,6,0))","v":""}]
[{"$f":"RANK(J15,J:J)","v":13},"Zdenek Balcarek",1967,"M","Kroměříž","CZ/M","PMRg 2024 - Klub",9,1035,7512,"Discus b","AI",{"$f":"IF(ISERROR(VLOOKUP(B15,Pilot,6,0)),\"Není v databázi\",VLOOKUP(B15,Pilot,6,0))","v":""}]
[{"$f":"RANK(J16,J:J)","v":14},"Lukas Kriz",2003,"M","Křižanov","CZ/M","PMRg 2024 - Kombi",5,820,7439,"LS 8","AU",{"$f":"IF(ISERROR(VLOOKUP(B16,Pilot,6,0)),\"Není v databázi\",VLOOKUP(B16,Pilot,6,0))","v":"Junior v roce 2025"}]
[{"$f":"RANK(J17,J:J)","v":15},"Jan Smaha",1958,"M","Česká Lípa","CZ/C2","PMRg 2024 - Klub",10,1000,7186,"ASW 15 B","CW",{"$f":"IF(ISERROR(VLOOKUP(B17,Pilot,6,0)),\"Není v databázi\",VLOOKUP(B17,Pilot,6,0))","v":""}]
[{"$f":"RANK(J18,J:J)","v":16},"Stanislav Poslusny",1965,"M","GAC Benešov","CZ/C1","PMRg 2024 - Klub",11,974,6909,"Std. Cirrus","SP",{"$f":"IF(ISERROR(VLOOKUP(B18,Pilot,6,0)),\"Není v databázi\",VLOOKUP(B18,Pilot,6,0))","v":""}]
[{"$f":"RANK(J19,J:J)","v":17},"Vaclav Zak",1962,"M","GAC Benešov","CZ/C1","PMRg 2024 - Klub",12,944,6611,"Std. Cirrus","TSI",{"$f":"IF(ISERROR(VLOOKUP(B19,Pilot,6,0)),\"Není v databázi\",VLOOKUP(B19,Pilot,6,0))","v":""}]
[{"$f":"RANK(J20,J:J)","v":18},"Matej Krestes",1986,"M","Slaný","CZ/C1","PMRg 2024 - Klub",13,912,6301,"Std. Cirrus","CON",{"$f":"IF(ISERROR(VLOOKUP(B20,Pilot,6,0)),\"Není v databázi\",VLOOKUP(B20,Pilot,6,0))","v":""}]
[{"$f":"RANK(J21,J:J)","v":19},"Jaroslav Potmesil",1964,"M","Zbraslavice","CZ/C1","PMRg 2024 - Kombi",6,626,5805,"TwinShark","TS",{"$f":"IF(ISERROR(VLOOKUP(B21,Pilot,6,0)),\"Není v databázi\",VLOOKUP(B21,Pilot,6,0))","v":""}]
[{"$f":"RANK(J22,J:J)","v":20},"Matej Bartos",1998,"M","Hodkovice","CZ/C2","PMRg 2024 - Klub",14,832,5732,"ASW 15 B","BF",{"$f":"IF(ISERROR(VLOOKUP(B22,Pilot,6,0)),\"Není v databázi\",VLOOKUP(B22,Pilot,6,0))","v":""}]
[{"$f":"RANK(J23,J:J)","v":21},"Matej Plch",1987,"M","Letkov","CZ/C1","PMRg 2024 - Kombi",7,588,5243,"LS 8 18m","EJ",{"$f":"IF(ISERROR(VLOOKUP(B23,Pilot,6,0)),\"Není v databázi\",VLOOKUP(B23,Pilot,6,0))","v":""}]
[{"$f":"RANK(J24,J:J)","v":22},"Jiri Krofta",1988,"M","Hosín","CZ/C1","PMRg 2024 - Klub",15,759,5200,"Std. Cirrus","UB",{"$f":"IF(ISERROR(VLOOKUP(B24,Pilot,6,0)),\"Není v databázi\",VLOOKUP(B24,Pilot,6,0))","v":""}]
[{"$f":"RANK(J25,J:J)","v":23},"David Riha",1983,"M","Vlašim","CZ/C1","PMRg 2024 - Klub",16,744,4982,"ASW 15 B","XE",{"$f":"IF(ISERROR(VLOOKUP(B25,Pilot,6,0)),\"Není v databázi\",VLOOKUP(B25,Pilot,6,0))","v":""}]
[{"$f":"RANK(J26,J:J)","v":24},"Pavel Svetlik",1968,"M","Kunovice","CZ/M","PMRg 2024 - Kombi",8,581,4895,"DG 500 22m","YA",{"$f":"IF(ISERROR(VLOOKUP(B26,Pilot,6,0)),\"Není v databázi\",VLOOKUP(B26,Pilot,6,0))","v":""}]
[{"$f":"RANK(J27,J:J)","v":25},"Premysl Muzik",1990,"M","Tábor","CZ/C1","PMRg 2024 - Klub",17,737,4808,"Std. Cirrus","IMI",{"$f":"IF(ISERROR(VLOOKUP(B27,Pilot,6,0)),\"Není v databázi\",VLOOKUP(B27,Pilot,6,0))","v":""}]
[{"$f":"RANK(J28,J:J)","v":26},"Lukas Maly",1998,"M","Vysoké Mýto","CZ/C2","PMRg 2024 - Klub",18,684,4385,"Discus CS",65,{"$f":"IF(ISERROR(VLOOKUP(B28,Pilot,6,0)),\"Není v databázi\",VLOOKUP(B28,Pilot,6,0))","v":""}]
[{"$f":"RANK(J29,J:J)","v":27},"Martin Kriz",1968,"M","Přibyslav","CZ/C2","PMRg 2024 - Klub",19,628,3945,"ASW 20",67,{"$f":"IF(ISERROR(VLOOKUP(B29,Pilot,6,0)),\"Není v databázi\",VLOOKUP(B29,Pilot,6,0))","v":""}]
[{"$f":"RANK(J30,J:J)","v":28},"Michal Fortik",1976,"M","Točná","CZ/C1","PMRg 2024 - Klub",20,618,3755,"ASW 15 B","B",{"$f":"IF(ISERROR(VLOOKUP(B30,Pilot,6,0)),\"Není v databázi\",VLOOKUP(B30,Pilot,6,0))","v":""}]
[{"$f":"RANK(J31,J:J)","v":29},"Antonin Kutalek",1943,"M","Zábřeh","CZ/M","PMRg 2024 - Kombi",9,378,3199,"LAK-17A T 15m","GL",{"$f":"IF(ISERROR(VLOOKUP(B31,Pilot,6,0)),\"Není v databázi\",VLOOKUP(B31,Pilot,6,0))","v":""}]
[{"$f":"RANK(J32,J:J)","v":30},"Michael Fik",1972,"M","Strakonice","CZ/C1","PMRg 2024 - Kombi",10,259,2081,"Duo Discus","DD",{"$f":"IF(ISERROR(VLOOKUP(B32,Pilot,6,0)),\"Není v databázi\",VLOOKUP(B32,Pilot,6,0))","v":""}]
[{"$f":"RANK(J33,J:J)","v":31},"Pavel Koudelka",1973,"M","Křižanov","CZ/M","PMRg 2024 - Klub",21,259,1675,"Std. Cirrus","ZL",{"$f":"IF(ISERROR(VLOOKUP(B33,Pilot,6,0)),\"Není v databázi\",VLOOKUP(B33,Pilot,6,0))","v":""}]
[{"$f":"RANK(J34,J:J)","v":32},"Jan Zahradka",1981,"M","Hodkovice","CZ/C2","PMRg 2024 - Klub",22,156,981,"Std. Cirrus","AR",{"$f":"IF(ISERROR(VLOOKUP(B34,Pilot,6,0)),\"Není v databázi\",VLOOKUP(B34,Pilot,6,0))","v":""}]
[{"$f":"RANK(J35,J:J)","v":33},"Petr Weinhauer",1977,"M","Tábor","CZ/C1","PMRg 2024 - Klub",23,0,0,"VSO-10","F3",{"$f":"IF(ISERROR(VLOOKUP(B35,Pilot,6,0)),\"Není v databázi\",VLOOKUP(B35,Pilot,6,0))","v":""}]
[{"$f":"RANK(J36,J:J)","v":33},"Michal Vranek",1993,"M","Hosín","CZ/C1","PMRg 2024 - Klub",23,0,0,"DG 100","8W",{"$f":"IF(ISERROR(VLOOKUP(B36,Pilot,6,0)),\"Není v databázi\",VLOOKUP(B36,Pilot,6,0))","v":""}]
[{"$f":"RANK(J37,J:J)","v":33},"Eva Klapkova",1993,"F","Raná","CZ/C2","PMRg 2024 - Klub",23,0,0,"ASW 15","TZ",{"$f":"IF(ISERROR(VLOOKUP(B37,Pilot,6,0)),\"Není v databázi\",VLOOKUP(B37,Pilot,6,0))","v":""}]
[{"$f":"RANK(J38,J:J)","v":33},"Jan Louda",1986,"M","Mladá Boleslav","CZ/C1","PMRg 2024 - Klub",23,0,0,"ASW 19 B","XS",{"$f":"IF(ISERROR(VLOOKUP(B38,Pilot,6,0)),\"Není v databázi\",VLOOKUP(B38,Pilot,6,0))","v":""}]
[{"$f":"RANK(J39,J:J)","v":33},"Daniel Devecka",1981,"M","Vlašim","CZ/C1","PMRg 2024 - Klub",23,0,0,"LS 3a","2G",{"$f":"IF(ISERROR(VLOOKUP(B39,Pilot,6,0)),\"Není v databázi\",VLOOKUP(B39,Pilot,6,0))","v":""}]
[{"$f":"RANK(J40,J:J)","v":33},"Zdenek Buben",1978,"M","Hodkovice","CZ/C2","PMRg 2024 - Kombi",11,0,0,"ASW 27 B WL","MF",{"$f":"IF(ISERROR(VLOOKUP(B40,Pilot,6,0)),\"Není v databázi\",VLOOKUP(B40,Pilot,6,0))","v":""}]
[{"$f":"RANK(J41,J:J)","v":33},"Ondrej Dvorak 87",1987,"M","Raná","CZ/C2","PMRg 2024 - Kombi",11,0,0,"Ventus a 15 WL","FW"]

{"sheet":"N PMČR 2025","index":12,"n_rows":128,"n_cols":18,"rows_kept":128,"cut":false,"hidden":false,"merged":[[40,1,40,7],[7,1,7,7],[62,1,62,7],[125,1,125,7],[92,1,92,7],[127,1,127,7],[120,1,120,7],[123,1,123,7],[124,1,124,7],[121,1,121,7]]}
[null,"Nominace na PMČR 2025",null,null,null,null,null,"Kontrola:","Počet","Nominace","Počet","Nominace","Počet","Nominace","M:","F:","M+F:"]
["No","Jméno","Aeroklub","Rok narození","M/F","Junior","No",null,"PMČR","PMČR","PMRg","PMRg","PMČRj","PMČRj",{"$f":"COUNTIF(E:E,\"M\")","v":82},{"$f":"COUNTIF(E:E,\"F\")","v":13},{"$f":"O2+P2","v":95},"S náhradníky"]
["6.6.5.","Nominace na PMČR - všeobecně (dle SŘ ZM11)",null,null,null,null,null,null,null,null,null,null,null,"Celkem řádně nominováno:",{"$f":"O2-COUNTIF(E58:E62,\"M\")-COUNTIF(E104:E113,\"M\")","v":68},{"$f":"P2-COUNTIF(E58:E62,\"F\")-COUNTIF(E104:E113,\"F\")","v":12},{"$f":"O3+P3","v":80},"Bez náhradníků"]
[null,"Na PMČR nominuje PK minimálně 80 pilotů/pilotek a příslušný počet náhradníků pro stanovená nominační kritéria."]
[null,"PMČR se mohou zúčastnit pouze soutěžící nominovaní dle jednotlivých bodů odstavců 6.6.6., 6.6.7. a 6.6.8."]
[null,"Pořadatel soutěže nemůže doplnit soutěžící na základě jiných kritérií."]
["6.6.6.","Řádná nominace - Na PMČR jsou nominováni:"]
[null,"Všichni členové reprezentačního výběru (RV) ČR stanoveného pro daný soutěžní ročník (bez náhradníků):"]
[1,"Jan Pavlik",{"$f":"VLOOKUP(B9,Pilot!A:C,3,0)","v":"Křižanov"},{"$f":"VLOOKUP(B9,Pilot!A:B,2,0)","v":1987},{"$f":"VLOOKUP(B9,Pilot!A:E,5,0)","v":"M"},{"$f":"VLOOKUP(B9,Pilot!A:F,6,0)","v":""},{"$f":"A9","v":1},null,{"$f":"COUNTIF(B:B,B9)","v":1},{"$f":"IF(ISERROR(VLOOKUP(B9,B:G,6,0)),\"-\",VLOOKUP(B9,B:G,6,0))","v":1},{"$f":"IF(COUNTIF('N PMRg 2025'!B:B,B9)=0,\"-\",COUNTIF('N PMRg 2025'!B:B,B9))","v":"-"},{"$f":"IF(ISERROR(VLOOKUP(B9,'N PMRg 2025'!B:G,6,0)),\"-\",VLOOKUP(B9,'N PMRg 2025'!B:G,6,0))","v":"-"},{"$f":"IF(COUNTIF('N PMČRj 2025'!B:B,B9)=0,\"-\",COUNTIF('N PMČRj 2025'!B:B,B9))","v":"-"},{"$f":"IF(ISERROR(VLOOKUP(B9,'N PMČRj 2025'!B:G,6,0)),\"-\",VLOOKUP(B9,'N PMČRj 2025'!B:G,6,0))","v":"-"}]
[{"$f":"A9+1","v":2},"Tomas Suchanek",{"$f":"VLOOKUP(B10,Pilot!A:C,3,0)","v":"GAC Benešov"},{"$f":"VLOOKUP(B10,Pilot!A:B,2,0)","v":1964},{"$f":"VLOOKUP(B10,Pilot!A:E,5,0)","v":"M"},{"$f":"VLOOKUP(B10,Pilot!A:F,6,0)","v":""},{"$f":"A10","v":2},null,{"$f":"COUNTIF(B:B,B10)","v":1},{"$f":"IF(ISERROR(VLOOKUP(B10,B:G,6,0)),\"-\",VLOOKUP(B10,B:G,6,0))","v":2},{"$f":"IF(COUNTIF('N PMRg 2025'!B:B,B10)=0,\"-\",COUNTIF('N PMRg 2025'!B:B,B10))","v":"-"},{"$f":"IF(ISERROR(VLOOKUP(B10,'N PMRg 2025'!B:G,6,0)),\"-\",VLOOKUP(B10,'N PMRg 2025'!B:G,6,0))","v":"-"},{"$f":"IF(COUNTIF('N PMČRj 2025'!B:B,B10)=0,\"-\",COUNTIF('N PMČRj 2025'!B:B,B10))","v":"-"},{"$f":"IF(ISERROR(VLOOKUP(B10,'N PMČRj 2025'!B:G,6,0)),\"-\",VLOOKUP(B10,'N PMČRj 2025'!B:G,6,0))","v":"-"}]
[{"$f":"A10+1","v":3},"Radek Krejcirik",{"$f":"VLOOKUP(B11,Pilot!A:C,3,0)","v":"Hranice"},{"$f":"VLOOKUP(B11,Pilot!A:B,2,0)","v":1991},{"$f":"VLOOKUP(B11,Pilot!A:E,5,0)","v":"M"},{"$f":"VLOOKUP(B11,Pilot!A:F,6,0)","v":""},3,null,{"$f":"COUNTIF(B:B,B11)","v":1},{"$f":"IF(ISERROR(VLOOKUP(B11,B:G,6,0)),\"-\",VLOOKUP(B11,B:G,6,0))","v":3},{"$f":"IF(COUNTIF('N PMRg 2025'!B:B,B11)=0,\"-\",COUNTIF('N PMRg 2025'!B:B,B11))","v":"-"},{"$f":"IF(ISERROR(VLOOKUP(B11,'N PMRg 2025'!B:G,6,0)),\"-\",VLOOKUP(B11,'N PMRg 2025'!B:G,6,0))","v":"-"},{"$f":"IF(COUNTIF('N PMČRj 2025'!B:B,B11)=0,\"-\",COUNTIF('N PMČRj 2025'!B:B,B11))","v":"-"},{"$f":"IF(ISERROR(VLOOKUP(B11,'N PMČRj 2025'!B:G,6,0)),\"-\",VLOOKUP(B11,'N PMČRj 2025'!B:G,6,0))","v":"-"}]
[4,"Lukas Kriz",{"$f":"VLOOKUP(B12,Pilot!A:C,3,0)","v":"Křižanov"},{"$f":"VLOOKUP(B12,Pilot!A:B,2,0)","v":2003},{"$f":"VLOOKUP(B12,Pilot!A:E,5,0)","v":"M"},{"$f":"VLOOKUP(B12,Pilot!A:F,6,0)","v":"Junior v roce 2025"},4,null,{"$f":"COUNTIF(B:B,B12)","v":1},{"$f":"IF(ISERROR(VLOOKUP(B12,B:G,6,0)),\"-\",VLOOKUP(B12,B:G,6,0))","v":4},{"$f":"IF(COUNTIF('N PMRg 2025'!B:B,B12)=0,\"-\",COUNTIF('N PMRg 2025'!B:B,B12))","v":"-"},{"$f":"IF(ISERROR(VLOOKUP(B12,'N PMRg 2025'!B:G,6,0)),\"-\",VLOOKUP(B12,'N PMRg 2025'!B:G,6,0))","v":"-"},{"$f":"IF(COUNTIF('N PMČRj 2025'!B:B,B12)=0,\"-\",COUNTIF('N PMČRj 2025'!B:B,B12))","v":1},{"$f":"IF(ISERROR(VLOOKUP(B12,'N PMČRj 2025'!B:G,6,0)),\"-\",VLOOKUP(B12,'N PMČRj 2025'!B:G,6,0))","v":1}]
[5,"Miloslav Cink",{"$f":"VLOOKUP(B13,Pilot!A:C,3,0)","v":"Letkov"},{"$f":"VLOOKUP(B13,Pilot!A:B,2,0)","v":1987},{"$f":"VLOOKUP(B13,Pilot!A:E,5,0)","v":"M"},{"$f":"VLOOKUP(B13,Pilot!A:F,6,0)","v":""},5,null,{"$f":"COUNTIF(B:B,B13)","v":1},{"$f":"IF(ISERROR(VLOOKUP(B13,B:G,6,0)),\"-\",VLOOKUP(B13,B:G,6,0))","v":5},{"$f":"IF(COUNTIF('N PMRg 2025'!B:B,B13)=0,\"-\",COUNTIF('N PMRg 2025'!B:B,B13))","v":"-"},{"$f":"IF(ISERROR(VLOOKUP(B13,'N PMRg 2025'!B:G,6,0)),\"-\",VLOOKUP(B13,'N PMRg 2025'!B:G,6,0))","v":"-"},{"$f":"IF(COUNTIF('N PMČRj 2025'!B:B,B13)=0,\"-\",COUNTIF('N PMČRj 2025'!B:B,B13))","v":"-"},{"$f":"IF(ISERROR(VLOOKUP(B13,'N PMČRj 2025'!B:G,6,0)),\"-\",VLOOKUP(B13,'N PMČRj 2025'!B:G,6,0))","v":"-"}]
[6,"Jaroslav Tomana",{"$f":"VLOOKUP(B14,Pilot!A:C,3,0)","v":"Zbraslavice"},{"$f":"VLOOKUP(B14,Pilot!A:B,2,0)","v":1975},{"$f":"VLOOKUP(B14,Pilot!A:E,5,0)","v":"M"},{"$f":"VLOOKUP(B14,Pilot!A:F,6,0)","v":""},6,null,{"$f":"COUNTIF(B:B,B14)","v":1},{"$f":"IF(ISERROR(VLOOKUP(B14,B:G,6,0)),\"-\",VLOOKUP(B14,B:G,6,0))","v":6},{"$f":"IF(COUNTIF('N PMRg 2025'!B:B,B14)=0,\"-\",COUNTIF('N PMRg 2025'!B:B,B14))","v":"-"},{"$f":"IF(ISERROR(VLOOKUP(B14,'N PMRg 2025'!B:G,6,0)),\"-\",VLOOKUP(B14,'N PMRg 2025'!B:G,6,0))","v":"-"},{"$f":"IF(COUNTIF('N PMČRj 2025'!B:B,B14)=0,\"-\",COUNTIF('N PMČRj 2025'!B:B,B14))","v":"-"},{"$f":"IF(ISERROR(VLOOKUP(B14,'N PMČRj 2025'!B:G,6,0)),\"-\",VLOOKUP(B14,'N PMČRj 2025'!B:G,6,0))","v":"-"}]
[7,"Michal Lesinger",{"$f":"VLOOKUP(B15,Pilot!A:C,3,0)","v":"Moravská Třebová"},{"$f":"VLOOKUP(B15,Pilot!A:B,2,0)","v":1966},{"$f":"VLOOKUP(B15,Pilot!A:E,5,0)","v":"M"},{"$f":"VLOOKUP(B15,Pilot!A:F,6,0)","v":""},7,null,{"$f":"COUNTIF(B:B,B15)","v":1},{"$f":"IF(ISERROR(VLOOKUP(B15,B:G,6,0)),\"-\",VLOOKUP(B15,B:G,6,0))","v":7},{"$f":"IF(COUNTIF('N PMRg 2025'!B:B,B15)=0,\"-\",COUNTIF('N PMRg 2025'!B:B,B15))","v":"-"},{"$f":"IF(ISERROR(VLOOKUP(B15,'N PMRg 2025'!B:G,6,0)),\"-\",VLOOKUP(B15,'N PMRg 2025'!B:G,6,0))","v":"-"},{"$f":"IF(COUNTIF('N PMČRj 2025'!B:B,B15)=0,\"-\",COUNTIF('N PMČRj 2025'!B:B,B15))","v":"-"},{"$f":"IF(ISERROR(VLOOKUP(B15,'N PMČRj 2025'!B:G,6,0)),\"-\",VLOOKUP(B15,'N PMČRj 2025'!B:G,6,0))","v":"-"}]
[8,"Radek Kucirek",{"$f":"VLOOKUP(B16,Pilot!A:C,3,0)","v":"Havlíčkův Brod"},{"$f":"VLOOKUP(B16,Pilot!A:B,2,0)","v":1973},{"$f":"VLOOKUP(B16,Pilot!A:E,5,0)","v":"M"},{"$f":"VLOOKUP(B16,Pilot!A:F,6,0)","v":""},8,null,{"$f":"COUNTIF(B:B,B16)","v":1},{"$f":"IF(ISERROR(VLOOKUP(B16,B:G,6,0)),\"-\",VLOOKUP(B16,B:G,6,0))","v":8},{"$f":"IF(COUNTIF('N PMRg 2025'!B:B,B16)=0,\"-\",COUNTIF('N PMRg 2025'!B:B,B16))","v":"-"},{"$f":"IF(ISERROR(VLOOKUP(B16,'N PMRg 2025'!B:G,6,0)),\"-\",VLOOKUP(B16,'N PMRg 2025'!B:G,6,0))","v":"-"},{"$f":"IF(COUNTIF('N PMČRj 2025'!B:B,B16)=0,\"-\",COUNTIF('N PMČRj 2025'!B:B,B16))","v":"-"},{"$f":"IF(ISERROR(VLOOKUP(B16,'N PMČRj 2025'!B:G,6,0)),\"-\",VLOOKUP(B16,'N PMČRj 2025'!B:G,6,0))","v":"-"}]
[9,"Pavel Trybenekr",{"$f":"VLOOKUP(B17,Pilot!A:C,3,0)","v":"Hořice"},{"$f":"VLOOKUP(B17,Pilot!A:B,2,0)","v":1990},{"$f":"VLOOKUP(B17,Pilot!A:E,5,0)","v":"M"},{"$f":"VLOOKUP(B17,Pilot!A:F,6,0)","v":""},9,null,{"$f":"COUNTIF(B:B,B17)","v":1},{"$f":"IF(ISERROR(VLOOKUP(B17,B:G,6,0)),\"-\",VLOOKUP(B17,B:G,6,0))","v":9},{"$f":"IF(COUNTIF('N PMRg 2025'!B:B,B17)=0,\"-\",COUNTIF('N PMRg 2025'!B:B,B17))","v":"-"},{"$f":"IF(ISERROR(VLOOKUP(B17,'N PMRg 2025'!B:G,6,0)),\"-\",VLOOKUP(B17,'N PMRg 2025'!B:G,6,0))","v":"-"},{"$f":"IF(COUNTIF('N PMČRj 2025'!B:B,B17)=0,\"-\",COUNTIF('N PMČRj 2025'!B:B,B17))","v":"-"},{"$f":"IF(ISERROR(VLOOKUP(B17,'N PMČRj 2025'!B:G,6,0)),\"-\",VLOOKUP(B17,'N PMČRj 2025'!B:G,6,0))","v":"-"}]
[10,"Jaromir Macoun",{"$f":"VLOOKUP(B18,Pilot!A:C,3,0)","v":"Jičín"},{"$f":"VLOOKUP(B18,Pilot!A:B,2,0)","v":1999},{"$f":"VLOOKUP(B18,Pilot!A:E,5,0)","v":"M"},{"$f":"VLOOKUP(B18,Pilot!A:F,6,0)","v":""},{"$f":"A18","v":10},null,{"$f":"COUNTIF(B:B,B18)","v":1},{"$f":"IF(ISERROR(VLOOKUP(B18,B:G,6,0)),\"-\",VLOOKUP(B18,B:G,6,0))","v":10},{"$f":"IF(COUNTIF('N PMRg 2025'!B:B,B18)=0,\"-\",COUNTIF('N PMRg 2025'!B:B,B18))","v":"-"},{"$f":"IF(ISERROR(VLOOKUP(B18,'N PMRg 2025'!B:G,6,0)),\"-\",VLOOKUP(B18,'N PMRg 2025'!B:G,6,0))","v":"-"},{"$f":"IF(COUNTIF('N PMČRj 2025'!B:B,B18)=0,\"-\",COUNTIF('N PMČRj 2025'!B:B,B18))","v":"-"},{"$f":"IF(ISERROR(VLOOKUP(B18,'N PMČRj 2025'!B:G,6,0)),\"-\",VLOOKUP(B18,'N PMČRj 2025'!B:G,6,0))","v":"-"}]
[11,"Karel Novak",{"$f":"VLOOKUP(B19,Pilot!A:C,3,0)","v":"Mladá Boleslav"},{"$f":"VLOOKUP(B19,Pilot!A:B,2,0)","v":1993},{"$f":"VLOOKUP(B19,Pilot!A:E,5,0)","v":"M"},{"$f":"VLOOKUP(B19,Pilot!A:F,6,0)","v":""},11,null,{"$f":"COUNTIF(B:B,B19)","v":1},{"$f":"IF(ISERROR(VLOOKUP(B19,B:G,6,0)),\"-\",VLOOKUP(B19,B:G,6,0))","v":11},{"$f":"IF(COUNTIF('N PMRg 2025'!B:B,B19)=0,\"-\",COUNTIF('N PMRg 2025'!B:B,B19))","v":"-"},{"$f":"IF(ISERROR(VLOOKUP(B19,'N PMRg 2025'!B:G,6,0)),\"-\",VLOOKUP(B19,'N PMRg 2025'!B:G,6,0))","v":"-"},{"$f":"IF(COUNTIF('N PMČRj 2025'!B:B,B19)=0,\"-\",COUNTIF('N PMČRj 2025'!B:B,B19))","v":"-"},{"$f":"IF(ISERROR(VLOOKUP(B19,'N PMČRj 2025'!B:G,6,0)),\"-\",VLOOKUP(B19,'N PMČRj 2025'!B:G,6,0))","v":"-"}]
[12,"Ivan Novak",{"$f":"VLOOKUP(B20,Pilot!A:C,3,0)","v":"Mladá Boleslav"},{"$f":"VLOOKUP(B20,Pilot!A:B,2,0)","v":1962},{"$f":"VLOOKUP(B20,Pilot!A:E,5,0)","v":"M"},{"$f":"VLOOKUP(B20,Pilot!A:F,6,0)","v":""},12,null,{"$f":"COUNTIF(B:B,B20)","v":1},{"$f":"IF(ISERROR(VLOOKUP(B20,B:G,6,0)),\"-\",VLOOKUP(B20,B:G,6,0))","v":12},{"$f":"IF(COUNTIF('N PMRg 2025'!B:B,B20)=0,\"-\",COUNTIF('N PMRg 2025'!B:B,B20))","v":"-"},{"$f":"IF(ISERROR(VLOOKUP(B20,'N PMRg 2025'!B:G,6,0)),\"-\",VLOOKUP(B20,'N PMRg 2025'!B:G,6,0))","v":"-"},{"$f":"IF(COUNTIF('N PMČRj 2025'!B:B,B20)=0,\"-\",COUNTIF('N PMČRj 2025'!B:B,B20))","v":"-"},{"$f":"IF(ISERROR(VLOOKUP(B20,'N PMČRj 2025'!B:G,6,0)),\"-\",VLOOKUP(B20,'N PMČRj 2025'!B:G,6,0))","v":"-"}]
[13,"Jiri Kusbach",{"$f":"VLOOKUP(B21,Pilot!A:C,3,0)","v":"Luhačovice"},{"$f":"VLOOKUP(B21,Pilot!A:B,2,0)","v":1959},{"$f":"VLOOKUP(B21,Pilot!A:E,5,0)","v":"M"},{"$f":"VLOOKUP(B21,Pilot!A:F,6,0)","v":""},{"$f":"A21","v":13},null,{"$f":"COUNTIF(B:B,B21)","v":1},{"$f":"IF(ISERROR(VLOOKUP(B21,B:G,6,0)),\"-\",VLOOKUP(B21,B:G,6,0))","v":13},{"$f":"IF(COUNTIF('N PMRg 2025'!B:B,B21)=0,\"-\",COUNTIF('N PMRg 2025'!B:B,B21))","v":"-"},{"$f":"IF(ISERROR(VLOOKUP(B21,'N PMRg 2025'!B:G,6,0)),\"-\",VLOOKUP(B21,'N PMRg 2025'!B:G,6,0))","v":"-"},{"$f":"IF(COUNTIF('N PMČRj 2025'!B:B,B21)=0,\"-\",COUNTIF('N PMČRj 2025'!B:B,B21))","v":"-"},{"$f":"IF(ISERROR(VLOOKUP(B21,'N PMČRj 2025'!B:G,6,0)),\"-\",VLOOKUP(B21,'N PMČRj 2025'!B:G,6,0))","v":"-"}]
[14,"Michaela Rendlova",{"$f":"VLOOKUP(B22,Pilot!A:C,3,0)","v":"Toužim"},{"$f":"VLOOKUP(B22,Pilot!A:B,2,0)","v":2004},{"$f":"VLOOKUP(B22,Pilot!A:E,5,0)","v":"F"},{"$f":"VLOOKUP(B22,Pilot!A:F,6,0)","v":"Junior v roce 2025"},14,null,{"$f":"COUNTIF(B:B,B22)","v":1},{"$f":"IF(ISERROR(VLOOKUP(B22,B:G,6,0)),\"-\",VLOOKUP(B22,B:G,6,0))","v":14},{"$f":"IF(COUNTIF('N PMRg 2025'!B:B,B22)=0,\"-\",COUNTIF('N PMRg 2025'!B:B,B22))","v":"-"},{"$f":"IF(ISERROR(VLOOKUP(B22,'N PMRg 2025'!B:G,6,0)),\"-\",VLOOKUP(B22,'N PMRg 2025'!B:G,6,0))","v":"-"},{"$f":"IF(COUNTIF('N PMČRj 2025'!B:B,B22)=0,\"-\",COUNTIF('N PMČRj 2025'!B:B,B22))","v":1},{"$f":"IF(ISERROR(VLOOKUP(B22,'N PMČRj 2025'!B:G,6,0)),\"-\",VLOOKUP(B22,'N PMČRj 2025'!B:G,6,0))","v":2}]
[15,"Martin Hrivna",{"$f":"VLOOKUP(B23,Pilot!A:C,3,0)","v":"Zbraslavice"},{"$f":"VLOOKUP(B23,Pilot!A:B,2,0)","v":1978},{"$f":"VLOOKUP(B23,Pilot!A:E,5,0)","v":"M"},{"$f":"VLOOKUP(B23,Pilot!A:F,6,0)","v":""},15,null,{"$f":"COUNTIF(B:B,B23)","v":1},{"$f":"IF(ISERROR(VLOOKUP(B23,B:G,6,0)),\"-\",VLOOKUP(B23,B:G,6,0))","v":15},{"$f":"IF(COUNTIF('N PMRg 2025'!B:B,B23)=0,\"-\",COUNTIF('N PMRg 2025'!B:B,B23))","v":"-"},{"$f":"IF(ISERROR(VLOOKUP(B23,'N PMRg 2025'!B:G,6,0)),\"-\",VLOOKUP(B23,'N PMRg 2025'!B:G,6,0))","v":"-"},{"$f":"IF(COUNTIF('N PMČRj 2025'!B:B,B23)=0,\"-\",COUNTIF('N PMČRj 2025'!B:B,B23))","v":"-"},{"$f":"IF(ISERROR(VLOOKUP(B23,'N PMČRj 2025'!B:G,6,0)),\"-\",VLOOKUP(B23,'N PMČRj 2025'!B:G,6,0))","v":"-"}]
[16,"Jan Stastny",{"$f":"VLOOKUP(B24,Pilot!A:C,3,0)","v":"Medlánky"},{"$f":"VLOOKUP(B24,Pilot!A:B,2,0)","v":2003},{"$f":"VLOOKUP(B24,Pilot!A:E,5,0)","v":"M"},{"$f":"VLOOKUP(B24,Pilot!A:F,6,0)","v":"Junior v roce 2025"},16,null,{"$f":"COUNTIF(B:B,B24)","v":1},{"$f":"IF(ISERROR(VLOOKUP(B24,B:G,6,0)),\"-\",VLOOKUP(B24,B:G,6,0))","v":16},{"$f":"IF(COUNTIF('N PMRg 2025'!B:B,B24)=0,\"-\",COUNTIF('N PMRg 2025'!B:B,B24))","v":"-"},{"$f":"IF(ISERROR(VLOOKUP(B24,'N PMRg 2025'!B:G,6,0)),\"-\",VLOOKUP(B24,'N PMRg 2025'!B:G,6,0))","v":"-"},{"$f":"IF(COUNTIF('N PMČRj 2025'!B:B,B24)=0,\"-\",COUNTIF('N PMČRj 2025'!B:B,B24))","v":1},{"$f":"IF(ISERROR(VLOOKUP(B24,'N PMČRj 2025'!B:G,6,0)),\"-\",VLOOKUP(B24,'N PMČRj 2025'!B:G,6,0))","v":3}]
[17,"Petr Tichy",{"$f":"VLOOKUP(B25,Pilot!A:C,3,0)","v":"Zbraslavice"},{"$f":"VLOOKUP(B25,Pilot!A:B,2,0)","v":1973},{"$f":"VLOOKUP(B25,Pilot!A:E,5,0)","v":"M"},{"$f":"VLOOKUP(B25,Pilot!A:F,6,0)","v":""},17,null,{"$f":"COUNTIF(B:B,B25)","v":1},{"$f":"IF(ISERROR(VLOOKUP(B25,B:G,6,0)),\"-\",VLOOKUP(B25,B:G,6,0))","v":17},{"$f":"IF(COUNTIF('N PMRg 2025'!B:B,B25)=0,\"-\",COUNTIF('N PMRg 2025'!B:B,B25))","v":"-"},{"$f":"IF(ISERROR(VLOOKUP(B25,'N PMRg 2025'!B:G,6,0)),\"-\",VLOOKUP(B25,'N PMRg 2025'!B:G,6,0))","v":"-"},{"$f":"IF(COUNTIF('N PMČRj 2025'!B:B,B25)=0,\"-\",COUNTIF('N PMČRj 2025'!B:B,B25))","v":"-"},{"$f":"IF(ISERROR(VLOOKUP(B25,'N PMČRj 2025'!B:G,6,0)),\"-\",VLOOKUP(B25,'N PMČRj 2025'!B:G,6,0))","v":"-"}]
[18,"Pavel Louzecky",{"$f":"VLOOKUP(B26,Pilot!A:C,3,0)","v":"Přibyslav"},{"$f":"VLOOKUP(B26,Pilot!A:B,2,0)","v":1957},{"$f":"VLOOKUP(B26,Pilot!A:E,5,0)","v":"M"},{"$f":"VLOOKUP(B26,Pilot!A:F,6,0)","v":""},18,null,{"$f":"COUNTIF(B:B,B26)","v":1},{"$f":"IF(ISERROR(VLOOKUP(B26,B:G,6,0)),\"-\",VLOOKUP(B26,B:G,6,0))","v":18},{"$f":"IF(COUNTIF('N PMRg 2025'!B:B,B26)=0,\"-\",COUNTIF('N PMRg 2025'!B:B,B26))","v":"-"},{"$f":"IF(ISERROR(VLOOKUP(B26,'N PMRg 2025'!B:G,6,0)),\"-\",VLOOKUP(B26,'N PMRg 2025'!B:G,6,0))","v":"-"},{"$f":"IF(COUNTIF('N PMČRj 2025'!B:B,B26)=0,\"-\",COUNTIF('N PMČRj 2025'!B:B,B26))","v":"-"},{"$f":"IF(ISERROR(VLOOKUP(B26,'N PMČRj 2025'!B:G,6,0)),\"-\",VLOOKUP(B26,'N PMČRj 2025'!B:G,6,0))","v":"-"}]
[19,"Tomas Rendla",{"$f":"VLOOKUP(B27,Pilot!A:C,3,0)","v":"Zbraslavice"},{"$f":"VLOOKUP(B27,Pilot!A:B,2,0)","v":1973},{"$f":"VLOOKUP(B27,Pilot!A:E,5,0)","v":"M"},{"$f":"VLOOKUP(B27,Pilot!A:F,6,0)","v":""},19,null,{"$f":"COUNTIF(B:B,B27)","v":1},{"$f":"IF(ISERROR(VLOOKUP(B27,B:G,6,0)),\"-\",VLOOKUP(B27,B:G,6,0))","v":19},{"$f":"IF(COUNTIF('N PMRg 2025'!B:B,B27)=0,\"-\",COUNTIF('N PMRg 2025'!B:B,B27))","v":"-"},{"$f":"IF(ISERROR(VLOOKUP(B27,'N PMRg 2025'!B:G,6,0)),\"-\",VLOOKUP(B27,'N PMRg 2025'!B:G,6,0))","v":"-"},{"$f":"IF(COUNTIF('N PMČRj 2025'!B:B,B27)=0,\"-\",COUNTIF('N PMČRj 2025'!B:B,B27))","v":"-"},{"$f":"IF(ISERROR(VLOOKUP(B27,'N PMČRj 2025'!B:G,6,0)),\"-\",VLOOKUP(B27,'N PMČRj 2025'!B:G,6,0))","v":"-"}]
[20,"Ivan Harasta 65",{"$f":"VLOOKUP(B28,Pilot!A:C,3,0)","v":"Toužim"},{"$f":"VLOOKUP(B28,Pilot!A:B,2,0)","v":1965},{"$f":"VLOOKUP(B28,Pilot!A:E,5,0)","v":"M"},{"$f":"VLOOKUP(B28,Pilot!A:F,6,0)","v":""},20,null,{"$f":"COUNTIF(B:B,B28)","v":1},{"$f":"IF(ISERROR(VLOOKUP(B28,B:G,6,0)),\"-\",VLOOKUP(B28,B:G,6,0))","v":20},{"$f":"IF(COUNTIF('N PMRg 2025'!B:B,B28)=0,\"-\",COUNTIF('N PMRg 2025'!B:B,B28))","v":"-"},{"$f":"IF(ISERROR(VLOOKUP(B28,'N PMRg 2025'!B:G,6,0)),\"-\",VLOOKUP(B28,'N PMRg 2025'!B:G,6,0))","v":"-"},{"$f":"IF(COUNTIF('N PMČRj 2025'!B:B,B28)=0,\"-\",COUNTIF('N PMČRj 2025'!B:B,B28))","v":"-"},{"$f":"IF(ISERROR(VLOOKUP(B28,'N PMČRj 2025'!B:G,6,0)),\"-\",VLOOKUP(B28,'N PMČRj 2025'!B:G,6,0))","v":"-"}]
[21,"Hana Treslova",{"$f":"VLOOKUP(B29,Pilot!A:C,3,0)","v":"Raná"},{"$f":"VLOOKUP(B29,Pilot!A:B,2,0)","v":1991},{"$f":"VLOOKUP(B29,Pilot!A:E,5,0)","v":"F"},{"$f":"VLOOKUP(B29,Pilot!A:F,6,0)","v":""},21,null,{"$f":"COUNTIF(B:B,B29)","v":1},{"$f":"IF(ISERROR(VLOOKUP(B29,B:G,6,0)),\"-\",VLOOKUP(B29,B:G,6,0))","v":21},{"$f":"IF(COUNTIF('N PMRg 2025'!B:B,B29)=0,\"-\",COUNTIF('N PMRg 2025'!B:B,B29))","v":"-"},{"$f":"IF(ISERROR(VLOOKUP(B29,'N PMRg 2025'!B:G,6,0)),\"-\",VLOOKUP(B29,'N PMRg 2025'!B:G,6,0))","v":"-"},{"$f":"IF(COUNTIF('N PMČRj 2025'!B:B,B29)=0,\"-\",COUNTIF('N PMČRj 2025'!B:B,B29))","v":"-"},{"$f":"IF(ISERROR(VLOOKUP(B29,'N PMČRj 2025'!B:G,6,0)),\"-\",VLOOKUP(B29,'N PMČRj 2025'!B:G,6,0))","v":"-"}]
[22,"Barbora Moravcova",{"$f":"VLOOKUP(B30,Pilot!A:C,3,0)","v":"Zbraslavice"},{"$f":"VLOOKUP(B30,Pilot!A:B,2,0)","v":1994},{"$f":"VLOOKUP(B30,Pilot!A:E,5,0)","v":"F"},{"$f":"VLOOKUP(B30,Pilot!A:F,6,0)","v":""},22,null,{"$f":"COUNTIF(B:B,B30)","v":1},{"$f":"IF(ISERROR(VLOOKUP(B30,B:G,6,0)),\"-\",VLOOKUP(B30,B:G,6,0))","v":22},{"$f":"IF(COUNTIF('N PMRg 2025'!B:B,B30)=0,\"-\",COUNTIF('N PMRg 2025'!B:B,B30))","v":"-"},{"$f":"IF(ISERROR(VLOOKUP(B30,'N PMRg 2025'!B:G,6,0)),\"-\",VLOOKUP(B30,'N PMRg 2025'!B:G,6,0))","v":"-"},{"$f":"IF(COUNTIF('N PMČRj 2025'!B:B,B30)=0,\"-\",COUNTIF('N PMČRj 2025'!B:B,B30))","v":"-"},{"$f":"IF(ISERROR(VLOOKUP(B30,'N PMČRj 2025'!B:G,6,0)),\"-\",VLOOKUP(B30,'N PMČRj 2025'!B:G,6,0))","v":"-"}]
[23,"Alena Netusilova",{"$f":"VLOOKUP(B31,Pilot!A:C,3,0)","v":"Zbraslavice"},{"$f":"VLOOKUP(B31,Pilot!A:B,2,0)","v":1970},{"$f":"VLOOKUP(B31,Pilot!A:E,5,0)","v":"F"},{"$f":"VLOOKUP(B31,Pilot!A:F,6,0)","v":""},23,null,{"$f":"COUNTIF(B:B,B31)","v":1},{"$f":"IF(ISERROR(VLOOKUP(B31,B:G,6,0)),\"-\",VLOOKUP(B31,B:G,6,0))","v":23},{"$f":"IF(COUNTIF('N PMRg 2025'!B:B,B31)=0,\"-\",COUNTIF('N PMRg 2025'!B:B,B31))","v":"-"},{"$f":"IF(ISERROR(VLOOKUP(B31,'N PMRg 2025'!B:G,6,0)),\"-\",VLOOKUP(B31,'N PMRg 2025'!B:G,6,0))","v":"-"},{"$f":"IF(COUNTIF('N PMČRj 2025'!B:B,B31)=0,\"-\",COUNTIF('N PMČRj 2025'!B:B,B31))","v":"-"},{"$f":"IF(ISERROR(VLOOKUP(B31,'N PMČRj 2025'!B:G,6,0)),\"-\",VLOOKUP(B31,'N PMČRj 2025'!B:G,6,0))","v":"-"}]
[24,"Vit Morkovsky",{"$f":"VLOOKUP(B32,Pilot!A:C,3,0)","v":"Polička"},{"$f":"VLOOKUP(B32,Pilot!A:B,2,0)","v":2000},{"$f":"VLOOKUP(B32,Pilot!A:E,5,0)","v":"M"},{"$f":"VLOOKUP(B32,Pilot!A:F,6,0)","v":"Junior v roce 2025"},24,null,{"$f":"COUNTIF(B:B,B32)","v":1},{"$f":"IF(ISERROR(VLOOKUP(B32,B:G,6,0)),\"-\",VLOOKUP(B32,B:G,6,0))","v":24},{"$f":"IF(COUNTIF('N PMRg 2025'!B:B,B32)=0,\"-\",COUNTIF('N PMRg 2025'!B:B,B32))","v":"-"},{"$f":"IF(ISERROR(VLOOKUP(B32,'N PMRg 2025'!B:G,6,0)),\"-\",VLOOKUP(B32,'N PMRg 2025'!B:G,6,0))","v":"-"},{"$f":"IF(COUNTIF('N PMČRj 2025'!B:B,B32)=0,\"-\",COUNTIF('N PMČRj 2025'!B:B,B32))","v":1},{"$f":"IF(ISERROR(VLOOKUP(B32,'N PMČRj 2025'!B:G,6,0)),\"-\",VLOOKUP(B32,'N PMČRj 2025'!B:G,6,0))","v":4}]
[25,"Tereza Koubkova",{"$f":"VLOOKUP(B33,Pilot!A:C,3,0)","v":"Vysoké Mýto"},{"$f":"VLOOKUP(B33,Pilot!A:B,2,0)","v":1999},{"$f":"VLOOKUP(B33,Pilot!A:E,5,0)","v":"F"},{"$f":"VLOOKUP(B33,Pilot!A:F,6,0)","v":""},25,null,{"$f":"COUNTIF(B:B,B33)","v":1},{"$f":"IF(ISERROR(VLOOKUP(B33,B:G,6,0)),\"-\",VLOOKUP(B33,B:G,6,0))","v":25},{"$f":"IF(COUNTIF('N PMRg 2025'!B:B,B33)=0,\"-\",COUNTIF('N PMRg 2025'!B:B,B33))","v":"-"},{"$f":"IF(ISERROR(VLOOKUP(B33,'N PMRg 2025'!B:G,6,0)),\"-\",VLOOKUP(B33,'N PMRg 2025'!B:G,6,0))","v":"-"},{"$f":"IF(COUNTIF('N PMČRj 2025'!B:B,B33)=0,\"-\",COUNTIF('N PMČRj 2025'!B:B,B33))","v":1},{"$f":"IF(ISERROR(VLOOKUP(B33,'N PMČRj 2025'!B:G,6,0)),\"-\",VLOOKUP(B33,'N PMČRj 2025'!B:G,6,0))","v":10}]
[26,"Tomas Hynek",{"$f":"VLOOKUP(B34,Pilot!A:C,3,0)","v":"Dvůr Králové"},{"$f":"VLOOKUP(B34,Pilot!A:B,2,0)","v":2002},{"$f":"VLOOKUP(B34,Pilot!A:E,5,0)","v":"M"},{"$f":"VLOOKUP(B34,Pilot!A:F,6,0)","v":"Junior v roce 2025"},{"$f":"A34","v":26},null,{"$f":"COUNTIF(B:B,B34)","v":1},{"$f":"IF(ISERROR(VLOOKUP(B34,B:G,6,0)),\"-\",VLOOKUP(B34,B:G,6,0))","v":26},{"$f":"IF(COUNTIF('N PMRg 2025'!B:B,B34)=0,\"-\",COUNTIF('N PMRg 2025'!B:B,B34))","v":"-"},{"$f":"IF(ISERROR(VLOOKUP(B34,'N PMRg 2025'!B:G,6,0)),\"-\",VLOOKUP(B34,'N PMRg 2025'!B:G,6,0))","v":"-"},{"$f":"IF(COUNTIF('N PMČRj 2025'!B:B,B34)=0,\"-\",COUNTIF('N PMČRj 2025'!B:B,B34))","v":1},{"$f":"IF(ISERROR(VLOOKUP(B34,'N PMČRj 2025'!B:G,6,0)),\"-\",VLOOKUP(B34,'N PMČRj 2025'!B:G,6,0))","v":5}]
[27,"Dana Novakova",{"$f":"VLOOKUP(B35,Pilot!A:C,3,0)","v":"Mladá Boleslav"},{"$f":"VLOOKUP(B35,Pilot!A:B,2,0)","v":1965},{"$f":"VLOOKUP(B35,Pilot!A:E,5,0)","v":"F"},{"$f":"VLOOKUP(B35,Pilot!A:F,6,0)","v":""},27,null,{"$f":"COUNTIF(B:B,B35)","v":1},{"$f":"IF(ISERROR(VLOOKUP(B35,B:G,6,0)),\"-\",VLOOKUP(B35,B:G,6,0))","v":27},{"$f":"IF(COUNTIF('N PMRg 2025'!B:B,B35)=0,\"-\",COUNTIF('N PMRg 2025'!B:B,B35))","v":"-"},{"$f":"IF(ISERROR(VLOOKUP(B35,'N PMRg 2025'!B:G,6,0)),\"-\",VLOOKUP(B35,'N PMRg 2025'!B:G,6,0))","v":"-"},{"$f":"IF(COUNTIF('N PMČRj 2025'!B:B,B35)=0,\"-\",COUNTIF('N PMČRj 2025'!B:B,B35))","v":"-"},{"$f":"IF(ISERROR(VLOOKUP(B35,'N PMČRj 2025'!B:G,6,0)),\"-\",VLOOKUP(B35,'N PMČRj 2025'!B:G,6,0))","v":"-"}]
[28,"Michaela Krizova",{"$f":"VLOOKUP(B36,Pilot!A:C,3,0)","v":"Přibyslav"},{"$f":"VLOOKUP(B36,Pilot!A:B,2,0)","v":2001},{"$f":"VLOOKUP(B36,Pilot!A:E,5,0)","v":"F"},{"$f":"VLOOKUP(B36,Pilot!A:F,6,0)","v":"Junior v roce 2025"},28,null,{"$f":"COUNTIF(B:B,B36)","v":1},{"$f":"IF(ISERROR(VLOOKUP(B36,B:G,6,0)),\"-\",VLOOKUP(B36,B:G,6,0))","v":28},{"$f":"IF(COUNTIF('N PMRg 2025'!B:B,B36)=0,\"-\",COUNTIF('N PMRg 2025'!B:B,B36))","v":"-"},{"$f":"IF(ISERROR(VLOOKUP(B36,'N PMRg 2025'!B:G,6,0)),\"-\",VLOOKUP(B36,'N PMRg 2025'!B:G,6,0))","v":"-"},{"$f":"IF(COUNTIF('N PMČRj 2025'!B:B,B36)=0,\"-\",COUNTIF('N PMČRj 2025'!B:B,B36))","v":1},{"$f":"IF(ISERROR(VLOOKUP(B36,'N PMČRj 2025'!B:G,6,0)),\"-\",VLOOKUP(B36,'N PMČRj 2025'!B:G,6,0))","v":6}]
[29,"Jana Treslova",{"$f":"VLOOKUP(B37,Pilot!A:C,3,0)","v":"Raná"},{"$f":"VLOOKUP(B37,Pilot!A:B,2,0)","v":1963},{"$f":"VLOOKUP(B37,Pilot!A:E,5,0)","v":"F"},{"$f":"VLOOKUP(B37,Pilot!A:F,6,0)","v":""},29,null,{"$f":"COUNTIF(B:B,B37)","v":1},{"$f":"IF(ISERROR(VLOOKUP(B37,B:G,6,0)),\"-\",VLOOKUP(B37,B:G,6,0))","v":29},{"$f":"IF(COUNTIF('N PMRg 2025'!B:B,B37)=0,\"-\",COUNTIF('N PMRg 2025'!B:B,B37))","v":"-"},{"$f":"IF(ISERROR(VLOOKUP(B37,'N PMRg 2025'!B:G,6,0)),\"-\",VLOOKUP(B37,'N PMRg 2025'!B:G,6,0))","v":"-"},{"$f":"IF(COUNTIF('N PMČRj 2025'!B:B,B37)=0,\"-\",COUNTIF('N PMČRj 2025'!B:B,B37))","v":"-"},{"$f":"IF(ISERROR(VLOOKUP(B37,'N PMČRj 2025'!B:G,6,0)),\"-\",VLOOKUP(B37,'N PMČRj 2025'!B:G,6,0))","v":"-"}]
[30,"Katerina Vojtova",{"$f":"VLOOKUP(B38,Pilot!A:C,3,0)","v":"Slaný"},{"$f":"VLOOKUP(B38,Pilot!A:B,2,0)","v":1983},{"$f":"VLOOKUP(B38,Pilot!A:E,5,0)","v":"F"},{"$f":"VLOOKUP(B38,Pilot!A:F,6,0)","v":""},30,null,{"$f":"COUNTIF(B:B,B38)","v":1},{"$f":"IF(ISERROR(VLOOKUP(B38,B:G,6,0)),\"-\",VLOOKUP(B38,B:G,6,0))","v":30},{"$f":"IF(COUNTIF('N PMRg 2025'!B:B,B38)=0,\"-\",COUNTIF('N PMRg 2025'!B:B,B38))","v":"-"},{"$f":"IF(ISERROR(VLOOKUP(B38,'N PMRg 2025'!B:G,6,0)),\"-\",VLOOKUP(B38,'N PMRg 2025'!B:G,6,0))","v":"-"},{"$f":"IF(COUNTIF('N PMČRj 2025'!B:B,B38)=0,\"-\",COUNTIF('N PMČRj 2025'!B:B,B38))","v":"-"},{"$f":"IF(ISERROR(VLOOKUP(B38,'N PMČRj 2025'!B:G,6,0)),\"-\",VLOOKUP(B38,'N PMČRj 2025'!B:G,6,0))","v":"-"}]
[31,"Petra Piskata",{"$f":"VLOOKUP(B39,Pilot!A:C,3,0)","v":"Luhačovice"},{"$f":"VLOOKUP(B39,Pilot!A:B,2,0)","v":1989},{"$f":"VLOOKUP(B39,Pilot!A:E,5,0)","v":"F"},{"$f":"VLOOKUP(B39,Pilot!A:F,6,0)","v":""},{"$f":"A39","v":31},null,{"$f":"COUNTIF(B:B,B39)","v":1},{"$f":"IF(ISERROR(VLOOKUP(B39,B:G,6,0)),\"-\",VLOOKUP(B39,B:G,6,0))","v":31},{"$f":"IF(COUNTIF('N PMRg 2025'!B:B,B39)=0,\"-\",COUNTIF('N PMRg 2025'!B:B,B39))","v":"-"},{"$f":"IF(ISERROR(VLOOKUP(B39,'N PMRg 2025'!B:G,6,0)),\"-\",VLOOKUP(B39,'N PMRg 2025'!B:G,6,0))","v":"-"},{"$f":"IF(COUNTIF('N PMČRj 2025'!B:B,B39)=0,\"-\",COUNTIF('N PMČRj 2025'!B:B,B39))","v":"-"},{"$f":"IF(ISERROR(VLOOKUP(B39,'N PMČRj 2025'!B:G,6,0)),\"-\",VLOOKUP(B39,'N PMČRj 2025'!B:G,6,0))","v":"-"}]
[32,"Klara Teichmannova",{"$f":"VLOOKUP(B40,Pilot!A:C,3,0)","v":"Hronov"},{"$f":"VLOOKUP(B40,Pilot!A:B,2,0)","v":1993},{"$f":"VLOOKUP(B40,Pilot!A:E,5,0)","v":"F"},{"$f":"VLOOKUP(B40,Pilot!A:F,6,0)","v":""},32,null,{"$f":"COUNTIF(B:B,B40)","v":1},{"$f":"IF(ISERROR(VLOOKUP(B40,B:G,6,0)),\"-\",VLOOKUP(B40,B:G,6,0))","v":32},{"$f":"IF(COUNTIF('N PMRg 2025'!B:B,B40)=0,\"-\",COUNTIF('N PMRg 2025'!B:B,B40))","v":"-"},{"$f":"IF(ISERROR(VLOOKUP(B40,'N PMRg 2025'!B:G,6,0)),\"-\",VLOOKUP(B40,'N PMRg 2025'!B:G,6,0))","v":"-"},{"$f":"IF(COUNTIF('N PMČRj 2025'!B:B,B40)=0,\"-\",COUNTIF('N PMČRj 2025'!B:B,B40))","v":"-"},{"$f":"IF(ISERROR(VLOOKUP(B40,'N PMČRj 2025'!B:G,6,0)),\"-\",VLOOKUP(B40,'N PMČRj 2025'!B:G,6,0))","v":"-"}]
[null,"Další soutěžící, kteří se umístili v konečném pořadí na posledním platném PMČR ve své třídě nejhůře v první polovině celkového pořadí (bez náhradníků):"]
[null,"PMČR 2024 - Toužim - Klub"]
[{"$f":"MAX(A9:A42)+1","v":33},"Jiri Stepanek",{"$f":"VLOOKUP(B43,Pilot!A:C,3,0)","v":"Moravská Třebová"},{"$f":"VLOOKUP(B43,Pilot!A:B,2,0)","v":1956},{"$f":"VLOOKUP(B43,Pilot!A:E,5,0)","v":"M"},{"$f":"VLOOKUP(B43,Pilot!A:F,6,0)","v":""},{"$f":"A43","v":33},null,{"$f":"COUNTIF(B:B,B43)","v":1},{"$f":"IF(ISERROR(VLOOKUP(B43,B:G,6,0)),\"-\",VLOOKUP(B43,B:G,6,0))","v":33},{"$f":"IF(COUNTIF('N PMRg 2025'!B:B,B43)=0,\"-\",COUNTIF('N PMRg 2025'!B:B,B43))","v":"-"},{"$f":"IF(ISERROR(VLOOKUP(B43,'N PMRg 2025'!B:G,6,0)),\"-\",VLOOKUP(B43,'N PMRg 2025'!B:G,6,0))","v":"-"},{"$f":"IF(COUNTIF('N PMČRj 2025'!B:B,B43)=0,\"-\",COUNTIF('N PMČRj 2025'!B:B,B43))","v":"-"},{"$f":"IF(ISERROR(VLOOKUP(B43,'N PMČRj 2025'!B:G,6,0)),\"-\",VLOOKUP(B43,'N PMČRj 2025'!B:G,6,0))","v":"-"}]
[{"$f":"A43+1","v":34},"Petr Stepanek",{"$f":"VLOOKUP(B44,Pilot!A:C,3,0)","v":"Moravská Třebová"},{"$f":"VLOOKUP(B44,Pilot!A:B,2,0)","v":1989},{"$f":"VLOOKUP(B44,Pilot!A:E,5,0)","v":"M"},{"$f":"VLOOKUP(B44,Pilot!A:F,6,0)","v":""},34,null,{"$f":"COUNTIF(B:B,B44)","v":1},{"$f":"IF(ISERROR(VLOOKUP(B44,B:G,6,0)),\"-\",VLOOKUP(B44,B:G,6,0))","v":34},{"$f":"IF(COUNTIF('N PMRg 2025'!B:B,B44)=0,\"-\",COUNTIF('N PMRg 2025'!B:B,B44))","v":"-"},{"$f":"IF(ISERROR(VLOOKUP(B44,'N PMRg 2025'!B:G,6,0)),\"-\",VLOOKUP(B44,'N PMRg 2025'!B:G,6,0))","v":"-"},{"$f":"IF(COUNTIF('N PMČRj 2025'!B:B,B44)=0,\"-\",COUNTIF('N PMČRj 2025'!B:B,B44))","v":"-"},{"$f":"IF(ISERROR(VLOOKUP(B44,'N PMČRj 2025'!B:G,6,0)),\"-\",VLOOKUP(B44,'N PMČRj 2025'!B:G,6,0))","v":"-"}]
[null,"PMČR 2024 - Toužim - Kombi 15m"]
["-","-",{"$f":"VLOOKUP(B46,Pilot!A:C,3,0)","v":" "},{"$f":"VLOOKUP(B46,Pilot!A:B,2,0)","v":" "},{"$f":"VLOOKUP(B46,Pilot!A:E,5,0)","v":" "},{"$f":"VLOOKUP(B46,Pilot!A:F,6,0)","v":" "},{"$f":"A46","v":"-"},null,{"$f":"COUNTIF(B:B,B46)","v":6},{"$f":"IF(ISERROR(VLOOKUP(B46,B:G,6,0)),\"-\",VLOOKUP(B46,B:G,6,0))","v":"-"},{"$f":"IF(COUNTIF('N PMRg 2025'!B:B,B46)=0,\"-\",COUNTIF('N PMRg 2025'!B:B,B46))","v":76},{"$f":"IF(ISERROR(VLOOKUP(B46,'N PMRg 2025'!B:G,6,0)),\"-\",VLOOKUP(B46,'N PMRg 2025'!B:G,6,0))","v":1},{"$f":"IF(COUNTIF('N PMČRj 2025'!B:B,B46)=0,\"-\",COUNTIF('N PMČRj 2025'!B:B,B46))","v":31},{"$f":"IF(ISERROR(VLOOKUP(B46,'N PMČRj 2025'!B:G,6,0)),\"-\",VLOOKUP(B46,'N PMČRj 2025'!B:G,6,0))","v":20}]
[null,"PMČR 2024 - Toužim - Kombi Open"]
[{"$f":"MAX(A9:A47)+1","v":35},"Jan Boruvka",{"$f":"VLOOKUP(B48,Pilot!A:C,3,0)","v":"Jičín"},{"$f":"VLOOKUP(B48,Pilot!A:B,2,0)","v":1984},{"$f":"VLOOKUP(B48,Pilot!A:E,5,0)","v":"M"},{"$f":"VLOOKUP(B48,Pilot!A:F,6,0)","v":""},{"$f":"A48","v":35},null,{"$f":"COUNTIF(B:B,B48)","v":1},{"$f":"IF(ISERROR(VLOOKUP(B48,B:G,6,0)),\"-\",VLOOKUP(B48,B:G,6,0))","v":35},{"$f":"IF(COUNTIF('N PMRg 2025'!B:B,B48)=0,\"-\",COUNTIF('N PMRg 2025'!B:B,B48))","v":"-"},{"$f":"IF(ISERROR(VLOOKUP(B48,'N PMRg 2025'!B:G,6,0)),\"-\",VLOOKUP(B48,'N PMRg 2025'!B:G,6,0))","v":"-"},{"$f":"IF(COUNTIF('N PMČRj 2025'!B:B,B48)=0,\"-\",COUNTIF('N PMČRj 2025'!B:B,B48))","v":"-"},{"$f":"IF(ISERROR(VLOOKUP(B48,'N PMČRj 2025'!B:G,6,0)),\"-\",VLOOKUP(B48,'N PMČRj 2025'!B:G,6,0))","v":"-"}]
[{"$f":"A48+1","v":36},"Ondrej Dupal",{"$f":"VLOOKUP(B49,Pilot!A:C,3,0)","v":"GAC Benešov"},{"$f":"VLOOKUP(B49,Pilot!A:B,2,0)","v":1966},{"$f":"VLOOKUP(B49,Pilot!A:E,5,0)","v":"M"},{"$f":"VLOOKUP(B49,Pilot!A:F,6,0)","v":""},{"$f":"A49","v":36},null,{"$f":"COUNTIF(B:B,B49)","v":1},{"$f":"IF(ISERROR(VLOOKUP(B49,B:G,6,0)),\"-\",VLOOKUP(B49,B:G,6,0))","v":36},{"$f":"IF(COUNTIF('N PMRg 2025'!B:B,B49)=0,\"-\",COUNTIF('N PMRg 2025'!B:B,B49))","v":"-"},{"$f":"IF(ISERROR(VLOOKUP(B49,'N PMRg 2025'!B:G,6,0)),\"-\",VLOOKUP(B49,'N PMRg 2025'!B:G,6,0))","v":"-"},{"$f":"IF(COUNTIF('N PMČRj 2025'!B:B,B49)=0,\"-\",COUNTIF('N PMČRj 2025'!B:B,B49))","v":"-"},{"$f":"IF(ISERROR(VLOOKUP(B49,'N PMČRj 2025'!B:G,6,0)),\"-\",VLOOKUP(B49,'N PMČRj 2025'!B:G,6,0))","v":"-"}]
[{"$f":"A49+1","v":37},"David Mach",{"$f":"VLOOKUP(B50,Pilot!A:C,3,0)","v":"Hronov"},{"$f":"VLOOKUP(B50,Pilot!A:B,2,0)","v":1994},{"$f":"VLOOKUP(B50,Pilot!A:E,5,0)","v":"M"},{"$f":"VLOOKUP(B50,Pilot!A:F,6,0)","v":""},37,null,{"$f":"COUNTIF(B:B,B50)","v":1},{"$f":"IF(ISERROR(VLOOKUP(B50,B:G,6,0)),\"-\",VLOOKUP(B50,B:G,6,0))","v":37},{"$f":"IF(COUNTIF('N PMRg 2025'!B:B,B50)=0,\"-\",COUNTIF('N PMRg 2025'!B:B,B50))","v":"-"},{"$f":"IF(ISERROR(VLOOKUP(B50,'N PMRg 2025'!B:G,6,0)),\"-\",VLOOKUP(B50,'N PMRg 2025'!B:G,6,0))","v":"-"},{"$f":"IF(COUNTIF('N PMČRj 2025'!B:B,B50)=0,\"-\",COUNTIF('N PMČRj 2025'!B:B,B50))","v":"-"},{"$f":"IF(ISERROR(VLOOKUP(B50,'N PMČRj 2025'!B:G,6,0)),\"-\",VLOOKUP(B50,'N PMČRj 2025'!B:G,6,0))","v":"-"}]
[null,"Prvních 5 soutěžících z posledního platného PMČRj mimo RV (+ 5 náhradníků):"]
[null,"PMČRj 2024 - Hodkovice - Klub"]
[{"$f":"MAX(A9:A52)+1","v":38},"Alex Gulich",{"$f":"VLOOKUP(B53,Pilot!A:C,3,0)","v":"Slaný"},{"$f":"VLOOKUP(B53,Pilot!A:B,2,0)","v":2005},{"$f":"VLOOKUP(B53,Pilot!A:E,5,0)","v":"M"},{"$f":"VLOOKUP(B53,Pilot!A:F,6,0)","v":"Junior v roce 2025"},{"$f":"A53","v":38},null,{"$f":"COUNTIF(B:B,B53)","v":1},{"$f":"IF(ISERROR(VLOOKUP(B53,B:G,6,0)),\"-\",VLOOKUP(B53,B:G,6,0))","v":38},{"$f":"IF(COUNTIF('N PMRg 2025'!B:B,B53)=0,\"-\",COUNTIF('N PMRg 2025'!B:B,B53))","v":"-"},{"$f":"IF(ISERROR(VLOOKUP(B53,'N PMRg 2025'!B:G,6,0)),\"-\",VLOOKUP(B53,'N PMRg 2025'!B:G,6,0))","v":"-"},{"$f":"IF(COUNTIF('N PMČRj 2025'!B:B,B53)=0,\"-\",COUNTIF('N PMČRj 2025'!B:B,B53))","v":1},{"$f":"IF(ISERROR(VLOOKUP(B53,'N PMČRj 2025'!B:G,6,0)),\"-\",VLOOKUP(B53,'N PMČRj 2025'!B:G,6,0))","v":11}]
[{"$f":"A53+1","v":39},"Jan Beran",{"$f":"VLOOKUP(B54,Pilot!A:C,3,0)","v":"Kladno"},{"$f":"VLOOKUP(B54,Pilot!A:B,2,0)","v":1999},{"$f":"VLOOKUP(B54,Pilot!A:E,5,0)","v":"M"},{"$f":"VLOOKUP(B54,Pilot!A:F,6,0)","v":""},39,null,{"$f":"COUNTIF(B:B,B54)","v":1},{"$f":"IF(ISERROR(VLOOKUP(B54,B:G,6,0)),\"-\",VLOOKUP(B54,B:G,6,0))","v":39},{"$f":"IF(COUNTIF('N PMRg 2025'!B:B,B54)=0,\"-\",COUNTIF('N PMRg 2025'!B:B,B54))","v":"-"},{"$f":"IF(ISERROR(VLOOKUP(B54,'N PMRg 2025'!B:G,6,0)),\"-\",VLOOKUP(B54,'N PMRg 2025'!B:G,6,0))","v":"-"},{"$f":"IF(COUNTIF('N PMČRj 2025'!B:B,B54)=0,\"-\",COUNTIF('N PMČRj 2025'!B:B,B54))","v":1},{"$f":"IF(ISERROR(VLOOKUP(B54,'N PMČRj 2025'!B:G,6,0)),\"-\",VLOOKUP(B54,'N PMČRj 2025'!B:G,6,0))","v":12}]
[{"$f":"A54+1","v":40},"Vit Tvrdik",{"$f":"VLOOKUP(B55,Pilot!A:C,3,0)","v":"Letňany"},{"$f":"VLOOKUP(B55,Pilot!A:B,2,0)","v":2000},{"$f":"VLOOKUP(B55,Pilot!A:E,5,0)","v":"M"},{"$f":"VLOOKUP(B55,Pilot!A:F,6,0)","v":"Junior v roce 2025"},40,null,{"$f":"COUNTIF(B:B,B55)","v":1},{"$f":"IF(ISERROR(VLOOKUP(B55,B:G,6,0)),\"-\",VLOOKUP(B55,B:G,6,0))","v":40},{"$f":"IF(COUNTIF('N PMRg 2025'!B:B,B55)=0,\"-\",COUNTIF('N PMRg 2025'!B:B,B55))","v":"-"},{"$f":"IF(ISERROR(VLOOKUP(B55,'N PMRg 2025'!B:G,6,0)),\"-\",VLOOKUP(B55,'N PMRg 2025'!B:G,6,0))","v":"-"},{"$f":"IF(COUNTIF('N PMČRj 2025'!B:B,B55)=0,\"-\",COUNTIF('N PMČRj 2025'!B:B,B55))","v":1},{"$f":"IF(ISERROR(VLOOKUP(B55,'N PMČRj 2025'!B:G,6,0)),\"-\",VLOOKUP(B55,'N PMČRj 2025'!B:G,6,0))","v":13}]
[{"$f":"A55+1","v":41},"Stepan Bartos",{"$f":"VLOOKUP(B56,Pilot!A:C,3,0)","v":"Kolín"},{"$f":"VLOOKUP(B56,Pilot!A:B,2,0)","v":2004},{"$f":"VLOOKUP(B56,Pilot!A:E,5,0)","v":"M"},{"$f":"VLOOKUP(B56,Pilot!A:F,6,0)","v":"Junior v roce 2025"},41,null,{"$f":"COUNTIF(B:B,B56)","v":1},{"$f":"IF(ISERROR(VLOOKUP(B56,B:G,6,0)),\"-\",VLOOKUP(B56,B:G,6,0))","v":41},{"$f":"IF(COUNTIF('N PMRg 2025'!B:B,B56)=0,\"-\",COUNTIF('N PMRg 2025'!B:B,B56))","v":"-"},{"$f":"IF(ISERROR(VLOOKUP(B56,'N PMRg 2025'!B:G,6,0)),\"-\",VLOOKUP(B56,'N PMRg 2025'!B:G,6,0))","v":"-"},{"$f":"IF(COUNTIF('N PMČRj 2025'!B:B,B56)=0,\"-\",COUNTIF('N PMČRj 2025'!B:B,B56))","v":1},{"$f":"IF(ISERROR(VLOOKUP(B56,'N PMČRj 2025'!B:G,6,0)),\"-\",VLOOKUP(B56,'N PMČRj 2025'!B:G,6,0))","v":9}]
[{"$f":"A56+1","v":42},"Tibor Hezina",{"$f":"VLOOKUP(B57,Pilot!A:C,3,0)","v":"Křižanov"},{"$f":"VLOOKUP(B57,Pilot!A:B,2,0)","v":2002},{"$f":"VLOOKUP(B57,Pilot!A:E,5,0)","v":"M"},{"$f":"VLOOKUP(B57,Pilot!A:F,6,0)","v":"Junior v roce 2025"},42,null,{"$f":"COUNTIF(B:B,B57)","v":1},{"$f":"IF(ISERROR(VLOOKUP(B57,B:G,6,0)),\"-\",VLOOKUP(B57,B:G,6,0))","v":42},{"$f":"IF(COUNTIF('N PMRg 2025'!B:B,B57)=0,\"-\",COUNTIF('N PMRg 2025'!B:B,B57))","v":"-"},{"$f":"IF(ISERROR(VLOOKUP(B57,'N PMRg 2025'!B:G,6,0)),\"-\",VLOOKUP(B57,'N PMRg 2025'!B:G,6,0))","v":"-"},{"$f":"IF(COUNTIF('N PMČRj 2025'!B:B,B57)=0,\"-\",COUNTIF('N PMČRj 2025'!B:B,B57))","v":1},{"$f":"IF(ISERROR(VLOOKUP(B57,'N PMČRj 2025'!B:G,6,0)),\"-\",VLOOKUP(B57,'N PMČRj 2025'!B:G,6,0))","v":14}]
["N1","Eliska Kudejova",{"$f":"VLOOKUP(B58,Pilot!A:C,3,0)","v":"Strakonice"},{"$f":"VLOOKUP(B58,Pilot!A:B,2,0)","v":2006},{"$f":"VLOOKUP(B58,Pilot!A:E,5,0)","v":"F"},{"$f":"VLOOKUP(B58,Pilot!A:F,6,0)","v":"Junior v roce 2025"},"N1",null,{"$f":"COUNTIF(B:B,B58)","v":1},"N1",{"$f":"IF(COUNTIF('N PMRg 2025'!B:B,B58)=0,\"-\",COUNTIF('N PMRg 2025'!B:B,B58))","v":"-"},{"$f":"IF(ISERROR(VLOOKUP(B58,'N PMRg 2025'!B:G,6,0)),\"-\",VLOOKUP(B58,'N PMRg 2025'!B:G,6,0))","v":"-"},{"$f":"IF(COUNTIF('N PMČRj 2025'!B:B,B58)=0,\"-\",COUNTIF('N PMČRj 2025'!B:B,B58))","v":1},{"$f":"IF(ISERROR(VLOOKUP(B58,'N PMČRj 2025'!B:G,6,0)),\"-\",VLOOKUP(B58,'N PMČRj 2025'!B:G,6,0))","v":15}]
["N2","Vladimir Hammer",{"$f":"VLOOKUP(B59,Pilot!A:C,3,0)","v":"Letkov"},{"$f":"VLOOKUP(B59,Pilot!A:B,2,0)","v":2000},{"$f":"VLOOKUP(B59,Pilot!A:E,5,0)","v":"M"},{"$f":"VLOOKUP(B59,Pilot!A:F,6,0)","v":"Junior v roce 2025"},"N2",null,{"$f":"COUNTIF(B:B,B59)","v":1},"N2",{"$f":"IF(COUNTIF('N PMRg 2025'!B:B,B59)=0,\"-\",COUNTIF('N PMRg 2025'!B:B,B59))","v":"-"},{"$f":"IF(ISERROR(VLOOKUP(B59,'N PMRg 2025'!B:G,6,0)),\"-\",VLOOKUP(B59,'N PMRg 2025'!B:G,6,0))","v":"-"},{"$f":"IF(COUNTIF('N PMČRj 2025'!B:B,B59)=0,\"-\",COUNTIF('N PMČRj 2025'!B:B,B59))","v":1},{"$f":"IF(ISERROR(VLOOKUP(B59,'N PMČRj 2025'!B:G,6,0)),\"-\",VLOOKUP(B59,'N PMČRj 2025'!B:G,6,0))","v":16}]
["N3","Martin Stastny",{"$f":"VLOOKUP(B60,Pilot!A:C,3,0)","v":"Medlánky"},{"$f":"VLOOKUP(B60,Pilot!A:B,2,0)","v":2005},{"$f":"VLOOKUP(B60,Pilot!A:E,5,0)","v":"M"},{"$f":"VLOOKUP(B60,Pilot!A:F,6,0)","v":"Junior v roce 2025"},"N3",null,{"$f":"COUNTIF(B:B,B60)","v":1},"N3",{"$f":"IF(COUNTIF('N PMRg 2025'!B:B,B60)=0,\"-\",COUNTIF('N PMRg 2025'!B:B,B60))","v":"-"},{"$f":"IF(ISERROR(VLOOKUP(B60,'N PMRg 2025'!B:G,6,0)),\"-\",VLOOKUP(B60,'N PMRg 2025'!B:G,6,0))","v":"-"},{"$f":"IF(COUNTIF('N PMČRj 2025'!B:B,B60)=0,\"-\",COUNTIF('N PMČRj 2025'!B:B,B60))","v":1},{"$f":"IF(ISERROR(VLOOKUP(B60,'N PMČRj 2025'!B:G,6,0)),\"-\",VLOOKUP(B60,'N PMČRj 2025'!B:G,6,0))","v":17}]
["N4","Filip Mrstny",{"$f":"VLOOKUP(B61,Pilot!A:C,3,0)","v":"Beroun"},{"$f":"VLOOKUP(B61,Pilot!A:B,2,0)","v":2006},{"$f":"VLOOKUP(B61,Pilot!A:E,5,0)","v":"M"},{"$f":"VLOOKUP(B61,Pilot!A:F,6,0)","v":"Junior v roce 2025"},"N4",null,{"$f":"COUNTIF(B:B,B61)","v":1},"N4",{"$f":"IF(COUNTIF('N PMRg 2025'!B:B,B61)=0,\"-\",COUNTIF('N PMRg 2025'!B:B,B61))","v":"-"},{"$f":"IF(ISERROR(VLOOKUP(B61,'N PMRg 2025'!B:G,6,0)),\"-\",VLOOKUP(B61,'N PMRg 2025'!B:G,6,0))","v":"-"},{"$f":"IF(COUNTIF('N PMČRj 2025'!B:B,B61)=0,\"-\",COUNTIF('N PMČRj 2025'!B:B,B61))","v":1},{"$f":"IF(ISERROR(VLOOKUP(B61,'N PMČRj 2025'!B:G,6,0)),\"-\",VLOOKUP(B61,'N PMČRj 2025'!B:G,6,0))","v":18}]
["N5","Ivan Morkovsky",{"$f":"VLOOKUP(B62,Pilot!A:C,3,0)","v":"Polička"},{"$f":"VLOOKUP(B62,Pilot!A:B,2,0)","v":2008},{"$f":"VLOOKUP(B62,Pilot!A:E,5,0)","v":"M"},{"$f":"VLOOKUP(B62,Pilot!A:F,6,0)","v":"Junior v roce 2025"},"N5",null,{"$f":"COUNTIF(B:B,B62)","v":1},"N5",{"$f":"IF(COUNTIF('N PMRg 2025'!B:B,B62)=0,\"-\",COUNTIF('N PMRg 2025'!B:B,B62))","v":"-"},{"$f":"IF(ISERROR(VLOOKUP(B62,'N PMRg 2025'!B:G,6,0)),\"-\",VLOOKUP(B62,'N PMRg 2025'!B:G,6,0))","v":"-"},{"$f":"IF(COUNTIF('N PMČRj 2025'!B:B,B62)=0,\"-\",COUNTIF('N PMČRj 2025'!B:B,B62))","v":1},{"$f":"IF(ISERROR(VLOOKUP(B62,'N PMČRj 2025'!B:G,6,0)),\"-\",VLOOKUP(B62,'N PMČRj 2025'!B:G,6,0))","v":19}]
[null,"Ostatní soutěžící z posledního platného PMRg v pořadí podle umístění, do naplnění celkového počtu nominovaných dle 6.6.5. (+ 10 náhradníků).\nJe-li PMRg pořádáno ve více třídách, a/nebo ve více regionech, pak jsou na PMČR nominováni soutěžící podle korigovaných bodů z jednotlivých tříd/regionů do naplnění celkového počtu nominovaných dle 6.6.5.\nV případě neplatnosti některé ze soutěžních tříd posledního PMRg budou pro výpočet korigovaných bodů použity výsledky z posledního platného PMRg v dané třídě:"]
[null,"PMRg 2024 - Hodkovice - Korigované body"]
[{"$f":"MAX(A9:A64)+1","v":43},"Jan Hruska",{"$f":"VLOOKUP(B65,Pilot!A:C,3,0)","v":"Tábor"},{"$f":"VLOOKUP(B65,Pilot!A:B,2,0)","v":1988},{"$f":"VLOOKUP(B65,Pilot!A:E,5,0)","v":"M"},{"$f":"VLOOKUP(B65,Pilot!A:F,6,0)","v":""},{"$f":"A65","v":43},null,{"$f":"COUNTIF(B:B,B65)","v":1},{"$f":"IF(ISERROR(VLOOKUP(B65,B:G,6,0)),\"-\",VLOOKUP(B65,B:G,6,0))","v":43},{"$f":"IF(COUNTIF('N PMRg 2025'!B:B,B65)=0,\"-\",COUNTIF('N PMRg 2025'!B:B,B65))","v":"-"},{"$f":"IF(ISERROR(VLOOKUP(B65,'N PMRg 2025'!B:G,6,0)),\"-\",VLOOKUP(B65,'N PMRg 2025'!B:G,6,0))","v":"-"},{"$f":"IF(COUNTIF('N PMČRj 2025'!B:B,B65)=0,\"-\",COUNTIF('N PMČRj 2025'!B:B,B65))","v":"-"},{"$f":"IF(ISERROR(VLOOKUP(B65,'N PMČRj 2025'!B:G,6,0)),\"-\",VLOOKUP(B65,'N PMČRj 2025'!B:G,6,0))","v":"-"}]
[{"$f":"A65+1","v":44},"Petr Panek",{"$f":"VLOOKUP(B66,Pilot!A:C,3,0)","v":"Dvůr Králové"},{"$f":"VLOOKUP(B66,Pilot!A:B,2,0)","v":1975},{"$f":"VLOOKUP(B66,Pilot!A:E,5,0)","v":"M"},{"$f":"VLOOKUP(B66,Pilot!A:F,6,0)","v":""},{"$f":"A66","v":44},null,{"$f":"COUNTIF(B:B,B66)","v":1},{"$f":"IF(ISERROR(VLOOKUP(B66,B:G,6,0)),\"-\",VLOOKUP(B66,B:G,6,0))","v":44},{"$f":"IF(COUNTIF('N PMRg 2025'!B:B,B66)=0,\"-\",COUNTIF('N PMRg 2025'!B:B,B66))","v":"-"},{"$f":"IF(ISERROR(VLOOKUP(B66,'N PMRg 2025'!B:G,6,0)),\"-\",VLOOKUP(B66,'N PMRg 2025'!B:G,6,0))","v":"-"},{"$f":"IF(COUNTIF('N PMČRj 2025'!B:B,B66)=0,\"-\",COUNTIF('N PMČRj 2025'!B:B,B66))","v":"-"},{"$f":"IF(ISERROR(VLOOKUP(B66,'N PMČRj 2025'!B:G,6,0)),\"-\",VLOOKUP(B66,'N PMČRj 2025'!B:G,6,0))","v":"-"}]
[{"$f":"A66+1","v":45},"Lukas Capek",{"$f":"VLOOKUP(B67,Pilot!A:C,3,0)","v":"Letňany"},{"$f":"VLOOKUP(B67,Pilot!A:B,2,0)","v":1992},{"$f":"VLOOKUP(B67,Pilot!A:E,5,0)","v":"M"},{"$f":"VLOOKUP(B67,Pilot!A:F,6,0)","v":""},45,null,{"$f":"COUNTIF(B:B,B67)","v":1},{"$f":"IF(ISERROR(VLOOKUP(B67,B:G,6,0)),\"-\",VLOOKUP(B67,B:G,6,0))","v":45},{"$f":"IF(COUNTIF('N PMRg 2025'!B:B,B67)=0,\"-\",COUNTIF('N PMRg 2025'!B:B,B67))","v":"-"},{"$f":"IF(ISERROR(VLOOKUP(B67,'N PMRg 2025'!B:G,6,0)),\"-\",VLOOKUP(B67,'N PMRg 2025'!B:G,6,0))","v":"-"},{"$f":"IF(COUNTIF('N PMČRj 2025'!B:B,B67)=0,\"-\",COUNTIF('N PMČRj 2025'!B:B,B67))","v":"-"},{"$f":"IF(ISERROR(VLOOKUP(B67,'N PMČRj 2025'!B:G,6,0)),\"-\",VLOOKUP(B67,'N PMČRj 2025'!B:G,6,0))","v":"-"}]
[46,"Radek Zima 78",{"$f":"VLOOKUP(B68,Pilot!A:C,3,0)","v":"Hodkovice"},{"$f":"VLOOKUP(B68,Pilot!A:B,2,0)","v":1978},{"$f":"VLOOKUP(B68,Pilot!A:E,5,0)","v":"M"},{"$f":"VLOOKUP(B68,Pilot!A:F,6,0)","v":""},46,null,{"$f":"COUNTIF(B:B,B68)","v":1},{"$f":"IF(ISERROR(VLOOKUP(B68,B:G,6,0)),\"-\",VLOOKUP(B68,B:G,6,0))","v":46},{"$f":"IF(COUNTIF('N PMRg 2025'!B:B,B68)=0,\"-\",COUNTIF('N PMRg 2025'!B:B,B68))","v":"-"},{"$f":"IF(ISERROR(VLOOKUP(B68,'N PMRg 2025'!B:G,6,0)),\"-\",VLOOKUP(B68,'N PMRg 2025'!B:G,6,0))","v":"-"},{"$f":"IF(COUNTIF('N PMČRj 2025'!B:B,B68)=0,\"-\",COUNTIF('N PMČRj 2025'!B:B,B68))","v":"-"},{"$f":"IF(ISERROR(VLOOKUP(B68,'N PMČRj 2025'!B:G,6,0)),\"-\",VLOOKUP(B68,'N PMČRj 2025'!B:G,6,0))","v":"-"}]
[47,"Leos Strnadek",{"$f":"VLOOKUP(B69,Pilot!A:C,3,0)","v":"Hodkovice"},{"$f":"VLOOKUP(B69,Pilot!A:B,2,0)","v":1983},{"$f":"VLOOKUP(B69,Pilot!A:E,5,0)","v":"M"},{"$f":"VLOOKUP(B69,Pilot!A:F,6,0)","v":""},47,null,{"$f":"COUNTIF(B:B,B69)","v":1},{"$f":"IF(ISERROR(VLOOKUP(B69,B:G,6,0)),\"-\",VLOOKUP(B69,B:G,6,0))","v":47},{"$f":"IF(COUNTIF('N PMRg 2025'!B:B,B69)=0,\"-\",COUNTIF('N PMRg 2025'!B:B,B69))","v":"-"},{"$f":"IF(ISERROR(VLOOKUP(B69,'N PMRg 2025'!B:G,6,0)),\"-\",VLOOKUP(B69,'N PMRg 2025'!B:G,6,0))","v":"-"},{"$f":"IF(COUNTIF('N PMČRj 2025'!B:B,B69)=0,\"-\",COUNTIF('N PMČRj 2025'!B:B,B69))","v":"-"},{"$f":"IF(ISERROR(VLOOKUP(B69,'N PMČRj 2025'!B:G,6,0)),\"-\",VLOOKUP(B69,'N PMČRj 2025'!B:G,6,0))","v":"-"}]
[48,"Pavlina Horackova",{"$f":"VLOOKUP(B70,Pilot!A:C,3,0)","v":"Šumperk"},{"$f":"VLOOKUP(B70,Pilot!A:B,2,0)","v":1965},{"$f":"VLOOKUP(B70,Pilot!A:E,5,0)","v":"F"},{"$f":"VLOOKUP(B70,Pilot!A:F,6,0)","v":""},48,null,{"$f":"COUNTIF(B:B,B70)","v":1},{"$f":"IF(ISERROR(VLOOKUP(B70,B:G,6,0)),\"-\",VLOOKUP(B70,B:G,6,0))","v":48},{"$f":"IF(COUNTIF('N PMRg 2025'!B:B,B70)=0,\"-\",COUNTIF('N PMRg 2025'!B:B,B70))","v":"-"},{"$f":"IF(ISERROR(VLOOKUP(B70,'N PMRg 2025'!B:G,6,0)),\"-\",VLOOKUP(B70,'N PMRg 2025'!B:G,6,0))","v":"-"},{"$f":"IF(COUNTIF('N PMČRj 2025'!B:B,B70)=0,\"-\",COUNTIF('N PMČRj 2025'!B:B,B70))","v":"-"},{"$f":"IF(ISERROR(VLOOKUP(B70,'N PMČRj 2025'!B:G,6,0)),\"-\",VLOOKUP(B70,'N PMČRj 2025'!B:G,6,0))","v":"-"}]
[49,"Michal Kares",{"$f":"VLOOKUP(B71,Pilot!A:C,3,0)","v":"Ústí nad Orlicí"},{"$f":"VLOOKUP(B71,Pilot!A:B,2,0)","v":1987},{"$f":"VLOOKUP(B71,Pilot!A:E,5,0)","v":"M"},{"$f":"VLOOKUP(B71,Pilot!A:F,6,0)","v":""},49,null,{"$f":"COUNTIF(B:B,B71)","v":1},{"$f":"IF(ISERROR(VLOOKUP(B71,B:G,6,0)),\"-\",VLOOKUP(B71,B:G,6,0))","v":49},{"$f":"IF(COUNTIF('N PMRg 2025'!B:B,B71)=0,\"-\",COUNTIF('N PMRg 2025'!B:B,B71))","v":"-"},{"$f":"IF(ISERROR(VLOOKUP(B71,'N PMRg 2025'!B:G,6,0)),\"-\",VLOOKUP(B71,'N PMRg 2025'!B:G,6,0))","v":"-"},{"$f":"IF(COUNTIF('N PMČRj 2025'!B:B,B71)=0,\"-\",COUNTIF('N PMČRj 2025'!B:B,B71))","v":"-"},{"$f":"IF(ISERROR(VLOOKUP(B71,'N PMČRj 2025'!B:G,6,0)),\"-\",VLOOKUP(B71,'N PMČRj 2025'!B:G,6,0))","v":"-"}]
[50,"Jiri Maier 66",{"$f":"VLOOKUP(B72,Pilot!A:C,3,0)","v":"Raná"},{"$f":"VLOOKUP(B72,Pilot!A:B,2,0)","v":1966},{"$f":"VLOOKUP(B72,Pilot!A:E,5,0)","v":"M"},{"$f":"VLOOKUP(B72,Pilot!A:F,6,0)","v":""},50,null,{"$f":"COUNTIF(B:B,B72)","v":1},{"$f":"IF(ISERROR(VLOOKUP(B72,B:G,6,0)),\"-\",VLOOKUP(B72,B:G,6,0))","v":50},{"$f":"IF(COUNTIF('N PMRg 2025'!B:B,B72)=0,\"-\",COUNTIF('N PMRg 2025'!B:B,B72))","v":"-"},{"$f":"IF(ISERROR(VLOOKUP(B72,'N PMRg 2025'!B:G,6,0)),\"-\",VLOOKUP(B72,'N PMRg 2025'!B:G,6,0))","v":"-"},{"$f":"IF(COUNTIF('N PMČRj 2025'!B:B,B72)=0,\"-\",COUNTIF('N PMČRj 2025'!B:B,B72))","v":"-"},{"$f":"IF(ISERROR(VLOOKUP(B72,'N PMČRj 2025'!B:G,6,0)),\"-\",VLOOKUP(B72,'N PMČRj 2025'!B:G,6,0))","v":"-"}]
[51,"Jiri Hula",{"$f":"VLOOKUP(B73,Pilot!A:C,3,0)","v":"Slaný"},{"$f":"VLOOKUP(B73,Pilot!A:B,2,0)","v":1973},{"$f":"VLOOKUP(B73,Pilot!A:E,5,0)","v":"M"},{"$f":"VLOOKUP(B73,Pilot!A:F,6,0)","v":""},51,null,{"$f":"COUNTIF(B:B,B73)","v":1},{"$f":"IF(ISERROR(VLOOKUP(B73,B:G,6,0)),\"-\",VLOOKUP(B73,B:G,6,0))","v":51},{"$f":"IF(COUNTIF('N PMRg 2025'!B:B,B73)=0,\"-\",COUNTIF('N PMRg 2025'!B:B,B73))","v":"-"},{"$f":"IF(ISERROR(VLOOKUP(B73,'N PMRg 2025'!B:G,6,0)),\"-\",VLOOKUP(B73,'N PMRg 2025'!B:G,6,0))","v":"-"},{"$f":"IF(COUNTIF('N PMČRj 2025'!B:B,B73)=0,\"-\",COUNTIF('N PMČRj 2025'!B:B,B73))","v":"-"},{"$f":"IF(ISERROR(VLOOKUP(B73,'N PMČRj 2025'!B:G,6,0)),\"-\",VLOOKUP(B73,'N PMČRj 2025'!B:G,6,0))","v":"-"}]
[52,"Zdenek Balcarek",{"$f":"VLOOKUP(B74,Pilot!A:C,3,0)","v":"Kroměříž"},{"$f":"VLOOKUP(B74,Pilot!A:B,2,0)","v":1967},{"$f":"VLOOKUP(B74,Pilot!A:E,5,0)","v":"M"},{"$f":"VLOOKUP(B74,Pilot!A:F,6,0)","v":""},52,null,{"$f":"COUNTIF(B:B,B74)","v":1},{"$f":"IF(ISERROR(VLOOKUP(B74,B:G,6,0)),\"-\",VLOOKUP(B74,B:G,6,0))","v":52},{"$f":"IF(COUNTIF('N PMRg 2025'!B:B,B74)=0,\"-\",COUNTIF('N PMRg 2025'!B:B,B74))","v":"-"},{"$f":"IF(ISERROR(VLOOKUP(B74,'N PMRg 2025'!B:G,6,0)),\"-\",VLOOKUP(B74,'N PMRg 2025'!B:G,6,0))","v":"-"},{"$f":"IF(COUNTIF('N PMČRj 2025'!B:B,B74)=0,\"-\",COUNTIF('N PMČRj 2025'!B:B,B74))","v":"-"},{"$f":"IF(ISERROR(VLOOKUP(B74,'N PMČRj 2025'!B:G,6,0)),\"-\",VLOOKUP(B74,'N PMČRj 2025'!B:G,6,0))","v":"-"}]
[53,"Jan Smaha",{"$f":"VLOOKUP(B75,Pilot!A:C,3,0)","v":"Česká Lípa"},{"$f":"VLOOKUP(B75,Pilot!A:B,2,0)","v":1958},{"$f":"VLOOKUP(B75,Pilot!A:E,5,0)","v":"M"},{"$f":"VLOOKUP(B75,Pilot!A:F,6,0)","v":""},53,null,{"$f":"COUNTIF(B:B,B75)","v":1},{"$f":"IF(ISERROR(VLOOKUP(B75,B:G,6,0)),\"-\",VLOOKUP(B75,B:G,6,0))","v":53},{"$f":"IF(COUNTIF('N PMRg 2025'!B:B,B75)=0,\"-\",COUNTIF('N PMRg 2025'!B:B,B75))","v":"-"},{"$f":"IF(ISERROR(VLOOKUP(B75,'N PMRg 2025'!B:G,6,0)),\"-\",VLOOKUP(B75,'N PMRg 2025'!B:G,6,0))","v":"-"},{"$f":"IF(COUNTIF('N PMČRj 2025'!B:B,B75)=0,\"-\",COUNTIF('N PMČRj 2025'!B:B,B75))","v":"-"},{"$f":"IF(ISERROR(VLOOKUP(B75,'N PMČRj 2025'!B:G,6,0)),\"-\",VLOOKUP(B75,'N PMČRj 2025'!B:G,6,0))","v":"-"}]
[54,"Stanislav Poslusny",{"$f":"VLOOKUP(B76,Pilot!A:C,3,0)","v":"GAC Benešov"},{"$f":"VLOOKUP(B76,Pilot!A:B,2,0)","v":1965},{"$f":"VLOOKUP(B76,Pilot!A:E,5,0)","v":"M"},{"$f":"VLOOKUP(B76,Pilot!A:F,6,0)","v":""},54,null,{"$f":"COUNTIF(B:B,B76)","v":1},{"$f":"IF(ISERROR(VLOOKUP(B76,B:G,6,0)),\"-\",VLOOKUP(B76,B:G,6,0))","v":54},{"$f":"IF(COUNTIF('N PMRg 2025'!B:B,B76)=0,\"-\",COUNTIF('N PMRg 2025'!B:B,B76))","v":"-"},{"$f":"IF(ISERROR(VLOOKUP(B76,'N PMRg 2025'!B:G,6,0)),\"-\",VLOOKUP(B76,'N PMRg 2025'!B:G,6,0))","v":"-"},{"$f":"IF(COUNTIF('N PMČRj 2025'!B:B,B76)=0,\"-\",COUNTIF('N PMČRj 2025'!B:B,B76))","v":"-"},{"$f":"IF(ISERROR(VLOOKUP(B76,'N PMČRj 2025'!B:G,6,0)),\"-\",VLOOKUP(B76,'N PMČRj 2025'!B:G,6,0))","v":"-"}]
[55,"Vaclav Zak",{"$f":"VLOOKUP(B77,Pilot!A:C,3,0)","v":"GAC Benešov"},{"$f":"VLOOKUP(B77,Pilot!A:B,2,0)","v":1962},{"$f":"VLOOKUP(B77,Pilot!A:E,5,0)","v":"M"},{"$f":"VLOOKUP(B77,Pilot!A:F,6,0)","v":""},55,null,{"$f":"COUNTIF(B:B,B77)","v":1},{"$f":"IF(ISERROR(VLOOKUP(B77,B:G,6,0)),\"-\",VLOOKUP(B77,B:G,6,0))","v":55},{"$f":"IF(COUNTIF('N PMRg 2025'!B:B,B77)=0,\"-\",COUNTIF('N PMRg 2025'!B:B,B77))","v":"-"},{"$f":"IF(ISERROR(VLOOKUP(B77,'N PMRg 2025'!B:G,6,0)),\"-\",VLOOKUP(B77,'N PMRg 2025'!B:G,6,0))","v":"-"},{"$f":"IF(COUNTIF('N PMČRj 2025'!B:B,B77)=0,\"-\",COUNTIF('N PMČRj 2025'!B:B,B77))","v":"-"},{"$f":"IF(ISERROR(VLOOKUP(B77,'N PMČRj 2025'!B:G,6,0)),\"-\",VLOOKUP(B77,'N PMČRj 2025'!B:G,6,0))","v":"-"}]
[56,"Matej Krestes",{"$f":"VLOOKUP(B78,Pilot!A:C,3,0)","v":"Slaný"},{"$f":"VLOOKUP(B78,Pilot!A:B,2,0)","v":1986},{"$f":"VLOOKUP(B78,Pilot!A:E,5,0)","v":"M"},{"$f":"VLOOKUP(B78,Pilot!A:F,6,0)","v":""},56,null,{"$f":"COUNTIF(B:B,B78)","v":1},{"$f":"IF(ISERROR(VLOOKUP(B78,B:G,6,0)),\"-\",VLOOKUP(B78,B:G,6,0))","v":56},{"$f":"IF(COUNTIF('N PMRg 2025'!B:B,B78)=0,\"-\",COUNTIF('N PMRg 2025'!B:B,B78))","v":"-"},{"$f":"IF(ISERROR(VLOOKUP(B78,'N PMRg 2025'!B:G,6,0)),\"-\",VLOOKUP(B78,'N PMRg 2025'!B:G,6,0))","v":"-"},{"$f":"IF(COUNTIF('N PMČRj 2025'!B:B,B78)=0,\"-\",COUNTIF('N PMČRj 2025'!B:B,B78))","v":"-"},{"$f":"IF(ISERROR(VLOOKUP(B78,'N PMČRj 2025'!B:G,6,0)),\"-\",VLOOKUP(B78,'N PMČRj 2025'!B:G,6,0))","v":"-"}]
[57,"Jaroslav Potmesil",{"$f":"VLOOKUP(B79,Pilot!A:C,3,0)","v":"Zbraslavice"},{"$f":"VLOOKUP(B79,Pilot!A:B,2,0)","v":1964},{"$f":"VLOOKUP(B79,Pilot!A:E,5,0)","v":"M"},{"$f":"VLOOKUP(B79,Pilot!A:F,6,0)","v":""},{"$f":"A79","v":57},null,{"$f":"COUNTIF(B:B,B79)","v":1},{"$f":"IF(ISERROR(VLOOKUP(B79,B:G,6,0)),\"-\",VLOOKUP(B79,B:G,6,0))","v":57},{"$f":"IF(COUNTIF('N PMRg 2025'!B:B,B79)=0,\"-\",COUNTIF('N PMRg 2025'!B:B,B79))","v":"-"},{"$f":"IF(ISERROR(VLOOKUP(B79,'N PMRg 2025'!B:G,6,0)),\"-\",VLOOKUP(B79,'N PMRg 2025'!B:G,6,0))","v":"-"},{"$f":"IF(COUNTIF('N PMČRj 2025'!B:B,B79)=0,\"-\",COUNTIF('N PMČRj 2025'!B:B,B79))","v":"-"},{"$f":"IF(ISERROR(VLOOKUP(B79,'N PMČRj 2025'!B:G,6,0)),\"-\",VLOOKUP(B79,'N PMČRj 2025'!B:G,6,0))","v":"-"}]
[58,"Matej Bartos",{"$f":"VLOOKUP(B80,Pilot!A:C,3,0)","v":"Hodkovice"},{"$f":"VLOOKUP(B80,Pilot!A:B,2,0)","v":1998},{"$f":"VLOOKUP(B80,Pilot!A:E,5,0)","v":"M"},{"$f":"VLOOKUP(B80,Pilot!A:F,6,0)","v":""},58,null,{"$f":"COUNTIF(B:B,B80)","v":1},{"$f":"IF(ISERROR(VLOOKUP(B80,B:G,6,0)),\"-\",VLOOKUP(B80,B:G,6,0))","v":58},{"$f":"IF(COUNTIF('N PMRg 2025'!B:B,B80)=0,\"-\",COUNTIF('N PMRg 2025'!B:B,B80))","v":"-"},{"$f":"IF(ISERROR(VLOOKUP(B80,'N PMRg 2025'!B:G,6,0)),\"-\",VLOOKUP(B80,'N PMRg 2025'!B:G,6,0))","v":"-"},{"$f":"IF(COUNTIF('N PMČRj 2025'!B:B,B80)=0,\"-\",COUNTIF('N PMČRj 2025'!B:B,B80))","v":"-"},{"$f":"IF(ISERROR(VLOOKUP(B80,'N PMČRj 2025'!B:G,6,0)),\"-\",VLOOKUP(B80,'N PMČRj 2025'!B:G,6,0))","v":"-"}]
[59,"Matej Plch",{"$f":"VLOOKUP(B81,Pilot!A:C,3,0)","v":"Letkov"},{"$f":"VLOOKUP(B81,Pilot!A:B,2,0)","v":1987},{"$f":"VLOOKUP(B81,Pilot!A:E,5,0)","v":"M"},{"$f":"VLOOKUP(B81,Pilot!A:F,6,0)","v":""},59,null,{"$f":"COUNTIF(B:B,B81)","v":1},{"$f":"IF(ISERROR(VLOOKUP(B81,B:G,6,0)),\"-\",VLOOKUP(B81,B:G,6,0))","v":59},{"$f":"IF(COUNTIF('N PMRg 2025'!B:B,B81)=0,\"-\",COUNTIF('N PMRg 2025'!B:B,B81))","v":"-"},{"$f":"IF(ISERROR(VLOOKUP(B81,'N PMRg 2025'!B:G,6,0)),\"-\",VLOOKUP(B81,'N PMRg 2025'!B:G,6,0))","v":"-"},{"$f":"IF(COUNTIF('N PMČRj 2025'!B:B,B81)=0,\"-\",COUNTIF('N PMČRj 2025'!B:B,B81))","v":"-"},{"$f":"IF(ISERROR(VLOOKUP(B81,'N PMČRj 2025'!B:G,6,0)),\"-\",VLOOKUP(B81,'N PMČRj 2025'!B:G,6,0))","v":"-"}]
[60,"Jiri Krofta",{"$f":"VLOOKUP(B82,Pilot!A:C,3,0)","v":"Hosín"},{"$f":"VLOOKUP(B82,Pilot!A:B,2,0)","v":1988},{"$f":"VLOOKUP(B82,Pilot!A:E,5,0)","v":"M"},{"$f":"VLOOKUP(B82,Pilot!A:F,6,0)","v":""},{"$f":"A82","v":60},null,{"$f":"COUNTIF(B:B,B82)","v":1},{"$f":"IF(ISERROR(VLOOKUP(B82,B:G,6,0)),\"-\",VLOOKUP(B82,B:G,6,0))","v":60},{"$f":"IF(COUNTIF('N PMRg 2025'!B:B,B82)=0,\"-\",COUNTIF('N PMRg 2025'!B:B,B82))","v":"-"},{"$f":"IF(ISERROR(VLOOKUP(B82,'N PMRg 2025'!B:G,6,0)),\"-\",VLOOKUP(B82,'N PMRg 2025'!B:G,6,0))","v":"-"},{"$f":"IF(COUNTIF('N PMČRj 2025'!B:B,B82)=0,\"-\",COUNTIF('N PMČRj 2025'!B:B,B82))","v":"-"},{"$f":"IF(ISERROR(VLOOKUP(B82,'N PMČRj 2025'!B:G,6,0)),\"-\",VLOOKUP(B82,'N PMČRj 2025'!B:G,6,0))","v":"-"}]
[61,"David Riha",{"$f":"VLOOKUP(B83,Pilot!A:C,3,0)","v":"Vlašim"},{"$f":"VLOOKUP(B83,Pilot!A:B,2,0)","v":1983},{"$f":"VLOOKUP(B83,Pilot!A:E,5,0)","v":"M"},{"$f":"VLOOKUP(B83,Pilot!A:F,6,0)","v":""},61,null,{"$f":"COUNTIF(B:B,B83)","v":1},{"$f":"IF(ISERROR(VLOOKUP(B83,B:G,6,0)),\"-\",VLOOKUP(B83,B:G,6,0))","v":61},{"$f":"IF(COUNTIF('N PMRg 2025'!B:B,B83)=0,\"-\",COUNTIF('N PMRg 2025'!B:B,B83))","v":"-"},{"$f":"IF(ISERROR(VLOOKUP(B83,'N PMRg 2025'!B:G,6,0)),\"-\",VLOOKUP(B83,'N PMRg 2025'!B:G,6,0))","v":"-"},{"$f":"IF(COUNTIF('N PMČRj 2025'!B:B,B83)=0,\"-\",COUNTIF('N PMČRj 2025'!B:B,B83))","v":"-"},{"$f":"IF(ISERROR(VLOOKUP(B83,'N PMČRj 2025'!B:G,6,0)),\"-\",VLOOKUP(B83,'N PMČRj 2025'!B:G,6,0))","v":"-"}]
[62,"Pavel Svetlik",{"$f":"VLOOKUP(B84,Pilot!A:C,3,0)","v":"Kunovice"},{"$f":"VLOOKUP(B84,Pilot!A:B,2,0)","v":1968},{"$f":"VLOOKUP(B84,Pilot!A:E,5,0)","v":"M"},{"$f":"VLOOKUP(B84,Pilot!A:F,6,0)","v":""},62,null,{"$f":"COUNTIF(B:B,B84)","v":1},{"$f":"IF(ISERROR(VLOOKUP(B84,B:G,6,0)),\"-\",VLOOKUP(B84,B:G,6,0))","v":62},{"$f":"IF(COUNTIF('N PMRg 2025'!B:B,B84)=0,\"-\",COUNTIF('N PMRg 2025'!B:B,B84))","v":"-"},{"$f":"IF(ISERROR(VLOOKUP(B84,'N PMRg 2025'!B:G,6,0)),\"-\",VLOOKUP(B84,'N PMRg 2025'!B:G,6,0))","v":"-"},{"$f":"IF(COUNTIF('N PMČRj 2025'!B:B,B84)=0,\"-\",COUNTIF('N PMČRj 2025'!B:B,B84))","v":"-"},{"$f":"IF(ISERROR(VLOOKUP(B84,'N PMČRj 2025'!B:G,6,0)),\"-\",VLOOKUP(B84,'N PMČRj 2025'!B:G,6,0))","v":"-"}]
[63,"Premysl Muzik",{"$f":"VLOOKUP(B85,Pilot!A:C,3,0)","v":"Tábor"},{"$f":"VLOOKUP(B85,Pilot!A:B,2,0)","v":1990},{"$f":"VLOOKUP(B85,Pilot!A:E,5,0)","v":"M"},{"$f":"VLOOKUP(B85,Pilot!A:F,6,0)","v":""},63,null,{"$f":"COUNTIF(B:B,B85)","v":1},{"$f":"IF(ISERROR(VLOOKUP(B85,B:G,6,0)),\"-\",VLOOKUP(B85,B:G,6,0))","v":63},{"$f":"IF(COUNTIF('N PMRg 2025'!B:B,B85)=0,\"-\",COUNTIF('N PMRg 2025'!B:B,B85))","v":"-"},{"$f":"IF(ISERROR(VLOOKUP(B85,'N PMRg 2025'!B:G,6,0)),\"-\",VLOOKUP(B85,'N PMRg 2025'!B:G,6,0))","v":"-"},{"$f":"IF(COUNTIF('N PMČRj 2025'!B:B,B85)=0,\"-\",COUNTIF('N PMČRj 2025'!B:B,B85))","v":"-"},{"$f":"IF(ISERROR(VLOOKUP(B85,'N PMČRj 2025'!B:G,6,0)),\"-\",VLOOKUP(B85,'N PMČRj 2025'!B:G,6,0))","v":"-"}]
[64,"Lukas Maly",{"$f":"VLOOKUP(B86,Pilot!A:C,3,0)","v":"Vysoké Mýto"},{"$f":"VLOOKUP(B86,Pilot!A:B,2,0)","v":1998},{"$f":"VLOOKUP(B86,Pilot!A:E,5,0)","v":"M"},{"$f":"VLOOKUP(B86,Pilot!A:F,6,0)","v":""},{"$f":"A86","v":64},null,{"$f":"COUNTIF(B:B,B86)","v":1},{"$f":"IF(ISERROR(VLOOKUP(B86,B:G,6,0)),\"-\",VLOOKUP(B86,B:G,6,0))","v":64},{"$f":"IF(COUNTIF('N PMRg 2025'!B:B,B86)=0,\"-\",COUNTIF('N PMRg 2025'!B:B,B86))","v":"-"},{"$f":"IF(ISERROR(VLOOKUP(B86,'N PMRg 2025'!B:G,6,0)),\"-\",VLOOKUP(B86,'N PMRg 2025'!B:G,6,0))","v":"-"},{"$f":"IF(COUNTIF('N PMČRj 2025'!B:B,B86)=0,\"-\",COUNTIF('N PMČRj 2025'!B:B,B86))","v":"-"},{"$f":"IF(ISERROR(VLOOKUP(B86,'N PMČRj 2025'!B:G,6,0)),\"-\",VLOOKUP(B86,'N PMČRj 2025'!B:G,6,0))","v":"-"}]
[65,"Martin Kriz",{"$f":"VLOOKUP(B87,Pilot!A:C,3,0)","v":"Přibyslav"},{"$f":"VLOOKUP(B87,Pilot!A:B,2,0)","v":1968},{"$f":"VLOOKUP(B87,Pilot!A:E,5,0)","v":"M"},{"$f":"VLOOKUP(B87,Pilot!A:F,6,0)","v":""},65,null,{"$f":"COUNTIF(B:B,B87)","v":1},{"$f":"IF(ISERROR(VLOOKUP(B87,B:G,6,0)),\"-\",VLOOKUP(B87,B:G,6,0))","v":65},{"$f":"IF(COUNTIF('N PMRg 2025'!B:B,B87)=0,\"-\",COUNTIF('N PMRg 2025'!B:B,B87))","v":"-"},{"$f":"IF(ISERROR(VLOOKUP(B87,'N PMRg 2025'!B:G,6,0)),\"-\",VLOOKUP(B87,'N PMRg 2025'!B:G,6,0))","v":"-"},{"$f":"IF(COUNTIF('N PMČRj 2025'!B:B,B87)=0,\"-\",COUNTIF('N PMČRj 2025'!B:B,B87))","v":"-"},{"$f":"IF(ISERROR(VLOOKUP(B87,'N PMČRj 2025'!B:G,6,0)),\"-\",VLOOKUP(B87,'N PMČRj 2025'!B:G,6,0))","v":"-"}]
[66,"Michal Fortik",{"$f":"VLOOKUP(B88,Pilot!A:C,3,0)","v":"Točná"},{"$f":"VLOOKUP(B88,Pilot!A:B,2,0)","v":1976},{"$f":"VLOOKUP(B88,Pilot!A:E,5,0)","v":"M"},{"$f":"VLOOKUP(B88,Pilot!A:F,6,0)","v":""},66,null,{"$f":"COUNTIF(B:B,B88)","v":1},{"$f":"IF(ISERROR(VLOOKUP(B88,B:G,6,0)),\"-\",VLOOKUP(B88,B:G,6,0))","v":66},{"$f":"IF(COUNTIF('N PMRg 2025'!B:B,B88)=0,\"-\",COUNTIF('N PMRg 2025'!B:B,B88))","v":"-"},{"$f":"IF(ISERROR(VLOOKUP(B88,'N PMRg 2025'!B:G,6,0)),\"-\",VLOOKUP(B88,'N PMRg 2025'!B:G,6,0))","v":"-"},{"$f":"IF(COUNTIF('N PMČRj 2025'!B:B,B88)=0,\"-\",COUNTIF('N PMČRj 2025'!B:B,B88))","v":"-"},{"$f":"IF(ISERROR(VLOOKUP(B88,'N PMČRj 2025'!B:G,6,0)),\"-\",VLOOKUP(B88,'N PMČRj 2025'!B:G,6,0))","v":"-"}]
[67,"Antonin Kutalek",{"$f":"VLOOKUP(B89,Pilot!A:C,3,0)","v":"Zábřeh"},{"$f":"VLOOKUP(B89,Pilot!A:B,2,0)","v":1943},{"$f":"VLOOKUP(B89,Pilot!A:E,5,0)","v":"M"},{"$f":"VLOOKUP(B89,Pilot!A:F,6,0)","v":""},67,null,{"$f":"COUNTIF(B:B,B89)","v":1},{"$f":"IF(ISERROR(VLOOKUP(B89,B:G,6,0)),\"-\",VLOOKUP(B89,B:G,6,0))","v":67},{"$f":"IF(COUNTIF('N PMRg 2025'!B:B,B89)=0,\"-\",COUNTIF('N PMRg 2025'!B:B,B89))","v":"-"},{"$f":"IF(ISERROR(VLOOKUP(B89,'N PMRg 2025'!B:G,6,0)),\"-\",VLOOKUP(B89,'N PMRg 2025'!B:G,6,0))","v":"-"},{"$f":"IF(COUNTIF('N PMČRj 2025'!B:B,B89)=0,\"-\",COUNTIF('N PMČRj 2025'!B:B,B89))","v":"-"},{"$f":"IF(ISERROR(VLOOKUP(B89,'N PMČRj 2025'!B:G,6,0)),\"-\",VLOOKUP(B89,'N PMČRj 2025'!B:G,6,0))","v":"-"}]
[68,"Michael Fik",{"$f":"VLOOKUP(B90,Pilot!A:C,3,0)","v":"Strakonice"},{"$f":"VLOOKUP(B90,Pilot!A:B,2,0)","v":1972},{"$f":"VLOOKUP(B90,Pilot!A:E,5,0)","v":"M"},{"$f":"VLOOKUP(B90,Pilot!A:F,6,0)","v":""},68,null,{"$f":"COUNTIF(B:B,B90)","v":1},{"$f":"IF(ISERROR(VLOOKUP(B90,B:G,6,0)),\"-\",VLOOKUP(B90,B:G,6,0))","v":68},{"$f":"IF(COUNTIF('N PMRg 2025'!B:B,B90)=0,\"-\",COUNTIF('N PMRg 2025'!B:B,B90))","v":"-"},{"$f":"IF(ISERROR(VLOOKUP(B90,'N PMRg 2025'!B:G,6,0)),\"-\",VLOOKUP(B90,'N PMRg 2025'!B:G,6,0))","v":"-"},{"$f":"IF(COUNTIF('N PMČRj 2025'!B:B,B90)=0,\"-\",COUNTIF('N PMČRj 2025'!B:B,B90))","v":"-"},{"$f":"IF(ISERROR(VLOOKUP(B90,'N PMČRj 2025'!B:G,6,0)),\"-\",VLOOKUP(B90,'N PMČRj 2025'!B:G,6,0))","v":"-"}]
[69,"Pavel Koudelka",{"$f":"VLOOKUP(B91,Pilot!A:C,3,0)","v":"Křižanov"},{"$f":"VLOOKUP(B91,Pilot!A:B,2,0)","v":1973},{"$f":"VLOOKUP(B91,Pilot!A:E,5,0)","v":"M"},{"$f":"VLOOKUP(B91,Pilot!A:F,6,0)","v":""},69,null,{"$f":"COUNTIF(B:B,B91)","v":1},{"$f":"IF(ISERROR(VLOOKUP(B91,B:G,6,0)),\"-\",VLOOKUP(B91,B:G,6,0))","v":69},{"$f":"IF(COUNTIF('N PMRg 2025'!B:B,B91)=0,\"-\",COUNTIF('N PMRg 2025'!B:B,B91))","v":"-"},{"$f":"IF(ISERROR(VLOOKUP(B91,'N PMRg 2025'!B:G,6,0)),\"-\",VLOOKUP(B91,'N PMRg 2025'!B:G,6,0))","v":"-"},{"$f":"IF(COUNTIF('N PMČRj 2025'!B:B,B91)=0,\"-\",COUNTIF('N PMČRj 2025'!B:B,B91))","v":"-"},{"$f":"IF(ISERROR(VLOOKUP(B91,'N PMČRj 2025'!B:G,6,0)),\"-\",VLOOKUP(B91,'N PMČRj 2025'!B:G,6,0))","v":"-"}]
[70,"Jan Zahradka",{"$f":"VLOOKUP(B92,Pilot!A:C,3,0)","v":"Hodkovice"},{"$f":"VLOOKUP(B92,Pilot!A:B,2,0)","v":1981},{"$f":"VLOOKUP(B92,Pilot!A:E,5,0)","v":"M"},{"$f":"VLOOKUP(B92,Pilot!A:F,6,0)","v":""},70,null,{"$f":"COUNTIF(B:B,B92)","v":1},{"$f":"IF(ISERROR(VLOOKUP(B92,B:G,6,0)),\"-\",VLOOKUP(B92,B:G,6,0))","v":70},{"$f":"IF(COUNTIF('N PMRg 2025'!B:B,B92)=0,\"-\",COUNTIF('N PMRg 2025'!B:B,B92))","v":"-"},{"$f":"IF(ISERROR(VLOOKUP(B92,'N PMRg 2025'!B:G,6,0)),\"-\",VLOOKUP(B92,'N PMRg 2025'!B:G,6,0))","v":"-"},{"$f":"IF(COUNTIF('N PMČRj 2025'!B:B,B92)=0,\"-\",COUNTIF('N PMČRj 2025'!B:B,B92))","v":"-"},{"$f":"IF(ISERROR(VLOOKUP(B92,'N PMČRj 2025'!B:G,6,0)),\"-\",VLOOKUP(B92,'N PMČRj 2025'!B:G,6,0))","v":"-"}]
[null,"Ostatní soutěžící z posledního platného Všeobecného žebříku v pořadí podle umístění, do naplnění celkového počtu 80 nominovaných dle 6.6.5. (+ 10 náhradníků):"]
[{"$f":"MAX(A9:A93)+1","v":71},"Petr Krejcirik",{"$f":"VLOOKUP(B94,Pilot!A:C,3,0)","v":"Hranice"},{"$f":"VLOOKUP(B94,Pilot!A:B,2,0)","v":1960},{"$f":"VLOOKUP(B94,Pilot!A:E,5,0)","v":"M"},{"$f":"VLOOKUP(B94,Pilot!A:F,6,0)","v":""},71,null,{"$f":"COUNTIF(B:B,B94)","v":1},{"$f":"IF(ISERROR(VLOOKUP(B94,B:G,6,0)),\"-\",VLOOKUP(B94,B:G,6,0))","v":71},{"$f":"IF(COUNTIF('N PMRg 2025'!B:B,B94)=0,\"-\",COUNTIF('N PMRg 2025'!B:B,B94))","v":"-"},{"$f":"IF(ISERROR(VLOOKUP(B94,'N PMRg 2025'!B:G,6,0)),\"-\",VLOOKUP(B94,'N PMRg 2025'!B:G,6,0))","v":"-"},{"$f":"IF(COUNTIF('N PMČRj 2025'!B:B,B94)=0,\"-\",COUNTIF('N PMČRj 2025'!B:B,B94))","v":"-"},{"$f":"IF(ISERROR(VLOOKUP(B94,'N PMČRj 2025'!B:G,6,0)),\"-\",VLOOKUP(B94,'N PMČRj 2025'!B:G,6,0))","v":"-"}]
[{"$f":"A94+1","v":72},"Petr Hotovy",{"$f":"VLOOKUP(B95,Pilot!A:C,3,0)","v":"Česká Lípa"},{"$f":"VLOOKUP(B95,Pilot!A:B,2,0)","v":1958},{"$f":"VLOOKUP(B95,Pilot!A:E,5,0)","v":"M"},{"$f":"VLOOKUP(B95,Pilot!A:F,6,0)","v":""},{"$f":"A95","v":72},null,{"$f":"COUNTIF(B:B,B95)","v":1},{"$f":"IF(ISERROR(VLOOKUP(B95,B:G,6,0)),\"-\",VLOOKUP(B95,B:G,6,0))","v":72},{"$f":"IF(COUNTIF('N PMRg 2025'!B:B,B95)=0,\"-\",COUNTIF('N PMRg 2025'!B:B,B95))","v":"-"},{"$f":"IF(ISERROR(VLOOKUP(B95,'N PMRg 2025'!B:G,6,0)),\"-\",VLOOKUP(B95,'N PMRg 2025'!B:G,6,0))","v":"-"},{"$f":"IF(COUNTIF('N PMČRj 2025'!B:B,B95)=0,\"-\",COUNTIF('N PMČRj 2025'!B:B,B95))","v":"-"},{"$f":"IF(ISERROR(VLOOKUP(B95,'N PMČRj 2025'!B:G,6,0)),\"-\",VLOOKUP(B95,'N PMČRj 2025'!B:G,6,0))","v":"-"}]
[73,"Jan Kotan",{"$f":"VLOOKUP(B96,Pilot!A:C,3,0)","v":"Letňany"},{"$f":"VLOOKUP(B96,Pilot!A:B,2,0)","v":1982},{"$f":"VLOOKUP(B96,Pilot!A:E,5,0)","v":"M"},{"$f":"VLOOKUP(B96,Pilot!A:F,6,0)","v":""},73,null,{"$f":"COUNTIF(B:B,B96)","v":1},{"$f":"IF(ISERROR(VLOOKUP(B96,B:G,6,0)),\"-\",VLOOKUP(B96,B:G,6,0))","v":73},{"$f":"IF(COUNTIF('N PMRg 2025'!B:B,B96)=0,\"-\",COUNTIF('N PMRg 2025'!B:B,B96))","v":"-"},{"$f":"IF(ISERROR(VLOOKUP(B96,'N PMRg 2025'!B:G,6,0)),\"-\",VLOOKUP(B96,'N PMRg 2025'!B:G,6,0))","v":"-"},{"$f":"IF(COUNTIF('N PMČRj 2025'!B:B,B96)=0,\"-\",COUNTIF('N PMČRj 2025'!B:B,B96))","v":"-"},{"$f":"IF(ISERROR(VLOOKUP(B96,'N PMČRj 2025'!B:G,6,0)),\"-\",VLOOKUP(B96,'N PMČRj 2025'!B:G,6,0))","v":"-"}]
[74,"Pavel Rericha",{"$f":"VLOOKUP(B97,Pilot!A:C,3,0)","v":"Moravská Třebová"},{"$f":"VLOOKUP(B97,Pilot!A:B,2,0)","v":1967},{"$f":"VLOOKUP(B97,Pilot!A:E,5,0)","v":"M"},{"$f":"VLOOKUP(B97,Pilot!A:F,6,0)","v":""},74,null,{"$f":"COUNTIF(B:B,B97)","v":1},{"$f":"IF(ISERROR(VLOOKUP(B97,B:G,6,0)),\"-\",VLOOKUP(B97,B:G,6,0))","v":74},{"$f":"IF(COUNTIF('N PMRg 2025'!B:B,B97)=0,\"-\",COUNTIF('N PMRg 2025'!B:B,B97))","v":"-"},{"$f":"IF(ISERROR(VLOOKUP(B97,'N PMRg 2025'!B:G,6,0)),\"-\",VLOOKUP(B97,'N PMRg 2025'!B:G,6,0))","v":"-"},{"$f":"IF(COUNTIF('N PMČRj 2025'!B:B,B97)=0,\"-\",COUNTIF('N PMČRj 2025'!B:B,B97))","v":"-"},{"$f":"IF(ISERROR(VLOOKUP(B97,'N PMČRj 2025'!B:G,6,0)),\"-\",VLOOKUP(B97,'N PMČRj 2025'!B:G,6,0))","v":"-"}]
[75,"Ondrej Bordovsky",{"$f":"VLOOKUP(B98,Pilot!A:C,3,0)","v":"Krnov"},{"$f":"VLOOKUP(B98,Pilot!A:B,2,0)","v":1983},{"$f":"VLOOKUP(B98,Pilot!A:E,5,0)","v":"M"},{"$f":"VLOOKUP(B98,Pilot!A:F,6,0)","v":""},{"$f":"A98","v":75},null,{"$f":"COUNTIF(B:B,B98)","v":1},{"$f":"IF(ISERROR(VLOOKUP(B98,B:G,6,0)),\"-\",VLOOKUP(B98,B:G,6,0))","v":75},{"$f":"IF(COUNTIF('N PMRg 2025'!B:B,B98)=0,\"-\",COUNTIF('N PMRg 2025'!B:B,B98))","v":"-"},{"$f":"IF(ISERROR(VLOOKUP(B98,'N PMRg 2025'!B:G,6,0)),\"-\",VLOOKUP(B98,'N PMRg 2025'!B:G,6,0))","v":"-"},{"$f":"IF(COUNTIF('N PMČRj 2025'!B:B,B98)=0,\"-\",COUNTIF('N PMČRj 2025'!B:B,B98))","v":"-"},{"$f":"IF(ISERROR(VLOOKUP(B98,'N PMČRj 2025'!B:G,6,0)),\"-\",VLOOKUP(B98,'N PMČRj 2025'!B:G,6,0))","v":"-"}]
[76,"Jindrich Svorc",{"$f":"VLOOKUP(B99,Pilot!A:C,3,0)","v":"Letňany"},{"$f":"VLOOKUP(B99,Pilot!A:B,2,0)","v":1978},{"$f":"VLOOKUP(B99,Pilot!A:E,5,0)","v":"M"},{"$f":"VLOOKUP(B99,Pilot!A:F,6,0)","v":""},{"$f":"A99","v":76},null,{"$f":"COUNTIF(B:B,B99)","v":1},{"$f":"IF(ISERROR(VLOOKUP(B99,B:G,6,0)),\"-\",VLOOKUP(B99,B:G,6,0))","v":76},{"$f":"IF(COUNTIF('N PMRg 2025'!B:B,B99)=0,\"-\",COUNTIF('N PMRg 2025'!B:B,B99))","v":"-"},{"$f":"IF(ISERROR(VLOOKUP(B99,'N PMRg 2025'!B:G,6,0)),\"-\",VLOOKUP(B99,'N PMRg 2025'!B:G,6,0))","v":"-"},{"$f":"IF(COUNTIF('N PMČRj 2025'!B:B,B99)=0,\"-\",COUNTIF('N PMČRj 2025'!B:B,B99))","v":"-"},{"$f":"IF(ISERROR(VLOOKUP(B99,'N PMČRj 2025'!B:G,6,0)),\"-\",VLOOKUP(B99,'N PMČRj 2025'!B:G,6,0))","v":"-"}]
[77,"Pavel Jiranek",{"$f":"VLOOKUP(B100,Pilot!A:C,3,0)","v":"Toužim"},{"$f":"VLOOKUP(B100,Pilot!A:B,2,0)","v":1993},{"$f":"VLOOKUP(B100,Pilot!A:E,5,0)","v":"M"},{"$f":"VLOOKUP(B100,Pilot!A:F,6,0)","v":""},{"$f":"A100","v":77},null,{"$f":"COUNTIF(B:B,B100)","v":1},{"$f":"IF(ISERROR(VLOOKUP(B100,B:G,6,0)),\"-\",VLOOKUP(B100,B:G,6,0))","v":77},{"$f":"IF(COUNTIF('N PMRg 2025'!B:B,B100)=0,\"-\",COUNTIF('N PMRg 2025'!B:B,B100))","v":"-"},{"$f":"IF(ISERROR(VLOOKUP(B100,'N PMRg 2025'!B:G,6,0)),\"-\",VLOOKUP(B100,'N PMRg 2025'!B:G,6,0))","v":"-"},{"$f":"IF(COUNTIF('N PMČRj 2025'!B:B,B100)=0,\"-\",COUNTIF('N PMČRj 2025'!B:B,B100))","v":"-"},{"$f":"IF(ISERROR(VLOOKUP(B100,'N PMČRj 2025'!B:G,6,0)),\"-\",VLOOKUP(B100,'N PMČRj 2025'!B:G,6,0))","v":"-"}]
[78,"Petr Hofman",{"$f":"VLOOKUP(B101,Pilot!A:C,3,0)","v":"Letňany"},{"$f":"VLOOKUP(B101,Pilot!A:B,2,0)","v":1984},{"$f":"VLOOKUP(B101,Pilot!A:E,5,0)","v":"M"},{"$f":"VLOOKUP(B101,Pilot!A:F,6,0)","v":""},78,null,{"$f":"COUNTIF(B:B,B101)","v":1},{"$f":"IF(ISERROR(VLOOKUP(B101,B:G,6,0)),\"-\",VLOOKUP(B101,B:G,6,0))","v":78},{"$f":"IF(COUNTIF('N PMRg 2025'!B:B,B101)=0,\"-\",COUNTIF('N PMRg 2025'!B:B,B101))","v":"-"},{"$f":"IF(ISERROR(VLOOKUP(B101,'N PMRg 2025'!B:G,6,0)),\"-\",VLOOKUP(B101,'N PMRg 2025'!B:G,6,0))","v":"-"},{"$f":"IF(COUNTIF('N PMČRj 2025'!B:B,B101)=0,\"-\",COUNTIF('N PMČRj 2025'!B:B,B101))","v":"-"},{"$f":"IF(ISERROR(VLOOKUP(B101,'N PMČRj 2025'!B:G,6,0)),\"-\",VLOOKUP(B101,'N PMČRj 2025'!B:G,6,0))","v":"-"}]
[79,"Frantisek Vancura",{"$f":"VLOOKUP(B102,Pilot!A:C,3,0)","v":"Hranice"},{"$f":"VLOOKUP(B102,Pilot!A:B,2,0)","v":1966},{"$f":"VLOOKUP(B102,Pilot!A:E,5,0)","v":"M"},{"$f":"VLOOKUP(B102,Pilot!A:F,6,0)","v":""},79,null,{"$f":"COUNTIF(B:B,B102)","v":1},{"$f":"IF(ISERROR(VLOOKUP(B102,B:G,6,0)),\"-\",VLOOKUP(B102,B:G,6,0))","v":79},{"$f":"IF(COUNTIF('N PMRg 2025'!B:B,B102)=0,\"-\",COUNTIF('N PMRg 2025'!B:B,B102))","v":"-"},{"$f":"IF(ISERROR(VLOOKUP(B102,'N PMRg 2025'!B:G,6,0)),\"-\",VLOOKUP(B102,'N PMRg 2025'!B:G,6,0))","v":"-"},{"$f":"IF(COUNTIF('N PMČRj 2025'!B:B,B102)=0,\"-\",COUNTIF('N PMČRj 2025'!B:B,B102))","v":"-"},{"$f":"IF(ISERROR(VLOOKUP(B102,'N PMČRj 2025'!B:G,6,0)),\"-\",VLOOKUP(B102,'N PMČRj 2025'!B:G,6,0))","v":"-"}]
[80,"David Darnady",{"$f":"VLOOKUP(B103,Pilot!A:C,3,0)","v":"Zbraslavice"},{"$f":"VLOOKUP(B103,Pilot!A:B,2,0)","v":1987},{"$f":"VLOOKUP(B103,Pilot!A:E,5,0)","v":"M"},{"$f":"VLOOKUP(B103,Pilot!A:F,6,0)","v":""},80,null,{"$f":"COUNTIF(B:B,B103)","v":1},{"$f":"IF(ISERROR(VLOOKUP(B103,B:G,6,0)),\"-\",VLOOKUP(B103,B:G,6,0))","v":80},{"$f":"IF(COUNTIF('N PMRg 2025'!B:B,B103)=0,\"-\",COUNTIF('N PMRg 2025'!B:B,B103))","v":"-"},{"$f":"IF(ISERROR(VLOOKUP(B103,'N PMRg 2025'!B:G,6,0)),\"-\",VLOOKUP(B103,'N PMRg 2025'!B:G,6,0))","v":"-"},{"$f":"IF(COUNTIF('N PMČRj 2025'!B:B,B103)=0,\"-\",COUNTIF('N PMČRj 2025'!B:B,B103))","v":"-"},{"$f":"IF(ISERROR(VLOOKUP(B103,'N PMČRj 2025'!B:G,6,0)),\"-\",VLOOKUP(B103,'N PMČRj 2025'!B:G,6,0))","v":"-"}]
["N1","Radek Hybl",{"$f":"VLOOKUP(B104,Pilot!A:C,3,0)","v":"Šumperk"},{"$f":"VLOOKUP(B104,Pilot!A:B,2,0)","v":1980},{"$f":"VLOOKUP(B104,Pilot!A:E,5,0)","v":"M"},{"$f":"VLOOKUP(B104,Pilot!A:F,6,0)","v":""},{"$f":"A104","v":"N1"},null,{"$f":"COUNTIF(B:B,B104)","v":1},{"$f":"IF(ISERROR(VLOOKUP(B104,B:G,6,0)),\"-\",VLOOKUP(B104,B:G,6,0))","v":"N1"},{"$f":"IF(COUNTIF('N PMRg 2025'!B:B,B104)=0,\"-\",COUNTIF('N PMRg 2025'!B:B,B104))","v":"-"},{"$f":"IF(ISERROR(VLOOKUP(B104,'N PMRg 2025'!B:G,6,0)),\"-\",VLOOKUP(B104,'N PMRg 2025'!B:G,6,0))","v":"-"},{"$f":"IF(COUNTIF('N PMČRj 2025'!B:B,B104)=0,\"-\",COUNTIF('N PMČRj 2025'!B:B,B104))","v":"-"},{"$f":"IF(ISERROR(VLOOKUP(B104,'N PMČRj 2025'!B:G,6,0)),\"-\",VLOOKUP(B104,'N PMČRj 2025'!B:G,6,0))","v":"-"}]
["N2","Rene Hudak",{"$f":"VLOOKUP(B105,Pilot!A:C,3,0)","v":"Kunovice"},{"$f":"VLOOKUP(B105,Pilot!A:B,2,0)","v":1972},{"$f":"VLOOKUP(B105,Pilot!A:E,5,0)","v":"M"},{"$f":"VLOOKUP(B105,Pilot!A:F,6,0)","v":""},"N2",null,{"$f":"COUNTIF(B:B,B105)","v":1},{"$f":"IF(ISERROR(VLOOKUP(B105,B:G,6,0)),\"-\",VLOOKUP(B105,B:G,6,0))","v":"N2"},{"$f":"IF(COUNTIF('N PMRg 2025'!B:B,B105)=0,\"-\",COUNTIF('N PMRg 2025'!B:B,B105))","v":"-"},{"$f":"IF(ISERROR(VLOOKUP(B105,'N PMRg 2025'!B:G,6,0)),\"-\",VLOOKUP(B105,'N PMRg 2025'!B:G,6,0))","v":"-"},{"$f":"IF(COUNTIF('N PMČRj 2025'!B:B,B105)=0,\"-\",COUNTIF('N PMČRj 2025'!B:B,B105))","v":"-"},{"$f":"IF(ISERROR(VLOOKUP(B105,'N PMČRj 2025'!B:G,6,0)),\"-\",VLOOKUP(B105,'N PMČRj 2025'!B:G,6,0))","v":"-"}]
["N3","Jan Viskot",{"$f":"VLOOKUP(B106,Pilot!A:C,3,0)","v":"Břeclav"},{"$f":"VLOOKUP(B106,Pilot!A:B,2,0)","v":1995},{"$f":"VLOOKUP(B106,Pilot!A:E,5,0)","v":"M"},{"$f":"VLOOKUP(B106,Pilot!A:F,6,0)","v":""},"N3",null,{"$f":"COUNTIF(B:B,B106)","v":1},{"$f":"IF(ISERROR(VLOOKUP(B106,B:G,6,0)),\"-\",VLOOKUP(B106,B:G,6,0))","v":"N3"},{"$f":"IF(COUNTIF('N PMRg 2025'!B:B,B106)=0,\"-\",COUNTIF('N PMRg 2025'!B:B,B106))","v":"-"},{"$f":"IF(ISERROR(VLOOKUP(B106,'N PMRg 2025'!B:G,6,0)),\"-\",VLOOKUP(B106,'N PMRg 2025'!B:G,6,0))","v":"-"},{"$f":"IF(COUNTIF('N PMČRj 2025'!B:B,B106)=0,\"-\",COUNTIF('N PMČRj 2025'!B:B,B106))","v":"-"},{"$f":"IF(ISERROR(VLOOKUP(B106,'N PMČRj 2025'!B:G,6,0)),\"-\",VLOOKUP(B106,'N PMČRj 2025'!B:G,6,0))","v":"-"}]
["N4","Roman Jokl",{"$f":"VLOOKUP(B107,Pilot!A:C,3,0)","v":"Letkov"},{"$f":"VLOOKUP(B107,Pilot!A:B,2,0)","v":1979},{"$f":"VLOOKUP(B107,Pilot!A:E,5,0)","v":"M"},{"$f":"VLOOKUP(B107,Pilot!A:F,6,0)","v":""},"N4",null,{"$f":"COUNTIF(B:B,B107)","v":1},{"$f":"IF(ISERROR(VLOOKUP(B107,B:G,6,0)),\"-\",VLOOKUP(B107,B:G,6,0))","v":"N4"},{"$f":"IF(COUNTIF('N PMRg 2025'!B:B,B107)=0,\"-\",COUNTIF('N PMRg 2025'!B:B,B107))","v":"-"},{"$f":"IF(ISERROR(VLOOKUP(B107,'N PMRg 2025'!B:G,6,0)),\"-\",VLOOKUP(B107,'N PMRg 2025'!B:G,6,0))","v":"-"},{"$f":"IF(COUNTIF('N PMČRj 2025'!B:B,B107)=0,\"-\",COUNTIF('N PMČRj 2025'!B:B,B107))","v":"-"},{"$f":"IF(ISERROR(VLOOKUP(B107,'N PMČRj 2025'!B:G,6,0)),\"-\",VLOOKUP(B107,'N PMČRj 2025'!B:G,6,0))","v":"-"}]
["N5","Jan Kantor",{"$f":"VLOOKUP(B108,Pilot!A:C,3,0)","v":"Letňany"},{"$f":"VLOOKUP(B108,Pilot!A:B,2,0)","v":1983},{"$f":"VLOOKUP(B108,Pilot!A:E,5,0)","v":"M"},{"$f":"VLOOKUP(B108,Pilot!A:F,6,0)","v":""},"N5",null,{"$f":"COUNTIF(B:B,B108)","v":1},{"$f":"IF(ISERROR(VLOOKUP(B108,B:G,6,0)),\"-\",VLOOKUP(B108,B:G,6,0))","v":"N5"},{"$f":"IF(COUNTIF('N PMRg 2025'!B:B,B108)=0,\"-\",COUNTIF('N PMRg 2025'!B:B,B108))","v":"-"},{"$f":"IF(ISERROR(VLOOKUP(B108,'N PMRg 2025'!B:G,6,0)),\"-\",VLOOKUP(B108,'N PMRg 2025'!B:G,6,0))","v":"-"},{"$f":"IF(COUNTIF('N PMČRj 2025'!B:B,B108)=0,\"-\",COUNTIF('N PMČRj 2025'!B:B,B108))","v":"-"},{"$f":"IF(ISERROR(VLOOKUP(B108,'N PMČRj 2025'!B:G,6,0)),\"-\",VLOOKUP(B108,'N PMČRj 2025'!B:G,6,0))","v":"-"}]
["N6","Josef Novak",{"$f":"VLOOKUP(B109,Pilot!A:C,3,0)","v":"Kunovice"},{"$f":"VLOOKUP(B109,Pilot!A:B,2,0)","v":1981},{"$f":"VLOOKUP(B109,Pilot!A:E,5,0)","v":"M"},{"$f":"VLOOKUP(B109,Pilot!A:F,6,0)","v":""},"N6",null,{"$f":"COUNTIF(B:B,B109)","v":1},{"$f":"IF(ISERROR(VLOOKUP(B109,B:G,6,0)),\"-\",VLOOKUP(B109,B:G,6,0))","v":"N6"},{"$f":"IF(COUNTIF('N PMRg 2025'!B:B,B109)=0,\"-\",COUNTIF('N PMRg 2025'!B:B,B109))","v":"-"},{"$f":"IF(ISERROR(VLOOKUP(B109,'N PMRg 2025'!B:G,6,0)),\"-\",VLOOKUP(B109,'N PMRg 2025'!B:G,6,0))","v":"-"},{"$f":"IF(COUNTIF('N PMČRj 2025'!B:B,B109)=0,\"-\",COUNTIF('N PMČRj 2025'!B:B,B109))","v":"-"},{"$f":"IF(ISERROR(VLOOKUP(B109,'N PMČRj 2025'!B:G,6,0)),\"-\",VLOOKUP(B109,'N PMČRj 2025'!B:G,6,0))","v":"-"}]
["N7","Josef Busek",{"$f":"VLOOKUP(B110,Pilot!A:C,3,0)","v":"Hosín"},{"$f":"VLOOKUP(B110,Pilot!A:B,2,0)","v":1967},{"$f":"VLOOKUP(B110,Pilot!A:E,5,0)","v":"M"},{"$f":"VLOOKUP(B110,Pilot!A:F,6,0)","v":""},"N7",null,{"$f":"COUNTIF(B:B,B110)","v":1},{"$f":"IF(ISERROR(VLOOKUP(B110,B:G,6,0)),\"-\",VLOOKUP(B110,B:G,6,0))","v":"N7"},{"$f":"IF(COUNTIF('N PMRg 2025'!B:B,B110)=0,\"-\",COUNTIF('N PMRg 2025'!B:B,B110))","v":"-"},{"$f":"IF(ISERROR(VLOOKUP(B110,'N PMRg 2025'!B:G,6,0)),\"-\",VLOOKUP(B110,'N PMRg 2025'!B:G,6,0))","v":"-"},{"$f":"IF(COUNTIF('N PMČRj 2025'!B:B,B110)=0,\"-\",COUNTIF('N PMČRj 2025'!B:B,B110))","v":"-"},{"$f":"IF(ISERROR(VLOOKUP(B110,'N PMČRj 2025'!B:G,6,0)),\"-\",VLOOKUP(B110,'N PMČRj 2025'!B:G,6,0))","v":"-"}]
["N8","Michal Cechmanek",{"$f":"VLOOKUP(B111,Pilot!A:C,3,0)","v":"Kroměříž"},{"$f":"VLOOKUP(B111,Pilot!A:B,2,0)","v":1978},{"$f":"VLOOKUP(B111,Pilot!A:E,5,0)","v":"M"},{"$f":"VLOOKUP(B111,Pilot!A:F,6,0)","v":""},"N8",null,{"$f":"COUNTIF(B:B,B111)","v":1},{"$f":"IF(ISERROR(VLOOKUP(B111,B:G,6,0)),\"-\",VLOOKUP(B111,B:G,6,0))","v":"N8"},{"$f":"IF(COUNTIF('N PMRg 2025'!B:B,B111)=0,\"-\",COUNTIF('N PMRg 2025'!B:B,B111))","v":"-"},{"$f":"IF(ISERROR(VLOOKUP(B111,'N PMRg 2025'!B:G,6,0)),\"-\",VLOOKUP(B111,'N PMRg 2025'!B:G,6,0))","v":"-"},{"$f":"IF(COUNTIF('N PMČRj 2025'!B:B,B111)=0,\"-\",COUNTIF('N PMČRj 2025'!B:B,B111))","v":"-"},{"$f":"IF(ISERROR(VLOOKUP(B111,'N PMČRj 2025'!B:G,6,0)),\"-\",VLOOKUP(B111,'N PMČRj 2025'!B:G,6,0))","v":"-"}]
["N9","Vaclav Marel",{"$f":"VLOOKUP(B112,Pilot!A:C,3,0)","v":"Jaroměř"},{"$f":"VLOOKUP(B112,Pilot!A:B,2,0)","v":1974},{"$f":"VLOOKUP(B112,Pilot!A:E,5,0)","v":"M"},{"$f":"VLOOKUP(B112,Pilot!A:F,6,0)","v":""},"N9",null,{"$f":"COUNTIF(B:B,B112)","v":1},{"$f":"IF(ISERROR(VLOOKUP(B112,B:G,6,0)),\"-\",VLOOKUP(B112,B:G,6,0))","v":"N9"},{"$f":"IF(COUNTIF('N PMRg 2025'!B:B,B112)=0,\"-\",COUNTIF('N PMRg 2025'!B:B,B112))","v":"-"},{"$f":"IF(ISERROR(VLOOKUP(B112,'N PMRg 2025'!B:G,6,0)),\"-\",VLOOKUP(B112,'N PMRg 2025'!B:G,6,0))","v":"-"},{"$f":"IF(COUNTIF('N PMČRj 2025'!B:B,B112)=0,\"-\",COUNTIF('N PMČRj 2025'!B:B,B112))","v":"-"},{"$f":"IF(ISERROR(VLOOKUP(B112,'N PMČRj 2025'!B:G,6,0)),\"-\",VLOOKUP(B112,'N PMČRj 2025'!B:G,6,0))","v":"-"}]
["N10","Jiri Steiger",{"$f":"VLOOKUP(B113,Pilot!A:C,3,0)","v":"Olomouc"},{"$f":"VLOOKUP(B113,Pilot!A:B,2,0)","v":1969},{"$f":"VLOOKUP(B113,Pilot!A:E,5,0)","v":"M"},{"$f":"VLOOKUP(B113,Pilot!A:F,6,0)","v":""},"N10",null,{"$f":"COUNTIF(B:B,B113)","v":1},{"$f":"IF(ISERROR(VLOOKUP(B113,B:G,6,0)),\"-\",VLOOKUP(B113,B:G,6,0))","v":"N10"},{"$f":"IF(COUNTIF('N PMRg 2025'!B:B,B113)=0,\"-\",COUNTIF('N PMRg 2025'!B:B,B113))","v":"-"},{"$f":"IF(ISERROR(VLOOKUP(B113,'N PMRg 2025'!B:G,6,0)),\"-\",VLOOKUP(B113,'N PMRg 2025'!B:G,6,0))","v":"-"},{"$f":"IF(COUNTIF('N PMČRj 2025'!B:B,B113)=0,\"-\",COUNTIF('N PMČRj 2025'!B:B,B113))","v":"-"},{"$f":"IF(ISERROR(VLOOKUP(B113,'N PMČRj 2025'!B:G,6,0)),\"-\",VLOOKUP(B113,'N PMČRj 2025'!B:G,6,0))","v":"-"}]
[null,"Další soutěžící může navrhnout PK podle jiných kritérií dle odstavce 9. (bez náhradníků):"]
["81.","-",{"$f":"VLOOKUP(B115,Pilot!A:C,3,0)","v":" "},{"$f":"VLOOKUP(B115,Pilot!A:B,2,0)","v":" "},{"$f":"VLOOKUP(B115,Pilot!A:E,5,0)","v":" "},{"$f":"VLOOKUP(B115,Pilot!A:F,6,0)","v":" "},{"$f":"A115","v":"81."},null,{"$f":"COUNTIF(B:B,B115)","v":6},{"$f":"IF(ISERROR(VLOOKUP(B115,B:G,6,0)),\"-\",VLOOKUP(B115,B:G,6,0))","v":"-"},{"$f":"IF(COUNTIF('N PMRg 2025'!B:B,B115)=0,\"-\",COUNTIF('N PMRg 2025'!B:B,B115))","v":76},{"$f":"IF(ISERROR(VLOOKUP(B115,'N PMRg 2025'!B:G,6,0)),\"-\",VLOOKUP(B115,'N PMRg 2025'!B:G,6,0))","v":1},{"$f":"IF(COUNTIF('N PMČRj 2025'!B:B,B115)=0,\"-\",COUNTIF('N PMČRj 2025'!B:B,B115))","v":31},{"$f":"IF(ISERROR(VLOOKUP(B115,'N PMČRj 2025'!B:G,6,0)),\"-\",VLOOKUP(B115,'N PMČRj 2025'!B:G,6,0))","v":20}]
["82.","-",{"$f":"VLOOKUP(B116,Pilot!A:C,3,0)","v":" "},{"$f":"VLOOKUP(B116,Pilot!A:B,2,0)","v":" "},{"$f":"VLOOKUP(B116,Pilot!A:E,5,0)","v":" "},{"$f":"VLOOKUP(B116,Pilot!A:F,6,0)","v":" "},{"$f":"A116","v":"82."},null,{"$f":"COUNTIF(B:B,B116)","v":6},{"$f":"IF(ISERROR(VLOOKUP(B116,B:G,6,0)),\"-\",VLOOKUP(B116,B:G,6,0))","v":"-"},{"$f":"IF(COUNTIF('N PMRg 2025'!B:B,B116)=0,\"-\",COUNTIF('N PMRg 2025'!B:B,B116))","v":76},{"$f":"IF(ISERROR(VLOOKUP(B116,'N PMRg 2025'!B:G,6,0)),\"-\",VLOOKUP(B116,'N PMRg 2025'!B:G,6,0))","v":1},{"$f":"IF(COUNTIF('N PMČRj 2025'!B:B,B116)=0,\"-\",COUNTIF('N PMČRj 2025'!B:B,B116))","v":31},{"$f":"IF(ISERROR(VLOOKUP(B116,'N PMČRj 2025'!B:G,6,0)),\"-\",VLOOKUP(B116,'N PMČRj 2025'!B:G,6,0))","v":20}]
["83.","-",{"$f":"VLOOKUP(B117,Pilot!A:C,3,0)","v":" "},{"$f":"VLOOKUP(B117,Pilot!A:B,2,0)","v":" "},{"$f":"VLOOKUP(B117,Pilot!A:E,5,0)","v":" "},{"$f":"VLOOKUP(B117,Pilot!A:F,6,0)","v":" "},{"$f":"A117","v":"83."},null,{"$f":"COUNTIF(B:B,B117)","v":6},{"$f":"IF(ISERROR(VLOOKUP(B117,B:G,6,0)),\"-\",VLOOKUP(B117,B:G,6,0))","v":"-"},{"$f":"IF(COUNTIF('N PMRg 2025'!B:B,B117)=0,\"-\",COUNTIF('N PMRg 2025'!B:B,B117))","v":76},{"$f":"IF(ISERROR(VLOOKUP(B117,'N PMRg 2025'!B:G,6,0)),\"-\",VLOOKUP(B117,'N PMRg 2025'!B:G,6,0))","v":1},{"$f":"IF(COUNTIF('N PMČRj 2025'!B:B,B117)=0,\"-\",COUNTIF('N PMČRj 2025'!B:B,B117))","v":31},{"$f":"IF(ISERROR(VLOOKUP(B117,'N PMČRj 2025'!B:G,6,0)),\"-\",VLOOKUP(B117,'N PMČRj 2025'!B:G,6,0))","v":20}]
["84.","-",{"$f":"VLOOKUP(B118,Pilot!A:C,3,0)","v":" "},{"$f":"VLOOKUP(B118,Pilot!A:B,2,0)","v":" "},{"$f":"VLOOKUP(B118,Pilot!A:E,5,0)","v":" "},{"$f":"VLOOKUP(B118,Pilot!A:F,6,0)","v":" "},{"$f":"A118","v":"84."},null,{"$f":"COUNTIF(B:B,B118)","v":6},{"$f":"IF(ISERROR(VLOOKUP(B118,B:G,6,0)),\"-\",VLOOKUP(B118,B:G,6,0))","v":"-"},{"$f":"IF(COUNTIF('N PMRg 2025'!B:B,B118)=0,\"-\",COUNTIF('N PMRg 2025'!B:B,B118))","v":76},{"$f":"IF(ISERROR(VLOOKUP(B118,'N PMRg 2025'!B:G,6,0)),\"-\",VLOOKUP(B118,'N PMRg 2025'!B:G,6,0))","v":1},{"$f":"IF(COUNTIF('N PMČRj 2025'!B:B,B118)=0,\"-\",COUNTIF('N PMČRj 2025'!B:B,B118))","v":31},{"$f":"IF(ISERROR(VLOOKUP(B118,'N PMČRj 2025'!B:G,6,0)),\"-\",VLOOKUP(B118,'N PMČRj 2025'!B:G,6,0))","v":20}]
["85.","-",{"$f":"VLOOKUP(B119,Pilot!A:C,3,0)","v":" "},{"$f":"VLOOKUP(B119,Pilot!A:B,2,0)","v":" "},{"$f":"VLOOKUP(B119,Pilot!A:E,5,0)","v":" "},{"$f":"VLOOKUP(B119,Pilot!A:F,6,0)","v":" "},{"$f":"A119","v":"85."},null,{"$f":"COUNTIF(B:B,B119)","v":6},{"$f":"IF(ISERROR(VLOOKUP(B119,B:G,6,0)),\"-\",VLOOKUP(B119,B:G,6,0))","v":"-"},{"$f":"IF(COUNTIF('N PMRg 2025'!B:B,B119)=0,\"-\",COUNTIF('N PMRg 2025'!B:B,B119))","v":76},{"$f":"IF(ISERROR(VLOOKUP(B119,'N PMRg 2025'!B:G,6,0)),\"-\",VLOOKUP(B119,'N PMRg 2025'!B:G,6,0))","v":1},{"$f":"IF(COUNTIF('N PMČRj 2025'!B:B,B119)=0,\"-\",COUNTIF('N PMČRj 2025'!B:B,B119))","v":31},{"$f":"IF(ISERROR(VLOOKUP(B119,'N PMČRj 2025'!B:G,6,0)),\"-\",VLOOKUP(B119,'N PMČRj 2025'!B:G,6,0))","v":20}]
["6.6.7.","Nominace zahraničních účastníků:"]
[null,"PMČR se mohou zúčastnit zahraniční účastníci pouze v případě, že nebude omezen počet řádně nominovaných soutěžících z ČR a soutěžící splňuje podmínky odstavce 6.1. a 6.6.1. SŘ."]
[null,"V případě pořádání společného PMČR s plachtařským mistrovstvím některého ze suverénních států může PK stanovit zvláštní pravidla pro nominaci."]
["6.6.8.","Volná nominace:"]
[null,"Volnou nominaci je možné využít pouze v tom případě, že pilot na PMČR nepostupuje podle žádného z bodů odstavce 6.6.6."]
[null,"Umožňuje-li to kapacita pořádajícího letiště, mohou se z členů AeČR mimo řádně nominovaných do soutěže přihlásit také piloti/pilotky, kteří se:"]
[null,"- v posledních 3 letech před rokem konání soutěže zúčastnili MS, ME, WAG nebo Světové Grand Prix jako velitel kluzáku,"]
[null,"- umístili v aktuálním Všeobecném Žebříku do 100. místa."]
[null,"Při větším počtu přihlášek, než je kapacita letiště Pořadatele, rozhoduje o přijetí do soutěže pořadí soutěžícího v aktuálním Všeobecném Žebříku s podmínkou zaplacení vkladu v termínu stanoveném Pořadatelem."]

{"sheet":"N PMČRj 2025","index":13,"n_rows":66,"n_cols":19,"rows_kept":66,"cut":false,"hidden":false,"merged":[[18,1,18,7],[30,1,30,7]]}
[null,"Nominace na PMČRj 2025",null,null,null,null,null,"Kontrola:","Počet","Nominace","Počet","Nominace","Počet","Nominace","M:","F:","M+F:",{"$f":"\"Limit juniora \"&Pilot!G1&\":\"","v":"Limit juniora 2025:"},{"$f":"Pilot!I1","v":2000}]
["No","Jméno","Aeroklub","Rok narození","M/F","Junior","No",null,"PMČRj","PMČRj","PMČR","PMČR","PMRg","PMRg",{"$f":"COUNTIF(E:E,\"M\")","v":15},{"$f":"COUNTIF(E:E,\"F\")","v":4},{"$f":"O2+P2","v":19},"S náhradníky"]
["6.7.5.","Nominace na PMČRj (dle SŘ ZM11)",null,null,null,null,null,null,null,null,null,null,null,"Celkem řádně nominováno:",{"$f":"O2-COUNTIF(E53:E57,\"M\")","v":15},{"$f":"P2-COUNTIF(E53:E57,\"F\")","v":4},{"$f":"O3+P3","v":19},"Bez náhradníků"]
[null,"Na PMČRj nominuje PK celkem 40 pilotů/pilotek a stanovený počet náhradníků pro každé nominační kritérium."]
[null,"Na PMČRj jsou nominováni soutěžící splňující statut juniora:"]
[null,"Na PMČRj jsou nominováni soutěžící (splňující statut juniora):"]
[null,"Všichni členové reprezentačního výběru ČR (bez náhradníků):"]
[1,"Lukas Kriz",{"$f":"VLOOKUP(B8,Pilot!A:C,3,0)","v":"Křižanov"},{"$f":"VLOOKUP(B8,Pilot!A:C,2,0)","v":2003},{"$f":"VLOOKUP(B8,Pilot!A:E,5,0)","v":"M"},{"$f":"VLOOKUP(B8,Pilot!A:F,6,0)","v":"Junior v roce 2025"},{"$f":"A8","v":1},null,{"$f":"COUNTIF(B:B,B8)","v":1},{"$f":"IF(ISERROR(VLOOKUP(B8,B:G,6,0)),\"-\",VLOOKUP(B8,B:G,6,0))","v":1},{"$f":"IF(COUNTIF('N PMČR 2025'!B:B,B8)=0,\"-\",COUNTIF('N PMČR 2025'!B:B,B8))","v":1},{"$f":"IF(ISERROR(VLOOKUP(B8,'N PMČR 2025'!B:G,6,0)),\"-\",VLOOKUP(B8,'N PMČR 2025'!B:G,6,0))","v":4},{"$f":"IF(COUNTIF('N PMRg 2025'!B:B,B8)=0,\"-\",COUNTIF('N PMRg 2025'!B:B,B8))","v":"-"},{"$f":"IF(ISERROR(VLOOKUP(B8,'N PMRg 2025'!B:G,6,0)),\"-\",VLOOKUP(B8,'N PMRg 2025'!B:G,6,0))","v":"-"}]
[{"$f":"A8+1","v":2},"Michaela Rendlova",{"$f":"VLOOKUP(B9,Pilot!A:C,3,0)","v":"Toužim"},{"$f":"VLOOKUP(B9,Pilot!A:C,2,0)","v":2004},{"$f":"VLOOKUP(B9,Pilot!A:E,5,0)","v":"F"},{"$f":"VLOOKUP(B9,Pilot!A:F,6,0)","v":"Junior v roce 2025"},{"$f":"A9","v":2},null,{"$f":"COUNTIF(B:B,B9)","v":1},{"$f":"IF(ISERROR(VLOOKUP(B9,B:G,6,0)),\"-\",VLOOKUP(B9,B:G,6,0))","v":2},{"$f":"IF(COUNTIF('N PMČR 2025'!B:B,B9)=0,\"-\",COUNTIF('N PMČR 2025'!B:B,B9))","v":1},{"$f":"IF(ISERROR(VLOOKUP(B9,'N PMČR 2025'!B:G,6,0)),\"-\",VLOOKUP(B9,'N PMČR 2025'!B:G,6,0))","v":14},{"$f":"IF(COUNTIF('N PMRg 2025'!B:B,B9)=0,\"-\",COUNTIF('N PMRg 2025'!B:B,B9))","v":"-"},{"$f":"IF(ISERROR(VLOOKUP(B9,'N PMRg 2025'!B:G,6,0)),\"-\",VLOOKUP(B9,'N PMRg 2025'!B:G,6,0))","v":"-"}]
[{"$f":"A9+1","v":3},"Jan Stastny",{"$f":"VLOOKUP(B10,Pilot!A:C,3,0)","v":"Medlánky"},{"$f":"VLOOKUP(B10,Pilot!A:C,2,0)","v":2003},{"$f":"VLOOKUP(B10,Pilot!A:E,5,0)","v":"M"},{"$f":"VLOOKUP(B10,Pilot!A:F,6,0)","v":"Junior v roce 2025"},3,null,{"$f":"COUNTIF(B:B,B10)","v":1},{"$f":"IF(ISERROR(VLOOKUP(B10,B:G,6,0)),\"-\",VLOOKUP(B10,B:G,6,0))","v":3},{"$f":"IF(COUNTIF('N PMČR 2025'!B:B,B10)=0,\"-\",COUNTIF('N PMČR 2025'!B:B,B10))","v":1},{"$f":"IF(ISERROR(VLOOKUP(B10,'N PMČR 2025'!B:G,6,0)),\"-\",VLOOKUP(B10,'N PMČR 2025'!B:G,6,0))","v":16},{"$f":"IF(COUNTIF('N PMRg 2025'!B:B,B10)=0,\"-\",COUNTIF('N PMRg 2025'!B:B,B10))","v":"-"},{"$f":"IF(ISERROR(VLOOKUP(B10,'N PMRg 2025'!B:G,6,0)),\"-\",VLOOKUP(B10,'N PMRg 2025'!B:G,6,0))","v":"-"}]
[4,"Vit Morkovsky",{"$f":"VLOOKUP(B11,Pilot!A:C,3,0)","v":"Polička"},{"$f":"VLOOKUP(B11,Pilot!A:C,2,0)","v":2000},{"$f":"VLOOKUP(B11,Pilot!A:E,5,0)","v":"M"},{"$f":"VLOOKUP(B11,Pilot!A:F,6,0)","v":"Junior v roce 2025"},4,null,{"$f":"COUNTIF(B:B,B11)","v":1},{"$f":"IF(ISERROR(VLOOKUP(B11,B:G,6,0)),\"-\",VLOOKUP(B11,B:G,6,0))","v":4},{"$f":"IF(COUNTIF('N PMČR 2025'!B:B,B11)=0,\"-\",COUNTIF('N PMČR 2025'!B:B,B11))","v":1},{"$f":"IF(ISERROR(VLOOKUP(B11,'N PMČR 2025'!B:G,6,0)),\"-\",VLOOKUP(B11,'N PMČR 2025'!B:G,6,0))","v":24},{"$f":"IF(COUNTIF('N PMRg 2025'!B:B,B11)=0,\"-\",COUNTIF('N PMRg 2025'!B:B,B11))","v":"-"},{"$f":"IF(ISERROR(VLOOKUP(B11,'N PMRg 2025'!B:G,6,0)),\"-\",VLOOKUP(B11,'N PMRg 2025'!B:G,6,0))","v":"-"}]
[5,"Tomas Hynek",{"$f":"VLOOKUP(B12,Pilot!A:C,3,0)","v":"Dvůr Králové"},{"$f":"VLOOKUP(B12,Pilot!A:C,2,0)","v":2002},{"$f":"VLOOKUP(B12,Pilot!A:E,5,0)","v":"M"},{"$f":"VLOOKUP(B12,Pilot!A:F,6,0)","v":"Junior v roce 2025"},5,null,{"$f":"COUNTIF(B:B,B12)","v":1},{"$f":"IF(ISERROR(VLOOKUP(B12,B:G,6,0)),\"-\",VLOOKUP(B12,B:G,6,0))","v":5},{"$f":"IF(COUNTIF('N PMČR 2025'!B:B,B12)=0,\"-\",COUNTIF('N PMČR 2025'!B:B,B12))","v":1},{"$f":"IF(ISERROR(VLOOKUP(B12,'N PMČR 2025'!B:G,6,0)),\"-\",VLOOKUP(B12,'N PMČR 2025'!B:G,6,0))","v":26},{"$f":"IF(COUNTIF('N PMRg 2025'!B:B,B12)=0,\"-\",COUNTIF('N PMRg 2025'!B:B,B12))","v":"-"},{"$f":"IF(ISERROR(VLOOKUP(B12,'N PMRg 2025'!B:G,6,0)),\"-\",VLOOKUP(B12,'N PMRg 2025'!B:G,6,0))","v":"-"}]
[6,"Michaela Krizova",{"$f":"VLOOKUP(B13,Pilot!A:C,3,0)","v":"Přibyslav"},{"$f":"VLOOKUP(B13,Pilot!A:C,2,0)","v":2001},{"$f":"VLOOKUP(B13,Pilot!A:E,5,0)","v":"F"},{"$f":"VLOOKUP(B13,Pilot!A:F,6,0)","v":"Junior v roce 2025"},6,null,{"$f":"COUNTIF(B:B,B13)","v":1},{"$f":"IF(ISERROR(VLOOKUP(B13,B:G,6,0)),\"-\",VLOOKUP(B13,B:G,6,0))","v":6},{"$f":"IF(COUNTIF('N PMČR 2025'!B:B,B13)=0,\"-\",COUNTIF('N PMČR 2025'!B:B,B13))","v":1},{"$f":"IF(ISERROR(VLOOKUP(B13,'N PMČR 2025'!B:G,6,0)),\"-\",VLOOKUP(B13,'N PMČR 2025'!B:G,6,0))","v":28},{"$f":"IF(COUNTIF('N PMRg 2025'!B:B,B13)=0,\"-\",COUNTIF('N PMRg 2025'!B:B,B13))","v":"-"},{"$f":"IF(ISERROR(VLOOKUP(B13,'N PMRg 2025'!B:G,6,0)),\"-\",VLOOKUP(B13,'N PMRg 2025'!B:G,6,0))","v":"-"}]
[null,"Všichni soutěžící - účastníci posledního platného PMČR (bez náhradníků):"]
[null,"PMČR 2024 - Toužim - Klub, Kombi 15m, Kombi Open"]
[{"$f":"MAX(A8:A15)+1","v":7},"Stepan Filakovsky",{"$f":"VLOOKUP(B16,Pilot!A:C,3,0)","v":"Medlánky"},{"$f":"VLOOKUP(B16,Pilot!A:C,2,0)","v":2005},{"$f":"VLOOKUP(B16,Pilot!A:E,5,0)","v":"M"},{"$f":"VLOOKUP(B16,Pilot!A:F,6,0)","v":"Junior v roce 2025"},{"$f":"A16","v":7},null,{"$f":"COUNTIF(B:B,B16)","v":1},{"$f":"IF(ISERROR(VLOOKUP(B16,B:G,6,0)),\"-\",VLOOKUP(B16,B:G,6,0))","v":7},{"$f":"IF(COUNTIF('N PMČR 2025'!B:B,B16)=0,\"-\",COUNTIF('N PMČR 2025'!B:B,B16))","v":"-"},{"$f":"IF(ISERROR(VLOOKUP(B16,'N PMČR 2025'!B:G,6,0)),\"-\",VLOOKUP(B16,'N PMČR 2025'!B:G,6,0))","v":"-"},{"$f":"IF(COUNTIF('N PMRg 2025'!B:B,B16)=0,\"-\",COUNTIF('N PMRg 2025'!B:B,B16))","v":"-"},{"$f":"IF(ISERROR(VLOOKUP(B16,'N PMRg 2025'!B:G,6,0)),\"-\",VLOOKUP(B16,'N PMRg 2025'!B:G,6,0))","v":"-"}]
[{"$f":"A16+1","v":8},"Petr Masik",{"$f":"VLOOKUP(B17,Pilot!A:C,3,0)","v":"Zábřeh"},{"$f":"VLOOKUP(B17,Pilot!A:C,2,0)","v":2001},{"$f":"VLOOKUP(B17,Pilot!A:E,5,0)","v":"M"},{"$f":"VLOOKUP(B17,Pilot!A:F,6,0)","v":"Junior v roce 2025"},{"$f":"A17","v":8},null,{"$f":"COUNTIF(B:B,B17)","v":1},{"$f":"IF(ISERROR(VLOOKUP(B17,B:G,6,0)),\"-\",VLOOKUP(B17,B:G,6,0))","v":8},{"$f":"IF(COUNTIF('N PMČR 2025'!B:B,B17)=0,\"-\",COUNTIF('N PMČR 2025'!B:B,B17))","v":"-"},{"$f":"IF(ISERROR(VLOOKUP(B17,'N PMČR 2025'!B:G,6,0)),\"-\",VLOOKUP(B17,'N PMČR 2025'!B:G,6,0))","v":"-"},{"$f":"IF(COUNTIF('N PMRg 2025'!B:B,B17)=0,\"-\",COUNTIF('N PMRg 2025'!B:B,B17))","v":"-"},{"$f":"IF(ISERROR(VLOOKUP(B17,'N PMRg 2025'!B:G,6,0)),\"-\",VLOOKUP(B17,'N PMRg 2025'!B:G,6,0))","v":"-"}]
[{"$f":"A17+1","v":9},"Stepan Bartos",{"$f":"VLOOKUP(B18,Pilot!A:C,3,0)","v":"Kolín"},{"$f":"VLOOKUP(B18,Pilot!A:C,2,0)","v":2004},{"$f":"VLOOKUP(B18,Pilot!A:E,5,0)","v":"M"},{"$f":"VLOOKUP(B18,Pilot!A:F,6,0)","v":"Junior v roce 2025"},9,null,{"$f":"COUNTIF(B:B,B18)","v":1},{"$f":"IF(ISERROR(VLOOKUP(B18,B:G,6,0)),\"-\",VLOOKUP(B18,B:G,6,0))","v":9},{"$f":"IF(COUNTIF('N PMČR 2025'!B:B,B18)=0,\"-\",COUNTIF('N PMČR 2025'!B:B,B18))","v":1},{"$f":"IF(ISERROR(VLOOKUP(B18,'N PMČR 2025'!B:G,6,0)),\"-\",VLOOKUP(B18,'N PMČR 2025'!B:G,6,0))","v":41},{"$f":"IF(COUNTIF('N PMRg 2025'!B:B,B18)=0,\"-\",COUNTIF('N PMRg 2025'!B:B,B18))","v":"-"},{"$f":"IF(ISERROR(VLOOKUP(B18,'N PMRg 2025'!B:G,6,0)),\"-\",VLOOKUP(B18,'N PMRg 2025'!B:G,6,0))","v":"-"}]
[null,"Další soutěžící, kteří se umístili v konečném pořadí na posledním platném PMČRj ve své třídě nejhůře v první polovině celkového pořadí pilotů ČR (bez náhradníků):"]
[null,"PMČRj 2024 - Hodkovice - Klub"]
[{"$f":"MAX(A8:A20)+1","v":10},"Tereza Koubkova",{"$f":"VLOOKUP(B21,Pilot!A:C,3,0)","v":"Vysoké Mýto"},{"$f":"VLOOKUP(B21,Pilot!A:C,2,0)","v":1999},{"$f":"VLOOKUP(B21,Pilot!A:E,5,0)","v":"F"},{"$f":"VLOOKUP(B21,Pilot!A:F,6,0)","v":""},{"$f":"A21","v":10},null,{"$f":"COUNTIF(B:B,B21)","v":1},{"$f":"IF(ISERROR(VLOOKUP(B21,B:G,6,0)),\"-\",VLOOKUP(B21,B:G,6,0))","v":10},{"$f":"IF(COUNTIF('N PMČR 2025'!B:B,B21)=0,\"-\",COUNTIF('N PMČR 2025'!B:B,B21))","v":1},{"$f":"IF(ISERROR(VLOOKUP(B21,'N PMČR 2025'!B:G,6,0)),\"-\",VLOOKUP(B21,'N PMČR 2025'!B:G,6,0))","v":25},{"$f":"IF(COUNTIF('N PMRg 2025'!B:B,B21)=0,\"-\",COUNTIF('N PMRg 2025'!B:B,B21))","v":"-"},{"$f":"IF(ISERROR(VLOOKUP(B21,'N PMRg 2025'!B:G,6,0)),\"-\",VLOOKUP(B21,'N PMRg 2025'!B:G,6,0))","v":"-"}]
[{"$f":"A21+1","v":11},"Alex Gulich",{"$f":"VLOOKUP(B22,Pilot!A:C,3,0)","v":"Slaný"},{"$f":"VLOOKUP(B22,Pilot!A:C,2,0)","v":2005},{"$f":"VLOOKUP(B22,Pilot!A:E,5,0)","v":"M"},{"$f":"VLOOKUP(B22,Pilot!A:F,6,0)","v":"Junior v roce 2025"},11,null,{"$f":"COUNTIF(B:B,B22)","v":1},{"$f":"IF(ISERROR(VLOOKUP(B22,B:G,6,0)),\"-\",VLOOKUP(B22,B:G,6,0))","v":11},{"$f":"IF(COUNTIF('N PMČR 2025'!B:B,B22)=0,\"-\",COUNTIF('N PMČR 2025'!B:B,B22))","v":1},{"$f":"IF(ISERROR(VLOOKUP(B22,'N PMČR 2025'!B:G,6,0)),\"-\",VLOOKUP(B22,'N PMČR 2025'!B:G,6,0))","v":38},{"$f":"IF(COUNTIF('N PMRg 2025'!B:B,B22)=0,\"-\",COUNTIF('N PMRg 2025'!B:B,B22))","v":"-"},{"$f":"IF(ISERROR(VLOOKUP(B22,'N PMRg 2025'!B:G,6,0)),\"-\",VLOOKUP(B22,'N PMRg 2025'!B:G,6,0))","v":"-"}]
[{"$f":"A22+1","v":12},"Jan Beran",{"$f":"VLOOKUP(B23,Pilot!A:C,3,0)","v":"Kladno"},{"$f":"VLOOKUP(B23,Pilot!A:C,2,0)","v":1999},{"$f":"VLOOKUP(B23,Pilot!A:E,5,0)","v":"M"},{"$f":"VLOOKUP(B23,Pilot!A:F,6,0)","v":""},12,null,{"$f":"COUNTIF(B:B,B23)","v":1},{"$f":"IF(ISERROR(VLOOKUP(B23,B:G,6,0)),\"-\",VLOOKUP(B23,B:G,6,0))","v":12},{"$f":"IF(COUNTIF('N PMČR 2025'!B:B,B23)=0,\"-\",COUNTIF('N PMČR 2025'!B:B,B23))","v":1},{"$f":"IF(ISERROR(VLOOKUP(B23,'N PMČR 2025'!B:G,6,0)),\"-\",VLOOKUP(B23,'N PMČR 2025'!B:G,6,0))","v":39},{"$f":"IF(COUNTIF('N PMRg 2025'!B:B,B23)=0,\"-\",COUNTIF('N PMRg 2025'!B:B,B23))","v":"-"},{"$f":"IF(ISERROR(VLOOKUP(B23,'N PMRg 2025'!B:G,6,0)),\"-\",VLOOKUP(B23,'N PMRg 2025'!B:G,6,0))","v":"-"}]
[13,"Vit Tvrdik",{"$f":"VLOOKUP(B24,Pilot!A:C,3,0)","v":"Letňany"},{"$f":"VLOOKUP(B24,Pilot!A:C,2,0)","v":2000},{"$f":"VLOOKUP(B24,Pilot!A:E,5,0)","v":"M"},{"$f":"VLOOKUP(B24,Pilot!A:F,6,0)","v":"Junior v roce 2025"},{"$f":"A24","v":13},null,{"$f":"COUNTIF(B:B,B24)","v":1},{"$f":"IF(ISERROR(VLOOKUP(B24,B:G,6,0)),\"-\",VLOOKUP(B24,B:G,6,0))","v":13},{"$f":"IF(COUNTIF('N PMČR 2025'!B:B,B24)=0,\"-\",COUNTIF('N PMČR 2025'!B:B,B24))","v":1},{"$f":"IF(ISERROR(VLOOKUP(B24,'N PMČR 2025'!B:G,6,0)),\"-\",VLOOKUP(B24,'N PMČR 2025'!B:G,6,0))","v":40},{"$f":"IF(COUNTIF('N PMRg 2025'!B:B,B24)=0,\"-\",COUNTIF('N PMRg 2025'!B:B,B24))","v":"-"},{"$f":"IF(ISERROR(VLOOKUP(B24,'N PMRg 2025'!B:G,6,0)),\"-\",VLOOKUP(B24,'N PMRg 2025'!B:G,6,0))","v":"-"}]
[14,"Tibor Hezina",{"$f":"VLOOKUP(B25,Pilot!A:C,3,0)","v":"Křižanov"},{"$f":"VLOOKUP(B25,Pilot!A:C,2,0)","v":2002},{"$f":"VLOOKUP(B25,Pilot!A:E,5,0)","v":"M"},{"$f":"VLOOKUP(B25,Pilot!A:F,6,0)","v":"Junior v roce 2025"},{"$f":"A25","v":14},null,{"$f":"COUNTIF(B:B,B25)","v":1},{"$f":"IF(ISERROR(VLOOKUP(B25,B:G,6,0)),\"-\",VLOOKUP(B25,B:G,6,0))","v":14},{"$f":"IF(COUNTIF('N PMČR 2025'!B:B,B25)=0,\"-\",COUNTIF('N PMČR 2025'!B:B,B25))","v":1},{"$f":"IF(ISERROR(VLOOKUP(B25,'N PMČR 2025'!B:G,6,0)),\"-\",VLOOKUP(B25,'N PMČR 2025'!B:G,6,0))","v":42},{"$f":"IF(COUNTIF('N PMRg 2025'!B:B,B25)=0,\"-\",COUNTIF('N PMRg 2025'!B:B,B25))","v":"-"},{"$f":"IF(ISERROR(VLOOKUP(B25,'N PMRg 2025'!B:G,6,0)),\"-\",VLOOKUP(B25,'N PMRg 2025'!B:G,6,0))","v":"-"}]
[15,"Eliska Kudejova",{"$f":"VLOOKUP(B26,Pilot!A:C,3,0)","v":"Strakonice"},{"$f":"VLOOKUP(B26,Pilot!A:C,2,0)","v":2006},{"$f":"VLOOKUP(B26,Pilot!A:E,5,0)","v":"F"},{"$f":"VLOOKUP(B26,Pilot!A:F,6,0)","v":"Junior v roce 2025"},15,null,{"$f":"COUNTIF(B:B,B26)","v":1},{"$f":"IF(ISERROR(VLOOKUP(B26,B:G,6,0)),\"-\",VLOOKUP(B26,B:G,6,0))","v":15},{"$f":"IF(COUNTIF('N PMČR 2025'!B:B,B26)=0,\"-\",COUNTIF('N PMČR 2025'!B:B,B26))","v":1},{"$f":"IF(ISERROR(VLOOKUP(B26,'N PMČR 2025'!B:G,6,0)),\"-\",VLOOKUP(B26,'N PMČR 2025'!B:G,6,0))","v":"N1"},{"$f":"IF(COUNTIF('N PMRg 2025'!B:B,B26)=0,\"-\",COUNTIF('N PMRg 2025'!B:B,B26))","v":"-"},{"$f":"IF(ISERROR(VLOOKUP(B26,'N PMRg 2025'!B:G,6,0)),\"-\",VLOOKUP(B26,'N PMRg 2025'!B:G,6,0))","v":"-"}]
[16,"Vladimir Hammer",{"$f":"VLOOKUP(B27,Pilot!A:C,3,0)","v":"Letkov"},{"$f":"VLOOKUP(B27,Pilot!A:C,2,0)","v":2000},{"$f":"VLOOKUP(B27,Pilot!A:E,5,0)","v":"M"},{"$f":"VLOOKUP(B27,Pilot!A:F,6,0)","v":"Junior v roce 2025"},16,null,{"$f":"COUNTIF(B:B,B27)","v":1},{"$f":"IF(ISERROR(VLOOKUP(B27,B:G,6,0)),\"-\",VLOOKUP(B27,B:G,6,0))","v":16},{"$f":"IF(COUNTIF('N PMČR 2025'!B:B,B27)=0,\"-\",COUNTIF('N PMČR 2025'!B:B,B27))","v":1},{"$f":"IF(ISERROR(VLOOKUP(B27,'N PMČR 2025'!B:G,6,0)),\"-\",VLOOKUP(B27,'N PMČR 2025'!B:G,6,0))","v":"N2"},{"$f":"IF(COUNTIF('N PMRg 2025'!B:B,B27)=0,\"-\",COUNTIF('N PMRg 2025'!B:B,B27))","v":"-"},{"$f":"IF(ISERROR(VLOOKUP(B27,'N PMRg 2025'!B:G,6,0)),\"-\",VLOOKUP(B27,'N PMRg 2025'!B:G,6,0))","v":"-"}]
[17,"Martin Stastny",{"$f":"VLOOKUP(B28,Pilot!A:C,3,0)","v":"Medlánky"},{"$f":"VLOOKUP(B28,Pilot!A:C,2,0)","v":2005},{"$f":"VLOOKUP(B28,Pilot!A:E,5,0)","v":"M"},{"$f":"VLOOKUP(B28,Pilot!A:F,6,0)","v":"Junior v roce 2025"},17,null,{"$f":"COUNTIF(B:B,B28)","v":1},{"$f":"IF(ISERROR(VLOOKUP(B28,B:G,6,0)),\"-\",VLOOKUP(B28,B:G,6,0))","v":17},{"$f":"IF(COUNTIF('N PMČR 2025'!B:B,B28)=0,\"-\",COUNTIF('N PMČR 2025'!B:B,B28))","v":1},{"$f":"IF(ISERROR(VLOOKUP(B28,'N PMČR 2025'!B:G,6,0)),\"-\",VLOOKUP(B28,'N PMČR 2025'!B:G,6,0))","v":"N3"},{"$f":"IF(COUNTIF('N PMRg 2025'!B:B,B28)=0,\"-\",COUNTIF('N PMRg 2025'!B:B,B28))","v":"-"},{"$f":"IF(ISERROR(VLOOKUP(B28,'N PMRg 2025'!B:G,6,0)),\"-\",VLOOKUP(B28,'N PMRg 2025'!B:G,6,0))","v":"-"}]
[18,"Filip Mrstny",{"$f":"VLOOKUP(B29,Pilot!A:C,3,0)","v":"Beroun"},{"$f":"VLOOKUP(B29,Pilot!A:C,2,0)","v":2006},{"$f":"VLOOKUP(B29,Pilot!A:E,5,0)","v":"M"},{"$f":"VLOOKUP(B29,Pilot!A:F,6,0)","v":"Junior v roce 2025"},18,null,{"$f":"COUNTIF(B:B,B29)","v":1},{"$f":"IF(ISERROR(VLOOKUP(B29,B:G,6,0)),\"-\",VLOOKUP(B29,B:G,6,0))","v":18},{"$f":"IF(COUNTIF('N PMČR 2025'!B:B,B29)=0,\"-\",COUNTIF('N PMČR 2025'!B:B,B29))","v":1},{"$f":"IF(ISERROR(VLOOKUP(B29,'N PMČR 2025'!B:G,6,0)),\"-\",VLOOKUP(B29,'N PMČR 2025'!B:G,6,0))","v":"N4"},{"$f":"IF(COUNTIF('N PMRg 2025'!B:B,B29)=0,\"-\",COUNTIF('N PMRg 2025'!B:B,B29))","v":"-"},{"$f":"IF(ISERROR(VLOOKUP(B29,'N PMRg 2025'!B:G,6,0)),\"-\",VLOOKUP(B29,'N PMRg 2025'!B:G,6,0))","v":"-"}]
[{"$f":"A29+1","v":19},"Ivan Morkovsky",{"$f":"VLOOKUP(B30,Pilot!A:C,3,0)","v":"Polička"},{"$f":"VLOOKUP(B30,Pilot!A:C,2,0)","v":2008},{"$f":"VLOOKUP(B30,Pilot!A:E,5,0)","v":"M"},{"$f":"VLOOKUP(B30,Pilot!A:F,6,0)","v":"Junior v roce 2025"},19,null,{"$f":"COUNTIF(B:B,B30)","v":1},{"$f":"IF(ISERROR(VLOOKUP(B30,B:G,6,0)),\"-\",VLOOKUP(B30,B:G,6,0))","v":19},{"$f":"IF(COUNTIF('N PMČR 2025'!B:B,B30)=0,\"-\",COUNTIF('N PMČR 2025'!B:B,B30))","v":1},{"$f":"IF(ISERROR(VLOOKUP(B30,'N PMČR 2025'!B:G,6,0)),\"-\",VLOOKUP(B30,'N PMČR 2025'!B:G,6,0))","v":"N5"},{"$f":"IF(COUNTIF('N PMRg 2025'!B:B,B30)=0,\"-\",COUNTIF('N PMRg 2025'!B:B,B30))","v":"-"},{"$f":"IF(ISERROR(VLOOKUP(B30,'N PMRg 2025'!B:G,6,0)),\"-\",VLOOKUP(B30,'N PMRg 2025'!B:G,6,0))","v":"-"}]
[null,"Ostatní soutěžící nominuje PK v pořadí podle umístění v CPS-INT předchozího roku do naplnění celkového počtu 40 nominovaných (+ 5 náhradníků):"]
[{"$f":"MAX(A8:A31)+1","v":20},"-",{"$f":"VLOOKUP(B32,Pilot!A:C,3,0)","v":" "},{"$f":"VLOOKUP(B32,Pilot!A:C,2,0)","v":" "},{"$f":"VLOOKUP(B32,Pilot!A:E,5,0)","v":" "},{"$f":"VLOOKUP(B32,Pilot!A:F,6,0)","v":" "},{"$f":"A32","v":20},null,{"$f":"COUNTIF(B:B,B32)","v":31},{"$f":"IF(ISERROR(VLOOKUP(B32,B:G,6,0)),\"-\",VLOOKUP(B32,B:G,6,0))","v":20},{"$f":"IF(COUNTIF('N PMČR 2025'!B:B,B32)=0,\"-\",COUNTIF('N PMČR 2025'!B:B,B32))","v":6},{"$f":"IF(ISERROR(VLOOKUP(B32,'N PMČR 2025'!B:G,6,0)),\"-\",VLOOKUP(B32,'N PMČR 2025'!B:G,6,0))","v":"-"},{"$f":"IF(COUNTIF('N PMRg 2025'!B:B,B32)=0,\"-\",COUNTIF('N PMRg 2025'!B:B,B32))","v":76},{"$f":"IF(ISERROR(VLOOKUP(B32,'N PMRg 2025'!B:G,6,0)),\"-\",VLOOKUP(B32,'N PMRg 2025'!B:G,6,0))","v":1}]
[{"$f":"A32+1","v":21},"-",{"$f":"VLOOKUP(B33,Pilot!A:C,3,0)","v":" "},{"$f":"VLOOKUP(B33,Pilot!A:C,2,0)","v":" "},{"$f":"VLOOKUP(B33,Pilot!A:E,5,0)","v":" "},{"$f":"VLOOKUP(B33,Pilot!A:F,6,0)","v":" "},21,null,{"$f":"COUNTIF(B:B,B33)","v":31},{"$f":"IF(ISERROR(VLOOKUP(B33,B:G,6,0)),\"-\",VLOOKUP(B33,B:G,6,0))","v":20},{"$f":"IF(COUNTIF('N PMČR 2025'!B:B,B33)=0,\"-\",COUNTIF('N PMČR 2025'!B:B,B33))","v":6},{"$f":"IF(ISERROR(VLOOKUP(B33,'N PMČR 2025'!B:G,6,0)),\"-\",VLOOKUP(B33,'N PMČR 2025'!B:G,6,0))","v":"-"},{"$f":"IF(COUNTIF('N PMRg 2025'!B:B,B33)=0,\"-\",COUNTIF('N PMRg 2025'!B:B,B33))","v":76},{"$f":"IF(ISERROR(VLOOKUP(B33,'N PMRg 2025'!B:G,6,0)),\"-\",VLOOKUP(B33,'N PMRg 2025'!B:G,6,0))","v":1}]
[{"$f":"A33+1","v":22},"-",{"$f":"VLOOKUP(B34,Pilot!A:C,3,0)","v":" "},{"$f":"VLOOKUP(B34,Pilot!A:C,2,0)","v":" "},{"$f":"VLOOKUP(B34,Pilot!A:E,5,0)","v":" "},{"$f":"VLOOKUP(B34,Pilot!A:F,6,0)","v":" "},22,null,{"$f":"COUNTIF(B:B,B34)","v":31},{"$f":"IF(ISERROR(VLOOKUP(B34,B:G,6,0)),\"-\",VLOOKUP(B34,B:G,6,0))","v":20},{"$f":"IF(COUNTIF('N PMČR 2025'!B:B,B34)=0,\"-\",COUNTIF('N PMČR 2025'!B:B,B34))","v":6},{"$f":"IF(ISERROR(VLOOKUP(B34,'N PMČR 2025'!B:G,6,0)),\"-\",VLOOKUP(B34,'N PMČR 2025'!B:G,6,0))","v":"-"},{"$f":"IF(COUNTIF('N PMRg 2025'!B:B,B34)=0,\"-\",COUNTIF('N PMRg 2025'!B:B,B34))","v":76},{"$f":"IF(ISERROR(VLOOKUP(B34,'N PMRg 2025'!B:G,6,0)),\"-\",VLOOKUP(B34,'N PMRg 2025'!B:G,6,0))","v":1}]
[23,"-",{"$f":"VLOOKUP(B35,Pilot!A:C,3,0)","v":" "},{"$f":"VLOOKUP(B35,Pilot!A:C,2,0)","v":" "},{"$f":"VLOOKUP(B35,Pilot!A:E,5,0)","v":" "},{"$f":"VLOOKUP(B35,Pilot!A:F,6,0)","v":" "},23,null,{"$f":"COUNTIF(B:B,B35)","v":31},{"$f":"IF(ISERROR(VLOOKUP(B35,B:G,6,0)),\"-\",VLOOKUP(B35,B:G,6,0))","v":20},{"$f":"IF(COUNTIF('N PMČR 2025'!B:B,B35)=0,\"-\",COUNTIF('N PMČR 2025'!B:B,B35))","v":6},{"$f":"IF(ISERROR(VLOOKUP(B35,'N PMČR 2025'!B:G,6,0)),\"-\",VLOOKUP(B35,'N PMČR 2025'!B:G,6,0))","v":"-"},{"$f":"IF(COUNTIF('N PMRg 2025'!B:B,B35)=0,\"-\",COUNTIF('N PMRg 2025'!B:B,B35))","v":76},{"$f":"IF(ISERROR(VLOOKUP(B35,'N PMRg 2025'!B:G,6,0)),\"-\",VLOOKUP(B35,'N PMRg 2025'!B:G,6,0))","v":1}]
[24,"-",{"$f":"VLOOKUP(B36,Pilot!A:C,3,0)","v":" "},{"$f":"VLOOKUP(B36,Pilot!A:C,2,0)","v":" "},{"$f":"VLOOKUP(B36,Pilot!A:E,5,0)","v":" "},{"$f":"VLOOKUP(B36,Pilot!A:F,6,0)","v":" "},24,null,{"$f":"COUNTIF(B:B,B36)","v":31},{"$f":"IF(ISERROR(VLOOKUP(B36,B:G,6,0)),\"-\",VLOOKUP(B36,B:G,6,0))","v":20},{"$f":"IF(COUNTIF('N PMČR 2025'!B:B,B36)=0,\"-\",COUNTIF('N PMČR 2025'!B:B,B36))","v":6},{"$f":"IF(ISERROR(VLOOKUP(B36,'N PMČR 2025'!B:G,6,0)),\"-\",VLOOKUP(B36,'N PMČR 2025'!B:G,6,0))","v":"-"},{"$f":"IF(COUNTIF('N PMRg 2025'!B:B,B36)=0,\"-\",COUNTIF('N PMRg 2025'!B:B,B36))","v":76},{"$f":"IF(ISERROR(VLOOKUP(B36,'N PMRg 2025'!B:G,6,0)),\"-\",VLOOKUP(B36,'N PMRg 2025'!B:G,6,0))","v":1}]
[25,"-",{"$f":"VLOOKUP(B37,Pilot!A:C,3,0)","v":" "},{"$f":"VLOOKUP(B37,Pilot!A:C,2,0)","v":" "},{"$f":"VLOOKUP(B37,Pilot!A:E,5,0)","v":" "},{"$f":"VLOOKUP(B37,Pilot!A:F,6,0)","v":" "},25,null,{"$f":"COUNTIF(B:B,B37)","v":31},{"$f":"IF(ISERROR(VLOOKUP(B37,B:G,6,0)),\"-\",VLOOKUP(B37,B:G,6,0))","v":20},{"$f":"IF(COUNTIF('N PMČR 2025'!B:B,B37)=0,\"-\",COUNTIF('N PMČR 2025'!B:B,B37))","v":6},{"$f":"IF(ISERROR(VLOOKUP(B37,'N PMČR 2025'!B:G,6,0)),\"-\",VLOOKUP(B37,'N PMČR 2025'!B:G,6,0))","v":"-"},{"$f":"IF(COUNTIF('N PMRg 2025'!B:B,B37)=0,\"-\",COUNTIF('N PMRg 2025'!B:B,B37))","v":76},{"$f":"IF(ISERROR(VLOOKUP(B37,'N PMRg 2025'!B:G,6,0)),\"-\",VLOOKUP(B37,'N PMRg 2025'!B:G,6,0))","v":1}]
[26,"-",{"$f":"VLOOKUP(B38,Pilot!A:C,3,0)","v":" "},{"$f":"VLOOKUP(B38,Pilot!A:C,2,0)","v":" "},{"$f":"VLOOKUP(B38,Pilot!A:E,5,0)","v":" "},{"$f":"VLOOKUP(B38,Pilot!A:F,6,0)","v":" "},26,null,{"$f":"COUNTIF(B:B,B38)","v":31},{"$f":"IF(ISERROR(VLOOKUP(B38,B:G,6,0)),\"-\",VLOOKUP(B38,B:G,6,0))","v":20},{"$f":"IF(COUNTIF('N PMČR 2025'!B:B,B38)=0,\"-\",COUNTIF('N PMČR 2025'!B:B,B38))","v":6},{"$f":"IF(ISERROR(VLOOKUP(B38,'N PMČR 2025'!B:G,6,0)),\"-\",VLOOKUP(B38,'N PMČR 2025'!B:G,6,0))","v":"-"},{"$f":"IF(COUNTIF('N PMRg 2025'!B:B,B38)=0,\"-\",COUNTIF('N PMRg 2025'!B:B,B38))","v":76},{"$f":"IF(ISERROR(VLOOKUP(B38,'N PMRg 2025'!B:G,6,0)),\"-\",VLOOKUP(B38,'N PMRg 2025'!B:G,6,0))","v":1}]
[27,"-",{"$f":"VLOOKUP(B39,Pilot!A:C,3,0)","v":" "},{"$f":"VLOOKUP(B39,Pilot!A:C,2,0)","v":" "},{"$f":"VLOOKUP(B39,Pilot!A:E,5,0)","v":" "},{"$f":"VLOOKUP(B39,Pilot!A:F,6,0)","v":" "},27,null,{"$f":"COUNTIF(B:B,B39)","v":31},{"$f":"IF(ISERROR(VLOOKUP(B39,B:G,6,0)),\"-\",VLOOKUP(B39,B:G,6,0))","v":20},{"$f":"IF(COUNTIF('N PMČR 2025'!B:B,B39)=0,\"-\",COUNTIF('N PMČR 2025'!B:B,B39))","v":6},{"$f":"IF(ISERROR(VLOOKUP(B39,'N PMČR 2025'!B:G,6,0)),\"-\",VLOOKUP(B39,'N PMČR 2025'!B:G,6,0))","v":"-"},{"$f":"IF(COUNTIF('N PMRg 2025'!B:B,B39)=0,\"-\",COUNTIF('N PMRg 2025'!B:B,B39))","v":76},{"$f":"IF(ISERROR(VLOOKUP(B39,'N PMRg 2025'!B:G,6,0)),\"-\",VLOOKUP(B39,'N PMRg 2025'!B:G,6,0))","v":1}]
[28,"-",{"$f":"VLOOKUP(B40,Pilot!A:C,3,0)","v":" "},{"$f":"VLOOKUP(B40,Pilot!A:C,2,0)","v":" "},{"$f":"VLOOKUP(B40,Pilot!A:E,5,0)","v":" "},{"$f":"VLOOKUP(B40,Pilot!A:F,6,0)","v":" "},28,null,{"$f":"COUNTIF(B:B,B40)","v":31},{"$f":"IF(ISERROR(VLOOKUP(B40,B:G,6,0)),\"-\",VLOOKUP(B40,B:G,6,0))","v":20},{"$f":"IF(COUNTIF('N PMČR 2025'!B:B,B40)=0,\"-\",COUNTIF('N PMČR 2025'!B:B,B40))","v":6},{"$f":"IF(ISERROR(VLOOKUP(B40,'N PMČR 2025'!B:G,6,0)),\"-\",VLOOKUP(B40,'N PMČR 2025'!B:G,6,0))","v":"-"},{"$f":"IF(COUNTIF('N PMRg 2025'!B:B,B40)=0,\"-\",COUNTIF('N PMRg 2025'!B:B,B40))","v":76},{"$f":"IF(ISERROR(VLOOKUP(B40,'N PMRg 2025'!B:G,6,0)),\"-\",VLOOKUP(B40,'N PMRg 2025'!B:G,6,0))","v":1}]
[29,"-",{"$f":"VLOOKUP(B41,Pilot!A:C,3,0)","v":" "},{"$f":"VLOOKUP(B41,Pilot!A:C,2,0)","v":" "},{"$f":"VLOOKUP(B41,Pilot!A:E,5,0)","v":" "},{"$f":"VLOOKUP(B41,Pilot!A:F,6,0)","v":" "},29,null,{"$f":"COUNTIF(B:B,B41)","v":31},{"$f":"IF(ISERROR(VLOOKUP(B41,B:G,6,0)),\"-\",VLOOKUP(B41,B:G,6,0))","v":20},{"$f":"IF(COUNTIF('N PMČR 2025'!B:B,B41)=0,\"-\",COUNTIF('N PMČR 2025'!B:B,B41))","v":6},{"$f":"IF(ISERROR(VLOOKUP(B41,'N PMČR 2025'!B:G,6,0)),\"-\",VLOOKUP(B41,'N PMČR 2025'!B:G,6,0))","v":"-"},{"$f":"IF(COUNTIF('N PMRg 2025'!B:B,B41)=0,\"-\",COUNTIF('N PMRg 2025'!B:B,B41))","v":76},{"$f":"IF(ISERROR(VLOOKUP(B41,'N PMRg 2025'!B:G,6,0)),\"-\",VLOOKUP(B41,'N PMRg 2025'!B:G,6,0))","v":1}]
[30,"-",{"$f":"VLOOKUP(B42,Pilot!A:C,3,0)","v":" "},{"$f":"VLOOKUP(B42,Pilot!A:C,2,0)","v":" "},{"$f":"VLOOKUP(B42,Pilot!A:E,5,0)","v":" "},{"$f":"VLOOKUP(B42,Pilot!A:F,6,0)","v":" "},{"$f":"A42","v":30},null,{"$f":"COUNTIF(B:B,B42)","v":31},{"$f":"IF(ISERROR(VLOOKUP(B42,B:G,6,0)),\"-\",VLOOKUP(B42,B:G,6,0))","v":20},{"$f":"IF(COUNTIF('N PMČR 2025'!B:B,B42)=0,\"-\",COUNTIF('N PMČR 2025'!B:B,B42))","v":6},{"$f":"IF(ISERROR(VLOOKUP(B42,'N PMČR 2025'!B:G,6,0)),\"-\",VLOOKUP(B42,'N PMČR 2025'!B:G,6,0))","v":"-"},{"$f":"IF(COUNTIF('N PMRg 2025'!B:B,B42)=0,\"-\",COUNTIF('N PMRg 2025'!B:B,B42))","v":76},{"$f":"IF(ISERROR(VLOOKUP(B42,'N PMRg 2025'!B:G,6,0)),\"-\",VLOOKUP(B42,'N PMRg 2025'!B:G,6,0))","v":1}]
[31,"-",{"$f":"VLOOKUP(B43,Pilot!A:C,3,0)","v":" "},{"$f":"VLOOKUP(B43,Pilot!A:C,2,0)","v":" "},{"$f":"VLOOKUP(B43,Pilot!A:E,5,0)","v":" "},{"$f":"VLOOKUP(B43,Pilot!A:F,6,0)","v":" "},31,null,{"$f":"COUNTIF(B:B,B43)","v":31},{"$f":"IF(ISERROR(VLOOKUP(B43,B:G,6,0)),\"-\",VLOOKUP(B43,B:G,6,0))","v":20},{"$f":"IF(COUNTIF('N PMČR 2025'!B:B,B43)=0,\"-\",COUNTIF('N PMČR 2025'!B:B,B43))","v":6},{"$f":"IF(ISERROR(VLOOKUP(B43,'N PMČR 2025'!B:G,6,0)),\"-\",VLOOKUP(B43,'N PMČR 2025'!B:G,6,0))","v":"-"},{"$f":"IF(COUNTIF('N PMRg 2025'!B:B,B43)=0,\"-\",COUNTIF('N PMRg 2025'!B:B,B43))","v":76},{"$f":"IF(ISERROR(VLOOKUP(B43,'N PMRg 2025'!B:G,6,0)),\"-\",VLOOKUP(B43,'N PMRg 2025'!B:G,6,0))","v":1}]
[32,"-",{"$f":"VLOOKUP(B44,Pilot!A:C,3,0)","v":" "},{"$f":"VLOOKUP(B44,Pilot!A:C,2,0)","v":" "},{"$f":"VLOOKUP(B44,Pilot!A:E,5,0)","v":" "},{"$f":"VLOOKUP(B44,Pilot!A:F,6,0)","v":" "},32,null,{"$f":"COUNTIF(B:B,B44)","v":31},{"$f":"IF(ISERROR(VLOOKUP(B44,B:G,6,0)),\"-\",VLOOKUP(B44,B:G,6,0))","v":20},{"$f":"IF(COUNTIF('N PMČR 2025'!B:B,B44)=0,\"-\",COUNTIF('N PMČR 2025'!B:B,B44))","v":6},{"$f":"IF(ISERROR(VLOOKUP(B44,'N PMČR 2025'!B:G,6,0)),\"-\",VLOOKUP(B44,'N PMČR 2025'!B:G,6,0))","v":"-"},{"$f":"IF(COUNTIF('N PMRg 2025'!B:B,B44)=0,\"-\",COUNTIF('N PMRg 2025'!B:B,B44))","v":76},{"$f":"IF(ISERROR(VLOOKUP(B44,'N PMRg 2025'!B:G,6,0)),\"-\",VLOOKUP(B44,'N PMRg 2025'!B:G,6,0))","v":1}]
[33,"-",{"$f":"VLOOKUP(B45,Pilot!A:C,3,0)","v":" "},{"$f":"VLOOKUP(B45,Pilot!A:C,2,0)","v":" "},{"$f":"VLOOKUP(B45,Pilot!A:E,5,0)","v":" "},{"$f":"VLOOKUP(B45,Pilot!A:F,6,0)","v":" "},33,null,{"$f":"COUNTIF(B:B,B45)","v":31},{"$f":"IF(ISERROR(VLOOKUP(B45,B:G,6,0)),\"-\",VLOOKUP(B45,B:G,6,0))","v":20},{"$f":"IF(COUNTIF('N PMČR 2025'!B:B,B45)=0,\"-\",COUNTIF('N PMČR 2025'!B:B,B45))","v":6},{"$f":"IF(ISERROR(VLOOKUP(B45,'N PMČR 2025'!B:G,6,0)),\"-\",VLOOKUP(B45,'N PMČR 2025'!B:G,6,0))","v":"-"},{"$f":"IF(COUNTIF('N PMRg 2025'!B:B,B45)=0,\"-\",COUNTIF('N PMRg 2025'!B:B,B45))","v":76},{"$f":"IF(ISERROR(VLOOKUP(B45,'N PMRg 2025'!B:G,6,0)),\"-\",VLOOKUP(B45,'N PMRg 2025'!B:G,6,0))","v":1}]
[34,"-",{"$f":"VLOOKUP(B46,Pilot!A:C,3,0)","v":" "},{"$f":"VLOOKUP(B46,Pilot!A:C,2,0)","v":" "},{"$f":"VLOOKUP(B46,Pilot!A:E,5,0)","v":" "},{"$f":"VLOOKUP(B46,Pilot!A:F,6,0)","v":" "},34,null,{"$f":"COUNTIF(B:B,B46)","v":31},{"$f":"IF(ISERROR(VLOOKUP(B46,B:G,6,0)),\"-\",VLOOKUP(B46,B:G,6,0))","v":20},{"$f":"IF(COUNTIF('N PMČR 2025'!B:B,B46)=0,\"-\",COUNTIF('N PMČR 2025'!B:B,B46))","v":6},{"$f":"IF(ISERROR(VLOOKUP(B46,'N PMČR 2025'!B:G,6,0)),\"-\",VLOOKUP(B46,'N PMČR 2025'!B:G,6,0))","v":"-"},{"$f":"IF(COUNTIF('N PMRg 2025'!B:B,B46)=0,\"-\",COUNTIF('N PMRg 2025'!B:B,B46))","v":76},{"$f":"IF(ISERROR(VLOOKUP(B46,'N PMRg 2025'!B:G,6,0)),\"-\",VLOOKUP(B46,'N PMRg 2025'!B:G,6,0))","v":1}]
[35,"-",{"$f":"VLOOKUP(B47,Pilot!A:C,3,0)","v":" "},{"$f":"VLOOKUP(B47,Pilot!A:C,2,0)","v":" "},{"$f":"VLOOKUP(B47,Pilot!A:E,5,0)","v":" "},{"$f":"VLOOKUP(B47,Pilot!A:F,6,0)","v":" "},35,null,{"$f":"COUNTIF(B:B,B47)","v":31},{"$f":"IF(ISERROR(VLOOKUP(B47,B:G,6,0)),\"-\",VLOOKUP(B47,B:G,6,0))","v":20},{"$f":"IF(COUNTIF('N PMČR 2025'!B:B,B47)=0,\"-\",COUNTIF('N PMČR 2025'!B:B,B47))","v":6},{"$f":"IF(ISERROR(VLOOKUP(B47,'N PMČR 2025'!B:G,6,0)),\"-\",VLOOKUP(B47,'N PMČR 2025'!B:G,6,0))","v":"-"},{"$f":"IF(COUNTIF('N PMRg 2025'!B:B,B47)=0,\"-\",COUNTIF('N PMRg 2025'!B:B,B47))","v":76},{"$f":"IF(ISERROR(VLOOKUP(B47,'N PMRg 2025'!B:G,6,0)),\"-\",VLOOKUP(B47,'N PMRg 2025'!B:G,6,0))","v":1}]
[36,"-",{"$f":"VLOOKUP(B48,Pilot!A:C,3,0)","v":" "},{"$f":"VLOOKUP(B48,Pilot!A:C,2,0)","v":" "},{"$f":"VLOOKUP(B48,Pilot!A:E,5,0)","v":" "},{"$f":"VLOOKUP(B48,Pilot!A:F,6,0)","v":" "},36,null,{"$f":"COUNTIF(B:B,B48)","v":31},{"$f":"IF(ISERROR(VLOOKUP(B48,B:G,6,0)),\"-\",VLOOKUP(B48,B:G,6,0))","v":20},{"$f":"IF(COUNTIF('N PMČR 2025'!B:B,B48)=0,\"-\",COUNTIF('N PMČR 2025'!B:B,B48))","v":6},{"$f":"IF(ISERROR(VLOOKUP(B48,'N PMČR 2025'!B:G,6,0)),\"-\",VLOOKUP(B48,'N PMČR 2025'!B:G,6,0))","v":"-"},{"$f":"IF(COUNTIF('N PMRg 2025'!B:B,B48)=0,\"-\",COUNTIF('N PMRg 2025'!B:B,B48))","v":76},{"$f":"IF(ISERROR(VLOOKUP(B48,'N PMRg 2025'!B:G,6,0)),\"-\",VLOOKUP(B48,'N PMRg 2025'!B:G,6,0))","v":1}]
[37,"-",{"$f":"VLOOKUP(B49,Pilot!A:C,3,0)","v":" "},{"$f":"VLOOKUP(B49,Pilot!A:C,2,0)","v":" "},{"$f":"VLOOKUP(B49,Pilot!A:E,5,0)","v":" "},{"$f":"VLOOKUP(B49,Pilot!A:F,6,0)","v":" "},{"$f":"A49","v":37},null,{"$f":"COUNTIF(B:B,B49)","v":31},{"$f":"IF(ISERROR(VLOOKUP(B49,B:G,6,0)),\"-\",VLOOKUP(B49,B:G,6,0))","v":20},{"$f":"IF(COUNTIF('N PMČR 2025'!B:B,B49)=0,\"-\",COUNTIF('N PMČR 2025'!B:B,B49))","v":6},{"$f":"IF(ISERROR(VLOOKUP(B49,'N PMČR 2025'!B:G,6,0)),\"-\",VLOOKUP(B49,'N PMČR 2025'!B:G,6,0))","v":"-"},{"$f":"IF(COUNTIF('N PMRg 2025'!B:B,B49)=0,\"-\",COUNTIF('N PMRg 2025'!B:B,B49))","v":76},{"$f":"IF(ISERROR(VLOOKUP(B49,'N PMRg 2025'!B:G,6,0)),\"-\",VLOOKUP(B49,'N PMRg 2025'!B:G,6,0))","v":1}]
[38,"-",{"$f":"VLOOKUP(B50,Pilot!A:C,3,0)","v":" "},{"$f":"VLOOKUP(B50,Pilot!A:C,2,0)","v":" "},{"$f":"VLOOKUP(B50,Pilot!A:E,5,0)","v":" "},{"$f":"VLOOKUP(B50,Pilot!A:F,6,0)","v":" "},38,null,{"$f":"COUNTIF(B:B,B50)","v":31},{"$f":"IF(ISERROR(VLOOKUP(B50,B:G,6,0)),\"-\",VLOOKUP(B50,B:G,6,0))","v":20},{"$f":"IF(COUNTIF('N PMČR 2025'!B:B,B50)=0,\"-\",COUNTIF('N PMČR 2025'!B:B,B50))","v":6},{"$f":"IF(ISERROR(VLOOKUP(B50,'N PMČR 2025'!B:G,6,0)),\"-\",VLOOKUP(B50,'N PMČR 2025'!B:G,6,0))","v":"-"},{"$f":"IF(COUNTIF('N PMRg 2025'!B:B,B50)=0,\"-\",COUNTIF('N PMRg 2025'!B:B,B50))","v":76},{"$f":"IF(ISERROR(VLOOKUP(B50,'N PMRg 2025'!B:G,6,0)),\"-\",VLOOKUP(B50,'N PMRg 2025'!B:G,6,0))","v":1}]
[39,"-",{"$f":"VLOOKUP(B51,Pilot!A:C,3,0)","v":" "},{"$f":"VLOOKUP(B51,Pilot!A:C,2,0)","v":" "},{"$f":"VLOOKUP(B51,Pilot!A:E,5,0)","v":" "},{"$f":"VLOOKUP(B51,Pilot!A:F,6,0)","v":" "},39,null,{"$f":"COUNTIF(B:B,B51)","v":31},{"$f":"IF(ISERROR(VLOOKUP(B51,B:G,6,0)),\"-\",VLOOKUP(B51,B:G,6,0))","v":20},{"$f":"IF(COUNTIF('N PMČR 2025'!B:B,B51)=0,\"-\",COUNTIF('N PMČR 2025'!B:B,B51))","v":6},{"$f":"IF(ISERROR(VLOOKUP(B51,'N PMČR 2025'!B:G,6,0)),\"-\",VLOOKUP(B51,'N PMČR 2025'!B:G,6,0))","v":"-"},{"$f":"IF(COUNTIF('N PMRg 2025'!B:B,B51)=0,\"-\",COUNTIF('N PMRg 2025'!B:B,B51))","v":76},{"$f":"IF(ISERROR(VLOOKUP(B51,'N PMRg 2025'!B:G,6,0)),\"-\",VLOOKUP(B51,'N PMRg 2025'!B:G,6,0))","v":1}]
[40,"-",{"$f":"VLOOKUP(B52,Pilot!A:C,3,0)","v":" "},{"$f":"VLOOKUP(B52,Pilot!A:C,2,0)","v":" "},{"$f":"VLOOKUP(B52,Pilot!A:E,5,0)","v":" "},{"$f":"VLOOKUP(B52,Pilot!A:F,6,0)","v":" "},{"$f":"A52","v":40},null,{"$f":"COUNTIF(B:B,B52)","v":31},{"$f":"IF(ISERROR(VLOOKUP(B52,B:G,6,0)),\"-\",VLOOKUP(B52,B:G,6,0))","v":20},{"$f":"IF(COUNTIF('N PMČR 2025'!B:B,B52)=0,\"-\",COUNTIF('N PMČR 2025'!B:B,B52))","v":6},{"$f":"IF(ISERROR(VLOOKUP(B52,'N PMČR 2025'!B:G,6,0)),\"-\",VLOOKUP(B52,'N PMČR 2025'!B:G,6,0))","v":"-"},{"$f":"IF(COUNTIF('N PMRg 2025'!B:B,B52)=0,\"-\",COUNTIF('N PMRg 2025'!B:B,B52))","v":76},{"$f":"IF(ISERROR(VLOOKUP(B52,'N PMRg 2025'!B:G,6,0)),\"-\",VLOOKUP(B52,'N PMRg 2025'!B:G,6,0))","v":1}]
["N1","-",{"$f":"VLOOKUP(B53,Pilot!A:C,3,0)","v":" "},{"$f":"VLOOKUP(B53,Pilot!A:C,2,0)","v":" "},{"$f":"VLOOKUP(B53,Pilot!A:E,5,0)","v":" "},{"$f":"VLOOKUP(B53,Pilot!A:F,6,0)","v":" "},"N1",null,{"$f":"COUNTIF(B:B,B53)","v":31},{"$f":"IF(ISERROR(VLOOKUP(B53,B:G,6,0)),\"-\",VLOOKUP(B53,B:G,6,0))","v":20},{"$f":"IF(COUNTIF('N PMČR 2025'!B:B,B53)=0,\"-\",COUNTIF('N PMČR 2025'!B:B,B53))","v":6},{"$f":"IF(ISERROR(VLOOKUP(B53,'N PMČR 2025'!B:G,6,0)),\"-\",VLOOKUP(B53,'N PMČR 2025'!B:G,6,0))","v":"-"},{"$f":"IF(COUNTIF('N PMRg 2025'!B:B,B53)=0,\"-\",COUNTIF('N PMRg 2025'!B:B,B53))","v":76},{"$f":"IF(ISERROR(VLOOKUP(B53,'N PMRg 2025'!B:G,6,0)),\"-\",VLOOKUP(B53,'N PMRg 2025'!B:G,6,0))","v":1}]
["N2","-",{"$f":"VLOOKUP(B54,Pilot!A:C,3,0)","v":" "},{"$f":"VLOOKUP(B54,Pilot!A:C,2,0)","v":" "},{"$f":"VLOOKUP(B54,Pilot!A:E,5,0)","v":" "},{"$f":"VLOOKUP(B54,Pilot!A:F,6,0)","v":" "},"N2",null,{"$f":"COUNTIF(B:B,B54)","v":31},{"$f":"IF(ISERROR(VLOOKUP(B54,B:G,6,0)),\"-\",VLOOKUP(B54,B:G,6,0))","v":20},{"$f":"IF(COUNTIF('N PMČR 2025'!B:B,B54)=0,\"-\",COUNTIF('N PMČR 2025'!B:B,B54))","v":6},{"$f":"IF(ISERROR(VLOOKUP(B54,'N PMČR 2025'!B:G,6,0)),\"-\",VLOOKUP(B54,'N PMČR 2025'!B:G,6,0))","v":"-"},{"$f":"IF(COUNTIF('N PMRg 2025'!B:B,B54)=0,\"-\",COUNTIF('N PMRg 2025'!B:B,B54))","v":76},{"$f":"IF(ISERROR(VLOOKUP(B54,'N PMRg 2025'!B:G,6,0)),\"-\",VLOOKUP(B54,'N PMRg 2025'!B:G,6,0))","v":1}]
["N3","-",{"$f":"VLOOKUP(B55,Pilot!A:C,3,0)","v":" "},{"$f":"VLOOKUP(B55,Pilot!A:C,2,0)","v":" "},{"$f":"VLOOKUP(B55,Pilot!A:E,5,0)","v":" "},{"$f":"VLOOKUP(B55,Pilot!A:F,6,0)","v":" "},"N3",null,{"$f":"COUNTIF(B:B,B55)","v":31},{"$f":"IF(ISERROR(VLOOKUP(B55,B:G,6,0)),\"-\",VLOOKUP(B55,B:G,6,0))","v":20},{"$f":"IF(COUNTIF('N PMČR 2025'!B:B,B55)=0,\"-\",COUNTIF('N PMČR 2025'!B:B,B55))","v":6},{"$f":"IF(ISERROR(VLOOKUP(B55,'N PMČR 2025'!B:G,6,0)),\"-\",VLOOKUP(B55,'N PMČR 2025'!B:G,6,0))","v":"-"},{"$f":"IF(COUNTIF('N PMRg 2025'!B:B,B55)=0,\"-\",COUNTIF('N PMRg 2025'!B:B,B55))","v":76},{"$f":"IF(ISERROR(VLOOKUP(B55,'N PMRg 2025'!B:G,6,0)),\"-\",VLOOKUP(B55,'N PMRg 2025'!B:G,6,0))","v":1}]
["N4","-",{"$f":"VLOOKUP(B56,Pilot!A:C,3,0)","v":" "},{"$f":"VLOOKUP(B56,Pilot!A:C,2,0)","v":" "},{"$f":"VLOOKUP(B56,Pilot!A:E,5,0)","v":" "},{"$f":"VLOOKUP(B56,Pilot!A:F,6,0)","v":" "},"N4",null,{"$f":"COUNTIF(B:B,B56)","v":31},{"$f":"IF(ISERROR(VLOOKUP(B56,B:G,6,0)),\"-\",VLOOKUP(B56,B:G,6,0))","v":20},{"$f":"IF(COUNTIF('N PMČR 2025'!B:B,B56)=0,\"-\",COUNTIF('N PMČR 2025'!B:B,B56))","v":6},{"$f":"IF(ISERROR(VLOOKUP(B56,'N PMČR 2025'!B:G,6,0)),\"-\",VLOOKUP(B56,'N PMČR 2025'!B:G,6,0))","v":"-"},{"$f":"IF(COUNTIF('N PMRg 2025'!B:B,B56)=0,\"-\",COUNTIF('N PMRg 2025'!B:B,B56))","v":76},{"$f":"IF(ISERROR(VLOOKUP(B56,'N PMRg 2025'!B:G,6,0)),\"-\",VLOOKUP(B56,'N PMRg 2025'!B:G,6,0))","v":1}]
["N5","-",{"$f":"VLOOKUP(B57,Pilot!A:C,3,0)","v":" "},{"$f":"VLOOKUP(B57,Pilot!A:C,2,0)","v":" "},{"$f":"VLOOKUP(B57,Pilot!A:E,5,0)","v":" "},{"$f":"VLOOKUP(B57,Pilot!A:F,6,0)","v":" "},"N5",null,{"$f":"COUNTIF(B:B,B57)","v":31},{"$f":"IF(ISERROR(VLOOKUP(B57,B:G,6,0)),\"-\",VLOOKUP(B57,B:G,6,0))","v":20},{"$f":"IF(COUNTIF('N PMČR 2025'!B:B,B57)=0,\"-\",COUNTIF('N PMČR 2025'!B:B,B57))","v":6},{"$f":"IF(ISERROR(VLOOKUP(B57,'N PMČR 2025'!B:G,6,0)),\"-\",VLOOKUP(B57,'N PMČR 2025'!B:G,6,0))","v":"-"},{"$f":"IF(COUNTIF('N PMRg 2025'!B:B,B57)=0,\"-\",COUNTIF('N PMRg 2025'!B:B,B57))","v":76},{"$f":"IF(ISERROR(VLOOKUP(B57,'N PMRg 2025'!B:G,6,0)),\"-\",VLOOKUP(B57,'N PMRg 2025'!B:G,6,0))","v":1}]
["6.7.5.6.","Další soutěžící může navrhnout PK podle jiných kritérií dle odstavce 9. SŘ:"]
[{"$f":"MAX(A8:A57)+1","v":41},"-",{"$f":"VLOOKUP(B59,Pilot!A:C,3,0)","v":" "},{"$f":"VLOOKUP(B59,Pilot!A:C,2,0)","v":" "},{"$f":"VLOOKUP(B59,Pilot!A:E,5,0)","v":" "},{"$f":"VLOOKUP(B59,Pilot!A:F,6,0)","v":" "},{"$f":"A59","v":41},null,{"$f":"COUNTIF(B:B,B59)","v":31},{"$f":"IF(ISERROR(VLOOKUP(B59,B:G,6,0)),\"-\",VLOOKUP(B59,B:G,6,0))","v":20},{"$f":"IF(COUNTIF('N PMČR 2025'!B:B,B59)=0,\"-\",COUNTIF('N PMČR 2025'!B:B,B59))","v":6},{"$f":"IF(ISERROR(VLOOKUP(B59,'N PMČR 2025'!B:G,6,0)),\"-\",VLOOKUP(B59,'N PMČR 2025'!B:G,6,0))","v":"-"},{"$f":"IF(COUNTIF('N PMRg 2025'!B:B,B59)=0,\"-\",COUNTIF('N PMRg 2025'!B:B,B59))","v":76},{"$f":"IF(ISERROR(VLOOKUP(B59,'N PMRg 2025'!B:G,6,0)),\"-\",VLOOKUP(B59,'N PMRg 2025'!B:G,6,0))","v":1}]
[{"$f":"A59+1","v":42},"-",{"$f":"VLOOKUP(B60,Pilot!A:C,3,0)","v":" "},{"$f":"VLOOKUP(B60,Pilot!A:C,2,0)","v":" "},{"$f":"VLOOKUP(B60,Pilot!A:E,5,0)","v":" "},{"$f":"VLOOKUP(B60,Pilot!A:F,6,0)","v":" "},{"$f":"A60","v":42},null,{"$f":"COUNTIF(B:B,B60)","v":31},{"$f":"IF(ISERROR(VLOOKUP(B60,B:G,6,0)),\"-\",VLOOKUP(B60,B:G,6,0))","v":20},{"$f":"IF(COUNTIF('N PMČR 2025'!B:B,B60)=0,\"-\",COUNTIF('N PMČR 2025'!B:B,B60))","v":6},{"$f":"IF(ISERROR(VLOOKUP(B60,'N PMČR 2025'!B:G,6,0)),\"-\",VLOOKUP(B60,'N PMČR 2025'!B:G,6,0))","v":"-"},{"$f":"IF(COUNTIF('N PMRg 2025'!B:B,B60)=0,\"-\",COUNTIF('N PMRg 2025'!B:B,B60))","v":76},{"$f":"IF(ISERROR(VLOOKUP(B60,'N PMRg 2025'!B:G,6,0)),\"-\",VLOOKUP(B60,'N PMRg 2025'!B:G,6,0))","v":1}]
[{"$f":"A60+1","v":43},"-",{"$f":"VLOOKUP(B61,Pilot!A:C,3,0)","v":" "},{"$f":"VLOOKUP(B61,Pilot!A:C,2,0)","v":" "},{"$f":"VLOOKUP(B61,Pilot!A:E,5,0)","v":" "},{"$f":"VLOOKUP(B61,Pilot!A:F,6,0)","v":" "},{"$f":"A61","v":43},null,{"$f":"COUNTIF(B:B,B61)","v":31},{"$f":"IF(ISERROR(VLOOKUP(B61,B:G,6,0)),\"-\",VLOOKUP(B61,B:G,6,0))","v":20},{"$f":"IF(COUNTIF('N PMČR 2025'!B:B,B61)=0,\"-\",COUNTIF('N PMČR 2025'!B:B,B61))","v":6},{"$f":"IF(ISERROR(VLOOKUP(B61,'N PMČR 2025'!B:G,6,0)),\"-\",VLOOKUP(B61,'N PMČR 2025'!B:G,6,0))","v":"-"},{"$f":"IF(COUNTIF('N PMRg 2025'!B:B,B61)=0,\"-\",COUNTIF('N PMRg 2025'!B:B,B61))","v":76},{"$f":"IF(ISERROR(VLOOKUP(B61,'N PMRg 2025'!B:G,6,0)),\"-\",VLOOKUP(B61,'N PMRg 2025'!B:G,6,0))","v":1}]
[44,"-",{"$f":"VLOOKUP(B62,Pilot!A:C,3,0)","v":" "},{"$f":"VLOOKUP(B62,Pilot!A:C,2,0)","v":" "},{"$f":"VLOOKUP(B62,Pilot!A:E,5,0)","v":" "},{"$f":"VLOOKUP(B62,Pilot!A:F,6,0)","v":" "},{"$f":"A62","v":44},null,{"$f":"COUNTIF(B:B,B62)","v":31},{"$f":"IF(ISERROR(VLOOKUP(B62,B:G,6,0)),\"-\",VLOOKUP(B62,B:G,6,0))","v":20},{"$f":"IF(COUNTIF('N PMČR 2025'!B:B,B62)=0,\"-\",COUNTIF('N PMČR 2025'!B:B,B62))","v":6},{"$f":"IF(ISERROR(VLOOKUP(B62,'N PMČR 2025'!B:G,6,0)),\"-\",VLOOKUP(B62,'N PMČR 2025'!B:G,6,0))","v":"-"},{"$f":"IF(COUNTIF('N PMRg 2025'!B:B,B62)=0,\"-\",COUNTIF('N PMRg 2025'!B:B,B62))","v":76},{"$f":"IF(ISERROR(VLOOKUP(B62,'N PMRg 2025'!B:G,6,0)),\"-\",VLOOKUP(B62,'N PMRg 2025'!B:G,6,0))","v":1}]
[45,"-",{"$f":"VLOOKUP(B63,Pilot!A:C,3,0)","v":" "},{"$f":"VLOOKUP(B63,Pilot!A:C,2,0)","v":" "},{"$f":"VLOOKUP(B63,Pilot!A:E,5,0)","v":" "},{"$f":"VLOOKUP(B63,Pilot!A:F,6,0)","v":" "},{"$f":"A63","v":45},null,{"$f":"COUNTIF(B:B,B63)","v":31},{"$f":"IF(ISERROR(VLOOKUP(B63,B:G,6,0)),\"-\",VLOOKUP(B63,B:G,6,0))","v":20},{"$f":"IF(COUNTIF('N PMČR 2025'!B:B,B63)=0,\"-\",COUNTIF('N PMČR 2025'!B:B,B63))","v":6},{"$f":"IF(ISERROR(VLOOKUP(B63,'N PMČR 2025'!B:G,6,0)),\"-\",VLOOKUP(B63,'N PMČR 2025'!B:G,6,0))","v":"-"},{"$f":"IF(COUNTIF('N PMRg 2025'!B:B,B63)=0,\"-\",COUNTIF('N PMRg 2025'!B:B,B63))","v":76},{"$f":"IF(ISERROR(VLOOKUP(B63,'N PMRg 2025'!B:G,6,0)),\"-\",VLOOKUP(B63,'N PMRg 2025'!B:G,6,0))","v":1}]
[]
["6.7.6.","Statut juniora:"]
[null,"Za juniora jsou považování všichni soutěžící, kteří dovrší maximálně 25 let v kalendářním roce konání soutěže."]

{"sheet":"N PMRg 2025","index":14,"n_rows":90,"n_cols":18,"rows_kept":90,"cut":false,"hidden":false,"merged":[[5,1,5,7],[19,1,19,7],[20,1,20,7],[23,1,23,7]]}
[null,"Nominace na PMRg 2024",null,null,null,null,null,"Kontrola:","Počet","Nominace","Počet","Nominace","Počet","Nominace","M:","F:","M+F:"]
["No","Jméno","Aeroklub","Rok narození","M/F","Junior","No",null,"PMRg","PMRg","PMČR","PMČR","PMČRj","PMČRj",{"$f":"COUNTIF(E:E,\"M\")","v":0},{"$f":"COUNTIF(E:E,\"F\")","v":0},{"$f":"O2+P2","v":0},"S náhradníky"]
["6.8.5.","Nominace na PMRg (dle SŘ ZM11)",null,null,null,null,null,null,null,null,null,null,null,"Celkem řádně nominováno:",{"$f":"O2-COUNTIF(E75:E83,\"M\")","v":0},{"$f":"P2-COUNTIF(E80:E83,\"F\")","v":0},{"$f":"O3+P3","v":0},"Bez náhradníků"]
[null,"Na PMRg nominuje PK minimálně 60 pilotů/pilotek a příslušný počet náhradníků pro stanovená nominační kritéria."]
[null,"Na PMRg jsou nominováni:"]
[null,"Všichni soutěžící z posledního platného PMČR, kteří nepostoupili na PMČR v roce konání PMRg (bez náhradníků):"]
[null,"PMČR 2024 - Toužim - Klub"]
[1,"-",{"$f":"VLOOKUP(B8,Pilot!A:C,3,0)","v":" "},{"$f":"VLOOKUP(B8,Pilot!A:C,2,0)","v":" "},{"$f":"VLOOKUP(B8,Pilot!A:E,5,0)","v":" "},{"$f":"VLOOKUP(B8,Pilot!A:F,6,0)","v":" "},{"$f":"A8","v":1},null,{"$f":"COUNTIF(B:B,B8)","v":76},{"$f":"IF(ISERROR(VLOOKUP(B8,B:G,6,0)),\"-\",VLOOKUP(B8,B:G,6,0))","v":1},{"$f":"IF(COUNTIF('N PMČR 2025'!B:B,B8)=0,\"-\",COUNTIF('N PMČR 2025'!B:B,B8))","v":6},{"$f":"IF(ISERROR(VLOOKUP(B8,'N PMČR 2025'!B:G,6,0)),\"-\",VLOOKUP(B8,'N PMČR 2025'!B:G,6,0))","v":"-"},{"$f":"IF(COUNTIF('N PMČRj 2025'!B:B,B8)=0,\"-\",COUNTIF('N PMČRj 2025'!B:B,B8))","v":31},{"$f":"IF(ISERROR(VLOOKUP(B8,'N PMČRj 2025'!B:G,6,0)),\"-\",VLOOKUP(B8,'N PMČRj 2025'!B:G,6,0))","v":20}]
[{"$f":"A8+1","v":2},"-",{"$f":"VLOOKUP(B9,Pilot!A:C,3,0)","v":" "},{"$f":"VLOOKUP(B9,Pilot!A:C,2,0)","v":" "},{"$f":"VLOOKUP(B9,Pilot!A:E,5,0)","v":" "},{"$f":"VLOOKUP(B9,Pilot!A:F,6,0)","v":" "},{"$f":"A9","v":2},null,76,1,{"$f":"IF(COUNTIF('N PMČR 2025'!B:B,B9)=0,\"-\",COUNTIF('N PMČR 2025'!B:B,B9))","v":6},{"$f":"IF(ISERROR(VLOOKUP(B9,'N PMČR 2025'!B:G,6,0)),\"-\",VLOOKUP(B9,'N PMČR 2025'!B:G,6,0))","v":"-"},{"$f":"IF(COUNTIF('N PMČRj 2025'!B:B,B9)=0,\"-\",COUNTIF('N PMČRj 2025'!B:B,B9))","v":31},{"$f":"IF(ISERROR(VLOOKUP(B9,'N PMČRj 2025'!B:G,6,0)),\"-\",VLOOKUP(B9,'N PMČRj 2025'!B:G,6,0))","v":20}]
[{"$f":"A9+1","v":3},"-",{"$f":"VLOOKUP(B10,Pilot!A:C,3,0)","v":" "},{"$f":"VLOOKUP(B10,Pilot!A:C,2,0)","v":" "},{"$f":"VLOOKUP(B10,Pilot!A:E,5,0)","v":" "},{"$f":"VLOOKUP(B10,Pilot!A:F,6,0)","v":" "},3,null,76,1,{"$f":"IF(COUNTIF('N PMČR 2025'!B:B,B10)=0,\"-\",COUNTIF('N PMČR 2025'!B:B,B10))","v":6},{"$f":"IF(ISERROR(VLOOKUP(B10,'N PMČR 2025'!B:G,6,0)),\"-\",VLOOKUP(B10,'N PMČR 2025'!B:G,6,0))","v":"-"},{"$f":"IF(COUNTIF('N PMČRj 2025'!B:B,B10)=0,\"-\",COUNTIF('N PMČRj 2025'!B:B,B10))","v":31},{"$f":"IF(ISERROR(VLOOKUP(B10,'N PMČRj 2025'!B:G,6,0)),\"-\",VLOOKUP(B10,'N PMČRj 2025'!B:G,6,0))","v":20}]
[4,"-",{"$f":"VLOOKUP(B11,Pilot!A:C,3,0)","v":" "},{"$f":"VLOOKUP(B11,Pilot!A:C,2,0)","v":" "},{"$f":"VLOOKUP(B11,Pilot!A:E,5,0)","v":" "},{"$f":"VLOOKUP(B11,Pilot!A:F,6,0)","v":" "},4,null,76,1,{"$f":"IF(COUNTIF('N PMČR 2025'!B:B,B11)=0,\"-\",COUNTIF('N PMČR 2025'!B:B,B11))","v":6},{"$f":"IF(ISERROR(VLOOKUP(B11,'N PMČR 2025'!B:G,6,0)),\"-\",VLOOKUP(B11,'N PMČR 2025'!B:G,6,0))","v":"-"},{"$f":"IF(COUNTIF('N PMČRj 2025'!B:B,B11)=0,\"-\",COUNTIF('N PMČRj 2025'!B:B,B11))","v":31},{"$f":"IF(ISERROR(VLOOKUP(B11,'N PMČRj 2025'!B:G,6,0)),\"-\",VLOOKUP(B11,'N PMČRj 2025'!B:G,6,0))","v":20}]
[5,"-",{"$f":"VLOOKUP(B12,Pilot!A:C,3,0)","v":" "},{"$f":"VLOOKUP(B12,Pilot!A:C,2,0)","v":" "},{"$f":"VLOOKUP(B12,Pilot!A:E,5,0)","v":" "},{"$f":"VLOOKUP(B12,Pilot!A:F,6,0)","v":" "},{"$f":"A12","v":5},null,76,1,{"$f":"IF(COUNTIF('N PMČR 2025'!B:B,B12)=0,\"-\",COUNTIF('N PMČR 2025'!B:B,B12))","v":6},{"$f":"IF(ISERROR(VLOOKUP(B12,'N PMČR 2025'!B:G,6,0)),\"-\",VLOOKUP(B12,'N PMČR 2025'!B:G,6,0))","v":"-"},{"$f":"IF(COUNTIF('N PMČRj 2025'!B:B,B12)=0,\"-\",COUNTIF('N PMČRj 2025'!B:B,B12))","v":31},{"$f":"IF(ISERROR(VLOOKUP(B12,'N PMČRj 2025'!B:G,6,0)),\"-\",VLOOKUP(B12,'N PMČRj 2025'!B:G,6,0))","v":20}]
[6,"-",{"$f":"VLOOKUP(B13,Pilot!A:C,3,0)","v":" "},{"$f":"VLOOKUP(B13,Pilot!A:C,2,0)","v":" "},{"$f":"VLOOKUP(B13,Pilot!A:E,5,0)","v":" "},{"$f":"VLOOKUP(B13,Pilot!A:F,6,0)","v":" "},6,null,76,1,{"$f":"IF(COUNTIF('N PMČR 2025'!B:B,B13)=0,\"-\",COUNTIF('N PMČR 2025'!B:B,B13))","v":6},{"$f":"IF(ISERROR(VLOOKUP(B13,'N PMČR 2025'!B:G,6,0)),\"-\",VLOOKUP(B13,'N PMČR 2025'!B:G,6,0))","v":"-"},{"$f":"IF(COUNTIF('N PMČRj 2025'!B:B,B13)=0,\"-\",COUNTIF('N PMČRj 2025'!B:B,B13))","v":31},{"$f":"IF(ISERROR(VLOOKUP(B13,'N PMČRj 2025'!B:G,6,0)),\"-\",VLOOKUP(B13,'N PMČRj 2025'!B:G,6,0))","v":20}]
[null,"PMČR 2024 - Toužim - Kombi 15m"]
[{"$f":"MAX(A8:A14)+1","v":7},"-",{"$f":"VLOOKUP(B15,Pilot!A:C,3,0)","v":" "},{"$f":"VLOOKUP(B15,Pilot!A:C,2,0)","v":" "},{"$f":"VLOOKUP(B15,Pilot!A:E,5,0)","v":" "},{"$f":"VLOOKUP(B15,Pilot!A:F,6,0)","v":" "},{"$f":"A15","v":7},null,{"$f":"COUNTIF(B:B,B15)","v":76},{"$f":"IF(ISERROR(VLOOKUP(B15,B:G,6,0)),\"-\",VLOOKUP(B15,B:G,6,0))","v":1},{"$f":"IF(COUNTIF('N PMČR 2025'!B:B,B15)=0,\"-\",COUNTIF('N PMČR 2025'!B:B,B15))","v":6},{"$f":"IF(ISERROR(VLOOKUP(B15,'N PMČR 2025'!B:G,6,0)),\"-\",VLOOKUP(B15,'N PMČR 2025'!B:G,6,0))","v":"-"},{"$f":"IF(COUNTIF('N PMČRj 2025'!B:B,B15)=0,\"-\",COUNTIF('N PMČRj 2025'!B:B,B15))","v":31},{"$f":"IF(ISERROR(VLOOKUP(B15,'N PMČRj 2025'!B:G,6,0)),\"-\",VLOOKUP(B15,'N PMČRj 2025'!B:G,6,0))","v":20}]
[{"$f":"MAX(A9:A15)+1","v":8},"-",{"$f":"VLOOKUP(B16,Pilot!A:C,3,0)","v":" "},{"$f":"VLOOKUP(B16,Pilot!A:C,2,0)","v":" "},{"$f":"VLOOKUP(B16,Pilot!A:E,5,0)","v":" "},{"$f":"VLOOKUP(B16,Pilot!A:F,6,0)","v":" "},{"$f":"A16","v":8},null,{"$f":"COUNTIF(B:B,B16)","v":76},{"$f":"IF(ISERROR(VLOOKUP(B16,B:G,6,0)),\"-\",VLOOKUP(B16,B:G,6,0))","v":1},{"$f":"IF(COUNTIF('N PMČR 2025'!B:B,B16)=0,\"-\",COUNTIF('N PMČR 2025'!B:B,B16))","v":6},{"$f":"IF(ISERROR(VLOOKUP(B16,'N PMČR 2025'!B:G,6,0)),\"-\",VLOOKUP(B16,'N PMČR 2025'!B:G,6,0))","v":"-"},{"$f":"IF(COUNTIF('N PMČRj 2025'!B:B,B16)=0,\"-\",COUNTIF('N PMČRj 2025'!B:B,B16))","v":31},{"$f":"IF(ISERROR(VLOOKUP(B16,'N PMČRj 2025'!B:G,6,0)),\"-\",VLOOKUP(B16,'N PMČRj 2025'!B:G,6,0))","v":20}]
[null,"PMČR 2024 - Toužim - Kombi Open"]
[{"$f":"MAX(A8:A17)+1","v":9},"-",{"$f":"VLOOKUP(B18,Pilot!A:C,3,0)","v":" "},{"$f":"VLOOKUP(B18,Pilot!A:C,2,0)","v":" "},{"$f":"VLOOKUP(B18,Pilot!A:E,5,0)","v":" "},{"$f":"VLOOKUP(B18,Pilot!A:F,6,0)","v":" "},{"$f":"A18","v":9},null,{"$f":"COUNTIF(B:B,B18)","v":76},{"$f":"IF(ISERROR(VLOOKUP(B18,B:G,6,0)),\"-\",VLOOKUP(B18,B:G,6,0))","v":1},{"$f":"IF(COUNTIF('N PMČR 2025'!B:B,B18)=0,\"-\",COUNTIF('N PMČR 2025'!B:B,B18))","v":6},{"$f":"IF(ISERROR(VLOOKUP(B18,'N PMČR 2025'!B:G,6,0)),\"-\",VLOOKUP(B18,'N PMČR 2025'!B:G,6,0))","v":"-"},{"$f":"IF(COUNTIF('N PMČRj 2025'!B:B,B18)=0,\"-\",COUNTIF('N PMČRj 2025'!B:B,B18))","v":31},{"$f":"IF(ISERROR(VLOOKUP(B18,'N PMČRj 2025'!B:G,6,0)),\"-\",VLOOKUP(B18,'N PMČRj 2025'!B:G,6,0))","v":20}]
[{"$f":"MAX(A9:A18)+1","v":10},"-",{"$f":"VLOOKUP(B19,Pilot!A:C,3,0)","v":" "},{"$f":"VLOOKUP(B19,Pilot!A:C,2,0)","v":" "},{"$f":"VLOOKUP(B19,Pilot!A:E,5,0)","v":" "},{"$f":"VLOOKUP(B19,Pilot!A:F,6,0)","v":" "},{"$f":"A19","v":10},null,{"$f":"COUNTIF(B:B,B19)","v":76},{"$f":"IF(ISERROR(VLOOKUP(B19,B:G,6,0)),\"-\",VLOOKUP(B19,B:G,6,0))","v":1},{"$f":"IF(COUNTIF('N PMČR 2025'!B:B,B19)=0,\"-\",COUNTIF('N PMČR 2025'!B:B,B19))","v":6},{"$f":"IF(ISERROR(VLOOKUP(B19,'N PMČR 2025'!B:G,6,0)),\"-\",VLOOKUP(B19,'N PMČR 2025'!B:G,6,0))","v":"-"},{"$f":"IF(COUNTIF('N PMČRj 2025'!B:B,B19)=0,\"-\",COUNTIF('N PMČRj 2025'!B:B,B19))","v":31},{"$f":"IF(ISERROR(VLOOKUP(B19,'N PMČRj 2025'!B:G,6,0)),\"-\",VLOOKUP(B19,'N PMČRj 2025'!B:G,6,0))","v":20}]
[null,"Prvních 10 soutěžících z posledního platného PMRg, kteří nepostoupili na PMČR v roce konání PMRg, v pořadí podle korigovaných bodů ze všech tříd (bez náhradníků):"]
[null,"V případě neplatnosti některé ze soutěžních tříd posledního PMRg budou pro výpočet korigovaných bodů použity výsledky z posledního platného PMRg v dané třídě."]
[null,"PMRg 2024 - Hodkovice - Korigované body"]
["-","-",null,{"$f":"VLOOKUP(B23,Pilot!A:C,2,0)","v":" "},{"$f":"VLOOKUP(B23,Pilot!A:E,5,0)","v":" "},{"$f":"VLOOKUP(B23,Pilot!A:F,6,0)","v":" "},{"$f":"A23","v":"-"},null,{"$f":"COUNTIF(B:B,B23)","v":76},{"$f":"IF(ISERROR(VLOOKUP(B23,B:G,6,0)),\"-\",VLOOKUP(B23,B:G,6,0))","v":1},{"$f":"IF(COUNTIF('N PMČR 2025'!B:B,B23)=0,\"-\",COUNTIF('N PMČR 2025'!B:B,B23))","v":6},{"$f":"IF(ISERROR(VLOOKUP(B23,'N PMČR 2025'!B:G,6,0)),\"-\",VLOOKUP(B23,'N PMČR 2025'!B:G,6,0))","v":"-"},{"$f":"IF(COUNTIF('N PMČRj 2025'!B:B,B23)=0,\"-\",COUNTIF('N PMČRj 2025'!B:B,B23))","v":31},{"$f":"IF(ISERROR(VLOOKUP(B23,'N PMČRj 2025'!B:G,6,0)),\"-\",VLOOKUP(B23,'N PMČRj 2025'!B:G,6,0))","v":20}]
[null,"Soutěžící z regionů Čechy 1, Čechy 2 a Morava v pořadí podle celkového umístění v CPS-INT předcházejícího roku konání PMRg do naplnění celkového počtu minimálně 60 nominovaných (+ 10 náhradníků):"]
[{"$f":"MAX(A8:A24)+1","v":11},"-",{"$f":"VLOOKUP(B25,Pilot!A:C,3,0)","v":" "},{"$f":"VLOOKUP(B25,Pilot!A:C,2,0)","v":" "},{"$f":"VLOOKUP(B25,Pilot!A:E,5,0)","v":" "},{"$f":"VLOOKUP(B25,Pilot!A:F,6,0)","v":" "},{"$f":"A25","v":11},null,{"$f":"COUNTIF(B:B,B25)","v":76},{"$f":"IF(ISERROR(VLOOKUP(B25,B:G,6,0)),\"-\",VLOOKUP(B25,B:G,6,0))","v":1},{"$f":"IF(COUNTIF('N PMČR 2025'!B:B,B25)=0,\"-\",COUNTIF('N PMČR 2025'!B:B,B25))","v":6},{"$f":"IF(ISERROR(VLOOKUP(B25,'N PMČR 2025'!B:G,6,0)),\"-\",VLOOKUP(B25,'N PMČR 2025'!B:G,6,0))","v":"-"},{"$f":"IF(COUNTIF('N PMČRj 2025'!B:B,B25)=0,\"-\",COUNTIF('N PMČRj 2025'!B:B,B25))","v":31},{"$f":"IF(ISERROR(VLOOKUP(B25,'N PMČRj 2025'!B:G,6,0)),\"-\",VLOOKUP(B25,'N PMČRj 2025'!B:G,6,0))","v":20}]
[{"$f":"A25+1","v":12},"-",{"$f":"VLOOKUP(B26,Pilot!A:C,3,0)","v":" "},{"$f":"VLOOKUP(B26,Pilot!A:C,2,0)","v":" "},{"$f":"VLOOKUP(B26,Pilot!A:E,5,0)","v":" "},{"$f":"VLOOKUP(B26,Pilot!A:F,6,0)","v":" "},12,null,76,1,{"$f":"IF(COUNTIF('N PMČR 2025'!B:B,B26)=0,\"-\",COUNTIF('N PMČR 2025'!B:B,B26))","v":6},{"$f":"IF(ISERROR(VLOOKUP(B26,'N PMČR 2025'!B:G,6,0)),\"-\",VLOOKUP(B26,'N PMČR 2025'!B:G,6,0))","v":"-"},{"$f":"IF(COUNTIF('N PMČRj 2025'!B:B,B26)=0,\"-\",COUNTIF('N PMČRj 2025'!B:B,B26))","v":31},{"$f":"IF(ISERROR(VLOOKUP(B26,'N PMČRj 2025'!B:G,6,0)),\"-\",VLOOKUP(B26,'N PMČRj 2025'!B:G,6,0))","v":20}]
[{"$f":"A26+1","v":13},"-",{"$f":"VLOOKUP(B27,Pilot!A:C,3,0)","v":" "},{"$f":"VLOOKUP(B27,Pilot!A:C,2,0)","v":" "},{"$f":"VLOOKUP(B27,Pilot!A:E,5,0)","v":" "},{"$f":"VLOOKUP(B27,Pilot!A:F,6,0)","v":" "},13,null,76,1,{"$f":"IF(COUNTIF('N PMČR 2025'!B:B,B27)=0,\"-\",COUNTIF('N PMČR 2025'!B:B,B27))","v":6},{"$f":"IF(ISERROR(VLOOKUP(B27,'N PMČR 2025'!B:G,6,0)),\"-\",VLOOKUP(B27,'N PMČR 2025'!B:G,6,0))","v":"-"},{"$f":"IF(COUNTIF('N PMČRj 2025'!B:B,B27)=0,\"-\",COUNTIF('N PMČRj 2025'!B:B,B27))","v":31},{"$f":"IF(ISERROR(VLOOKUP(B27,'N PMČRj 2025'!B:G,6,0)),\"-\",VLOOKUP(B27,'N PMČRj 2025'!B:G,6,0))","v":20}]
[14,"-",{"$f":"VLOOKUP(B28,Pilot!A:C,3,0)","v":" "},{"$f":"VLOOKUP(B28,Pilot!A:C,2,0)","v":" "},{"$f":"VLOOKUP(B28,Pilot!A:E,5,0)","v":" "},{"$f":"VLOOKUP(B28,Pilot!A:F,6,0)","v":" "},14,null,76,1,{"$f":"IF(COUNTIF('N PMČR 2025'!B:B,B28)=0,\"-\",COUNTIF('N PMČR 2025'!B:B,B28))","v":6},{"$f":"IF(ISERROR(VLOOKUP(B28,'N PMČR 2025'!B:G,6,0)),\"-\",VLOOKUP(B28,'N PMČR 2025'!B:G,6,0))","v":"-"},{"$f":"IF(COUNTIF('N PMČRj 2025'!B:B,B28)=0,\"-\",COUNTIF('N PMČRj 2025'!B:B,B28))","v":31},{"$f":"IF(ISERROR(VLOOKUP(B28,'N PMČRj 2025'!B:G,6,0)),\"-\",VLOOKUP(B28,'N PMČRj 2025'!B:G,6,0))","v":20}]
[15,"-",{"$f":"VLOOKUP(B29,Pilot!A:C,3,0)","v":" "},{"$f":"VLOOKUP(B29,Pilot!A:C,2,0)","v":" "},{"$f":"VLOOKUP(B29,Pilot!A:E,5,0)","v":" "},{"$f":"VLOOKUP(B29,Pilot!A:F,6,0)","v":" "},15,null,76,1,{"$f":"IF(COUNTIF('N PMČR 2025'!B:B,B29)=0,\"-\",COUNTIF('N PMČR 2025'!B:B,B29))","v":6},{"$f":"IF(ISERROR(VLOOKUP(B29,'N PMČR 2025'!B:G,6,0)),\"-\",VLOOKUP(B29,'N PMČR 2025'!B:G,6,0))","v":"-"},{"$f":"IF(COUNTIF('N PMČRj 2025'!B:B,B29)=0,\"-\",COUNTIF('N PMČRj 2025'!B:B,B29))","v":31},{"$f":"IF(ISERROR(VLOOKUP(B29,'N PMČRj 2025'!B:G,6,0)),\"-\",VLOOKUP(B29,'N PMČRj 2025'!B:G,6,0))","v":20}]
[16,"-",{"$f":"VLOOKUP(B30,Pilot!A:C,3,0)","v":" "},{"$f":"VLOOKUP(B30,Pilot!A:C,2,0)","v":" "},{"$f":"VLOOKUP(B30,Pilot!A:E,5,0)","v":" "},{"$f":"VLOOKUP(B30,Pilot!A:F,6,0)","v":" "},16,null,76,1,{"$f":"IF(COUNTIF('N PMČR 2025'!B:B,B30)=0,\"-\",COUNTIF('N PMČR 2025'!B:B,B30))","v":6},{"$f":"IF(ISERROR(VLOOKUP(B30,'N PMČR 2025'!B:G,6,0)),\"-\",VLOOKUP(B30,'N PMČR 2025'!B:G,6,0))","v":"-"},{"$f":"IF(COUNTIF('N PMČRj 2025'!B:B,B30)=0,\"-\",COUNTIF('N PMČRj 2025'!B:B,B30))","v":31},{"$f":"IF(ISERROR(VLOOKUP(B30,'N PMČRj 2025'!B:G,6,0)),\"-\",VLOOKUP(B30,'N PMČRj 2025'!B:G,6,0))","v":20}]
[17,"-",{"$f":"VLOOKUP(B31,Pilot!A:C,3,0)","v":" "},{"$f":"VLOOKUP(B31,Pilot!A:C,2,0)","v":" "},{"$f":"VLOOKUP(B31,Pilot!A:E,5,0)","v":" "},{"$f":"VLOOKUP(B31,Pilot!A:F,6,0)","v":" "},17,null,76,1,{"$f":"IF(COUNTIF('N PMČR 2025'!B:B,B31)=0,\"-\",COUNTIF('N PMČR 2025'!B:B,B31))","v":6},{"$f":"IF(ISERROR(VLOOKUP(B31,'N PMČR 2025'!B:G,6,0)),\"-\",VLOOKUP(B31,'N PMČR 2025'!B:G,6,0))","v":"-"},{"$f":"IF(COUNTIF('N PMČRj 2025'!B:B,B31)=0,\"-\",COUNTIF('N PMČRj 2025'!B:B,B31))","v":31},{"$f":"IF(ISERROR(VLOOKUP(B31,'N PMČRj 2025'!B:G,6,0)),\"-\",VLOOKUP(B31,'N PMČRj 2025'!B:G,6,0))","v":20}]
[18,"-",{"$f":"VLOOKUP(B32,Pilot!A:C,3,0)","v":" "},{"$f":"VLOOKUP(B32,Pilot!A:C,2,0)","v":" "},{"$f":"VLOOKUP(B32,Pilot!A:E,5,0)","v":" "},{"$f":"VLOOKUP(B32,Pilot!A:F,6,0)","v":" "},18,null,76,1,{"$f":"IF(COUNTIF('N PMČR 2025'!B:B,B32)=0,\"-\",COUNTIF('N PMČR 2025'!B:B,B32))","v":6},{"$f":"IF(ISERROR(VLOOKUP(B32,'N PMČR 2025'!B:G,6,0)),\"-\",VLOOKUP(B32,'N PMČR 2025'!B:G,6,0))","v":"-"},{"$f":"IF(COUNTIF('N PMČRj 2025'!B:B,B32)=0,\"-\",COUNTIF('N PMČRj 2025'!B:B,B32))","v":31},{"$f":"IF(ISERROR(VLOOKUP(B32,'N PMČRj 2025'!B:G,6,0)),\"-\",VLOOKUP(B32,'N PMČRj 2025'!B:G,6,0))","v":20}]
[19,"-",{"$f":"VLOOKUP(B33,Pilot!A:C,3,0)","v":" "},{"$f":"VLOOKUP(B33,Pilot!A:C,2,0)","v":" "},{"$f":"VLOOKUP(B33,Pilot!A:E,5,0)","v":" "},{"$f":"VLOOKUP(B33,Pilot!A:F,6,0)","v":" "},19,null,76,1,{"$f":"IF(COUNTIF('N PMČR 2025'!B:B,B33)=0,\"-\",COUNTIF('N PMČR 2025'!B:B,B33))","v":6},{"$f":"IF(ISERROR(VLOOKUP(B33,'N PMČR 2025'!B:G,6,0)),\"-\",VLOOKUP(B33,'N PMČR 2025'!B:G,6,0))","v":"-"},{"$f":"IF(COUNTIF('N PMČRj 2025'!B:B,B33)=0,\"-\",COUNTIF('N PMČRj 2025'!B:B,B33))","v":31},{"$f":"IF(ISERROR(VLOOKUP(B33,'N PMČRj 2025'!B:G,6,0)),\"-\",VLOOKUP(B33,'N PMČRj 2025'!B:G,6,0))","v":20}]
[20,"-",{"$f":"VLOOKUP(B34,Pilot!A:C,3,0)","v":" "},{"$f":"VLOOKUP(B34,Pilot!A:C,2,0)","v":" "},{"$f":"VLOOKUP(B34,Pilot!A:E,5,0)","v":" "},{"$f":"VLOOKUP(B34,Pilot!A:F,6,0)","v":" "},20,null,76,1,{"$f":"IF(COUNTIF('N PMČR 2025'!B:B,B34)=0,\"-\",COUNTIF('N PMČR 2025'!B:B,B34))","v":6},{"$f":"IF(ISERROR(VLOOKUP(B34,'N PMČR 2025'!B:G,6,0)),\"-\",VLOOKUP(B34,'N PMČR 2025'!B:G,6,0))","v":"-"},{"$f":"IF(COUNTIF('N PMČRj 2025'!B:B,B34)=0,\"-\",COUNTIF('N PMČRj 2025'!B:B,B34))","v":31},{"$f":"IF(ISERROR(VLOOKUP(B34,'N PMČRj 2025'!B:G,6,0)),\"-\",VLOOKUP(B34,'N PMČRj 2025'!B:G,6,0))","v":20}]
[21,"-",{"$f":"VLOOKUP(B35,Pilot!A:C,3,0)","v":" "},{"$f":"VLOOKUP(B35,Pilot!A:C,2,0)","v":" "},{"$f":"VLOOKUP(B35,Pilot!A:E,5,0)","v":" "},{"$f":"VLOOKUP(B35,Pilot!A:F,6,0)","v":" "},21,null,76,1,{"$f":"IF(COUNTIF('N PMČR 2025'!B:B,B35)=0,\"-\",COUNTIF('N PMČR 2025'!B:B,B35))","v":6},{"$f":"IF(ISERROR(VLOOKUP(B35,'N PMČR 2025'!B:G,6,0)),\"-\",VLOOKUP(B35,'N PMČR 2025'!B:G,6,0))","v":"-"},{"$f":"IF(COUNTIF('N PMČRj 2025'!B:B,B35)=0,\"-\",COUNTIF('N PMČRj 2025'!B:B,B35))","v":31},{"$f":"IF(ISERROR(VLOOKUP(B35,'N PMČRj 2025'!B:G,6,0)),\"-\",VLOOKUP(B35,'N PMČRj 2025'!B:G,6,0))","v":20}]
[22,"-",{"$f":"VLOOKUP(B36,Pilot!A:C,3,0)","v":" "},{"$f":"VLOOKUP(B36,Pilot!A:C,2,0)","v":" "},{"$f":"VLOOKUP(B36,Pilot!A:E,5,0)","v":" "},{"$f":"VLOOKUP(B36,Pilot!A:F,6,0)","v":" "},22,null,76,1,{"$f":"IF(COUNTIF('N PMČR 2025'!B:B,B36)=0,\"-\",COUNTIF('N PMČR 2025'!B:B,B36))","v":6},{"$f":"IF(ISERROR(VLOOKUP(B36,'N PMČR 2025'!B:G,6,0)),\"-\",VLOOKUP(B36,'N PMČR 2025'!B:G,6,0))","v":"-"},{"$f":"IF(COUNTIF('N PMČRj 2025'!B:B,B36)=0,\"-\",COUNTIF('N PMČRj 2025'!B:B,B36))","v":31},{"$f":"IF(ISERROR(VLOOKUP(B36,'N PMČRj 2025'!B:G,6,0)),\"-\",VLOOKUP(B36,'N PMČRj 2025'!B:G,6,0))","v":20}]
[23,"-",{"$f":"VLOOKUP(B37,Pilot!A:C,3,0)","v":" "},{"$f":"VLOOKUP(B37,Pilot!A:C,2,0)","v":" "},{"$f":"VLOOKUP(B37,Pilot!A:E,5,0)","v":" "},{"$f":"VLOOKUP(B37,Pilot!A:F,6,0)","v":" "},23,null,76,1,{"$f":"IF(COUNTIF('N PMČR 2025'!B:B,B37)=0,\"-\",COUNTIF('N PMČR 2025'!B:B,B37))","v":6},{"$f":"IF(ISERROR(VLOOKUP(B37,'N PMČR 2025'!B:G,6,0)),\"-\",VLOOKUP(B37,'N PMČR 2025'!B:G,6,0))","v":"-"},{"$f":"IF(COUNTIF('N PMČRj 2025'!B:B,B37)=0,\"-\",COUNTIF('N PMČRj 2025'!B:B,B37))","v":31},{"$f":"IF(ISERROR(VLOOKUP(B37,'N PMČRj 2025'!B:G,6,0)),\"-\",VLOOKUP(B37,'N PMČRj 2025'!B:G,6,0))","v":20}]
[24,"-",{"$f":"VLOOKUP(B38,Pilot!A:C,3,0)","v":" "},{"$f":"VLOOKUP(B38,Pilot!A:C,2,0)","v":" "},{"$f":"VLOOKUP(B38,Pilot!A:E,5,0)","v":" "},{"$f":"VLOOKUP(B38,Pilot!A:F,6,0)","v":" "},24,null,76,1,{"$f":"IF(COUNTIF('N PMČR 2025'!B:B,B38)=0,\"-\",COUNTIF('N PMČR 2025'!B:B,B38))","v":6},{"$f":"IF(ISERROR(VLOOKUP(B38,'N PMČR 2025'!B:G,6,0)),\"-\",VLOOKUP(B38,'N PMČR 2025'!B:G,6,0))","v":"-"},{"$f":"IF(COUNTIF('N PMČRj 2025'!B:B,B38)=0,\"-\",COUNTIF('N PMČRj 2025'!B:B,B38))","v":31},{"$f":"IF(ISERROR(VLOOKUP(B38,'N PMČRj 2025'!B:G,6,0)),\"-\",VLOOKUP(B38,'N PMČRj 2025'!B:G,6,0))","v":20}]
[25,"-",{"$f":"VLOOKUP(B39,Pilot!A:C,3,0)","v":" "},{"$f":"VLOOKUP(B39,Pilot!A:C,2,0)","v":" "},{"$f":"VLOOKUP(B39,Pilot!A:E,5,0)","v":" "},{"$f":"VLOOKUP(B39,Pilot!A:F,6,0)","v":" "},25,null,76,1,{"$f":"IF(COUNTIF('N PMČR 2025'!B:B,B39)=0,\"-\",COUNTIF('N PMČR 2025'!B:B,B39))","v":6},{"$f":"IF(ISERROR(VLOOKUP(B39,'N PMČR 2025'!B:G,6,0)),\"-\",VLOOKUP(B39,'N PMČR 2025'!B:G,6,0))","v":"-"},{"$f":"IF(COUNTIF('N PMČRj 2025'!B:B,B39)=0,\"-\",COUNTIF('N PMČRj 2025'!B:B,B39))","v":31},{"$f":"IF(ISERROR(VLOOKUP(B39,'N PMČRj 2025'!B:G,6,0)),\"-\",VLOOKUP(B39,'N PMČRj 2025'!B:G,6,0))","v":20}]
[26,"-",{"$f":"VLOOKUP(B40,Pilot!A:C,3,0)","v":" "},{"$f":"VLOOKUP(B40,Pilot!A:C,2,0)","v":" "},{"$f":"VLOOKUP(B40,Pilot!A:E,5,0)","v":" "},{"$f":"VLOOKUP(B40,Pilot!A:F,6,0)","v":" "},26,null,76,1,{"$f":"IF(COUNTIF('N PMČR 2025'!B:B,B40)=0,\"-\",COUNTIF('N PMČR 2025'!B:B,B40))","v":6},{"$f":"IF(ISERROR(VLOOKUP(B40,'N PMČR 2025'!B:G,6,0)),\"-\",VLOOKUP(B40,'N PMČR 2025'!B:G,6,0))","v":"-"},{"$f":"IF(COUNTIF('N PMČRj 2025'!B:B,B40)=0,\"-\",COUNTIF('N PMČRj 2025'!B:B,B40))","v":31},{"$f":"IF(ISERROR(VLOOKUP(B40,'N PMČRj 2025'!B:G,6,0)),\"-\",VLOOKUP(B40,'N PMČRj 2025'!B:G,6,0))","v":20}]
[27,"-",{"$f":"VLOOKUP(B41,Pilot!A:C,3,0)","v":" "},{"$f":"VLOOKUP(B41,Pilot!A:C,2,0)","v":" "},{"$f":"VLOOKUP(B41,Pilot!A:E,5,0)","v":" "},{"$f":"VLOOKUP(B41,Pilot!A:F,6,0)","v":" "},27,null,76,1,{"$f":"IF(COUNTIF('N PMČR 2025'!B:B,B41)=0,\"-\",COUNTIF('N PMČR 2025'!B:B,B41))","v":6},{"$f":"IF(ISERROR(VLOOKUP(B41,'N PMČR 2025'!B:G,6,0)),\"-\",VLOOKUP(B41,'N PMČR 2025'!B:G,6,0))","v":"-"},{"$f":"IF(COUNTIF('N PMČRj 2025'!B:B,B41)=0,\"-\",COUNTIF('N PMČRj 2025'!B:B,B41))","v":31},{"$f":"IF(ISERROR(VLOOKUP(B41,'N PMČRj 2025'!B:G,6,0)),\"-\",VLOOKUP(B41,'N PMČRj 2025'!B:G,6,0))","v":20}]
[28,"-",{"$f":"VLOOKUP(B42,Pilot!A:C,3,0)","v":" "},{"$f":"VLOOKUP(B42,Pilot!A:C,2,0)","v":" "},{"$f":"VLOOKUP(B42,Pilot!A:E,5,0)","v":" "},{"$f":"VLOOKUP(B42,Pilot!A:F,6,0)","v":" "},28,null,76,1,{"$f":"IF(COUNTIF('N PMČR 2025'!B:B,B42)=0,\"-\",COUNTIF('N PMČR 2025'!B:B,B42))","v":6},{"$f":"IF(ISERROR(VLOOKUP(B42,'N PMČR 2025'!B:G,6,0)),\"-\",VLOOKUP(B42,'N PMČR 2025'!B:G,6,0))","v":"-"},{"$f":"IF(COUNTIF('N PMČRj 2025'!B:B,B42)=0,\"-\",COUNTIF('N PMČRj 2025'!B:B,B42))","v":31},{"$f":"IF(ISERROR(VLOOKUP(B42,'N PMČRj 2025'!B:G,6,0)),\"-\",VLOOKUP(B42,'N PMČRj 2025'!B:G,6,0))","v":20}]
[29,"-",{"$f":"VLOOKUP(B43,Pilot!A:C,3,0)","v":" "},{"$f":"VLOOKUP(B43,Pilot!A:C,2,0)","v":" "},{"$f":"VLOOKUP(B43,Pilot!A:E,5,0)","v":" "},{"$f":"VLOOKUP(B43,Pilot!A:F,6,0)","v":" "},29,null,76,1,{"$f":"IF(COUNTIF('N PMČR 2025'!B:B,B43)=0,\"-\",COUNTIF('N PMČR 2025'!B:B,B43))","v":6},{"$f":"IF(ISERROR(VLOOKUP(B43,'N PMČR 2025'!B:G,6,0)),\"-\",VLOOKUP(B43,'N PMČR 2025'!B:G,6,0))","v":"-"},{"$f":"IF(COUNTIF('N PMČRj 2025'!B:B,B43)=0,\"-\",COUNTIF('N PMČRj 2025'!B:B,B43))","v":31},{"$f":"IF(ISERROR(VLOOKUP(B43,'N PMČRj 2025'!B:G,6,0)),\"-\",VLOOKUP(B43,'N PMČRj 2025'!B:G,6,0))","v":20}]
[30,"-",{"$f":"VLOOKUP(B44,Pilot!A:C,3,0)","v":" "},{"$f":"VLOOKUP(B44,Pilot!A:C,2,0)","v":" "},{"$f":"VLOOKUP(B44,Pilot!A:E,5,0)","v":" "},{"$f":"VLOOKUP(B44,Pilot!A:F,6,0)","v":" "},{"$f":"A44","v":30},null,76,1,{"$f":"IF(COUNTIF('N PMČR 2025'!B:B,B44)=0,\"-\",COUNTIF('N PMČR 2025'!B:B,B44))","v":6},{"$f":"IF(ISERROR(VLOOKUP(B44,'N PMČR 2025'!B:G,6,0)),\"-\",VLOOKUP(B44,'N PMČR 2025'!B:G,6,0))","v":"-"},{"$f":"IF(COUNTIF('N PMČRj 2025'!B:B,B44)=0,\"-\",COUNTIF('N PMČRj 2025'!B:B,B44))","v":31},{"$f":"IF(ISERROR(VLOOKUP(B44,'N PMČRj 2025'!B:G,6,0)),\"-\",VLOOKUP(B44,'N PMČRj 2025'!B:G,6,0))","v":20}]
[31,"-",{"$f":"VLOOKUP(B45,Pilot!A:C,3,0)","v":" "},{"$f":"VLOOKUP(B45,Pilot!A:C,2,0)","v":" "},{"$f":"VLOOKUP(B45,Pilot!A:E,5,0)","v":" "},{"$f":"VLOOKUP(B45,Pilot!A:F,6,0)","v":" "},31,null,76,1,{"$f":"IF(COUNTIF('N PMČR 2025'!B:B,B45)=0,\"-\",COUNTIF('N PMČR 2025'!B:B,B45))","v":6},{"$f":"IF(ISERROR(VLOOKUP(B45,'N PMČR 2025'!B:G,6,0)),\"-\",VLOOKUP(B45,'N PMČR 2025'!B:G,6,0))","v":"-"},{"$f":"IF(COUNTIF('N PMČRj 2025'!B:B,B45)=0,\"-\",COUNTIF('N PMČRj 2025'!B:B,B45))","v":31},{"$f":"IF(ISERROR(VLOOKUP(B45,'N PMČRj 2025'!B:G,6,0)),\"-\",VLOOKUP(B45,'N PMČRj 2025'!B:G,6,0))","v":20}]
[32,"-",{"$f":"VLOOKUP(B46,Pilot!A:C,3,0)","v":" "},{"$f":"VLOOKUP(B46,Pilot!A:C,2,0)","v":" "},{"$f":"VLOOKUP(B46,Pilot!A:E,5,0)","v":" "},{"$f":"VLOOKUP(B46,Pilot!A:F,6,0)","v":" "},32,null,76,1,{"$f":"IF(COUNTIF('N PMČR 2025'!B:B,B46)=0,\"-\",COUNTIF('N PMČR 2025'!B:B,B46))","v":6},{"$f":"IF(ISERROR(VLOOKUP(B46,'N PMČR 2025'!B:G,6,0)),\"-\",VLOOKUP(B46,'N PMČR 2025'!B:G,6,0))","v":"-"},{"$f":"IF(COUNTIF('N PMČRj 2025'!B:B,B46)=0,\"-\",COUNTIF('N PMČRj 2025'!B:B,B46))","v":31},{"$f":"IF(ISERROR(VLOOKUP(B46,'N PMČRj 2025'!B:G,6,0)),\"-\",VLOOKUP(B46,'N PMČRj 2025'!B:G,6,0))","v":20}]
[33,"-",{"$f":"VLOOKUP(B47,Pilot!A:C,3,0)","v":" "},{"$f":"VLOOKUP(B47,Pilot!A:C,2,0)","v":" "},{"$f":"VLOOKUP(B47,Pilot!A:E,5,0)","v":" "},{"$f":"VLOOKUP(B47,Pilot!A:F,6,0)","v":" "},33,null,76,1,{"$f":"IF(COUNTIF('N PMČR 2025'!B:B,B47)=0,\"-\",COUNTIF('N PMČR 2025'!B:B,B47))","v":6},{"$f":"IF(ISERROR(VLOOKUP(B47,'N PMČR 2025'!B:G,6,0)),\"-\",VLOOKUP(B47,'N PMČR 2025'!B:G,6,0))","v":"-"},{"$f":"IF(COUNTIF('N PMČRj 2025'!B:B,B47)=0,\"-\",COUNTIF('N PMČRj 2025'!B:B,B47))","v":31},{"$f":"IF(ISERROR(VLOOKUP(B47,'N PMČRj 2025'!B:G,6,0)),\"-\",VLOOKUP(B47,'N PMČRj 2025'!B:G,6,0))","v":20}]
[34,"-",{"$f":"VLOOKUP(B48,Pilot!A:C,3,0)","v":" "},{"$f":"VLOOKUP(B48,Pilot!A:C,2,0)","v":" "},{"$f":"VLOOKUP(B48,Pilot!A:E,5,0)","v":" "},{"$f":"VLOOKUP(B48,Pilot!A:F,6,0)","v":" "},34,null,76,1,{"$f":"IF(COUNTIF('N PMČR 2025'!B:B,B48)=0,\"-\",COUNTIF('N PMČR 2025'!B:B,B48))","v":6},{"$f":"IF(ISERROR(VLOOKUP(B48,'N PMČR 2025'!B:G,6,0)),\"-\",VLOOKUP(B48,'N PMČR 2025'!B:G,6,0))","v":"-"},{"$f":"IF(COUNTIF('N PMČRj 2025'!B:B,B48)=0,\"-\",COUNTIF('N PMČRj 2025'!B:B,B48))","v":31},{"$f":"IF(ISERROR(VLOOKUP(B48,'N PMČRj 2025'!B:G,6,0)),\"-\",VLOOKUP(B48,'N PMČRj 2025'!B:G,6,0))","v":20}]
[35,"-",{"$f":"VLOOKUP(B49,Pilot!A:C,3,0)","v":" "},{"$f":"VLOOKUP(B49,Pilot!A:C,2,0)","v":" "},{"$f":"VLOOKUP(B49,Pilot!A:E,5,0)","v":" "},{"$f":"VLOOKUP(B49,Pilot!A:F,6,0)","v":" "},35,null,76,1,{"$f":"IF(COUNTIF('N PMČR 2025'!B:B,B49)=0,\"-\",COUNTIF('N PMČR 2025'!B:B,B49))","v":6},{"$f":"IF(ISERROR(VLOOKUP(B49,'N PMČR 2025'!B:G,6,0)),\"-\",VLOOKUP(B49,'N PMČR 2025'!B:G,6,0))","v":"-"},{"$f":"IF(COUNTIF('N PMČRj 2025'!B:B,B49)=0,\"-\",COUNTIF('N PMČRj 2025'!B:B,B49))","v":31},{"$f":"IF(ISERROR(VLOOKUP(B49,'N PMČRj 2025'!B:G,6,0)),\"-\",VLOOKUP(B49,'N PMČRj 2025'!B:G,6,0))","v":20}]
[36,"-",{"$f":"VLOOKUP(B50,Pilot!A:C,3,0)","v":" "},{"$f":"VLOOKUP(B50,Pilot!A:C,2,0)","v":" "},{"$f":"VLOOKUP(B50,Pilot!A:E,5,0)","v":" "},{"$f":"VLOOKUP(B50,Pilot!A:F,6,0)","v":" "},{"$f":"A50","v":36},null,76,1,{"$f":"IF(COUNTIF('N PMČR 2025'!B:B,B50)=0,\"-\",COUNTIF('N PMČR 2025'!B:B,B50))","v":6},{"$f":"IF(ISERROR(VLOOKUP(B50,'N PMČR 2025'!B:G,6,0)),\"-\",VLOOKUP(B50,'N PMČR 2025'!B:G,6,0))","v":"-"},{"$f":"IF(COUNTIF('N PMČRj 2025'!B:B,B50)=0,\"-\",COUNTIF('N PMČRj 2025'!B:B,B50))","v":31},{"$f":"IF(ISERROR(VLOOKUP(B50,'N PMČRj 2025'!B:G,6,0)),\"-\",VLOOKUP(B50,'N PMČRj 2025'!B:G,6,0))","v":20}]
[37,"-",{"$f":"VLOOKUP(B51,Pilot!A:C,3,0)","v":" "},{"$f":"VLOOKUP(B51,Pilot!A:C,2,0)","v":" "},{"$f":"VLOOKUP(B51,Pilot!A:E,5,0)","v":" "},{"$f":"VLOOKUP(B51,Pilot!A:F,6,0)","v":" "},37,null,76,1,{"$f":"IF(COUNTIF('N PMČR 2025'!B:B,B51)=0,\"-\",COUNTIF('N PMČR 2025'!B:B,B51))","v":6},{"$f":"IF(ISERROR(VLOOKUP(B51,'N PMČR 2025'!B:G,6,0)),\"-\",VLOOKUP(B51,'N PMČR 2025'!B:G,6,0))","v":"-"},{"$f":"IF(COUNTIF('N PMČRj 2025'!B:B,B51)=0,\"-\",COUNTIF('N PMČRj 2025'!B:B,B51))","v":31},{"$f":"IF(ISERROR(VLOOKUP(B51,'N PMČRj 2025'!B:G,6,0)),\"-\",VLOOKUP(B51,'N PMČRj 2025'!B:G,6,0))","v":20}]
[38,"-",{"$f":"VLOOKUP(B52,Pilot!A:C,3,0)","v":" "},{"$f":"VLOOKUP(B52,Pilot!A:C,2,0)","v":" "},{"$f":"VLOOKUP(B52,Pilot!A:E,5,0)","v":" "},{"$f":"VLOOKUP(B52,Pilot!A:F,6,0)","v":" "},38,null,76,1,{"$f":"IF(COUNTIF('N PMČR 2025'!B:B,B52)=0,\"-\",COUNTIF('N PMČR 2025'!B:B,B52))","v":6},{"$f":"IF(ISERROR(VLOOKUP(B52,'N PMČR 2025'!B:G,6,0)),\"-\",VLOOKUP(B52,'N PMČR 2025'!B:G,6,0))","v":"-"},{"$f":"IF(COUNTIF('N PMČRj 2025'!B:B,B52)=0,\"-\",COUNTIF('N PMČRj 2025'!B:B,B52))","v":31},{"$f":"IF(ISERROR(VLOOKUP(B52,'N PMČRj 2025'!B:G,6,0)),\"-\",VLOOKUP(B52,'N PMČRj 2025'!B:G,6,0))","v":20}]
[39,"-",{"$f":"VLOOKUP(B53,Pilot!A:C,3,0)","v":" "},{"$f":"VLOOKUP(B53,Pilot!A:C,2,0)","v":" "},{"$f":"VLOOKUP(B53,Pilot!A:E,5,0)","v":" "},{"$f":"VLOOKUP(B53,Pilot!A:F,6,0)","v":" "},39,null,76,1,{"$f":"IF(COUNTIF('N PMČR 2025'!B:B,B53)=0,\"-\",COUNTIF('N PMČR 2025'!B:B,B53))","v":6},{"$f":"IF(ISERROR(VLOOKUP(B53,'N PMČR 2025'!B:G,6,0)),\"-\",VLOOKUP(B53,'N PMČR 2025'!B:G,6,0))","v":"-"},{"$f":"IF(COUNTIF('N PMČRj 2025'!B:B,B53)=0,\"-\",COUNTIF('N PMČRj 2025'!B:B,B53))","v":31},{"$f":"IF(ISERROR(VLOOKUP(B53,'N PMČRj 2025'!B:G,6,0)),\"-\",VLOOKUP(B53,'N PMČRj 2025'!B:G,6,0))","v":20}]
[40,"-",{"$f":"VLOOKUP(B54,Pilot!A:C,3,0)","v":" "},{"$f":"VLOOKUP(B54,Pilot!A:C,2,0)","v":" "},{"$f":"VLOOKUP(B54,Pilot!A:E,5,0)","v":" "},{"$f":"VLOOKUP(B54,Pilot!A:F,6,0)","v":" "},40,null,76,1,{"$f":"IF(COUNTIF('N PMČR 2025'!B:B,B54)=0,\"-\",COUNTIF('N PMČR 2025'!B:B,B54))","v":6},{"$f":"IF(ISERROR(VLOOKUP(B54,'N PMČR 2025'!B:G,6,0)),\"-\",VLOOKUP(B54,'N PMČR 2025'!B:G,6,0))","v":"-"},{"$f":"IF(COUNTIF('N PMČRj 2025'!B:B,B54)=0,\"-\",COUNTIF('N PMČRj 2025'!B:B,B54))","v":31},{"$f":"IF(ISERROR(VLOOKUP(B54,'N PMČRj 2025'!B:G,6,0)),\"-\",VLOOKUP(B54,'N PMČRj 2025'!B:G,6,0))","v":20}]
[41,"-",{"$f":"VLOOKUP(B55,Pilot!A:C,3,0)","v":" "},{"$f":"VLOOKUP(B55,Pilot!A:C,2,0)","v":" "},{"$f":"VLOOKUP(B55,Pilot!A:E,5,0)","v":" "},{"$f":"VLOOKUP(B55,Pilot!A:F,6,0)","v":" "},{"$f":"A55","v":41},null,76,1,{"$f":"IF(COUNTIF('N PMČR 2025'!B:B,B55)=0,\"-\",COUNTIF('N PMČR 2025'!B:B,B55))","v":6},{"$f":"IF(ISERROR(VLOOKUP(B55,'N PMČR 2025'!B:G,6,0)),\"-\",VLOOKUP(B55,'N PMČR 2025'!B:G,6,0))","v":"-"},{"$f":"IF(COUNTIF('N PMČRj 2025'!B:B,B55)=0,\"-\",COUNTIF('N PMČRj 2025'!B:B,B55))","v":31},{"$f":"IF(ISERROR(VLOOKUP(B55,'N PMČRj 2025'!B:G,6,0)),\"-\",VLOOKUP(B55,'N PMČRj 2025'!B:G,6,0))","v":20}]
[42,"-",{"$f":"VLOOKUP(B56,Pilot!A:C,3,0)","v":" "},{"$f":"VLOOKUP(B56,Pilot!A:C,2,0)","v":" "},{"$f":"VLOOKUP(B56,Pilot!A:E,5,0)","v":" "},{"$f":"VLOOKUP(B56,Pilot!A:F,6,0)","v":" "},42,null,76,1,{"$f":"IF(COUNTIF('N PMČR 2025'!B:B,B56)=0,\"-\",COUNTIF('N PMČR 2025'!B:B,B56))","v":6},{"$f":"IF(ISERROR(VLOOKUP(B56,'N PMČR 2025'!B:G,6,0)),\"-\",VLOOKUP(B56,'N PMČR 2025'!B:G,6,0))","v":"-"},{"$f":"IF(COUNTIF('N PMČRj 2025'!B:B,B56)=0,\"-\",COUNTIF('N PMČRj 2025'!B:B,B56))","v":31},{"$f":"IF(ISERROR(VLOOKUP(B56,'N PMČRj 2025'!B:G,6,0)),\"-\",VLOOKUP(B56,'N PMČRj 2025'!B:G,6,0))","v":20}]
[43,"-",{"$f":"VLOOKUP(B57,Pilot!A:C,3,0)","v":" "},{"$f":"VLOOKUP(B57,Pilot!A:C,2,0)","v":" "},{"$f":"VLOOKUP(B57,Pilot!A:E,5,0)","v":" "},{"$f":"VLOOKUP(B57,Pilot!A:F,6,0)","v":" "},43,null,{"$f":"COUNTIF(B:B,B57)","v":76},{"$f":"IF(ISERROR(VLOOKUP(B57,B:G,6,0)),\"-\",VLOOKUP(B57,B:G,6,0))","v":1},{"$f":"IF(COUNTIF('N PMČR 2025'!B:B,B57)=0,\"-\",COUNTIF('N PMČR 2025'!B:B,B57))","v":6},{"$f":"IF(ISERROR(VLOOKUP(B57,'N PMČR 2025'!B:G,6,0)),\"-\",VLOOKUP(B57,'N PMČR 2025'!B:G,6,0))","v":"-"},{"$f":"IF(COUNTIF('N PMČRj 2025'!B:B,B57)=0,\"-\",COUNTIF('N PMČRj 2025'!B:B,B57))","v":31},{"$f":"IF(ISERROR(VLOOKUP(B57,'N PMČRj 2025'!B:G,6,0)),\"-\",VLOOKUP(B57,'N PMČRj 2025'!B:G,6,0))","v":20}]
[44,"-",{"$f":"VLOOKUP(B58,Pilot!A:C,3,0)","v":" "},{"$f":"VLOOKUP(B58,Pilot!A:C,2,0)","v":" "},{"$f":"VLOOKUP(B58,Pilot!A:E,5,0)","v":" "},{"$f":"VLOOKUP(B58,Pilot!A:F,6,0)","v":" "},44,null,76,1,{"$f":"IF(COUNTIF('N PMČR 2025'!B:B,B58)=0,\"-\",COUNTIF('N PMČR 2025'!B:B,B58))","v":6},{"$f":"IF(ISERROR(VLOOKUP(B58,'N PMČR 2025'!B:G,6,0)),\"-\",VLOOKUP(B58,'N PMČR 2025'!B:G,6,0))","v":"-"},{"$f":"IF(COUNTIF('N PMČRj 2025'!B:B,B58)=0,\"-\",COUNTIF('N PMČRj 2025'!B:B,B58))","v":31},{"$f":"IF(ISERROR(VLOOKUP(B58,'N PMČRj 2025'!B:G,6,0)),\"-\",VLOOKUP(B58,'N PMČRj 2025'!B:G,6,0))","v":20}]
[45,"-",{"$f":"VLOOKUP(B59,Pilot!A:C,3,0)","v":" "},{"$f":"VLOOKUP(B59,Pilot!A:C,2,0)","v":" "},{"$f":"VLOOKUP(B59,Pilot!A:E,5,0)","v":" "},{"$f":"VLOOKUP(B59,Pilot!A:F,6,0)","v":" "},45,null,76,1,{"$f":"IF(COUNTIF('N PMČR 2025'!B:B,B59)=0,\"-\",COUNTIF('N PMČR 2025'!B:B,B59))","v":6},{"$f":"IF(ISERROR(VLOOKUP(B59,'N PMČR 2025'!B:G,6,0)),\"-\",VLOOKUP(B59,'N PMČR 2025'!B:G,6,0))","v":"-"},{"$f":"IF(COUNTIF('N PMČRj 2025'!B:B,B59)=0,\"-\",COUNTIF('N PMČRj 2025'!B:B,B59))","v":31},{"$f":"IF(ISERROR(VLOOKUP(B59,'N PMČRj 2025'!B:G,6,0)),\"-\",VLOOKUP(B59,'N PMČRj 2025'!B:G,6,0))","v":20}]
[46,"-",{"$f":"VLOOKUP(B60,Pilot!A:C,3,0)","v":" "},{"$f":"VLOOKUP(B60,Pilot!A:C,2,0)","v":" "},{"$f":"VLOOKUP(B60,Pilot!A:E,5,0)","v":" "},{"$f":"VLOOKUP(B60,Pilot!A:F,6,0)","v":" "},46,null,76,1,{"$f":"IF(COUNTIF('N PMČR 2025'!B:B,B60)=0,\"-\",COUNTIF('N PMČR 2025'!B:B,B60))","v":6},{"$f":"IF(ISERROR(VLOOKUP(B60,'N PMČR 2025'!B:G,6,0)),\"-\",VLOOKUP(B60,'N PMČR 2025'!B:G,6,0))","v":"-"},{"$f":"IF(COUNTIF('N PMČRj 2025'!B:B,B60)=0,\"-\",COUNTIF('N PMČRj 2025'!B:B,B60))","v":31},{"$f":"IF(ISERROR(VLOOKUP(B60,'N PMČRj 2025'!B:G,6,0)),\"-\",VLOOKUP(B60,'N PMČRj 2025'!B:G,6,0))","v":20}]
[47,"-",{"$f":"VLOOKUP(B61,Pilot!A:C,3,0)","v":" "},{"$f":"VLOOKUP(B61,Pilot!A:C,2,0)","v":" "},{"$f":"VLOOKUP(B61,Pilot!A:E,5,0)","v":" "},{"$f":"VLOOKUP(B61,Pilot!A:F,6,0)","v":" "},47,null,76,1,{"$f":"IF(COUNTIF('N PMČR 2025'!B:B,B61)=0,\"-\",COUNTIF('N PMČR 2025'!B:B,B61))","v":6},{"$f":"IF(ISERROR(VLOOKUP(B61,'N PMČR 2025'!B:G,6,0)),\"-\",VLOOKUP(B61,'N PMČR 2025'!B:G,6,0))","v":"-"},{"$f":"IF(COUNTIF('N PMČRj 2025'!B:B,B61)=0,\"-\",COUNTIF('N PMČRj 2025'!B:B,B61))","v":31},{"$f":"IF(ISERROR(VLOOKUP(B61,'N PMČRj 2025'!B:G,6,0)),\"-\",VLOOKUP(B61,'N PMČRj 2025'!B:G,6,0))","v":20}]
[48,"-",{"$f":"VLOOKUP(B62,Pilot!A:C,3,0)","v":" "},{"$f":"VLOOKUP(B62,Pilot!A:C,2,0)","v":" "},{"$f":"VLOOKUP(B62,Pilot!A:E,5,0)","v":" "},{"$f":"VLOOKUP(B62,Pilot!A:F,6,0)","v":" "},48,null,76,1,{"$f":"IF(COUNTIF('N PMČR 2025'!B:B,B62)=0,\"-\",COUNTIF('N PMČR 2025'!B:B,B62))","v":6},{"$f":"IF(ISERROR(VLOOKUP(B62,'N PMČR 2025'!B:G,6,0)),\"-\",VLOOKUP(B62,'N PMČR 2025'!B:G,6,0))","v":"-"},{"$f":"IF(COUNTIF('N PMČRj 2025'!B:B,B62)=0,\"-\",COUNTIF('N PMČRj 2025'!B:B,B62))","v":31},{"$f":"IF(ISERROR(VLOOKUP(B62,'N PMČRj 2025'!B:G,6,0)),\"-\",VLOOKUP(B62,'N PMČRj 2025'!B:G,6,0))","v":20}]
[49,"-",{"$f":"VLOOKUP(B63,Pilot!A:C,3,0)","v":" "},{"$f":"VLOOKUP(B63,Pilot!A:C,2,0)","v":" "},{"$f":"VLOOKUP(B63,Pilot!A:E,5,0)","v":" "},{"$f":"VLOOKUP(B63,Pilot!A:F,6,0)","v":" "},49,null,76,1,{"$f":"IF(COUNTIF('N PMČR 2025'!B:B,B63)=0,\"-\",COUNTIF('N PMČR 2025'!B:B,B63))","v":6},{"$f":"IF(ISERROR(VLOOKUP(B63,'N PMČR 2025'!B:G,6,0)),\"-\",VLOOKUP(B63,'N PMČR 2025'!B:G,6,0))","v":"-"},{"$f":"IF(COUNTIF('N PMČRj 2025'!B:B,B63)=0,\"-\",COUNTIF('N PMČRj 2025'!B:B,B63))","v":31},{"$f":"IF(ISERROR(VLOOKUP(B63,'N PMČRj 2025'!B:G,6,0)),\"-\",VLOOKUP(B63,'N PMČRj 2025'!B:G,6,0))","v":20}]
[50,"-",{"$f":"VLOOKUP(B64,Pilot!A:C,3,0)","v":" "},{"$f":"VLOOKUP(B64,Pilot!A:C,2,0)","v":" "},{"$f":"VLOOKUP(B64,Pilot!A:E,5,0)","v":" "},{"$f":"VLOOKUP(B64,Pilot!A:F,6,0)","v":" "},50,null,76,1,{"$f":"IF(COUNTIF('N PMČR 2025'!B:B,B64)=0,\"-\",COUNTIF('N PMČR 2025'!B:B,B64))","v":6},{"$f":"IF(ISERROR(VLOOKUP(B64,'N PMČR 2025'!B:G,6,0)),\"-\",VLOOKUP(B64,'N PMČR 2025'!B:G,6,0))","v":"-"},{"$f":"IF(COUNTIF('N PMČRj 2025'!B:B,B64)=0,\"-\",COUNTIF('N PMČRj 2025'!B:B,B64))","v":31},{"$f":"IF(ISERROR(VLOOKUP(B64,'N PMČRj 2025'!B:G,6,0)),\"-\",VLOOKUP(B64,'N PMČRj 2025'!B:G,6,0))","v":20}]
[51,"-",{"$f":"VLOOKUP(B65,Pilot!A:C,3,0)","v":" "},{"$f":"VLOOKUP(B65,Pilot!A:C,2,0)","v":" "},{"$f":"VLOOKUP(B65,Pilot!A:E,5,0)","v":" "},{"$f":"VLOOKUP(B65,Pilot!A:F,6,0)","v":" "},51,null,76,1,{"$f":"IF(COUNTIF('N PMČR 2025'!B:B,B65)=0,\"-\",COUNTIF('N PMČR 2025'!B:B,B65))","v":6},{"$f":"IF(ISERROR(VLOOKUP(B65,'N PMČR 2025'!B:G,6,0)),\"-\",VLOOKUP(B65,'N PMČR 2025'!B:G,6,0))","v":"-"},{"$f":"IF(COUNTIF('N PMČRj 2025'!B:B,B65)=0,\"-\",COUNTIF('N PMČRj 2025'!B:B,B65))","v":31},{"$f":"IF(ISERROR(VLOOKUP(B65,'N PMČRj 2025'!B:G,6,0)),\"-\",VLOOKUP(B65,'N PMČRj 2025'!B:G,6,0))","v":20}]
[52,"-",{"$f":"VLOOKUP(B66,Pilot!A:C,3,0)","v":" "},{"$f":"VLOOKUP(B66,Pilot!A:C,2,0)","v":" "},{"$f":"VLOOKUP(B66,Pilot!A:E,5,0)","v":" "},{"$f":"VLOOKUP(B66,Pilot!A:F,6,0)","v":" "},52,null,76,1,{"$f":"IF(COUNTIF('N PMČR 2025'!B:B,B66)=0,\"-\",COUNTIF('N PMČR 2025'!B:B,B66))","v":6},{"$f":"IF(ISERROR(VLOOKUP(B66,'N PMČR 2025'!B:G,6,0)),\"-\",VLOOKUP(B66,'N PMČR 2025'!B:G,6,0))","v":"-"},{"$f":"IF(COUNTIF('N PMČRj 2025'!B:B,B66)=0,\"-\",COUNTIF('N PMČRj 2025'!B:B,B66))","v":31},{"$f":"IF(ISERROR(VLOOKUP(B66,'N PMČRj 2025'!B:G,6,0)),\"-\",VLOOKUP(B66,'N PMČRj 2025'!B:G,6,0))","v":20}]
[53,"-",{"$f":"VLOOKUP(B67,Pilot!A:C,3,0)","v":" "},{"$f":"VLOOKUP(B67,Pilot!A:C,2,0)","v":" "},{"$f":"VLOOKUP(B67,Pilot!A:E,5,0)","v":" "},{"$f":"VLOOKUP(B67,Pilot!A:F,6,0)","v":" "},53,null,76,1,{"$f":"IF(COUNTIF('N PMČR 2025'!B:B,B67)=0,\"-\",COUNTIF('N PMČR 2025'!B:B,B67))","v":6},{"$f":"IF(ISERROR(VLOOKUP(B67,'N PMČR 2025'!B:G,6,0)),\"-\",VLOOKUP(B67,'N PMČR 2025'!B:G,6,0))","v":"-"},{"$f":"IF(COUNTIF('N PMČRj 2025'!B:B,B67)=0,\"-\",COUNTIF('N PMČRj 2025'!B:B,B67))","v":31},{"$f":"IF(ISERROR(VLOOKUP(B67,'N PMČRj 2025'!B:G,6,0)),\"-\",VLOOKUP(B67,'N PMČRj 2025'!B:G,6,0))","v":20}]
[54,"-",{"$f":"VLOOKUP(B68,Pilot!A:C,3,0)","v":" "},{"$f":"VLOOKUP(B68,Pilot!A:C,2,0)","v":" "},{"$f":"VLOOKUP(B68,Pilot!A:E,5,0)","v":" "},{"$f":"VLOOKUP(B68,Pilot!A:F,6,0)","v":" "},54,null,76,1,{"$f":"IF(COUNTIF('N PMČR 2025'!B:B,B68)=0,\"-\",COUNTIF('N PMČR 2025'!B:B,B68))","v":6},{"$f":"IF(ISERROR(VLOOKUP(B68,'N PMČR 2025'!B:G,6,0)),\"-\",VLOOKUP(B68,'N PMČR 2025'!B:G,6,0))","v":"-"},{"$f":"IF(COUNTIF('N PMČRj 2025'!B:B,B68)=0,\"-\",COUNTIF('N PMČRj 2025'!B:B,B68))","v":31},{"$f":"IF(ISERROR(VLOOKUP(B68,'N PMČRj 2025'!B:G,6,0)),\"-\",VLOOKUP(B68,'N PMČRj 2025'!B:G,6,0))","v":20}]
[55,"-",{"$f":"VLOOKUP(B69,Pilot!A:C,3,0)","v":" "},{"$f":"VLOOKUP(B69,Pilot!A:C,2,0)","v":" "},{"$f":"VLOOKUP(B69,Pilot!A:E,5,0)","v":" "},{"$f":"VLOOKUP(B69,Pilot!A:F,6,0)","v":" "},{"$f":"A69","v":55},null,76,1,{"$f":"IF(COUNTIF('N PMČR 2025'!B:B,B69)=0,\"-\",COUNTIF('N PMČR 2025'!B:B,B69))","v":6},{"$f":"IF(ISERROR(VLOOKUP(B69,'N PMČR 2025'!B:G,6,0)),\"-\",VLOOKUP(B69,'N PMČR 2025'!B:G,6,0))","v":"-"},{"$f":"IF(COUNTIF('N PMČRj 2025'!B:B,B69)=0,\"-\",COUNTIF('N PMČRj 2025'!B:B,B69))","v":31},{"$f":"IF(ISERROR(VLOOKUP(B69,'N PMČRj 2025'!B:G,6,0)),\"-\",VLOOKUP(B69,'N PMČRj 2025'!B:G,6,0))","v":20}]
[56,"-",{"$f":"VLOOKUP(B70,Pilot!A:C,3,0)","v":" "},{"$f":"VLOOKUP(B70,Pilot!A:C,2,0)","v":" "},{"$f":"VLOOKUP(B70,Pilot!A:E,5,0)","v":" "},{"$f":"VLOOKUP(B70,Pilot!A:F,6,0)","v":" "},56,null,76,1,{"$f":"IF(COUNTIF('N PMČR 2025'!B:B,B70)=0,\"-\",COUNTIF('N PMČR 2025'!B:B,B70))","v":6},{"$f":"IF(ISERROR(VLOOKUP(B70,'N PMČR 2025'!B:G,6,0)),\"-\",VLOOKUP(B70,'N PMČR 2025'!B:G,6,0))","v":"-"},{"$f":"IF(COUNTIF('N PMČRj 2025'!B:B,B70)=0,\"-\",COUNTIF('N PMČRj 2025'!B:B,B70))","v":31},{"$f":"IF(ISERROR(VLOOKUP(B70,'N PMČRj 2025'!B:G,6,0)),\"-\",VLOOKUP(B70,'N PMČRj 2025'!B:G,6,0))","v":20}]
[57,"-",{"$f":"VLOOKUP(B71,Pilot!A:C,3,0)","v":" "},{"$f":"VLOOKUP(B71,Pilot!A:C,2,0)","v":" "},{"$f":"VLOOKUP(B71,Pilot!A:E,5,0)","v":" "},{"$f":"VLOOKUP(B71,Pilot!A:F,6,0)","v":" "},57,null,76,1,{"$f":"IF(COUNTIF('N PMČR 2025'!B:B,B71)=0,\"-\",COUNTIF('N PMČR 2025'!B:B,B71))","v":6},{"$f":"IF(ISERROR(VLOOKUP(B71,'N PMČR 2025'!B:G,6,0)),\"-\",VLOOKUP(B71,'N PMČR 2025'!B:G,6,0))","v":"-"},{"$f":"IF(COUNTIF('N PMČRj 2025'!B:B,B71)=0,\"-\",COUNTIF('N PMČRj 2025'!B:B,B71))","v":31},{"$f":"IF(ISERROR(VLOOKUP(B71,'N PMČRj 2025'!B:G,6,0)),\"-\",VLOOKUP(B71,'N PMČRj 2025'!B:G,6,0))","v":20}]
[58,"-",{"$f":"VLOOKUP(B72,Pilot!A:C,3,0)","v":" "},{"$f":"VLOOKUP(B72,Pilot!A:C,2,0)","v":" "},{"$f":"VLOOKUP(B72,Pilot!A:E,5,0)","v":" "},{"$f":"VLOOKUP(B72,Pilot!A:F,6,0)","v":" "},58,null,76,1,{"$f":"IF(COUNTIF('N PMČR 2025'!B:B,B72)=0,\"-\",COUNTIF('N PMČR 2025'!B:B,B72))","v":6},{"$f":"IF(ISERROR(VLOOKUP(B72,'N PMČR 2025'!B:G,6,0)),\"-\",VLOOKUP(B72,'N PMČR 2025'!B:G,6,0))","v":"-"},{"$f":"IF(COUNTIF('N PMČRj 2025'!B:B,B72)=0,\"-\",COUNTIF('N PMČRj 2025'!B:B,B72))","v":31},{"$f":"IF(ISERROR(VLOOKUP(B72,'N PMČRj 2025'!B:G,6,0)),\"-\",VLOOKUP(B72,'N PMČRj 2025'!B:G,6,0))","v":20}]
[59,"-",{"$f":"VLOOKUP(B73,Pilot!A:C,3,0)","v":" "},{"$f":"VLOOKUP(B73,Pilot!A:C,2,0)","v":" "},{"$f":"VLOOKUP(B73,Pilot!A:E,5,0)","v":" "},{"$f":"VLOOKUP(B73,Pilot!A:F,6,0)","v":" "},59,null,76,1,{"$f":"IF(COUNTIF('N PMČR 2025'!B:B,B73)=0,\"-\",COUNTIF('N PMČR 2025'!B:B,B73))","v":6},{"$f":"IF(ISERROR(VLOOKUP(B73,'N PMČR 2025'!B:G,6,0)),\"-\",VLOOKUP(B73,'N PMČR 2025'!B:G,6,0))","v":"-"},{"$f":"IF(COUNTIF('N PMČRj 2025'!B:B,B73)=0,\"-\",COUNTIF('N PMČRj 2025'!B:B,B73))","v":31},{"$f":"IF(ISERROR(VLOOKUP(B73,'N PMČRj 2025'!B:G,6,0)),\"-\",VLOOKUP(B73,'N PMČRj 2025'!B:G,6,0))","v":20}]
[60,"-",{"$f":"VLOOKUP(B74,Pilot!A:C,3,0)","v":" "},{"$f":"VLOOKUP(B74,Pilot!A:C,2,0)","v":" "},{"$f":"VLOOKUP(B74,Pilot!A:E,5,0)","v":" "},{"$f":"VLOOKUP(B74,Pilot!A:F,6,0)","v":" "},60,null,76,1,{"$f":"IF(COUNTIF('N PMČR 2025'!B:B,B74)=0,\"-\",COUNTIF('N PMČR 2025'!B:B,B74))","v":6},{"$f":"IF(ISERROR(VLOOKUP(B74,'N PMČR 2025'!B:G,6,0)),\"-\",VLOOKUP(B74,'N PMČR 2025'!B:G,6,0))","v":"-"},{"$f":"IF(COUNTIF('N PMČRj 2025'!B:B,B74)=0,\"-\",COUNTIF('N PMČRj 2025'!B:B,B74))","v":31},{"$f":"IF(ISERROR(VLOOKUP(B74,'N PMČRj 2025'!B:G,6,0)),\"-\",VLOOKUP(B74,'N PMČRj 2025'!B:G,6,0))","v":20}]
["N1","-",{"$f":"VLOOKUP(B75,Pilot!A:C,3,0)","v":" "},{"$f":"VLOOKUP(B75,Pilot!A:C,2,0)","v":" "},{"$f":"VLOOKUP(B75,Pilot!A:E,5,0)","v":" "},{"$f":"VLOOKUP(B75,Pilot!A:F,6,0)","v":" "},"N1",null,76,1,{"$f":"IF(COUNTIF('N PMČR 2025'!B:B,B75)=0,\"-\",COUNTIF('N PMČR 2025'!B:B,B75))","v":6},{"$f":"IF(ISERROR(VLOOKUP(B75,'N PMČR 2025'!B:G,6,0)),\"-\",VLOOKUP(B75,'N PMČR 2025'!B:G,6,0))","v":"-"},{"$f":"IF(COUNTIF('N PMČRj 2025'!B:B,B75)=0,\"-\",COUNTIF('N PMČRj 2025'!B:B,B75))","v":31},{"$f":"IF(ISERROR(VLOOKUP(B75,'N PMČRj 2025'!B:G,6,0)),\"-\",VLOOKUP(B75,'N PMČRj 2025'!B:G,6,0))","v":20}]
["N2","-",{"$f":"VLOOKUP(B76,Pilot!A:C,3,0)","v":" "},{"$f":"VLOOKUP(B76,Pilot!A:C,2,0)","v":" "},{"$f":"VLOOKUP(B76,Pilot!A:E,5,0)","v":" "},{"$f":"VLOOKUP(B76,Pilot!A:F,6,0)","v":" "},"N2",null,76,1,{"$f":"IF(COUNTIF('N PMČR 2025'!B:B,B76)=0,\"-\",COUNTIF('N PMČR 2025'!B:B,B76))","v":6},{"$f":"IF(ISERROR(VLOOKUP(B76,'N PMČR 2025'!B:G,6,0)),\"-\",VLOOKUP(B76,'N PMČR 2025'!B:G,6,0))","v":"-"},{"$f":"IF(COUNTIF('N PMČRj 2025'!B:B,B76)=0,\"-\",COUNTIF('N PMČRj 2025'!B:B,B76))","v":31},{"$f":"IF(ISERROR(VLOOKUP(B76,'N PMČRj 2025'!B:G,6,0)),\"-\",VLOOKUP(B76,'N PMČRj 2025'!B:G,6,0))","v":20}]
["N3","-",{"$f":"VLOOKUP(B77,Pilot!A:C,3,0)","v":" "},{"$f":"VLOOKUP(B77,Pilot!A:C,2,0)","v":" "},{"$f":"VLOOKUP(B77,Pilot!A:E,5,0)","v":" "},{"$f":"VLOOKUP(B77,Pilot!A:F,6,0)","v":" "},"N3",null,76,1,{"$f":"IF(COUNTIF('N PMČR 2025'!B:B,B77)=0,\"-\",COUNTIF('N PMČR 2025'!B:B,B77))","v":6},{"$f":"IF(ISERROR(VLOOKUP(B77,'N PMČR 2025'!B:G,6,0)),\"-\",VLOOKUP(B77,'N PMČR 2025'!B:G,6,0))","v":"-"},{"$f":"IF(COUNTIF('N PMČRj 2025'!B:B,B77)=0,\"-\",COUNTIF('N PMČRj 2025'!B:B,B77))","v":31},{"$f":"IF(ISERROR(VLOOKUP(B77,'N PMČRj 2025'!B:G,6,0)),\"-\",VLOOKUP(B77,'N PMČRj 2025'!B:G,6,0))","v":20}]
["N4","-",{"$f":"VLOOKUP(B78,Pilot!A:C,3,0)","v":" "},{"$f":"VLOOKUP(B78,Pilot!A:C,2,0)","v":" "},{"$f":"VLOOKUP(B78,Pilot!A:E,5,0)","v":" "},{"$f":"VLOOKUP(B78,Pilot!A:F,6,0)","v":" "},"N4",null,76,1,{"$f":"IF(COUNTIF('N PMČR 2025'!B:B,B78)=0,\"-\",COUNTIF('N PMČR 2025'!B:B,B78))","v":6},{"$f":"IF(ISERROR(VLOOKUP(B78,'N PMČR 2025'!B:G,6,0)),\"-\",VLOOKUP(B78,'N PMČR 2025'!B:G,6,0))","v":"-"},{"$f":"IF(COUNTIF('N PMČRj 2025'!B:B,B78)=0,\"-\",COUNTIF('N PMČRj 2025'!B:B,B78))","v":31},{"$f":"IF(ISERROR(VLOOKUP(B78,'N PMČRj 2025'!B:G,6,0)),\"-\",VLOOKUP(B78,'N PMČRj 2025'!B:G,6,0))","v":20}]
["N5","-",{"$f":"VLOOKUP(B79,Pilot!A:C,3,0)","v":" "},{"$f":"VLOOKUP(B79,Pilot!A:C,2,0)","v":" "},{"$f":"VLOOKUP(B79,Pilot!A:E,5,0)","v":" "},{"$f":"VLOOKUP(B79,Pilot!A:F,6,0)","v":" "},"N5",null,76,1,{"$f":"IF(COUNTIF('N PMČR 2025'!B:B,B79)=0,\"-\",COUNTIF('N PMČR 2025'!B:B,B79))","v":6},{"$f":"IF(ISERROR(VLOOKUP(B79,'N PMČR 2025'!B:G,6,0)),\"-\",VLOOKUP(B79,'N PMČR 2025'!B:G,6,0))","v":"-"},{"$f":"IF(COUNTIF('N PMČRj 2025'!B:B,B79)=0,\"-\",COUNTIF('N PMČRj 2025'!B:B,B79))","v":31},{"$f":"IF(ISERROR(VLOOKUP(B79,'N PMČRj 2025'!B:G,6,0)),\"-\",VLOOKUP(B79,'N PMČRj 2025'!B:G,6,0))","v":20}]
["N6","-",{"$f":"VLOOKUP(B80,Pilot!A:C,3,0)","v":" "},{"$f":"VLOOKUP(B80,Pilot!A:C,2,0)","v":" "},{"$f":"VLOOKUP(B80,Pilot!A:E,5,0)","v":" "},{"$f":"VLOOKUP(B80,Pilot!A:F,6,0)","v":" "},"N6",null,76,1,{"$f":"IF(COUNTIF('N PMČR 2025'!B:B,B80)=0,\"-\",COUNTIF('N PMČR 2025'!B:B,B80))","v":6},{"$f":"IF(ISERROR(VLOOKUP(B80,'N PMČR 2025'!B:G,6,0)),\"-\",VLOOKUP(B80,'N PMČR 2025'!B:G,6,0))","v":"-"},{"$f":"IF(COUNTIF('N PMČRj 2025'!B:B,B80)=0,\"-\",COUNTIF('N PMČRj 2025'!B:B,B80))","v":31},{"$f":"IF(ISERROR(VLOOKUP(B80,'N PMČRj 2025'!B:G,6,0)),\"-\",VLOOKUP(B80,'N PMČRj 2025'!B:G,6,0))","v":20}]
["N7","-",{"$f":"VLOOKUP(B81,Pilot!A:C,3,0)","v":" "},{"$f":"VLOOKUP(B81,Pilot!A:C,2,0)","v":" "},{"$f":"VLOOKUP(B81,Pilot!A:E,5,0)","v":" "},{"$f":"VLOOKUP(B81,Pilot!A:F,6,0)","v":" "},"N7",null,76,1,{"$f":"IF(COUNTIF('N PMČR 2025'!B:B,B81)=0,\"-\",COUNTIF('N PMČR 2025'!B:B,B81))","v":6},{"$f":"IF(ISERROR(VLOOKUP(B81,'N PMČR 2025'!B:G,6,0)),\"-\",VLOOKUP(B81,'N PMČR 2025'!B:G,6,0))","v":"-"},{"$f":"IF(COUNTIF('N PMČRj 2025'!B:B,B81)=0,\"-\",COUNTIF('N PMČRj 2025'!B:B,B81))","v":31},{"$f":"IF(ISERROR(VLOOKUP(B81,'N PMČRj 2025'!B:G,6,0)),\"-\",VLOOKUP(B81,'N PMČRj 2025'!B:G,6,0))","v":20}]
["N8","-",{"$f":"VLOOKUP(B82,Pilot!A:C,3,0)","v":" "},{"$f":"VLOOKUP(B82,Pilot!A:C,2,0)","v":" "},{"$f":"VLOOKUP(B82,Pilot!A:E,5,0)","v":" "},{"$f":"VLOOKUP(B82,Pilot!A:F,6,0)","v":" "},"N8",null,76,1,{"$f":"IF(COUNTIF('N PMČR 2025'!B:B,B82)=0,\"-\",COUNTIF('N PMČR 2025'!B:B,B82))","v":6},{"$f":"IF(ISERROR(VLOOKUP(B82,'N PMČR 2025'!B:G,6,0)),\"-\",VLOOKUP(B82,'N PMČR 2025'!B:G,6,0))","v":"-"},{"$f":"IF(COUNTIF('N PMČRj 2025'!B:B,B82)=0,\"-\",COUNTIF('N PMČRj 2025'!B:B,B82))","v":31},{"$f":"IF(ISERROR(VLOOKUP(B82,'N PMČRj 2025'!B:G,6,0)),\"-\",VLOOKUP(B82,'N PMČRj 2025'!B:G,6,0))","v":20}]
["N9","-",{"$f":"VLOOKUP(B83,Pilot!A:C,3,0)","v":" "},{"$f":"VLOOKUP(B83,Pilot!A:C,2,0)","v":" "},{"$f":"VLOOKUP(B83,Pilot!A:E,5,0)","v":" "},{"$f":"VLOOKUP(B83,Pilot!A:F,6,0)","v":" "},"N9",null,76,1,{"$f":"IF(COUNTIF('N PMČR 2025'!B:B,B83)=0,\"-\",COUNTIF('N PMČR 2025'!B:B,B83))","v":6},{"$f":"IF(ISERROR(VLOOKUP(B83,'N PMČR 2025'!B:G,6,0)),\"-\",VLOOKUP(B83,'N PMČR 2025'!B:G,6,0))","v":"-"},{"$f":"IF(COUNTIF('N PMČRj 2025'!B:B,B83)=0,\"-\",COUNTIF('N PMČRj 2025'!B:B,B83))","v":31},{"$f":"IF(ISERROR(VLOOKUP(B83,'N PMČRj 2025'!B:G,6,0)),\"-\",VLOOKUP(B83,'N PMČRj 2025'!B:G,6,0))","v":20}]
["N10","-",{"$f":"VLOOKUP(B84,Pilot!A:C,3,0)","v":" "},{"$f":"VLOOKUP(B84,Pilot!A:C,2,0)","v":" "},{"$f":"VLOOKUP(B84,Pilot!A:E,5,0)","v":" "},{"$f":"VLOOKUP(B84,Pilot!A:F,6,0)","v":" "},{"$f":"A84","v":"N10"},null,76,1,{"$f":"IF(COUNTIF('N PMČR 2025'!B:B,B84)=0,\"-\",COUNTIF('N PMČR 2025'!B:B,B84))","v":6},{"$f":"IF(ISERROR(VLOOKUP(B84,'N PMČR 2025'!B:G,6,0)),\"-\",VLOOKUP(B84,'N PMČR 2025'!B:G,6,0))","v":"-"},{"$f":"IF(COUNTIF('N PMČRj 2025'!B:B,B84)=0,\"-\",COUNTIF('N PMČRj 2025'!B:B,B84))","v":31},{"$f":"IF(ISERROR(VLOOKUP(B84,'N PMČRj 2025'!B:G,6,0)),\"-\",VLOOKUP(B84,'N PMČRj 2025'!B:G,6,0))","v":20}]
[null,"Další soutěžící může navrhnout PK podle jiných kritérií dle odstavce 9. SŘ:"]
[{"$f":"MAX(A8:A85)+1","v":61},"-",{"$f":"VLOOKUP(B86,Pilot!A:C,3,0)","v":" "},{"$f":"VLOOKUP(B86,Pilot!A:C,2,0)","v":" "},{"$f":"VLOOKUP(B86,Pilot!A:E,5,0)","v":" "},{"$f":"VLOOKUP(B86,Pilot!A:F,6,0)","v":" "},{"$f":"A86","v":61},null,{"$f":"COUNTIF(B:B,B86)","v":76},{"$f":"IF(ISERROR(VLOOKUP(B86,B:G,6,0)),\"-\",VLOOKUP(B86,B:G,6,0))","v":1},{"$f":"IF(COUNTIF('N PMČR 2025'!B:B,B86)=0,\"-\",COUNTIF('N PMČR 2025'!B:B,B86))","v":6},{"$f":"IF(ISERROR(VLOOKUP(B86,'N PMČR 2025'!B:G,6,0)),\"-\",VLOOKUP(B86,'N PMČR 2025'!B:G,6,0))","v":"-"},{"$f":"IF(COUNTIF('N PMČRj 2025'!B:B,B86)=0,\"-\",COUNTIF('N PMČRj 2025'!B:B,B86))","v":31},{"$f":"IF(ISERROR(VLOOKUP(B86,'N PMČRj 2025'!B:G,6,0)),\"-\",VLOOKUP(B86,'N PMČRj 2025'!B:G,6,0))","v":20}]
[{"$f":"A86+1","v":62},"-",{"$f":"VLOOKUP(B87,Pilot!A:C,3,0)","v":" "},{"$f":"VLOOKUP(B87,Pilot!A:C,2,0)","v":" "},{"$f":"VLOOKUP(B87,Pilot!A:E,5,0)","v":" "},{"$f":"VLOOKUP(B87,Pilot!A:F,6,0)","v":" "},{"$f":"A87","v":62},null,{"$f":"COUNTIF(B:B,B87)","v":76},{"$f":"IF(ISERROR(VLOOKUP(B87,B:G,6,0)),\"-\",VLOOKUP(B87,B:G,6,0))","v":1},{"$f":"IF(COUNTIF('N PMČR 2025'!B:B,B87)=0,\"-\",COUNTIF('N PMČR 2025'!B:B,B87))","v":6},{"$f":"IF(ISERROR(VLOOKUP(B87,'N PMČR 2025'!B:G,6,0)),\"-\",VLOOKUP(B87,'N PMČR 2025'!B:G,6,0))","v":"-"},{"$f":"IF(COUNTIF('N PMČRj 2025'!B:B,B87)=0,\"-\",COUNTIF('N PMČRj 2025'!B:B,B87))","v":31},{"$f":"IF(ISERROR(VLOOKUP(B87,'N PMČRj 2025'!B:G,6,0)),\"-\",VLOOKUP(B87,'N PMČRj 2025'!B:G,6,0))","v":20}]
[{"$f":"A87+1","v":63},"-",{"$f":"VLOOKUP(B88,Pilot!A:C,3,0)","v":" "},{"$f":"VLOOKUP(B88,Pilot!A:C,2,0)","v":" "},{"$f":"VLOOKUP(B88,Pilot!A:E,5,0)","v":" "},{"$f":"VLOOKUP(B88,Pilot!A:F,6,0)","v":" "},{"$f":"A88","v":63},null,{"$f":"COUNTIF(B:B,B88)","v":76},{"$f":"IF(ISERROR(VLOOKUP(B88,B:G,6,0)),\"-\",VLOOKUP(B88,B:G,6,0))","v":1},{"$f":"IF(COUNTIF('N PMČR 2025'!B:B,B88)=0,\"-\",COUNTIF('N PMČR 2025'!B:B,B88))","v":6},{"$f":"IF(ISERROR(VLOOKUP(B88,'N PMČR 2025'!B:G,6,0)),\"-\",VLOOKUP(B88,'N PMČR 2025'!B:G,6,0))","v":"-"},{"$f":"IF(COUNTIF('N PMČRj 2025'!B:B,B88)=0,\"-\",COUNTIF('N PMČRj 2025'!B:B,B88))","v":31},{"$f":"IF(ISERROR(VLOOKUP(B88,'N PMČRj 2025'!B:G,6,0)),\"-\",VLOOKUP(B88,'N PMČRj 2025'!B:G,6,0))","v":20}]
[64,"-",{"$f":"VLOOKUP(B89,Pilot!A:C,3,0)","v":" "},{"$f":"VLOOKUP(B89,Pilot!A:C,2,0)","v":" "},{"$f":"VLOOKUP(B89,Pilot!A:E,5,0)","v":" "},{"$f":"VLOOKUP(B89,Pilot!A:F,6,0)","v":" "},{"$f":"A89","v":64},null,{"$f":"COUNTIF(B:B,B89)","v":76},{"$f":"IF(ISERROR(VLOOKUP(B89,B:G,6,0)),\"-\",VLOOKUP(B89,B:G,6,0))","v":1},{"$f":"IF(COUNTIF('N PMČR 2025'!B:B,B89)=0,\"-\",COUNTIF('N PMČR 2025'!B:B,B89))","v":6},{"$f":"IF(ISERROR(VLOOKUP(B89,'N PMČR 2025'!B:G,6,0)),\"-\",VLOOKUP(B89,'N PMČR 2025'!B:G,6,0))","v":"-"},{"$f":"IF(COUNTIF('N PMČRj 2025'!B:B,B89)=0,\"-\",COUNTIF('N PMČRj 2025'!B:B,B89))","v":31},{"$f":"IF(ISERROR(VLOOKUP(B89,'N PMČRj 2025'!B:G,6,0)),\"-\",VLOOKUP(B89,'N PMČRj 2025'!B:G,6,0))","v":20}]
[65,"-",{"$f":"VLOOKUP(B90,Pilot!A:C,3,0)","v":" "},{"$f":"VLOOKUP(B90,Pilot!A:C,2,0)","v":" "},{"$f":"VLOOKUP(B90,Pilot!A:E,5,0)","v":" "},{"$f":"VLOOKUP(B90,Pilot!A:F,6,0)","v":" "},{"$f":"A90","v":65},null,{"$f":"COUNTIF(B:B,B90)","v":76},{"$f":"IF(ISERROR(VLOOKUP(B90,B:G,6,0)),\"-\",VLOOKUP(B90,B:G,6,0))","v":1},{"$f":"IF(COUNTIF('N PMČR 2025'!B:B,B90)=0,\"-\",COUNTIF('N PMČR 2025'!B:B,B90))","v":6},{"$f":"IF(ISERROR(VLOOKUP(B90,'N PMČR 2025'!B:G,6,0)),\"-\",VLOOKUP(B90,'N PMČR 2025'!B:G,6,0))","v":"-"},{"$f":"IF(COUNTIF('N PMČRj 2025'!B:B,B90)=0,\"-\",COUNTIF('N PMČRj 2025'!B:B,B90))","v":31},{"$f":"IF(ISERROR(VLOOKUP(B90,'N PMČRj 2025'!B:G,6,0)),\"-\",VLOOKUP(B90,'N PMČRj 2025'!B:G,6,0))","v":20}]