{"text_format":"1","workbook":"xlsx","n_sheets":15,"sheets":["Zmeny","Soutez","Kp","Pilot","Region","Temp","Data","Zebrik G","Zebrik W","KB PMRg 2020","KB PMRg 2021","KB PMRg 2022","N PMČR 2023","N PMRg 2023","N PMČRj 2023"],"not_rendered":{"charts":0,"images":0,"macros":1,"external_links":0,"defined_names":37,"comments":2,"pivot_tables":2},"unopened":[],"bounds":{"document_bytes":16777216,"sheet_cells":100000,"rows_first":2000,"rows_last":500,"rows_between":2000,"halvings":0,"cell_chars":16384,"cell_head_chars":4096},"cells_cut":0,"cells_raw":0,"read":"whole","date_system":"1900"}

{"sheet":"Zmeny","index":0,"n_rows":4,"n_cols":3,"rows_kept":4,"cut":false,"hidden":false,"merged":[[0,1,0,2]]}
[null,"Změna"]
["Datum","Rev","Popis"]
["2022-12-31","00","Základní verze"]
["2023-01-08","01","Aktualizovány koeficienty soutěží dle rozhodnutí PK AeČR"]

{"sheet":"Soutez","index":1,"n_rows":134,"n_cols":16,"rows_kept":134,"cut":false,"hidden":false,"merged":[]}
["No.","Soutěž","Stát","Rok","Místo","Termín","Poč. disc.","Poč. pilotů","Ki","Kn1","Kn2","Kp","Kinp","dKinp","Poznámka","Results"]
[null,"Zařazené soutěže 2020:"]
[null,"AZ Cup 2020 - Klub","CZ",2020,"Zbraslavice","3.5.-7.6.20",3,27,0.9,1.4999999999999999E-2,0.01,{"$f":"VLOOKUP(G3,Kp!$A$4:$B$24,2,FALSE)","v":-0.02},{"$f":"IF(I3=0,0,IF(OR(G3=0,G3=1,G3=2),0,IF(H3<10,0,SUM(I3:L3))))","v":0.90500000000000003},{"$f":"M3-I3","v":5.0000000000000044E-3},null,"https://www.soaringspot.com/cs/az-cup-2020-zbraslavice-2020/results/klubova-trida"]
[null,"AZ Cup 2020 - Kombi A","CZ",2020,"Zbraslavice","3.5.-7.6.20",3,20,0.9,0.02,0,{"$f":"VLOOKUP(G4,Kp!$A$4:$B$24,2,FALSE)","v":-0.02},0.9,{"$f":"M4-I4","v":0},null,"https://www.soaringspot.com/cs/az-cup-2020-zbraslavice-2020/results/15m-trida"]
[null,"AZ Cup 2020 - Kombi B","CZ",2020,"Zbraslavice","3.5.-7.6.20",3,21,0.9,0.04,0.01,{"$f":"VLOOKUP(G5,Kp!$A$4:$B$24,2,FALSE)","v":-0.02},0.93,{"$f":"M5-I5","v":3.0000000000000027E-2},null,"https://www.soaringspot.com/cs/az-cup-2020-zbraslavice-2020/results/kombinovana-trida"]
[null,"Závody Šohajů 2020 - Klub","CZ",2020,"Raná","20.6.-27.6.20",2,15,0,0,0,{"$f":"VLOOKUP(G6,Kp!$A$4:$B$24,2,FALSE)","v":0},0,0,"Méně jak 3 platné disciplíny","https://www.soaringspot.com/cs/zavody-sohaju-a-historickych-kluzaku-2020-rana-loumy-2020/results/oldtimer"]
[null,"Safari 2020 - Kombi","CZ",2020,"Dvůr Králové","28.6.-11.7.20",5,12,0.75,0.01,0,{"$f":"VLOOKUP(G7,Kp!$A$4:$B$24,2,FALSE)","v":5.0000000000000001E-3},0.76500000000000001,1.5000000000000013E-2,null,"https://www.soaringspot.com/cs/safari-cup-2020-dvur-kralove-nad-labem-2020/results/volna"]
[null,"Safari 2020 - Klub","CZ",2020,"Dvůr Králové","28.6.-11.7.20",4,26,0.75,0,0,{"$f":"VLOOKUP(G8,Kp!$A$4:$B$24,2,FALSE)","v":0},0.75,{"$f":"M8-I8","v":0},null,"https://www.soaringspot.com/cs/safari-cup-2020-dvur-kralove-nad-labem-2020/results/klub"]
[null,"Safari 2020 - Duo Kombi","CZ",2020,"Dvůr Králové","28.6.-11.7.20",1,14,0,0,0,{"$f":"VLOOKUP(G9,Kp!$A$4:$B$24,2,FALSE)","v":0},{"$f":"IF(I9=0,0,IF(OR(G9=0,G9=1,G9=2),0,IF(H9<10,0,SUM(I9:L9))))","v":0},0,"Méně jak 3 platné disciplíny","https://www.soaringspot.com/cs/safari-cup-2020-dvur-kralove-nad-labem-2020/results/duo-blanik"]
[null,"Toužim Cup 2020 - Klub","CZ",2020,"Toužim","11.7.-19.7.20",5,30,0.9,0.01,0,{"$f":"VLOOKUP(G10,Kp!$A$4:$B$24,2,FALSE)","v":5.0000000000000001E-3},0.91500000000000004,1.5000000000000013E-2,null,"https://www.soaringspot.com/cs/tcup2020/results/klub"]
[null,"Toužim Cup 2020 - Kombi","CZ",2020,"Toužim","11.7.-19.7.20",5,23,0.9,5.0000000000000001E-3,0,{"$f":"VLOOKUP(G11,Kp!$A$4:$B$24,2,FALSE)","v":5.0000000000000001E-3},0.91,1.0000000000000009E-2,null,"https://www.soaringspot.com/cs/tcup2020/results/kombi"]
[null,"PMRg 2020 - Klub","CZ",2020,"Hosín","12.7.-25.7.20",5,24,0.9,0.01,0,{"$f":"VLOOKUP(G12,Kp!$A$4:$B$24,2,FALSE)","v":5.0000000000000001E-3},0.91500000000000004,1.5000000000000013E-2,null,"https://www.soaringspot.com/cs/plachtarske-mistrovstvi-regionu-cr-hosin-2020/results/klubova-trida"]
[null,"PMRg 2020 - Kombi","CZ",2020,"Hosín","12.7.-25.7.20",5,12,0.9,1.4999999999999999E-2,0,{"$f":"VLOOKUP(G13,Kp!$A$4:$B$24,2,FALSE)","v":5.0000000000000001E-3},0.92,2.0000000000000018E-2,null,"https://www.soaringspot.com/cs/plachtarske-mistrovstvi-regionu-cr-hosin-2020/results/kombinovana-trida"]
[null,"Ranský Pohár 2020 - Kombi","CZ",2020,"Raná","18.7.-26.7.20",6,24,0.75,0,0,{"$f":"VLOOKUP(G14,Kp!$A$4:$B$24,2,FALSE)","v":0.01},0.76,1.0000000000000009E-2,null,"https://www.soaringspot.com/cs/ransky-pohar-2020-rana-loumy-2020/results/combi"]
["16.","JPJ 2020 - Klub","CZ",2020,"Šumperk","25.7.-1.8.20",6,33,0.9,0,0,{"$f":"VLOOKUP(G15,Kp!$A$4:$B$24,2,FALSE)","v":0.01},0.91,1.0000000000000009E-2,null,"https://www.soaringspot.com/cs/jpj2020/results/klubova-trida"]
["16.","JPJ 2020 - Kombi","CZ",2020,"Šumperk","25.7.-1.8.20",6,21,0.9,0,0,{"$f":"VLOOKUP(G16,Kp!$A$4:$B$24,2,FALSE)","v":0.01},0.91,1.0000000000000009E-2,null,"https://www.soaringspot.com/cs/jpj2020/results/kombi-trida"]
[null,"PMČR 2020 - Klub","CZ",2020,"Tábor","26.7.-8.8.20",9,25,1,0.04,0.02,{"$f":"VLOOKUP(G17,Kp!$A$4:$B$24,2,FALSE)","v":2.5000000000000001E-2},1.085,{"$f":"M17-I17","v":8.4999999999999964E-2},null,"https://www.soaringspot.com/cs/plachtarske-mistrovstvi-cr-2020-tabor-2020/results/club"]
[null,"PMČR 2020 - Kombi 15m","CZ",2020,"Tábor","26.7.-8.8.20",9,22,1,4.4999999999999998E-2,0.02,{"$f":"VLOOKUP(G18,Kp!$A$4:$B$24,2,FALSE)","v":2.5000000000000001E-2},1.0899999999999999,{"$f":"M18-I18","v":8.9999999999999858E-2},null,"https://www.soaringspot.com/cs/plachtarske-mistrovstvi-cr-2020-tabor-2020/results/15-mixed"]
[null,"PMČR 2020 - Kombi Open","CZ",2020,"Tábor","26.7.-8.8.20",9,21,1,3.5000000000000003E-2,0.01,{"$f":"VLOOKUP(G19,Kp!$A$4:$B$24,2,FALSE)","v":2.5000000000000001E-2},1.0699999999999998,{"$f":"M19-I19","v":6.999999999999984E-2},null,"https://www.soaringspot.com/cs/plachtarske-mistrovstvi-cr-2020-tabor-2020/results/open-mixed"]
[null,"Pohár Českého Ráje 2020 - Kombi","CZ",2020,"Jičín","1.8.-8.8.20",4,9,0,0,0,{"$f":"VLOOKUP(G20,Kp!$A$4:$B$24,2,FALSE)","v":0},0,0,"Méně jak 10 soutěžících ve třídě","https://www.soaringspot.com/cs/pohar-ceskeho-raje-2020-jicin-2020/results/club"]
[null,"PMČRj 2020 - Klub","CZ",2020,"Zbraslavice","8.8.-22.8.20",8,37,0.9,0.01,0,{"$f":"VLOOKUP(G21,Kp!$A$4:$B$24,2,FALSE)","v":0.02},0.93,{"$f":"M21-I21","v":3.0000000000000027E-2},null,"https://www.soaringspot.com/cs/plachtarske-mcr-junioru-a-akademiku-2020-zbraslavice-2020/results/klubova-trida"]
["19.","HOP 2020 - Klub","CZ",2020,"Hronov","8.8.-15.8.20",5,26,0.75,0,0,{"$f":"VLOOKUP(G22,Kp!$A$4:$B$24,2,FALSE)","v":5.0000000000000001E-3},0.755,5.0000000000000044E-3,null,"https://www.soaringspot.com/cs/19-hop-2020-velke-porici-2020/results/klub-hop"]
["19.","HOP 2020 - Kombi","CZ",2020,"Hronov","8.8.-15.8.20",5,19,0.75,5.0000000000000001E-3,0,{"$f":"VLOOKUP(G23,Kp!$A$4:$B$24,2,FALSE)","v":5.0000000000000001E-3},0.76,1.0000000000000009E-2,null,"https://www.soaringspot.com/cs/19-hop-2020-velke-porici-2020/results/kombi-ppf"]
[null,"Adrenalin GP 2020 - Klub GP","CZ",2020,"Frýdlant n/Ostr.","15.8.-22.8.20",3,9,0,0,0,{"$f":"VLOOKUP(G24,Kp!$A$4:$B$24,2,FALSE)","v":-0.02},0,{"$f":"M24-I24","v":0},"Méně jak 10 soutěžících ve třídě","https://www.soaringspot.com/cs/fl-2020-adrenalin-grand-prix-frydlant-2020/results/agp"]
[null,"FL 2020 - Kombi","CZ",2020,"Frýdlant n/Ostr.","15.8.-22.8.20",2,11,0,0,0,{"$f":"VLOOKUP(G25,Kp!$A$4:$B$24,2,FALSE)","v":0},0,0,"Méně jak 3 platné disciplíny","https://www.soaringspot.com/cs/fl-2020-adrenalin-grand-prix-frydlant-2020/results/fl"]
[null,"Pozdní sběr 2020 - Kombi","CZ",2020,"Zbraslavice","12.9.-28.9.20",2,7,0,0,0,{"$f":"VLOOKUP(G26,Kp!$A$4:$B$24,2,FALSE)","v":0},0,0,"Méně jak 10 soutěžících ve třídě, méně jak 3 platné disciplíny","https://www.soaringspot.com/cs/pozdni-sber-zbraslavice-2020/results/klub"]
["63.","PMSR 2020 - Klub","SK",2020,"Partizánske","5.7.-18.7.20",9,25,0.9,0.01,0,{"$f":"VLOOKUP(G27,Kp!$A$4:$B$24,2,FALSE)","v":2.5000000000000001E-2},0.93500000000000005,3.5000000000000031E-2,null,"https://www.soaringspot.com/cs/63-majstrovstva-slovenska-v-bezmotorovom-lietani-2020/results/klubova-tireda"]
["63.","PMSR 2020 - Kombi 15m","SK",2020,"Partizánske","5.7.-18.7.20",9,11,0.9,0.01,0,{"$f":"VLOOKUP(G28,Kp!$A$4:$B$24,2,FALSE)","v":2.5000000000000001E-2},0.93500000000000005,3.5000000000000031E-2,null,"https://www.soaringspot.com/cs/63-majstrovstva-slovenska-v-bezmotorovom-lietani-2020/results/15m-trieda"]
["63.","PMSR 2020 - Kombi Open","SK",2020,"Partizánske","5.7.-18.7.20",9,20,0.9,0.01,0,{"$f":"VLOOKUP(G29,Kp!$A$4:$B$24,2,FALSE)","v":2.5000000000000001E-2},0.93500000000000005,3.5000000000000031E-2,null,"https://www.soaringspot.com/cs/63-majstrovstva-slovenska-v-bezmotorovom-lietani-2020/results/kombinovana-treida"]
[null,"Šariš Cup 2020 - Klub","SK",2020,"Ražňany","1.8.-9.8.20",7,11,0.75,0,0,{"$f":"VLOOKUP(G30,Kp!$A$4:$B$24,2,FALSE)","v":1.4999999999999999E-2},0.76500000000000001,1.5000000000000013E-2,null,"https://www.soaringspot.com/cs/sariscup2020/results/club"]
[null,"FCC 2020 - Klub","SK",2020,"Prievidza","2.8.-13.8.20",9,11,0.9,0,0,{"$f":"VLOOKUP(G31,Kp!$A$4:$B$24,2,FALSE)","v":2.5000000000000001E-2},0.92500000000000004,2.5000000000000022E-2,null,"https://www.soaringspot.com/cs/fcc-gliding-2020-prievidza-2020/results/club"]
[null,"FCC 2020 - Kombi","SK",2020,"Prievidza","2.8.-13.8.20",10,17,0.9,5.0000000000000001E-3,0.01,{"$f":"VLOOKUP(G32,Kp!$A$4:$B$24,2,FALSE)","v":0.03},0.94500000000000006,4.500000000000004E-2,null,"https://www.soaringspot.com/cs/fcc-gliding-2020-prievidza-2020/results/combi"]
[null,"Oldtimer Pribina Star 2020 - Klub","SK",2020,"Nitra","7.8.-15.8.20",4,16,0.75,0,0,{"$f":"VLOOKUP(G33,Kp!$A$4:$B$24,2,FALSE)","v":0},0.75,0,null,"https://www.soaringspot.com/cs/oldtimer-pribina-star-2020-nitra-2020/results/klub"]
["19.","Fatraglide 2020 - Klub","SK",2020,"Martin","15.8.-22.8.20",4,10,0.75,0,0,{"$f":"VLOOKUP(G34,Kp!$A$4:$B$24,2,FALSE)","v":0},0.75,0,null,"https://www.soaringspot.com/cs/fatraglide-2020-martin-2020/results/klubova-trieda"]
["19.","Fatraglide 2020 - Kombi","SK",2020,"Martin","15.8.-22.8.20",5,18,0.75,5.0000000000000001E-3,0,{"$f":"VLOOKUP(G35,Kp!$A$4:$B$24,2,FALSE)","v":5.0000000000000001E-3},0.76,{"$f":"M35-I35","v":1.0000000000000009E-2},null,"https://www.soaringspot.com/cs/fatraglide-2020-martin-2020/results/kombinovana-trieda"]
[null,"Septembrova cena 2020 - Kombi","SK",2020,"Trnava","29.8.-1.9.20",1,12,0,0,0,{"$f":"VLOOKUP(G36,Kp!$A$4:$B$24,2,FALSE)","v":0},0,0,"Méně jak 3 platné disciplíny","https://www.soaringspot.com/cs/septembrova-cena-2020-trnava-2020/results/klub"]
["28.","Alpe Adria Cup 2020 - Kombi 106","AT",2020,"Feldkirchen","4.7.-11.7.20",7,21,0.75,0,0,{"$f":"VLOOKUP(G37,Kp!$A$4:$B$24,2,FALSE)","v":1.4999999999999999E-2},0.76500000000000001,{"$f":"M37-I37","v":1.5000000000000013E-2},null,"https://www.soaringspot.com/cs/aac2020/results/106er"]
["28.","Alpe Adria Cup 2020 - Kombi Open","AT",2020,"Feldkirchen","4.7.-11.7.20",7,24,0.75,0,0.01,{"$f":"VLOOKUP(G38,Kp!$A$4:$B$24,2,FALSE)","v":1.4999999999999999E-2},0.77500000000000002,{"$f":"M38-I38","v":2.5000000000000022E-2},null,"https://www.soaringspot.com/cs/aac2020/results/offene-klasse"]
[null,"GGP MB 2020 - Gradient GP","CZ",2020,"Mladá Boleslav","22.8.-29.8.20",4,10,0.9,0,0,{"$f":"VLOOKUP(G39,Kp!$A$4:$B$24,2,FALSE)","v":0},0.9,{"$f":"M39-I39","v":0},null,"https://www.soaringspot.com/cs/ggp2020/results/gradient-gp"]
[null,"GGP MB 2020 - Klub GP","CZ",2020,"Mladá Boleslav","22.8.-29.8.20",5,13,0.9,5.0000000000000001E-3,0.01,{"$f":"VLOOKUP(G40,Kp!$A$4:$B$24,2,FALSE)","v":5.0000000000000001E-3},0.92,2.0000000000000018E-2,null,"https://www.soaringspot.com/cs/ggp2020/results/club-gp"]
[null,"GGP MB 2020 - Pohár MV - Kombi","CZ",2020,"Mladá Boleslav","22.8.-29.8.20",5,19,0.9,2.5000000000000001E-2,0,{"$f":"VLOOKUP(G41,Kp!$A$4:$B$24,2,FALSE)","v":5.0000000000000001E-3},0.93,{"$f":"M41-I41","v":3.0000000000000027E-2},null,"https://www.soaringspot.com/cs/ggp2020/results/open"]
["10.","WWGC 2020 - Klub","AU",2020,"Lake Keepit","3.1.-17.1.20",9,17,1,0.02,0.01,{"$f":"VLOOKUP(G42,Kp!$A$4:$B$24,2,FALSE)","v":2.5000000000000001E-2},1.0549999999999999,{"$f":"M42-I42","v":5.4999999999999938E-2},null,"https://www.soaringspot.com/cs/10th-fai-womens-world-gliding-championship-lake-keepit-2020/results/club"]
["10.","WWGC 2020 - Std","AU",2020,"Lake Keepit","3.1.-17.1.20",9,16,1,5.0000000000000001E-3,0.04,{"$f":"VLOOKUP(G43,Kp!$A$4:$B$24,2,FALSE)","v":2.5000000000000001E-2},1.0699999999999998,6.999999999999984E-2,null,"https://www.soaringspot.com/cs/10th-fai-womens-world-gliding-championship-lake-keepit-2020/results/standard"]
["10.","WWGC 2020 - 18m","AU",2020,"Lake Keepit","3.1.-17.1.20",9,14,1,5.0000000000000001E-3,0.03,{"$f":"VLOOKUP(G44,Kp!$A$4:$B$24,2,FALSE)","v":2.5000000000000001E-2},1.0599999999999998,5.9999999999999831E-2,null,"https://www.soaringspot.com/cs/10th-fai-womens-world-gliding-championship-lake-keepit-2020/results/18-meter"]
[null,"Zařazené soutěže 2021:"]
["17.","JPJ 2021 - Klub","CZ",2021,"Šumperk","24.7.-31.7.21",5,38,0.9,0,0,{"$f":"VLOOKUP(G46,Kp!$A$4:$B$24,2,FALSE)","v":5.0000000000000001E-3},0.90500000000000003,{"$f":"M46-I46","v":5.0000000000000044E-3},null,"https://www.soaringspot.com/cs/jpj2021/results/klubova-trida"]
["17.","JPJ 2021 - Kombi","CZ",2021,"Šumperk","24.7.-31.7.21",5,25,0.9,0,0,{"$f":"VLOOKUP(G47,Kp!$A$4:$B$24,2,FALSE)","v":5.0000000000000001E-3},0.90500000000000003,5.0000000000000044E-3,null,"https://www.soaringspot.com/cs/jpj2021/results/kombi-trida"]
[null,"PMČR 2021 - Klub","CZ",2021,"Tábor","22.5.-5.6.21",8,16,1,0.02,0.01,{"$f":"VLOOKUP(G48,Kp!$A$4:$B$24,2,FALSE)","v":0.02},1.05,{"$f":"M48-I48","v":5.0000000000000044E-2},null,"https://www.soaringspot.com/cs/pmcr-pre-jwgc2022-tabor-2021/results/club"]
[null,"PMČR 2021 - Kombi 15m","CZ",2021,"Tábor","22.5.-5.6.21",7,16,1,2.5000000000000001E-2,0.02,{"$f":"VLOOKUP(G49,Kp!$A$4:$B$24,2,FALSE)","v":1.4999999999999999E-2},1.0599999999999998,{"$f":"M49-I49","v":5.9999999999999831E-2},null,"https://www.soaringspot.com/cs/pmcr-pre-jwgc2022-tabor-2021/results/15m-mixed"]
[null,"PMČR 2021 - Kombi Open","CZ",2021,"Tábor","22.5.-5.6.21",7,19,1,0.04,0,{"$f":"VLOOKUP(G50,Kp!$A$4:$B$24,2,FALSE)","v":1.4999999999999999E-2},1.0549999999999999,{"$f":"M50-I50","v":5.4999999999999938E-2},null,"https://www.soaringspot.com/cs/pmcr-pre-jwgc2022-tabor-2021/results/open-mixed"]
[null,"PMRg 2021 - Klub","CZ",2021,"Moravská Třebová","1.8.-15.8.21",8,26,0.9,0.02,0,{"$f":"VLOOKUP(G51,Kp!$A$4:$B$24,2,FALSE)","v":0.02},0.94000000000000006,{"$f":"M51-I51","v":4.0000000000000036E-2},null,"https://www.soaringspot.com/cs/plachtarske-mistrovstvi-regionu-2021-moravska-trebova-2021/results/club"]
[null,"PMRg 2021 - Kombi","CZ",2021,"Moravská Třebová","1.8.-15.8.21",8,13,0.9,0.01,0,{"$f":"VLOOKUP(G52,Kp!$A$4:$B$24,2,FALSE)","v":0.02},0.93,3.0000000000000027E-2,null,"https://www.soaringspot.com/cs/plachtarske-mistrovstvi-regionu-2021-moravska-trebova-2021/results/kombi"]
[null,"PMČRj 2021 - Klub","CZ",2021,"Moravská Třebová","1.8.-15.8.21",7,29,0.9,0,0,{"$f":"VLOOKUP(G53,Kp!$A$4:$B$24,2,FALSE)","v":1.4999999999999999E-2},0.91500000000000004,{"$f":"M53-I53","v":1.5000000000000013E-2},null,"https://www.soaringspot.com/cs/plachtarske-mistrovstvi-cr-junioru-moravska-trebova-2021/results/club"]
[null,"GGP MB 2021 - Gradient GP","CZ",2021,"Mladá Boleslav","21.8.-28.8.21",3,9,0.75,0,0,{"$f":"VLOOKUP(G54,Kp!$A$4:$B$24,2,FALSE)","v":-0.02},0,{"$f":"M54-I54","v":-0.75},"Méně jak 10 soutěžících ve třídě","https://www.soaringspot.com/cs/ggp2021/results/standard"]
[null,"GGP MB 2021 - Klub GP","CZ",2021,"Mladá Boleslav","21.8.-28.8.221",3,17,0.9,0,0,{"$f":"VLOOKUP(G55,Kp!$A$4:$B$24,2,FALSE)","v":-0.02},0.88,-2.0000000000000018E-2,null,"https://www.soaringspot.com/cs/ggp2021/results/club-gp"]
[null,"GGP MB 2021 - Pohár MV - Kombi","CZ",2021,"Mladá Boleslav","21.8.-28.8.221",3,11,0.9,0.01,0,{"$f":"VLOOKUP(G56,Kp!$A$4:$B$24,2,FALSE)","v":-0.02},0.89,{"$f":"M56-I56","v":-1.0000000000000009E-2},null,"https://www.soaringspot.com/cs/ggp2021/results/pohar-metodeje-vlach"]
[null,"Rakovnická Dlaždice 2021 - Kombi","CZ",2021,"Rakovník","14.8.-22.8.21",2,12,0.75,0,0,{"$f":"VLOOKUP(G57,Kp!$A$4:$B$24,2,FALSE)","v":0},0,{"$f":"M57-I57","v":-0.75},"Méně jak 3 platné disciplíny","https://www.soaringspot.com/cs/rakovnicka-dlazdice-rd2021-rakovnik-2021/results/kombi"]
["20.","HOP 2021 - Klub","CZ",2021,"Hronov","7.8.-14.8.21",6,26,0.75,5.0000000000000001E-3,0,{"$f":"VLOOKUP(G58,Kp!$A$4:$B$24,2,FALSE)","v":0.01},0.76500000000000001,{"$f":"M58-I58","v":1.5000000000000013E-2},null,"https://www.soaringspot.com/cs/20-hop-2021-velke-porici-2021/results/klub-hop"]
["20.","HOP 2021 - Kombi","CZ",2021,"Hronov","7.8.-14.8.21",6,17,0.75,0,0,{"$f":"VLOOKUP(G59,Kp!$A$4:$B$24,2,FALSE)","v":0.01},0.76,1.0000000000000009E-2,null,"https://www.soaringspot.com/cs/20-hop-2021-velke-porici-2021/results/kombi-ppf"]
[null,"Pohár Českého Ráje 2021 - Kombi","CZ",2021,"Jičín","31.7.-7.8.21",3,12,0.75,0,0,{"$f":"VLOOKUP(G60,Kp!$A$4:$B$24,2,FALSE)","v":-0.02},0.73,{"$f":"M60-I60","v":-2.0000000000000018E-2},null,"https://www.soaringspot.com/cs/http-wwwletistejicininfo-news-pagephpid-315/results/kombi"]
[null,"Ranský pohár 2021 - Kombi","CZ",2021,"Raná","24.7.-1.8.21",4,19,0.75,0,0,{"$f":"VLOOKUP(G61,Kp!$A$4:$B$24,2,FALSE)","v":0},0.75,0,null,"https://www.soaringspot.com/cs/ransky-pohar-2021-rana-loumy-2021/results/combi"]
[null,"Cirrus GP 2021 - Std. Cirrus","CZ",2021,"Křižanov","24.7.-30.7.21",5,14,0.75,5.0000000000000001E-3,0,{"$f":"VLOOKUP(G62,Kp!$A$4:$B$24,2,FALSE)","v":5.0000000000000001E-3},0.76,1.0000000000000009E-2,null,"https://www.soaringspot.com/cs/cgp2021/results/club"]
["36.","WGC 2021 - Klub","FR",2021,"Montlucon","8.8.-20.8.21",9,36,1,0.05,0.03,{"$f":"VLOOKUP(G63,Kp!$A$4:$B$24,2,FALSE)","v":2.5000000000000001E-2},1.105,0.10499999999999998,null,"https://www.soaringspot.com/cs/wgc2021-club-std-15m-montlucon-gueret-2021/results/club"]
["36.","WGC 2021 - Std","FR",2021,"Montlucon","8.8.-20.8.21",8,30,1,3.5000000000000003E-2,0.03,{"$f":"VLOOKUP(G64,Kp!$A$4:$B$24,2,FALSE)","v":0.02},1.085,8.4999999999999964E-2,null,"https://www.soaringspot.com/cs/wgc2021-club-std-15m-montlucon-gueret-2021/results/standard"]
["36.","WGC 2021 - 15m","FR",2021,"Montlucon","8.8.-20.8.21",8,29,1,3.5000000000000003E-2,0.02,{"$f":"VLOOKUP(G65,Kp!$A$4:$B$24,2,FALSE)","v":0.02},1.075,7.4999999999999956E-2,null,"https://www.soaringspot.com/cs/wgc2021-club-std-15m-montlucon-gueret-2021/results/15-meter"]
[null,"FCC 2021 - Klub","SK",2021,"Prievidza","1.8.-13.8.21",10,10,0.9,5.0000000000000001E-3,0,{"$f":"VLOOKUP(G66,Kp!$A$4:$B$24,2,FALSE)","v":0.03},0.93500000000000005,3.5000000000000031E-2,null,"https://www.soaringspot.com/cs/fcc-gliding-2021-prievidza-2021/results/club"]
[null,"FCC 2021 - Kombi 15m","SK",2021,"Prievidza","1.8.-13.8.21",10,10,0.9,1.4999999999999999E-2,0,{"$f":"VLOOKUP(G67,Kp!$A$4:$B$24,2,FALSE)","v":0.03},0.94500000000000006,4.500000000000004E-2,null,"https://www.soaringspot.com/cs/fcc-gliding-2021-prievidza-2021/results/15-m"]
[null,"FCC 2021 - Kombi Open","SK",2021,"Prievidza","1.8.-13.8.21",10,18,0.9,1.4999999999999999E-2,0,{"$f":"VLOOKUP(G68,Kp!$A$4:$B$24,2,FALSE)","v":0.03},0.94500000000000006,4.500000000000004E-2,null,"https://www.soaringspot.com/cs/fcc-gliding-2021-prievidza-2021/results/combi"]
[null,"Oldtimer Pribina Star 2021 - Klub","SK",2021,"Nitra","7.8.-13.8.21",4,22,0.75,0,0,{"$f":"VLOOKUP(G69,Kp!$A$4:$B$24,2,FALSE)","v":0},0.75,0,null,"https://www.soaringspot.com/cs/oldtimer-pribina-star-2021-nitra-2021/results/unknown"]
["64.","PMSR 2021 - Klub","SK",2021,"Nitra","20.6.-2.7.21",12,22,0.9,1.4999999999999999E-2,0,{"$f":"VLOOKUP(G70,Kp!$A$4:$B$24,2,FALSE)","v":0.03},0.94500000000000006,4.500000000000004E-2,null,"https://www.soaringspot.com/cs/slovak-gliding-championship-2021-nitra-2021/results/club"]
["64.","PMSR 2021 - Kombi 15m","SK",2021,"Nitra","20.6.-2.7.21",12,22,0.9,1.4999999999999999E-2,0.02,{"$f":"VLOOKUP(G71,Kp!$A$4:$B$24,2,FALSE)","v":0.03},0.96500000000000008,6.5000000000000058E-2,null,"https://www.soaringspot.com/cs/slovak-gliding-championship-2021-nitra-2021/results/15-meter"]
["64.","PMSR 2021 - Kombi Open","SK",2021,"Nitra","20.6.-2.7.21",12,22,0.9,0.02,0,{"$f":"VLOOKUP(G72,Kp!$A$4:$B$24,2,FALSE)","v":0.03},0.95000000000000007,5.0000000000000044E-2,null,"https://www.soaringspot.com/cs/slovak-gliding-championship-2021-nitra-2021/results/combi"]
[null,"JWGC 2021 - Klub","LT",2021,"Pociunai","11.7.-23.7.21",7,27,1,1.4999999999999999E-2,0.01,{"$f":"VLOOKUP(G73,Kp!$A$4:$B$24,2,FALSE)","v":1.4999999999999999E-2},{"$f":"IF(I73=0,0,IF(OR(G73=0,G73=1,G73=2),0,IF(H73<10,0,SUM(I73:L73))))","v":1.0399999999999998},3.9999999999999813E-2,null,"https://www.soaringspot.com/cs/jegc2021/results/club"]
[null,"JWGC 2021 - Std","LT",2021,"Pociunai","11.7.-23.7.21",6,17,1,0.01,0.01,{"$f":"VLOOKUP(G74,Kp!$A$4:$B$24,2,FALSE)","v":0.01},1.03,3.0000000000000027E-2,null,"https://www.soaringspot.com/cs/jegc2021/results/standard"]
["10.","WSGP Final 2021 - 18m GP","FR",2021,"Saint Auban","5.9.-11.9.21",6,20,1,0.03,0.03,{"$f":"VLOOKUP(G75,Kp!$A$4:$B$24,2,FALSE)","v":0.01},1.07,7.0000000000000062E-2,null,"https://www.soaringspot.com/cs/wsgp2021/results/grand-prix-world-fin"]
[null,"Safari 2021 - Klub","CZ",2021,"Dvůr Králové","3.7.-17.7.21",4,33,0.75,0,0,{"$f":"VLOOKUP(G76,Kp!$A$4:$B$24,2,FALSE)","v":0},0.75,{"$f":"M76-I76","v":0},null,"https://www.soaringspot.com/cs/safari-cup-2021-dvur-kralove-nad-labem-2021/results/klubova"]
[null,"Safari 2021 - Kombi","CZ",2021,"Dvůr Králové","3.7.-17.7.21",5,13,0.75,0,0,{"$f":"VLOOKUP(G77,Kp!$A$4:$B$24,2,FALSE)","v":5.0000000000000001E-3},0.755,5.0000000000000044E-3,null,"https://www.soaringspot.com/cs/safari-cup-2021-dvur-kralove-nad-labem-2021/results/volna"]
[null,"Safari 2021 - Duo Klub","CZ",2021,"Dvůr Králové","3.7.-17.7.21",3,11,0.75,0,0,{"$f":"VLOOKUP(G78,Kp!$A$4:$B$24,2,FALSE)","v":-0.02},0.73,-2.0000000000000018E-2,null,"https://www.soaringspot.com/cs/safari-cup-2021-dvur-kralove-nad-labem-2021/results/dvousedadlovky"]
[null,"Zařazené soutěže 2022:"]
[null,"PMČR 2022 - Klub","CZ",2022,"Zbraslavice","22.5.-4.6.22",9,16,1,2.5000000000000001E-2,0,{"$f":"VLOOKUP(G80,Kp!$A$4:$B$24,2,FALSE)","v":2.5000000000000001E-2},{"$f":"IF(I80=0,0,IF(OR(G80=0,G80=1,G80=2),0,IF(H80<10,0,SUM(I80:L80))))","v":1.0499999999999998},{"$f":"M80-I80","v":4.9999999999999822E-2},null,"https://www.soaringspot.com/en_gb/plachtarske-mistrovstvi-ceske-republiky-2022-zbraslavice-2022/results/klub#"]
[null,"PMČR 2022 - Kombi 15m","CZ",2022,"Zbraslavice","22.5.-4.6.22",8,13,1,0.02,0.02,{"$f":"VLOOKUP(G81,Kp!$A$4:$B$24,2,FALSE)","v":0.02},{"$f":"IF(I81=0,0,IF(OR(G81=0,G81=1,G81=2),0,IF(H81<10,0,SUM(I81:L81))))","v":1.06},6.0000000000000053E-2,null,"https://www.soaringspot.com/en_gb/plachtarske-mistrovstvi-ceske-republiky-2022-zbraslavice-2022/results/kombi-15#"]
[null,"PMČR 2022 - Kombi Open","CZ",2022,"Zbraslavice","22.5.-4.6.22",7,19,1,0.05,0.01,{"$f":"VLOOKUP(G82,Kp!$A$4:$B$24,2,FALSE)","v":1.4999999999999999E-2},1.075,7.4999999999999956E-2,null,"https://www.soaringspot.com/en_gb/plachtarske-mistrovstvi-ceske-republiky-2022-zbraslavice-2022/results/kombi-open#"]
["18.","JPJ 2022 - Klub","CZ",2022,"Šumperk","7.5.-14.5.22",5,39,0.9,0,0,{"$f":"VLOOKUP(G83,Kp!$A$4:$B$24,2,FALSE)","v":5.0000000000000001E-3},0.90500000000000003,5.0000000000000044E-3,null,"https://www.soaringspot.com/en_gb/jpj2022/results/klubova-trida#"]
["18.","JPJ 2022 - Kombi","CZ",2022,"Šumperk","7.5.-14.5.22",5,20,0.9,5.0000000000000001E-3,0,{"$f":"VLOOKUP(G84,Kp!$A$4:$B$24,2,FALSE)","v":5.0000000000000001E-3},0.91,1.0000000000000009E-2,null,"https://www.soaringspot.com/en_gb/jpj2022/results/kombi-trida#"]
[null,"PMRg 2022 - Klub","CZ",2022,"Hodkovice","14.8.-26.8.22",6,13,0.9,5.0000000000000001E-3,0,{"$f":"VLOOKUP(G85,Kp!$A$4:$B$24,2,FALSE)","v":0.01},0.91500000000000004,1.5000000000000013E-2,null,"https://www.soaringspot.com/en_gb/mistrovstvi-ceske-republiky-regionu-2022-hodkovice-2022/results/klubova-trida#"]
[null,"PMRg 2022 - Kombi","CZ",2022,"Hodkovice","14.8.-26.8.22",6,11,0.9,0,0,{"$f":"VLOOKUP(G86,Kp!$A$4:$B$24,2,FALSE)","v":0.01},0.91,1.0000000000000009E-2,null,"https://www.soaringspot.com/en_gb/mistrovstvi-ceske-republiky-regionu-2022-hodkovice-2022/results/kombi-open#"]
[null,"PMČRj 2022 - Klub","CZ",2022,"Hodkovice","3.7.-16.7.22",6,29,0.9,5.0000000000000001E-3,0,{"$f":"VLOOKUP(G87,Kp!$A$4:$B$24,2,FALSE)","v":0.01},0.91500000000000004,1.5000000000000013E-2,null,"https://www.soaringspot.com/en_gb/plachtarske-mistrovstvi-cr-junioru-hodkovice-nad-mohelkou-2022/results/klubova-trida#"]
[null,"GGP MB 2022 - Klub GP","CZ",2022,"Mladá Boleslav","27.8.-3.9.22",5,15,0.9,"0.005",0,{"$f":"VLOOKUP(G88,Kp!$A$4:$B$24,2,FALSE)","v":5.0000000000000001E-3},0.90500000000000003,5.0000000000000044E-3,null,"https://www.soaringspot.com/en_gb/ggp2022/results/club-gp"]
[null,"GGP MB 2022 - Pohár MV - Kombi","CZ",2022,"Mladá Boleslav","27.8.-3.9.22",5,11,0.9,0.01,0,{"$f":"VLOOKUP(G89,Kp!$A$4:$B$24,2,FALSE)","v":5.0000000000000001E-3},0.91500000000000004,1.5000000000000013E-2,null,"https://www.soaringspot.com/en_gb/ggp2022/results/pohar-metodeje-vlach#"]
[null,"Rakovnická Dlaždice 2022 - Klub","CZ",2022,"Rakovník","6.8-14.8.22",6,14,0,0,0,{"$f":"VLOOKUP(G90,Kp!$A$4:$B$24,2,FALSE)","v":0.01},0,{"$f":"M90-I90","v":0},"Rozhodnutím PK AeČR","https://www.soaringspot.com/en_gb/rakovnicka-dlazdice-2022-rakovnik1-2022/results/open#"]
["21.","HOP 2022 - Klub","CZ",2022,"Velké Poříčí","13.8.-20.8.22",4,23,0.75,5.0000000000000001E-3,0,{"$f":"VLOOKUP(G91,Kp!$A$4:$B$24,2,FALSE)","v":0},0.755,5.0000000000000044E-3,null,"https://www.soaringspot.com/en_gb/21-hop-2022-velke-porici-2022/results/klub-hop#"]
["21.","HOP 2022 - Kombi","CZ",2022,"Velké Poříčí","13.8.-20.8.22",4,19,0.75,"0.005",0,{"$f":"VLOOKUP(G92,Kp!$A$4:$B$24,2,FALSE)","v":0},0.75,0,null,"https://www.soaringspot.com/en_gb/21-hop-2022-velke-porici-2022/results/kombi-ppf"]
[null,"Pohár Českého Ráje 2022 - Klub","CZ",2022,"Jičín","23.7.-30.7.22",3,17,0,0,0,{"$f":"VLOOKUP(G93,Kp!$A$4:$B$24,2,FALSE)","v":-0.02},0,0,"Rozhodnutím PK AeČR","https://www.soaringspot.com/en_gb/pohar-ceskeho-raje-2022-jicin-2022/results/klub#"]
[null,"Ranský pohár 2022 - Klub","CZ",2022,"Jičín","30.7.-6.8.22",6,21,0,0,0,{"$f":"VLOOKUP(G94,Kp!$A$4:$B$24,2,FALSE)","v":0.01},0,0,"Rozhodnutím PK AeČR","https://www.soaringspot.com/en_gb/ransky-pohar-2022-rana-loumy-2022/results/combi#"]
[null,"Ranský pohár 2022 - Kombi","CZ",2022,"Raná","30.7.-6.8.22",6,7,0,0,0,{"$f":"VLOOKUP(G95,Kp!$A$4:$B$24,2,FALSE)","v":0.01},0,0,"Rozhodnutím PK AeČR, méně jak 10 soutěžících ve třídě","https://www.soaringspot.com/en_gb/ransky-pohar-2022-rana-loumy-2022/results/super-combi"]
[null,"Safari 2022 - Duo","CZ",2022,"Dvůr Králové","2.7.-16.7.22",4,9,0,0,0,{"$f":"VLOOKUP(G96,Kp!$A$4:$B$24,2,FALSE)","v":0},0,{"$f":"M96-I96","v":0},"Rozhodnutím PK AeČR, méně jak 10 soutěžících ve třídě","https://www.soaringspot.com/en_gb/safari-cup-2022-dvur-kralove-nad-labem-2022/results/duo#"]
[null,"Safari 2022 - Klub","CZ",2022,"Dvůr Králové","2.7.-16.7.22",5,26,0.75,0,0,{"$f":"VLOOKUP(G97,Kp!$A$4:$B$24,2,FALSE)","v":5.0000000000000001E-3},0.755,5.0000000000000044E-3,null,"https://www.soaringspot.com/en_gb/safari-cup-2022-dvur-kralove-nad-labem-2022/results/klub"]
[null,"Safari 2022 - Kombi","CZ",2022,"Dvůr Králové","2.7.-16.7.22",5,10,0.75,0,0,{"$f":"VLOOKUP(G98,Kp!$A$4:$B$24,2,FALSE)","v":5.0000000000000001E-3},0.755,5.0000000000000044E-3,null,"https://www.soaringspot.com/en_gb/safari-cup-2022-dvur-kralove-nad-labem-2022/results/volna"]
[null,"Toužim Cup 2022 - Klub","CZ",2022,"Toužim","9.7.-17.7.22",5,26,0.9,0.01,0,{"$f":"VLOOKUP(G99,Kp!$A$4:$B$24,2,FALSE)","v":5.0000000000000001E-3},0.91500000000000004,1.5000000000000013E-2,null,"https://www.soaringspot.com/en_gb/t-cup-2022-touzim-2022/results/club# "]
[null,"Toužim Cup 2022 - Kombi","CZ",2022,"Toužim","9.7.-17.7.22",5,26,0.9,5.0000000000000001E-3,0,{"$f":"VLOOKUP(G100,Kp!$A$4:$B$24,2,FALSE)","v":5.0000000000000001E-3},0.91,1.0000000000000009E-2,null,"https://www.soaringspot.com/en_gb/t-cup-2022-touzim-2022/results/kombi"]
[null,"FL 2022 - Kombi","CZ",2022,"Frýdlant n/Ostr.","1.7.-9.7.22",3,15,0.75,5.0000000000000001E-3,0,{"$f":"VLOOKUP(G101,Kp!$A$4:$B$24,2,FALSE)","v":-0.02},0.73499999999999999,-1.5000000000000013E-2,null,"https://www.soaringspot.com/en_gb/fl-2022-adrenalin-grand-prix-frydlant-2022/results/fl#"]
[null,"Adrenalin GP 2022 - Klub GP","CZ",2022,"Frýdlant n/Ostr.","1.7.-9.7.22",4,12,0.9,0,0,{"$f":"VLOOKUP(G102,Kp!$A$4:$B$24,2,FALSE)","v":0},0.9,0,null,"https://www.soaringspot.com/en_gb/fl-2022-adrenalin-grand-prix-frydlant-2022/results/adrenalin-grand-prix"]
[null,"Ulfův memoriál","CZ",2022,"Raná","21.5.-28.5.22",3,10,0,0,0,{"$f":"VLOOKUP(G103,Kp!$A$4:$B$24,2,FALSE)","v":-0.02},{"$f":"IF(I103=0,0,IF(OR(G103=0,G103=1,G103=2),0,IF(H103<10,0,SUM(I103:L103))))","v":0},0,"Rozhodnutím PK AeČR","https://www.soaringspot.com/en_gb/ulfuv-memorial-zavody-historickych-kluzaku-rana-loumy-2022/results/oldtimer"]
[null,"Podbrdský pohár","CZ",2022,"Letkov","30.4.-7.5.22",4,20,0,0,0,{"$f":"VLOOKUP(G104,Kp!$A$4:$B$24,2,FALSE)","v":0},0,0,"Rozhodnutím PK AeČR","https://www.soaringspot.com/en_gb/pp2022/results/kombi#"]
[null,"AZ Cup 2022 - Klub","CZ",2022,"Zbraslavice","22.4.-30.4.22",6,22,0.9,5.0000000000000001E-3,0,{"$f":"VLOOKUP(G105,Kp!$A$4:$B$24,2,FALSE)","v":0.01},0.91500000000000004,1.5000000000000013E-2,null,"https://www.soaringspot.com/en_gb/az-cup-2022-zbraslavice-2022/results/klub#"]
[null,"AZ Cup 2022 - Kombi ","CZ",2022,"Zbraslavice","22.4.-30.4.22",6,24,0.9,3.5000000000000003E-2,0.01,{"$f":"VLOOKUP(G106,Kp!$A$4:$B$24,2,FALSE)","v":0.01},0.95500000000000007,5.5000000000000049E-2,null,"https://www.soaringspot.com/en_gb/az-cup-2022-zbraslavice-2022/results/kombi-a"]
[null,"PPV 2022 - Klub","CZ",2022,"Havlíčkův Brod","23.7-30.7.22",3,37,0.9,5.0000000000000001E-3,0,{"$f":"VLOOKUP(G107,Kp!$A$4:$B$24,2,FALSE)","v":-0.02},0.88500000000000001,-1.5000000000000013E-2,null,"https://www.soaringspot.com/en_gb/ppv-2022-lkhb/results/klub#"]
[null,"PPV 2022 - Kombi","CZ",2022,"Havlíčkův Brod","23.7-30.7.22",4,25,0.9,0.02,0,{"$f":"VLOOKUP(G108,Kp!$A$4:$B$24,2,FALSE)","v":0},0.92,2.0000000000000018E-2,null,"https://www.soaringspot.com/en_gb/ppv-2022-lkhb/results/kombi"]
[null,"WGC 2022 - 18m","HU",2022,"Szeged","24.7.-5.8.22",10,42,1,0.05,0.01,{"$f":"VLOOKUP(G109,Kp!$A$4:$B$24,2,FALSE)","v":0.03},1.0900000000000001,{"$f":"M109-I109","v":9.000000000000008E-2},null,"https://www.soaringspot.com/en_gb/37th-fai-world-gliding-championships-2022-szeged-2022/results/18m#"]
[null,"WGC 2022 - Open","HU",2022,"Szeged","24.7.-5.8.22",10,22,1,0.05,0.02,{"$f":"VLOOKUP(G110,Kp!$A$4:$B$24,2,FALSE)","v":0.03},1.1000000000000001,0.10000000000000009,null,"https://www.soaringspot.com/en_gb/37th-fai-world-gliding-championships-2022-szeged-2022/results/open#"]
[null,"WGC 2022 - Duo 20m","HU",2022,"Szeged","24.7.-5.8.22",10,19,1,0.05,0.01,{"$f":"VLOOKUP(G111,Kp!$A$4:$B$24,2,FALSE)","v":0.03},1.0900000000000001,9.000000000000008E-2,null,"https://www.soaringspot.com/en_gb/37th-fai-world-gliding-championships-2022-szeged-2022/results/20m-multi-seat"]
[null,"EGC 2022 - Klub","LT",2022,"Pociunai","3.7.-15.7.22",8,28,1,3.5000000000000003E-2,0.02,{"$f":"VLOOKUP(G112,Kp!$A$4:$B$24,2,FALSE)","v":0.02},1.075,7.4999999999999956E-2,null,"https://www.soaringspot.com/en_gb/21st-fai-european-gliding-championships-pociunai-2022/results/club#"]
[null,"EGC 2022 - Std","LT",2022,"Pociunai","3.7.-15.7.22",7,28,1,4.4999999999999998E-2,0.03,{"$f":"VLOOKUP(G113,Kp!$A$4:$B$24,2,FALSE)","v":1.4999999999999999E-2},1.0899999999999999,8.9999999999999858E-2,null,"https://www.soaringspot.com/en_gb/21st-fai-european-gliding-championships-pociunai-2022/results/standard#"]
[null,"EGC 2022 - 15m","LT",2022,"Pociunai","3.7.-15.7.22",8,26,1,0.02,0.02,{"$f":"VLOOKUP(G114,Kp!$A$4:$B$24,2,FALSE)","v":0.02},1.06,6.0000000000000053E-2,null,"https://www.soaringspot.com/en_gb/21st-fai-european-gliding-championships-pociunai-2022/results/15-meter#"]
[null,"JWGC 2022 - Klub","CZ",2022,"Tabor","30.7.-12.8.22",10,45,1,1.4999999999999999E-2,0.03,{"$f":"VLOOKUP(G115,Kp!$A$4:$B$24,2,FALSE)","v":0.03},1.075,7.4999999999999956E-2,null,"https://www.soaringspot.com/en_gb/junior-world-gliding-championships-2022-tabor-2022/results/class-club#"]
[null,"JWGC 2022 - Std","CZ",2022,"Tabor","30.7.-12.8.22",10,29,1,1.4999999999999999E-2,0.03,{"$f":"VLOOKUP(G116,Kp!$A$4:$B$24,2,FALSE)","v":0.03},1.075,7.4999999999999956E-2,null,"https://www.soaringspot.com/en_gb/junior-world-gliding-championships-2022-tabor-2022/results/class-standard#"]
["11.","WWGC 2022 - Klub","UK",2022,"Husbands Bosworth","14.8.-26.8.22",6,18,1,0.01,0.02,{"$f":"VLOOKUP(G117,Kp!$A$4:$B$24,2,FALSE)","v":0.01},1.04,4.0000000000000036E-2,null,"https://www.soaringspot.com/en_gb/11th-fai-womens-world-gliding-championship-2022/results/club#"]
["11.","WWGC 2022 - Std","UK",2022,"Husbands Bosworth","14.8.-26.8.22",8,13,1,5.0000000000000001E-3,0.01,{"$f":"VLOOKUP(G118,Kp!$A$4:$B$24,2,FALSE)","v":0.02},1.0349999999999999,3.499999999999992E-2,null,"https://www.soaringspot.com/en_gb/11th-fai-womens-world-gliding-championship-2022/results/standard#"]
["11.","WWGC 2022 - 18m","UK",2022,"Husbands Bosworth","14.8.-26.8.22",8,12,1,5.0000000000000001E-3,0.03,{"$f":"VLOOKUP(G119,Kp!$A$4:$B$24,2,FALSE)","v":0.02},1.0549999999999999,5.4999999999999938E-2,null,"https://www.soaringspot.com/en_gb/11th-fai-womens-world-gliding-championship-2022/results/18-meter"]
["65.","PMSR 2022 - Klub","SK",2022,"Martin","12.6.-26.6.22",11,16,0.9,5.0000000000000001E-3,0,{"$f":"VLOOKUP(G120,Kp!$A$4:$B$24,2,FALSE)","v":0.03},0.93500000000000005,3.5000000000000031E-2,null,"https://www.soaringspot.com/en_gb/65majstrovstva-sr-v-bezmotorovom-lietani-2022-martin-2022/results/klubova-trieda#"]
["65.","PMSR 2022 - Kombi A+B","SK",2022,"Martin","12.6.-26.6.22",10,24,0.9,5.0000000000000001E-3,0,{"$f":"VLOOKUP(G121,Kp!$A$4:$B$24,2,FALSE)","v":0.03},0.93500000000000005,3.5000000000000031E-2,null,"https://www.soaringspot.com/en_gb/65majstrovstva-sr-v-bezmotorovom-lietani-2022-martin-2022/results/kombinovana-b-trieda#"]
[null,"Oldtimer Pribina Star 2022 - Klub","SK",2022,"Nitra","6.8.-13.8.22",4,16,0.75,0,0,{"$f":"VLOOKUP(G122,Kp!$A$4:$B$24,2,FALSE)","v":0},0.75,0,null,"https://www.soaringspot.com/en_gb/oldtimer-pribina-star-2022-nitra-2022/results/club#"]
[null,"Top Gun 2022 - Kombi","SK",2022,"Prievidza","6.8.-13.8.22",5,8,0.75,0,0,{"$f":"VLOOKUP(G123,Kp!$A$4:$B$24,2,FALSE)","v":5.0000000000000001E-3},0,-0.75,"Méně jak 10 soutěžících ve třídě","https://www.soaringspot.com/en_gb/top-gun-gliding-cup-2022-prievidza-2022/results/mixed#"]
["20.","Fatraglide 2022 - Klub","SK",2022,"Martin","21.5.-28.5.22",6,16,0.75,0,0,{"$f":"VLOOKUP(G124,Kp!$A$4:$B$24,2,FALSE)","v":0.01},0.76,1.0000000000000009E-2,null,"https://www.soaringspot.com/en_gb/20-fatraglide-2022-martin-2022/results/club#"]
["20.","Fatraglide 2022 - Kombi","SK",2022,"Martin","21.5.-28.5.22",6,10,0.75,5.0000000000000001E-3,0,{"$f":"VLOOKUP(G125,Kp!$A$4:$B$24,2,FALSE)","v":0.01},0.76500000000000001,1.5000000000000013E-2,null,"https://www.soaringspot.com/en_gb/20-fatraglide-2022-martin-2022/results/kombinovana-trieda#"]
[null,"FCC 2022 - Klub","SK",2022,"Prievidza","24.4.-5.5.22",7,43,0.9,1.4999999999999999E-2,0.01,{"$f":"VLOOKUP(G126,Kp!$A$4:$B$24,2,FALSE)","v":1.4999999999999999E-2},0.94000000000000006,4.0000000000000036E-2,null,"https://www.soaringspot.com/en_gb/fcc-gliding-2022-prievidza-2022/results/club"]
[null,"FCC 2022 - Kombi 15m","SK",2022,"Prievidza","24.4.-5.5.22",7,28,0.9,1.4999999999999999E-2,0.03,{"$f":"VLOOKUP(G127,Kp!$A$4:$B$24,2,FALSE)","v":1.4999999999999999E-2},0.96000000000000008,6.0000000000000053E-2,null,"https://www.soaringspot.com/en_gb/fcc-gliding-2022-prievidza-2022/results/15m#"]
[null,"FCC 2022 - Kombi Open","SK",2022,"Prievidza","24.4.-5.5.22",7,45,0.9,0.03,0.02,{"$f":"VLOOKUP(G128,Kp!$A$4:$B$24,2,FALSE)","v":1.4999999999999999E-2},0.96500000000000008,6.5000000000000058E-2,null,"https://www.soaringspot.com/en_gb/fcc-gliding-2022-prievidza-2022/results/combi#"]
[null,"Pribina Cup 2022 - Klub","SK",2022,"Nitra","15.4.-23.4.22",5,28,0.9,2.5000000000000001E-2,0.01,{"$f":"VLOOKUP(G129,Kp!$A$4:$B$24,2,FALSE)","v":5.0000000000000001E-3},0.94000000000000006,4.0000000000000036E-2,null,"https://www.soaringspot.com/en_gb/pribina-cup-2022-nitra-2022/results/club#"]
[null,"Pribina Cup 2022 - Kombi 15m","SK",2022,"Nitra","15.4.-23.4.22",5,26,0.9,1.4999999999999999E-2,0.01,{"$f":"VLOOKUP(G130,Kp!$A$4:$B$24,2,FALSE)","v":5.0000000000000001E-3},0.93,3.0000000000000027E-2,null,"https://www.soaringspot.com/en_gb/pribina-cup-2022-nitra-2022/results/15-meter#"]
[null,"Pribina Cup 2022 - Kombi Open","SK",2022,"Nitra","15.4.-23.4.22",5,46,0.9,4.4999999999999998E-2,0,{"$f":"VLOOKUP(G131,Kp!$A$4:$B$24,2,FALSE)","v":5.0000000000000001E-3},0.95000000000000007,5.0000000000000044E-2,null,"https://www.soaringspot.com/en_gb/pribina-cup-2022-nitra-2022/results/open#"]
["12.","Flatland Cup 2022 - Klub","SK",2022,"Szeged","1.7.-9.7.22",6,33,0.9,0.03,0,{"$f":"VLOOKUP(G132,Kp!$A$4:$B$24,2,FALSE)","v":0.01},0.94000000000000006,{"$f":"M132-I132","v":4.0000000000000036E-2},null,"https://www.soaringspot.com/en_gb/xii-flatland-cup-szeged-2022/results/fai-club#"]
["12.","Flatland Cup 2022 - Kombi Open","SK",2022,"Szeged","1.7.-9.7.22",7,22,0.9,0.03,0,{"$f":"VLOOKUP(G133,Kp!$A$4:$B$24,2,FALSE)","v":1.4999999999999999E-2},0.94500000000000006,4.500000000000004E-2,null,"https://www.soaringspot.com/en_gb/xii-flatland-cup-szeged-2022/results/mixed-15m#"]
[null,"SGP Sweden 2022 - 18m GP","SE",2022,"Boras","8.5.-14.5.22",3,15,0.9,5.0000000000000001E-3,0,{"$f":"VLOOKUP(G134,Kp!$A$4:$B$24,2,FALSE)","v":-0.02},0.88500000000000001,-1.5000000000000013E-2,null,"https://sweden22.sgp.aero/race-results"]

{"sheet":"Kp","index":2,"n_rows":24,"n_cols":2,"rows_kept":24,"cut":false,"hidden":true,"merged":[]}
["Korekce na počet platných disciplín"]
[]
["Počet platných disciplín","Korekce Kp"]
[0,0]
[1,0]
[2,0]
[3,-0.02]
[4,0]
[5,5.0000000000000001E-3]
[6,0.01]
[7,1.4999999999999999E-2]
[8,0.02]
[9,2.5000000000000001E-2]
[10,0.03]
[11,0.03]
[12,0.03]
[13,0.03]
[14,0.03]
[15,0.03]
[16,0.03]
[17,0.03]
[18,0.03]
[19,0.03]
[20,0.03]

{"sheet":"Pilot","index":3,"n_rows":1011,"n_cols":17,"rows_kept":1011,"cut":false,"hidden":false,"merged":[]}
["Jmeno","Rok nar.","Aeroklub","Region","M/F","Junior v roce",2023,"Hranice pro juniory:\n/ Poznámka:",{"$f":"G1-25","v":1998},"Počet Jun:",{"$f":"COUNTIF(F2:F2177,\"Junior v roce \"&G1)","v":71},"Počet F:",{"$f":"COUNTIF(E2:E2177,\"F\")","v":73},"Počet M:",{"$f":"COUNTIF(E2:E2177,\"M\")","v":936},"Počet celk:",{"$f":"COUNTIF(A2:A2177,\"<>\")","v":1010}]
["-"," "," ","Region"," "," "]
["Adam Hepal",2004,"Kolín",{"$f":"VLOOKUP(C3,Region,2,0)","v":"CZ/C1"},"M",{"$f":"IF(A3=\"(prázdné)\",\"\",IF(($G$1-B3)>25,\"\",\"Junior v roce \"&$G$1))","v":"Junior v roce 2023"}]
["Adam Jandora",1992,"Medlánky",{"$f":"VLOOKUP(C4,Region,2,0)","v":"CZ/M"},"M",{"$f":"IF(A4=\"(prázdné)\",\"\",IF(($G$1-B4)>25,\"\",\"Junior v roce \"&$G$1))","v":""}]
["Adam Olejar",1991,"Medlánky","CZ/M","M",{"$f":"IF(A5=\"(prázdné)\",\"\",IF(($G$1-B5)>25,\"\",\"Junior v roce \"&$G$1))","v":""}]
["Adam Pergner",2002,"Rakovník",{"$f":"VLOOKUP(C6,Region,2,0)","v":"CZ/C1"},"M",{"$f":"IF(A6=\"(prázdné)\",\"\",IF(($G$1-B6)>25,\"\",\"Junior v roce \"&$G$1))","v":"Junior v roce 2023"}]
["Adam Sostaric",1991,"Chrudim","CZ/C2","M",""]
["Adam Sugl",1987,"Vyškov","CZ/M","M",""]
["Albert Schneider",1967,"Hranice",{"$f":"VLOOKUP(C9,Region,2,0)","v":"CZ/M"},"M",""]
["Albrecht Beat",1953,"Šumperk","CZ/M","M",""]
["Alena Netusilova",1970,"Zbraslavice","CZ/C1","F",""]
["Ales Cervenka",1981,"Soběslav","CZ/C1","M",""]
["Ales Hajek",1958,"Mladá Boleslav","CZ/C1","M",""]
["Ales Hala",1994,"Tábor","CZ/C1","M",""]
["Ales Holoubek",1966,"Jičín","CZ/C2","M",""]
["Ales Tresl",1958,"Raná","CZ/C2","M",""]
["Ales Vorac",1985,"Křižanov","CZ/M","M",""]
["Ales Vyhnal",1989,"Kralupy","CZ/C1","M",""]
["Alexander Nerandzic",1966,"Raná","CZ/C2","M",""]
["Alois Cmajdalka",1963,"Kunovice","CZ/M","M",""]
["Alois Sohr",1939,"Hranice","CZ/M","M",""]
["Andrea Bensova",1978,"Zbraslavice","CZ/C1","F",""]
["Aneta Prachtova",1991,"Kralupy","CZ/C1","F",""]
["Anna Bordovska",1989,"Mladá Boleslav","CZ/C1","F",""]
["Antonin Bordovsky",1951,"Krnov","CZ/M","M",""]
["Antonin Bruna",1945,"GAC Benešov","CZ/C1","M",""]
["Antonin Burger",1943,"Panenský Týnec","CZ/C1","M",""]
["Antonin Konicek",1973,"Kunovice","CZ/M","M",""]
["Antonin Kutalek",1943,"Zábřeh","CZ/M","M",""]
["Antonin Novotny",1972,"Luhačovice","CZ/M","M",""]
["Antonin Otrusina",1948,"Křižanov","CZ/M","M",""]
["Antonin Pilat",1971,"Vyškov","CZ/M","M",""]
["Antonin Teichmann",1965,"Hronov","CZ/C2","M",""]
["Barbora Kubickova",1993,"Medlánky","CZ/M","F",""]
["Barbora Moravcova",1994,"Zbraslavice","CZ/C1","F",""]
["Barbora Nahodilova",1989,"Hosín","CZ/C1","F",""]
["Bedrich Honzicek",1972,"Letňany",{"$f":"VLOOKUP(C37,Region,2,0)","v":"CZ/C1"},"M",""]
["Bedrich Prochazka",1957,"Rakovník","CZ/C1","M",""]
["Bohdan Sebestik",1957,"Kroměříž","CZ/M","M",""]
["Bohumil Kunc",1983,"Kunovice","CZ/M","M",""]
["Bohumil Rikal",1946,"Hronov","CZ/C2","M",""]
["Bohumil Svec",1985,"Roudnice","CZ/C2","M",""]
["Bohumir Zajdl",1950,"Dvůr Králové","CZ/C2","M",""]
["Bohus Marcinik",1947,"Příbram","CZ/C1","M",""]
["Boris Bachraty",1974,"Kyjov","CZ/M","M","",null,"Dříve Břeclav"]
["Bronislav Smatana",1970,"Zbraslavice","CZ/C1","M",""]
["Carsten Tietz",1966,"Hronov",{"$f":"VLOOKUP(C47,Region,2,0)","v":"CZ/C2"},"M",""]
["Christof Madoery",1958,"Šumperk",{"$f":"VLOOKUP(C48,Region,2,0)","v":"CZ/M"},"M",""]
["Dalibor Daricek",1993,"Kunovice","CZ/M","M",""]
["Dalibor Fencl",1966,"Zbraslavice","CZ/C1","M",""]
["Dalibor Pek",1968,"Raná","CZ/C2","M",""]
["Dana Novakova",1965,"Mladá Boleslav","CZ/C1","F",""]
["Danes Grula",1961,"Medlánky","CZ/M","M",""]
["Daniel Adamec",1977,"Hranice","CZ/M","M",""]
["Daniel Brichta",1962,"GAC Benešov",{"$f":"VLOOKUP(C55,Region,2,0)","v":"CZ/C1"},"M",""]
["Daniel Devecka",1981,"Vlašim",{"$f":"VLOOKUP(C56,Region,2,0)","v":"CZ/C1"},"M",{"$f":"IF(A56=\"(prázdné)\",\"\",IF(($G$1-B56)>25,\"\",\"Junior v roce \"&$G$1))","v":""}]
["Daniel Dvorak",1980,"Letkov","CZ/C1","M",""]
["Daniel Krasnicky",1984,"Příbram","CZ/C1","M",""]
["Daniel Moravek",1973,"Hodkovice","CZ/C2","M",""]
["Daniel Novak",1971,"Letkov","CZ/C1","M",""]
["Daniel Ryba",1994,"Dvůr Králové","CZ/C2","M",""]
["Daniel Suchy",1995,"Hranice","CZ/M","M",""]
["Daniela Frankova",1997,"Jaroměř","CZ/C2","M",""]
["Daniela Stepankova",1988,"Hosín","CZ/C1","F",""]
["David Cisar",1987,"Křižanov","CZ/M","M",""]
["David Darnady",1987,"Zbraslavice",{"$f":"VLOOKUP(C66,Region,2,0)","v":"CZ/C1"},"M",{"$f":"IF(A66=\"(prázdné)\",\"\",IF(($G$1-B66)>25,\"\",\"Junior v roce \"&$G$1))","v":""}]
["David Kaspar",1993,"Jaroměř",{"$f":"VLOOKUP(C67,Region,2,0)","v":"CZ/C2"},"M",""]
["David Krcil",1976,"Raná",{"$f":"VLOOKUP(C68,Region,2,0)","v":"CZ/C2"},"M",""]
["David Londa",1973,"Mladá Boleslav","CZ/C1","M",""]
["David Mach",1994,"Hronov","CZ/C2","M",""]
["David Marek",1991,"Křižanov","CZ/M","M",""]
["David Nenicka",2005,"Hranice",{"$f":"VLOOKUP(C72,Region,2,0)","v":"CZ/M"},"M",{"$f":"IF(A72=\"(prázdné)\",\"\",IF(($G$1-B72)>25,\"\",\"Junior v roce \"&$G$1))","v":"Junior v roce 2023"}]
["David Novotny",1984,"Polička","CZ/C2","M",""]
["David Popovsky",1976,"Rakovník","CZ/C1","M",{"$f":"IF(A74=\"(prázdné)\",\"\",IF(($G$1-B74)>25,\"\",\"Junior v roce \"&$G$1))","v":""}]
["David Prihoda",1994,"Hranice","CZ/M","M",""]
["David Rozporka",1994,"Hronov","CZ/C2","M",""]
["David Rytina",1983,"Zbraslavice","CZ/C1","M",""]
["David Riha",1983,"Vlašim","CZ/C1","M",""]
["David Sachl",1978,"Kralupy","CZ/C1","M",""]
["David Tejnora",1982,"Jaroměř","CZ/C2","M",""]
["David Trnecka",1979,"Medlánky","CZ/M","M",""]
["David Vrchota",1976,"Jaroměř",{"$f":"VLOOKUP(C82,Region,2,0)","v":"CZ/C2"},"M",""]
["David Zapletal",1970,"Mladá Boleslav","CZ/C1","M",""]
["David Zatecka",1993,"GAC Benešov",{"$f":"VLOOKUP(C84,Region,2,0)","v":"CZ/C1"},"M",""]
["Dusan Gadas",1960,"Hranice","CZ/M","M",""]
["Dusan Kmet",1972,"Křižanov","CZ/M","M",""]
["Dusan Patocka",1972,"Vrchlabí",{"$f":"VLOOKUP(C87,Region,2,0)","v":"CZ/C2"},"M",{"$f":"IF(A87=\"(prázdné)\",\"\",IF(($G$1-B87)>25,\"\",\"Junior v roce \"&$G$1))","v":""}]
["Dusan Sys",1977,"Šumperk","CZ/M","M",""]
["Dusan Zerzan",1970,"Šumperk","CZ/M","M",""]
["Eduard Niko",1988,"Zbraslavice",{"$f":"VLOOKUP(C90,Region,2,0)","v":"CZ/C1"},"M",{"$f":"IF(A90=\"(prázdné)\",\"\",IF(($G$1-B90)>25,\"\",\"Junior v roce \"&$G$1))","v":""}]
["Eduard Svoboda",1957,"Raná","CZ/C2","M",""]
["Eliska Bohunovska",2001,"Hranice",{"$f":"VLOOKUP(C92,Region,2,0)","v":"CZ/M"},"F","Junior v roce 2023"]
["Eva Cerna",1964,"Příbram","CZ/C1","F",""]
["Eva Klapkova",1993,"Raná",{"$f":"VLOOKUP(C94,Region,2,0)","v":"CZ/C2"},"F",{"$f":"IF(A94=\"(prázdné)\",\"\",IF(($G$1-B94)>25,\"\",\"Junior v roce \"&$G$1))","v":""}]
["Evzen Skala",1954,"Vrchlabí","CZ/C2","M",""]
["Fabian Curda",2004,"Zábřeh",{"$f":"VLOOKUP(C96,Region,2,0)","v":"CZ/M"},"M","Junior v roce 2023"]
["Filip Borůvka",2004,"Nové Město nad Metují",{"$f":"VLOOKUP(C97,Region,2,0)","v":"CZ/C2"},"M",{"$f":"IF(A97=\"(prázdné)\",\"\",IF(($G$1-B97)>25,\"\",\"Junior v roce \"&$G$1))","v":"Junior v roce 2023"}]
["Filip Graf",1981,"Křižanov","CZ/M","M",""]
["Filip Malik",2001,"Letňany",{"$f":"VLOOKUP(C99,Region,2,0)","v":"CZ/C1"},"M","Junior v roce 2023"]
["Filip Neumann",1977,"GAC Benešov","CZ/C1","M",""]
["Filip Sklenar",1990,"Žamberk","CZ/C2","M",""]
["Filip sirc",1993,"Letňany","CZ/C1","M",""]
["Filip Vita",2001,"Kroměříž","CZ/M","M","Junior v roce 2023"]
["Frantisek Brozman",1960,"Tachov","CZ/C1","M",""]
["Frantisek Filandr",1956,"Most","CZ/C2","M",""]
["Frantisek Hubacek",1978,"Točná","CZ/C1","M",""]
["Frantisek Komarek",1985,"Zbraslavice","CZ/C1","M",""]
["Frantisek Kriz",1961,"Toužim","CZ/C1","M",""]
["Frantisek Marek",1960,"Křižanov","CZ/M","M",""]
["Frantisek Matousek",1937,"Nové Město nad Metují","CZ/C2","M",""]
["Frantisek Myska",1968,"Most","CZ/C2","M",""]
["Frantisek Pycha",1972,"Chrudim","CZ/C2","M",""]
["Frantisek Soucek",1945,"Dvůr Králové","CZ/C2","M",""]
["Frantisek Sindelar",1954,"Kralupy","CZ/C1","M",""]
["Frantisek Suna",1983,"Hosín",{"$f":"VLOOKUP(C115,Region,2,0)","v":"CZ/C1"},"M",""]
["Frantisek Vancura",1966,"Hranice","CZ/M","M",""]
["Gabriela Cervena",1966,"Jaroměř","CZ/C2","F",""]
["Gustav Vrbacky",1933,"Medlánky","CZ/M","M",""]
["Hana Treslova",1991,"Raná","CZ/C2","F",""]
["Hana Vokrinkova",1958,"Hodkovice","CZ/C2","F",""]
["Hynek Pokorny",1991,"Letňany","CZ/C1","M",""]
["Christof Madory",1958,"Šumperk","CZ/M","M",""]
["Ilja Kopacek",1943,"Jičín",{"$f":"VLOOKUP(C123,Region,2,0)","v":"CZ/C2"},"M",""]
["Ivan Filakovsky",1965,"Medlánky","CZ/M","M",""]
["Ivan Harasta 65",1965,"Toužim","CZ/C1","M",""]
["Ivan Harasta 98",1998,"Toužim","CZ/C1","M","Junior v roce 2023"]
["Ivan Kuzelka",1945,"Havlíčkův Brod","CZ/C2","M",""]
["Ivan Ladr",1940,"Dvůr Králové","CZ/C2","M",""]
["Ivan Novak",1962,"Mladá Boleslav","CZ/C1","M",""]
["Ivan Tvrdik",1997,"Letňany","CZ/C1","M",""]
["Ivo Burda",1962,"Zbraslavice","CZ/C1","M",""]
["Ivo Nezval",1964,"Šumperk","CZ/M","M",""]
["Ivo Vudarcik",1994,"Rakovník","CZ/C1","M",""]
["Jacek Kerum",1943,"Příbram","CZ/C1","M",""]
["Jakub Brotanek",1985,"Roudnice","CZ/C2","M",""]
["Jakub Hlavacek",1991,"Letkov","CZ/C1","M",""]
["Jakub Kmosek",1978,"Zbraslavice","CZ/C1","M",""]
["Jakub Kohn",1992,"Prostějov","CZ/M","M",""]
["Jakub Koudelka",2000,"Křižanov",{"$f":"VLOOKUP(C139,Region,2,0)","v":"CZ/M"},"M","Junior v roce 2023"]
["Jakub Malik",1999,"Letňany","CZ/C1","M","Junior v roce 2023"]
["Jakub Michalicka",1993,"Rakovník","CZ/C1","M",""]
["Jakub Spanger",2002,"Jeseník",{"$f":"VLOOKUP(C142,Region,2,0)","v":"CZ/M"},"M","Junior v roce 2023"]
["Jakub Tiller",1987,"Broumov","CZ/C2","M",""]
["Jakub Vimr",1975,"GAC Benešov","CZ/C1","M",{"$f":"IF(A144=\"(prázdné)\",\"\",IF(($G$1-B144)>25,\"\",\"Junior v roce \"&$G$1))","v":""}]
["Jan Adam",2002,"Podhořany",{"$f":"VLOOKUP(C145,Region,2,0)","v":"CZ/C2"},"M","Junior v roce 2023"]
["Jan Bejdl",1978,"Zbraslavice",{"$f":"VLOOKUP(C146,Region,2,0)","v":"CZ/C1"},"M",""]
["Jan Belina",1979,"Hořice","CZ/C2","M",""]
["Jan Beran",1999,"Kladno",{"$f":"VLOOKUP(C148,Region,2,0)","v":"CZ/C1"},"M","Junior v roce 2023"]
["Jan Beranek",1976,"Jihlava","CZ/M","M",""]
["Jan Blaha",1983,"Kyjov",{"$f":"VLOOKUP(C150,Region,2,0)","v":"CZ/M"},"M",{"$f":"IF(A150=\"(prázdné)\",\"\",IF(($G$1-B150)>25,\"\",\"Junior v roce \"&$G$1))","v":""}]
["Jan Boruvka",1984,"Jičín","CZ/C2","M",""]
["Jan Camr",2002,"Jaroměř",{"$f":"VLOOKUP(C152,Region,2,0)","v":"CZ/C2"},"M","Junior v roce 2023"]
["Jan Cerveny",1984,"Jaroměř","CZ/C2","M",""]
["Jan Cibulka",2002,"Letňany",{"$f":"VLOOKUP(C154,Region,2,0)","v":"CZ/C1"},"M","Junior v roce 2023"]
["Jan Dersak 69",1969,"Kralupy","CZ/C1","M",""]
["Jan Dersak 92",1992,"Kralupy","CZ/C1","M",""]
["Jan Drahota",1988,"Rakovník","CZ/C1","M",""]
["Jan Drbohlav",1999,"Hodkovice",{"$f":"VLOOKUP(C158,Region,2,0)","v":"CZ/C2"},"M","Junior v roce 2023"]
["Jan Florian",1992,"Zbraslavice","CZ/C1","M",""]
["Jan Habermann",1975,"Vlašim",{"$f":"VLOOKUP(C160,Region,2,0)","v":"CZ/C1"},"M",""]
["Jan Hejret",1976,"Jaroměř","CZ/C2","M",""]
["Jan Heroudek",1970,"Rakovník",{"$f":"VLOOKUP(C162,Region,2,0)","v":"CZ/C1"},"M",""]
["Jan Hlavacek",1965,"Rakovník","CZ/C1","M",""]
["Jan Horak",1971,"Zbraslavice","CZ/C1","M",""]
["Jan Horky",1968,"Medlánky","CZ/M","M",""]
["Jan Hrbatsch",1989,"Hodkovice","CZ/C2","M",""]
["Jan Hruska",1988,"Tábor","CZ/C1","M",""]
["Jan Hybner",1977,"Liberec",{"$f":"VLOOKUP(C168,Region,2,0)","v":"CZ/C2"},"M",""]
["Jan Jicha",1984,"Podhořany","CZ/C2","M",""]
["Jan Jindra",1981,"Roudnice","CZ/C2","M",""]
["Jan Kantor",1983,"Letňany","CZ/C1","M",""]
["Jan Kapralek",1991,"Kladno","CZ/C1","M",""]
["Jan Karabec",2000,"Podhořany",{"$f":"VLOOKUP(C173,Region,2,0)","v":"CZ/C2"},"M","Junior v roce 2023"]
["Jan Karnik",1976,"Letkov",{"$f":"VLOOKUP(C174,Region,2,0)","v":"CZ/C1"},"M",""]
["Jan Kaspar",1994,"Letňany",{"$f":"VLOOKUP(C175,Region,2,0)","v":"CZ/C1"},"M",""]
["Jan Kohout",1970,"Žamberk","CZ/C2","M",""]
["Jan Konecny",1972,"Rakovník","CZ/C1","M",""]
["Jan Kostka",1996,"Kladno","CZ/C1","M",""]
["Jan Kotan",1982,"Letňany","CZ/C1","M",""]
["Jan Kralik",1991,"Letkov","CZ/C1","M",""]
["Jan Kristof",1962,"Frýdlant","CZ/M","M",""]
["Jan Kulistak",1990,"Kunovice","CZ/M","M",""]
["Jan Lancdorf",1988,"Panenský Týnec","CZ/C1","M",""]
["Jan Louda",1986,"Mladá Boleslav","CZ/C1","M",""]
["Jan Mareth",1979,"Frýdlant","CZ/M","M",""]
["Jan Masek",1977,"Kladno","CZ/C1","M",""]
["Jan Matejovsky",1972,"Hranice","CZ/M","M",""]
["Jan Merta",1952,"Šumperk","CZ/M","M",""]
["Jan Mittner",1986,"Zbraslavice",{"$f":"VLOOKUP(C189,Region,2,0)","v":"CZ/C1"},"M",""]
["Jan Moravec",1979,"Zábřeh","CZ/M","M",""]
["Jan Muknsnabl",1992,"Letkov",{"$f":"VLOOKUP(C191,Region,2,0)","v":"CZ/C1"},"M",{"$f":"IF(A191=\"(prázdné)\",\"\",IF(($G$1-B191)>25,\"\",\"Junior v roce \"&$G$1))","v":""}]
["Jan Nyc",1943,"Dvůr Králové",{"$f":"VLOOKUP(C192,Region,2,0)","v":"CZ/C2"},"M",""]
["Jan Obrucnik",1991,"Kralupy","CZ/C1","M",""]
["Jan Oscatka",1990,"Jaroměř",{"$f":"VLOOKUP(C194,Region,2,0)","v":"CZ/C2"},"M",""]
["Jan Otrusina",1976,"Křižanov","CZ/M","M",""]
["Jan Ourada",1978,"Točná","CZ/C1","M",""]
["Jan Pavlik",1987,"Křižanov","CZ/M","M",""]
["Jan Pazour",1979,"Dvůr Králové",{"$f":"VLOOKUP(C198,Region,2,0)","v":"CZ/C2"},"M",""]
["Jan Platenik",1981,"Krnov","CZ/M","M",""]
["Jan Plechac",1966,"Slaný",{"$f":"VLOOKUP(C200,Region,2,0)","v":"CZ/C1"},"M",{"$f":"IF(A200=\"(prázdné)\",\"\",IF(($G$1-B200)>25,\"\",\"Junior v roce \"&$G$1))","v":""}]
["Jan Podhrazsky",1976,"Šumperk","CZ/M","M",""]
["Jan Pokluda",1973,"Šumperk","CZ/M","M",""]
["Jan Pubec",1979,"Plzeň Bory","CZ/C1","M",""]
["Jan Ratz",1987,"Zbraslavice","CZ/C1","M",""]
["Jan Rensa",1980,"Polička","CZ/C2","M",""]
["Jan Rolinek",1973,"Luhačovice","CZ/M","M",""]
["Jan Rott",1962,"Hronov","CZ/C2","M",""]
["Jan Repka",1959,"Liberec","CZ/C2","M",""]
["Jan Seifert",1948,"Raná","CZ/C2","M",""]
["Jan Simon",1970,"Kralupy","CZ/C1","M",""]
["Jan Sindelar",1946,"Kunovice","CZ/M","M",{"$f":"IF(A211=\"(prázdné)\",\"\",IF(($G$1-B211)>25,\"\",\"Junior v roce \"&$G$1))","v":""}]
["Jan Smaha",1958,"Česká Lípa","CZ/C2","M",""]
["Jan Smekal",1976,"Zbraslavice",{"$f":"VLOOKUP(C213,Region,2,0)","v":"CZ/C1"},"M",""]
["Jan Sponer",1988,"Medlánky","CZ/M","M",""]
["Jan Stastny",2003,"Medlánky",{"$f":"VLOOKUP(C215,Region,2,0)","v":"CZ/M"},"M","Junior v roce 2023"]
["Jan Stepan",1991,"Hronov","CZ/C2","M",""]
["Jan Sustr 76",1976,"Raná","CZ/C2","M",""]
["Jan Sustr 77",1977,"Staňkov","CZ/C1","M",""]
["Jan Svarc",1977,"Raná","CZ/C2","M",""]
["Jan Svestka",2005,"Křižanov",{"$f":"VLOOKUP(C220,Region,2,0)","v":"CZ/M"},"M",{"$f":"IF(A220=\"(prázdné)\",\"\",IF(($G$1-B220)>25,\"\",\"Junior v roce \"&$G$1))","v":"Junior v roce 2023"}]
["Jan Terrich",1978,"Liberec","CZ/C2","M",""]
["Jan Tomasek",1970,"Dvůr Králové","CZ/C2","M",""]
["Jan Turek",1987,"Toužim","CZ/C1","M",""]
["Jan Vavrin",1987,"Vysoké Mýto","CZ/C2","M",""]
["Jan Viskot",1995,"Břeclav","CZ/M","M",""]
["Jan Vozeh",1995,"Rakovník","CZ/C1","M",""]
["Jan Zahradka",1981,"Hodkovice","CZ/C2","M",""]
["Jan Zapletal",1997,"Břeclav","CZ/M","M",""]
["Jan Zdvorak",1980,"Roudnice","CZ/C2","M",""]
["Jan Zezula",1979,"Letňany","CZ/C1","M",""]
["Jan Zona",1965,"Kroměříž","CZ/M","M",""]
["Jan Zanda",1983,"Letkov","CZ/C1","M",""]
["Jana Dvorakova",1953,"Raná","CZ/C2","F",""]
["Jana Kantorova",1980,"Hosín","CZ/C1","F",""]
["Jana Krejcova",1972,"Křižanov","CZ/M","F",""]
["Jana Mezerova",1975,"Raná","CZ/C2","F",""]
["Jana Treslova",1963,"Raná","CZ/C2","F",""]
["Jana Veprekova",1961,"Dvůr Králové","CZ/C2","F",""]
["Jarmila Zatykova",1959,"Kralupy","CZ/C1","F",""]
["Jaromir Hammer",1965,"Křižanov","CZ/M","M",""]
["Jaromir Hendrych",1954,"Raná","CZ/C2","M",""]
["Jaromir Jedlicka",1972,"Letňany","CZ/C1","M",""]
["Jaromir Macoun",1999,"Jičín","CZ/C2","M","Junior v roce 2023"]
["Jaromir Pauer",1974,"Hosín",{"$f":"VLOOKUP(C244,Region,2,0)","v":"CZ/C1"},"M",""]
["Jaromir Prokes",1984,"Tábor","CZ/C1","M",""]
["Jaromir Simunek",1975,"Rakovník",{"$f":"VLOOKUP(C246,Region,2,0)","v":"CZ/C1"},"M",{"$f":"IF(A246=\"(prázdné)\",\"\",IF(($G$1-B246)>25,\"\",\"Junior v roce \"&$G$1))","v":""}]
["Jaromir Vlk",1959,"Šumperk","CZ/M","M",""]
["Jaroslav Bocek",1962,"Turnov","CZ/C2","M",""]
["Jaroslav Buryan",1953,"Zábřeh","CZ/M","M",""]
["Jaroslav Cempirek 51",1951,"Jindřichův Hradec","CZ/C1","M",""]
["Jaroslav Cempirek 77",1977,"Jihlava",{"$f":"VLOOKUP(C251,Region,2,0)","v":"CZ/M"},"M",""]
["Jaroslav Cejka",1952,"Letkov","CZ/C1","M",""]
["Jaroslav Deml",1986,"Hořice","CZ/C2","M",""]
["Jaroslav Florian",1977,"Medlánky","CZ/M","M",""]
["Jaroslav Hendrych",1946,"Příbram","CZ/C1","M",""]
["Jaroslav Hot",1965,"Toužim","CZ/C1","M",""]
["Jaroslav Juracka",1971,"Křižanov","CZ/M","M",""]
["Jaroslav Kacer",1978,"Raná","CZ/C2","M",""]
["Jaroslav Kares",1962,"Olomouc","CZ/M","M",""]
["Jaroslav Kral",1961,"Přibyslav",{"$f":"VLOOKUP(C260,Region,2,0)","v":"CZ/C2"},"M",""]
["Jaroslav Marek",1938,"Luhačovice","CZ/M","M",""]
["Jaroslav Nedorost",1986,"Letňany",{"$f":"VLOOKUP(C262,Region,2,0)","v":"CZ/C1"},"M",""]
["Jaroslav Palicka",1992,"Frýdlant","CZ/M","M",""]
["Jaroslav Petrasek",1976,"Jičín","CZ/C2","M",""]
["Jaroslav Potmesil",1964,"Zbraslavice","CZ/C1","M",""]
["Jaroslav Rapac",1977,"Dvůr Králové","CZ/C2","M",""]
["Jaroslav Szakal",1955,"Jaroměř","CZ/C2","M",""]
["Jaroslav Sima",1972,"Chomutov","CZ/C2","M",""]
["Jaroslav Simek",1968,"Letkov","CZ/C1","M",""]
["Jaroslav Tomana",1975,"Zbraslavice","CZ/C1","M",""]
["Jaroslav Tyls",1941,"Hronov","CZ/C2","M",""]
["Jaroslav Vancata",1985,"Raná",{"$f":"VLOOKUP(C272,Region,2,0)","v":"CZ/C2"},"M",""]
["Jaroslav Zavrel",1971,"Medlánky","CZ/M","M",""]
["Jindrich Hala",1989,"Rakovník","CZ/C1","M",""]
["Jindrich Hruska",1986,"Soběslav","CZ/C1","M",""]
["Jindrich Svorc",1978,"Letňany","CZ/C1","M",""]
["Jindriska Sloukova",1973,"Medlánky","CZ/M","F",{"$f":"IF(A277=\"(prázdné)\",\"\",IF(($G$1-B277)>25,\"\",\"Junior v roce \"&$G$1))","v":""}]
["Jirka Rybar",1958,"Hodkovice","CZ/C2","M",""]
["Jiri Balak",1978,"Zbraslavice",{"$f":"VLOOKUP(C279,Region,2,0)","v":"CZ/C1"},"M",""]
["Jiri Bartak",1978,"Letkov",{"$f":"VLOOKUP(C280,Region,2,0)","v":"CZ/C1"},"M",{"$f":"IF(A280=\"(prázdné)\",\"\",IF(($G$1-B280)>25,\"\",\"Junior v roce \"&$G$1))","v":""}]
["Jiri Bastl",1944,"Turnov","CZ/C2","M",""]
["Jiri Bojko",1959,"Krnov","CZ/M","M",""]
["Jiri Bulanek",1983,"Rakovník",{"$f":"VLOOKUP(C283,Region,2,0)","v":"CZ/C1"},"M",{"$f":"IF(A283=\"(prázdné)\",\"\",IF(($G$1-B283)>25,\"\",\"Junior v roce \"&$G$1))","v":""}]
["Jiri Cincera",1966,"Toužim","CZ/C1","M",""]
["Jiri Dockal",1982,"Letňany","CZ/C1","M",""]
["Jiri Donat",1983,"Chrudim","CZ/C2","M",""]
["Jiri Fousek",1990,"Raná","CZ/C2","M",""]
["Jiri Hendrych",1943,"Točná","CZ/C1","M",""]
["Jiri Hodan",1959,"Zbraslavice","CZ/C1","M",""]
["Jiri Holcman",1976,"Hosín","CZ/C1","M",""]
["Jiri Horak",1971,"Kladno","CZ/C1","M",""]
["Jiri Hula",1973,"Slaný","CZ/C1","M",""]
["Jiri Janda",1966,"Letňany","CZ/C1","M",""]
["Jiri Jirmus",2003,"Tábor",{"$f":"VLOOKUP(C294,Region,2,0)","v":"CZ/C1"},"M","Junior v roce 2023"]
["Jiri Klicnar",1965,"Medlánky","CZ/M","M",""]
["Jiri Kobik",1952,"Hořice","CZ/C2","M",""]
["Jiri Kohoutek",1983,"Olomouc",{"$f":"VLOOKUP(C297,Region,2,0)","v":"CZ/M"},"M",""]
["Jiri Kokrment",1950,"Frýdlant","CZ/M","M",""]
["Jiri Koudela",1974,"Vyškov","CZ/M","M",""]
["Jiri Kratochvil",2003,"Podhořany",{"$f":"VLOOKUP(C300,Region,2,0)","v":"CZ/C2"},"M",{"$f":"IF(A300=\"(prázdné)\",\"\",IF(($G$1-B300)>25,\"\",\"Junior v roce \"&$G$1))","v":"Junior v roce 2023"}]
["Jiri Krofta",1988,"Hosín",{"$f":"VLOOKUP(C301,Region,2,0)","v":"CZ/C1"},"M",""]
["Jiri Krticka",1965,"Jaroměř","CZ/C2","M",""]
["Jiri Krzanowski",1944,"Letkov","CZ/C1","M",""]
["Jiri Kupec",1960,"Medlánky","CZ/M","M",""]
["Jiri Kusbach",1959,"Luhačovice","CZ/M","M",""]
["Jiri Kyslik",1968,"Česká Lípa","CZ/C2","M",""]
["Jiri Lenik",1947,"Raná","CZ/C2","M",""]
["Jiri Maier 66",1966,"Raná","CZ/C2","M",""]
["Jiri Maier 99",1999,"Raná","CZ/C2","M","Junior v roce 2023"]
["Jiri Mlejnek",1984,"Mladá Boleslav","CZ/C1","M",""]
["Jiri Obst",1964,"Vrchlabí","CZ/C2","M",""]
["Jiri Pajer",1977,"Zbraslavice","CZ/C1","M",""]
["Jiri Pelucha",1984,"Frýdlant","CZ/M","M",""]
["Jiri Pesta",1973,"Dvůr Králové","CZ/C2","M",""]
["Jiri Peterka",1951,"Křižanov",{"$f":"VLOOKUP(C315,Region,2,0)","v":"CZ/M"},"M",""]
["Jiri Piskaty",1962,"Kunovice","CZ/M","M",""]
["Jiri Pixa",1968,"Slaný","CZ/C1","M",""]
["Jiri Prochazka",1971,"Toužim","CZ/C1","M",""]
["Jiri Prucha",1963,"Chomutov","CZ/C2","M",""]
["Jiri Skarka",1965,"Chomutov",{"$f":"VLOOKUP(C320,Region,2,0)","v":"CZ/C2"},"M",""]
["Jiri Slouka",1967,"Medlánky",{"$f":"VLOOKUP(C321,Region,2,0)","v":"CZ/M"},"M",""]
["Jiri Sohr",1960,"Šumperk",{"$f":"VLOOKUP(C322,Region,2,0)","v":"CZ/M"},"M",""]
["Jiri Steiger",1969,"Olomouc","CZ/M","M",""]
["Jiri Suchomel",1950,"Broumov",{"$f":"VLOOKUP(C324,Region,2,0)","v":"CZ/C2"},"M",""]
["Jiri Slemr",1979,"Vysoké Mýto","CZ/C2","M",""]
["Jiri Stepanek",1956,"Moravská Třebová","CZ/M","M",""]
["Jiri Tomicek",1947,"Dvůr Králové","CZ/C2","M",""]
["Jiri Valentr",1947,"Rakovník","CZ/C1","M",""]
["Jiri Vavrina",1958,"Kyjov","CZ/M","M",""]
["Jiri Veprek",1959,"Dvůr Králové",{"$f":"VLOOKUP(C330,Region,2,0)","v":"CZ/C2"},"M",{"$f":"IF(A330=\"(prázdné)\",\"\",IF(($G$1-B330)>25,\"\",\"Junior v roce \"&$G$1))","v":""}]
["Jiri Vokrinek",1965,"Hodkovice","CZ/C2","M",""]
["Jiri Vondracek",1989,"Kladno","CZ/C1","M",""]
["Jiri Zablatzky",1978,"Hranice","CZ/M","M",""]
["Jitka Hromkova",1985,"Šumperk","CZ/M","F",""]
["Jitka Skalova",1955,"Zbraslavice","CZ/C1","F",""]
["Jitka Zimova",1981,"Hodkovice","CZ/C2","F",""]
["Josef Andrasovsky",1954,"Jaroměř","CZ/C2","M",""]
["Josef Bacina",1976,"Vysoké Mýto","CZ/C2","M",""]
["Josef Barta",1977,"Vysoké Mýto","CZ/C2","M",""]
["Josef Bostik",1963,"GAC Benešov","CZ/C1","M",""]
["Josef Busek",1967,"Hosín","CZ/C1","M",""]
["Josef Hlusek",1993,"Kunovice","CZ/M","M",""]
["Josef Kolman",1983,"Letňany","CZ/C1","M",""]
["Josef Krejsa",1938,"Hranice","CZ/M","M",""]
["Josef Kreutzer",1992,"Letkov","CZ/C1","M",{"$f":"IF(A345=\"(prázdné)\",\"\",IF(($G$1-B345)>25,\"\",\"Junior v roce \"&$G$1))","v":""}]
["Josef Linhart",1972,"Medlánky","CZ/M","M",""]
["Josef Macicek",1949,"Frýdlant","CZ/M","M",""]
["Josef Mezera",1951,"Raná","CZ/C2","M",""]
["Josef Novak",1981,"Kunovice","CZ/M","M",""]
["Josef Novotny",1983,"Přibyslav","CZ/C2","M",""]
["Josef Plechac",1942,"Hronov","CZ/C2","M",""]
["Josef Rydl",1940,"Turnov","CZ/C2","M",""]
["Josef Sedlacek",1968,"Zbraslavice","CZ/C1","M",""]
["Jozef Hartinger",1987,"Medlánky","CZ/M","M",""]
["Juraj Dudas",1990,"Křižanov",{"$f":"VLOOKUP(C355,Region,2,0)","v":"CZ/M"},"M",""]
["Jurij Sikorsky",1975,"Hodkovice","CZ/C2","M",""]
["Kamil Hejda",1973,"Jičín",{"$f":"VLOOKUP(C357,Region,2,0)","v":"CZ/C2"},"M",{"$f":"IF(A357=\"(prázdné)\",\"\",IF(($G$1-B357)>25,\"\",\"Junior v roce \"&$G$1))","v":""}]
["Kamil Novak",1970,"Jaroměř","CZ/C2","M",""]
["Kamil Sohr",1973,"Šumperk","CZ/M","M",""]
["Karel Balatka",1965,"Liberec","CZ/C2","M",""]
["Karel Benes",1980,"Polička","CZ/C2","M",""]
["Karel Benisek 48",1948,"Toužim","CZ/C1","M",""]
["Karel Benisek 76",1976,"Toužim","CZ/C1","M",""]
["Karel Cerny",1943,"Beroun","CZ/C1","M",""]
["Karel Elsnic",1974,"Křižanov","CZ/M","M",""]
["Karel Ertl",1939,"LK Břeclav","CZ/M","M",""]
["Karel Grotz",1934,"Toužim","CZ/C1","M",""]
["Karel Horalek",1976,"Olomouc",{"$f":"VLOOKUP(C368,Region,2,0)","v":"CZ/M"},"M",""]
["Karel Knotek",1961,"Soběslav","CZ/C1","M",""]
["Karel Kolomaznik",1955,"Šumperk","CZ/M","M",""]
["Karel Kotlan",1957,"Medlánky","CZ/M","M",""]
["Karel Lang",1967,"Medlánky","CZ/M","M",""]
["Karel Mares",1974,"Slaný","CZ/C1","M",""]
["Karel Minarik",1965,"Hranice","CZ/M","M",""]
["Karel Novak",1993,"Mladá Boleslav","CZ/C1","M",""]
["Karel Policky",1950,"Kolín","CZ/C1","M",""]
["Karel Stach",1963,"Letňany","CZ/C1","M",""]
["Karel Toman",1976,"Letňany","CZ/C1","M",""]
["Karel Vagenknecht",1960,"Šumperk","CZ/M","M",""]
["Karel Vladar",1972,"Hodkovice","CZ/C2","M",""]
["Katerina Dvorakova",1984,"Most","CZ/C2","F",""]
["Katerina Kardosova",1988,"Kunovice","CZ/M","F",""]
["Katerina Vancurova",2002,"Hranice",{"$f":"VLOOKUP(C383,Region,2,0)","v":"CZ/M"},"F","Junior v roce 2023"]
["Katerina Vojtova",1983,"Slaný","CZ/C1","F",""]
["Klara Teichmannova",1993,"Hronov","CZ/C2","F",""]
["Kristina Santruckova",1996,"Podhořany",{"$f":"VLOOKUP(C386,Region,2,0)","v":"CZ/C2"},"F",""]
["Krystof Mimra",1992,"Most",{"$f":"VLOOKUP(C387,Region,2,0)","v":"CZ/C2"},"M",""]
["Krystof Urban",1999,"Jindřichův Hradec","CZ/C1","M","Junior v roce 2023"]
["Kuk",1900,"Dvůr Králové",{"$f":"VLOOKUP(C389,Region,2,0)","v":"CZ/C2"},"M",""]
["Ladislav Berger",1970,"Kralupy","CZ/C1","M",""]
["Ladislav Durnik",1974,"Kunovice","CZ/M","M",""]
["Ladislav Hybl",1955,"Šumperk","CZ/M","M",""]
["Ladislav Jozsa",1981,"Medlánky","CZ/M","M",""]
["Ladislav Krecbach",1985,"Jaroměř","CZ/C2","M",""]
["Ladislav Krizek",1982,"Šumperk",{"$f":"VLOOKUP(C395,Region,2,0)","v":"CZ/M"},"M",""]
["Ladislav Prokes",1954,"Vrchlabí",{"$f":"VLOOKUP(C396,Region,2,0)","v":"CZ/C2"},"M",""]
["Ladislav Valenta",1961,"Žamberk","CZ/C2","M",""]
["Ladislav Vratny",1959,"Jaroměř","CZ/C2","M",""]
["Lenka Hajkova",1982,"Raná","CZ/C2","F",""]
["Lenka Kuthanova",1960,"Tábor","CZ/C1","F",""]
["Lenka Stovickova",1963,"Hořice","CZ/C2","F",""]
["Leos Nosek",1958,"Křižanov",{"$f":"VLOOKUP(C402,Region,2,0)","v":"CZ/M"},"M",""]
["Leos Strnadek",1983,"Hodkovice","CZ/C2","M",""]
["Libor Bednarik",1972,"Kunovice","CZ/M","M",""]
["Libor Danhel",1966,"Kunovice","CZ/M","M",""]
["Libor Hyps",1988,"Chrudim","CZ/C2","M",""]
["Libor Kovarik",1966,"Mladá Boleslav","CZ/C1","M","",null,"Dříve Hosín"]
["Libor Kovarnik",1968,"Mladá Boleslav",{"$f":"VLOOKUP(C408,Region,2,0)","v":"CZ/C1"},"M",""]
["Linda Vasatova",1990,"Mladá Boleslav","CZ/C1","F",""]
["Lubomir Doupal",1975,"Kroměříž","CZ/M","M",{"$f":"IF(A410=\"(prázdné)\",\"\",IF(($G$1-B410)>25,\"\",\"Junior v roce \"&$G$1))","v":""}]
["Lubomir Motl",1959,"Kyjov","CZ/M","M",""]
["Lubomir Papezik",1951,"Luhačovice","CZ/M","M",""]
["Lubomir Svoboda",1959,"Letkov","CZ/C1","M",""]
["Lubomir Vrba",1955,"Toužim","CZ/C1","M",""]
["Lubor Sobek",1979,"Frýdlant","CZ/M","M",""]
["Lubor Vyhlid",1972,"Kroměříž","CZ/M","M",""]
["Lubor Zeleny",1957,"Přibyslav","CZ/C2","M",""]
["Lubos Florian",1966,"Jičín",{"$f":"VLOOKUP(C418,Region,2,0)","v":"CZ/C2"},"M",""]
["Lubos Kunc 56",1956,"Dvůr Králové","CZ/C2","M",""]
["Lubos Kunc 85",1985,"Vrchlabí","CZ/C2","M",""]
["Lubos Stiburek",1954,"Raná","CZ/C2","M",""]
["Lubos Svoboda",1959,"Letkov","CZ/C1","M",""]
["Ludek Kluger",1963,"Tábor","CZ/C1","M",""]
["Ludek Mikl",1963,"Šumperk",{"$f":"VLOOKUP(C424,Region,2,0)","v":"CZ/M"},"M","",null,"Dříve Kroměříž"]
["Ludek Souhrada",1974,"Raná","CZ/C2","M",""]
["Lukas Capek",1992,"Letňany","CZ/C1","M",""]
["Lukas Fiala",1976,"Kralupy","CZ/C1","M",""]
["Lukas Fronek",1989,"Kyjov",{"$f":"VLOOKUP(C428,Region,2,0)","v":"CZ/M"},"M",""]
["Lukas Hykl",1985,"Kolín",{"$f":"VLOOKUP(C429,Region,2,0)","v":"CZ/C1"},"M",""]
["Lukas Hynek",1979,"Dvůr Králové","CZ/C2","M",""]
["Lukas Jezek",1975,"Jičín","CZ/C2","M",""]
["Lukas Kotek",1994,"Frýdlant","CZ/M","M",""]
["Lukas Koukal",1991,"Letkov","CZ/C1","M",""]
["Lukas Kriz",2003,"Křižanov",{"$f":"VLOOKUP(C434,Region,2,0)","v":"CZ/M"},"M","Junior v roce 2023"]
["Lukas Maly",1998,"Vysoké Mýto","CZ/C2","M","Junior v roce 2023"]
["Lukas Nalos",1976,"Letkov",{"$f":"VLOOKUP(C436,Region,2,0)","v":"CZ/C1"},"M",{"$f":"IF(A436=\"(prázdné)\",\"\",IF(($G$1-B436)>25,\"\",\"Junior v roce \"&$G$1))","v":""}]
["Lukas Petrzela",1987,"Olomouc",{"$f":"VLOOKUP(C437,Region,2,0)","v":"CZ/M"},"M",""]
["Lukas Plocek",1990,"Mladá Boleslav","CZ/C1","M",""]
["Lukas Popelka",1977,"Polička","CZ/C2","M",""]
["Lukas Volek",2004,"Hodkovice",{"$f":"VLOOKUP(C440,Region,2,0)","v":"CZ/C2"},"M","Junior v roce 2023"]
["Lukas Zach",1987,"Vyškov",{"$f":"VLOOKUP(C441,Region,2,0)","v":"CZ/M"},"M",""]
["Lukas Zeman",2000,"Rakovník",{"$f":"VLOOKUP(C442,Region,2,0)","v":"CZ/C1"},"M","Junior v roce 2023"]
["Lukas Zemek",1994,"Letkov",{"$f":"VLOOKUP(C443,Region,2,0)","v":"CZ/C1"},"M",""]
["Lumir Motyka",1955,"Frýdlant","CZ/M","M",""]
["Marcel Skarohlid",1972,"Hodkovice","CZ/C2","M",""]
["Marek Blatak",1969,"Šumperk","CZ/M","M",""]
["Marek Csukas",1982,"Podhořany","CZ/C2","M",""]
["Marek Cacky",1971,"Kladno","CZ/C1","M",""]
["Marek Cerveny",1989,"Jaroměř","CZ/C2","M",""]
["Marek Kornec",1957,"Dvůr Králové","CZ/C2","M",""]
["Marek Loukota",2000,"Letkov",{"$f":"VLOOKUP(C451,Region,2,0)","v":"CZ/C1"},"M","Junior v roce 2023"]
["Marek Malinsky",1985,"Chrudim","CZ/C2","M",""]
["Marek Novy",1973,"Roudnice","CZ/C2","M",""]
["Marek Pechanec",1970,"Luhačovice","CZ/M","M",""]
["Marek Pechar",1995,"Chrudim","CZ/C2","M",""]
["Marek Seitl",1995,"Dvůr Králové","CZ/C2","M",""]
["Marek Sild",1976,"Kunovice","CZ/M","M",""]
["Marek Simon",1998,"Kralupy",{"$f":"VLOOKUP(C458,Region,2,0)","v":"CZ/C1"},"M","Junior v roce 2023"]
["Marek Svancara",1976,"GAC Benešov","CZ/C1","M",""]
["Marek Vinar",1976,"Letňany","CZ/C1","M",""]
["Martin Adamec",1971,"Medlánky",{"$f":"VLOOKUP(C461,Region,2,0)","v":"CZ/M"},"M",""]
["Martin Babak",1976,"Hořice",{"$f":"VLOOKUP(C462,Region,2,0)","v":"CZ/C2"},"M",""]
["Martin Balik",1982,"Kralupy","CZ/C1","M",""]
["Martin Benesovsky",1900,"Kolín",{"$f":"VLOOKUP(C464,Region,2,0)","v":"CZ/C1"},"M",""]
["Martin Cicvarek",1966,"Liberec","CZ/C2","M",""]
["Martin Donek",1976,"Beroun","CZ/C1","M",""]
["Martin Dundr",1968,"Hořice","CZ/C2","M",""]
["Martin Ficnar",1971,"Šumperk","CZ/M","M",""]
["Martin Fric",1967,"Raná","CZ/C2","M",""]
["Martin Gedeon",1989,"Letkov","CZ/C1","M",""]
["Martin Grmela",1989,"Zbraslavice",{"$f":"VLOOKUP(C471,Region,2,0)","v":"CZ/C1"},"M",""]
["Martin Hejny",1984,"Šumperk","CZ/M","M",""]
["Martin Holik",1959,"Letňany","CZ/C1","M",""]
["Martin Horacek",1985,"Dvůr Králové","CZ/C2","M",""]
["Martin Hrivna",1978,"Zbraslavice","CZ/C1","M",{"$f":"IF(A475=\"(prázdné)\",\"\",IF(($G$1-B475)>25,\"\",\"Junior v roce \"&$G$1))","v":""}]
["Martin Chovan",1973,"Zbraslavice","CZ/C1","M",""]
["Martin Janousek",1985,"Turnov","CZ/C2","M",""]
["Martin Koci",1975,"Ústí nad Orlicí","CZ/C2","M",""]
["Martin Kozina",1970,"Křižanov",{"$f":"VLOOKUP(C479,Region,2,0)","v":"CZ/M"},"M",""]
["Martin Kriz",1968,"Přibyslav",{"$f":"VLOOKUP(C480,Region,2,0)","v":"CZ/C2"},"M",""]
["Martin Krizovic",1971,"Přibyslav","CZ/C2","M",""]
["Martin Liptak",1970,"Toužim","CZ/C1","M",""]
["Martin Marek",1967,"Roudnice","CZ/C2","M",""]
["Martin Marhefka",1975,"Kyjov","CZ/M","M",""]
["Martin Markl",1960,"Kolín","CZ/C1","M",""]
["Martin Molnar",1986,"Šumperk","CZ/M","M",""]
["Martin Nejezchleb",1979,"Plzeň Bory","CZ/C1","M",""]
["Martin Novak",1976,"Slaný","CZ/C1","M",""]
["Martin Pehe",1978,"Soběslav","CZ/C1","M",""]
["Martin Pekar",1973,"Šumperk","CZ/M","M",""]
["Martin Picka",1974,"Tábor","CZ/C1","M","",null,"Tábor od roku 2018, dříve Letkov"]
["Martin Piskacek",1991,"Křižanov","CZ/M","M",""]
["Martin Sehnoutka",1970,"Dvůr Králové","CZ/C2","M",""]
["Martin Skala",1985,"Vrchlabí","CZ/C2","M",""]
["Martin Soldan",2001,"Hronov",{"$f":"VLOOKUP(C495,Region,2,0)","v":"CZ/C2"},"M","Junior v roce 2023"]
["Martin Soucek",1975,"Mladá Boleslav","CZ/C1","M",""]
["Martin Stastny",2005,"Medlánky",{"$f":"VLOOKUP(C497,Region,2,0)","v":"CZ/M"},"M",{"$f":"IF(A497=\"(prázdné)\",\"\",IF(($G$1-B497)>25,\"\",\"Junior v roce \"&$G$1))","v":"Junior v roce 2023"}]
["Martin Suchy",1969,"Hranice","CZ/M","M",""]
["Martin Svacina",1965,"Frýdlant","CZ/M","M",""]
["Martin Svoboda",1989,"Letkov","CZ/C1","M",""]
["Martin Sonka",1978,"Tábor","CZ/C1","M",""]
["Martin Stepanek",1987,"Moravská Třebová","CZ/M","M",""]
["Martin Stepka",1966,"Turnov","CZ/C2","M",""]
["Martin Svarc",1981,"Olomouc","CZ/M","M",""]
["Martin Tison",2000,"Hosín",{"$f":"VLOOKUP(C505,Region,2,0)","v":"CZ/C1"},"M","Junior v roce 2023"]
["Martin Urban",1971,"Frýdlant","CZ/M","M",""]
["Martin Urner",1974,"Letňany","CZ/C1","M",""]
["Martin Valenta",1969,"Toužim","CZ/C1","M",""]
["Martin Vana",1979,"Mladá Boleslav","CZ/C1","M",""]
["Martin Vnoucek",1972,"Vlašim","CZ/C1","M",""]
["Martin Vondracek",1967,"Hronov","CZ/C2","M",""]
["Martin Vrba",1977,"Toužim","CZ/C1","M",""]
["Martin Vyskocil",1981,"Hodkovice","CZ/C2","M",""]
["Martin Zahalka",1987,"Staňkov","CZ/C1","M",""]
["Martin Zvonicek",1972,"Raná","CZ/C2","M",""]
["Martina Bartonikova",1990,"Luhačovice","CZ/M","F",""]
["Martina Kloubova",1991,"Hodkovice","CZ/C2","F",""]
["Martina Voráčová",1988,"Křižanov","CZ/M","F","",null,"Dříve Kubátová, AK Kyjov"]
["Matej Bartos",1998,"Hodkovice",{"$f":"VLOOKUP(C519,Region,2,0)","v":"CZ/C2"},"M","Junior v roce 2023"]
["Matej Dolejs",2004,"Beroun",{"$f":"VLOOKUP(C520,Region,2,0)","v":"CZ/C1"},"M",{"$f":"IF(A520=\"(prázdné)\",\"\",IF(($G$1-B520)>25,\"\",\"Junior v roce \"&$G$1))","v":"Junior v roce 2023"}]
["Matej Charouz",1993,"Hodkovice","CZ/C2","M",""]
["Matej Jelinek",1999,"Hronov",{"$f":"VLOOKUP(C522,Region,2,0)","v":"CZ/C2"},"M","Junior v roce 2023"]
["Matej Kiss",1990,"Točná","CZ/C1","M",""]
["Matej Krestes",1986,"Slaný","CZ/C1","M",""]
["Matej Plch",1987,"Letkov","CZ/C1","M",""]
["Matej Rendla",2000,"Zbraslavice","CZ/C1","M","Junior v roce 2023"]
["Matej Uhlik",1995,"Letkov","CZ/C1","M",""]
["Matous Schmidt",1981,"Letňany","CZ/C1","M",""]
["Michael Cernes",1997,"Letňany","CZ/C1","M",""]
["Michael Fik",1972,"Strakonice","CZ/C1","M",""]
["Michaela Houskova",1978,"Letkov","CZ/C1","F",""]
["Michaela Krizova",2001,"Přibyslav",{"$f":"VLOOKUP(C532,Region,2,0)","v":"CZ/C2"},"F","Junior v roce 2023"]
["Michaela Rendlova",2004,"Toužim",{"$f":"VLOOKUP(C533,Region,2,0)","v":"CZ/C1"},"F","Junior v roce 2023"]
["Michaela Sirmerova",2000,"Jihlava",{"$f":"VLOOKUP(C534,Region,2,0)","v":"CZ/M"},"F","Junior v roce 2023"]
["MIchaela Vlacilikova",1993,"Luhačovice","CZ/M","F",""]
["Michal Budejovsky",1991,"Letkov","CZ/C1","M",""]
["Michal Buryan",1977,"Vysoké Mýto","CZ/C2","M",""]
["Michal Coufal",1999,"Jičín",{"$f":"VLOOKUP(C538,Region,2,0)","v":"CZ/C2"},"M","Junior v roce 2023"]
["Michal Cupak",1991,"Medlánky","CZ/M","M",""]
["Michal Cechmanek",1978,"Luhačovice","CZ/M","M",""]
["Michal Drab",1969,"Letkov","CZ/C1","M",{"$f":"IF(A541=\"(prázdné)\",\"\",IF(($G$1-B541)>25,\"\",\"Junior v roce \"&$G$1))","v":""}]
["Michal Dvorak",1986,"Zbraslavice","CZ/C1","M",""]
["Michal Fortik",1976,"Točná","CZ/C1","M",""]
["Michal Hemrle",1974,"Česká Lípa",{"$f":"VLOOKUP(C544,Region,2,0)","v":"CZ/C2"},"M",""]
["Michal Janda",1972,"Broumov","CZ/C2","M",""]
["Michal Kares",1987,"Ústí nad Orlicí","CZ/C2","M",""]
["Michal Kodousek",1983,"Jaroměř","CZ/C2","M",""]
["Michal Kratochvil",1984,"Slaný","CZ/C1","M",""]
["Michal Krupicka",1975,"Most","CZ/C2","M",""]
["Michal Lesinger",1966,"Moravská Třebová","CZ/M","M",""]
["Michal Linhart",1982,"Vyškov","CZ/M","M",""]
["Michal Maly",1982,"Broumov","CZ/C2","M",""]
["Michal Marek",1982,"Křižanov","CZ/M","M",""]
["Michal Navratil",1985,"Křižanov","CZ/M","M",""]
["Michal Nutil",1966,"Náchod",{"$f":"VLOOKUP(C555,Region,2,0)","v":"CZ/C2"},"M",""]
["Michal Ondracek",1966,"Medlánky",{"$f":"VLOOKUP(C556,Region,2,0)","v":"CZ/M"},"M",""]
["Michal Posluzny",1968,"Medlánky",{"$f":"VLOOKUP(C557,Region,2,0)","v":"CZ/M"},"M",""]
["Michal Rancak",1984,"Mladá Boleslav","CZ/C1","M",""]
["Michal Richter",1983,"Kolín","CZ/C1","M",""]
["Michal Sebek",1998,"Letňany","CZ/C1","M","Junior v roce 2023"]
["Michal Sich",1979,"Mladá Boleslav","CZ/C1","M",""]
["Michal Stastny",1970,"Medlánky","CZ/M","M",""]
["Michal Trylc",1987,"Plasy","CZ/C1","M",""]
["Michal Vopalensky",1974,"Letňany",{"$f":"VLOOKUP(C564,Region,2,0)","v":"CZ/C1"},"M",""]
["Michal Vorlicek",1995,"Kolín",{"$f":"VLOOKUP(C565,Region,2,0)","v":"CZ/C1"},"M",{"$f":"IF(A565=\"(prázdné)\",\"\",IF(($G$1-B565)>25,\"\",\"Junior v roce \"&$G$1))","v":""}]
["Michal Vrana",1999,"Vyškov",{"$f":"VLOOKUP(C566,Region,2,0)","v":"CZ/M"},"M","Junior v roce 2023"]
["Michal Vranek",1993,"Hosín",{"$f":"VLOOKUP(C567,Region,2,0)","v":"CZ/C1"},"M",""]
["Milada Moudra",1991,"Hodkovice","CZ/C2","F",""]
["Milan Bado",1975,"Kolín","CZ/C1","M",{"$f":"IF(A569=\"(prázdné)\",\"\",IF(($G$1-B569)>25,\"\",\"Junior v roce \"&$G$1))","v":""}]
["Milan Benes",1953,"Raná",{"$f":"VLOOKUP(C570,Region,2,0)","v":"CZ/C2"},"M",""]
["Milan Dvorak",1965,"Liberec","CZ/C2","M",""]
["Milan Kuk",1950,"Dvůr Králové","CZ/C2","M",""]
["Milan Meisner",1961,"Dvůr Králové","CZ/C2","M",""]
["Milan Riha",1973,"Zbraslavice",{"$f":"VLOOKUP(C574,Region,2,0)","v":"CZ/C1"},"M",""]
["Milan Svoboda 34",1934,"Letkov","CZ/C1","M",""]
["Milan Svoboda 80",1980,"Havlíčkův Brod","CZ/C2","M","",null,"Dříve Chotěboř"]
["Milan Svorc",1955,"Podhořany","CZ/C2","M",""]
["Miloslav Cindr",1974,"Ústí nad Orlicí","CZ/C2","M",""]
["Miloslav Cink",1987,"Letkov","CZ/C1","M","",null,"Dříve Letkov"]
["Miloslav Fiser",1974,"Hodkovice","CZ/C2","M",""]
["Miloslav Hulmak",1963,"Hosín","CZ/C1","M",""]
["Miloslav Krch",1988,"Zbraslavice","CZ/C1","M",""]
["Milos Dedera",1956,"Jihlava","CZ/M","M",""]
["Milos Eichler",1964,"Dvůr Králové","CZ/C2","M",""]
["Milos Houha",1954,"Plzeň Bory","CZ/C1","M",""]
["Milos Hrabe",1979,"Letňany","CZ/C1","M",""]
["Milos Matejka",1956,"Beroun","CZ/C1","M",""]
["Milos Novotny",1973,"Hronov",{"$f":"VLOOKUP(C588,Region,2,0)","v":"CZ/C2"},"M",""]
["Milos Nyvlt",1963,"Hronov",{"$f":"VLOOKUP(C589,Region,2,0)","v":"CZ/C2"},"M",{"$f":"IF(A589=\"(prázdné)\",\"\",IF(($G$1-B589)>25,\"\",\"Junior v roce \"&$G$1))","v":""}]
["Milos Pajr",1966,"Jičín","CZ/C2","M",""]
["Milos Pospisil",1952,"Frýdlant","CZ/M","M",""]
["Milos Rejzl",1962,"Klatovy","CZ/C1","M",""]
["Miroslav Burdych",1973,"Nové Město nad Metují","CZ/C2","M",""]
["Miroslav Burian",1969,"Křižanov","CZ/M","M",""]
["Miroslav Cervenka",1980,"Křižanov","CZ/M","M",""]
["Miroslav Filip",1959,"Křižanov","CZ/M","M",""]
["Miroslav Horinek",1976,"Křižanov","CZ/M","M",""]
["Miroslav Jezek",1973,"Žamberk","CZ/C2","M",""]
["Miroslav Koci",1961,"Žamberk","CZ/C2","M",""]
["Miroslav Kudlacek",1986,"Polička",{"$f":"VLOOKUP(C600,Region,2,0)","v":"CZ/C2"},"M",""]
["Miroslav Macik",1983,"Rakovník","CZ/C1","M",""]
["Miroslav Major",1968,"Kralupy","CZ/C1","M",""]
["Miroslav Mancik",1976,"Kyjov","CZ/M","M",""]
["Miroslav Mitrus",1972,"GAC Benešov",{"$f":"VLOOKUP(C604,Region,2,0)","v":"CZ/C1"},"M",""]
["Miroslav Odlozilik",1973,"Křižanov","CZ/M","M",""]
["Miroslav Ofukany",1951,"Kolín","CZ/C1","M",""]
["Miroslav Plechac",1969,"Hronov","CZ/C2","M",""]
["Miroslav Sklenar",1964,"Žamberk","CZ/C2","M",{"$f":"IF(A608=\"(prázdné)\",\"\",IF(($G$1-B608)>25,\"\",\"Junior v roce \"&$G$1))","v":""}]
["Miroslav Streda",1945,"Vrchlabí","CZ/C2","M",""]
["Miroslav Sedivy",1974,"Letkov","CZ/C1","M",""]
["Miroslav Stepan",1955,"Žamberk","CZ/C2","M",""]
["Miroslav Trybucek",1965,"Jičín","CZ/C2","M",""]
["Monika Bezdekova",1988,"Letňany","CZ/C1","F","",null,"Dříve Bubnová"]
["Monika Jiraskova",1994,"Hronov","CZ/C2","F",""]
["Monika Klovanicova",1992,"Kunovice","CZ/M","F",""]
["Nikola Zizkovsky",1980,"Kralupy","CZ/C1","M",""]
["Oldrich Bartonik",1961,"Luhačovice","CZ/M","M",""]
["Oldrich Hlavacek",1973,"Medlánky","CZ/M","M",""]
["Oldrich Houzvicka",1975,"Frýdlant","CZ/M","M",""]
["Oldrich Kounovsky",1976,"Medlánky",{"$f":"VLOOKUP(C620,Region,2,0)","v":"CZ/M"},"M",""]
["Oldrich Slavicek",1959,"Hronov","CZ/C2","M",""]
["Oldrich Stumbauer",1992,"Prachatice",{"$f":"VLOOKUP(C622,Region,2,0)","v":"CZ/C1"},"M",""]
["Olga Mokosova",1970,"Jihlava","CZ/M","F",""]
["Ondrej Bartos",1975,"Točná","CZ/C1","M",""]
["Ondrej Belohlavek",1978,"Vysoké Mýto","CZ/C2","M",""]
["Ondrej Blaha",1976,"Letňany","CZ/C1","M",""]
["Ondrej Bordovsky",1983,"Krnov","CZ/M","M",""]
["Ondrej Dupal",1966,"GAC Benešov","CZ/C1","M",""]
["Ondrej Dvorak 58",1958,"Raná","CZ/C2","M",""]
["Ondrej Dvorak 87",1987,"Raná","CZ/C2","M",""]
["Ondrej Dvorak 98",1998,"Mladá Boleslav","CZ/C1","M","Junior v roce 2023"]
["Ondrej Hart",1990,"Letňany",{"$f":"VLOOKUP(C632,Region,2,0)","v":"CZ/C1"},"M",""]
["Ondrej Holas",1989,"Česká Lípa","CZ/C2","M",""]
["Ondrej Jung",1976,"Zbraslavice","CZ/C1","M",""]
["Ondrej Kluger",1990,"LK Břeclav",{"$f":"VLOOKUP(C635,Region,2,0)","v":"CZ/M"},"M",""]
["Ondrej Kover",1993,"Šumperk","CZ/M","M",""]
["Ondrej Krejci",1974,"Chotěboř","CZ/C2","M",""]
["Ondrej Prazsky",1978,"Zbraslavice",{"$f":"VLOOKUP(C638,Region,2,0)","v":"CZ/C1"},"M",""]
["Ondrej Marek",1989,"Žamberk","CZ/C2","M",""]
["Ondrej Skala",1982,"Vrchlabí","CZ/C2","M",""]
["Ondrej Sindelar",1979,"Mladá Boleslav","CZ/C1","M",""]
["Ondrej Supka",1994,"Kunovice","CZ/M","M",""]
["Ondrej Teichman",1984,"Dvůr Králové","CZ/C2","M",""]
["Ondrej Trkal",1991,"Vysoké Mýto","CZ/C2","M",""]
["Ondrej Valach",1986,"Točná","CZ/C1","M",""]
["Ondrej Vyskocil",1991,"Letkov","CZ/C1","M",""]
["Ondrej Zeman",1980,"Letňany","CZ/C1","M",""]
["Ota Vavrin",1947,"Vysoké Mýto","CZ/C2","M",""]
["Otakar Tucek",1947,"Raná","CZ/C2","M",""]
["Patrik Cebis",1972,"Kralupy","CZ/C1","M",""]
["Pavel Brodsky",1992,"Hořice","CZ/C2","M",""]
["Pavel Cerny",1996,"Příbram","CZ/C1","M",""]
["Pavel Derda",1952,"Dvůr Králové","CZ/C2","M",""]
["Pavel Dostal",1944,"Turnov","CZ/C2","M",""]
["Pavel Foldyna",1976,"Frýdlant","CZ/M","M",""]
["Pavel Franc",1974,"Hronov","CZ/C2","M",""]
["Pavel Haluza",1966,"Prostějov","CZ/M","M",""]
["Pavel Handl",1971,"Kroměříž",{"$f":"VLOOKUP(C658,Region,2,0)","v":"CZ/M"},"M",""]
["Pavel Hartman",1963,"Jaroměř","CZ/C2","M",""]
["Pavel Jiranek",1993,"Toužim","CZ/C1","M",""]
["Pavel Jurak",1986,"Kunovice","CZ/M","M",""]
["Pavel Jurka",1955,"Moravská Třebová","CZ/M","M",""]
["Pavel Kalous",1921,"Frýdlant","CZ/M","M",""]
["Pavel Kostkan",1952,"Dvůr Králové","CZ/C2","M",""]
["Pavel Koudelka",1973,"Křižanov","CZ/M","M",""]
["Pavel Kuriscak",1987,"Beroun",{"$f":"VLOOKUP(C666,Region,2,0)","v":"CZ/C1"},"M",""]
["Pavel Kyzivat",1973,"Zbraslavice",{"$f":"VLOOKUP(C667,Region,2,0)","v":"CZ/C1"},"M",""]
["Pavel Laznicka",1955,"Letňany","CZ/C1","M",""]
["Pavel Liska",1965,"Roudnice","CZ/C2","M",""]
["Pavel Louzecky",1957,"Přibyslav","CZ/C2","M",""]
["Pavel Nemec",1988,"Šumperk","CZ/M","M",""]
["Pavel Opat",1975,"Rakovník",{"$f":"VLOOKUP(C672,Region,2,0)","v":"CZ/C1"},"M",{"$f":"IF(A672=\"(prázdné)\",\"\",IF(($G$1-B672)>25,\"\",\"Junior v roce \"&$G$1))","v":""}]
["Pavel Paces",1972,"Kladno","CZ/C1","M",""]
["Pavel Pittner",1980,"Polička","CZ/C2","M",""]
["Pavel Rericha",1967,"Moravská Třebová","CZ/M","M",""]
["Pavel Schor",1985,"Medlánky","CZ/M","M",""]
["Pavel Svoboda",1938,"Letňany","CZ/C1","M",""]
["Pavel Simek",1957,"Vyškov","CZ/M","M",""]
["Pavel Skrabal",1969,"Šumperk","CZ/M","M",""]
["Pavel Sulc",1976,"Hodkovice",{"$f":"VLOOKUP(C680,Region,2,0)","v":"CZ/C2"},"M",""]
["Pavel Svejkovsky",1968,"Česká Lípa",{"$f":"VLOOKUP(C681,Region,2,0)","v":"CZ/C2"},"M",""]
["Pavel Svrcek",1972,"Frýdlant","CZ/M","M",""]
["Pavel Trojan",1960,"Chrudim","CZ/C2","M",""]
["Pavel Trybenekr",1990,"Hořice","CZ/C2","M",""]
["Pavel Zima",1979,"Břeclav","CZ/M","M",""]
["Pavla Seifertova",1981,"Raná","CZ/C2","F",""]
["Pavlina Hanusova",1970,"Turnov","CZ/C2","F",""]
["Pavlina Horackova",1965,"Šumperk","CZ/M","F",""]
["Peter Kaspar",1980,"Vyškov",{"$f":"VLOOKUP(C689,Region,2,0)","v":"CZ/M"},"M",""]
["Petr Babak",1973,"Hořice",{"$f":"VLOOKUP(C690,Region,2,0)","v":"CZ/C2"},"M",""]
["Petr Baros",1974,"Hranice","CZ/M","M",""]
["Petr Bartak",1984,"Letkov","CZ/C1","M",""]
["Petr Brezina",1963,"Frýdlant","CZ/M","M",""]
["Petr Benes",1980,"Raná",{"$f":"VLOOKUP(C694,Region,2,0)","v":"CZ/C2"},"M",{"$f":"IF(A694=\"(prázdné)\",\"\",IF(($G$1-B694)>25,\"\",\"Junior v roce \"&$G$1))","v":""}]
["Petr Bezdek",1965,"Letňany","CZ/C1","M",""]
["Petr Cernicky",1974,"Toužim",{"$f":"VLOOKUP(C696,Region,2,0)","v":"CZ/C1"},"M",""]
["Petr Doubek",1974,"Kralupy","CZ/C1","M",""]
["Petr Filip",1982,"Zbraslavice","CZ/C1","M",""]
["Petr Fisar",1974,"Ústí nad Orlicí","CZ/C2","M",""]
["Petr Fousek",1958,"Zbraslavice","CZ/C1","M",""]
["Petr Frycek",1960,"Most","CZ/C2","M",""]
["Petr Gebauer",1999,"Mladá Boleslav","CZ/C1","M","Junior v roce 2023"]
["Petr Gryc",1949,"Medlánky","CZ/M","M",""]
["Petr Hanacek",1962,"Jeseník","CZ/M","M",""]
["Petr Havelka",1997,"Zbraslavice",{"$f":"VLOOKUP(C705,Region,2,0)","v":"CZ/C1"},"M",""]
["Petr Havrlant",1965,"Šumperk","CZ/M","M",""]
["Petr Herold",1970,"Vlašim",{"$f":"VLOOKUP(C707,Region,2,0)","v":"CZ/C1"},"M",{"$f":"IF(A707=\"(prázdné)\",\"\",IF(($G$1-B707)>25,\"\",\"Junior v roce \"&$G$1))","v":""}]
["Petr Hodulak",1974,"Beroun","CZ/C1","M",""]
["Petr Hofman",1984,"Letňany","CZ/C1","M",""]
["Petr Homola",1974,"GAC Benešov",{"$f":"VLOOKUP(C710,Region,2,0)","v":"CZ/C1"},"M",""]
["Petr Hora",1948,"Hodkovice","CZ/C2","M",""]
["Petr Hosek",2001,"Beroun",{"$f":"VLOOKUP(C712,Region,2,0)","v":"CZ/C1"},"M","Junior v roce 2023"]
["Petr Hotovy",1958,"Česká Lípa",{"$f":"VLOOKUP(C713,Region,2,0)","v":"CZ/C2"},"M",""]
["Petr Houstek 49",1949,"Jaroměř","CZ/C2","M",""]
["Petr Houstek 79",1979,"Jaroměř","CZ/C2","M",""]
["Petr Hrebec",1972,"Točná","CZ/C1","M",""]
["Petr Humlicek",1973,"Medlánky","CZ/M","M",""]
["Petr Hybner",1951,"Liberec","CZ/C2","M",""]
["Petr Jasan",1960,"Medlánky","CZ/M","M",""]
["Petr Jedlicka",1987,"Medlánky","CZ/M","M",""]
["Petr Jiranek 63",1962,"Toužim","CZ/C1","M",""]
["Petr Jiranek 91",1991,"Toužim","CZ/C1","M",""]
["Petr Jirasek",1968,"Hronov","CZ/C2","M",""]
["Petr Kachlik",1954,"GAC Benešov","CZ/C1","M",""]
["Petr Kapounek",1977,"Kroměříž","CZ/M","M",""]
["Petr Kaufmann",1958,"Nové Město nad Metují","CZ/C2","M",""]
["Petr Kejr",1959,"Kralupy","CZ/C1","M",""]
["Petr Kolacek",1965,"Šumperk","CZ/M","M",""]
["Petr Kolomaznik",1981,"Šumperk","CZ/M","M",""]
["Petr Kotal",1975,"Točná","CZ/C1","M",""]
["Petr Koutny",1971,"Křižanov","CZ/M","M",""]
["Petr Kohr",1970,"Raná","CZ/C2","M",""]
["Petr Krejcirik",1960,"Hranice","CZ/M","M",""]
["Petr Kubik 74",1974,"Křižanov","CZ/M","M",""]
["Petr Kubik 75",1975,"Moravská Třebová","CZ/M","M",""]
["Petr Kyzivat",1970,"Jičín","CZ/C2","M",""]
["Petr Lonsky",1965,"Toužim","CZ/C1","M",""]
["Petr Los",1961,"Toužim","CZ/C1","M",{"$f":"IF(A738=\"(prázdné)\",\"\",IF(($G$1-B738)>25,\"\",\"Junior v roce \"&$G$1))","v":""}]
["Petr Macicek",1976,"Frýdlant","CZ/M","M",""]
["Petr Malcek",1965,"Letňany","CZ/C1","M",""]
["Petr Masik",2001,"Zábřeh",{"$f":"VLOOKUP(C741,Region,2,0)","v":"CZ/M"},"M",{"$f":"IF(A741=\"(prázdné)\",\"\",IF(($G$1-B741)>25,\"\",\"Junior v roce \"&$G$1))","v":"Junior v roce 2023"}]
["Petr Mitas",1993,"Kunovice","CZ/M","M",""]
["Petr Omelka",1970,"Vyškov",{"$f":"VLOOKUP(C743,Region,2,0)","v":"CZ/M"},"M",""]
["Petr Panek",1975,"Dvůr Králové","CZ/C2","M",""]
["Petr Petricka",1972,"Soběslav","CZ/C1","M",""]
["Petr Prichystal",1973,"Moravská Třebová","CZ/M","M",""]
["Petr Rajda",1970,"Křižanov","CZ/M","M",""]
["Petr Rozhon",1972,"Hosín","CZ/C1","M",""]
["Petr Rygl",1966,"Jičín","CZ/C2","M",""]
["Petr Seibrt",1974,"Náchod","CZ/C2","M",""]
["Petr Sloupensky",1959,"Ústí nad Orlicí","CZ/C2","M",""]
["Petr Starek",1974,"Zbraslavice","CZ/C1","M",""]
["Petr Striz",1980,"Točná","CZ/C1","M",""]
["Petr Svoboda",1988,"Letkov","CZ/C1","M",""]
["Petr Safar",1978,"Ústí nad Orlicí","CZ/C2","M",""]
["Petr Senkyr",1965,"Kunovice","CZ/M","M",""]
["Petr Setka",1971,"Letkov","CZ/C1","M",""]
["Petr Sindelar 45",1945,"Rakovník",{"$f":"VLOOKUP(C758,Region,2,0)","v":"CZ/C1"},"M",{"$f":"IF(A758=\"(prázdné)\",\"\",IF(($G$1-B758)>25,\"\",\"Junior v roce \"&$G$1))","v":""}]
["Petr Sindelar 80",1980,"Rakovník",{"$f":"VLOOKUP(C759,Region,2,0)","v":"CZ/C1"},"M",{"$f":"IF(A759=\"(prázdné)\",\"\",IF(($G$1-B759)>25,\"\",\"Junior v roce \"&$G$1))","v":""}]
["Petr Sochor",1986,"Hosín",{"$f":"VLOOKUP(C760,Region,2,0)","v":"CZ/C1"},"M",""]
["Petr Spunar",1966,"Mladá Boleslav","CZ/C1","M",""]
["Petr Stepanek",1989,"Moravská Třebová","CZ/M","M",""]
["Petr Tax",1968,"Jičín",{"$f":"VLOOKUP(C763,Region,2,0)","v":"CZ/C2"},"M",""]
["Petr Tichy",1973,"Zbraslavice","CZ/C1","M",""]
["Petr Traeger",1983,"Vrchlabí",{"$f":"VLOOKUP(C765,Region,2,0)","v":"CZ/C2"},"M",{"$f":"IF(A765=\"(prázdné)\",\"\",IF(($G$1-B765)>25,\"\",\"Junior v roce \"&$G$1))","v":""}]
["Petr Uhrincko",1969,"Kladno","CZ/C1","M",""]
["Petr Valenta 94",1994,"Kunovice","CZ/M","M",""]
["Petr Valenta 76",1976,"Jaroměř",{"$f":"VLOOKUP(C768,Region,2,0)","v":"CZ/C2"},"M",""]
["Petr Velek",1975,"GAC Benešov",{"$f":"VLOOKUP(C769,Region,2,0)","v":"CZ/C1"},"M",""]
["Petr Vezda",1974,"Medlánky",{"$f":"VLOOKUP(C770,Region,2,0)","v":"CZ/M"},"M",""]
["Petr Vlasak",1974,"Medlánky","CZ/M","M",""]
["Petr Vodicka",1965,"Jaroměř","CZ/C2","M",""]
["Petr Zajic",1962,"Liberec","CZ/C2","M",""]
["Petra Benesova",1985,"Beroun","CZ/C1","F",""]
["Petra Diepoldova",1978,"Vysoké Mýto","CZ/C2","F",""]
["Petra Piskata",1989,"Luhačovice","CZ/M","F",""]
["Petra Pinkova",1988,"Letkov","CZ/C1","F",""]
["Petra Retamozova",1990,"Kralupy","CZ/C1","F",""]
["Premek Popovsky",1966,"Kyjov","CZ/M","M",""]
["Premysl Chvoj",2003,"Zbraslavice",{"$f":"VLOOKUP(C780,Region,2,0)","v":"CZ/C1"},"M","Junior v roce 2023"]
["Premysl Muzik",1990,"Hosín","CZ/C1","M",""]
["Radek Bartos",1971,"Kolín",{"$f":"VLOOKUP(C782,Region,2,0)","v":"CZ/C1"},"M",{"$f":"IF(A782=\"(prázdné)\",\"\",IF(($G$1-B782)>25,\"\",\"Junior v roce \"&$G$1))","v":""}]
["Radek Gadas",1998,"Hodkovice",{"$f":"VLOOKUP(C783,Region,2,0)","v":"CZ/C2"},"M","Junior v roce 2023"]
["Radek Hamrla",1973,"Vyškov",{"$f":"VLOOKUP(C784,Region,2,0)","v":"CZ/M"},"M",""]
["Radek Hybl",1980,"Šumperk","CZ/M","M",""]
["Radek Chmela",1984,"Luhačovice","CZ/M","M",""]
["Radek Jaksa",1979,"Prostějov","CZ/M","M",""]
["Radek Krejcirik",1991,"Hranice","CZ/M","M",""]
["Radek Kucirek",1973,"Havlíčkův Brod","CZ/C2","M",""]
["Radek Laga",1997,"Kunovice",{"$f":"VLOOKUP(C790,Region,2,0)","v":"CZ/M"},"M",""]
["Radek Munzar",1976,"Jaroměř","CZ/C2","M",""]
["Radek Tobolka",1977,"Jičín",{"$f":"VLOOKUP(C792,Region,2,0)","v":"CZ/C2"},"M",""]
["Radek Trunec",1989,"Letkov","CZ/C1","M",""]
["Radek Vlcek",1982,"Šumperk","CZ/M","M",""]
["Radek Zima 78",1978,"Hodkovice","CZ/C2","M",""]
["Radek Zima 75",1975,"Břeclav","CZ/M","M",""]
["Radim Bradac",1995,"Letňany","CZ/C1","M",""]
["Radim Hahn",1972,"Zábřeh","CZ/M","M",""]
["Radim Hauptmann",1963,"Jičín","CZ/C2","M",""]
["Radim Jordan",1976,"Žamberk","CZ/C2","M",""]
["Radim Krofta",1984,"Rakovník","CZ/C1","M",""]
["Radim Malatek",1978,"Beroun","CZ/C1","M",""]
["Radim Sobek",1977,"Hranice",{"$f":"VLOOKUP(C803,Region,2,0)","v":"CZ/M"},"M",{"$f":"IF(A803=\"(prázdné)\",\"\",IF(($G$1-B803)>25,\"\",\"Junior v roce \"&$G$1))","v":""}]
["Radim Tomala",1972,"Prostějov",{"$f":"VLOOKUP(C804,Region,2,0)","v":"CZ/M"},"M",{"$f":"IF(A804=\"(prázdné)\",\"\",IF(($G$1-B804)>25,\"\",\"Junior v roce \"&$G$1))","v":""}]
["Radim Vadasz",1989,"Soběslav","CZ/C1","M",""]
["Radim Zielinski",1969,"Frýdlant","CZ/M","M",""]
["Radmila Horacek Filakovska",1963,"Dvůr Králové","CZ/C2","F",""]
["Radoslav Pur",1973,"Hosín","CZ/C1","M",""]
["Radovan Otto",1968,"Ústí nad Labem","CZ/C2","M",{"$f":"IF(A809=\"(prázdné)\",\"\",IF(($G$1-B809)>25,\"\",\"Junior v roce \"&$G$1))","v":""}]
["Radovan Sohr",1965,"Hranice","CZ/M","M","",null,"Dříve Jičín"]
["Rene Hudak",1972,"Kunovice","CZ/M","M",""]
["Rene Picha",1970,"Vlašim","CZ/C1","M",""]
["Richard Jensen",1965,"Zbraslavice","CZ/C1","M",""]
["Richard Svarovsky",1976,"Zábřeh","CZ/M","M",""]
["Richard Vlcek",1993,"Kunovice","CZ/M","M",""]
["Robert Jandera",1976,"Hodkovice","CZ/C2","M",""]
["Robert Sima",1971,"GAC Benešov","CZ/C1","M",""]
["Robin Stichenwirth",1984,"Letkov",{"$f":"VLOOKUP(C818,Region,2,0)","v":"CZ/C1"},"M",{"$f":"IF(A818=\"(prázdné)\",\"\",IF(($G$1-B818)>25,\"\",\"Junior v roce \"&$G$1))","v":""}]
["Roman Cerny",1971,"Hranice","CZ/M","M",""]
["Roman Huszar",1963,"Letňany","CZ/C1","M",""]
["Roman Jokl",1979,"Letkov","CZ/C1","M",""]
["Roman Konarik",1976,"Luhačovice","CZ/M","M",""]
["Roman Lanzendorf",1964,"Letkov","CZ/C1","M",""]
["Roman Lengal",1987,"Břeclav",{"$f":"VLOOKUP(C824,Region,2,0)","v":"CZ/M"},"M",""]
["Roman Lukes",1979,"Přibyslav",{"$f":"VLOOKUP(C825,Region,2,0)","v":"CZ/C2"},"M",""]
["Roman Michalek",1974,"Toužim","CZ/C1","M",""]
["Roman Mracek",1980,"Letkov","CZ/C1","M",""]
["Roman Schotli",1970,"Hranice","CZ/M","M",""]
["Roman Stoklasa",1984,"Medlánky","CZ/M","M",""]
["Rostislav Broz",1968,"Vrchlabí","CZ/C2","M",""]
["Rostislav Fric",1973,"Raná","CZ/C2","M","",null,"Dříve Jičín"]
["Rostislav Konderla",1972,"Rakovník",{"$f":"VLOOKUP(C832,Region,2,0)","v":"CZ/C1"},"M",{"$f":"IF(A832=\"(prázdné)\",\"\",IF(($G$1-B832)>25,\"\",\"Junior v roce \"&$G$1))","v":""}]
["Rostislav Matl",1972,"Vyškov","CZ/M","M",""]
["Rostislav Stryk",1972,"Frýdlant","CZ/M","M",""]
["Rostislav Subert",1982,"Šumperk","CZ/M","M",""]
["Rudolf Ferbar",1969,"Moravská Třebová","CZ/M","M",""]
["Rudolf Jung",1954,"Zbraslavice","CZ/C1","M",""]
["Sabina Vitova",1998,"Kroměříž","CZ/M","F","Junior v roce 2023"]
["Slavomir Piskaty 58",1958,"Kunovice","CZ/M","M",""]
["Slavomir Piskaty 84",1984,"Kunovice","CZ/M","M",""]
["Slavomir Tanglmajer",1966,"Chomutov","CZ/C2","M",""]
["Slavomir Valecko",1960,"Hranice","CZ/M","M",""]
["Sona Fortova",1980,"GAC Benešov","CZ/C1","F",""]
["Stanislav Doskocil",1978,"Medlánky","CZ/M","M",""]
["Stanislav Hanus",1970,"Vrchlabí","CZ/C2","M",""]
["Stanislav Honzatko",1952,"Slaný","CZ/C1","M",""]
["Stanislav John",1974,"Hosín",{"$f":"VLOOKUP(C847,Region,2,0)","v":"CZ/C1"},"M",""]
["Stanislav Kubicek",1960,"Medlánky","CZ/M","M",""]
["Stanislav Poslusny",1965,"GAC Benešov","CZ/C1","M",""]
["Stanislav Vrabec",1975,"Česká Lípa",{"$f":"VLOOKUP(C850,Region,2,0)","v":"CZ/C2"},"M",""]
["Stanislava Zemlickova",2000,"Vyškov",{"$f":"VLOOKUP(C851,Region,2,0)","v":"CZ/M"},"F","Junior v roce 2023"]
["Svatopluk Tomsu",1973,"Jaroměř","CZ/C2","M",""]
["Sarka Lochova",1966,"Šumperk","CZ/M","F",""]
["Stefan Uher",1968,"Turnov","CZ/C2","M",""]
["Stepan Capek",1960,"Jičín",{"$f":"VLOOKUP(C855,Region,2,0)","v":"CZ/C2"},"M",{"$f":"IF(A855=\"(prázdné)\",\"\",IF(($G$1-B855)>25,\"\",\"Junior v roce \"&$G$1))","v":""}]
["Stepan Filakovsky",2005,"Medlánky",{"$f":"VLOOKUP(C856,Region,2,0)","v":"CZ/M"},"M",{"$f":"IF(A856=\"(prázdné)\",\"\",IF(($G$1-B856)>25,\"\",\"Junior v roce \"&$G$1))","v":"Junior v roce 2023"}]
["Stepan Matous",1980,"Dvůr Králové","CZ/C2","M",""]
["Stepan Obrovsky",1990,"Frýdlant",{"$f":"VLOOKUP(C858,Region,2,0)","v":"CZ/M"},"M",""]
["Teodor Skoda",1998,"Hronov",{"$f":"VLOOKUP(C859,Region,2,0)","v":"CZ/C2"},"M","Junior v roce 2023"]
["Tereza Jirsakova",1997,"Hronov","CZ/C2","F",""]
["Tereza Koubkova",1999,"Vysoké Mýto","CZ/C2","F","Junior v roce 2023"]
["Tereza Krcilova Spalenkova",1981,"Raná",{"$f":"VLOOKUP(C862,Region,2,0)","v":"CZ/C2"},"F",""]
["Tereza Novakova",1993,"Chrudim",{"$f":"VLOOKUP(C863,Region,2,0)","v":"CZ/C2"},"F",""]
["Tibor Hezina",2002,"Křižanov",{"$f":"VLOOKUP(C864,Region,2,0)","v":"CZ/M"},"M","Junior v roce 2023"]
["Tibor Hruza",1970,"Letkov","CZ/C1","M",""]
["Tim Raasch",2000,"Polička",{"$f":"VLOOKUP(C866,Region,2,0)","v":"CZ/C2"},"M","Junior v roce 2023"]
["Tomas Barton",1982,"Hosín","CZ/C1","M",""]
["Tomas Buben",1971,"Jaroměř","CZ/C2","M",""]
["Tomas Ditrt",1969,"Podhořany","CZ/C2","M",""]
["Tomas Fiala 72",1972,"Křižanov","CZ/M","M",""]
["Tomas Fiala 77",1977,"Luhačovice","CZ/M","M",""]
["Tomas Fila",1987,"Beroun","CZ/C1","M",""]
["Tomas Flegl",1987,"Hodkovice",{"$f":"VLOOKUP(C873,Region,2,0)","v":"CZ/C2"},"M",""]
["Tomas Frinta",1970,"Hodkovice","CZ/C2","M",""]
["Tomas Hlavacek",1984,"Mladá Boleslav",{"$f":"VLOOKUP(C875,Region,2,0)","v":"CZ/C1"},"M",""]
["Tomas Hlavenka",1987,"Luhačovice","CZ/M","M",""]
["Tomas Holenda",1956,"Havlíčkův Brod",{"$f":"VLOOKUP(C877,Region,2,0)","v":"CZ/C2"},"M",{"$f":"IF(A877=\"(prázdné)\",\"\",IF(($G$1-B877)>25,\"\",\"Junior v roce \"&$G$1))","v":""}]
["Tomas Holzapfel",1975,"Mladá Boleslav","CZ/C1","M",""]
["Tomas Hulmak",1999,"Hosín","CZ/C1","M","Junior v roce 2023"]
["Tomas Hynek",2002,"Dvůr Králové",{"$f":"VLOOKUP(C880,Region,2,0)","v":"CZ/C2"},"M","Junior v roce 2023"]
["Tomas Charvat",1981,"Vysoké Mýto","CZ/C2","M",""]
["Tomas Jakoubek",2000,"Hronov",{"$f":"VLOOKUP(C882,Region,2,0)","v":"CZ/C2"},"M","Junior v roce 2023"]
["Tomas Jedlicka",1959,"Karlštejn","CZ/C1","M",""]
["Tomas Jilek",1995,"Raná","CZ/C2","M",""]
["Tomas Jiricny",1981,"Hodkovice","CZ/C2","M",""]
["Tomas Jung",1950,"Zbraslavice","CZ/C1","M",""]
["Tomas Kohout",1981,"Slaný","CZ/C1","M",""]
["Tomas Koutnik",1985,"Jaroměř","CZ/C2","M",""]
["Tomas Kovarik",1965,"Zbraslavice","CZ/C1","M",""]
["Tomas Kubac",1993,"Roudnice","CZ/C2","M",""]
["Tomas Kulhavy",2001,"Liberec",{"$f":"VLOOKUP(C891,Region,2,0)","v":"CZ/C2"},"M","Junior v roce 2023"]
["Tomas Lisec",1984,"Točná","CZ/C1","M",""]
["Tomas Magnusek",1988,"Frýdlant","CZ/M","M",""]
["Tomas Malik",1972,"Letňany","CZ/C1","M",""]
["Tomas Malinsky",1988,"Křižanov","CZ/M","M",""]
["Tomas Manasek",1980,"Kunovice","CZ/M","M",""]
["Tomas Mezera",1973,"Raná","CZ/C2","M",""]
["Tomas Michna",1989,"Šumperk","CZ/M","M",""]
["Tomas Moravec",2000,"Žamberk","CZ/C2","M","Junior v roce 2023"]
["Tomas Morch",1981,"Raná","CZ/C2","M",""]
["Tomas Novak",1974,"Česká Lípa",{"$f":"VLOOKUP(C901,Region,2,0)","v":"CZ/C2"},"M",""]
["Tomas Ohera",1977,"Letňany","CZ/C1","M",""]
["Tomas Ondrusek",1994,"Letkov","CZ/C1","M",""]
["Tomas Ondrisek",1970,"Kunovice","CZ/M","M",""]
["Tomas Palata",1966,"Liberec","CZ/C2","M",""]
["Tomas Podolak",1986,"Kralupy","CZ/C1","M",""]
["Tomas Profeld",1964,"Jičín","CZ/C2","M",""]
["Tomas Prokop",1972,"Šumperk","CZ/M","M",""]
["Tomas Prikryl",1973,"Vyškov","CZ/M","M",""]
["Tomas Ptacovsky",1981,"Letňany","CZ/C1","M",""]
["Tomas Rendla",1973,"Zbraslavice","CZ/C1","M",""]
["Tomas Rysavy",1959,"Medlánky","CZ/M","M",""]
["Tomas Sedlacek",1972,"Zbraslavice","CZ/C1","M",""]
["Tomas Seifert",1972,"Raná","CZ/C2","M",""]
["Tomas Shrbeny",1968,"Točná","CZ/C1","M",""]
["Tomas Suchanek",1964,"GAC Benešov","CZ/C1","M",""]
["Tomas Talanda",1988,"Křižanov","CZ/M","M",""]
["Tomas Turek",1988,"Zbraslavice",{"$f":"VLOOKUP(C918,Region,2,0)","v":"CZ/C1"},"M",""]
["Tomas Vrbsky",1964,"Letkov","CZ/C1","M",""]
["Tomas Zamecnik",1988,"Zbraslavice","CZ/C1","M",""]
["Ulf Kern",1958,"Raná","CZ/C2","M",""]
["Vaclav Cerny",1949,"Slaný","CZ/C1","M",""]
["Vaclav Halek",1966,"Toužim",{"$f":"VLOOKUP(C923,Region,2,0)","v":"CZ/C1"},"M",""]
["Vaclav Hrdina",1984,"Letkov",{"$f":"VLOOKUP(C924,Region,2,0)","v":"CZ/C1"},"M",""]
["Vaclav Hruza",1965,"Břeclav","CZ/M","M",""]
["Vaclav Koudelka",1997,"Jičín","CZ/C2","M",""]
["Vaclav Krejcar",1943,"Hořice","CZ/C2","M",""]
["Vaclav Kult",1973,"Broumov","CZ/C2","M",""]
["Vaclav Kunasek",1987,"Zbraslavice","CZ/C1","M",""]
["Vaclav Kysilka",1979,"GAC Benešov",{"$f":"VLOOKUP(C930,Region,2,0)","v":"CZ/C1"},"M",""]
["Vaclav Marel",1974,"Jaroměř","CZ/C2","M",""]
["Vaclav Ochotny",1966,"Kunovice",{"$f":"VLOOKUP(C932,Region,2,0)","v":"CZ/M"},"M",""]
["Vaclav Petru",1974,"Letňany","CZ/C1","M",""]
["Vaclav Sehnal",1962,"Kolín","CZ/C1","M",""]
["Vaclav Svoboda",1970,"Letkov","CZ/C1","M",""]
["Vaclav Trnka",1939,"Ústí nad Orlicí","CZ/C2","M",""]
["Vaclav Zeman",1984,"Zbraslavice","CZ/C1","M",""]
["Vaclav Zak",1962,"GAC Benešov","CZ/C1","M",""]
["Vera Vavrinova",1949,"Vysoké Mýto","CZ/C2","F",""]
["Veronika Ambrozova",1984,"Křižanov","CZ/M","F",""]
["Veronika Jezkova",1986,"Mladá Boleslav","CZ/C1","F",{"$f":"IF(A941=\"(prázdné)\",\"\",IF(($G$1-B941)>25,\"\",\"Junior v roce \"&$G$1))","v":""}]
["Veronika Mullerova",1983,"Letňany","CZ/C1","F",""]
["Viktor Becan",1979,"GAC Benešov","CZ/C1","M",""]
["Viktor Tvrdik",1977,"Rakovník",{"$f":"VLOOKUP(C944,Region,2,0)","v":"CZ/C1"},"M",{"$f":"IF(A944=\"(prázdné)\",\"\",IF(($G$1-B944)>25,\"\",\"Junior v roce \"&$G$1))","v":""}]
["Viktor Zimcik",1976,"Kunovice",{"$f":"VLOOKUP(C945,Region,2,0)","v":"CZ/M"},"M",""]
["Vilem Riha",1990,"Letňany","CZ/C1","M",""]
["Vit Grossmann",1977,"Hranice",{"$f":"VLOOKUP(C947,Region,2,0)","v":"CZ/M"},"M",""]
["Vit Hrdlicka",1960,"Medlánky","CZ/M","M",""]
["Vit Morkovsky",2000,"Polička","CZ/C2","M","Junior v roce 2023"]
["Vit Novak",1985,"Olomouc","CZ/M","M",""]
["Vit Pavelka",2004,"Moravská Třebová",{"$f":"VLOOKUP(C951,Region,2,0)","v":"CZ/M"},"M",{"$f":"IF(A951=\"(prázdné)\",\"\",IF(($G$1-B951)>25,\"\",\"Junior v roce \"&$G$1))","v":"Junior v roce 2023"}]
["Vit Prokop",1987,"Medlánky",{"$f":"VLOOKUP(C952,Region,2,0)","v":"CZ/M"},"M",""]
["Vit Rydl",1969,"Turnov","CZ/C2","M",""]
["Vit Tvrdik",2000,"Letňany","CZ/C1","M","Junior v roce 2023"]
["Vladimir Abraham",1962,"Raná","CZ/C2","M",""]
["Vladimir Baran",1949,"Frýdlant","CZ/M","M",""]
["Vladimir Dostal",1943,"Hronov","CZ/C2","M",""]
["Vladimir Fousek",1964,"Raná","CZ/C2","M",""]
["Vladimir Fux",1963,"Křižanov","CZ/M","M",""]
["Vladimir Hammer",2000,"Letkov",{"$f":"VLOOKUP(C960,Region,2,0)","v":"CZ/C1"},"M","Junior v roce 2023"]
["Vladimir Hampl",1970,"Dvůr Králové","CZ/C2","M",""]
["Vladimir Jirka",1965,"Zábřeh","CZ/M","M",""]
["Vladimir Kamensky",1983,"Břeclav","CZ/M","M",""]
["Vladimir Kramosil",1937,"Most","CZ/C2","M",""]
["Vladimir Maca",1982,"Jihlava","CZ/M","M",""]
["Vladimir Nemec",1976,"Jeseník","CZ/M","M",""]
["Vladimir Prihoda",1953,"Kralupy","CZ/C1","M",""]
["Vladimir Spilka",1940,"Hranice","CZ/M","M",""]
["Vladislav Cadsky",1975,"Kolín",{"$f":"VLOOKUP(C969,Region,2,0)","v":"CZ/C1"},"M",{"$f":"IF(A969=\"(prázdné)\",\"\",IF(($G$1-B969)>25,\"\",\"Junior v roce \"&$G$1))","v":""}]
["Vlastislav Picka",1948,"Jindřichův Hradec","CZ/C1","M",""]
["Vojtech Bartos",1970,"Medlánky","CZ/M","M",""]
["Vojtech Flidr",2003,"Dvůr Králové",{"$f":"VLOOKUP(C972,Region,2,0)","v":"CZ/C2"},"M","Junior v roce 2023"]
["Vojtech Hajek",1987,"Mladá Boleslav","CZ/C1","M",""]
["Vojtech Karlik",1982,"Kunovice","CZ/M","M",""]
["Vojtech Kostejn",1974,"Česká Lípa","CZ/C2","M",""]
["Vojtech Labuda",1980,"Příbram","CZ/C1","M",""]
["Vojtech Novotny",1992,"Kralupy","CZ/C1","M",""]
["Vojtech Pavek",2000,"Medlánky",{"$f":"VLOOKUP(C978,Region,2,0)","v":"CZ/M"},"M",{"$f":"IF(A978=\"(prázdné)\",\"\",IF(($G$1-B978)>25,\"\",\"Junior v roce \"&$G$1))","v":"Junior v roce 2023"}]
["Vojtech Petrovicky",1986,"Mladá Boleslav","CZ/C1","M",""]
["Vojtech Pivonka",1976,"Vrchlabí","CZ/C2","M",""]
["Vojtech Sehnal",1994,"Kolín","CZ/C1","M",""]
["Vojtech Stavny",1962,"Letkov","CZ/C1","M",""]
["Vojtech Svoboda",1994,"Zbraslavice",{"$f":"VLOOKUP(C983,Region,2,0)","v":"CZ/C1"},"M",""]
["Vojtech Vach 76",1976,"Nové Město nad Metují","CZ/C2","M",""]
["Vojtech Vach 03",2003,"Nové Město nad Metují",{"$f":"VLOOKUP(C985,Region,2,0)","v":"CZ/C2"},"M",{"$f":"IF(A985=\"(prázdné)\",\"\",IF(($G$1-B985)>25,\"\",\"Junior v roce \"&$G$1))","v":"Junior v roce 2023"}]
["Vratislav Orlita",1946,"Kunovice","CZ/M","M",""]
["Vratislav Sram",1966,"Broumov","CZ/C2","M",""]
["Wolfgang Sluka",1942,"Liberec","CZ/C2","M",""]
["Yvona Vyhnankova",1963,"Olomouc","CZ/M","F",""]
["Zbynek Bican",1961,"Raná","CZ/C2","M",""]
["Zbynek Fuksa",1956,"Jičín",{"$f":"VLOOKUP(C991,Region,2,0)","v":"CZ/C2"},"M",""]
["Zbynek Zdrahal",1965,"Medlánky","CZ/M","M",""]
["Zbynek Koudelka",1991,"Křižanov","CZ/M","M",""]
["Zbynek Kuchta",1976,"Klatovy",{"$f":"VLOOKUP(C994,Region,2,0)","v":"CZ/C1"},"M",""]
["Zdenek Balcarek",1967,"Kroměříž","CZ/M","M",""]
["Zdenek Bohm",1963,"Kolín","CZ/C1","M",""]
["Zdenek Boruvka 54",1954,"Jičín","CZ/C2","M",""]
["Zdenek Boruvka 86",1986,"Jičín","CZ/C2","M",""]
["Zdenek Buben",1978,"Hodkovice","CZ/C2","M",""]
["Zdenek Kropac",1981,"Kladno","CZ/C1","M",""]
["Zdenek Krivanek",1967,"Kolín","CZ/C1","M",""]
["Zdenek Mach",1976,"Broumov","CZ/C2","M",""]
["Zdenek Parizek",1984,"Raná","CZ/C2","M",""]
["Zdenek Schenk",1972,"Hranice","CZ/M","M",""]
["Zdenek Setek",1980,"Kolín","CZ/C1","M",""]
["Zdenek Spacek",1980,"Přibyslav","CZ/C2","M",""]
["Zdenek Zabloudil",1962,"Medlánky","CZ/M","M",""]
["Zdenek Zerzan",1968,"Šumperk",{"$f":"VLOOKUP(C1008,Region,2,0)","v":"CZ/M"},"M",""]
["Zuzana Kutilkova",1993,"Křižanov",{"$f":"VLOOKUP(C1009,Region,2,0)","v":"CZ/M"},"F",""]
["Zuzana Markesova",2001,"Medlánky",{"$f":"VLOOKUP(C1010,Region,2,0)","v":"CZ/M"},"F","Junior v roce 2023"]
["Zitomir Krepinsky",1987,"Chrudim",{"$f":"VLOOKUP(C1011,Region,2,0)","v":"CZ/C2"},"M",{"$f":"IF(A1011=\"(prázdné)\",\"\",IF(($G$1-B1011)>25,\"\",\"Junior v roce \"&$G$1))","v":""}]

{"sheet":"Region","index":4,"n_rows":116,"n_cols":4,"rows_kept":116,"cut":false,"hidden":true,"merged":[]}
["Aeroklub","Region","Počet",{"$f":"C70+C37+C2","v":89}]
["Benešov","CZ/C1",{"$f":"COUNTIF(B2:B35,B2)","v":34}]
["Beroun","CZ/C1"]
["Bystřice u Benešova","CZ/C1"]
["Erpužice","CZ/C1"]
["GAC Benešov","CZ/C1"]
["Hořovice","CZ/C1"]
["Hosín","CZ/C1"]
["Jindřichův Hradec","CZ/C1"]
["Karlovy Vary","CZ/C1"]
["Karlštejn","CZ/C1"]
["Kladno","CZ/C1"]
["Klatovy","CZ/C1"]
["Kolín","CZ/C1"]
["Kralupy","CZ/C1"]
["Letkov","CZ/C1"]
["Letňany","CZ/C1"]
["Mladá Boleslav","CZ/C1"]
["Nesvačily","CZ/C1"]
["Panenský Týnec","CZ/C1"]
["Plasy","CZ/C1"]
["Plzeň Bory","CZ/C1"]
["Prachatice","CZ/C1"]
["Příbram","CZ/C1"]
["Rakovník","CZ/C1"]
["Slaný","CZ/C1"]
["Soběslav","CZ/C1"]
["Staňkov","CZ/C1"]
["Strakonice","CZ/C1"]
["Tábor","CZ/C1"]
["Tachov","CZ/C1"]
["Točná","CZ/C1"]
["Toužim","CZ/C1"]
["Vlašim","CZ/C1"]
["Zbraslavice","CZ/C1"]
["-","-"]
["Broumov","CZ/C2",{"$f":"COUNTIF(B37:B68,B37)","v":32}]
["Česká Lípa","CZ/C2"]
["Dvůr Králové","CZ/C2"]
["Havlíčkův Brod","CZ/C2"]
["Hodkovice","CZ/C2"]
["Hořice","CZ/C2"]
["Hradčany","CZ/C2"]
["Hronov","CZ/C2"]
["Chomutov","CZ/C2"]
["Chotěboř","CZ/C2"]
["Chrudim","CZ/C2"]
["Jaroměř","CZ/C2"]
["Jičín","CZ/C2"]
["Letecká společnost na Vysočině","CZ/C2"]
["Liberec","CZ/C2"]
["Mnichovo Hradiště","CZ/C2"]
["Most","CZ/C2"]
["Náchod","CZ/C2"]
["Nové Město nad Metují","CZ/C2"]
["Pardubice","CZ/C2"]
["Podhořany","CZ/C2"]
["Polička","CZ/C2"]
["Přibyslav","CZ/C2"]
["Raná","CZ/C2"]
["Roudnice","CZ/C2"]
["Skuteč","CZ/C2"]
["Turnov","CZ/C2"]
["Ústí nad Labem","CZ/C2"]
["Ústí nad Orlicí","CZ/C2"]
["Vrchlabí","CZ/C2"]
["Vysoké Mýto","CZ/C2"]
["Žamberk","CZ/C2"]
["-","-"]
["Bohuňovice","CZ/M",{"$f":"COUNTIF(B70:B92,B70)","v":23}]
["Břeclav","CZ/M"]
["LK Břeclav","CZ/M"]
["Frýdlant","CZ/M"]
["Hranice","CZ/M"]
["Jeseník","CZ/M"]
["Jihlava","CZ/M"]
["Krnov","CZ/M"]
["Kroměříž","CZ/M"]
["Křižanov","CZ/M"]
["Kunovice","CZ/M"]
["Kyjov","CZ/M"]
["Luhačovice","CZ/M"]
["Medlánky","CZ/M"]
["Moravská Třebová","CZ/M"]
["Olomouc","CZ/M"]
["Prostějov","CZ/M"]
["Slatina","CZ/M"]
["Slavičín","CZ/M"]
["Stichovice","CZ/M"]
["Šumperk","CZ/M"]
["Vyškov","CZ/M"]
["Zábřeh","CZ/M"]
[]
["Aalborg","DK"]
["Air Sympatia","SK"]
["Akaflieg Dresden","DE"]
["Bad Nauheim","DE"]
["Bratislava","SK"]
["Dánsko","DK"]
["Greiz","DE"]
["Japonsko","JP"]
["Jelenia Góra","PL"]
["Martin","SK"]
["Německo","DE"]
["Nitra","SK"]
["Novo Mesto","SI"]
["Poprad","SK"]
["Prešov","SK"]
["Prievidza","SK"]
["Rakousko","AT"]
["Ružomberok","SK"]
["SGC Martin","SK"]
["Slovinsko","SI"]
["Trenčín","SK"]
["Trnava","SK"]
["Žilina","SK"]

{"sheet":"Temp","index":5,"n_rows":1489,"n_cols":30,"rows_kept":1489,"cut":false,"hidden":true,"merged":[]}
["Jmeno","Rok narození","M/F","Aeroklub","Region","Soutěž","Stát","Rok","Pořadí ve třídě","Body ve třídě","Kinp","Bi","Bi×Kinp","G","W","Typ","CN","Junior","Poznámka"]
[]
["PMCR 2022 Club class"]
["Zbraslavice, Czech Republic,   22 May 2022 – 5 June 2022 "]
["https://www.soaringspot.com/en_gb/plachtarske-mistrovstvi-ceske-republiky-2022-zbraslavice-2022/results/klub# "]
[]
["Michal Lešinger",null,null,"Moravská Třebová",null,null,null,null,1,6305,null,null,null,null,null,"ASW20","LL",null,null,"2 (994)","4 (480)","3 (304)","1 (607)","1 (866)","6 (902)","3 (643)","2 (989)","4 (520)"]
["Tomáš Suchánek",null,null,"GAC Benešov",null,null,null,null,2,6051,null,null,null,null,null,"ASW20","CX",null,null,"1 (1,000)","3 (488)","1 (383)","4 (559)","15 (479)","9 (889)","2 (652)","1 (1,000)","1 (601)"]
["Pavel Trybenekr",null,null,"Hořice",null,null,null,null,3,5758,null,null,null,null,null,"LS4","PF",null,null,"4 (850)","13 (106)","2 (369)","7 (542)","2 (862)","2 (976)","8 (597)","6 (909)","2 (547)"]
["Jiri Kusbach",null,null,"Luhačovice",null,null,null,null,4,5754,null,null,null,null,null,"KKB15FES","B",null,null,"6 (811)","8 (437)","4 (185)","2 (588)","5 (792)","11 (860)","6 (622)","4 (927)","3 (532)"]
["David Darnady",null,null,"SGC Martin",null,null,null,null,5,5734,null,null,null,null,null,"ASW20","EW",null,null,"3 (851)","1 (542)","7 (157)","10 (519)","3 (849)","7 (896)","12 (425)","3 (985)","7 (510)"]
["Ivan Novák",null,null,"Mladá Boleslav",null,null,null,null,6,5394,null,null,null,null,null,"Std.Cirrus","DI",null,null,"12 (712)","5 (466)","6 (162)","12 (444)","4 (825)","1 (1,000)","7 (618)","7 (852)","13 (315)"]
["Jan Louda",null,null,"Mladá Boleslav",null,null,null,null,7,5158,null,null,null,null,null,"ASW19b","XS",null,null,"11 (741)","9 (413)","5 (184)","3 (568)","12 (693)","3 (971)","1 (655)","13 (443)","8 (490)"]
["Jan Vavřín",null,null,"Vysoké Mýto",null,null,null,null,8,5072,null,null,null,null,null,"ASW19b",56,null,null,"8 (799)","10 (396)","13 (97)","11 (509)","8 (738)","12 (749)","10 (537)","11 (734)","5 (513)"]
["Jan Štastný",null,null,"Medlánky",null,null,null,null,9,5049,null,null,null,null,null,"LS4","IX",null,null,"9 (783)","2 (510)","7 (157)","15 (124)","7 (739)","10 (886)","9 (552)","8 (836)","9 (462)"]
["Ivan Tvrdík",null,null,"Letňany",null,null,null,null,10,4729,null,null,null,null,null,"ASW19b","KZ",null,null,"5 (812)","7 (461)","16 (0)","8 (528)","9 (729)","4 (952)","14 (276)","12 (460)","6 (511)"]
["Zdeněk Balcárek",null,null,"Kroměříž",null,null,null,null,11,4685,null,null,null,null,null,"Discus b","OS",null,null,"10 (761)","11 (382)","12 (106)","13 (200)","11 (699)","7 (896)","4 (634)","9 (806)","14 (201)"]
["Slavomir ml Pískatý",null,null,"Kunovice",null,null,null,null,12,4047,null,null,null,null,null,"Discus cs","KAL",null,null,"14 (672)","15 (63)","14 (78)","5 (546)","10 (705)","16 (390)","4 (634)","10 (795)","15 (164)"]
["Zdeněk Borůvka ml.",null,null,"Jičín",null,null,null,null,13,3810,null,null,null,null,null,"Std.Cirrus","BJ",null,null,"7 (800)","6 (465)","10 (138)","6 (543)","16 (78)","14 (419)","16 (0)","5 (918)","10 (449)"]
["Martin Kriz",null,null,"Přibyslav",null,null,null,null,14,3583,null,null,null,null,null,"ASW20",67,null,null,"16 (382)","16 (39)","9 (139)","9 (522)","14 (650)","13 (692)","11 (429)","15 (363)","11 (367)"]
["Pavlina Horáčková",null,null,"Sumperk",null,null,null,null,15,3271,null,null,null,null,null,"SZD48 Jantar Std2","SU",null,null,"15 (402)","12 (294)","11 (128)","14 (190)","13 (670)","15 (414)","13 (382)","14 (425)","12 (366)"]
["Daniel Ryba",null,null,"Dvůr Králové nad Labem",null,null,null,null,16,2661,null,null,null,null,null,"ASW19b","L7",null,null,"13 (710)","14 (101)","15 (35)","16 (89)","6 (749)","5 (905)","15 (72)","16 (0)","16 (0)"]
[]
["PMCR 2022 Kombi 15"]
["Zbraslavice, Czech Republic,   22 May 2022 – 5 June 2022 "]
["https://www.soaringspot.com/en_gb/plachtarske-mistrovstvi-ceske-republiky-2022-zbraslavice-2022/results/kombi-15# "]
[]
["Miloslav Cink",null,null,"Plzeň-Letkov",null,null,null,null,1,5461,null,null,null,null,null,"LS8","JB",null,null,"1 (692)","4 (342)","8 (486)","3 (802)","2 (929)","7 (648)","2 (998)","2 (564)"]
["Pavel Loužecký",null,null,"Přibyslav",null,null,null,null,2,5261,null,null,null,null,null,"LS8","FX",null,null,"2 (655)","3 (344)","7 (523)","12 (545)","1 (1,000)","8 (646)","3 (997)","3 (551)"]
["Jan Pavlík",null,null,"Křižanov",null,null,null,null,3,5096,null,null,null,null,null,"LS8","JW",null,null,"3 (652)","5 (334)","9 (457)","2 (810)","3 (784)","13 (474)","1 (1,000)","1 (585)"]
["Barbora Moravcová",null,null,"Zbraslavice",null,null,null,null,4,5028,null,null,null,null,null,"LS8","EU",null,null,"4 (650)","9 (287)","1 (696)","9 (650)","6 (730)","3 (707)","7 (954)","9 (354)"]
["Jana Vepřeková",null,null,"Dvůr Králové nad Labem",null,null,null,null,5,4754,null,null,null,null,null,"LS8","W8",null,null,"11 (356)","10 (285)","2 (652)","4 (797)","7 (729)","9 (629)","8 (953)","10 (353)"]
["Lukáš Kříž",null,null,"Křižanov",null,null,null,null,6,4634,null,null,null,null,null,"LS8","SK",null,null,"8 (444)","2 (345)","6 (530)","7 (706)","9 (506)","1 (714)","4 (975)","7 (414)"]
["Dana Nováková",null,null,"Mladá Boleslav",null,null,null,null,7,4525,null,null,null,null,null,"LS8","AU",null,null,"12 (238)","8 (290)","5 (574)","8 (651)","4 (758)","2 (711)","6 (955)","11 (348)"]
["Eduard Niko",null,null,"Prievidza",null,null,null,null,8,4496,null,null,null,null,null,"DuoDiscus XLT","DUO",null,null,"9 (433)","13 (89)","3 (604)","10 (644)","5 (733)","6 (662)","5 (965)","8 (366)"]
["Jan Koťan",null,null,null,null,null,null,null,9,4230,null,null,null,null,null,"Ventus 2bx","YA",null,null,"7 (475)","6 (319)","13 (268)","11 (607)","11 (476)","5 (694)","9 (915)","4 (476)"]
["Hana Trešlová",null,null,"Raná",null,null,null,null,10,4015,null,null,null,null,null,"Ventus 2ax","AX",null,null,"5 (541)","7 (292)","12 (395)","5 (724)","10 (484)","12 (487)","11 (674)","6 (418)"]
["Jan Zapletal",null,null,"Břeclav",null,null,null,null,11,3833,null,null,null,null,null,"LS8","JS",null,null,"10 (417)","1 (348)","11 (413)","6 (708)","13 (95)","10 (587)","10 (828)","5 (437)"]
["Karel Novak",null,null,"Mladá Boleslav",null,null,null,null,12,3768,null,null,null,null,null,"JS3","ZE",null,null,"6 (480)","12 (246)","4 (592)","1 (826)","12 (468)","11 (576)","13 (360)","13 (220)"]
["Jana Trešlová",null,null,"Raná",null,null,null,null,13,3421,null,null,null,null,null,"Discus 2a","GX",null,null,"13 (202)","11 (284)","10 (418)","13 (454)","8 (721)","4 (698)","12 (380)","12 (264)"]
[]
["PMCR 2022 Kombi Open"]
["Zbraslavice, Czech Republic,   22 May 2022 – 5 June 2022 "]
["https://www.soaringspot.com/en_gb/plachtarske-mistrovstvi-ceske-republiky-2022-zbraslavice-2022/results/kombi-open# "]
[]
["Radek Kučírek",null,null,"Havlíčkův Brod",null,null,null,null,1,5360,null,null,null,null,null,"EB28 Edition","NA",null,null,"2 (988)","13 (626)","10 (696)","3 (973)","9 (661)","1 (1,000)","8 (416)"]
["Tomáš Rendla",null,null,"Zbraslavice",null,null,null,null,2,5341,null,null,null,null,null,"EB29R","EX",null,null,"6 (927)","4 (787)","11 (688)","1 (1,000)","13 (631)","5 (908)","11 (400)"]
["Petr Hotový",null,null,"Česká Lípa",null,null,null,null,3,5163,null,null,null,null,null,"JS1B","IGC",null,null,"5 (954)","14 (601)","14 (650)","4 (948)","7 (687)","11 (793)","1 (530)"]
["Alena Netušilová",null,null,"Zbraslavice",null,null,null,null,4,5123,null,null,null,null,null,"JS1C 21m","JX",null,null,"7 (922)","10 (675)","4 (751)","2 (997)","11 (656)","14 (711)","9 (411)"]
["Radek Krejčiřík",null,null,"Hranice",null,null,null,null,5,5093,null,null,null,null,null,"JS1C EVO","ZF",null,null,"8 (721)","1 (851)","1 (890)","13 (593)","2 (740)","4 (939)","12 (359)"]
["Petr Tichý",null,null,"Zbraslavice",null,null,null,null,6,5083,null,null,null,null,null,"ASG29E","AJ",null,null,"11 (709)","5 (750)","7 (717)","7 (900)","8 (664)","8 (888)","3 (455)"]
["Pavel Jiránek",null,null,"Toužim",null,null,null,null,7,4963,null,null,null,null,null,"Ventus c","CS",null,null,"3 (976)","8 (685)","9 (707)","10 (627)","10 (660)","9 (835)","2 (473)"]
["Vladimir Foltin",null,null,"Nitra",null,null,null,null,8,4841,null,null,null,null,null,"JS3",3,null,null,"1 (994)","2 (795)","6 (726)","12 (617)","3 (737)","13 (724)","16 (248)"]
["Ondřej Bordovský",null,null,"Krnov",null,null,null,null,9,4650,null,null,null,null,null,"Ventus c","AD",null,null,"9 (718)","9 (684)","8 (708)","9 (646)","15 (600)","7 (893)","10 (401)"]
["Marek Pechanec",null,null,"Luhačovice",null,null,null,null,10,4619,null,null,null,null,null,"JS3","Q1",null,null,"4 (959)","6 (713)","12 (652)","14 (586)","14 (618)","10 (831)","14 (260)"]
["Jan Borůvka",null,null,"Jičín",null,null,null,null,11,4567,null,null,null,null,null,"Ventus c","EG",null,null,"16 (534)","17 (361)","3 (794)","6 (922)","16 (544)","2 (970)","5 (442)"]
["Radek Zima",null,null,"Hodkovice",null,null,null,null,12,4556,null,null,null,null,null,"ASG29E","XZ",null,null,"17 (511)","12 (659)","15 (594)","8 (854)","4 (727)","12 (780)","7 (431)"]
["David Mach",null,null,"Hronov",null,null,null,null,13,4188,null,null,null,null,null,"ASG29E","QZ",null,null,"9 (718)","18 (127)","2 (873)","17 (571)","1 (743)","6 (896)","14 (260)"]
["Ondřej Dupal",null,null,"GAC Benešov",null,null,null,null,14,4080,null,null,null,null,null,"ASG29E","GO",null,null,"19 (480)","16 (514)","12 (652)","5 (938)","18 (210)","3 (962)","13 (324)"]
["Michaela Rendlová",null,null,"Toužim",null,null,null,null,15,4050,null,null,null,null,null,"AS33ES","EA",null,null,"15 (557)","15 (546)","16 (584)","16 (574)","5 (708)","15 (643)","6 (438)"]
["Petr Koutný",null,null,"Křižanov",null,null,null,null,16,3940,null,null,null,null,null,"JS3","XM",null,null,"14 (595)","3 (788)","5 (746)","15 (581)","17 (534)","17 (245)","4 (451)"]
["Martin Hřivna",null,null,"Zbraslavice",null,null,null,null,17,3276,null,null,null,null,null,"ASG29E","NX",null,null,"12 (703)","11 (674)","18 (447)","11 (625)","12 (642)","18 (185)","18 (0)"]
["Petr Krejčiřík",null,null,"Hranice",null,null,null,null,18,3100,null,null,null,null,null,"AS33ES",12,null,null,"18 (507)","19 (55)","17 (582)","18 (544)","6 (706)","16 (516)","17 (190)"]
["Takeshi Maruyama",null,null,"Japan Soaring Club",null,null,null,null,19,1373,null,null,null,null,null,"JS3","AXI",null,null,"13 (677)","7 (696)","19 (0)","19 (0)","19 (0)","19 (0)","18 (0)"]
[]
["18. JPJ 2022 - Klub"]
["Šumperk, Czech Republic,   7 May 2022 – 14 May 2022 "]
["https://www.soaringspot.com/en_gb/jpj2022/results/klubova-trida# "]
[]
["Josef Novotny",null,null,"Pribyslav",null,null,null,null,1,3897,null,null,null,null,null,"Std. Cirrus","AW",null,null,"19 (789)","3 (978)","1 (1,000)","1 (506)","1 (624)"]
["Martin Ficnar",null,null,"Sumperk",null,null,null,null,2,3838,null,null,null,null,null,"LS-3a","S20",null,null,"3 (993)","7 (954)","12 (898)","3 (458)","4 (535)"]
["Josef Novak",null,null,"Kunovice",null,null,null,null,3,3745,null,null,null,null,null,"LS-1f","JT",null,null,"10 (862)","4 (977)","5 (948)","9 (432)","6 (526)"]
["Jan Podhrazsky",null,null,"Sumperk",null,null,null,null,4,3657,null,null,null,null,null,"Discus b","SJ",null,null,"4 (926)","6 (958)","7 (930)","5 (453)","20 (390)"]
["Rene Hudak",null,null,"Kunovice",null,null,null,null,5,3627,null,null,null,null,null,"Std. Cirrus WL","NK",null,null,"22 (761)","7 (954)","4 (949)","10 (431)","5 (532)"]
["Radim Sobek",null,null,"Hranice",null,null,null,null,6,3620,null,null,null,null,null,"TST-10M Atlas",7,null,null,"2 (999)","18 (658)","6 (940)","2 (479)","3 (544)"]
["Jaroslav Buryan",null,null,"Zabreh",null,null,null,null,7,3579,null,null,null,null,null,"ASW-20 (A) WL","NS",null,null,"1 (1,000)","2 (993)","10 (914)","22 (155)","7 (517)"]
["Martin Urner",null,null,"Letnany",null,null,null,null,8,3575,null,null,null,null,null,"ASW-15B","JJ",null,null,"5 (885)","5 (959)","20 (828)","7 (449)","12 (454)"]
["Rostislav Stryk",null,null,"Frydlant",null,null,null,null,9,3412,null,null,null,null,null,"Std. Cirrus",22,null,null,"14 (834)","19 (656)","2 (968)","4 (454)","9 (500)"]
["Martin Kriz",null,null,"Pribyslav",null,null,null,null,10,3342,null,null,null,null,null,"ASW-20 (A) WL",67,null,null,"24 (746)","12 (922)","8 (916)","13 (399)","22 (359)"]
["Stepan Obrovsky",null,null,"Frydlant",null,null,null,null,11,3306,null,null,null,null,null,"LS-1f","EM",null,null,"8 (875)","9 (941)","14 (891)","25 (128)","11 (471)"]
["Martin Svarc",null,null,"Olomouc",null,null,null,null,12,3089,null,null,null,null,null,"DG-101 G","IL",null,null,"6 (881)","33 (424)","19 (832)","8 (444)","8 (508)"]
["Petr Kolomaznik",null,null,"Sumperk",null,null,null,null,13,3014,null,null,null,null,null,"Discus b","VE",null,null,"11 (861)","20 (645)","9 (915)","17 (209)","21 (384)"]
["Vojtech Novotny",null,null,"Kralupy n.V.",null,null,null,null,14,2991,null,null,null,null,null,"LS-1f","EF",null,null,"20 (781)","14 (694)","13 (895)","27 (72)","2 (549)"]
["Petr Havrlant",null,null,"Sumperk",null,null,null,null,15,2942,null,null,null,null,null,"ASW-15B","Q1",null,null,"12 (860)","16 (679)","17 (862)","31 (57)","10 (484)"]
["David Vrchota",null,null,"Jaromer",null,null,null,null,16,2904,null,null,null,null,null,"Janus b","BV",null,null,"13 (845)","35 (376)","18 (861)","14 (384)","15 (438)"]
["Jiri Koudela",null,null,"Vyskov",null,null,null,null,17,2799,null,null,null,null,null,"ASW-19B","JK",null,null,"7 (879)","31 (430)","16 (884)","20 (182)","19 (424)"]
["Petr Lonsky",null,null,"Touzim",null,null,null,null,18,2778,null,null,null,null,null,"Cirrus","JP",null,null,"9 (865)","1 (1,000)","11 (913)","36 (0)","29 (0)"]
["Karel Horalek",null,null,"Olomouc",null,null,null,null,19,2758,null,null,null,null,null,"LS-3","Y1",null,null,"14 (834)","9 (941)","23 (791)","21 (156)","26 (36)"]
["Jiri Prochazka",null,null,"Touzim",null,null,null,null,20,2727,null,null,null,null,null,"Janus CM","J59",null,null,"17 (829)","29 (434)","3 (958)","29 (59)","14 (447)"]
["Jan Vozeh",null,null,"Rakovnik",null,null,null,null,21,2714,null,null,null,null,null,"Std. Cirrus","OG",null,null,"21 (780)","17 (676)","24 (745)","29 (59)","12 (454)"]
["Roman Schotli",null,null,"Hranice",null,null,null,null,22,2573,null,null,null,null,null,"ASW-19B",19,null,null,"18 (808)","30 (431)","15 (889)","11 (418)","27 (27)"]
["Jakub Kohn",null,null,"Prostejov",null,null,null,null,23,2410,null,null,null,null,null,"ASW-15B","FK",null,null,"38 (227)","11 (929)","22 (804)","6 (450)","29 (0)"]
["Jan Zezula",null,null,"Letnany",null,null,null,null,24,2384,null,null,null,null,null,"ASW-19B","HD",null,null,"14 (834)","15 (683)","28 (483)","14 (384)","29 (0)"]
["Boris Bachraty",null,null,"Kyjov",null,null,null,null,25,2256,null,null,null,null,null,"Std. Cirrus",90,null,null,"32 (458)","13 (870)","34 (163)","12 (406)","22 (359)"]
["Radim Tomala",null,null,"Prostejov",null,null,null,null,26,2106,null,null,null,null,null,"Std. Cirrus","RT",null,null,"28 (597)","26 (437)","27 (486)","23 (152)","17 (434)"]
["Peter Kaspar",null,null,"Vyskov",null,null,null,null,27,2003,null,null,null,null,null,"G-102 Astir 77","AP",null,null,"26 (661)","23 (452)","21 (814)","26 (76)","29 (0)"]
["Lukas Petrzela",null,null,"Olomouc",null,null,null,null,28,1740,null,null,null,null,null,"G-102 Astir CS","AL",null,null,"34 (421)","21 (498)","25 (684)","32 (55)","25 (82)"]
["Adam Sugl",null,null,"Vyskov",null,null,null,null,29,1649,null,null,null,null,null,"Std. Cirrus","GT",null,null,"25 (701)","26 (437)","36 (1)","24 (151)","22 (359)"]
["Yvona Vyhnankova",null,null,"Olomouc",null,null,null,null,30,1480,null,null,null,null,null,"ASW-15","YZ",null,null,"23 (750)","28 (435)","35 (107)","19 (188)","29 (0)"]
["Michal Linhart",null,null,"Vyskov",null,null,null,null,31,1429,null,null,null,null,null,"DG-1000S 18m",66,null,null,"34 (421)","34 (393)","30 (415)","18 (200)","29 (0)"]
["Jan Blaha",null,null,"Kyjov",null,null,null,null,32,1384,null,null,null,null,null,"ASW-15B","E",null,null,"34 (421)","24 (450)","26 (513)","36 (0)","29 (0)"]
["Jiri Vavrina",null,null,"Kyjov",null,null,null,null,33,1322,null,null,null,null,null,"LS-1f","BS",null,null,"34 (421)","22 (464)","37 (0)","36 (0)","16 (437)"]
["Ludek Mikl",null,null,"Sumperk",null,null,null,null,34,1292,null,null,null,null,null,"Std. Cirrus",16,null,null,"33 (442)","32 (425)","29 (425)","36 (0)","29 (0)"]
["Karel Ertl",null,null,"Sumperk",null,null,null,null,35,1228,null,null,null,null,null,"TST-10M Atlas","KE",null,null,"29 (559)","25 (443)","32 (199)","33 (27)","29 (0)"]
["Miroslav Mancik",null,null,"Kyjov",null,null,null,null,36,1014,null,null,null,null,null,"G-103 Twin Astir","KW",null,null,"30 (518)","36 (298)","33 (168)","35 (15)","28 (15)"]
["Lukas Zach",null,null,"Vyskov",null,null,null,null,37,937,null,null,null,null,null,"G-102 Astir 77","AS",null,null,"31 (497)","38 (0)","31 (379)","28 (61)","29 (0)"]
["Josef Hlusek",null,null,"Kunovice",null,null,null,null,38,806,null,null,null,null,null,"Std. Cirrus","WO",null,null,"27 (618)","37 (166)","37 (0)","34 (22)","29 (0)"]
["Jan Florian",null,null,"Zbraslavice",null,null,null,null,39,667,null,null,null,null,null,"Std. Cirrus","C1",null,null,"39 (0)","38 (0)","37 (0)","16 (241)","18 (426)"]
[]
["18. JPJ 2022 - Kombi"]
["Šumperk, Czech Republic,   7 May 2022 – 14 May 2022 "]
["https://www.soaringspot.com/en_gb/jpj2022/results/kombi-trida# "]
[]
["Radek Hybl",null,null,"Sumperk",null,null,null,null,1,4147,null,null,null,null,null,"Ventus cm 17,6m","IHH",null,null,"6 (879)","1 (1,000)","2 (996)","4 (575)","1 (697)"]
["Frantisek Vancura",null,null,"Hranice",null,null,null,null,2,4071,null,null,null,null,null,"Nimbus 3T 24,5m WL 750kg","A1",null,null,"1 (1,000)","9 (868)","7 (924)","2 (616)","4 (663)"]
["Michal Cechmanek",null,null,"Luhacovice",null,null,null,null,3,4020,null,null,null,null,null,"ASW-20 L+F 16,6m","MK",null,null,"4 (969)","2 (986)","5 (950)","3 (577)","8 (538)"]
["Jan Dersak",null,null,"Kralupy n.V.",null,null,null,null,4,3962,null,null,null,null,null,"HpH 304JS 18m 573kg","DJ",null,null,"3 (978)","4 (975)","6 (949)","12 (389)","3 (671)"]
["Marek Blatak",null,null,"Sumperk",null,null,null,null,5,3911,null,null,null,null,null,"DG-808 S 18m WL","W",null,null,"7 (856)","3 (985)","9 (901)","9 (495)","2 (674)"]
["Jiri Steiger",null,null,"Olomouc",null,null,null,null,6,3887,null,null,null,null,null,"Ventus 3M 18m","JS",null,null,"8 (852)","8 (884)","4 (968)","5 (531)","5 (652)"]
["Jan Simon",null,null,"Kralupy n.V.",null,null,null,null,7,3440,null,null,null,null,null,"Duo Discus T 700kg","ZS",null,null,"2 (992)","12 (399)","1 (1,000)","10 (426)","6 (623)"]
["Ladislav Jozsa",null,null,"Medlanky",null,null,null,null,8,3359,null,null,null,null,null,"Ventus c 17,6m","WW",null,null,"5 (906)","5 (969)","3 (987)","17 (93)","12 (404)"]
["Zdenek Schenk",null,null,"Hranice",null,null,null,null,9,3304,null,null,null,null,null,"Ventus cm 17,6m","ŠNeK",null,null,"11 (752)","6 (962)","8 (918)","15 (276)","13 (396)"]
["Miroslav Koci",null,null,"Zamberk",null,null,null,null,10,3089,null,null,null,null,null,"Ventus 2cxm 18m 565kg","E8",null,null,"10 (790)","18 (289)","12 (804)","1 (618)","7 (588)"]
["Tomas Prikryl",null,null,"Vyskov",null,null,null,null,11,2976,null,null,null,null,null,"Ventus 2cm 18m 525kg","FN",null,null,"9 (824)","16 (356)","14 (786)","7 (515)","9 (495)"]
["Petr Babak",null,null,"Horice",null,null,null,null,12,2747,null,null,null,null,null,"Ventus c 17,6m","LS",null,null,"14 (643)","14 (364)","13 (799)","8 (496)","11 (445)"]
["Antonin Kutalek",null,null,"Zabreh",null,null,null,null,13,2675,null,null,null,null,null,"LAK-17AT 18m","GLK",null,null,"13 (679)","11 (570)","15 (718)","13 (371)","15 (337)"]
["Beat Albrecht",null,null,"Sumperk",null,null,null,null,14,2550,null,null,null,null,null,"LS-8-18 18m","GL",null,null,"20 (0)","7 (888)","11 (806)","11 (390)","10 (466)"]
["Miroslav Sklenar",null,null,"Zamberk",null,null,null,null,15,2475,null,null,null,null,null,"Duo Discus 700kg","VP",null,null,"12 (698)","13 (395)","16 (708)","6 (518)","17 (156)"]
["Pavel Haluza",null,null,"Prostejov",null,null,null,null,16,2223,null,null,null,null,null,"Nimbus 2b","HT",null,null,"17 (550)","10 (589)","17 (663)","19 (59)","14 (362)"]
["Vít Grossmann",null,null,"Hranice",null,null,null,null,17,2096,null,null,null,null,null,"Duo Discus 700kg","OK",null,null,"15 (641)","19 (203)","19 (551)","13 (371)","16 (330)"]
["Michal Hemrle",null,null,"Ceska Lipa",null,null,null,null,18,1826,null,null,null,null,null,"ASG-29E 18m","ET",null,null,"16 (574)","17 (355)","10 (807)","18 (90)","18 (0)"]
["Olga Mokosova",null,null,"Jihlava",null,null,null,null,19,1736,null,null,null,null,null,"LS-6c 18m WL","MM",null,null,"18 (519)","15 (361)","18 (596)","16 (260)","18 (0)"]
["Pavel Handl",null,null,"Kromeriz",null,null,null,null,20,641,null,null,null,null,null,"Ventus 2cm 18m 525kg","VJ",null,null,"19 (400)","20 (84)","20 (115)","20 (42)","18 (0)"]
[]
["PMRg 2022 Club"]
["Hodkovice Nad Mohelkou, Czech Republic,   14 August 2022 – 26 August 2022 "]
["https://www.soaringspot.com/en_gb/mistrovstvi-ceske-republiky-regionu-2022-hodkovice-2022/results/klubova-trida# "]
[]
["Michal Lešinger",null,null,"Moravská Třebová",null,null,null,null,1,3948,null,null,null,null,null,"ASW 20","LL",null,null,"2 (896)","1 (883)","1 (600)","1 (354)","1 (600)","1 (615)"]
["Jiří Kusbach",null,null,"Luhačovice",null,null,null,null,2,3831,null,null,null,null,null,"KKB-15E FES","B",null,null,"3 (862)","2 (872)","2 (585)","2 (349)","2 (590)","2 (573)"]
["Jan Šmaha",null,null,"Česká Lípa",null,null,null,null,3,3458,null,null,null,null,null,"ASW 15 B","CW",null,null,"6 (783)","6 (720)","4 (548)","7 (283)","4 (557)","3 (567)"]
["Lukáš Malý",null,null,"Vysoké Mýto",null,null,null,null,4,3447,null,null,null,null,null,"Discus b",65,null,null,"1 (1,000)","7 (719)","5 (525)","6 (284)","10 (411)","4 (508)"]
["Jiří Štěpánek",null,null,"Moravská Třebová",null,null,null,null,5,3387,null,null,null,null,null,"ASW 15 B","LE",null,null,"11 (635)","3 (829)","3 (566)","3 (345)","5 (548)","10 (464)"]
["Martin Štěpánek",null,null,"Moravská Třebová",null,null,null,null,6,3361,null,null,null,null,null,"ASW 19 B","AE",null,null,"4 (819)","10 (701)","8 (486)","4 (310)","3 (565)","7 (480)"]
["Tomáš Hynek",null,null,"Dvůr Králové",null,null,null,null,7,3190,null,null,null,null,null,"DG 200","HL",null,null,"5 (785)","4 (787)","10 (473)","8 (230)","9 (413)","5 (502)"]
["Pavel Koudelka",null,null,"Křižanov",null,null,null,null,8,3156,null,null,null,null,null,"Std. Cirrus","ZL",null,null,"8 (746)","8 (709)","9 (477)","5 (288)","6 (530)","11 (406)"]
["Michaela Křížová",null,null,"Přibyslav",null,null,null,null,9,2951,null,null,null,null,null,"ASW 15 B","BE",null,null,"7 (782)","5 (727)","7 (488)","10 (15)","7 (444)","6 (495)"]
["Pavlína Horáčková",null,null,"Šumperk",null,null,null,null,10,2618,null,null,null,null,null,"SZD-48 Jantar Std. 2","SU",null,null,"12 (542)","8 (709)","12 (451)","12 (3)","8 (441)","9 (472)"]
["Kateřina Vančurová",null,null,"Hranice",null,null,null,null,11,2331,null,null,null,null,null,"Discus b","HD",null,null,"10 (673)","12 (625)","13 (437)","11 (6)","12 (262)","12 (328)"]
["Jan Florián",null,null,"Zbraslavice",null,null,null,null,12,2188,null,null,null,null,null,"Std. Cirrus","C1",null,null,"9 (701)","11 (649)","11 (455)","13 (0)","11 (273)","13 (110)"]
["Jiří Krofta",null,null,"Hosín",null,null,null,null,13,1904,null,null,null,null,null,"Std. Cirrus","YU",null,null,"13 (16)","13 (619)","6 (501)","9 (27)","12 (262)","8 (479)"]
[]
["PMRg 2022 Kombi"]
["Hodkovice Nad Mohelkou, Czech Republic,   14 August 2022 – 26 August 2022 "]
["https://www.soaringspot.com/en_gb/mistrovstvi-ceske-republiky-regionu-2022-hodkovice-2022/results/kombi-open# "]
[]
["Lukáš Čapek",null,null,"Letňany",null,null,null,null,1,3354,null,null,null,null,null,"Mosquito","LC",null,null,"4 (179)","2 (780)","1 (1,000)","2 (604)","1 (334)","3 (457)"]
["Jaroslav Potměšil",null,null,"Zbraslavice",null,null,null,null,2,2942,null,null,null,null,null,"HpH 304 TS Twin Shark","TS",null,null,"5 (163)","1 (900)","2 (933)","5 (447)","4 (91)","5 (408)"]
["Petr Hora",null,null,"Hodkovice",null,null,null,null,3,2515,null,null,null,null,null,"HpH 304 MS Shark","B1",null,null,"6 (160)","4 (562)","5 (741)","3 (556)","5 (56)","4 (440)"]
["Tomáš Kulhavý",null,null,"Liberec",null,null,null,null,4,2500,null,null,null,null,null,"HpH 304 CZ 17.4m","IH",null,null,"7 (117)","5 (183)","3 (919)","4 (493)","2 (317)","2 (471)"]
["Antonín Kutálek",null,null,"Zábřeh",null,null,null,null,5,2340,null,null,null,null,null,"LAK-17A T 18m","GL",null,null,"8 (109)","3 (568)","4 (743)","6 (319)","3 (305)","6 (296)"]
["Radek Zima",null,null,"Hodkovice",null,null,null,null,6,1372,null,null,null,null,null,"ASG 29 E 18m","XZ",null,null,"2 (224)","6 (0)","6 (0)","1 (624)","6 (0)","1 (524)"]
["Jaromír Macoun",null,null,"Jičín",null,null,null,null,7,225,null,null,null,null,null,"LS 8","EU",null,null,"1 (225)","6 (0)","6 (0)","7 (0)","6 (0)","7 (0)"]
["Ivan Tvrdík",null,null,"Letňany",null,null,null,null,8,221,null,null,null,null,null,"ASW 20 16.6m","NW",null,null,"3 (221)","6 (0)","6 (0)","7 (0)","6 (0)","7 (0)"]
["Jan Drbohlav",null,null,"Hodkovice",null,null,null,null,9,1,null,null,null,null,null,"G 103 Twin Astir","BL",null,null,"9 (1)","6 (0)","6 (0)","7 (0)","6 (0)","7 (0)"]
["Vojtěch Hájek",null,null,"Mladá Boleslav",null,null,null,null,10,0,null,null,null,null,null,"Duo Discus",777,null,null,"10 (0)","6 (0)","6 (0)","7 (0)","6 (0)","7 (0)"]
["Karel Novák",null,null,"Mladá Boleslav",null,null,null,null,10,0,null,null,null,null,null,"LS 8","ID",null,null,"10 (0)","6 (0)","6 (0)","7 (0)","6 (0)","7 (0)"]
[]
["PMČRj 2022"]
["Hodkovice Nad Mohelkou, Czech Republic,   3 July 2022 – 16 July 2022 "]
["https://www.soaringspot.com/en_gb/plachtarske-mistrovstvi-cr-junioru-hodkovice-nad-mohelkou-2022/results/klubova-trida# "]
[]
["Lukáš Kříž",null,null,"Křižanov",null,null,null,null,1,4452,null,null,null,null,null,"LS 8a 15m","AU",null,null,"3 (619)","1 (703)","1 (838)","5 (468)","11 (856)","5 (968)"]
["Vladimír Hammer",null,null,"Plzeň Letkov",null,null,null,null,2,4170,null,null,null,null,null,"Std. Cirrus","SB",null,null,"6 (591)","6 (579)","8 (714)","3 (471)","13 (828)","3 (987)"]
["Jan Štastný",null,null,"Medlánky",null,null,null,null,3,4073,null,null,null,null,null,"Std. Cirrus","CX",null,null,"7 (583)","25 (295)","5 (737)","4 (469)","1 (991)","2 (998)"]
["Vít Mořkovský",null,null,"Polička",null,null,null,null,4,4051,null,null,null,null,null,"ASW 24 A WL","SM",null,null,"13 (530)","4 (644)","14 (619)","1 (509)","3 (911)","11 (838)"]
["Lukáš Volek",null,null,"Hodkovice",null,null,null,null,5,3982,null,null,null,null,null,"Std. Cirrus","UB",null,null,"10 (559)","12 (504)","4 (748)","19 (370)","7 (897)","6 (904)"]
["Tomáš Hynek",null,null,"Dvůr Králové",null,null,null,null,6,3980,null,null,null,null,null,"Std. Cirrus","HT",null,null,"9 (560)","9 (547)","3 (752)","14 (414)","8 (896)","14 (811)"]
["Ivan Tvrdík",null,null,"Praha Letňany",null,null,null,null,7,3976,null,null,null,null,null,"ASW 19B","KZ",null,null,"5 (610)","3 (695)","9 (702)","20 (275)","12 (831)","10 (863)"]
["Michaela Křížová",null,null,"Přibyslav",null,null,null,null,8,3975,null,null,null,null,null,"ASW 15B","BE",null,null,"8 (577)","10 (545)","11 (686)","9 (433)","5 (900)","12 (834)"]
["Jan Beran",null,null,"Kladno",null,null,null,null,9,3935,null,null,null,null,null,"ASW 19B","HB",null,null,"12 (549)","8 (554)","6 (720)","10 (425)","14 (820)","9 (867)"]
["Petr Havelka",null,null,"Zbraslavice",null,null,null,null,10,3908,null,null,null,null,null,"ASW 19B","PH",null,null,"11 (554)","15 (421)","7 (719)","16 (399)","2 (922)","7 (893)"]
["Jaromír Macoun",null,null,"Jičín",null,null,null,null,11,3856,null,null,null,null,null,"LS 8a 15m","EU",null,null,"2 (621)","2 (699)","2 (828)","5 (468)","18 (263)","4 (977)"]
["Tereza Koubkova",null,null,"Vysoké Mýto",null,null,null,null,12,3814,null,null,null,null,null,"ASW 19 B","XP",null,null,"19 (403)","5 (596)","13 (624)","2 (508)","9 (876)","16 (807)"]
["Tomas Kulhavy",null,null,"Liberec",null,null,null,null,13,3053,null,null,null,null,null,"LS 3 15m","R9",null,null,"4 (614)","7 (569)","22 (419)","7 (460)","10 (866)","28 (125)"]
["Štěpán Fiľakovský",null,null,"Medlánky",null,null,null,null,14,2964,null,null,null,null,null,"LS 1 f","FD",null,null,"22 (328)","11 (535)","18 (521)","12 (415)","5 (900)","26 (265)"]
["Jakub Malík",null,null,"Praha Letňany",null,null,null,null,15,2905,null,null,null,null,null,"Discus b WL","DP",null,null,"25 (214)","28 (107)","16 (561)","15 (404)","16 (619)","1 (1,000)"]
["Jiří Maier",null,null,"Raná u Loun",null,null,null,null,16,2746,null,null,null,null,null,"Discus bt WL","TAL",null,null,"18 (423)","19 (380)","12 (635)","28 (188)","4 (910)","27 (210)"]
["Lukáš Malý",null,null,"Vysoké Mýto",null,null,null,null,17,2601,null,null,null,null,null,"Discus b",65,null,null,"1 (660)","13 (502)","16 (561)","17 (394)","21 (213)","25 (271)"]
["Adam Hepal",null,null,"Kolín",null,null,null,null,18,2570,null,null,null,null,null,"ASW 19B","AE",null,null,"14 (519)","20 (366)","20 (466)","12 (415)","24 (191)","18 (613)"]
["Fabián Čurda",null,null,"Zábřeh",null,null,null,null,19,2461,null,null,null,null,null,"DG 300","U7",null,null,"20 (347)","22 (351)","21 (445)","20 (275)","22 (209)","12 (834)"]
["Martin Šťastný",null,null,"Medlánky",null,null,null,null,20,2330,null,null,null,null,null,"ASW 15B","TW",null,null,"15 (463)","27 (159)","23 (414)","27 (189)","15 (642)","21 (463)"]
["Kateřina Vančurová",null,null,"Hranice",null,null,null,null,21,2190,null,null,null,null,null,"Discus cs","HD",null,null,"29 (0)","16 (411)","15 (582)","11 (417)","17 (403)","23 (377)"]
["Tibor Hezina",null,null,"Křižanov",null,null,null,null,22,2174,null,null,null,null,null,"Std. Cirrus","IJ",null,null,"28 (13)","29 (0)","10 (692)","8 (451)","23 (207)","14 (811)"]
["Vojtěch Vach",null,null,"Nové Město",null,null,null,null,23,2077,null,null,null,null,null,"Cirrus VTC","1W",null,null,"16 (458)","21 (365)","23 (414)","18 (377)","25 (189)","24 (274)"]
["Petr Hošek",null,null,"Beroun",null,null,null,null,24,2010,null,null,null,null,null,"VSO-10","B1",null,null,"24 (228)","14 (458)","19 (470)","20 (275)","26 (76)","20 (503)"]
["Vít Pavelka",null,null,"Moravská Třebová",null,null,null,null,25,1924,null,null,null,null,null,"ASW 15B","LE",null,null,"26 (182)","17 (387)","26 (257)","20 (275)","19 (217)","19 (606)"]
["Jan Švestka",null,null,"Křižanov",null,null,null,null,26,1811,null,null,null,null,null,"Std. Cirrus","EJ",null,null,"27 (126)","22 (351)","29 (28)","26 (220)","20 (216)","8 (870)"]
["Petr Mašík",null,null,"Zábřeh",null,null,null,null,27,1769,null,null,null,null,null,"ASW 15","ET",null,null,"17 (429)","26 (186)","25 (283)","25 (224)","27 (26)","17 (621)"]
["Vojtěch Pávek",null,null,"Medlánky",null,null,null,null,28,1619,null,null,null,null,null,"Std. Cirrus","MP",null,null,"21 (346)","17 (387)","28 (147)","24 (264)","29 (19)","22 (456)"]
["David Něnička",null,null,"Hranice",null,null,null,null,29,919,null,null,null,null,null,"Std. Cirrus","HC",null,null,"23 (248)","22 (351)","27 (206)","29 (37)","28 (25)","29 (52)"]
[]
["Gradient & Club Grand Prix 2021 - Pohár Metoděje Vlacha"]
["Mladá Boleslav, Czech Republic,   27 August 2022 – 3 September 2022 "]
["https://www.soaringspot.com/en_gb/ggp2022/results/pohar-metodeje-vlach# "]
[]
["Jan Kotan",null,null,"Letňany",null,null,null,null,1,2886,null,null,null,null,null,"Ventus 2bx","YA",null,null,"4 (444)","3 (610)","2 (582)","6 (891)","5 (359)"]
["Dana Novakova",null,null,"Mladá Boleslav",null,null,null,null,2,2878,null,null,null,null,null,"LS8 /18m","FX",null,null,"2 (493)","3 (610)","3 (522)","5 (909)","6 (344)"]
["Michal Kratochvil",null,null,"Slaný",null,null,null,null,3,2845,null,null,null,null,null,"Ventus b/16,6m","MK",null,null,"5 (413)","2 (634)","5 (495)","4 (967)","7 (336)"]
["Jan Dersak",null,null,"Kralupy nad Vltavou",null,null,null,null,4,2656,null,null,null,null,null,"HpH 304 Shark/18m","DJ",null,null,"9 (319)","5 (566)","7 (408)","7 (806)","2 (557)"]
["Karel Novak",null,null,"Mladá Boleslav",null,null,null,null,5,2651,null,null,null,null,null,"LS8 /18m","ID",null,null,"3 (491)","1 (667)","4 (517)","2 (976)","8 (0)"]
["Martin Soucek",null,null,"Mladá Boleslav",null,null,null,null,6,2490,null,null,null,null,null,"DG-200/17m","MS",null,null,"7 (393)","9 (90)","1 (603)","3 (968)","4 (436)"]
["Radek Zima",null,null,"AK Hodkovice",null,null,null,null,7,1897,null,null,null,null,null,"ASG 29 E /18m","XZ",null,null,"1 (568)","10 (52)","6 (481)","9 (177)","1 (619)"]
["Antonin Bordovsky",null,null,"Krnov",null,null,null,null,8,1810,null,null,null,null,null,"Ventus c /17,6m","AD",null,null,"8 (325)","8 (105)","9 (311)","8 (550)","3 (519)"]
["Jan Horak",null,null,"Zbraslavice",null,null,null,null,9,1463,null,null,null,null,null,"ASW20a /15m","WX",null,null,"10 (0)","7 (114)","8 (349)","1 (1,000)","8 (0)"]
["Jan Smekal",null,null,"Zbraslavice",null,null,null,null,10,1217,null,null,null,null,null,"Ventus 2a","AX",null,null,"6 (405)","6 (534)","10 (278)","10 (0)","8 (0)"]
["Zdenek Boruvka ml.",null,null,"Jičín",null,null,null,null,11,0,null,null,null,null,null,"Ventus c /17,6m","VV",null,null,"10 (0)","11 (0)","11 (0)","10 (0)","8 (0)"]
[]
["Gradient & Club Grand Prix 2021 - Club GP"]
["Mladá Boleslav, Czech Republic,   27 August 2022 – 3 September 2022 "]
["https://www.soaringspot.com/en_gb/ggp2022/results/club-gp# "]
[]
["Jaroslav Tomana",null,null,"Zbraslavice",null,null,null,null,1,41,null,null,null,null,null,"Pegase Centair C-101BC+WL","RT",null,null,"1 (10)","6 (4)","1 (10)","3 (7)","1 (10)"]
["Jan Louda",null,null,"Mladá Boleslav",null,null,null,null,2,30,null,null,null,null,null,"ASW15b","MB",null,null,"3 (7)","1 (10)","3 (7)","9 (1)","5 (5)"]
["David Vrchota",null,null,"Jaroměř",null,null,null,null,3,29,null,null,null,null,null,"Std.Cirrus 16m","GO",null,null,"5 (5)","8 (2)","6 (4)","1 (10)","2 (8)"]
["Sachl David",null,null,"Kralupy nad Vltavou",null,null,null,null,4,24,null,null,null,null,null,"DG 300 Klub Elan WL","BK",null,null,"2 (8)","7 (3)","8 (2)","5 (5)","4 (6)"]
["Michal Coufal",null,null,"Jičín",null,null,null,null,5,23,null,null,null,null,null,"Janus B 18,2m","JC",null,null,"9 (1)","4 (6)","2 (8)","2 (8)","10 (0)"]
["Jiri Hula",null,null,"Slaný",null,null,null,null,6,20,null,null,null,null,null,"Std.Cirrus","IT",null,null,"10 (0)","2 (8)","4 (6)","4 (6)","10 (0)"]
["Matej Krestes",null,null,"Slaný",null,null,null,null,7,18,null,null,null,null,null,"Std.Cirrus","CON",null,null,"4 (6)","10 (0)","5 (5)","10 (0)","3 (7)"]
["Lukas Plocek",null,null,"Mladá Boleslav",null,null,null,null,8,12,null,null,null,null,null,"ASW19b","AH",null,null,"6 (4)","10 (0)","7 (3)","6 (4)","9 (1)"]
["Linda Vasatova",null,null,"Mladá Boleslav",null,null,null,null,9,10,null,null,null,null,null,"ASW19b","XS",null,null,"7 (3)","10 (0)","10 (0)","7 (3)","6 (4)"]
["Katerina Vojtova",null,null,"Slaný",null,null,null,null,9,10,null,null,null,null,null,"Std.Cirrus","KAC",null,null,"10 (0)","3 (7)","10 (0)","10 (0)","7 (3)"]
["Jan Hejret",null,null,"Jaroměř",null,null,null,null,11,6,null,null,null,null,null,"Std.Cirrus","LW",null,null,"8 (2)","10 (0)","10 (0)","8 (2)","8 (2)"]
["Vojtech Vach",null,null,"Nové město n.M.",null,null,null,null,11,6,null,null,null,null,null,"VSO10","I8",null,null,"10 (0)","5 (5)","9 (1)","10 (0)","10 (0)"]
["Martin Marek",null,null,"Roudnice n.L.",null,null,null,null,13,1,null,null,null,null,null,"Std.Cirrus","2X",null,null,"10 (0)","9 (1)","10 (0)","10 (0)","10 (0)"]
["Libor Kovarik",null,null,"Mladá Boleslav",null,null,null,null,14,0,null,null,null,null,null,"VSO10","C3",null,null,"10 (0)","10 (0)","10 (0)","10 (0)","10 (0)"]
["Karel Policky",null,null,"Kolín",null,null,null,null,14,0,null,null,null,null,null,"VSO10",93,null,null,"10 (0)","10 (0)","10 (0)","10 (0)","10 (0)"]
["Jan Zezula",null,null,"AK Letňany",null,null,null,null,13,0,null,null,null,null,null,"ASW 19","HD",null,null,"10 (0)","10 (0)","9 (0)"]
["Filip Širc",null,null,"AK Letňany",null,null,null,null,13,0,null,null,null,null,null,"ASW 19","WT",null,null,"10 (0)","10 (0)","9 (0)"]
[]
["Rakovnicka Dlazdice RD2021 - Open"]
["Rakovnik, Czech Republic,   6 August 2022 – 14 August 2022 "]
["https://www.soaringspot.com/en_gb/rakovnicka-dlazdice-2022-rakovnik1-2022/results/open# "]
[]
["Viktor Tvrdík",null,null,"Rakovník",null,null,null,null,1,4392,null,null,null,null,null,"DG 800SW/18m","HF",null,null,"5 (466)","2 (625)","4 (603)","1 (1,000)","1 (1,000)","2 (698)"]
["Jaromír Šimůnek",null,null,"Rakovník",null,null,null,null,2,4049,null,null,null,null,null,"DG 800SW/18m","HC",null,null,"1 (515)","12 (472)","3 (630)","3 (946)","5 (769)","1 (717)"]
["Jan Heroudek",null,null,"Rakovník",null,null,null,null,3,3780,null,null,null,null,null,"dg 100",75,null,null,"3 (492)","1 (635)","1 (699)","6 (803)","7 (693)","6 (458)"]
["Jiří Vondráček",null,null,"Kladno",null,null,null,null,4,3575,null,null,null,null,null,"ASW-15b","2P",null,null,"4 (481)","6 (552)","5 (563)","7 (786)","6 (696)","4 (497)"]
["Jan Konečný",null,null,"Rakovník",null,null,null,null,5,3550,null,null,null,null,null,"LS 7",72,null,null,"10 (176)","9 (516)","2 (644)","4 (862)","2 (908)","8 (444)"]
["Jakub Kmošek",null,null,"Zbraslavice",null,null,null,null,6,3508,null,null,null,null,null,"std. cirrus","ST",null,null,"12 (0)","4 (573)","8 (548)","2 (975)","4 (799)","3 (613)"]
["Jan Hlaváček",null,null,"Rakovník",null,null,null,null,7,3498,null,null,null,null,null,"Discus","SJ",null,null,"2 (493)","8 (524)","12 (273)","5 (860)","3 (905)","9 (443)"]
["Jan Vožeh",null,null,"Rakovník",null,null,null,null,8,3495,null,null,null,null,null,"Std. Cirrus","OG",null,null,"6 (447)","3 (584)","6 (559)","9 (760)","8 (687)","6 (458)"]
["Josef Hlůšek",null,null,"Kunovice",null,null,null,null,9,3010,null,null,null,null,null,"std. cirrus","WO",null,null,"12 (0)","7 (535)","7 (553)","8 (776)","9 (655)","5 (491)"]
["Jiří Bulánek",null,null,"Rakovník",null,null,null,null,10,2899,null,null,null,null,null,"DG-101 G","MK",null,null,"8 (393)","10 (504)","11 (461)","10 (695)","10 (653)","12 (193)"]
["Pavel Kuriščák",null,null,"Beroun",null,null,null,null,11,2584,null,null,null,null,null,"Std. Cirrus 16m","BU",null,null,"9 (265)","13 (392)","9 (520)","11 (635)","12 (381)","10 (391)"]
["Petr Hošek",null,null,"Beroun",null,null,null,null,12,2359,null,null,null,null,null,"VSO-10","B1",null,null,"11 (173)","11 (503)","10 (473)","12 (593)","11 (487)","13 (130)"]
["Rostislav Konderla",null,null,"Rakovník",null,null,null,null,13,1997,null,null,null,null,null,"LS 1-d","HV",null,null,"7 (431)","5 (565)","13 (21)","13 (444)","13 (323)","11 (213)"]
["Matěj Dolejš",null,null,"Beroun",null,null,null,null,"HC",0,null,null,null,null,null,"solo L 33",11,null,null,"HC (0)","HC (0)","HC (0)","HC (0)","HC (0)","HC (0)"]
[]
["21. HOP 2022 - Klub"]
["Velké Poříčí, Czech Republic,   13 August 2022 – 20 August 2022 "]
["https://www.soaringspot.com/en_gb/21-hop-2022-velke-porici-2022/results/klub-hop# "]
[]
["Oldřich Slavíček",null,null,null,null,null,null,null,1,2256,null,null,null,null,null,"VT-116 Orlik 2",4310,null,null,"1 (389)","3 (236)","1 (1,000)","1 (631)"]
["Ondřej Teichman",null,null,null,null,null,null,null,2,2030,null,null,null,null,null,"VT-116 Orlik 2",6445,null,null,"6 (323)","1 (295)","2 (945)","10 (467)"]
["Milan Svoboda",null,null,null,null,null,null,null,3,2003,null,null,null,null,null,"VT-116 Orlik 2",6446,null,null,"5 (345)","2 (264)","4 (894)","3 (500)"]
["Miroslav Štěpán",null,null,null,null,null,null,null,4,1871,null,null,null,null,null,"VT-116 Orlik 2",8412,null,null,"2 (365)","9 (207)","9 (794)","2 (505)"]
["Ondřej Bláha",null,null,null,null,null,null,null,5,1831,null,null,null,null,null,"VT-116 Orlik 2",6444,null,null,"9 (314)","21 (128)","3 (898)","6 (491)"]
["Petr Seibrt",null,null,null,null,null,null,null,6,1789,null,null,null,null,null,"VT-16 Orlik",2412,null,null,"11 (298)","16 (155)","5 (852)","7 (484)"]
["Tomáš Mezera",null,null,null,null,null,null,null,7,1736,null,null,null,null,null,"VT-116 Orlik 2",8401,null,null,"10 (302)","7 (212)","10 (753)","9 (469)"]
["Oldřich Hlaváček",null,null,null,null,null,null,null,8,1704,null,null,null,null,null,"VT-116 Orlik 2",4307,null,null,"8 (321)","13 (176)","7 (820)","13 (387)"]
["Wolfgang Sluka",null,null,null,null,null,null,null,9,1682,null,null,null,null,null,"VT-116 Orlik 2",8425,null,null,"3 (357)","10 (189)","6 (821)","18 (315)"]
["Matěj Jelínek",null,null,null,null,null,null,null,10,1651,null,null,null,null,null,"VT-116 Orlik 2",6922,null,null,"4 (346)","14 (156)","13 (654)","4 (495)"]
["Ivan Kuželka",null,null,null,null,null,null,null,11,1550,null,null,null,null,null,"VT-116 Orlik 2",4314,null,null,"6 (323)","22 (125)","12 (731)","14 (371)"]
["Petr Vězda",null,null,null,null,null,null,null,12,1521,null,null,null,null,null,"VT-116 Orlik 2",4321,null,null,"12 (295)","5 (222)","14 (651)","16 (353)"]
["Jaromír Vlk",null,null,null,null,null,null,null,13,1503,null,null,null,null,null,"VT-116 Orlik 2",8436,null,null,"19 (46)","11 (187)","8 (818)","12 (452)"]
["L.Vyhlíd/ J.Vojta",null,null,null,null,null,null,null,14,1432,null,null,null,null,null,"VT-116 Orlik 2",8431,null,null,"14 (237)","14 (156)","11 (737)","19 (302)"]
["Jaromír Hendrych",null,null,null,null,null,null,null,15,1294,null,null,null,null,null,"M-35",2403,null,null,"18 (61)","20 (131)","15 (649)","11 (453)"]
["Šárka Lochová",null,null,null,null,null,null,null,16,1267,null,null,null,null,null,"VT-116 Orlik 2",7445,null,null,"21 (38)","4 (223)","19 (526)","8 (480)"]
["Jana Mezerová",null,null,null,null,null,null,null,17,1203,null,null,null,null,null,"VT-116 Orlik 2",7425,null,null,"13 (263)","17 (150)","20 (449)","17 (341)"]
["Michal Ondráček",null,null,null,null,null,null,null,18,1069,null,null,null,null,null,"Ka 6 E",9781,null,null,"15 (105)","6 (213)","20 (449)","19 (302)"]
["Tomáš Holenda",null,null,null,null,null,null,null,19,1063,null,null,null,null,null,"VT-116 Orlik 2",7403,null,null,"20 (42)","18 (145)","17 (574)","19 (302)"]
["Michal Janda",null,null,null,null,null,null,null,20,1029,null,null,null,null,null,"VT-116 Orlik 2",7402,null,null,"16 (83)","11 (187)","22 (266)","5 (493)"]
["Miroslav Major",null,null,null,null,null,null,null,21,959,null,null,null,null,null,"VT-116 Orlik 2",8430,null,null,"17 (81)","7 (212)","16 (598)","23 (68)"]
["Michal Nutil",null,null,null,null,null,null,null,22,920,null,null,null,null,null,"M-35",2901,null,null,"22 (0)","23 (0)","18 (552)","15 (368)"]
["Petr Vlasák",null,null,null,null,null,null,null,23,570,null,null,null,null,null,"VT-16 Orlik",2909,null,null,"22 (0)","19 (133)","23 (135)","19 (302)"]
[]
["21. HOP 2022 - Kombi PPF"]
["Velké Poříčí, Czech Republic,   13 August 2022 – 20 August 2022 "]
[]
["Zdeněk Borůvka",null,null,null,null,null,null,null,1,2638,null,null,null,null,null,"LS 8 15 m (voda)","ZB",null,null,"2 (319)","2 (575)","3 (950)","6 (794)"]
["L.Šrámová/ V.Šrám",null,null,null,null,null,null,null,2,2621,null,null,null,null,null,"Nimbus 4DM",7,null,null,"4 (307)","6 (515)","4 (917)","3 (882)"]
["Michal Malý",null,null,null,null,null,null,null,3,2489,null,null,null,null,null,"Ventus c 17,6 (voda)","JN",null,null,"9 (266)","2 (575)","6 (878)","7 (770)"]
["Jan Kohout",null,null,null,null,null,null,null,4,2486,null,null,null,null,null,"JS1C EVO 18m (voda)","SK",null,null,"12 (237)","9 (485)","1 (1,000)","10 (764)"]
["Václav Kult",null,null,null,null,null,null,null,5,2454,null,null,null,null,null,"Nimbus 2 b WL (voda)","VK",null,null,"10 (251)","4 (544)","5 (891)","9 (768)"]
["Zdeněk Schenk",null,null,null,null,null,null,null,6,2364,null,null,null,null,null,"Ventus cm 17,6m (bez vody)","SNeK",null,null,"3 (315)","13 (374)","9 (824)","5 (851)"]
["Petr Babák",null,null,null,null,null,null,null,7,2363,null,null,null,null,null,"Ventus c 17,6 (voda)","LS",null,null,"11 (249)","5 (528)","7 (872)","12 (714)"]
["Jan Červený",null,null,null,null,null,null,null,8,2315,null,null,null,null,null,"LS 3a (bez vody)","EI",null,null,"16 (80)","8 (506)","2 (959)","7 (770)"]
["Jan Rott",null,null,null,null,null,null,null,9,2244,null,null,null,null,null,"HPH 304 cz 17,4 (bez vody)","Jou",null,null,"8 (271)","10 (481)","12 (753)","11 (739)"]
["Petr Fišar",null,null,null,null,null,null,null,10,2178,null,null,null,null,null,"Mosquito b (bez vody)","PF",null,null,"13 (234)","11 (435)","8 (842)","13 (667)"]
["David Mach",null,null,null,null,null,null,null,11,2064,null,null,null,null,null,"ASG 29 E 18m (bez vody)","QZ",null,null,"1 (424)","1 (639)","18 (1)","1 (1,000)"]
["M.+J. Plecháč",null,null,null,null,null,null,null,12,1961,null,null,null,null,null,"Nimbus 2 WL ( voda )","PM",null,null,"18 (29)","7 (511)","11 (776)","14 (645)"]
["Zdeněk Mach",null,null,null,null,null,null,null,13,1876,null,null,null,null,null,"LS 1-d (bez vody)","MZ",null,null,"7 (282)","12 (390)","10 (801)","15 (403)"]
["Tomáš Talanda",null,null,null,null,null,null,null,14,1736,null,null,null,null,null,"ASW 19 B (voda)","DS",null,null,"5 (285)","15 (232)","17 (226)","2 (993)"]
["M.Nývlt/ P.Hartmann",null,null,null,null,null,null,null,15,1575,null,null,null,null,null,"Arcus M","AR",null,null,"19 (26)","18 (49)","14 (647)","4 (853)"]
["J.Suchomel/ J.Šefc",null,null,null,null,null,null,null,16,1338,null,null,null,null,null,"Janus 18.2m (bez vody)","V1",null,null,"15 (84)","16 (221)","13 (658)","16 (375)"]
["Miloš Eichler",null,null,null,null,null,null,null,17,693,null,null,null,null,null,"Cirrus VTC 17.74 m (bez vody)","G7",null,null,"14 (231)","17 (218)","16 (244)","17 (0)"]
["Pilotky UO/ G.Jakl",null,null,null,null,null,null,null,18,581,null,null,null,null,null,"Janus 18.2m ( bez vody)","GJ",null,null,"17 (75)","14 (233)","15 (273)","17 (0)"]
["Martin Kočí",null,null,null,null,null,null,null,19,283,null,null,null,null,null,"Discus b (bez vody)","XE",null,null,"6 (283)","19 (0)","19 (0)","17 (0)"]
[]
["Pohár Českého Ráje 2022 - Klub"]
["Jičín, Czech Republic,   23 July 2022 – 30 July 2022 "]
["https://www.soaringspot.com/en_gb/pohar-ceskeho-raje-2022-jicin-2022/results/klub# "]
[]
["M. Coufal + Musílek M.",null,null,"AKJC",null,null,null,null,1,1855,null,null,null,null,null,"Janus","JC",null,null,"1 (577)","1 (505)","2 (773)"]
["Petr Kyzivát",null,null,"AKJC",null,null,null,null,2,1586,null,null,null,null,null,"Ventus c 17,6 m","GE",null,null,"8 (374)","4 (447)","3 (765)"]
["Aleš Holoubek",null,null,"AKJC",null,null,null,null,3,1506,null,null,null,null,null,"ASW-15b NG","T",null,null,"2 (497)","9 (295)","4 (714)"]
["Ilja Kopáček",null,null,"AKJC",null,null,null,null,4,1478,null,null,null,null,null,"Std. Cirrus","SC",null,null,"6 (396)","3 (455)","7 (627)"]
["Petr Rýgl",null,null,"AKJC",null,null,null,null,5,1401,null,null,null,null,null,"ASW-15","A18",null,null,"3 (479)","10 (253)","6 (669)"]
["Kamil Hejda",null,null,"AKJC",null,null,null,null,6,1293,null,null,null,null,null,"Std. Cirrus","FS",null,null,"9 (333)","6 (391)","8 (569)"]
["Miroslav Trybuček",null,null,"AKJC",null,null,null,null,7,1213,null,null,null,null,null,"Ventus 2 cm /18 m (600kg)","OZ",null,null,"5 (413)","13 (0)","1 (800)"]
["Zbyněk Fuksa + 1 ",null,null,"AKJC",null,null,null,null,8,1086,null,null,null,null,null,"Duo Discus XLT",88,null,null,"4 (459)","8 (342)","11 (285)"]
["Jan Plecháč",null,null,"AKSN",null,null,null,null,9,1067,null,null,null,null,null,"Std. Cirrus","TI",null,null,"7 (387)","13 (0)","5 (680)"]
["Štěpán Čapek",null,null,"AKJC",null,null,null,null,10,951,null,null,null,null,null,"Banjo","ZF",null,null,"10 (261)","10 (253)","10 (437)"]
["L. Ježek + Ježek B.",null,null,"AKJC",null,null,null,null,11,901,null,null,null,null,null,"L-13 Blanik",13,null,null,"13 (23)","7 (381)","9 (497)"]
["Radek Tobolka",null,null,"AKJC",null,null,null,null,12,691,null,null,null,null,null,"TST-10 Atlas M",10,null,null,"12 (35)","2 (474)","12 (182)"]
["Petr Tax",null,null,"AKJC",null,null,null,null,13,596,null,null,null,null,null,"Terej","TB",null,null,"14 (0)","5 (442)","13 (154)"]
["Dušan Patočka",null,null,"AKVR",null,null,null,null,14,118,null,null,null,null,null,"VT-116 Orlik 2",116,null,null,"11 (118)","13 (0)","15 (0)"]
["Jiří Pixa",null,null,"AKSN",null,null,null,null,15,45,null,null,null,null,null,"VSO-10","G9",null,null,"14 (0)","12 (10)","14 (35)"]
["Pavel Kyzivát",null,null,"AKZB",null,null,null,null,16,0,null,null,null,null,null,"ASW-19","PM",null,null,"14 (0)","13 (0)","15 (0)"]
["Radek Bartoš",null,null,"AKKO",null,null,null,null,16,0,null,null,null,null,null,"DG-300 -525 kg","DG",null,null,"14 (0)","13 (0)","15 (0)"]
[]
["Ranský pohár 2022 - Kombi"]
["Rana Loumy, Czech Republic,   30 July 2022 – 6 August 2022 "]
["https://www.soaringspot.com/en_gb/ransky-pohar-2022-rana-loumy-2022/results/combi# "]
[]
["David Říha",null,null,"Vlašim",null,null,null,null,1,3996,null,null,null,null,null,"ASW 15 B","XE",null,null,"2 (917)","6 (696)","1 (744)","1 (1,000)","2 (403)","4 (236)"]
["Petr Beneš",null,null,"Raná",null,null,null,null,2,3882,null,null,null,null,null,"Std. Cirrus","EX",null,null,"3 (911)","2 (794)","5 (631)","3 (901)","1 (413)","5 (232)"]
["David Šachl",null,null,"Benešov",null,null,null,null,3,3838,null,null,null,null,null,"DG 300 WL","BK",null,null,"5 (898)","1 (808)","2 (718)","6 (833)","6 (324)","1 (257)"]
["Marek Švancara",null,null,"Benešov",null,null,null,null,4,3493,null,null,null,null,null,"Std. Cirrus","GT",null,null,"8 (782)","3 (766)","10 (568)","7 (825)","7 (320)","5 (232)"]
["Daniel Devečka",null,null,"Vlašim",null,null,null,null,5,3446,null,null,null,null,null,"LS 3a","2G",null,null,"11 (708)","13 (542)","3 (686)","2 (936)","4 (356)","8 (218)"]
["Jan Šustr",null,null,"Raná",null,null,null,null,6,3343,null,null,null,null,null,"DG 300","WL",null,null,"7 (784)","7 (662)","12 (538)","8 (822)","8 (296)","3 (241)"]
["Jan Šmaha",null,null,"Česká Lípa",null,null,null,null,7,3302,null,null,null,null,null,"ASW 15 B","CW",null,null,"6 (850)","4 (749)","8 (581)","4 (863)","10 (38)","7 (221)"]
["Pavel Derda",null,null,"Dvůr Králové",null,null,null,null,8,2994,null,null,null,null,null,"Cirrus/Cirrus VTC 17.74","VE",null,null,"4 (899)","5 (729)","7 (586)","11 (780)","12 (0)","18 (0)"]
["Dalibor Pek",null,null,"Raná",null,null,null,null,9,2890,null,null,null,null,null,"Std. Cirrus","GP",null,null,"9 (781)","9 (610)","4 (670)","16 (587)","12 (0)","2 (242)"]
["Kryštof Mimra",null,null,"Most",null,null,null,null,10,2879,null,null,null,null,null,"VSO-10",51,null,null,"16 (479)","14 (514)","11 (541)","5 (845)","5 (325)","10 (175)"]
["Martin Frič",null,null,"Raná",null,null,null,null,11,2763,null,null,null,null,null,"DG 100","E2",null,null,"1 (943)","17 (411)","6 (601)","9 (808)","12 (0)","18 (0)"]
["Jaromír Hendrych",null,null,"Raná",null,null,null,null,12,2714,null,null,null,null,null,"M-35",36,null,null,"10 (738)","10 (593)","15 (473)","12 (724)","11 (12)","11 (174)"]
["Tomáš Mezera",null,null,"Raná",null,null,null,null,13,2558,null,null,null,null,null,"VSO-10",59,null,null,"13 (511)","8 (624)","15 (473)","10 (784)","12 (0)","12 (166)"]
["Jaromír Vlk",null,null,"Šumperk",null,null,null,null,14,2451,null,null,null,null,null,"ASW 15 B","R5",null,null,"18 (326)","11 (585)","20 (350)","15 (645)","3 (359)","9 (186)"]
["Vojtěch Koštejn",null,null,"Česká Lípa",null,null,null,null,15,2353,null,null,null,null,null,"ASW 15 B","I",null,null,"12 (535)","14 (514)","13 (508)","14 (670)","12 (0)","13 (126)"]
["Petr Herold",null,null,"Vlašim",null,null,null,null,16,2294,null,null,null,null,null,"VSO-10",77,null,null,"14 (490)","12 (555)","9 (577)","13 (672)","12 (0)","18 (0)"]
["Šárka Lochová",null,null,"Šumperk",null,null,null,null,17,2085,null,null,null,null,null,"M-35",35,null,null,"16 (479)","18 (398)","14 (501)","17 (549)","9 (42)","15 (116)"]
["Eva Klapková",null,null,"Raná",null,null,null,null,18,1801,null,null,null,null,null,"ASW 15","TZ",null,null,"15 (488)","20 (331)","19 (381)","18 (485)","12 (0)","15 (116)"]
["Jana Mezerová",null,null,"Raná",null,null,null,null,19,1555,null,null,null,null,null,"LS 1-0","AL",null,null,"19 (316)","16 (435)","18 (420)","19 (267)","12 (0)","14 (117)"]
["Stanislav Vrabec",null,null,"Česká Lípa",null,null,null,null,20,1204,null,null,null,null,null,"Std. Cirrus","CV",null,null,"19 (316)","19 (342)","17 (430)","20 (0)","12 (0)","15 (116)"]
["Petr Gryc",null,null,"Medlánky",null,null,null,null,21,74,null,null,null,null,null,"Std. Cirrus",11,null,null,"21 (43)","21 (31)","21 (0)","20 (0)","12 (0)","18 (0)"]
[]
["Ranský pohár 2022 - Super Kombi"]
["Rana Loumy, Czech Republic,   24 July 2021 – 1 August 2021 "]
["https://www.soaringspot.com/en_gb/ransky-pohar-2021-rana-loumy-2021/results/combi# "]
[]
["Jiří Maier ml.",null,null,"Raná",null,null,null,null,1,4558,null,null,null,null,null,"Discus bT WL","TAL",null,null,"3 (893)","1 (1,000)","4 (867)","3 (923)","1 (532)","2 (343)"]
["Jiří Maier st.",null,null,"Raná",null,null,null,null,2,4487,null,null,null,null,null,"ASW 24E WL","JM",null,null,"1 (1,000)","3 (823)","3 (888)","4 (915)","2 (491)","1 (370)"]
["Jaroslav Vančata",null,null,"Raná",null,null,null,null,3,3870,null,null,null,null,null,"LS 7 WL","2B",null,null,"6 (492)","6 (619)","1 (951)","1 (1,000)","3 (483)","3 (325)"]
["Radovan Otto",null,null,"Ústí nad Labem",null,null,null,null,4,3635,null,null,null,null,null,"HPH 304MS Shark 18m","XX",null,null,"2 (960)","4 (724)","6 (841)","5 (792)","4 (154)","4 (164)"]
["Petr Lonský",null,null,"Toužim",null,null,null,null,5,3344,null,null,null,null,null,"Cirrus/Cirrus VTC 17.74","JP",null,null,"5 (655)","2 (826)","2 (922)","2 (941)","5 (0)","5 (0)"]
["Michal Hemrle",null,null,"Česká Lípa",null,null,null,null,6,2953,null,null,null,null,null,"ASG 29Es 18m","ET",null,null,"4 (770)","5 (696)","5 (853)","6 (634)","5 (0)","5 (0)"]
["Tomáš Novák",null,null,"Česká Lípa",null,null,null,null,7,360,null,null,null,null,null,"Ventus c 17.6m","XF",null,null,"7 (360)","7 (0)","7 (0)","7 (0)","5 (0)","5 (0)"]
[]
["Safari Cup 2022 - Duo"]
["Dvůr Králové Nad Labem, Czech Republic,   2 July 2022 – 16 July 2022 "]
["https://www.soaringspot.com/en_gb/safari-cup-2022-dvur-kralove-nad-labem-2022/results/duo# "]
[]
["Sluka & Musil",null,null,"Liberec",null,null,null,null,1,1460,null,null,null,null,null,"L-13 Blanik dvoji",13,null,null,"2 (114)","1 (683)","3 (188)","1 (475)"]
["Sindelar & Petrle",null,null,"SAK Kunovice",null,null,null,null,2,1271,null,null,null,null,null,"L-13 Blanik dvoji",4,null,null,"1 (121)","2 (567)","1 (215)","2 (368)"]
["Jirí Obst & Pivonka",null,null,"Vrchlabi",null,null,null,null,3,1171,null,null,null,null,null,"L-13 Blanik dvoji","AY",null,null,"4 (77)","4 (524)","2 (205)","3 (365)"]
["Prihoda & Prihodová",null,null,null,null,null,null,null,4,1034,null,null,null,null,null,"L-23 Super Blanik dvoji","I",null,null,"8 (6)","3 (531)","4 (179)","5 (318)"]
["Petr Hybner",null,null,"Liberec",null,null,null,null,5,822,null,null,null,null,null,"L-23 Super Blanik dvoji",23,null,null,"3 (112)","8 (192)","5 (170)","4 (348)"]
["Michal Richter",null,null,"Kolin",null,null,null,null,6,569,null,null,null,null,null,"L-13 Blaník dvoji","FI",null,null,"6 (26)","7 (476)","9 (3)","6 (64)"]
["Sehnoutka & Pilař",null,null,"Dvur Kralove",null,null,null,null,7,563,null,null,null,null,null,"L-13 Blanik dvoji","ET",null,null,"9 (0)","6 (489)","6 (32)","7 (42)"]
["Jiri Tomicek",null,null,"Dvur Kralove",null,null,null,null,8,545,null,null,null,null,null,"L-23 Super Blanik dvoji","T",null,null,"7 (15)","5 (503)","8 (11)","8 (16)"]
["Josef Andrasovsky",null,null,"Jaromer",null,null,null,null,9,73,null,null,null,null,null,"L-13 Blanik dvoji","SG1",null,null,"5 (32)","9 (16)","7 (25)","9 (0)"]
[]
["Safari Cup 2022 - Klub"]
["Dvůr Králové Nad Labem, Czech Republic,   2 July 2022 – 16 July 2022 "]
[]
["Milan Dvorak",null,null,"Liberec",null,null,null,null,1,2996,null,null,null,null,null,"HpH 304cz 15m","IH",null,null,"6 (143)","1 (1,000)","1 (389)","6 (525)","4 (939)"]
["Ondrej Teichman",null,null,"Dvur Kralove",null,null,null,null,2,2837,null,null,null,null,null,"Cirrus VTC","VTC",null,null,"3 (154)","6 (850)","7 (355)","5 (536)","3 (942)"]
["Jaroslav Sima",null,null,"Chomutov",null,null,null,null,3,2665,null,null,null,null,null,"G-104 Speed Astir II","V2",null,null,"7 (141)","8 (754)","3 (384)","2 (546)","7 (840)"]
["Martin Cicvarek",null,null,"Liberec",null,null,null,null,4,2589,null,null,null,null,null,"DG-400 15m","AC",null,null,"2 (157)","2 (956)","4 (377)","6 (525)","13 (574)"]
["Kornec & Kasencak",null,null,"Dvur Kralove / KSS",null,null,null,null,5,2537,null,null,null,null,null,"Janus C (FG)","KSS",null,null,"1 (164)","3 (933)","2 (387)","12 (88)","2 (965)"]
["Petr Lonsky",null,null,"Touzim",null,null,null,null,6,2432,null,null,null,null,null,"Cirrus VTC","JP2",null,null,"22 (0)","5 (881)","19 (0)","1 (573)","1 (978)"]
["Jan Hybner",null,null,"Liberec",null,null,null,null,7,2418,null,null,null,null,null,"HpH 304cz 15m","LB",null,null,"5 (145)","7 (778)","6 (360)","2 (546)","11 (589)"]
["Pavel Derda",null,null,"Dvur Kralove",null,null,null,null,8,2203,null,null,null,null,null,"Cirrus VTC","VE",null,null,"10 (75)","10 (686)","5 (369)","4 (538)","15 (535)"]
["Renata Dabrowska",null,null,"Czestochowa/ KSS",null,null,null,null,9,2191,null,null,null,null,null,"LS-4","V4",null,null,"4 (148)","4 (905)","10 (286)","14 (37)","8 (815)"]
["Szlachta & kopiloti",null,null,"KSS",null,null,null,null,10,1595,null,null,null,null,null,"SZD-54-2 Perkoz 20m dvojí","SZD",null,null,"12 (71)","12 (650)","19 (0)","21 (14)","6 (860)"]
["Lukas Hykl",null,null,"Kolin",null,null,null,null,11,1510,null,null,null,null,null,"Discus b","LD",null,null,"17 (23)","15 (611)","8 (313)","9 (470)","20 (93)"]
["Karel Policky",null,null,"Kolin",null,null,null,null,12,1437,null,null,null,null,null,"VSO-10",3,null,null,"19 (12)","11 (669)","19 (0)","11 (173)","12 (583)"]
["Franciszek Mazur",null,null,"AZL",null,null,null,null,13,1432,null,null,null,null,null,"Pik-20B","TT",null,null,"9 (81)","9 (743)","13 (116)","8 (480)","22 (12)"]
["Markl & Boehm",null,null,"Kolin",null,null,null,null,14,1370,null,null,null,null,null,"ASK-21 dvoji","AK",null,null,"22 (0)","13 (636)","15 (85)","15 (34)","9 (615)"]
["Vojtech Sehnal",null,null,"Kolin",null,null,null,null,15,1363,null,null,null,null,null,"DG-300","DG",null,null,"22 (0)","23 (0)","9 (298)","10 (179)","5 (886)"]
["Krzysztof Pienkowski",null,null,null,null,null,null,null,16,1120,null,null,null,null,null,"LS-4","KP",null,null,"14 (37)","16 (399)","16 (50)","18 (23)","10 (611)"]
["Karel Ertl",null,null,"LKB Breclav",null,null,null,null,17,1074,null,null,null,null,null,"TST-10M Atlas","KE",null,null,"21 (6)","18 (360)","14 (110)","16 (27)","14 (571)"]
["Martin Benesovsky",null,null,"Kolin",null,null,null,null,18,786,null,null,null,null,null,"G-104 Speed Astir IIb","M2",null,null,"13 (38)","19 (255)","12 (155)","19 (20)","16 (318)"]
["Leos Nosek",null,null,"Krizanov",null,null,null,null,19,778,null,null,null,null,null,"G-104 Speed Astir IIb","LE",null,null,"15 (26)","13 (636)","18 (7)","20 (15)","19 (94)"]
["Jerzy Mikolajczyk",null,null,"AZM/KSS",null,null,null,null,20,493,null,null,null,null,null,"LS-4","YL",null,null,"22 (0)","23 (0)","11 (189)","13 (46)","18 (258)"]
["Ryszard Bendkowski",null,null,"Warszava",null,null,null,null,21,485,null,null,null,null,null,"SZD-41A Jantar Std.","Fili",null,null,"18 (16)","17 (366)","19 (0)","17 (24)","21 (79)"]
["Romuald Dorofiejczyk",null,null,"AJ/KSS",null,null,null,null,22,368,null,null,null,null,null,"DG-300","N5",null,null,"20 (9)","21 (73)","19 (0)","22 (0)","17 (286)"]
["Radek Bartos",null,null,"Kolin",null,null,null,null,23,218,null,null,null,null,null,"DG-300","DG",null,null,"8 (85)","20 (133)","19 (0)","22 (0)","23 (0)"]
["Sehnal & Boehm",null,null,"Kolin",null,null,null,null,24,72,null,null,null,null,null,"ASK-21 dvoji","AK",null,null,"11 (72)","23 (0)","19 (0)","22 (0)","23 (0)"]
["Milan Bado",null,null,"Kolin",null,null,null,null,25,57,null,null,null,null,null,"SZD-48 Jantar std. 2 WL","VS",null,null,"15 (26)","22 (19)","17 (12)","22 (0)","23 (0)"]
["Vladislav Cadsky",null,null,"Kolin",null,null,null,null,26,0,null,null,null,null,null,"G-102 Astir Jeans","VI",null,null,"22 (0)","23 (0)","19 (0)","22 (0)","23 (0)"]
[]
["Safari Cup 2022 - Open"]
["Dvůr Králové Nad Labem, Czech Republic,   2 July 2022 – 16 July 2022 "]
[]
["Jan Pazour",null,null,"Dvur Kralove",null,null,null,null,1,3414,null,null,null,null,null,"ASW-20 L +FL 16,6m","JP",null,null,"1 (610)","2 (871)","2 (320)","6 (718)","5 (895)"]
["Tomas Ditrt",null,null,"VAP",null,null,null,null,2,3310,null,null,null,null,null,"HpH 304MS SHARK 18m","TDi",null,null,"7 (313)","4 (827)","3 (305)","2 (930)","3 (935)"]
["Ladislav Prokes",null,null,"Vrchlabi",null,null,null,null,3,3245,null,null,null,null,null,"Discus b (voda)","VR",null,null,"2 (512)","1 (1,000)","8 (0)","5 (733)","1 (1,000)"]
["Jana Veprekova",null,null,"Dvur Kralove",null,null,null,null,4,3117,null,null,null,null,null,"LS-8-18 15m (voda)","W8",null,null,"4 (388)","7 (496)","1 (381)","1 (972)","6 (880)"]
["Zdenek Boruvka",null,null,"Jicin",null,null,null,null,5,2876,null,null,null,null,null,"LS 8-18 15m (voda)","ZB",null,null,"4 (388)","8 (441)","5 (269)","3 (809)","2 (969)"]
["Peter Janoska",null,null,null,null,null,null,null,6,2769,null,null,null,null,null,"LS-6c 17,5m (voda)","N6",null,null,"9 (40)","5 (808)","4 (286)","4 (739)","4 (896)"]
["Milan Meisner",null,null,"Dvur Kralove",null,null,null,null,7,2293,null,null,null,null,null,"Ventus c 17,6m (voda)","VV",null,null,"3 (394)","3 (851)","8 (0)","8 (189)","8 (859)"]
["Slavomir Tanglmajer",null,null,"Chomutov",null,null,null,null,8,2292,null,null,null,null,null,"DG 400 17m","ST",null,null,"6 (320)","6 (630)","6 (258)","7 (540)","9 (544)"]
["Petr Omelka",null,null,"Vyskov",null,null,null,null,9,906,null,null,null,null,null,"DG-400 17m","MR",null,null,"8 (131)","9 (281)","7 (127)","9 (0)","10 (367)"]
["Jiri Veprek",null,null,"Dvur Kralove",null,null,null,null,10,860,null,null,null,null,null,"HpH 304cz 17,4m (voda)","KN",null,null,"10 (0)","10 (0)","8 (0)","9 (0)","7 (860)"]
[]
["T-CUP 2022 - Klub"]
["Toužim, Czech Republic,   9 July 2022 – 17 July 2022 "]
["https://www.soaringspot.com/en_gb/t-cup-2022-touzim-2022/results/club# "]
[]
["Jaroslav Tomaňa",null,null,"Zbraslavice",null,null,null,null,1,3652,null,null,null,null,null,"Centrair C-101BC Pegase","RT",null,null,"1 (767)","4 (932)","2 (544)"]
["Jan Viskot",null,null,"Břeclav",null,null,null,null,2,3315,null,null,null,null,null,"Std. Cirrus","W",null,null,"2 (697)","1 (1,000)","12 (430)"]
["Roman Jokl",null,null,"Plzeň-Letkov",null,null,null,null,3,3254,null,null,null,null,null,"ASW-19","JL",null,null,"13 (565)","9 (841)","5 (519)"]
["Hana Trešlová",null,null,"Raná",null,null,null,null,4,3251,null,null,null,null,null,"Std. Cirrus","WY",null,null,"3 (687)","3 (943)","15 (385)"]
["Martin Zahálka",null,null,"Staňkov",null,null,null,null,5,3147,null,null,null,null,null,"DG-100","8B",null,null,"12 (568)","8 (856)","8 (440)"]
["Vít Prokop",null,null,"Brno Medlánky",null,null,null,null,6,3104,null,null,null,null,null,"Std. Cirrus","MF",null,null,"10 (595)","15 (664)","3 (538)"]
["Tomáš Talanda",null,null,"Křižanov",null,null,null,null,7,3078,null,null,null,null,null,"ASW-19B","DS",null,null,"3 (687)","5 (876)","1 (558)"]
["Jiří Vondráček",null,null,"Kladno",null,null,null,null,8,3000,null,null,null,null,null,"ASW-15B","2P",null,null,"18 (526)","7 (864)","8 (440)"]
["Daniel Dvořák",null,null,"Plzeň-Letkov",null,null,null,null,9,2933,null,null,null,null,null,"Std. Cirrus","LD",null,null,"16 (533)","11 (755)","6 (482)"]
["Jiří Procházka",null,null,"Toužim",null,null,null,null,10,2903,null,null,null,null,null,"Janus CM","J59",null,null,"8 (611)","14 (698)","4 (534)"]
["Ivan Harašta sen",null,null,"Toužim",null,null,null,null,11,2801,null,null,null,null,null,"LS-1d","CL",null,null,"23 (106)","10 (777)","7 (448)"]
["Martin Frič",null,null,"Raná u Loun",null,null,null,null,12,2694,null,null,null,null,null,"DG-100","E2",null,null,"5 (669)","12 (752)","13 (411)"]
["Jiří Fousek",null,null,"Raná u Loun",null,null,null,null,13,2651,null,null,null,null,null,"Std. Cirrus","LW",null,null,"6 (657)","2 (952)","11 (434)"]
["Michal Dráb",null,null,"Plzeň-Letkov",null,null,null,null,14,2387,null,null,null,null,null,"LS-1c","S3",null,null,"14 (564)","6 (868)","8 (440)"]
["Michal Cupák",null,null,"Medlánky",null,null,null,null,15,2229,null,null,null,null,null,"Std. Cirrus","A7",null,null,"7 (620)","13 (713)","14 (408)"]
["Josef Kreutzer",null,null,"Plzeň-Letkov",null,null,null,null,16,2044,null,null,null,null,null,"Std. Cirrus","AL",null,null,"15 (536)","21 (487)","17 (162)"]
["Jan Šustr",null,null,"Raná",null,null,null,null,17,1937,null,null,null,null,null,"DG-300 WL","WL",null,null,"16 (533)","16 (630)","20 (0)"]
["Jiří Činčera",null,null,"Toužim",null,null,null,null,18,1780,null,null,null,null,null,"ASW-15B","TT",null,null,"19 (475)","20 (488)","18 (144)"]
["Tomáš Seifert",null,null,"Raná u Loun",null,null,null,null,19,1749,null,null,null,null,null,"ASW-15B","MC",null,null,"11 (570)","19 (566)","16 (173)"]
["Martin Valenta",null,null,"Touzim",null,null,null,null,20,1405,null,null,null,null,null,"LS-1c","P2",null,null,"9 (597)","17 (577)","20 (0)"]
["Tomáš Jung",null,null,"Zbraslavice",null,null,null,null,21,1064,null,null,null,null,null,"ASW-19B","O2",null,null,"20 (401)","18 (573)","19 (14)"]
["Jaroslav Hoť",null,null,"Toužim",null,null,null,null,22,1009,null,null,null,null,null,"Pik-20D","HJ",null,null,"23 (106)","23 (332)","20 (0)"]
["Petr Černický",null,null,"Toužim",null,null,null,null,23,760,null,null,null,null,null,"G-102 Astir cs","LS",null,null,"21 (358)","25 (276)","20 (0)"]
["Rudolf Jung",null,null,"Zbraslavice",null,null,null,null,24,480,null,null,null,null,null,"G-103 Twin III dvojí (pevný podvozek)","TO",null,null,"26 (15)","22 (340)","20 (0)"]
["František Brozman",null,null,"Tachov",null,null,null,null,25,402,null,null,null,null,null,"L-13 Blaník","L13",null,null,"25 (90)","24 (301)","20 (0)"]
["Václav Hálek",null,null,"Toužim",null,null,null,null,26,170,null,null,null,null,null,"Std. Cirrus","IYD",null,null,"22 (166)","26 (0)","20 (0)"]
[]
["T-CUP 2022 - Kombi"]
["Toužim, Czech Republic,   9 July 2022 – 17 July 2022 "]
[]
["Míša Rendlová",null,null,"Toužim",null,null,null,null,1,3194,null,null,null,null,null,"AS 33 Es /18m","EA",null,null,"2 (736)","1 (1,000)","5 (957)","1 (0)","1 (501)"]
["Pavel Jiránek",null,null,"Toužim",null,null,null,null,2,3126,null,null,null,null,null,"Ventus c /17,6m","CS",null,null,"5 (731)","2 (992)","6 (917)","1 (0)","3 (486)"]
["Petr Tichý",null,null,"Zbraslavice",null,null,null,null,3,3012,null,null,null,null,null,"ASG-29E /18m","AJ",null,null,"1 (750)","3 (957)","9 (827)","1 (0)","4 (478)"]
["Karel Beníšek",null,null,"Toužim",null,null,null,null,3,3012,null,null,null,null,null,"Ventus ct /17,6m","KB",null,null,"6 (726)","6 (886)","1 (1,000)","1 (0)","9 (400)"]
["Petr Hotový",null,null,"Česká Lípa",null,null,null,null,5,2931,null,null,null,null,null,"JS1-BTJ 18","IGC",null,null,"8 (678)","9 (819)","4 (985)","1 (0)","6 (449)"]
["Vráťa Šrám",null,null,"Broumov",null,null,null,null,6,2806,null,null,null,null,null,"Nimbus 2M WL","NB",null,null,"3 (735)","5 (902)","3 (989)","1 (0)","23 (180)"]
["Tomáš Rendla",null,null,"Zbraslavice",null,null,null,null,7,2600,null,null,null,null,null,"Arcus M","EY",null,null,"7 (679)","21 (431)","2 (999)","1 (0)","2 (491)"]
["Roman Lanzendorf",null,null,"Plzeň-Letkov",null,null,null,null,8,2555,null,null,null,null,null,"Duo Discus T (700kg)","ZS",null,null,"15 (541)","12 (768)","7 (910)","1 (0)","13 (336)"]
["Lubomír Motl",null,null,"Kyjov",null,null,null,null,9,2523,null,null,null,null,null,"Nimbus 4DM","AM",null,null,"13 (582)","7 (857)","16 (660)","1 (0)","8 (424)"]
["Michal Čechmánek",null,null,"LKKM",null,null,null,null,10,2492,null,null,null,null,null,"ASW-20 L +FL /16,6m","MK",null,null,"9 (671)","17 (646)","8 (881)","1 (0)","18 (294)"]
["František Myška",null,null,"AK Most",null,null,null,null,11,2475,null,null,null,null,null,"Ventus bt /16,6m","SK",null,null,"12 (589)","13 (765)","11 (806)","1 (0)","16 (315)"]
["Radim Hahn",null,null,"Zábřeh",null,null,null,null,12,2224,null,null,null,null,null,"Ventus 3M - 18m","I3",null,null,"11 (591)","4 (910)","21 (293)","1 (0)","7 (430)"]
["Tomáš Profeld",null,null,"Jičín",null,null,null,null,13,2220,null,null,null,null,null,"Ventus 2cm /18m 525 kg","OZ",null,null,"19 (499)","15 (721)","12 (779)","1 (0)","22 (221)"]
["Ondra Dupal",null,null,"GAC Bene",null,null,null,null,14,2217,null,null,null,null,null,"ASG-29E /18m","GO",null,null,"4 (733)","26 (210)","10 (822)","1 (0)","5 (452)"]
["Zdeněk Schenk",null,null,"Hranice",null,null,null,null,15,2171,null,null,null,null,null,"Ventus cm /17,6m","SNK",null,null,"14 (542)","20 (608)","14 (690)","1 (0)","14 (331)"]
["Karl Schiffleithner",null,null,"SFC Tulln",null,null,null,null,16,2102,null,null,null,null,null,"Ventus 2cxt /18m -600 kg","IX",null,null,"17 (528)","16 (655)","17 (641)","1 (0)","20 (278)"]
["Jana Trešlová",null,null,"Raná",null,null,null,null,17,2031,null,null,null,null,null,"Discus 2a /15m","GX",null,null,"23 (372)","10 (772)","18 (528)","1 (0)","10 (359)"]
["Petr Jiránek sen",null,null,"Toužim",null,null,null,null,18,1928,null,null,null,null,null,"Ventus ct /17,6m","EB",null,null,"10 (642)","8 (832)","22 (105)","1 (0)","11 (349)"]
["Olga Mokošová",null,null,"Jihlava",null,null,null,null,19,1879,null,null,null,null,null,"LS-6c /18m WL","MM",null,null,"20 (467)","23 (331)","13 (761)","1 (0)","15 (320)"]
["David Zapletal",null,null,"Mladá Boleslav",null,null,null,null,20,1842,null,null,null,null,null,"Ventus c /17,6m","PUP",null,null,"22 (442)","14 (729)","15 (671)","1 (0)","25 (0)"]
["Václav Svoboda",null,null,"Plzeň-Letkov",null,null,null,null,21,1587,null,null,null,null,null,"LS-8-18 /18m",301,null,null,"18 (525)","11 (770)","23 (0)","1 (0)","19 (292)"]
["Jan Žanda",null,null,"Plzeň-Letkov",null,null,null,null,22,1527,null,null,null,null,null,"Duo Discus (700 kg)","DL",null,null,"25 (103)","18 (643)","18 (528)","1 (0)","21 (253)"]
["Karel Krobath",null,null,"FRA",null,null,null,null,23,1494,null,null,null,null,null,"HpH 304 TS Twin Shark S","Q",null,null,"16 (530)","19 (621)","23 (0)","1 (0)","12 (343)"]
["Roman Michálek",null,null,"Toužim",null,null,null,null,24,1395,null,null,null,null,null,"DG-400 17m","TK",null,null,"21 (461)","25 (293)","18 (528)","1 (0)","24 (113)"]
["Luděk Kluger",null,null,"Tábor",null,null,null,null,25,630,null,null,null,null,null,"HpH 304 TS Twin Shark S","LK",null,null,"26 (0)","22 (335)","23 (0)","1 (0)","17 (295)"]
["František Kříž",null,null,"Toužim",null,null,null,null,26,590,null,null,null,null,null,"DG-400 17m","FK",null,null,"24 (275)","24 (315)","23 (0)","1 (0)","25 (0)"]
[]
["FL 2022 & Adrenalin GP - FL"]
["Frýdlant, Czech Republic,   1 July 2022 – 9 July 2022 "]
["https://www.soaringspot.com/en_gb/fl-2022-adrenalin-grand-prix-frydlant-2022/results/fl# "]
[]
["Frantisek Vancura",null,null,null,null,null,null,null,1,1283,null,null,null,null,null,"Nimbus 3T 24.5m","A1",null,null,"1 (410)","1 (0)","2 (527)","1 (0)","2 (346)"]
["Martin Suchy",null,null,null,null,null,null,null,2,1232,null,null,null,null,null,"DG 500M 22m","T1",null,null,"3 (370)","1 (0)","5 (491)","1 (0)","1 (371)"]
["Michal Buryan",null,null,null,null,null,null,null,3,1098,null,null,null,null,null,"duo discus",777,null,null,"5 (318)","1 (0)","4 (507)","1 (0)","7 (273)"]
["Milos Matejka",null,null,null,null,null,null,null,4,1095,null,null,null,null,null,"Discus b WL","SH",null,null,"5 (318)","1 (0)","6 (448)","1 (0)","4 (329)"]
["Lumir Motyka",null,null,null,null,null,null,null,5,1068,null,null,null,null,null,"LAK-12","DE",null,null,"7 (315)","1 (0)","9 (410)","1 (0)","3 (343)"]
["Lukas Benedikt",null,null,"AK Trnava",null,null,null,null,6,863,null,null,null,null,null,"Ventus 3F 18m","LB",null,null,"13 (0)","1 (0)","1 (554)","1 (0)","5 (309)"]
["Jaroslav Buryan",null,null,null,null,null,null,null,7,800,null,null,null,null,null,"ASW 20 WL","NS",null,null,"10 (270)","1 (0)","7 (438)","1 (0)","11 (92)"]
["Vladimír Jirka",null,null,null,null,null,null,null,8,715,null,null,null,null,null,"HpH 304 TS Twin Shark",11,null,null,"12 (180)","1 (0)","12 (237)","1 (0)","6 (298)"]
["Antonin Kutalek",null,null,null,null,null,null,null,9,689,null,null,null,null,null,"LAK-17A T 18m","GL",null,null,"9 (278)","1 (0)","13 (232)","1 (0)","9 (179)"]
["Roman Cerny",null,null,null,null,null,null,null,9,689,null,null,null,null,null,"Nimbus 3 25.5m","RF",null,null,"8 (286)","1 (0)","10 (403)","1 (0)","12 (0)"]
["Martin Urban",null,null,null,null,null,null,null,11,687,null,null,null,null,null,"LS 3a","SJ",null,null,"2 (385)","1 (0)","15 (116)","1 (0)","8 (186)"]
["Jan Kristof",null,null,null,null,null,null,null,12,617,null,null,null,null,null,"LS 3","TX",null,null,"4 (366)","1 (0)","11 (251)","1 (0)","12 (0)"]
["Petr Brezina",null,null,null,null,null,null,null,13,553,null,null,null,null,null,"DG 200","AK",null,null,"11 (216)","1 (0)","14 (231)","1 (0)","10 (106)"]
["Radim Hahn",null,null,null,null,null,null,null,14,519,null,null,null,null,null,"Ventus 3M 18m","I3",null,null,"13 (0)","1 (0)","3 (519)","1 (0)","12 (0)"]
["Zdenek Schenk",null,null,"Hranice",null,null,null,null,15,424,null,null,null,null,null,"Ventus cM 17.6m","ŠNeK",null,null,"13 (0)","1 (0)","8 (424)","1 (0)","12 (0)"]
[]
["FL 2022 & Adrenalin GP - Adrenalin Grand Prix"]
["Frýdlant, Czech Republic,   1 July 2022 – 9 July 2022 "]
[]
["Sachl David",null,null,"Kralupy nad Vltavou",null,null,null,null,1,26,null,null,null,null,null,"DG-300 Club ELAN WL (450kg)","BK",null,null,"3 (7)","1 (0)","1 (8)","1 (7)","1 (0)","2 (4)"]
["Jan Mareth",null,null,"Frýdlant nad Ostravicí",null,null,null,null,2,25,null,null,null,null,null,"ASW 15 B","PA",null,null,"1 (10)","1 (0)","5 (3)","2 (5)","1 (0)","1 (7)"]
["Jan Sponer",null,null,"Medlánky",null,null,null,null,3,13,null,null,null,null,null,"Std. Cirrus","EX",null,null,"2 (8)","1 (0)","3 (5)","7 (0)","1 (0)","8 (0)"]
["Stepan Obrovsky",null,null,"Frýdlant nad Ostravicí",null,null,null,null,4,11,null,null,null,null,null,"LS 1-f","JT",null,null,"8 (1)","1 (0)","2 (6)","3 (4)","1 (0)","8 (0)"]
["Pavel Foldyna",null,null,"Frýdlant nad Ostravicí",null,null,null,null,5,8,null,null,null,null,null,"g 102 Astir CS","BH",null,null,"4 (5)","1 (0)","8 (0)","7 (0)","1 (0)","3 (3)"]
["Rostislav Stryk",null,null,"Frýdlant nad Ostravicí",null,null,null,null,6,7,null,null,null,null,null,"Std. Cirrus",22,null,null,"9 (0)","1 (0)","4 (4)","5 (2)","1 (0)","5 (1)"]
["Daniel Suchy",null,null,"Hranice",null,null,null,null,7,6,null,null,null,null,null,"g 102 Astir CS","W7",null,null,"7 (2)","1 (0)","6 (2)","7 (0)","1 (0)","4 (2)"]
["Radim Zielinski",null,null,"Frýdlant nad Ostravicí",null,null,null,null,8,5,null,null,null,null,null,"LS 1-f","EM",null,null,"9 (0)","1 (0)","7 (1)","4 (3)","1 (0)","5 (1)"]
["Jan Matejovsky",null,null,"Hranice",null,null,null,null,9,4,null,null,null,null,null,"Std. Cirrus","BY",null,null,"5 (4)","1 (0)","8 (0)","7 (0)","1 (0)","8 (0)"]
["Martin Svacina",null,null,"Frýdlant nad Ostravicí",null,null,null,null,10,3,null,null,null,null,null,"Std. Cirrus","E",null,null,"6 (3)","1 (0)","8 (0)","7 (0)","1 (0)","8 (0)"]
["Stanislav Doskocil",null,null,"Medlánky",null,null,null,null,11,2,null,null,null,null,null,"Std. Cirrus","SD",null,null,"9 (0)","1 (0)","8 (0)","6 (1)","1 (0)","5 (1)"]
["Lukas Kotek",null,null,"Frýdlant nad Ostravicí",null,null,null,null,12,0,null,null,null,null,null,"vso-10","B6",null,null,"9 (0)","1 (0)","8 (0)","7 (0)","1 (0)","8 (0)"]
[]
["Ulfův memorial Závody historických kluzáků 2022 - Oldtimer"]
["Rana Loumy, Czech Republic,   21 May 2022 – 28 May 2022 "]
["https://www.soaringspot.com/en_gb/ulfuv-memorial-zavody-historickych-kluzaku-rana-loumy-2022/results/oldtimer#"]
[]
["Miroslav Mitrus",null,null,"GAC Benešov",null,null,null,null,1,436,null,null,null,null,null,"VT-125 Sohaj",68,null,null,"1 (277)","1 (50)","1 (109)"]
["Michal Ondráček",null,null,"Medlánky",null,null,null,null,2,360,null,null,null,null,null,"Ka 6 E","2W",null,null,"5 (207)","2 (47)","2 (106)"]
["piloti AK Náchod",null,null,"Náchod",null,null,null,null,3,343,null,null,null,null,null,"Bergfalke IV","RZ2",null,null,"2 (236)","3 (44)","6 (63)"]
["Tomáš Mezera",null,null,"Raná",null,null,null,null,4,256,null,null,null,null,null,"VT-425 Sohaj","T",null,null,"4 (209)","6 (29)","9 (18)"]
["Jiří Leník",null,null,"Raná",null,null,null,null,5,243,null,null,null,null,null,"Skylark 2b","CRX",null,null,"3 (221)","8 (22)","10 (0)"]
["Jaromír Hendrych",null,null,"Raná",null,null,null,null,6,235,null,null,null,null,null,"VT-125 Sohaj",37,null,null,"7 (125)","4 (38)","5 (72)"]
["Vladimír Abraham",null,null,"Raná",null,null,null,null,7,234,null,null,null,null,null,"Ka 6","Y7",null,null,"9 (120)","7 (27)","4 (87)"]
["Šárka Lochová",null,null,"Šumperk",null,null,null,null,8,217,null,null,null,null,null,"Ka 6",22,null,null,"7 (125)","5 (30)","7 (62)"]
["Zbyněk Bican",null,null,"Raná",null,null,null,null,9,157,null,null,null,null,null,"LG-130","K",null,null,"6 (133)","9 (0)","8 (24)"]
["piloti AK Raná",null,null,"Raná",null,null,null,null,10,104,null,null,null,null,null,"Ka 8",78,null,null,"10 (0)","9 (0)","3 (104)"]
[]
["Podbrdský pohár 2022 - Kombi"]
["Letkov, Czech Republic,   30 April 2022 – 7 May 2022 "]
["https://www.soaringspot.com/en_gb/pp2022/results/kombi# "]
[]
["Michal Dráb",null,null,"Plzeň-Letkov",null,null,null,null,1,2517,null,null,null,null,null,"LS 1c","S3",null,null,"5 (540)","2 (522)","1 (582)","3 (873)"]
["Lubomír Svoboda",null,null,"Plzeň-Letkov",null,null,null,null,2,1811,null,null,null,null,null,"LAK 19,T 18m WL (voda)","LT",null,null,"9 (365)","6 (335)","5 (397)","5 (714)"]
["Vratislav Šrám",null,null,"Broumov",null,null,null,null,3,1778,null,null,null,null,null,"Nimbus 4DM (voda)",7,null,null,"13 (0)","3 (498)","2 (581)","6 (699)"]
["Robin Stichenwirth",null,null,"Plzeň-Letkov",null,null,null,null,4,1744,null,null,null,null,null,"LS 1c","VY",null,null,"10 (300)","4 (456)","4 (411)","8 (577)"]
["Václav Svoboda",null,null,"Plzeň-Letkov",null,null,null,null,5,1664,null,null,null,null,null,"LS 8b,18 18m (voda)",301,null,null,"1 (600)","11 (64)","8 (0)","1 (1,000)"]
["Miroslav Kočí",null,null,"Žamberk",null,null,null,null,6,1525,null,null,null,null,null,"Ventus 2cxm 18m 565kg (voda)","E8",null,null,"3 (550)","1 (557)","3 (418)","12 (0)"]
["Jan Muknšnábl",null,null,"Plzeň-Letkov",null,null,null,null,7,1474,null,null,null,null,null,"Std. Cirrus","SB",null,null,"7 (504)","8 (185)","6 (208)","8 (577)"]
["Roman Jokl",null,null,"Plzeň-Letkov",null,null,null,null,8,1344,null,null,null,null,null,"ASW-19B (voda)","JL",null,null,"8 (432)","12 (0)","8 (0)","2 (912)"]
["Miloš Matějka",null,null,"AK Beroun",null,null,null,null,9,1335,null,null,null,null,null,"Discus b +W(voda)","SH",null,null,"6 (538)","12 (0)","8 (0)","4 (797)"]
["Daniel Dvořák",null,null,"Plzeň-Letkov",null,null,null,null,10,1277,null,null,null,null,null,"Std. Cirrus","LD",null,null,"4 (544)","10 (85)","8 (0)","7 (648)"]
["Petr Šetka",null,null,"Plzeň-Letkov",null,null,null,null,11,717,null,null,null,null,null,"Ventus 2cxm 18m 565kg (voda)","RS",null,null,"2 (581)","9 (136)","8 (0)","12 (0)"]
["Marek Blaťák",null,null,"Šumperk",null,null,null,null,12,378,null,null,null,null,null,"DG-808 S Competition 18m+W (voda)","MS",null,null,"13 (0)","5 (378)","8 (0)","12 (0)"]
["Václav Hrdina",null,null,"Plzeň-Letkov",null,null,null,null,13,309,null,null,null,null,null,"LS 1c","AN",null,null,"10 (300)","12 (0)","7 (9)","12 (0)"]
["Lukáš Nalos",null,null,"Plzeň-Letkov",null,null,null,null,14,253,null,null,null,null,null,"DG-300 (450 kg) (voda)","LN",null,null,"13 (0)","12 (0)","8 (0)","10 (253)"]
["Jan Žanda",null,null,"Plzeň-Letkov",null,null,null,null,15,250,null,null,null,null,null,"Std. Cirrus","AL",null,null,"12 (250)","12 (0)","8 (0)","12 (0)"]
["Petr Kolomazník",null,null,"Šumperk",null,null,null,null,16,226,null,null,null,null,null,"Discus b +W(voda)","VE",null,null,"13 (0)","7 (226)","8 (0)","12 (0)"]
["Jiří Barták",null,null,"Plzeň-Letkov",null,null,null,null,17,19,null,null,null,null,null,"Std. Cirrus","SR",null,null,"13 (0)","12 (0)","8 (0)","11 (19)"]
["Lukáš Koukal",null,null,"Plzeň-Letkov",null,null,null,null,18,0,null,null,null,null,null,"ASW-15B","T1",null,null,"13 (0)","12 (0)","8 (0)","12 (0)"]
["Petr Barták",null,null,"Plzeň-Letkov",null,null,null,null,18,0,null,null,null,null,null,"LS 6c 18m+W (voda)","BL",null,null,"13 (0)","12 (0)","8 (0)","12 (0)"]
["Roman Lanzendorf",null,null,"Plzeň-Letkov",null,null,null,null,18,0,null,null,null,null,null,"Ventus ct 17,6m (voda)","AW",null,null,"13 (0)","12 (0)","8 (0)","12 (0)"]
[]
["AZ  CUP 2022 - Klub"]
["Zbraslavice, Czech Republic,   22 April 2022 – 30 April 2022 "]
["https://www.soaringspot.com/en_gb/az-cup-2022-zbraslavice-2022/results/klub# "]
[]
["Zdenek Boruvka ml.",null,null,"Jičín",null,null,null,null,1,4700,null,null,null,null,null,"STD. Cirrus","BJ",null,null,"4 (809)","1 (737)","5 (580)","2 (968)","1 (1,000)","2 (606)"]
["Eduard Niko",null,null,"Aeroclub Prievidza - Zbraslavice",null,null,null,null,2,4631,null,null,null,null,null,"ASW 20","EW",null,null,"1 (925)","6 (633)","1 (666)","7 (933)","2 (933)","5 (541)"]
["David Popovsky",null,null,"Rakovník",null,null,null,null,3,4440,null,null,null,null,null,"ASW 24",76,null,null,"5 (798)","3 (675)","8 (540)","4 (956)","5 (862)","1 (609)"]
["Jan Horak",null,null,"Zbraslavice",null,null,null,null,4,4374,null,null,null,null,null,"ASW 20 W","WX",null,null,"2 (890)","7 (625)","3 (660)","16 (746)","3 (926)","6 (527)"]
["Martin Urban",null,null,"Frýdlant",null,null,null,null,5,4369,null,null,null,null,null,"LS-3a","SJ",null,null,"6 (794)","4 (664)","11 (473)","3 (961)","4 (871)","2 (606)"]
["Jakub Kmosek",null,null,"Zbraslavice",null,null,null,null,6,4029,null,null,null,null,null,"STD. Cirrus","ST",null,null,"3 (820)","8 (609)","7 (558)","1 (1,000)","7 (818)","17 (224)"]
["Petr Havelka",null,null,"Zbraslavice",null,null,null,null,7,3895,null,null,null,null,null,"ASW 19","PH",null,null,"10 (694)","11 (556)","6 (563)","11 (884)","10 (761)","11 (437)"]
["Jakub Malík",null,null,"Letňany",null,null,null,null,8,3648,null,null,null,null,null,"Discus BW","DP",null,null,"8 (713)","15 (486)","16 (220)","6 (946)","9 (762)","8 (521)"]
["Tomas Malik",null,null,"Letňany",null,null,null,null,9,3570,null,null,null,null,null,"Discus B","LH",null,null,"9 (707)","10 (560)","14 (222)","9 (904)","11 (760)","13 (417)"]
["Jan Smekal",null,null,"Zbraslavice",null,null,null,null,10,3434,null,null,null,null,null,"ASW 20","NW",null,null,"14 (638)","9 (561)","4 (646)","18 (337)","12 (729)","7 (523)"]
["Jan Florian",null,null,"Zbraslavice",null,null,null,null,11,3413,null,null,null,null,null,"Std. cirrus","C1",null,null,"15 (613)","17 (443)","9 (526)","14 (829)","16 (534)","9 (468)"]
["Vaclav Sehnal",null,null,"Kolín",null,null,null,null,12,2942,null,null,null,null,null,"Jantar STD 2","VS",null,null,"18 (363)","22 (184)","13 (311)","13 (845)","8 (788)","10 (451)"]
["Jan Zahradka",null,null,"Hodkovice",null,null,null,null,13,2900,null,null,null,null,null,"STD. Cirrus","AR",null,null,"21 (167)","2 (713)","16 (220)","5 (952)","6 (839)","19 (9)"]
["Linda Vasatova",null,null,"Mladá Boleslav",null,null,null,null,14,2866,null,null,null,null,null,"ASW 19","XS",null,null,"11 (683)","16 (458)","10 (512)","12 (864)","21 (62)","16 (287)"]
["Sachl David",null,null,"Kralupy nad Vltavou",null,null,null,null,15,2627,null,null,null,null,null,"DG-300 WL","BK",null,null,"7 (731)","5 (650)","1 (666)","20 (0)","22 (0)","4 (580)"]
["Ales Holoubek",null,null,"Jičín",null,null,null,null,16,2609,null,null,null,null,null,"ASW 15B NG","T",null,null,"22 (157)","20 (334)","12 (406)","17 (585)","14 (693)","12 (434)"]
["Frantisek Pycha",null,null,"Chrudim",null,null,null,null,17,2331,null,null,null,null,null,"STD.Cirrus","JE",null,null,"19 (220)","14 (493)","19 (0)","10 (894)","13 (724)","20 (0)"]
["Frantisek Komarek",null,null,"Zbraslavice",null,null,null,null,18,2308,null,null,null,null,null,"ASW 19 B","PM",null,null,"13 (648)","18 (387)","19 (0)","19 (306)","15 (630)","15 (337)"]
["Petr Brezina",null,null,"Frýdlant n. O.",null,null,null,null,19,2113,null,null,null,null,null,"DG 200","AK",null,null,"16 (505)","21 (290)","15 (221)","15 (782)","18 (288)","18 (27)"]
["Matous Schmidt",null,null,"Letňany",null,null,null,null,20,1927,null,null,null,null,null,"STD. Cirrus","IMI",null,null,"12 (654)","12 (540)","18 (204)","20 (0)","17 (529)","20 (0)"]
["Hodan Odlozilik",null,null,"Zbraslavice",null,null,null,null,21,1897,null,null,null,null,null,"G 103 dvojí","RB",null,null,"20 (186)","13 (524)","19 (0)","8 (921)","19 (266)","20 (0)"]
["Tomas Jung",null,null,"Zbraslavice",null,null,null,null,22,1299,null,null,null,null,null,"ASW 19","O2",null,null,"17 (365)","19 (385)","19 (0)","20 (0)","20 (139)","14 (410)"]
[]
["AZ  CUP 2022 - Kombi"]
["Zbraslavice, Czech Republic,   22 April 2022 – 30 April 2022 "]
[]
["Martin Hrivna",null,null,"Zbraslavice",null,null,null,null,1,4537,null,null,null,null,null,"ASG 29E-18M","NX",null,null,"8 (878)","5 (574)","1 (616)","4 (949)","8 (960)","5 (560)"]
["Petr Tichy",null,null,"Zbraslavice",null,null,null,null,2,4530,null,null,null,null,null,"ASG 29 E 18m","AJ",null,null,"2 (983)","1 (603)","8 (495)","6 (939)","5 (970)","6 (540)"]
["Tomas Suchanek",null,null,"GAC Benesov, Czech Republic",null,null,null,null,3,4493,null,null,null,null,null,"Ventus C 17,6m","UP",null,null,"12 (814)","4 (575)","6 (526)","2 (977)","4 (976)","1 (625)"]
["Jan Kotan",null,null,"Letňany",null,null,null,null,4,4423,null,null,null,null,null,"Ventus 2bx 15m","YA",null,null,"4 (958)","8 (540)","11 (478)","9 (917)","10 (906)","2 (624)"]
["Tomas Rendla",null,null,"Zbraslavice, Czech Rep.",null,null,null,null,5,4416,null,null,null,null,null,"EB29R","EX",null,null,"11 (825)","3 (589)","3 (607)","11 (870)","3 (985)","6 (540)"]
["Kucirek Kantor",null,null,"Havlíčkův Brod - Letňany",null,null,null,null,6,4408,null,null,null,null,null,"EB 28 Edition 28m","NA",null,null,"3 (973)","11 (504)","5 (543)","10 (909)","2 (996)","11 (483)"]
["Alena Netusilova",null,null,"Zbraslavice",null,null,null,null,7,4374,null,null,null,null,null,"JS1 18","JX",null,null,"9 (851)","9 (528)","4 (573)","6 (939)","6 (968)","10 (515)"]
["Michaela Rendlova",null,null,"Toužim",null,null,null,null,8,4367,null,null,null,null,null,"AS33 18m","EA",null,null,"5 (926)","2 (594)","17 (423)","5 (944)","7 (962)","9 (518)"]
["Jan Dersak",null,null,"Kralupy",null,null,null,null,9,4014,null,null,null,null,null,"HPH 304SJ","DJ",null,null,"14 (772)","7 (544)","9 (490)","18 (780)","13 (855)","4 (573)"]
["Krobath Pekař",null,null,"FRA",null,null,null,null,10,3893,null,null,null,null,null,"HPH TWINSHARK","Q",null,null,"13 (778)","20 (413)","10 (488)","15 (811)","9 (942)","14 (461)"]
["Vratislav Sram",null,null,"Broumov",null,null,null,null,11,3842,null,null,null,null,null,"Nimbus 4DM",7,null,null,"15 (709)","16 (473)","16 (428)","14 (812)","11 (892)","8 (528)"]
["Ondrej Dupal",null,null,"GAC Benešov",null,null,null,null,12,3790,null,null,null,null,null,"ASG 29 E 18m","GO",null,null,"24 (169)","12 (502)","2 (609)","8 (934)","1 (1,000)","3 (576)"]
["Karel Benisek",null,null,"Toužim",null,null,null,null,13,3683,null,null,null,null,null,"VENTUS CT 17,6","KB",null,null,"10 (836)","14 (495)","15 (431)","17 (788)","18 (667)","12 (466)"]
["Pavel Jiranek",null,null,"Aeroclub Touzim",null,null,null,null,14,3566,null,null,null,null,null,"VENTUS C 17,6m","CS",null,null,"6 (910)","17 (469)","7 (498)","13 (820)","12 (869)","21 (0)"]
["Petr Starek",null,null,"Zbraslavice",null,null,null,null,15,3495,null,null,null,null,null,"HPH 304 JS 18m",66,null,null,"16 (662)","10 (513)","23 (78)","3 (972)","14 (845)","16 (425)"]
["Danes Grula",null,null,"Medlánky",null,null,null,null,16,3021,null,null,null,null,null,"ASG32MI","DX",null,null,"1 (984)","6 (572)","24 (0)","1 (1,000)","20 (465)","21 (0)"]
["Dusan Bernat",null,null,"Martin",null,null,null,null,17,2987,null,null,null,null,null,"DG-808B","JD",null,null,"18 (567)","18 (446)","19 (363)","23 (496)","16 (776)","17 (339)"]
["Petr Malcek",null,null,"Letňany",null,null,null,null,18,2984,null,null,null,null,null,"LS6C 18m","F5",null,null,"19 (507)","12 (502)","18 (399)","15 (811)","17 (753)","19 (12)"]
["Petr Jiranek",null,null,"Toužim",null,null,null,null,19,2902,null,null,null,null,null,"VENTUS CT 17.6m","EB",null,null,"7 (889)","23 (90)","12 (466)","21 (540)","21 (456)","14 (461)"]
["Zdenek Schenk",null,null,"Hranice",null,null,null,null,20,2694,null,null,null,null,null,"Ventus CM 17,6m","ŠNEK",null,null,"22 (410)","19 (422)","20 (354)","20 (602)","22 (441)","13 (465)"]
["Jaromir Jedlicka",null,null,"Letňany",null,null,null,null,21,2634,null,null,null,null,null,"SHARK 304MS","TJ",null,null,"21 (444)","21 (396)","13 (465)","12 (851)","19 (466)","19 (12)"]
["Ivo Burda",null,null,"Zbraslavice",null,null,null,null,22,2316,null,null,null,null,null,"VENTUS 2CXM","IB",null,null,"23 (351)","24 (0)","14 (447)","19 (731)","15 (787)","21 (0)"]
["Karl Schiffleithner",null,null,"SFC Tulin",null,null,null,null,23,2002,null,null,null,null,null,"Ventus 2CXT 18m","IX",null,null,"17 (585)","22 (247)","22 (297)","22 (525)","23 (319)","18 (29)"]
["Ivan Harasta",null,null,"Touzim",null,null,null,null,24,1311,null,null,null,null,null,"NIMBUS 2M","NB",null,null,"20 (469)","15 (490)","21 (352)","24 (0)","24 (0)","21 (0)"]
[]
["PPV 2022 - Klub"]
["Havlíčkův Brod, Czech Republic,   23 July 2022 – 31 July 2022 "]
["https://www.soaringspot.com/en_gb/ppv-2022-lkhb/results/klub# "]
[]
["Jindrich Svorc",null,null,"Aeroklub Praha Letňany",null,null,null,null,1,2210,null,null,null,null,null,"std. cirrus","IMI",null,null,"1 (857)","3 (370)","5 (983)"]
["Petr Hofman",null,null,"Aeroklub Praha Letňany",null,null,null,null,2,2129,null,null,null,null,null,"asw 15 B","MA",null,null,"7 (760)","4 (369)","1 (1,000)"]
["Vaclav Marel",null,null,"Aeroklub Jaroměř",null,null,null,null,3,1984,null,null,null,null,null,"Std. Cirrus","IF",null,null,"10 (710)","11 (276)","3 (998)"]
["Vojtech Hajek",null,null,"Aeroklub Mladá Boleslav",null,null,null,null,4,1931,null,null,null,null,null,"Std. Cirrus","BB",null,null,"3 (805)","22 (220)","8 (906)"]
["Josef Kolman",null,null,"Aeroklub Praha letňany",null,null,null,null,5,1930,null,null,null,null,null,"ASW 15 B","BA4",null,null,"5 (791)","10 (281)","15 (858)"]
["Radek Zima",null,null,"Aeroklub Břeclav",null,null,null,null,6,1922,null,null,null,null,null,"DG 100","M",null,null,"4 (802)","9 (284)","16 (836)"]
["Milan Svoboda",null,null,"Aeroklub Havlíčkův Brod",null,null,null,null,7,1880,null,null,null,null,null,"VT-116 Orlik 2",46,null,null,"12 (660)","7 (302)","7 (918)"]
["Tomas Ptacovsky",null,null,"Aeroklub Praha Letňany",null,null,null,null,7,1880,null,null,null,null,null,"ASW 19 B","BU",null,null,"8 (754)","18 (240)","13 (886)"]
["Jiri Koudela",null,null,"Aeroklub Vyškov",null,null,null,null,9,1849,null,null,null,null,null,"ASW 19 B","JK",null,null,"6 (772)","13 (259)","19 (818)"]
["Martin Urner",null,null,"Aeroklub Praha Letňany",null,null,null,null,10,1840,null,null,null,null,null,"ASW 15 B","JJ",null,null,"13 (609)","8 (291)","6 (940)"]
["David Vrchota",null,null,"Aeroklub Jaroměř",null,null,null,null,11,1828,null,null,null,null,null,"Std. Cirrus","GO",null,null,"16 (500)","5 (328)","1 (1,000)"]
["Miloslav Hulmak",null,null,"Aeroklub České Budějovice",null,null,null,null,12,1792,null,null,null,null,null,"ASW 15 B","HH",null,null,"10 (710)","24 (217)","14 (865)"]
["Petr Rozhon",null,null,"Aeroklub České Budějovice",null,null,null,null,13,1770,null,null,null,null,null,"VSO-10",9,null,null,"2 (815)","20 (230)","24 (725)"]
["Jakub Malík",null,null,"Aeroklub Praha Letňany",null,null,null,null,14,1673,null,null,null,null,null,"Discus b WL","DP",null,null,"20 (462)","6 (320)","12 (891)"]
["David Tejnora",null,null,"Aeroklub Jaroměř",null,null,null,null,15,1614,null,null,null,null,null,"Std. Cirrus",17,null,null,"17 (492)","23 (219)","9 (903)"]
["Frantisek Suna",null,null,"Aerokluv české Budějovice",null,null,null,null,16,1608,null,null,null,null,null,"DG 100",78,null,null,"9 (744)","16 (242)","27 (622)"]
["Tom Hulmak",null,null,"Aeroklub České Budějovice",null,null,null,null,17,1560,null,null,null,null,null,"ASW 15 B","XI",null,null,"14 (515)","12 (267)","20 (778)"]
["Zdenek Boruvka ml.",null,null,"Aeroklub Jičín",null,null,null,null,18,1490,null,null,null,null,null,"Std. Cirrus","BJ",null,null,"23 (296)","2 (374)","18 (820)"]
["Radoslav Pur",null,null,"Aeroklub České Budějovice",null,null,null,null,19,1489,null,null,null,null,null,"DG 200","EK",null,null,"18 (489)","19 (236)","22 (764)"]
["Petr Malcek",null,null,"Aeroklub Praha Letňany",null,null,null,null,20,1468,null,null,null,null,null,"Discus b","LH",null,null,"21 (308)","14 (258)","10 (902)"]
["Michal Vranek",null,null,"Aeroklub České Budějovice",null,null,null,null,21,1461,null,null,null,null,null,"DG 100","8W",null,null,"19 (488)","21 (225)","23 (748)"]
["Martin Piskacek",null,null,"Aeroklub Křižanov",null,null,null,null,22,1380,null,null,null,null,null,"Std. Cirrus",75,null,null,"36 (0)","1 (391)","4 (989)"]
["Pavel Liska",null,null,"Aeroklub Roudnice nad Labem",null,null,null,null,23,1360,null,null,null,null,null,"ASW 19 B","RCE",null,null,"29 (224)","17 (241)","11 (895)"]
["Filip Malík",null,null,"Aeroklub Praha Letňany",null,null,null,null,24,1268,null,null,null,null,null,"vso-10","L5",null,null,"22 (305)","27 (197)","21 (766)"]
["Jan Zezula",null,null,"Aeroklub Praha Letňany",null,null,null,null,25,1234,null,null,null,null,null,"ASW 19 B","HD",null,null,"30 (218)","28 (194)","17 (822)"]
["Petr Valenta",null,null,"Aeroklub Jaroměř",null,null,null,null,26,1134,null,null,null,null,null,"Discus b","JA",null,null,"27 (256)","15 (247)","26 (631)"]
["Jiri Donat",null,null,"Aeroklub Praha Letňany",null,null,null,null,27,1028,null,null,null,null,null,"Std. Cirrus WL","JE",null,null,"34 (149)","26 (210)","25 (669)"]
["Jiri Janda",null,null,"Aeroklub Praha Letňany",null,null,null,null,28,925,null,null,null,null,null,"Std. Cirrus","ZT",null,null,"14 (515)","35 (0)","32 (410)"]
["Petr Sochor",null,null,"Aeroklub České Budějovice",null,null,null,null,29,901,null,null,null,null,null,"ASW 15 B","6Y",null,null,"26 (261)","29 (176)","30 (464)"]
["Ivan Kuzelka",null,null,"Aeroklub Havlíčkův Brod",null,null,null,null,30,899,null,null,null,null,null,"VT-116 Orlik 2",43,null,null,"24 (279)","25 (212)","34 (408)"]
["Ondrej Hart",null,null,"Aeroklub Praha Letňany",null,null,null,null,31,896,null,null,null,null,null,"G 102 Astir CS","PJ",null,null,"31 (193)","29 (176)","28 (527)"]
["Tereza Novakova",null,null,"Aeroklub Chrudim",null,null,null,null,32,870,null,null,null,null,null,"Std. Cirrus","FF",null,null,"28 (225)","29 (176)","29 (469)"]
["Tomáš Holenda",null,null,"Aeroklub Havlíčkův Brod",null,null,null,null,33,757,null,null,null,null,null,"VT-116 Orlik 2","I",null,null,"32 (182)","29 (176)","35 (399)"]
["Jiri Dockal",null,null,"Aeroklub Havlíčkův Brod",null,null,null,null,34,706,null,null,null,null,null,"vso-10","L9",null,null,"35 (120)","29 (176)","32 (410)"]
["Vaclav Petru",null,null,"Aeroklub Praha Letňany",null,null,null,null,35,699,null,null,null,null,null,"Alpin T","AI",null,null,"33 (150)","34 (109)","31 (440)"]
["Milos Hrabe",null,null,"Aeroklub Praha Letňany",null,null,null,null,36,265,null,null,null,null,null,"VT-116 Orlik 2",44,null,null,"25 (265)","35 (0)","36 (0)"]
["Petr Lonsky",null,null,"Aeroklub Toužim",null,null,null,null,37,0,null,null,null,null,null,"Std. Cirrus","JP",null,null,"36 (0)","35 (0)","36 (0)"]
[]
["PPV 2022 - Kombi"]
["Havlíčkův Brod, Czech Republic,   23 July 2022 – 31 July 2022 "]
[]
["Ondrej Bordovsky",null,null,"Aeroklub Krnov",null,null,null,null,1,2993,null,null,null,null,null,"Ventus c 17.6m","SeX",null,null,"4 (930)","15 (407)","2 (669)","2 (987)"]
["Jan Boruvka",null,null,"Aeroklub Jičín",null,null,null,null,2,2938,null,null,null,null,null,"Ventus C 17.6m","EG",null,null,"2 (935)","3 (500)","9 (564)","5 (939)"]
["Pavel Zima",null,null,"Aeroklub Břeclav",null,null,null,null,3,2906,null,null,null,null,null,"Ventus cM 17.6m","RK",null,null,"6 (884)","17 (402)","1 (743)","15 (877)"]
["Jan Kotan",null,null,"Aeroklub Praha Letňany",null,null,null,null,4,2862,null,null,null,null,null,"Ventus 2bx","YA",null,null,"7 (875)","5 (453)","5 (642)","11 (892)"]
["Hana Treslova",null,null,"Aeroklub Raná u Loun",null,null,null,null,5,2774,null,null,null,null,null,"Ventus 2ax","AX",null,null,"9 (822)","6 (445)","7 (629)","14 (878)"]
["David Zapletal",null,null,"Aeroklub Mladá Boleslav",null,null,null,null,6,2665,null,null,null,null,null,"Ventus C 17.6m","PUP",null,null,"3 (932)","11 (413)","6 (640)","23 (680)"]
["Marek Blatak",null,null,"Aeroklub Šumperk",null,null,null,null,7,2628,null,null,null,null,null,"DG 808C Competition 18m WL","W",null,null,"8 (851)","8 (441)","18 (406)","6 (930)"]
["Jozef Busek",null,null,"Aeroklub České Budějovice",null,null,null,null,8,2624,null,null,null,null,null,"Duo Discus X","BB",null,null,"11 (707)","19 (396)","8 (617)","9 (904)"]
["Antonin Konicek",null,null,"Aeroklub Kunovice",null,null,null,null,9,2619,null,null,null,null,null,"HpH 304 MS Shark","KK",null,null,"18 (564)","20 (394)","3 (661)","1 (1,000)"]
["Anna Bordovská",null,null,"Aeroklub Mladá Boleslav",null,null,null,null,10,2602,null,null,null,null,null,"Ventus c 17.6m","AD",null,null,"5 (926)","14 (408)","4 (654)","24 (614)"]
["Radek Kucirek",null,null,"Aeroklub Havlíčkův Brod",null,null,null,null,11,2565,null,null,null,null,null,"EB 28 edition","NA",null,null,"1 (1,000)","10 (435)","25 (204)","7 (926)"]
["Jan Dersak",null,null,"Aeroklub Sazená",null,null,null,null,12,2490,null,null,null,null,null,"HpH 304 SJ Shark","DJ",null,null,"16 (613)","2 (501)","10 (556)","17 (820)"]
["Vaclav Hruza",null,null,"Aeroklub Breclav",null,null,null,null,13,2469,null,null,null,null,null,"HpH 304 MS Shark","TH",null,null,"23 (522)","1 (515)","11 (549)","12 (883)"]
["Martin Jurovic",null,null,"Aeroklub Bratislava",null,null,null,null,14,2350,null,null,null,null,null,"Ventus c 17.6m","JQ",null,null,"10 (760)","25 (90)","12 (546)","4 (954)"]
["Zdenek Boruvka",null,null,"Aeroklub Jičín",null,null,null,null,15,2309,null,null,null,null,null,"LS 8","ZB",null,null,"20 (550)","22 (310)","13 (528)","8 (921)"]
["Jan Simon",null,null,"Aeroklub Sazená",null,null,null,null,16,2306,null,null,null,null,null,"Ventus cT 17.6m","KR",null,null,"17 (601)","18 (401)","17 (474)","16 (830)"]
["Ladislav Jozsa",null,null,"Aeroklub Medlánky",null,null,null,null,17,2300,null,null,null,null,null,"Ventus c 17.6m","WW",null,null,"22 (533)","4 (468)","14 (510)","18 (789)"]
["Petr Babak",null,null,"Aeroklub Hořice",null,null,null,null,18,2296,null,null,null,null,null,"Ventus c 17.6m","LS",null,null,"24 (501)","12 (412)","15 (503)","13 (880)"]
["Lukas Capek",null,null,"Aeroklub Praha Letňany",null,null,null,null,19,2263,null,null,null,null,null,"Mosquito","LC",null,null,"14 (628)","9 (438)","20 (293)","9 (904)"]
["Jaromir Pauer",null,null,"Aeroklub České Budějovice",null,null,null,null,20,2260,null,null,null,null,null,"Ventus b 16.6m WL","7F",null,null,"12 (694)","21 (345)","16 (487)","19 (734)"]
["Martin Vnoucek",null,null,"Aeroklub Vlašim",null,null,null,null,21,2204,null,null,null,null,null,"ASG 29 E 18m","QX",null,null,"18 (564)","6 (445)","24 (211)","3 (984)"]
["Ales Vyhnal",null,null,"Aeroklub Sazená",null,null,null,null,22,1983,null,null,null,null,null,"Nimbus 3 22.9m","HS",null,null,"15 (627)","23 (237)","18 (406)","20 (713)"]
["Zdenek Schenk",null,null,"Aeroklub Hranice",null,null,null,null,23,1967,null,null,null,null,null,"Ventus cM 17.6m","ŠNeK",null,null,"13 (654)","16 (404)","23 (224)","22 (685)"]
["Martin Holik",null,null,"Aeroklub Praha Letňany",null,null,null,null,24,1719,null,null,null,null,null,"LS 6 18m","F5",null,null,"21 (549)","24 (193)","21 (267)","21 (710)"]
["Michal Hemrle",null,null,"Aeroklub Česká Lípa",null,null,null,null,25,1378,null,null,null,null,null,"ASG 29 Es 18m","ET",null,null,"25 (183)","13 (411)","22 (225)","25 (559)"]
[]
["38th World gliding championship 2022 Szeged - 18m"]
["Szeged, Hungary,   24 July 2022 – 5 August 2022 "]
["https://www.soaringspot.com/en_gb/37th-fai-world-gliding-championships-2022-szeged-2022/results/18m# "]
[]
["Christophe Abadie",null,null,null,null,null,null,null,1,8957,null,null,null,null,null,"Jonker JS3","2L",null,null,"26 (808)","1 (766)","1 (997)","1 (881)","21 (673)","3 (971)","4 (986)","16 (916)","1 (1,000)","7 (959)"]
["Riccardo Brigliadori",null,null,null,null,null,null,null,2,8865,null,null,null,null,null,"Jonker JS3","LEO",null,null,"4 (919)","27 (656)","9 (909)","15 (796)","5 (769)","1 (1,000)","1 (1,000)","29 (870)","14 (961)","3 (985)"]
["Davide Schiavotto",null,null,null,null,null,null,null,3,8843,null,null,null,null,null,"Jonker JS3","8D",null,null,"1 (1000)","28 (653)","8 (912)","6 (837)","17 (686)","2 (973)","3 (989)","32 (861)","16 (948)","4 (984)"]
["Jeroen Verkuijl",null,null,null,null,null,null,null,4,8788,null,null,null,null,null,"MD JS3 RES","JV",null,null,"2 (970)","7 (732)","20 (800)","8 (828)","15 (697)","21 (824)","8 (972)","1 (1,000)","5 (993)","6 (972)"]
["Uys Jonker",null,null,null,null,null,null,null,5,8784,null,null,null,null,null,"Jonker JS3","BK",null,null,"16 (843)","3 (762)","3 (946)","21 (774)","25 (649)","9 (898)","16 (946)","6 (970)","3 (996)","1 (1,000)"]
["Adrien Henry",null,null,null,null,null,null,null,6,8775,null,null,null,null,null,"Jonker JS3","LB",null,null,"27 (807)","30 (645)","12 (897)","2 (851)","13 (706)","5 (957)","5 (985)","2 (989)","6 (985)","8 (953)"]
["Wolfgang Janowitsch",null,null,null,null,null,null,null,7,8718,null,null,null,null,null,"Ventus 3TS","WO",null,null,"18 (840)","13 (715)","13 (892)","22 (772)","9 (753)","4 (959)","6 (977)","25 (885)","4 (995)","11 (930)"]
["Arne J. Boye-Møller",null,null,null,null,null,null,null,8,8711,null,null,null,null,null,"Jonker JS3 Jet","AB",null,null,"14 (845)","9 (730)","2 (993)","7 (836)","32 (529)","8 (900)","2 (997)","9 (963)","9 (971)","9 (947)"]
["Tomasz Rubaj",null,null,null,null,null,null,null,9,8600,null,null,null,null,null,"Schleicher AS 33 ES",12,null,null,"5 (907)","18 (694)","34 (713)","13 (814)","1 (824)","12 (886)","29 (886)","12 (953)","18 (946)","5 (977)"]
["Bert Schmelzer",null,null,null,null,null,null,null,10,8595,null,null,null,null,null,"Ventus 3T",21,null,null,"19 (839)","24 (659)","6 (925)","9 (825)","10 (748)","26 (765)","12 (960)","8 (966)","8 (980)","13 (928)"]
["Roman Mracek",null,null,null,null,null,null,null,11,8575,null,null,null,null,null,"Jonker JS3","ZE",null,null,"13 (849)","11 (716)","20 (800)","11 (819)","6 (767)","22 (817)","15 (955)","7 (967)","15 (952)","10 (933)"]
["Attie Jonker",null,null,null,null,null,null,null,12,8537,null,null,null,null,null,"Jonker JS3","FA",null,null,"14 (845)","6 (734)","4 (934)","24 (768)","33 (516)","20 (844)","8 (972)","5 (973)","13 (963)","2 (988)"]
["Holger Karow",null,null,null,null,null,null,null,13,8465,null,null,null,null,null,"Jonker JS3","JS3",null,null,"12 (851)","8 (731)","15 (880)","15 (796)","18 (677)","18 (860)","17 (941)","16 (916)","12 (966)","28 (847)"]
["Mélanie Gadoulet",null,null,null,null,null,null,null,14,8460,null,null,null,null,null,"Jonker JS3","KW",null,null,"31 (710)","4 (761)","5 (929)","14 (809)","24 (650)","16 (862)","11 (961)","26 (878)","6 (985)","17 (915)"]
["György Gulyás",null,null,null,null,null,null,null,15,8445,null,null,null,null,null,"Jonker JS3","7A",null,null,"23 (820)","31 (635)","19 (811)","19 (781)","7 (759)","10 (893)","10 (968)","11 (958)","21 (933)","22 (887)"]
["Rasmus Ørskov",null,null,null,null,null,null,null,16,8413,null,null,null,null,null,"Ventus 3T","EK",null,null,"16 (843)","29 (647)","28 (756)","4 (840)","4 (770)","7 (905)","26 (912)","14 (943)","26 (922)","25 (875)"]
["Michael Rass",null,null,null,null,null,null,null,17,8365,null,null,null,null,null,"Schleicher AS 33 ES","MR",null,null,"34 (698)","21 (675)","17 (848)","23 (771)","20 (676)","6 (915)","13 (957)","21 (897)","2 (998)","11 (930)"]
["Thomas Melde",null,null,null,null,null,null,null,18,8217,null,null,null,null,null,"Jonker JS1 BTJ","ZP",null,null,"7 (901)","10 (721)","18 (822)","20 (778)","28 (622)","15 (863)","29 (886)","22 (892)","28 (906)","30 (826)"]
["Péter Szabó",null,null,null,null,null,null,null,19,8027,null,null,null,null,null,"Jonker JS3","BX",null,null,"32 (706)","17 (698)","29 (753)","18 (785)","11 (746)","13 (882)","35 (768)","4 (979)","19 (934)","36 (776)"]
["Petri Sucksdorff",null,null,null,null,null,null,null,20,7979,null,null,null,null,null,"Schleicher AS 33 ES","WS",null,null,"3 (959)","32 (611)","33 (730)","27 (743)","14 (698)","23 (810)","33 (795)","24 (888)","30 (883)","26 (862)"]
["Zoran Frenc",null,null,null,null,null,null,null,21,7929,null,null,null,null,null,"Jonker JS3","ZF",null,null,"11 (853)","2 (764)","16 (860)","5 (839)","35 (338)","28 (750)","17 (941)","27 (874)","35 (854)","27 (856)"]
["Hadriaan van Nes",null,null,null,null,null,null,null,22,7905,null,null,null,null,null,"Jonker JS1 BTJ","JS",null,null,"22 (827)","22 (668)","32 (737)","30 (713)","18 (677)","30 (747)","27 (897)","30 (869)","33 (876)","19 (894)"]
["Teet Jagomägi",null,null,null,null,null,null,null,23,7904,null,null,null,null,null,"Jonker JS1 C",56,null,null,"33 (704)","19 (687)","27 (757)","28 (733)","31 (547)","11 (889)","20 (933)","35 (841)","19 (934)","24 (879)"]
["Markus Ganev",null,null,null,null,null,null,null,24,7840,null,null,null,null,null,"Ventus 3T","7X",null,null,"41 (348)","36 (570)","7 (920)","32 (710)","3 (791)","13 (882)","20 (933)","10 (961)","37 (831)","19 (894)"]
["Joris Vainius",null,null,null,null,null,null,null,25,7770,null,null,null,null,null,"ASG-29","M7",null,null,"39 (463)","5 (736)","38 (677)","33 (709)","2 (794)","31 (726)","24 (921)","20 (912)","27 (908)","15 (924)"]
["Vladimir Foltin",null,null,null,null,null,null,null,26,7726,null,null,null,null,null,"Jonker JS3",3,null,null,"25 (812)","11 (716)","37 (688)","26 (750)","8 (754)","34 (460)","28 (887)","27 (874)","34 (868)","16 (917)"]
["Tijl Schmelzer",null,null,null,null,null,null,null,27,7676,null,null,null,null,null,"Ventus 3T","2X",null,null,"20 (837)","25 (658)","26 (765)","11 (819)","38 (113)","27 (761)","25 (917)","13 (947)","24 (932)","14 (927)"]
["Luka Žnidaršic",null,null,null,null,null,null,null,28,7599,null,null,null,null,null,"Ventus 3 FES","LZ",null,null,"8 (890)","20 (682)","23 (782)","29 (715)","30 (603)","33 (475)","32 (880)","34 (842)","21 (933)","32 (797)"]
["Zdzislaw Bednarczuk",null,null,null,null,null,null,null,29,7570,null,null,null,null,null,"Jonker JS3","ZB",null,null,"6 (906)","16 (699)","42 (348)","3 (845)","23 (655)","35 (453)","19 (937)","3 (984)","11 (969)","38 (774)"]
["Derren Francis",null,null,null,null,null,null,null,30,7531,null,null,null,null,null,"Ventus 3TS","F2",null,null,"24 (815)","23 (663)","10 (903)","36 (662)","29 (615)","39 (122)","7 (974)","15 (917)","10 (970)","21 (890)"]
["Hannu Halonen",null,null,null,null,null,null,null,31,7477,null,null,null,null,null,"Ventus 3TS","W",null,null,"10 (870)","25 (658)","22 (795)","35 (670)","41 (110)","17 (861)","23 (924)","31 (865)","32 (879)","29 (845)"]
["Takeshi Maruyama",null,null,null,null,null,null,null,32,7366,null,null,null,null,null,"Jonker JS3","AX",null,null,"9 (880)","38 (546)","25 (769)","10 (823)","15 (697)","39 (122)","22 (932)","19 (914)","25 (931)","39 (752)"]
["Andreas Spielmann",null,null,null,null,null,null,null,33,7301,null,null,null,null,null,"Jonker JS3","AS",null,null,"35 (674)","33 (610)","36 (691)","37 (647)","22 (656)","19 (848)","39 (701)","38 (789)","29 (896)","34 (789)"]
["Petr Koutny",null,null,null,null,null,null,null,34,7211,null,null,null,null,null,"Jonker JS3","XM",null,null,"29 (730)","15 (703)","23 (782)","25 (756)","42 (108)","32 (667)","31 (881)","36 (828)","21 (933)","31 (823)"]
["Philip Jones",null,null,null,null,null,null,null,35,7110,null,null,null,null,null,"Ventus 3TS",210,null,null,"28 (766)","14 (708)","11 (902)","17 (794)","38 (113)","39 (122)","14 (956)","16 (916)","16 (948)","23 (885)"]
["Peter Johansson",null,null,null,null,null,null,null,36,7101,null,null,null,null,null,"ASG-29","2T",null,null,"42 (340)","39 (542)","31 (750)","34 (700)","27 (624)","25 (794)","38 (713)","33 (860)","31 (882)","18 (896)"]
["Makoto Ichikawa",null,null,null,null,null,null,null,37,6673,null,null,null,null,null,"Schleicher AS 33 ES","JL",null,null,"21 (835)","35 (577)","14 (883)","30 (713)","38 (113)","36 (359)","37 (736)","37 (816)","36 (848)","33 (793)"]
["Branko Blagojevic",null,null,null,null,null,null,null,38,6415,null,null,null,null,null,"Jonker JS3","AI",null,null,"38 (482)","34 (578)","29 (753)","39 (642)","12 (709)","38 (124)","34 (782)","23 (890)","39 (802)","42 (653)"]
["Viktoras Kukcikaitis",null,null,null,null,null,null,null,39,6282,null,null,null,null,null,"Jonker JS1 B","LR",null,null,"40 (362)","40 (541)","41 (539)","41 (600)","26 (640)","24 (801)","36 (745)","42 (563)","41 (707)","35 (784)"]
["Bruno Herencic",null,null,null,null,null,null,null,40,6261,null,null,null,null,null,"Ventus 3M","EM",null,null,"37 (565)","37 (552)","35 (705)","38 (645)","36 (307)","29 (748)","40 (646)","41 (581)","38 (824)","40 (688)"]
["Mark Käppeli",null,null,null,null,null,null,null,41,5656,null,null,null,null,null,"Jonker JS3","MK",null,null,"30 (719)","42 (482)","39 (589)","40 (618)","36 (307)","37 (317)","41 (499)","40 (655)","42 (695)","37 (775)"]
["Rune Hovda",null,null,null,null,null,null,null,42,4817,null,null,null,null,null,"Ventus 3M","RH",null,null,"36 (625)","41 (537)","40 (545)","42 (88)","34 (343)","42 (112)","42 (451)","39 (692)","40 (765)","41 (659)"]
[]
["38th World gliding championship 2022 Szeged - Open"]
["Szeged, Hungary,   24 July 2022 – 5 August 2022 "]
["https://www.soaringspot.com/en_gb/37th-fai-world-gliding-championships-2022-szeged-2022/results/open# "]
[]
["Felipe Levin",null,null,null,null,null,null,null,1,9088,null,null,null,null,null,"EB-29 R","FL",null,null,"1 (1000)","4 (670)","9 (864)","2 (870)","6 (794)","1 (1,000)","1 (1,000)","1 (1,000)","2 (999)","8 (891)"]
["Oscar Goudriaan",null,null,null,null,null,null,null,2,9016,null,null,null,null,null,"EB-29 DR","AC",null,null,"7 (896)","3 (675)","2 (936)","5 (816)","2 (918)","6 (944)","8 (977)","4 (926)","4 (977)","3 (951)"]
["Radek Krejcirik",null,null,null,null,null,null,null,3,8646,null,null,null,null,null,"Jonker JS1 C 21m","Z",null,null,"13 (835)","8 (648)","13 (836)","3 (864)","4 (860)","1 (1,000)","6 (980)","14 (822)","12 (906)","7 (895)"]
["Sylvain Gerbaud",null,null,null,null,null,null,null,4,8626,null,null,null,null,null,"EB-29 R",72,null,null,"5 (897)","4 (670)","3 (931)","13 (760)","10 (722)","4 (968)","3 (996)","11 (859)","5 (947)","10 (876)"]
["Andrew John Davis",null,null,null,null,null,null,null,5,8600,null,null,null,null,null,"MD JS1 C 21m",80,null,null,"11 (856)","13 (618)","20 (790)","10 (787)","1 (922)","13 (891)","7 (979)","5 (909)","6 (944)","6 (904)"]
["Alberto Sironi",null,null,null,null,null,null,null,6,8521,null,null,null,null,null,"EB-29 R","FJ",null,null,"10 (858)","1 (699)","5 (885)","6 (815)","5 (826)","8 (907)","13 (942)","15 (821)","8 (915)","14 (853)"]
["Yves Gerster",null,null,null,null,null,null,null,7,8478,null,null,null,null,null,"Jonker JS1 C 21m","EVO",null,null,"9 (863)","15 (616)","16 (824)","12 (762)","3 (907)","7 (933)","10 (953)","12 (858)","7 (918)","15 (844)"]
["Daan Spruyt",null,null,null,null,null,null,null,8,8456,null,null,null,null,null,"EB-29 DR","IP",null,null,"3 (904)","9 (643)","4 (886)","9 (791)","16 (595)","10 (894)","4 (995)","7 (895)","10 (911)","4 (942)"]
["Russell Cheetham",null,null,null,null,null,null,null,9,8328,null,null,null,null,null,"Jonker JS1 C 21m","XS",null,null,"12 (847)","11 (637)","1 (950)","20 (692)","14 (640)","5 (946)","12 (945)","8 (889)","9 (914)","12 (868)"]
["Łukasz Wójcik",null,null,null,null,null,null,null,10,8288,null,null,null,null,null,"EB-29 R","XR",null,null,"8 (875)","7 (656)","8 (869)","4 (837)","9 (723)","22 (356)","4 (995)","3 (986)","3 (991)","1 (1,000)"]
["Michael Sommer",null,null,null,null,null,null,null,11,8270,null,null,null,null,null,"EB-29 R","FE",null,null,"2 (995)","6 (665)","12 (846)","1 (871)","21 (21)","3 (986)","1 (1,000)","1 (1,000)","1 (1,000)","9 (886)"]
["Bas Seijffert",null,null,null,null,null,null,null,12,8201,null,null,null,null,null,"Jonker JS1 C 21m","BJ",null,null,"15 (828)","12 (621)","7 (877)","8 (792)","19 (557)","14 (878)","15 (895)","6 (896)","13 (902)","2 (955)"]
["Philippe de Péchy",null,null,null,null,null,null,null,13,8035,null,null,null,null,null,"Jonker JS1 C 21m","EJ",null,null,"4 (901)","14 (617)","18 (812)","22 (615)","12 (679)","9 (895)","9 (974)","10 (869)","17 (871)","18 (802)"]
["Alena Netusilova",null,null,null,null,null,null,null,14,7952,null,null,null,null,null,"Jonker JS1 C 21m","JX",null,null,"13 (835)","17 (577)","19 (808)","19 (702)","7 (789)","15 (864)","17 (851)","16 (818)","14 (884)","16 (824)"]
["Harri Hirvola",null,null,null,null,null,null,null,15,7657,null,null,null,null,null,"EB-28 Evolution","EX",null,null,"21 (696)","10 (642)","11 (851)","11 (769)","15 (609)","10 (894)","16 (861)","18 (778)","19 (845)","21 (712)"]
["Alberto Pozzi",null,null,null,null,null,null,null,16,7487,null,null,null,null,null,"Jonker JS1 21mT","IEO",null,null,"19 (736)","2 (680)","5 (885)","15 (746)","22 (0)","12 (893)","14 (934)","13 (830)","10 (911)","11 (872)"]
["Christian Hynek",null,null,null,null,null,null,null,17,7323,null,null,null,null,null,"EB-29 DR","DD",null,null,"5 (897)","18 (506)","21 (714)","16 (730)","20 (341)","18 (724)","20 (815)","17 (789)","16 (878)","5 (929)"]
["Peter Eriksen",null,null,null,null,null,null,null,18,7029,null,null,null,null,null,"EB-29 R","A",null,null,"16 (781)","16 (603)","17 (817)","18 (704)","17 (592)","16 (850)","11 (951)","9 (873)","22 (0)","13 (858)"]
["Zoltán Kóré",null,null,null,null,null,null,null,19,6955,null,null,null,null,null,"Jonker JS1 21m","JB",null,null,"18 (738)","21 (469)","10 (857)","17 (729)","18 (559)","17 (841)","19 (827)","22 (560)","20 (730)","22 (645)"]
["Poul Kim Larsen",null,null,null,null,null,null,null,20,6879,null,null,null,null,null,"ASH 31MI","CE",null,null,"20 (729)","20 (471)","15 (831)","14 (748)","13 (657)","19 (401)","21 (796)","19 (771)","21 (667)","17 (808)"]
["René Schönmann",null,null,null,null,null,null,null,21,6506,null,null,null,null,null,"Jonker JS1 C 21m","LI",null,null,"17 (766)","22 (330)","14 (832)","21 (667)","8 (748)","21 (399)","22 (353)","21 (747)","14 (884)","20 (780)"]
["Zoltan Hamar",null,null,null,null,null,null,null,22,6472,null,null,null,null,null,"Jonker JS1 21m","AAD",null,null,"22 (566)","19 (484)","22 (245)","7 (804)","11 (716)","20 (400)","18 (840)","20 (762)","18 (870)","19 (785)"]
[]
["38th World gliding championship 2022 Szeged - 20m Multi-seat"]
["Szeged, Hungary,   24 July 2022 – 5 August 2022 "]
["https://www.soaringspot.com/en_gb/37th-fai-world-gliding-championships-2022-szeged-2022/results/20m-multi-seat# "]
[]
["Ivan Novak / Petr Krejcirik",null,null,null,null,null,null,null,1,8898,null,null,null,null,null,"Arcus M","CAR",null,null,"3 (974)","12 (599)","12 (867)","10 (790)","4 (790)","4 (950)","1 (1,000)","1 (1,000)","3 (983)","7 (945)"]
["Jakub Barszcz / Lukasz Kornacki",null,null,null,null,null,null,null,2,8783,null,null,null,null,null,"HpH 304 TS Twin Shark","FNC",null,null,"2 (990)","9 (631)","7 (964)","6 (807)","6 (740)","5 (929)","3 (974)","12 (843)","5 (962)","9 (943)"]
["Steve Jones / Garry Coppin",null,null,null,null,null,null,null,3,8666,null,null,null,null,null,"Arcus 20T",66,null,null,"7 (928)","7 (636)","5 (976)","4 (814)","9 (681)","2 (967)","14 (845)","9 (866)","1 (1,000)","5 (953)"]
["Erik Borgmann / Joost Wolff",null,null,null,null,null,null,null,4,8663,null,null,null,null,null,"Arcus T","DX",null,null,"5 (940)","2 (660)","8 (955)","8 (804)","10 (669)","3 (966)","10 (873)","4 (879)","9 (917)","1 (1,000)"]
["Louis Bouderlique / Ulysse Merlin",null,null,null,null,null,null,null,5,8630,null,null,null,null,null,"Arcus 20T","MG",null,null,"14 (869)","3 (652)","3 (990)","13 (772)","8 (704)","1 (1,000)","12 (848)","2 (895)","7 (930)","3 (970)"]
["Aku Jaakkola / Juha Sorri",null,null,null,null,null,null,null,6,8613,null,null,null,null,null,"Arcus M","AM",null,null,"6 (938)","4 (650)","14 (834)","15 (745)","3 (810)","6 (925)","5 (938)","10 (853)","4 (972)","6 (948)"]
["Stefano Ghiorzo / Federico Mangano",null,null,null,null,null,null,null,7,8472,null,null,null,null,null,"Arcus T","BRA",null,null,"16 (845)","5 (648)","4 (988)","2 (828)","11 (668)","13 (836)","15 (842)","15 (833)","2 (993)","2 (991)"]
["Peter Hartmann / Karel Krobath",null,null,null,null,null,null,null,8,8316,null,null,null,null,null,"HpH 304 TS Twin Shark","Q",null,null,"10 (913)","6 (643)","6 (967)","1 (831)","12 (643)","7 (908)","16 (812)","11 (848)","10 (912)","15 (839)"]
["Sarah Arnold / Karl Striedieck",null,null,null,null,null,null,null,9,8300,null,null,null,null,null,"Arcus T","N1",null,null,"12 (887)","14 (576)","13 (851)","12 (782)","1 (918)","10 (872)","17 (806)","4 (879)","14 (894)","16 (835)"]
["Ferenc Tamás / Attila Korom",null,null,null,null,null,null,null,10,8157,null,null,null,null,null,"Arcus T","HUX",null,null,"13 (880)","11 (621)","15 (823)","4 (814)","2 (839)","19 (575)","11 (871)","3 (892)","13 (898)","8 (944)"]
["Anton Šibanc / Sandi Kavalič",null,null,null,null,null,null,null,11,7993,null,null,null,null,null,"Arcus M","ET",null,null,"9 (915)","16 (569)","1 (1,000)","18 (728)","14 (463)","16 (705)","2 (978)","18 (794)","11 (902)","11 (939)"]
["Tom Jorgensen / Henning K. Nielsen",null,null,null,null,null,null,null,12,7851,null,null,null,null,null,"Arcus T","JT",null,null,"15 (849)","8 (633)","10 (930)","11 (786)","15 (445)","11 (855)","13 (847)","14 (836)","11 (902)","18 (768)"]
["Rainer Cronjäger / Guido Halter",null,null,null,null,null,null,null,13,7823,null,null,null,null,null,"Arcus T","KA",null,null,"1 (1000)","1 (703)","18 (812)","9 (802)","18 (0)","12 (846)","5 (938)","7 (876)","8 (923)","12 (923)"]
["Dawid Pretorius / Nico le Roux",null,null,null,null,null,null,null,14,7607,null,null,null,null,null,"Arcus M","4Y",null,null,"18 (790)","15 (573)","2 (999)","16 (740)","17 (15)","8 (903)","8 (925)","16 (831)","15 (888)","9 (943)"]
["Markus Geisen / Michael Pfennig",null,null,null,null,null,null,null,15,7534,null,null,null,null,null,"Arcus M","WK",null,null,"8 (917)","13 (593)","16 (818)","7 (806)","18 (0)","14 (757)","9 (921)","8 (871)","6 (936)","13 (915)"]
["Igor Volkov / Vladas Motuza",null,null,null,null,null,null,null,16,7430,null,null,null,null,null,"ASG 32 MI","IV",null,null,"4 (965)","10 (629)","11 (899)","2 (828)","5 (766)","18 (618)","7 (929)","13 (841)","18 (0)","4 (955)"]
["Jan Kovalcík / Miroslav Beliansky",null,null,null,null,null,null,null,17,6953,null,null,null,null,null,"HpH 304 TS Twin Shark","TS",null,null,"17 (803)","18 (532)","16 (818)","19 (714)","7 (710)","17 (701)","19 (336)","19 (792)","16 (748)","17 (799)"]
["Allan Barnes / Harry Medlicott",null,null,null,null,null,null,null,18,6508,null,null,null,null,null,"Arcus M",13,null,null,"19 (744)","19 (490)","9 (933)","17 (739)","16 (105)","15 (711)","4 (956)","6 (877)","17 (49)","14 (904)"]
["Pierre de Broqueville / Arnaud de Broqueville",null,null,null,null,null,null,null,19,5241,null,null,null,null,null,"Arcus 2T","2AS",null,null,"11 (889)","17 (542)","19 (0)","14 (770)","13 (535)","9 (883)","18 (801)","17 (821)","18 (0)","19 (0)"]
[]
["21th European gliding championship 2022 Pociunai - Club"]
["Pociūnai, Lithuania,   3 July 2022 – 15 July 2022 "]
["https://www.soaringspot.com/en_gb/21st-fai-european-gliding-championships-pociunai-2022/results/club# "]
[]
["Tomas Suchanek",null,null,"Czech Republic",null,null,null,null,1,3816,null,null,null,null,null,"ASW 20","CX",null,null,"9 (442)","1 (603)","1 (807)","23 (141)","1 (656)","6 (118)","2 (436)","4 (613)"]
["Thies Bruins",null,null,"Netherlands",null,null,null,null,2,3508,null,null,null,null,null,"ASW 20","IV",null,null,"24 (399)","2 (591)","2 (801)","22 (147)","3 (586)","12 (57)","7 (333)","8 (594)"]
["Tom Arscott",null,null,"United Kingdom",null,null,null,null,3,3434,null,null,null,null,null,"LS 7",768,null,null,"2 (451)","12 (462)","8 (654)","3 (225)","20 (484)","2 (128)","5 (381)","1 (649)"]
["Tapio Tourula",null,null,"Finland",null,null,null,null,4,3380,null,null,null,null,null,"LS 7 WL",70,null,null,"7 (447)","5 (546)","18 (561)","16 (180)","9 (559)","3 (127)","6 (339)","3 (621)"]
["Michael Mix",null,null,"Denmark",null,null,null,null,5,3347,null,null,null,null,null,"LS 3 a","TM",null,null,"23 (413)","19 (392)","15 (629)","12 (194)","12 (552)","4 (126)","1 (445)","7 (596)"]
["Lukas Blattmann",null,null,"Germany",null,null,null,null,6,3272,null,null,null,null,null,"LS 4 b","ED",null,null,"2 (451)","7 (485)","10 (649)","4 (215)","6 (568)","20 (35)","13 (295)","9 (574)"]
["Jake Brattle",null,null,"United Kingdom",null,null,null,null,7,3242,null,null,null,null,null,"LS 7",25,null,null,"5 (450)","17 (433)","9 (652)","2 (226)","22 (458)","5 (125)","18 (273)","2 (625)"]
["Hugo Corbille",null,null,"France",null,null,null,null,8,3181,null,null,null,null,null,"LS 4",79,null,null,"1 (484)","24 (353)","3 (751)","18 (166)","13 (550)","10 (60)","17 (276)","13 (541)"]
["Andrej Lebedev",null,null,"Lithuania",null,null,null,null,9,3164,null,null,null,null,null,"ASW 20","WU",null,null,"20 (429)","7 (485)","13 (634)","9 (201)","7 (560)","11 (59)","20 (263)","14 (533)"]
["Uwe Melzer",null,null,"Germany",null,null,null,null,10,3149,null,null,null,null,null,"LS 4","UWE",null,null,"2 (451)","10 (468)","11 (643)","23 (141)","14 (539)","14 (43)","14 (294)","10 (570)"]
["Jan Ratz",null,null,"Czech Republic",null,null,null,null,11,3148,null,null,null,null,null,"ASW 20","NW",null,null,"15 (433)","18 (431)","19 (558)","1 (228)","10 (554)","25 (30)","4 (409)","17 (505)"]
["Arturas Pilvinis",null,null,"Lithuania",null,null,null,null,12,3129,null,null,null,null,null,"ASW 20 F","VJ",null,null,"18 (430)","6 (535)","11 (643)","10 (199)","11 (553)","22 (33)","23 (203)","14 (533)"]
["Roelof Corporaal",null,null,"Netherlands",null,null,null,null,13,3127,null,null,null,null,null,"LS 7 neo","LK",null,null,"10 (440)","23 (379)","4 (750)","20 (156)","24 (437)","9 (63)","11 (302)","6 (600)"]
["Lasse Edslev",null,null,"Denmark",null,null,null,null,14,3107,null,null,null,null,null,"LS 4 a","LE",null,null,"11 (435)","13 (451)","24 (533)","7 (210)","2 (615)","1 (130)","22 (239)","20 (494)"]
["Miroslaw Izydorczak",null,null,"Poland",null,null,null,null,15,3068,null,null,null,null,null,"ASW 20 F","SB",null,null,"21 (428)","11 (465)","20 (547)","13 (190)","5 (584)","15 (42)","9 (315)","18 (497)"]
["Zbigniew Górecki",null,null,"Poland",null,null,null,null,16,3008,null,null,null,null,null,"Mini Nimbus B","CHI",null,null,"17 (431)","25 (314)","14 (632)","11 (197)","18 (501)","15 (42)","8 (323)","11 (568)"]
["Ionut Tudor",null,null,"Romania",null,null,null,null,17,2894,null,null,null,null,null,"LS 4 WL","8M",null,null,"11 (435)","21 (390)","17 (565)","17 (178)","16 (531)","21 (34)","26 (157)","5 (604)"]
["Robert Alin Simion",null,null,"Romania",null,null,null,null,18,2837,null,null,null,null,null,"LS 4 a","Y2",null,null,"11 (435)","22 (388)","28 (263)","5 (214)","19 (495)","8 (69)","3 (420)","12 (553)"]
["Sakari Pyorre",null,null,"Finland",null,null,null,null,19,2836,null,null,null,null,null,"LS 7","PF",null,null,"26 (321)","16 (436)","16 (600)","19 (158)","21 (465)","22 (33)","12 (299)","16 (524)"]
["Zoltan Meszaros",null,null,"Hungary",null,null,null,null,20,2778,null,null,null,null,null,"ASW 20","BA",null,null,"18 (430)","4 (553)","21 (545)","26 (138)","17 (517)","19 (36)","10 (312)","25 (247)"]
["Szabolcs Veigli",null,null,"Hungary",null,null,null,null,21,2776,null,null,null,null,null,"ASW 20 L","AC",null,null,"15 (433)","3 (555)","27 (472)","5 (214)","15 (532)","13 (46)","19 (269)","24 (255)"]
["Claudia Hill",null,null,"United Kingdom",null,null,null,null,22,2752,null,null,null,null,null,"LS 1-f neo","CH",null,null,"6 (449)","26 (307)","7 (675)","8 (206)","25 (429)","27 (28)","25 (162)","19 (496)"]
["Martin Sabla",null,null,"Slovakia",null,null,null,null,23,2669,null,null,null,null,null,"Discus b","70I",null,null,"14 (434)","20 (391)","22 (535)","21 (153)","23 (448)","22 (33)","23 (203)","22 (472)"]
["Oleg Bondarchuk",null,null,"Ukraine",null,null,null,null,24,2477,null,null,null,null,null,"Pegase 101A","PL",null,null,"25 (322)","27 (162)","26 (491)","25 (139)","7 (560)","18 (38)","15 (292)","21 (473)"]
["Maxence Stawski",null,null,"France",null,null,null,null,25,2457,null,null,null,null,null,"LS 4","V78",null,null,"27 (138)","14 (447)","5 (746)","15 (188)","3 (586)","26 (29)","27 (155)","26 (168)"]
["Robin Selfslagh",null,null,"Belgium",null,null,null,null,26,2372,null,null,null,null,null,"LS 1-f","1T",null,null,"8 (444)","28 (0)","6 (743)","27 (102)","26 (404)","7 (117)","16 (282)","23 (280)"]
["Frane Franic",null,null,"Croatia",null,null,null,null,27,1846,null,null,null,null,null,"ASW 24","HR3",null,null,"28 (63)","9 (483)","25 (508)","14 (189)","27 (308)","17 (40)","21 (255)","27 (0)"]
["Luca Urbani",null,null,"Italy",null,null,null,null,28,1404,null,null,null,null,null,"LS 3 a","CE",null,null,"21 (428)","15 (441)","22 (535)","28 (0)","28 (0)","28 (0)","28 (0)","27 (0)"]
[]
["21th European gliding championship 2022 Pociunai - Std"]
["Pociūnai, Lithuania,   3 July 2022 – 15 July 2022 "]
["https://www.soaringspot.com/en_gb/21st-fai-european-gliding-championships-pociunai-2022/results/standard# "]
[]
["Jan-Ola Nordh",null,null,"Sweden",null,null,null,null,1,3611,null,null,null,null,null,"Discus 2 T","TA",null,null,"2 (482)","7 (524)","8 (473)","1 (358)","2 (613)","5 (529)","12 (632)"]
["Lukasz Blaszczyk",null,null,"Poland",null,null,null,null,2,3578,null,null,null,null,null,"Discus 2a","I",null,null,"8 (475)","9 (515)","4 (479)","16 (200)","1 (632)","1 (562)","1 (715)"]
["Dennis Huybreckx",null,null,"Belgium",null,null,null,null,3,3575,null,null,null,null,null,"LS 8","CM",null,null,"5 (476)","3 (553)","13 (468)","4 (333)","5 (595)","10 (502)","9 (648)"]
["Sami Rissanen",null,null,"Finland",null,null,null,null,4,3491,null,null,null,null,null,"LS 8","ES",null,null,"8 (475)","9 (515)","14 (458)","5 (330)","16 (544)","9 (518)","8 (651)"]
["Jeroen Jennen",null,null,"Belgium",null,null,null,null,5,3483,null,null,null,null,null,"LS 8","LT",null,null,"5 (476)","4 (547)","10 (470)","7 (324)","8 (589)","11 (489)","16 (588)"]
["Gvidas Sabeckis",null,null,"Lithuania",null,null,null,null,5,3483,null,null,null,null,null,"LS 8","H8",null,null,"8 (475)","5 (537)","7 (475)","6 (329)","16 (544)","15 (462)","6 (661)"]
["Miloslav Cink",null,null,"Czech Republic",null,null,null,null,7,3433,null,null,null,null,null,"LS 8 b","J3",null,null,"5 (476)","15 (431)","5 (477)","9 (318)","14 (553)","7 (524)","7 (654)"]
["Jan Pavlik",null,null,"Czech Republic",null,null,null,null,8,3420,null,null,null,null,null,"LS 8","JW",null,null,"13 (474)","16 (425)","5 (477)","8 (321)","15 (550)","3 (535)","10 (638)"]
["Enrique Levin",null,null,"Germany",null,null,null,null,9,3360,null,null,null,null,null,"Discus 2a","FL",null,null,"8 (475)","2 (582)","14 (458)","25 (148)","4 (602)","18 (429)","5 (666)"]
["Norbert-Alin Scarlat",null,null,"Romania",null,null,null,null,10,3305,null,null,null,null,null,"Discus 2a","Y1",null,null,"15 (473)","6 (534)","12 (469)","20 (165)","12 (566)","2 (545)","19 (553)"]
["Mario Kiessling",null,null,"Germany",null,null,null,null,11,3286,null,null,null,null,null,"Discus 2a","XN",null,null,"3 (477)","1 (599)","10 (470)","24 (149)","7 (591)","6 (527)","23 (473)"]
["Valentin Leleu-Lambour",null,null,"France",null,null,null,null,12,3281,null,null,null,null,null,"LS 8","ZT",null,null,"8 (475)","18 (411)","1 (496)","18 (178)","10 (575)","13 (478)","4 (668)"]
["Pavel Louzecky",null,null,"Czech Republic",null,null,null,null,13,3271,null,null,null,null,null,"LS 8 b","FX",null,null,"1 (483)","11 (490)","26 (338)","11 (312)","5 (595)","19 (415)","10 (638)"]
["Davide Giovanelli",null,null,"Switzerland",null,null,null,null,14,3220,null,null,null,null,null,"Discus 2b","TS",null,null,"25 (455)","12 (488)","18 (451)","13 (279)","8 (589)","25 (271)","3 (687)"]
["Wiktor Lacinski",null,null,"Poland",null,null,null,null,15,3161,null,null,null,null,null,"Discus 2a","Y",null,null,"19 (463)","21 (381)","23 (427)","10 (313)","18 (526)","17 (431)","13 (620)"]
["Victor-Alex Pop",null,null,"Romania",null,null,null,null,16,3147,null,null,null,null,null,"Discus 2a","YB",null,null,"15 (473)","7 (524)","3 (480)","25 (148)","11 (571)","16 (460)","22 (491)"]
["Stephan Grunder",null,null,"Netherlands",null,null,null,null,17,3079,null,null,null,null,null,"LS 8 a","XK",null,null,"21 (461)","22 (366)","9 (471)","14 (237)","22 (475)","22 (378)","2 (691)"]
["Paul Fritche",null,null,"United Kingdom",null,null,null,null,18,3004,null,null,null,null,null,"LS 8","L4",null,null,"13 (474)","13 (484)","18 (451)","17 (182)","13 (556)","26 (265)","15 (592)"]
["Tamas Vamosi",null,null,"Hungary",null,null,null,null,19,2845,null,null,null,null,null,"Discus 2a","HAL",null,null,"26 (386)","25 (301)","28 (259)","3 (334)","20 (485)","8 (523)","17 (557)"]
["Jan Brandt Jorgensen",null,null,"Denmark",null,null,null,null,20,2825,null,null,null,null,null,"LS 8 neo","JB",null,null,"22 (459)","26 (241)","17 (452)","12 (306)","21 (477)","24 (340)","20 (550)"]
["Ringaudas Kikalas",null,null,"Lithuania",null,null,null,null,21,2719,null,null,null,null,null,"LS 8","SI",null,null,"3 (477)","14 (460)","27 (301)","21 (161)","28 (373)","23 (354)","14 (593)"]
["Péter Bánki",null,null,"Hungary",null,null,null,null,22,2683,null,null,null,null,null,"Discus 2a","HUN",null,null,"27 (385)","28 (47)","18 (451)","2 (339)","26 (414)","4 (530)","21 (517)"]
["Remy Hirt",null,null,"Switzerland",null,null,null,null,23,2579,null,null,null,null,null,"LS 8","AB",null,null,"19 (463)","27 (235)","2 (489)","23 (151)","23 (471)","27 (214)","18 (556)"]
["Peter Marius Jensen",null,null,"Denmark",null,null,null,null,24,2578,null,null,null,null,null,"Discus 2c","PU",null,null,"23 (457)","24 (304)","22 (441)","28 (103)","27 (408)","14 (469)","24 (396)"]
["Aude Untersee",null,null,"France",null,null,null,null,25,2498,null,null,null,null,null,"Discus 2a","JPA",null,null,"23 (457)","20 (396)","18 (451)","15 (215)","19 (494)","12 (485)","28 (0)"]
["Nigel Mallender",null,null,"United Kingdom",null,null,null,null,26,2430,null,null,null,null,null,"LS 8",946,null,null,"18 (466)","16 (425)","25 (343)","21 (161)","25 (435)","21 (395)","25 (205)"]
["Antti Koskiniemi",null,null,"Finland",null,null,null,null,27,2159,null,null,null,null,null,"Discus 2b","JS",null,null,"17 (471)","19 (397)","14 (458)","27 (126)","3 (607)","28 (90)","27 (10)"]
["Anna Piotrowska",null,null,"Croatia",null,null,null,null,28,1809,null,null,null,null,null,"LS 8","GM",null,null,"28 (0)","23 (336)","24 (403)","19 (172)","23 (471)","20 (414)","26 (13)"]
[]
["21th European gliding championship 2022 Pociunai - 15m"]
["Pociūnai, Lithuania,   3 July 2022 – 15 July 2022 "]
["https://www.soaringspot.com/en_gb/21st-fai-european-gliding-championships-pociunai-2022/results/15-meter# "]
[]
["Sebastian Kawa",null,null,"Poland",null,null,null,null,1,4452,null,null,null,null,null,"Diana 2 FES V","ZJ",null,null,"3 (524)","2 (626)","2 (836)","2 (96)","3 (788)","1 (323)","2 (407)","2 (852)"]
["Lukasz Grabowski",null,null,"Poland",null,null,null,null,2,4328,null,null,null,null,null,"Diana 2","RP",null,null,"3 (524)","6 (549)","1 (840)","11 (84)","4 (787)","2 (322)","5 (389)","3 (833)"]
["Oliver Springer",null,null,"Germany",null,null,null,null,3,4027,null,null,null,null,null,"AS 33 Es","OS",null,null,"8 (520)","4 (554)","10 (661)","11 (84)","14 (651)","3 (321)","1 (426)","7 (810)"]
["Karel Novak",null,null,"Czech Republic",null,null,null,null,4,4001,null,null,null,null,null,"JS3 15m","ZE",null,null,"19 (396)","9 (538)","20 (593)","1 (138)","2 (811)","6 (295)","4 (402)","5 (828)"]
["Harri Hirvola",null,null,"Finland",null,null,null,null,5,3972,null,null,null,null,null,"Ventus 2a","EH",null,null,"5 (523)","8 (546)","5 (798)","15 (81)","17 (600)","4 (312)","13 (326)","12 (786)"]
["Yves Gerster",null,null,"Switzerland",null,null,null,null,6,3851,null,null,null,null,null,"JS3",73,null,null,"2 (535)","1 (628)","6 (685)","17 (76)","13 (685)","9 (270)","18 (275)","19 (697)"]
["Julien Duboc",null,null,"France",null,null,null,null,7,3830,null,null,null,null,null,"Ventus 2ax","EQ",null,null,"11 (517)","12 (468)","3 (811)","8 (88)","9 (726)","18 (41)","7 (377)","9 (802)"]
["Werner Amann",null,null,"Austria",null,null,null,null,8,3825,null,null,null,null,null,"AS 33","WG",null,null,"16 (514)","17 (380)","18 (615)","10 (86)","6 (756)","7 (281)","15 (315)","1 (878)"]
["Kévin Faur",null,null,"France",null,null,null,null,9,3808,null,null,null,null,null,"Ventus 2a","IR",null,null,"14 (516)","13 (467)","4 (810)","5 (92)","11 (714)","18 (41)","10 (366)","9 (802)"]
["Tim Scott",null,null,"United Kingdom",null,null,null,null,10,3743,null,null,null,null,null,"ASG 29","Z3",null,null,"17 (513)","20 (268)","7 (678)","7 (90)","8 (734)","8 (277)","8 (374)","8 (809)"]
["Andreas Lutz",null,null,"Austria",null,null,null,null,11,3712,null,null,null,null,null,"Ventus 3 T","A",null,null,"17 (513)","10 (531)","8 (667)","9 (87)","10 (724)","16 (54)","15 (315)","6 (821)"]
["Marius Pluscauskas",null,null,"Lithuania",null,null,null,null,12,3542,null,null,null,null,null,"Ventus 2ax","XY",null,null,"6 (522)","7 (547)","21 (533)","4 (93)","5 (774)","13 (103)","20 (248)","17 (722)"]
["David Mach",null,null,"Czech Republic",null,null,null,null,13,3533,null,null,null,null,null,"JS3 15m","XM",null,null,"25 (67)","3 (566)","19 (594)","22 (44)","1 (823)","5 (299)","9 (370)","13 (770)"]
["Henrik A. Breidahl",null,null,"Denmark",null,null,null,null,14,3518,null,null,null,null,null,"JS MD 3",14,null,null,"11 (517)","18 (364)","13 (652)","25 (21)","20 (581)","11 (246)","11 (350)","11 (787)"]
["Nick Tillett",null,null,"United Kingdom",null,null,null,null,15,3391,null,null,null,null,null,"ASG 29 Es","NT",null,null,"9 (519)","14 (455)","16 (628)","6 (91)","19 (587)","10 (269)","19 (257)","21 (585)"]
["Gintaras Drevinskas",null,null,"Lithuania",null,null,null,null,16,3350,null,null,null,null,null,"ASG 29","M7",null,null,"1 (549)","11 (490)","15 (635)","11 (84)","12 (701)","25 (2)","22 (188)","18 (701)"]
["Thomas Wettemann",null,null,"Germany",null,null,null,null,17,3136,null,null,null,null,null,"JS MD 3","EA",null,null,"23 (76)","5 (553)","11 (659)","16 (80)","24 (499)","21 (31)","2 (407)","4 (831)"]
["Gabor Gangl",null,null,"Hungary",null,null,null,null,18,3061,null,null,null,null,null,"Ventus 2a","V8",null,null,"14 (516)","22 (234)","17 (617)","14 (82)","22 (559)","24 (5)","14 (322)","16 (726)"]
["Lars Groot",null,null,"Netherlands",null,null,null,null,19,2977,null,null,null,null,null,"ASG 29 E","GR",null,null,"7 (521)","21 (265)","9 (663)","3 (95)","16 (608)","22 (30)","25 (53)","14 (742)"]
["Mark Käppeli",null,null,"Switzerland",null,null,null,null,20,2738,null,null,null,null,null,"JS3","MK",null,null,"21 (187)","16 (420)","11 (659)","18 (75)","21 (577)","17 (51)","17 (282)","22 (487)"]
["Felipe Cvitanich",null,null,"Denmark",null,null,null,null,21,2629,null,null,null,null,null,"Ventus 2 ct","RJ",null,null,"10 (518)","25 (108)","22 (417)","18 (75)","25 (448)","14 (86)","12 (346)","20 (631)"]
["Nuutti Kankare",null,null,"Finland",null,null,null,null,22,2586,null,null,null,null,null,"Ventus 2bx","KX",null,null,"20 (394)","15 (423)","23 (349)","23 (41)","18 (588)","15 (64)","6 (388)","24 (339)"]
["Thomas De Bruyn",null,null,"Belgium",null,null,null,null,23,2293,null,null,null,null,null,"Ventus 2ax","FS",null,null,"24 (72)","24 (134)","24 (322)","24 (36)","7 (749)","20 (40)","21 (210)","15 (730)"]
["Bruno Herencic",null,null,"Croatia",null,null,null,null,24,2123,null,null,null,null,null,"Diana 2 FES","BH",null,null,"11 (517)","26 (41)","25 (319)","21 (53)","15 (635)","22 (30)","24 (87)","23 (441)"]
["Laszlo Bano",null,null,"Hungary",null,null,null,null,25,1318,null,null,null,null,null,"JS MD 3","AX",null,null,"22 (99)","23 (186)","26 (39)","18 (75)","23 (502)","12 (106)","23 (129)","25 (182)"]
["Lorenzo Fornari",null,null,"Italy",null,null,null,null,26,104,null,null,null,null,null,"Ventus 2ax","LD",null,null,"26 (53)","19 (338)","14 (649)","26 (0)","26 (0)","26 (0)","26 (0)","26 (0)"]
[]
["12th Junior World gliding championship 2022 - Klub"]
["Tábor, Czech Republic,   30 July 2022 – 12 August 2022 "]
["https://www.soaringspot.com/en_gb/junior-world-gliding-championships-2022-tabor-2022/results/class-club# "]
[]
["Finn Sleigh",null,null,null,null,null,null,null,1,8132,null,null,null,null,null,"ASW 20",5,null,null,"10 (616)","5 (562)","16 (724)","3 (987)","1 (652)","9 (833)","1 (906)","1 (1,000)","11 (903)","6 (949)"]
["Toby Freeland",null,null,null,null,null,null,null,2,7874,null,null,null,null,null,"ASW 20 l",212,null,null,"5 (665)","6 (560)","20 (718)","13 (923)","2 (646)","21 (759)","2 (861)","3 (929)","21 (873)","8 (940)"]
["Nils Fecker",null,null,null,null,null,null,null,3,7852,null,null,null,null,null,"LS4 a","FT",null,null,"28 (485)","19 (452)","1 (856)","9 (943)","9 (605)","5 (875)","5 (841)","12 (852)","7 (943)","1 (1,000)"]
["Lars Van Breemen",null,null,null,null,null,null,null,4,7781,null,null,null,null,null,"LS4 b Neo","S4",null,null,"9 (632)","7 (533)","14 (745)","2 (998)","38 (475)","3 (880)","25 (770)","7 (869)","3 (967)","10 (912)"]
["Alexandre Fierain",null,null,null,null,null,null,null,5,7738,null,null,null,null,null,"ASW 20","WE",null,null,"8 (637)","1 (612)","5 (835)","25 (883)","7 (608)","38 (671)","6 (839)","24 (759)","12 (902)","2 (992)"]
["Toni Kittler",null,null,null,null,null,null,null,6,7641,null,null,null,null,null,"LS4 a","BV",null,null,"27 (489)","17 (459)","1 (856)","18 (904)","6 (611)","4 (876)","17 (786)","13 (846)","5 (951)","13 (863)"]
["Miles Kjær",null,null,null,null,null,null,null,7,7592,null,null,null,null,null,"ASW 20","CB",null,null,"4 (669)","22 (448)","17 (723)","6 (967)","19 (563)","15 (801)","8 (835)","2 (930)","4 (962)","31 (694)"]
["Kim Toppari",null,null,null,null,null,null,null,8,7558,null,null,null,null,null,"LS7 wl","FK",null,null,"17 (583)","18 (456)","3 (841)","5 (969)","25 (542)","35 (686)","41 (676)","4 (884)","6 (944)","3 (977)"]
["Jelmer Vis",null,null,null,null,null,null,null,9,7553,null,null,null,null,null,"LS4 a","VIS",null,null,"32 (474)","11 (494)","10 (771)","10 (936)","37 (487)","1 (913)","31 (750)","5 (882)","2 (998)","17 (848)"]
["Philip Jonker",null,null,null,null,null,null,null,10,7544,null,null,null,null,null,"LS3","SF",null,null,"24 (520)","4 (585)","22 (690)","12 (925)","8 (607)","13 (805)","24 (775)","19 (822)","17 (884)","9 (931)"]
["Eric Schneider",null,null,null,null,null,null,null,11,7530,null,null,null,null,null,"LS4 b","MH",null,null,"31 (479)","28 (421)","3 (841)","15 (919)","10 (600)","8 (868)","20 (781)","16 (830)","8 (937)","15 (854)"]
["Mark Travner",null,null,null,null,null,null,null,12,7519,null,null,null,null,null,"ASW 20","SH",null,null,"6 (659)","27 (423)","13 (746)","30 (860)","5 (615)","10 (823)","10 (823)","13 (846)","16 (888)","18 (836)"]
["Simon van den Eijkel",null,null,null,null,null,null,null,13,7503,null,null,null,null,null,"LS4","Aa",null,null,"25 (514)","9 (500)","9 (772)","7 (948)","28 (526)","12 (807)","36 (727)","11 (854)","1 (1,000)","14 (855)"]
["Jens Andersen",null,null,null,null,null,null,null,14,7398,null,null,null,null,null,"Mosquito","N8",null,null,"3 (690)","23 (440)","7 (794)","17 (912)","13 (581)","29 (740)","20 (781)","26 (733)","15 (891)","18 (836)"]
["Vit Morkovsky",null,null,null,null,null,null,null,15,7348,null,null,null,null,null,"ASW 20","CX",null,null,"21 (551)","12 (491)","25 (679)","20 (898)","33 (515)","11 (818)","29 (754)","15 (835)","12 (902)","11 (905)"]
["Zsombor Wéber",null,null,null,null,null,null,null,16,7310,null,null,null,null,null,"ASW 20 c",18,null,null,"1 (736)","16 (464)","21 (714)","33 (845)","26 (534)","32 (722)","4 (843)","34 (629)","20 (874)","6 (949)"]
["Théo Manfredi",null,null,null,null,null,null,null,17,7241,null,null,null,null,null,"LS7","VX",null,null,"15 (588)","2 (609)","37 (586)","23 (892)","16 (569)","17 (790)","16 (796)","21 (775)","28 (822)","22 (814)"]
["Tereza Koubkova",null,null,null,null,null,null,null,18,7217,null,null,null,null,null,"ASW 20","MP",null,null,"20 (560)","13 (490)","32 (621)","34 (844)","31 (516)","19 (776)","6 (839)","10 (857)","22 (860)","15 (854)"]
["Lasse Edslev",null,null,null,null,null,null,null,19,7201,null,null,null,null,null,"LS4","LE",null,null,"2 (704)","25 (433)","22 (690)","14 (920)","12 (585)","26 (749)","27 (759)","23 (771)","19 (876)","29 (714)"]
["Milan Surovcík Jr.",null,null,null,null,null,null,null,20,7148,null,null,null,null,null,"ASW 20","S",null,null,"14 (591)","34 (362)","8 (774)","4 (974)","30 (518)","2 (893)","11 (819)","39 (564)","18 (880)","25 (773)"]
["Barnabás Tóth",null,null,null,null,null,null,null,21,7138,null,null,null,null,null,"ASW 20","IF",null,null,"7 (638)","15 (465)","17 (723)","29 (866)","24 (544)","30 (737)","3 (854)","36 (609)","38 (747)","5 (955)"]
["Edgar Lagorio",null,null,null,null,null,null,null,22,7039,null,null,null,null,null,"Discus b","3G",null,null,"18 (576)","3 (589)","24 (680)","37 (822)","17 (566)","25 (751)","31 (750)","32 (666)","29 (810)","21 (829)"]
["Maciej Kowalski",null,null,null,null,null,null,null,23,6978,null,null,null,null,null,"Jantar std. 3","SO",null,null,"11 (614)","14 (472)","27 (655)","11 (930)","40 (455)","37 (678)","9 (828)","6 (870)","26 (847)","33 (629)"]
["Samuel Posluch",null,null,null,null,null,null,null,24,6975,null,null,null,null,null,"ASW 20 cj","VG",null,null,"30 (482)","40 (342)","11 (764)","8 (945)","34 (511)","6 (872)","13 (808)","42 (522)","9 (932)","24 (797)"]
["Robert Alin Simion",null,null,null,null,null,null,null,25,6781,null,null,null,null,null,"LS4 a","Y2",null,null,"35 (410)","10 (495)","27 (655)","1 (1,000)","18 (564)","21 (759)","23 (776)","16 (830)","39 (742)","37 (550)"]
["David McMaster",null,null,null,null,null,null,null,26,6645,null,null,null,null,null,"ASW 20",11,null,null,"12 (610)","39 (343)","30 (635)","36 (823)","11 (594)","13 (805)","33 (749)","38 (572)","23 (857)","32 (657)"]
["Simon Siska",null,null,null,null,null,null,null,27,6605,null,null,null,null,null,"ASW 24 wl","CK",null,null,"23 (531)","36 (357)","12 (748)","30 (860)","36 (489)","7 (869)","15 (797)","41 (545)","10 (907)","39 (502)"]
["Pascal Zollikofer",null,null,null,null,null,null,null,28,6593,null,null,null,null,null,"LS4","FC",null,null,"29 (484)","26 (431)","19 (719)","20 (898)","14 (580)","33 (706)","40 (683)","35 (624)","37 (762)","30 (706)"]
["Ionut Tudor",null,null,null,null,null,null,null,29,6568,null,null,null,null,null,"LS4 wl","8M",null,null,"40 (305)","8 (507)","6 (815)","28 (868)","44 (219)","24 (752)","26 (767)","18 (824)","36 (767)","27 (744)"]
["Ivan Tvrdik",null,null,null,null,null,null,null,30,6407,null,null,null,null,null,"ASW 20","NW",null,null,"22 (539)","23 (440)","33 (620)","45 (595)","39 (467)","36 (679)","37 (705)","31 (667)","30 (796)","12 (899)"]
["Henry Richard Daly",null,null,null,null,null,null,null,31,6390,null,null,null,null,null,"ASW 20 l","DK",null,null,"37 (370)","44 (166)","35 (618)","19 (900)","3 (639)","31 (736)","13 (808)","25 (736)","42 (655)","26 (762)"]
["Alessandro Bassalti",null,null,null,null,null,null,null,32,6387,null,null,null,null,null,"Discus b","5I",null,null,"16 (586)","35 (360)","36 (598)","35 (829)","19 (563)","18 (787)","42 (674)","20 (815)","33 (773)","41 (402)"]
["Tomasz Kurowski",null,null,null,null,null,null,null,33,6371,null,null,null,null,null,"SZD-48-3M Brawo","BZ",null,null,"34 (433)","19 (452)","15 (735)","24 (888)","41 (445)","42 (613)","38 (704)","8 (865)","31 (792)","40 (444)"]
["Dylan Osolian",null,null,null,null,null,null,null,34,6273,null,null,null,null,null,"LS3","CP",null,null,"39 (307)","31 (379)","27 (655)","32 (859)","23 (556)","19 (776)","34 (740)","28 (721)","41 (692)","36 (588)"]
["Mikko Ylihärsilä",null,null,null,null,null,null,null,35,6265,null,null,null,null,null,"LS7","GE",null,null,"26 (502)","37 (353)","43 (517)","43 (654)","43 (228)","39 (665)","43 (672)","9 (860)","23 (857)","4 (957)"]
["Michael Tiffin",null,null,null,null,null,null,null,36,6243,null,null,null,null,null,"ASW 20","WX",null,null,"43 (280)","32 (377)","26 (669)","22 (895)","45 (194)","16 (797)","19 (782)","29 (720)","40 (693)","18 (836)"]
["Samuel Richardson",null,null,null,null,null,null,null,37,6189,null,null,null,null,null,"Mosquito","TI",null,null,"38 (347)","42 (279)","34 (619)","39 (798)","22 (557)","28 (744)","29 (754)","27 (725)","35 (768)","35 (598)"]
["Emilien Montulet",null,null,null,null,null,null,null,38,6188,null,null,null,null,null,"LS4","BZI",null,null,"33 (455)","30 (388)","41 (559)","16 (914)","4 (622)","23 (757)","12 (811)","22 (773)","27 (824)","44 (85)"]
["Sondre Bjørø",null,null,null,null,null,null,null,39,6132,null,null,null,null,null,"ASW 20","TE",null,null,"36 (403)","43 (236)","39 (585)","39 (798)","31 (516)","27 (747)","28 (757)","30 (708)","43 (646)","28 (736)"]
["Jakub Kaczorowski",null,null,null,null,null,null,null,40,6053,null,null,null,null,null,"SZD-48-3 Jantar Std. 3","BI",null,null,"19 (568)","21 (449)","37 (586)","26 (877)","42 (429)","45 (77)","22 (780)","33 (631)","25 (852)","23 (804)"]
["Šarunas Stanevicius",null,null,null,null,null,null,null,41,5518,null,null,null,null,null,"ASW 20","BA",null,null,"41 (303)","41 (294)","31 (622)","38 (808)","35 (509)","43 (526)","35 (728)","44 (478)","14 (892)","43 (358)"]
["Sara Salonen",null,null,null,null,null,null,null,42,5455,null,null,null,null,null,"Discus a","AT",null,null,"42 (299)","29 (408)","42 (528)","44 (626)","29 (524)","40 (659)","45 (528)","37 (584)","32 (788)","38 (511)"]
["Jokubas Motuza",null,null,null,null,null,null,null,43,5316,null,null,null,null,null,"ASW 20","VJ",null,null,"45 (92)","38 (348)","40 (568)","41 (794)","26 (534)","34 (697)","44 (612)","43 (511)","34 (770)","42 (390)"]
["Lilla Szamosujvári",null,null,null,null,null,null,null,44,5176,null,null,null,null,null,"Glasflügel 304","JM",null,null,"13 (597)","45 (70)","44 (515)","42 (723)","21 (562)","44 (498)","18 (784)","40 (554)","44 (259)","34 (614)"]
["David Roth",null,null,null,null,null,null,null,45,3738,null,null,null,null,null,"LS4","CR",null,null,"44 (275)","32 (377)","45 (284)","27 (873)","15 (578)","41 (657)","39 (694)","45 (0)","45 (0)","45 (0)"]
[]
["12th Junior World gliding championship 2022 - Std"]
["Tábor, Czech Republic,   30 July 2022 – 12 August 2022 "]
["https://www.soaringspot.com/en_gb/junior-world-gliding-championships-2022-tabor-2022/results/class-standard# "]
[]
["Simon Briel",null,null,null,null,null,null,null,1,8068,null,null,null,null,null,"Discus 2a","SB",null,null,"16 (622)","8 (507)","1 (998)","7 (958)","4 (538)","1 (774)","2 (861)","2 (969)","1 (1,000)","14 (841)"]
["Lukas Kriz",null,null,null,null,null,null,null,2,7660,null,null,null,null,null,"LS8","AU",null,null,"2 (899)","12 (453)","7 (878)","2 (983)","10 (511)","8 (599)","7 (818)","10 (871)","12 (903)","19 (745)"]
["Jaromir Macoun",null,null,null,null,null,null,null,3,7633,null,null,null,null,null,"LS8","EU",null,null,"1 (933)","27 (275)","3 (920)","3 (973)","13 (486)","7 (600)","11 (814)","11 (866)","11 (904)","11 (862)"]
["Ignas Bitinaitis",null,null,null,null,null,null,null,4,7586,null,null,null,null,null,"LS8","H8",null,null,"3 (834)","12 (453)","6 (880)","23 (861)","26 (445)","6 (605)","4 (839)","12 (846)","5 (934)","8 (889)"]
["Enguerrand Virol",null,null,null,null,null,null,null,5,7577,null,null,null,null,null,"LS8","V92",null,null,"12 (635)","9 (472)","9 (860)","5 (963)","1 (613)","2 (661)","6 (823)","9 (874)","6 (928)","18 (748)"]
["Florian Labatut",null,null,null,null,null,null,null,6,7539,null,null,null,null,null,"LS8","X15",null,null,"22 (602)","15 (449)","12 (848)","8 (951)","2 (607)","11 (586)","15 (801)","8 (878)","8 (927)","7 (890)"]
["Wiktor Lacinski",null,null,null,null,null,null,null,7,7514,null,null,null,null,null,"Discus 2a","I",null,null,"13 (623)","1 (642)","19 (803)","19 (875)","11 (510)","5 (642)","22 (713)","13 (842)","4 (937)","5 (927)"]
["Kévin Faur",null,null,null,null,null,null,null,8,7509,null,null,null,null,null,"Discus 2a",21,null,null,"20 (611)","10 (461)","8 (862)","4 (967)","3 (566)","10 (588)","14 (807)","16 (815)","6 (928)","6 (904)"]
["Maurits Hebels",null,null,null,null,null,null,null,9,7489,null,null,null,null,null,"LS8 Neo FES",71,null,null,"8 (741)","6 (511)","2 (992)","6 (962)","7 (522)","28 (144)","3 (852)","4 (947)","14 (818)","1 (1,000)"]
["Nico Jaegli",null,null,null,null,null,null,null,10,7280,null,null,null,null,null,"Discus 2b","2S",null,null,"4 (778)","22 (354)","14 (823)","17 (880)","18 (477)","19 (536)","17 (785)","7 (905)","19 (779)","3 (963)"]
["Nick Faber",null,null,null,null,null,null,null,11,7270,null,null,null,null,null,"Discus 2b","D2",null,null,"21 (609)","20 (411)","5 (896)","21 (871)","23 (456)","14 (551)","19 (766)","6 (926)","18 (792)","2 (992)"]
["Jacob Bøgelund Lassen",null,null,null,null,null,null,null,12,7180,null,null,null,null,null,"Discus 2a","MK",null,null,"19 (614)","7 (509)","25 (667)","15 (886)","16 (479)","15 (549)","25 (691)","1 (1,000)","13 (827)","4 (958)"]
["Jan Knischewski",null,null,null,null,null,null,null,13,7151,null,null,null,null,null,"LS8 Neo","OK",null,null,"6 (765)","21 (402)","23 (772)","8 (951)","4 (538)","21 (524)","1 (868)","3 (963)","2 (985)","21 (383)"]
["Johannes Dibbern",null,null,null,null,null,null,null,14,7129,null,null,null,null,null,"LS8 neo","S1",null,null,"18 (620)","23 (343)","22 (776)","12 (900)","9 (517)","17 (539)","4 (839)","17 (811)","3 (963)","16 (821)"]
["James Nugent",null,null,null,null,null,null,null,15,7102,null,null,null,null,null,"LS8","JW",null,null,"13 (623)","26 (302)","13 (836)","22 (868)","6 (532)","9 (591)","13 (809)","15 (824)","10 (918)","17 (799)"]
["Emil Dalboe-Pedersen",null,null,null,null,null,null,null,16,6904,null,null,null,null,null,"LS8","SE",null,null,"9 (738)","2 (566)","10 (855)","24 (849)","17 (478)","20 (527)","23 (703)","23 (637)","24 (680)","10 (871)"]
["Jonas Pitschen",null,null,null,null,null,null,null,17,6826,null,null,null,null,null,"Discus 2b","UB",null,null,"5 (768)","25 (319)","15 (819)","28 (736)","20 (476)","18 (537)","18 (767)","19 (738)","15 (813)","13 (853)"]
["Áron Érseki",null,null,null,null,null,null,null,18,6583,null,null,null,null,null,"Discus 2a","HAL",null,null,"23 (555)","3 (561)","11 (849)","1 (1,000)","8 (521)","16 (543)","29 (556)","25 (346)","19 (779)","9 (873)"]
["Mathias Valentin",null,null,null,null,null,null,null,19,6534,null,null,null,null,null,"LS8","KE",null,null,"16 (622)","16 (444)","27 (585)","16 (883)","15 (483)","27 (449)","20 (750)","21 (734)","21 (749)","15 (835)"]
["Henry Inigo-Jones",null,null,null,null,null,null,null,20,6336,null,null,null,null,null,"LS8",95,null,null,"25 (479)","4 (560)","20 (789)","10 (923)","24 (450)","12 (572)","10 (815)","14 (828)","9 (920)","24 (0)"]
["Karol Snapko",null,null,null,null,null,null,null,21,6049,null,null,null,null,null,"Discus 2a","Y",null,null,"10 (715)","18 (428)","16 (808)","18 (877)","21 (474)","4 (644)","21 (721)","26 (272)","23 (704)","20 (406)"]
["Henri Philippe",null,null,null,null,null,null,null,22,5756,null,null,null,null,null,"LS8","5F",null,null,"11 (653)","17 (442)","29 (414)","26 (754)","29 (267)","22 (495)","28 (669)","24 (410)","17 (798)","12 (854)"]
["Mark van den Ham",null,null,null,null,null,null,null,23,5731,null,null,null,null,null,"ASW 24",44,null,null,"7 (756)","14 (452)","4 (904)","27 (749)","28 (365)","29 (88)","12 (811)","5 (934)","25 (672)","24 (0)"]
["Claudio Etterli",null,null,null,null,null,null,null,24,5681,null,null,null,null,null,"Discus 2b","Z1",null,null,"29 (320)","24 (336)","16 (808)","29 (591)","22 (472)","24 (470)","16 (789)","20 (735)","16 (807)","22 (353)"]
["Ivan Bajana",null,null,null,null,null,null,null,25,5550,null,null,null,null,null,"Discus 2b","DI",null,null,"28 (338)","29 (53)","16 (808)","14 (894)","13 (486)","25 (458)","26 (677)","18 (763)","22 (723)","23 (350)"]
["Viktoria Divokova",null,null,null,null,null,null,null,26,5171,null,null,null,null,null,"LS8","SI",null,null,"27 (342)","28 (244)","24 (771)","20 (872)","18 (477)","26 (453)","26 (677)","22 (706)","26 (629)","24 (0)"]
["Thomas Pavis",null,null,null,null,null,null,null,27,4542,null,null,null,null,null,"Discus 2a",235,null,null,"26 (466)","5 (544)","21 (786)","11 (913)","25 (449)","13 (567)","8 (817)","27 (0)","27 (0)","24 (0)"]
["Jan Zapletal",null,null,null,null,null,null,null,28,4313,null,null,null,null,null,"LS8 18","JS",null,null,"13 (623)","11 (456)","26 (612)","12 (900)","27 (371)","3 (651)","24 (700)","27 (0)","27 (0)","24 (0)"]
["Ryan Driscoll",null,null,null,null,null,null,null,29,4020,null,null,null,null,null,"LS8","1X",null,null,"24 (480)","19 (417)","28 (554)","25 (767)","12 (498)","23 (488)","9 (816)","27 (0)","27 (0)","24 (0)"]
[]
["11th Womens World gliding championship 2022 - Klub"]
["Husbands Bosworth, United Kingdom,   14 August 2022 – 26 August 2022 "]
["https://www.soaringspot.com/en_gb/11th-fai-womens-world-gliding-championship-2022/results/club# "]
[]
["Petra Piskata",null,null,"Czech Republic",null,null,null,null,1,4282,null,null,null,null,null,"LS 4","6L",null,null,"4 (947)","10 (298)","1 (1,000)","8 (815)","5 (394)","4 (828)"]
["Claudia Hill",null,null,"Great Britain",null,null,null,null,2,4182,null,null,null,null,null,"LS 1 f neo","CH",null,null,"1 (1,000)","4 (319)","17 (708)","4 (947)","6 (382)","5 (826)"]
["Ines Engelhardt",null,null,"Germany",null,null,null,null,3,4181,null,null,null,null,null,"LS 1 f","EF",null,null,"9 (859)","7 (312)","6 (876)","10 (811)","1 (478)","2 (845)"]
["Elena Fergnani",null,null,"Italy",null,null,null,null,4,4104,null,null,null,null,null,"Discus",40,null,null,"7 (919)","17 (85)","5 (900)","1 (1,000)","10 (357)","3 (843)"]
["Aude Grangeray",null,null,"France",null,null,null,null,5,4061,null,null,null,null,null,"LS 7","AG",null,null,"2 (983)","11 (257)","3 (942)","3 (958)","8 (371)","9 (550)"]
["Louise Rodriguez",null,null,"France",null,null,null,null,6,3893,null,null,null,null,null,"LS 7","HG",null,null,"8 (869)","18 (62)","4 (912)","7 (867)","9 (365)","6 (818)"]
["Ulrike Teichmann",null,null,"Germany",null,null,null,null,7,3862,null,null,null,null,null,"LS 4",99,null,null,"10 (857)","5 (316)","11 (799)","6 (884)","2 (468)","11 (538)"]
["Alizée Petit",null,null,"France",null,null,null,null,8,3711,null,null,null,null,null,"LS 4","YG",null,null,"12 (820)","6 (315)","13 (794)","5 (892)","7 (380)","12 (510)"]
["Klara Teichmannova",null,null,"Czech Republic",null,null,null,null,9,3646,null,null,null,null,null,"LS 4","IX",null,null,"3 (962)","2 (336)","2 (994)","9 (813)","17 (0)","10 (541)"]
["Alison Mulder",null,null,"Great Britain",null,null,null,null,10,3466,null,null,null,null,null,"LS 4a","LS4",null,null,"6 (938)","15 (91)","8 (840)","15 (696)","4 (430)","14 (471)"]
["Edita Skalskiene",null,null,"Lithuania",null,null,null,null,11,3284,null,null,null,null,null,"ASW 20","FL",null,null,"5 (939)","1 (349)","15 (785)","17 (332)","12 (300)","8 (579)"]
["Paula Drazul",null,null,"Argentina",null,null,null,null,12,3232,null,null,null,null,null,"ASW19","J34",null,null,"13 (717)","8 (306)","14 (787)","2 (964)","17 (0)","15 (458)"]
["Lilian de Bruijn",null,null,"Netherlands",null,null,null,null,13,3167,null,null,null,null,null,"DG 300","YY",null,null,"11 (828)","9 (299)","16 (712)","16 (596)","16 (40)","7 (692)"]
["Valentina Toporova",null,null,"Ukraine",null,null,null,null,14,3018,null,null,null,null,null,"ASW 20","PM",null,null,"16 (84)","16 (90)","10 (805)","14 (743)","3 (449)","1 (847)"]
["Christina Solberg Hansen",null,null,"Denmark",null,null,null,null,15,2947,null,null,null,null,null,"LS 1 f","SH",null,null,"15 (650)","14 (92)","9 (829)","12 (785)","13 (276)","17 (315)"]
["Olena Yakymchuk",null,null,"Ukraine",null,null,null,null,16,2457,null,null,null,null,null,"ASW 20","LD",null,null,"17 (29)","12 (256)","11 (799)","13 (749)","14 (119)","13 (505)"]
["Julia Dresler Nørtoft",null,null,"Denmark",null,null,null,null,17,1979,null,null,null,null,null,"Std. Cirrus","YM",null,null,"14 (653)","13 (93)","18 (51)","11 (806)","15 (55)","16 (321)"]
["Carol Marshall",null,null,"Great Britain",null,null,null,null,18,1870,null,null,null,null,null,"LS 7",246,null,null,"18 (0)","3 (322)","7 (851)","18 (95)","11 (303)","18 (299)"]
[]
["11th Womens World gliding championship 2022 - Std"]
["Husbands Bosworth, United Kingdom,   14 August 2022 – 26 August 2022 "]
["https://www.soaringspot.com/en_gb/11th-fai-womens-world-gliding-championship-2022/results/standard# "]
[]
["Cornelia Schaich",null,null,"Germany",null,null,null,null,1,4692,null,null,null,null,null,"LS 8","3S",null,null,"1 (1000)","4 (377)","10 (918)","1 (270)","4 (809)","9 (233)","1 (404)","1 (681)"]
["Sabrina Vogt",null,null,"Germany",null,null,null,null,2,4509,null,null,null,null,null,"Discus 2a","HZ",null,null,"8 (882)","5 (373)","11 (916)","2 (267)","2 (837)","6 (236)","6 (345)","4 (653)"]
["Jana Veprekova",null,null,"Czech Republic",null,null,null,null,3,4356,null,null,null,null,null,"LS 8","W8",null,null,"10 (876)","9 (229)","7 (939)","8 (202)","1 (842)","11 (228)","3 (398)","7 (642)"]
["Barbora Moravcova",null,null,"Czech Republic",null,null,null,null,4,4355,null,null,null,null,null,"LS 8b","JB",null,null,"5 (935)","9 (229)","8 (938)","8 (202)","6 (774)","12 (227)","3 (398)","5 (652)"]
["Aude Untersee",null,null,"France",null,null,null,null,5,4351,null,null,null,null,null,"Discus 2a","JPA",null,null,"3 (961)","2 (391)","1 (1,000)","6 (208)","9 (610)","1 (257)","7 (272)","5 (652)"]
["Anaïs Gaubert",null,null,"France",null,null,null,null,6,4214,null,null,null,null,null,"Discus 2a","ET",null,null,"4 (944)","1 (392)","5 (951)","7 (203)","10 (561)","4 (241)","8 (266)","2 (656)"]
["Christine Grote",null,null,"Germany",null,null,null,null,7,4158,null,null,null,null,null,"Discus 2a","V7",null,null,"8 (882)","5 (373)","12 (910)","2 (267)","3 (836)","6 (236)","13 (0)","3 (654)"]
["Francesca Roberts",null,null,"Great Britain",null,null,null,null,8,4033,null,null,null,null,null,"LS 8","IT",null,null,"12 (812)","7 (343)","5 (951)","12 (198)","5 (775)","3 (250)","5 (377)","10 (327)"]
["Dana Novakova",null,null,"Czech Republic",null,null,null,null,9,4014,null,null,null,null,null,"LS 8","FX",null,null,"7 (901)","9 (229)","9 (923)","10 (201)","11 (490)","10 (229)","2 (399)","7 (642)"]
["Kinga Tchorz",null,null,"Poland",null,null,null,null,10,3675,null,null,null,null,null,"LS 8","LOT",null,null,"6 (922)","8 (230)","4 (952)","4 (263)","8 (649)","5 (240)","10 (40)","9 (379)"]
["Judyta Czyz",null,null,"Poland",null,null,null,null,11,3621,null,null,null,null,null,"LS 8","MP",null,null,"2 (963)","12 (186)","3 (954)","4 (263)","7 (655)","8 (235)","10 (40)","11 (325)"]
["Ayala Truelove",null,null,"Great Britain",null,null,null,null,12,3254,null,null,null,null,null,"LS 8","L7",null,null,"11 (823)","3 (380)","2 (976)","11 (200)","13 (238)","2 (252)","9 (255)","13 (130)"]
["Sally Walker",null,null,"Great Britain",null,null,null,null,13,2101,null,null,null,null,null,"LS 8","D7",null,null,"13 (675)","13 (152)","13 (212)","13 (187)","12 (399)","13 (196)","12 (21)","12 (259)"]
[]
["11th Womens World gliding championship 2022 - 18m"]
["Husbands Bosworth, United Kingdom,   14 August 2022 – 26 August 2022 "]
["https://www.soaringspot.com/en_gb/11th-fai-womens-world-gliding-championship-2022/results/18-meter"]
[]
[" Anne Ducarouge",null,null,"France",null,null,null,null,1,4411,null,null,null,null,null,"JS 3","AY",null,null,"4 (990)","2 (270)","2 (987)","2 (321)","5 (757)","6 (260)","4 (293)","1 (533)"]
[" Mélanie Gadoulet",null,null,"France",null,null,null,null,2,4400,null,null,null,null,null,"JS 3","KW",null,null,"3 (992)","1 (271)","1 (1,000)","3 (319)","6 (745)","4 (270)","5 (273)","2 (530)"]
[" Alena Netusilova",null,null,"Czech Republic",null,null,null,null,3,4369,null,null,null,null,null,"ASG 33 Es",12,null,null,"5 (985)","7 (265)","4 (963)","1 (335)","1 (888)","4 (270)","1 (336)","7 (327)"]
[" Stefanie Mühl",null,null,"Germany",null,null,null,null,4,4129,null,null,null,null,null,"Ventus 3T 18m","Y4",null,null,"2 (998)","6 (266)","6 (954)","6 (304)","4 (764)","8 (168)","7 (174)","4 (501)"]
[" Katrin Senne",null,null,"Germany",null,null,null,null,5,3993,null,null,null,null,null,"JS 3","BK",null,null,"1 (1,000)","5 (267)","4 (963)","4 (309)","2 (770)","9 (166)","9 (43)","5 (475)"]
[" Hana Treslova",null,null,"Czech Republic",null,null,null,null,6,3927,null,null,null,null,null,"JS-MD 3","XM",null,null,"7 (875)","10 (116)","7 (950)","7 (303)","3 (765)","2 (279)","2 (313)","8 (326)"]
[" Jana Treslova",null,null,"Czech Republic",null,null,null,null,7,3802,null,null,null,null,null,"JS 3","ZE",null,null,"8 (839)","9 (118)","8 (880)","5 (306)","7 (743)","2 (279)","2 (313)","9 (324)"]
[" Astrid Galaret",null,null,"France",null,null,null,null,8,3682,null,null,null,null,null,"JS 3","FM",null,null,"6 (897)","2 (270)","3 (983)","11 (126)","10 (454)","1 (282)","8 (144)","3 (526)"]
[" Sandra Malzacher",null,null,"Germany",null,null,null,null,9,3340,null,null,null,null,null,"ASG 29","LEO",null,null,"9 (824)","8 (253)","10 (835)","8 (293)","8 (564)","10 (110)","12 (0)","6 (461)"]
[" Jane Nash",null,null,"Great Britain",null,null,null,null,10,2605,null,null,null,null,null,"JS-MD 3",802,null,null,"11 (774)","2 (270)","12 (144)","10 (132)","9 (554)","7 (225)","6 (259)","10 (247)"]
[" Patrizia Roilo",null,null,"Italy",null,null,null,null,11,1823,null,null,null,null,null,"ASG 29 E","K",null,null,"10 (786)","11 (114)","11 (216)","12 (80)","11 (295)","11 (109)","11 (21)","12 (202)"]
[" Diana Schuit",null,null,"Luxembourg",null,null,null,null,12,1789,null,null,null,null,null,"JS 3","MM",null,null,"12 (291)","12 (64)","9 (866)","9 (282)","12 (0)","12 (0)","10 (40)","11 (246)"]
[]
["PMSR 2022 - Klub"]
["Martin, Slovakia,   12 June 2022 – 26 June 2022 "]
["https://www.soaringspot.com/en_gb/65majstrovstva-sr-v-bezmotorovom-lietani-2022-martin-2022/results/klubova-trieda# "]
[]
["Maros Divok",null,null,"AK Spišská Nová Ves",null,null,null,null,1,8577,null,null,null,null,null,"Discus b","D3",null,null,"6 (622)","4 (876)","3 (927)","3 (612)","3 (843)","5 (958)","3 (320)","7 (923)","2 (595)","1 (1,000)","1 (901)"]
["Josef Kozar",null,null,"AK Martin",null,null,null,null,2,8418,null,null,null,null,null,"LS 1 f","MF",null,null,"5 (636)","6 (820)","1 (1,000)","2 (619)","6 (808)","3 (993)","2 (321)","2 (989)","8 (537)","2 (986)","6 (709)"]
["Milan Surovcík Jr.",null,null,"Žilina",null,null,null,null,3,8233,null,null,null,null,null,"ASW 20","S",null,null,"4 (643)","2 (927)","7 (824)","7 (537)","2 (846)","6 (953)","7 (276)","3 (986)","4 (565)","3 (948)","5 (728)"]
["Samuel Posluch",null,null,"AK Martin",null,null,null,null,4,8054,null,null,null,null,null,"ASW 20","II",null,null,"2 (658)","3 (916)","5 (834)","8 (504)","4 (828)","8 (946)","9 (222)","9 (912)","5 (555)","4 (914)","4 (765)"]
["Marek Straka",null,null,"AK Dubnica",null,null,null,null,5,7636,null,null,null,null,null,"LS 3","AI",null,null,"10 (604)","7 (792)","8 (766)","6 (548)","5 (815)","2 (995)","1 (331)","1 (1,000)","12 (450)","6 (861)","14 (474)"]
["Tibor Noga",null,null,"SGC Martin",null,null,null,null,6,7601,null,null,null,null,null,"ASW 19B","A4",null,null,"9 (615)","15 (587)","2 (982)","5 (565)","1 (857)","4 (974)","8 (246)","11 (893)","10 (492)","5 (911)","13 (479)"]
["Miroslav Beliansky",null,null,"AK Bratislava",null,null,null,null,7,7482,null,null,null,null,null,"Pegase","OT",null,null,"8 (617)","12 (666)","4 (850)","11 (460)","12 (697)","1 (1,000)","11 (196)","5 (961)","1 (601)","8 (643)","3 (791)"]
["Edmund Schuller",null,null,"AK Lučenec",null,null,null,null,8,7072,null,null,null,null,null,"ASW 24 W","ZS",null,null,"1 (715)","1 (1,000)","14 (396)","1 (633)","9 (760)","9 (893)","5 (282)","3 (986)","14 (403)","14 (356)","8 (648)"]
["Simon Siska",null,null,"SGC Martin",null,null,null,null,9,6911,null,null,null,null,null,"ASW 24","CK",null,null,"11 (572)","10 (734)","9 (762)","14 (364)","7 (796)","13 (666)","10 (212)","6 (929)","6 (546)","9 (538)","2 (792)"]
["Martin Sabla",null,null,"AK Sp. Nova Ves",null,null,null,null,10,6479,null,null,null,null,null,"Discus B",70,null,null,"13 (519)","9 (758)","10 (684)","16 (149)","11 (722)","12 (770)","5 (282)","7 (923)","7 (544)","10 (496)","9 (632)"]
["Daniel Smolka",null,null,"AK Prievidza",null,null,null,null,11,6369,null,null,null,null,null,"ASW20","MP",null,null,"12 (533)","11 (698)","6 (831)","9 (497)","13 (681)","16 (90)","4 (318)","15 (774)","11 (459)","7 (826)","7 (662)"]
["Tibor Fratrik",null,null,"SGC Martin",null,null,null,null,12,5993,null,null,null,null,null,"ASW 20 CJ","VG",null,null,"3 (645)","5 (853)","16 (315)","4 (597)","15 (141)","7 (951)","13 (80)","13 (863)","3 (582)","15 (349)","12 (617)"]
["Jan Florian",null,null,"Zbraslavice",null,null,null,null,13,5847,null,null,null,null,null,"Std. Cirrus","C1",null,null,"15 (449)","13 (622)","12 (577)","12 (421)","14 (444)","10 (870)","12 (162)","14 (783)","13 (405)","11 (490)","11 (624)"]
["Juraj Sidor",null,null,"AK Holic",null,null,null,null,14,5831,null,null,null,null,null,"Std. Cirrus","NM",null,null,"14 (454)","14 (599)","11 (648)","13 (384)","10 (748)","14 (636)","15 (38)","12 (869)","15 (338)","12 (486)","10 (631)"]
["Jan Hlinka",null,null,"AK Martin",null,null,null,null,15,5692,null,null,null,null,null,"LS 4","MA",null,null,"7 (620)","8 (761)","13 (403)","10 (472)","8 (767)","11 (796)","14 (76)","10 (911)","9 (520)","13 (366)","15 (0)"]
["Igor Berko",null,null,"AK SNV",null,null,null,null,16,1422,null,null,null,null,null,"Std. Cirrus","SA",null,null,"16 (27)","16 (439)","15 (321)","15 (251)","16 (15)","15 (272)","16 (0)","16 (9)","16 (2)","16 (86)","15 (0)"]
[]
["PMSR 2022 - Kombi A"]
["Martin, Slovakia,   12 June 2022 – 26 June 2022 "]
["https://www.soaringspot.com/en_gb/65majstrovstva-sr-v-bezmotorovom-lietani-2022-martin-2022/results/kombinovana-a-trieda# "]
[]
["Barbora Moravcova",null,null,"Aeroklub Zbraslavice",null,null,null,null,1,8647,null,null,null,null,null,"LS8a 15m","EU",null,null,"6 (867)","2 (985)","1 (1,000)","1 (600)","5 (696)","1 (1,000)","3 (887)","4 (619)","2 (999)","1 (994)"]
["Dana Novakova",null,null,"Aeroklub Mladá Boleslav",null,null,null,null,2,8050,null,null,null,null,null,"LS8a-15m","AU",null,null,"4 (869)","7 (812)","3 (939)","4 (442)","3 (713)","3 (923)","5 (879)","3 (625)","1 (1,000)","5 (848)"]
["Petro & Snirc",null,null,"AK Nitra",null,null,null,null,3,7975,null,null,null,null,null,"DG100T","NIT",null,null,"1 (915)","3 (960)","4 (923)","3 (483)","1 (748)","4 (724)","7 (797)","6 (599)","3 (996)","6 (830)"]
["Dominik Jancik",null,null,"Nitra",null,null,null,null,4,7955,null,null,null,null,null,"LS 6a","GI",null,null,"2 (880)","6 (852)","2 (946)","5 (417)","2 (735)","2 (933)","1 (984)","2 (631)","4 (699)","2 (878)"]
["Eduard Niko",null,null,"Aeroclub Prievidza",null,null,null,null,5,7280,null,null,null,null,null,"DuoDiscus","DP",null,null,"3 (877)","1 (1,000)","5 (882)","6 (387)","6 (671)","5 (722)","2 (893)","7 (582)","6 (411)","4 (855)"]
["Ivan Bajana",null,null,"SGC Martin",null,null,null,null,6,6558,null,null,null,null,null,"Discus 2b","DI",null,null,"4 (869)","4 (937)","7 (325)","2 (590)","4 (703)","7 (453)","4 (884)","1 (671)","8 (263)","3 (863)"]
["Kollar & Kromka",null,null,"AK Poprad",null,null,null,null,7,6329,null,null,null,null,null,"Arcus M","TA3",null,null,"7 (710)","5 (929)","6 (739)","7 (308)","7 (655)","6 (709)","6 (819)","8 (476)","7 (324)","8 (660)"]
["Viktoria Divokova",null,null,"Spišska Nová Ves",null,null,null,null,8,2505,null,null,null,null,null,"LS8","SI",null,null,"8 (0)","8 (0)","8 (0)","8 (0)","8 (0)","8 (39)","8 (697)","5 (605)","5 (485)","7 (679)"]
[]
["PMSR 2022 - Kombi B"]
["Martin, Slovakia,   12 June 2022 – 26 June 2022 "]
["https://www.soaringspot.com/en_gb/65majstrovstva-sr-v-bezmotorovom-lietani-2022-martin-2022/results/kombinovana-b-trieda# "]
[]
["Barbora Moravcova",null,null,"Aeroklub Zbraslavice",null,null,null,null,1,7535,null,null,null,null,null,"Ls 8a-15m","EU",null,null,"6 (723)","5 (765)","1 (1,000)","1 (549)","8 (548)","3 (874)","10 (656)","5 (525)","4 (917)","1 (978)"]
["Viliam Kubovcik",null,null,"AK Poprad",null,null,null,null,2,7262,null,null,null,null,null,"Ventus 2cxt","VV",null,null,"12 (629)","10 (712)","8 (886)","6 (479)","15 (497)","4 (860)","2 (830)","13 (474)","1 (1,000)","5 (895)"]
["Martin Fürješ",null,null,"SGC Martin",null,null,null,null,3,7156,null,null,null,null,null,"JS 3/ 18",3,null,null,"13 (625)","6 (751)","7 (912)","3 (502)","14 (511)","11 (755)","6 (740)","10 (504)","2 (957)","4 (899)"]
["Dana Novakova",null,null,null,null,null,null,null,4,7009,null,null,null,null,null,"LS 8a-15m","AU",null,null,"4 (724)","16 (631)","3 (933)","9 (411)","6 (562)","8 (803)","13 (650)","4 (530)","3 (918)","12 (847)"]
["Dominik Jancik",null,null,"AK Nitra",null,null,null,null,5,6946,null,null,null,null,null,"LS6a","GI",null,null,"2 (733)","15 (662)","2 (940)","12 (389)","5 (580)","6 (812)","7 (733)","2 (534)","10 (689)","6 (874)"]
["Petro & Snirc",null,null,"AK Nitra",null,null,null,null,6,6916,null,null,null,null,null,"DG 1000T","NIT",null,null,"1 (761)","7 (746)","6 (914)","8 (447)","4 (591)","15 (618)","18 (584)","8 (509)","5 (915)","14 (831)"]
["Marek Pechanec",null,null,"AK Luhašovice",null,null,null,null,7,6850,null,null,null,null,null,"JS 3","Q1",null,null,"15 (585)","4 (773)","5 (918)","5 (482)","20 (357)","13 (643)","5 (789)","3 (531)","7 (903)","7 (869)"]
["Peter Pokorny",null,null,"AK Bratislava",null,null,null,null,8,6726,null,null,null,null,null,"AG 39E","9E",null,null,"11 (656)","20 (518)","13 (810)","21 (290)","2 (648)","7 (810)","4 (814)","18 (393)","9 (882)","3 (905)"]
["Tomas Bobok",null,null,"AK Prievidza",null,null,null,null,9,6708,null,null,null,null,null,"Discus 2ct","AL",null,null,"9 (667)","13 (690)","4 (919)","4 (491)","16 (479)","5 (813)","17 (593)","8 (509)","12 (632)","2 (915)"]
["Jan Kovalcik",null,null,"AK Bratislava",null,null,null,null,10,6645,null,null,null,null,null,"Discus 2C FES","ZI",null,null,"21 (386)","11 (709)","9 (876)","7 (473)","17 (470)","1 (915)","12 (652)","20 (386)","6 (910)","8 (868)"]
["Petr Krejcirik",null,null,"Hranice",null,null,null,null,11,6550,null,null,null,null,null,"JS MD-3","VB",null,null,"10 (660)","1 (845)","12 (843)","19 (293)","1 (650)","9 (791)","1 (836)","14 (469)","19 (412)","16 (751)"]
["Eduard Niko",null,null,"Aeroclub Prievidza",null,null,null,null,12,6298,null,null,null,null,null,"Duo Discus","DP",null,null,"3 (731)","3 (776)","11 (868)","13 (363)","11 (527)","16 (617)","9 (661)","12 (497)","20 (405)","11 (853)"]
["Ivan Novak",null,null,"Mladá Boleslav",null,null,null,null,13,6189,null,null,null,null,null,"ASG-29 18m","QZ",null,null,"8 (675)","2 (783)","15 (752)","19 (293)","3 (613)","10 (783)","8 (703)","7 (510)","22 (314)","15 (763)"]
["Martin Jurovic",null,null,"AK Bratislava",null,null,null,null,14,5970,null,null,null,null,null,"Ventus cT 17.6m","JQ",null,null,"20 (483)","22 (149)","14 (791)","10 (410)","12 (526)","2 (900)","3 (820)","15 (428)","13 (625)","13 (838)"]
["Ivan Bajana",null,null,"SGC Martin",null,null,null,null,15,5556,null,null,null,null,null,"Discus 2","DI",null,null,"4 (724)","8 (727)","22 (276)","2 (540)","7 (553)","19 (397)","11 (654)","1 (565)","23 (259)","9 (861)"]
["Jan Divok",null,null,"AK Spišská Nová Ves",null,null,null,null,16,5228,null,null,null,null,null,"Discus 2cT","DJ",null,null,"17 (575)","12 (699)","10 (872)","14 (355)","18 (434)","14 (623)","16 (597)","19 (388)","14 (581)","23 (104)"]
["Milos Srank",null,null,"AK Nové Zámky",null,null,null,null,17,5224,null,null,null,null,null,"ASG 29E","LK",null,null,"16 (582)","17 (603)","17 (735)","18 (300)","9 (536)","22 (361)","23 (462)","11 (500)","8 (889)","22 (256)"]
["Gabriela Belakova",null,null,"AK Prievidza",null,null,null,null,18,5168,null,null,null,null,null,"Ventus 3M","CAT",null,null,"22 (330)","18 (566)","18 (723)","11 (400)","10 (528)","17 (496)","19 (531)","16 (425)","16 (418)","16 (751)"]
["Milan Lojdl",null,null,"AK Martin",null,null,null,null,19,5116,null,null,null,null,null,"Ventus 2cxt","MJ1",null,null,"19 (539)","21 (500)","16 (737)","15 (331)","21 (306)","12 (743)","22 (503)","21 (337)","17 (416)","18 (704)"]
["Kollar & Kromka",null,null,"AK Poprad",null,null,null,null,20,5075,null,null,null,null,null,"Arcus M","TA3",null,null,"14 (597)","9 (721)","20 (709)","22 (144)","13 (514)","21 (376)","15 (602)","17 (415)","21 (319)","20 (678)"]
["Peter Abonyi",null,null,"AK Ružomberok",null,null,null,null,21,4874,null,null,null,null,null,"Ventus C","PA",null,null,"18 (554)","19 (531)","21 (548)","17 (313)","22 (237)","18 (444)","20 (509)","22 (221)","11 (657)","10 (860)"]
["Lubomir Doupal",null,null,"LKKM",null,null,null,null,22,4531,null,null,null,null,null,"Ventus 2cxM","LD",null,null,"23 (276)","14 (668)","19 (713)","16 (314)","19 (374)","20 (390)","14 (641)","23 (201)","18 (415)","21 (539)"]
["Viktoria Divokova",null,null,"Spišska Nová Ves",null,null,null,null,23,2226,null,null,null,null,null,"LS 8 neo","SI",null,null,"24 (0)","23 (0)","23 (0)","23 (0)","23 (0)","23 (34)","21 (505)","6 (514)","15 (478)","19 (695)"]
["Lukas Benedikt",null,null,"AK Trnava",null,null,null,null,24,710,null,null,null,null,null,"Ventus 3f","LB",null,null,"7 (710)","23 (0)","23 (0)","23 (0)","23 (0)","24 (0)","24 (0)","24 (0)","24 (0)","24 (0)"]
[]
["Oldtimer Pribina Star 2022 - Klub"]
["Nitra, Slovakia,   6 August 2022 – 13 August 2022 "]
["https://www.soaringspot.com/en_gb/oldtimer-pribina-star-2022-nitra-2022/results/club# "]
[]
["Viktor Romančík",null,null,"AK Bratislava",null,null,null,null,1,1944,null,null,null,null,null,"H-201b Std. Libelle","RR",null,null,"3 (593)","1 (600)","6 (249)","7 (502)"]
["Sádovský & Čmár",null,null,"AK Nitra",null,null,null,null,2,1933,null,null,null,null,null,"L-13 Blaník",13,null,null,"5 (541)","3 (469)","1 (323)","1 (600)"]
["Marián Szabó",null,null,"Air Sympatia Trenčín",null,null,null,null,3,1789,null,null,null,null,null,"VT-116 Orlík II",84,null,null,"7 (512)","2 (496)","4 (251)","5 (530)"]
["Vladimir Abraham",null,null,"AK Raná",null,null,null,null,4,1757,null,null,null,null,null,"KA-6CR","Y7",null,null,"1 (639)","4 (458)","11 (96)","2 (564)"]
["Peter Ille",null,null,"AK Žilina",null,null,null,null,5,1647,null,null,null,null,null,"VSO-10","D5",null,null,"4 (568)","9 (370)","10 (145)","2 (564)"]
["Norbert Károlyi",null,null,"AK Bratislava",null,null,null,null,6,1573,null,null,null,null,null,"SZD-36 Cobra 15","NK",null,null,"8 (474)","8 (384)","4 (251)","8 (464)"]
["Ille & Homola",null,null,"AK Senica",null,null,null,null,7,1537,null,null,null,null,null,"G-103 Twin Astir",13,null,null,"9 (461)","11 (267)","2 (297)","6 (512)"]
["Radovan Uhelský",null,null,"AK Nové Zámky",null,null,null,null,8,1485,null,null,null,null,null,"H-201b Std. Libelle","SB",null,null,"6 (514)","5 (418)","3 (265)","12 (288)"]
["Holák & Lajda",null,null,"AK Nitra",null,null,null,null,9,1455,null,null,null,null,null,"L-23 Super Blaník",23,null,null,"2 (609)","12 (144)","9 (166)","4 (536)"]
["Ivana Jurovicová",null,null,"AK Bratislava",null,null,null,null,10,1333,null,null,null,null,null,"H-201 Std. Libelle","J2",null,null,"10 (377)","6 (415)","7 (215)","9 (326)"]
["Lucia Uhelská",null,null,"AK Nové Zámky",null,null,null,null,11,950,null,null,null,null,null,"VT-116 Orlík II","LU",null,null,"12 (19)","7 (404)","7 (215)","10 (312)"]
["Jaroslav Kareš",null,null,"AK Olomouc",null,null,null,null,12,628,null,null,null,null,null,"SF 27A",26,null,null,"11 (334)","13 (0)","13 (0)","11 (294)"]
["Peter Pätoprstý",null,null,null,null,null,null,null,13,434,null,null,null,null,null,"ASW-15B","RM",null,null,"14 (0)","10 (341)","12 (80)","13 (13)"]
["František Ehn",null,null,"AK Nitra",null,null,null,null,"HC",129,null,null,null,null,null,"Pegase",101,null,null,"HC (18)","HC (0)","HC (0)","HC (111)"]
["Igor Ott",null,null,"AK Nitra",null,null,null,null,"HC",0,null,null,null,null,null,"LG-425 Šohaj","N",null,null,"HC (0)","HC (0)","HC (0)","HC (0)"]
["Jozef Ott",null,null,"AK Nitra",null,null,null,null,"HC",0,null,null,null,null,null,"Z-23 Honza",null,null,null,"HC (0)","HC (0)","HC (0)","HC (0)"]
[]
["Top Gun Gliding Cup 2022 - Kombi"]
["Prievidza, Slovakia,   6 August 2022 – 13 August 2022 "]
["https://www.soaringspot.com/en_gb/top-gun-gliding-cup-2022-prievidza-2022/results/mixed# "]
[]
["Kollar & Kromka",null,null,"Poprad",null,null,null,null,1,3549,null,null,null,null,null,"Arcus M","TA3",null,null,"6 (710)","3 (757)","2 (933)","1 (805)","4 (344)"]
["Drahos Sitar",null,null,"Aeroklub Prievidza",null,null,null,null,2,3282,null,null,null,null,null,"Duo Discus - 700 kg","DP",null,null,"3 (770)","5 (694)","4 (910)","3 (557)","3 (351)"]
["Jakubcak & Sulirova",null,null,null,null,null,null,null,3,3054,null,null,null,null,null,"Arcus M","CAR",null,null,"1 (841)","6 (245)","3 (925)","2 (623)","1 (420)"]
["Pavel Trojan",null,null,"Chrudim",null,null,null,null,4,2841,null,null,null,null,null,"DG-808 C Competition 18m WL","W",null,null,"4 (732)","2 (763)","5 (790)","4 (556)","7 (0)"]
["Lubomir Doupal",null,null,"LKKM",null,null,null,null,5,2578,null,null,null,null,null,"Ventus 2cxm 18m-565 kg","LD",null,null,"7 (680)","4 (730)","7 (658)","6 (510)","7 (0)"]
["Lukas Benedikt",null,null,"Trnava",null,null,null,null,6,2424,null,null,null,null,null,"Ventus 3F - 18m","LB",null,null,"8 (317)","1 (938)","1 (1,000)","7 (0)","6 (169)"]
["Jan Keher",null,null,"Prievidza",null,null,null,null,7,2302,null,null,null,null,null,"Discus 2cT /18m","EF",null,null,"2 (792)","8 (136)","8 (618)","5 (549)","5 (207)"]
["Jirka & Hornak",null,null,null,null,null,null,null,8,2038,null,null,null,null,null,"HPH 304 TS Twin Shark S",11,null,null,"5 (722)","7 (203)","6 (732)","7 (0)","2 (381)"]
[]
["Fatra Glide 2022 - Klub"]
["Martin, Slovakia,   21 May 2022 – 28 May 2022 "]
["https://www.soaringspot.com/en_gb/20-fatraglide-2022-martin-2022/results/club# "]
[]
["Milan SUROVCIK Jr.",null,null,"Žilina",null,null,null,null,1,3905,null,null,null,null,null,"ASW 20","S",null,null,"3 (709)","1 (672)","1 (804)","1 (471)","3 (377)","4 (872)"]
["Simon SISKA",null,null,"AK MARTIN",null,null,null,null,2,3731,null,null,null,null,null,"ASW 24 WL","CK",null,null,"1 (813)","3 (645)","9 (489)","2 (466)","1 (422)","2 (896)"]
["Samuel POSLUCH",null,null,"AK MARTIN",null,null,null,null,3,3678,null,null,null,null,null,"ASW 20","II",null,null,"4 (703)","2 (665)","1 (804)","7 (224)","4 (373)","1 (909)"]
["Tibor NOGA",null,null,"SGC Martin",null,null,null,null,4,3358,null,null,null,null,null,"ASW 19 B","A4",null,null,"5 (693)","5 (552)","5 (615)","4 (401)","5 (343)","5 (754)"]
["Michal CUPAK",null,null,"AK MEDLANKY",null,null,null,null,5,2915,null,null,null,null,null,"Std. Cirrus","A7",null,null,"7 (654)","6 (516)","3 (637)","9 (107)","7 (305)","7 (696)"]
["Marek STRAKA",null,null,"AK DUBNICA N.VAHOM",null,null,null,null,6,2856,null,null,null,null,null,"LS 3","AI",null,null,"9 (618)","12 (72)","4 (626)","6 (266)","2 (400)","3 (874)"]
["Jan SPONER",null,null,"AK MEDLANKY",null,null,null,null,7,2757,null,null,null,null,null,"Std. Cirrus","EX",null,null,"6 (688)","4 (581)","6 (609)","10 (102)","10 (51)","6 (726)"]
["Peter SEDMAK",null,null,"AK MARTIN",null,null,null,null,8,2129,null,null,null,null,null,"LS 4","MA",null,null,"8 (646)","8 (448)","13 (151)","11 (89)","8 (238)","10 (557)"]
["Lubomir Belusko",null,null,"AK PRESOV",null,null,null,null,9,2083,null,null,null,null,null,"Pegase 101D","HS",null,null,"11 (426)","11 (355)","8 (553)","12 (86)","12 (18)","8 (645)"]
["Peter GOSSANYI",null,null,"AK NOVE ZAMKY",null,null,null,null,10,2047,null,null,null,null,null,"Discus CS","VP",null,null,"10 (610)","7 (490)","14 (41)","5 (267)","14 (5)","9 (634)"]
["Peter GASPAROVIC",null,null,"SGC MARTIN",null,null,null,null,11,1844,null,null,null,null,null,"Std. Cirrus WL","LX",null,null,"11 (426)","10 (387)","11 (423)","12 (86)","9 (216)","12 (306)"]
["Martin MARINCAK",null,null,"AK PRESOV",null,null,null,null,12,1829,null,null,null,null,null,"Std. Cirrus","CV",null,null,"14 (295)","8 (448)","7 (566)","8 (210)","12 (18)","14 (292)"]
["Miroslav BELIANSKY",null,null,"AK BRATISLAVA",null,null,null,null,13,1428,null,null,null,null,null,"Pegase 101A","OT",null,null,"2 (767)","13 (43)","12 (161)","3 (457)","16 (0)","16 (0)"]
["Peter USIAK",null,null,"AK BANSKA BYSTRICA",null,null,null,null,14,1249,null,null,null,null,null,"Astir CS 77","WW",null,null,"11 (426)","14 (13)","10 (424)","16 (42)","14 (5)","11 (339)"]
["GABOR BORS",null,null,"OPITZ",null,null,null,null,15,675,null,null,null,null,null,"Mini Nimbus","SU",null,null,"15 (0)","15 (0)","15 (0)","14 (73)","6 (318)","15 (284)"]
["ALBERT HACKL",null,null,"OPITZ",null,null,null,null,16,367,null,null,null,null,null,"Astir CS Top","PC",null,null,"15 (0)","15 (0)","15 (0)","15 (55)","11 (19)","13 (293)"]
[]
["Fatra Glide 2022 - Kombi"]
["Martin, Slovakia,   21 May 2022 – 28 May 2022 "]
["https://www.soaringspot.com/en_gb/20-fatraglide-2022-martin-2022/results/kombinovana-trieda# "]
[]
["Viliam KUBOVCIK",null,null,"AK POPRAD",null,null,null,null,1,3375,null,null,null,null,null,"Ventus 2 cxT","VV",null,null,"1 (627)","1 (659)","1 (500)","1 (329)","1 (296)","2 (964)"]
["Ivan BAJANA",null,null,"SGC MARTIN",null,null,null,null,2,2560,null,null,null,null,null,"Discus 2","DI",null,null,"5 (325)","3 (600)","2 (392)","6 (150)","2 (254)","5 (839)"]
["Peter ABONYI",null,null,"AK RUZOMBEROK",null,null,null,null,3,2050,null,null,null,null,null,"Ventus C","PA",null,null,"6 (250)","4 (570)","4 (377)","5 (160)","3 (205)","6 (488)"]
["Milos SRANK",null,null,"AK NOVE ZAMKY",null,null,null,null,4,1821,null,null,null,null,null,"ASG 29","LK",null,null,"4 (352)","7 (274)","7 (51)","3 (236)","5 (44)","4 (864)"]
["Milan LOJDL",null,null,"AK MARTIN",null,null,null,null,5,1712,null,null,null,null,null,"Ventus 2cxT/18m","MJ1",null,null,"8 (217)","6 (350)","3 (387)","2 (300)","6 (0)","7 (458)"]
["Martin JUROVIC",null,null,"AK BRATISLAVA",null,null,null,null,6,1554,null,null,null,null,null,"Ventus cT 17.6m","JQ",null,null,"2 (506)","9 (0)","5 (83)","10 (0)","4 (55)","3 (910)"]
["Lukas BENEDIKT",null,null,"AK Trnava",null,null,null,null,7,1226,null,null,null,null,null,"Ventus 3 F","LB",null,null,"3 (367)","2 (610)","6 (69)","4 (180)","6 (0)","9 (0)"]
["Vaclav HRUZA",null,null,"Aeroklub Breclav",null,null,null,null,8,1082,null,null,null,null,null,"HPH 304 Shark","TH",null,null,"9 (0)","9 (0)","10 (0)","7 (82)","6 (0)","1 (1,000)"]
["Daniel KRONEK",null,null,"SGC MARTIN",null,null,null,null,9,1054,null,null,null,null,null,"Ventus bT/15m","DK",null,null,"7 (220)","5 (439)","9 (24)","9 (20)","6 (0)","8 (351)"]
["Ivan CHABADA",null,null,"AK BANSKA BYSTRICA",null,null,null,null,10,268,null,null,null,null,null,"NIMBUS 2B","VY",null,null,"9 (0)","8 (195)","8 (49)","8 (24)","6 (0)","9 (0)"]
[]
["FCC gliding 2022 - Klub"]
["Prievidza, Slovakia,   24 April 2022 – 5 May 2022 "]
["https://www.soaringspot.com/en_gb/fcc-gliding-2022-prievidza-2022/results/club# "]
[]
["Uwe Wahlig",null,null,"Segelfluggruppe Bensheim e.V.",null,null,null,null,1,5543,null,null,null,null,null,"LS-3 /15m WL","SN",null,null,"1 (806)","1 (951)","5 (933)","9 (935)","11 (620)","1 (696)","1 (602)"]
["Jacek Flis",null,null,"Ziemi Zamojskiej / KKGT",null,null,null,null,2,5437,null,null,null,null,null,"LS-3 /15m","FLS",null,null,"3 (752)","3 (929)","2 (982)","2 (970)","1 (685)","2 (646)","7 (473)"]
["Mikolaj Zdun",null,null,"Aeroklub Leszno",null,null,null,null,3,5409,null,null,null,null,null,"LS 3 15m","PP",null,null,"2 (754)","2 (934)","3 (958)","3 (969)","2 (675)","3 (636)","6 (483)"]
["Tim Milner",null,null,"Wolds gliding Club",null,null,null,null,4,5261,null,null,null,null,null,"LS-3 /15m","LS5",null,null,"4 (715)","5 (861)","1 (1,000)","5 (962)","12 (615)","5 (611)","4 (497)"]
["Jiri Kusbach",null,null,"Luhačovice",null,null,null,null,5,5006,null,null,null,null,null,"KKB-15 E-FES","B",null,null,"8 (666)","4 (876)","7 (923)","11 (932)","16 (594)","6 (599)","11 (416)"]
["Kamil Wojcik",null,null,"Wroclawek",null,null,null,null,6,4933,null,null,null,null,null,"LS-4","WWI",null,null,"9 (661)","18 (758)","6 (924)","8 (953)","21 (566)","16 (564)","3 (507)"]
["Robert Alin Simion",null,null,"Romania Romania",null,null,null,null,7,4918,null,null,null,null,null,"LS 4A WL","Y2",null,null,"7 (679)","10 (781)","11 (884)","6 (960)","6 (635)","10 (593)","16 (386)"]
["Bernard Dobre",null,null,"Postojna",null,null,null,null,8,4746,null,null,null,null,null,"DG 300 ELAN","PJ",null,null,"10 (658)","9 (782)","9 (895)","17 (836)","19 (582)","22 (533)","8 (460)"]
["Peter Kassai",null,null,"MALEV",null,null,null,null,9,4732,null,null,null,null,null,"Discus b wl","7W",null,null,"19 (519)","13 (771)","14 (824)","12 (921)","13 (613)","8 (596)","5 (488)"]
["Zdenek Balcarek",null,null,"Aeroklub Kromeriz",null,null,null,null,10,4552,null,null,null,null,null,"Discus b","OS",null,null,"15 (582)","7 (799)","21 (749)","14 (911)","17 (585)","18 (549)","18 (377)"]
["Ionut Tudor",null,null,"Romanian Airclub",null,null,null,null,11,4526,null,null,null,null,null,"LS 4A WL","8M",null,null,"34 (156)","8 (784)","9 (895)","1 (1,000)","7 (631)","4 (614)","9 (446)"]
["Wojciech Kubiak",null,null,"Aeroklub Krakowski",null,null,null,null,12,4450,null,null,null,null,null,"SZD-55","W07",null,null,"5 (701)","23 (735)","17 (780)","19 (790)","23 (550)","13 (584)","24 (310)"]
["Joanna Biedermann",null,null,"Aeroclub Nadwislanski",null,null,null,null,13,4339,null,null,null,null,null,"LS 4","OG",null,null,"13 (621)","16 (763)","25 (714)","16 (850)","24 (542)","24 (522)","22 (327)"]
["Lukasz Florkowski",null,null,"Ostrowski",null,null,null,null,14,4271,null,null,null,null,null,"SZD-41A Jantar std.","ZSI",null,null,"24 (463)","17 (761)","24 (722)","15 (903)","20 (579)","29 (438)","13 (405)"]
["Stanislaw Wujczak",null,null,"Leszczyński",null,null,null,null,15,4228,null,null,null,null,null,"Mini-Nimbus b","KP",null,null,"11 (652)","15 (766)","22 (735)","21 (780)","4 (646)","14 (581)","31 (68)"]
["Rafal Siankowski",null,null,"Radomski",null,null,null,null,16,4189,null,null,null,null,null,"SZD-48 Jantar std. 3","AA",null,null,"17 (573)","19 (752)","32 (607)","23 (713)","14 (600)","20 (544)","15 (400)"]
["Marek Herbreder",null,null,"Warszawa",null,null,null,null,17,4185,null,null,null,null,null,"SZD-55 Promyk","TK",null,null,"12 (642)","14 (768)","19 (755)","24 (411)","3 (651)","9 (595)","21 (363)"]
["Daniel Arday",null,null,"Malév",null,null,null,null,17,4185,null,null,null,null,null,"ASW 20 C 15m WL","RZI",null,null,"22 (497)","21 (747)","16 (796)","7 (959)","15 (595)","11 (591)","33 (0)"]
["Karol Pawlicki",null,null,"Stalowowolski",null,null,null,null,19,3999,null,null,null,null,null,"SZD-48 Jantar std. 3","BK",null,null,"20 (511)","11 (780)","20 (752)","27 (212)","9 (628)","7 (597)","2 (519)"]
["Lumir Motyka",null,null,"Frydlant",null,null,null,null,20,3869,null,null,null,null,null,"LS-1f","EM",null,null,"6 (683)","37 (161)","13 (865)","18 (821)","10 (621)","33 (287)","10 (431)"]
["Benedikt Sindermann",null,null,"Stőelln-Rhinow",null,null,null,null,21,3809,null,null,null,null,null,"LS-1f","1F",null,null,"29 (420)","12 (778)","26 (690)","13 (919)","32 (431)","15 (571)","33 (0)"]
["Arkadiusz Bajura",null,null,"Aeroklub Opole",null,null,null,null,22,3791,null,null,null,null,null,"Mini-Nimbus c","CC",null,null,"14 (586)","19 (752)","23 (732)","22 (770)","36 (0)","12 (587)","20 (364)"]
["Oliver Sven",null,null,"Cape Gliding Club",null,null,null,null,23,3778,null,null,null,null,null,"Std. Cirrus","UY",null,null,"28 (425)","6 (812)","8 (913)","25 (215)","18 (583)","26 (505)","23 (325)"]
["Wojciech Domanski",null,null,"Nowy Targ",null,null,null,null,24,3743,null,null,null,null,null,"LS-4","WW",null,null,"26 (444)","28 (643)","3 (958)","28 (206)","22 (554)","21 (535)","14 (403)"]
["Jozsef Tornyai",null,null,"Malev",null,null,null,null,25,3719,null,null,null,null,null,"LS-3 /15m","BYI",null,null,"35 (147)","26 (677)","27 (686)","9 (935)","8 (630)","17 (563)","29 (81)"]
["Wojciech Izdebski",null,null,"Gdansk",null,null,null,null,26,3664,null,null,null,null,null,"DG 101G","G1",null,null,"25 (453)","25 (687)","28 (668)","4 (966)","34 (251)","19 (547)","28 (92)"]
["Ryszard Pachla",null,null,"Czestochowski",null,null,null,null,27,3542,null,null,null,null,null,"SZD-48 Jantar std. 2","L",null,null,"27 (443)","27 (647)","12 (875)","30 (204)","25 (539)","22 (533)","25 (301)"]
["Krzysztof Kotarski",null,null,"Aeroklub Nadwiślańsk",null,null,null,null,28,3467,null,null,null,null,null,"ASW-19B","J1",null,null,"23 (477)","29 (635)","29 (651)","19 (790)","35 (147)","30 (397)","19 (370)"]
["Peter Gonczi",null,null,"Malév",null,null,null,null,29,3095,null,null,null,null,null,"Janus C (FG)","DD",null,null,"21 (502)","24 (726)","15 (822)","35 (114)","30 (471)","34 (159)","25 (301)"]
["Juraj Sidor",null,null,"AK Holic",null,null,null,null,29,3095,null,null,null,null,null,"Std. Cirrus","NM",null,null,"32 (301)","30 (577)","31 (610)","26 (213)","28 (505)","25 (508)","17 (381)"]
["Martin Šabľa",null,null,"SNV",null,null,null,null,31,2972,null,null,null,null,null,"Discus 2b",70,null,null,"38 (58)","32 (552)","18 (765)","29 (205)","26 (515)","28 (463)","12 (414)"]
["Aleksandar Diklic",null,null,"Zrenjanin",null,null,null,null,32,2430,null,null,null,null,null,"DG 100",30,null,null,"29 (420)","34 (502)","34 (456)","31 (162)","33 (362)","31 (377)","27 (151)"]
["Jerzy Mikolajczyk",null,null,"AZM Plock",null,null,null,null,33,2388,null,null,null,null,null,"LS-4","YL",null,null,"18 (532)","33 (529)","30 (642)","34 (119)","29 (483)","36 (10)","30 (73)"]
["Stefan Schneider",null,null,"Bensheim",null,null,null,null,34,2298,null,null,null,null,null,"Std. Cirrus","KT",null,null,"33 (162)","31 (572)","33 (576)","36 (0)","27 (508)","27 (480)","33 (0)"]
["Piotr Ligwinski",null,null,"Lodz",null,null,null,null,35,2061,null,null,null,null,null,"ASW 24 WL","PL",null,null,"16 (579)","38 (156)","35 (450)","32 (156)","5 (641)","35 (13)","32 (66)"]
["Dariusz Pietraszkiewicz",null,null,"Szczecin",null,null,null,null,36,1643,null,null,null,null,null,"SZD-55 Promyk","SD",null,null,"37 (133)","36 (162)","36 (388)","33 (140)","31 (462)","32 (358)","33 (0)"]
["Agata Kaszczuk",null,null,"Wroc3aw",null,null,null,null,37,876,null,null,null,null,null,"LS-1f","MR",null,null,"36 (138)","22 (738)","38 (0)","36 (0)","36 (0)","38 (0)","33 (0)"]
["Krzysztof Owsiany",null,null,"AZM Lubin",null,null,null,null,38,358,null,null,null,null,null,"SZD-48 Jantar std. 3","CU",null,null,"31 (358)","39 (0)","38 (0)","36 (0)","36 (0)","38 (0)","33 (0)"]
["Ryszard Bendkowski",null,null,"Warszawa",null,null,null,null,39,322,null,null,null,null,null,"SZD-48 Jantar Std. 2","Filip",null,null,"39 (0)","35 (215)","37 (102)","36 (0)","36 (0)","37 (5)","33 (0)"]
["Pawel Wojciechowski",null,null,"Leszno",null,null,null,null,40,0,null,null,null,null,null,"SZD-55","RAW",null,null,"39 (0)","39 (0)","38 (0)","36 (0)","36 (0)","38 (0)","33 (0)"]
["Domas Zostautas",null,null,"Vilniaus",null,null,null,null,40,0,null,null,null,null,null,"SZD-48 Jantar std. 3","B",null,null,"39 (0)","39 (0)","38 (0)","36 (0)","36 (0)","38 (0)","33 (0)"]
["Staš Stankovic",null,null,"Aeroklub Novo mesto",null,null,null,null,40,0,null,null,null,null,null,"DG-100","GO",null,null,"39 (0)","39 (0)","38 (0)","36 (0)","36 (0)","38 (0)","33 (0)"]
["Jaroslaw Michaluk",null,null,"KSS",null,null,null,null,40,0,null,null,null,null,null,"SZD-48 Jantar std. 2","LK",null,null,"39 (0)","39 (0)","38 (0)","36 (0)","36 (0)","38 (0)","33 (0)"]
[]
["FCC gliding 2022 - Kombi 15m"]
["Prievidza, Slovakia,   24 April 2022 – 5 May 2022 "]
["https://www.soaringspot.com/en_gb/fcc-gliding-2022-prievidza-2022/results/15m# "]
[]
["Miloslav Cink",null,null,"Letkov",null,null,null,null,1,5374,null,null,null,null,null,"LS-8b /15 m","JB",null,null,"4 (687)","3 (998)","7 (922)","3 (952)","2 (640)","2 (640)","3 (535)"]
["Pavel Louzecky",null,null,"Pribyslav",null,null,null,null,2,5354,null,null,null,null,null,"LS-8 /15 m","FX",null,null,"4 (687)","2 (999)","6 (923)","1 (1,000)","7 (588)","4 (633)","4 (524)"]
["Jan Pavlik",null,null,"Krizanov",null,null,null,null,3,5313,null,null,null,null,null,"LS-8 /15 m","JW",null,null,"6 (670)","1 (1,000)","8 (920)","5 (945)","1 (644)","5 (631)","6 (503)"]
["Lukasz Blaszczyk",null,null,"Ostrow",null,null,null,null,4,5146,null,null,null,null,null,"Diana 2","RP",null,null,"8 (619)","6 (928)","9 (918)","8 (904)","4 (624)","13 (539)","1 (614)"]
["Norbert Scarlat",null,null,"Romanian Airclub",null,null,null,null,5,5133,null,null,null,null,null,"Discus 2a /15m","Y1",null,null,"2 (690)","4 (958)","10 (903)","4 (950)","6 (601)","8 (569)","8 (462)"]
["David Mach",null,null,"Hronov",null,null,null,null,6,5121,null,null,null,null,null,"JS3 15m","ZE",null,null,"1 (745)","12 (896)","13 (879)","11 (822)","5 (621)","1 (652)","5 (506)"]
["Lukasz Grabowski",null,null,"Aeroklub Wloclawski",null,null,null,null,7,4913,null,null,null,null,null,"Discus 2A","I",null,null,"11 (591)","10 (906)","2 (989)","2 (979)","9 (528)","11 (551)","16 (369)"]
["Stanislaw Biela",null,null,"Nowy Targ",null,null,null,null,8,4772,null,null,null,null,null,"SZD 56-2 DIANA FES","AV",null,null,"13 (564)","18 (816)","16 (850)","7 (907)","2 (640)","9 (555)","10 (440)"]
["Czeladzki & Marchelewski",null,null,"KKGT",null,null,null,null,9,4660,null,null,null,null,null,"Duo Discus XLT","POL",null,null,"17 (439)","7 (922)","18 (837)","9 (900)","12 (526)","18 (469)","2 (567)"]
["Judyta Czyż",null,null,"Bielsko Bialski",null,null,null,null,10,4623,null,null,null,null,null,"LS-8 /15 m","LOT",null,null,"22 (359)","8 (910)","1 (1,000)","6 (922)","17 (502)","10 (554)","15 (376)"]
["Alex Pop",null,null,"Romanian Airclub",null,null,null,null,11,4615,null,null,null,null,null,"Discus 2a /15m","YB",null,null,"2 (690)","21 (768)","4 (942)","12 (813)","22 (449)","15 (500)","9 (453)"]
["Trojan & Blatak",null,null,"Chrudim",null,null,null,null,12,4466,null,null,null,null,null,"Duo Discus T (700kg)","ZS",null,null,"14 (543)","15 (875)","12 (895)","14 (761)","9 (528)","15 (500)","17 (364)"]
["Arturas Klimasauskas",null,null,"Pociunai (Kaunas Gliding Club)",null,null,null,null,13,4423,null,null,null,null,null,"Ventus 2b/15m","BX",null,null,"12 (569)","19 (796)","23 (766)","10 (841)","21 (450)","14 (537)","7 (464)"]
["Dawid Pretorius",null,null,"Cape Gliding Club",null,null,null,null,14,4191,null,null,null,null,null,"LS-8 /15 m","1Z",null,null,"7 (637)","5 (944)","20 (822)","22 (426)","13 (516)","3 (639)","19 (207)"]
["Jana Treslova",null,null,"Rana",null,null,null,null,15,4188,null,null,null,null,null,"Discus 2a /15m","GX",null,null,"16 (444)","11 (899)","5 (938)","19 (632)","20 (455)","20 (419)","13 (401)"]
["Dana Novakova",null,null,"Mlada Boleslav",null,null,null,null,16,4186,null,null,null,null,null,"LS-8 /15 m","AU",null,null,"21 (369)","9 (908)","3 (954)","17 (655)","16 (505)","6 (574)","18 (221)"]
["Barbora Moravcova",null,null,"Zbraslavice",null,null,null,null,17,4175,null,null,null,null,null,"LS-8 /15 m","EU",null,null,"18 (400)","14 (884)","22 (815)","21 (600)","18 (481)","7 (573)","11 (422)"]
["Pawel Frackowiak",null,null,"Aeroklub Poznanski",null,null,null,null,18,4149,null,null,null,null,null,"LAK 17B FES /15m 525kg",77,null,null,"19 (388)","20 (772)","21 (818)","13 (800)","11 (527)","19 (461)","14 (383)"]
["Karol Šnapko",null,null,"Nadwislanski",null,null,null,null,19,3866,null,null,null,null,null,"Discus 2a /15m","Y",null,null,"26 (9)","17 (830)","11 (900)","16 (738)","23 (430)","12 (542)","12 (417)"]
["Robert Toth",null,null,"Pelikan RE",null,null,null,null,20,3635,null,null,null,null,null,"LS-6 b","4L",null,null,"10 (600)","16 (831)","15 (853)","23 (398)","19 (464)","17 (489)","23 (0)"]
["Maciej Walasek",null,null,"Aeroklub Krakowski",null,null,null,null,21,3598,null,null,null,null,null,"LS-6","KK",null,null,"23 (356)","22 (725)","14 (858)","15 (757)","14 (512)","22 (236)","20 (154)"]
["Dariusz Czech",null,null,"Stalowowolski",null,null,null,null,22,2915,null,null,null,null,null,"LAK 19 15m WL","DC",null,null,"9 (604)","13 (894)","24 (628)","25 (201)","7 (588)","23 (0)","23 (0)"]
["Slavomir Valecko",null,null,"Hranice",null,null,null,null,23,2887,null,null,null,null,null,"Discus b WL","IYB",null,null,"24 (282)","24 (300)","17 (843)","20 (609)","15 (511)","21 (295)","21 (47)"]
["Andrzej Szczerba",null,null,"Warszawa",null,null,null,null,24,2171,null,null,null,null,null,"SZD-56-2 Diana-2 FES","AI",null,null,"25 (137)","26 (190)","19 (833)","18 (636)","24 (375)","23 (0)","23 (0)"]
["Konrad Jaczkowski",null,null,"Czźstochowski",null,null,null,null,25,1397,null,null,null,null,null,"Ventus 2B","V2",null,null,"20 (375)","25 (247)","25 (560)","26 (173)","25 (0)","23 (0)","22 (42)"]
["Benedikt Laho",null,null,"Trnava",null,null,null,null,26,763,null,null,null,null,null,"Discus 2T /15m","JH",null,null,"27 (0)","23 (457)","26 (99)","24 (207)","25 (0)","23 (0)","23 (0)"]
["Istvan Reti",null,null,"Alfoldi Repülőklub",null,null,null,null,27,454,null,null,null,null,null,"Ventus 2b 15m","G6",null,null,"15 (454)","27 (0)","27 (0)","27 (0)","25 (0)","23 (0)","23 (0)"]
["Jana Veprekova",null,null,"Dvur Kralove",null,null,null,null,28,0,null,null,null,null,null,"LS-8 /15 m","W8",null,null,"27 (0)","27 (0)","27 (0)","27 (0)","25 (0)","23 (0)","23 (0)"]
[]
["FCC gliding 2022 - Kombi Open"]
["Prievidza, Slovakia,   24 April 2022 – 5 May 2022 "]
["https://www.soaringspot.com/en_gb/fcc-gliding-2022-prievidza-2022/results/combi# "]
[]
["Gintas Zube",null,null,"Kartena gliding club",null,null,null,null,1,5418,null,null,null,null,null,"ASG-29E /18m","AR",null,null,"3 (794)","16 (929)","13 (899)","5 (948)","5 (540)","2 (695)","6 (613)"]
["Wolfgang Janowitsch",null,null,"FRA Wr. Neustadt",null,null,null,null,2,5415,null,null,null,null,null,"Ventus 3T - 18m","WO",null,null,"1 (835)","12 (942)","7 (932)","12 (893)","3 (549)","16 (616)","3 (648)"]
["Radek Krejcirik",null,null,"Hranice",null,null,null,null,3,5383,null,null,null,null,null,"JS-1C EVO 18m","ZF",null,null,"2 (813)","2 (994)","20 (831)","17 (845)","4 (544)","1 (704)","2 (652)"]
["Karol Staryszak",null,null,"Nadwislamski",null,null,null,null,4,5336,null,null,null,null,null,"ASG-29E /18m","PES",null,null,"20 (619)","11 (945)","2 (977)","6 (944)","2 (552)","10 (655)","4 (644)"]
["Zoltan Hamar",null,null,"Vario SE",null,null,null,null,5,5201,null,null,null,null,null,"JS3 /18m","7A",null,null,"12 (666)","6 (975)","9 (928)","7 (932)","14 (484)","11 (649)","8 (567)"]
["Sebastian Kawa",null,null,"Aeroclub Bielsko Biala",null,null,null,null,6,5112,null,null,null,null,null,"Diana 3 FES","GSS",null,null,"40 (251)","8 (959)","1 (1,000)","2 (978)","1 (570)","5 (671)","1 (683)"]
["Andrzej Smielkiewicz",null,null,"Leszno",null,null,null,null,7,5048,null,null,null,null,null,"ASG-29E /18m","A2",null,null,"7 (730)","24 (884)","6 (947)","31 (686)","12 (496)","2 (695)","7 (610)"]
["Zdislaw Bednarczuk",null,null,"Bielsko-Biala",null,null,null,null,8,5003,null,null,null,null,null,"Js3 MD","ZB",null,null,"22 (614)","1 (1,000)","21 (824)","16 (850)","28 (446)","15 (637)","5 (632)"]
["Leszek Staryszak",null,null,"Warsawski",null,null,null,null,9,5000,null,null,null,null,null,"ASG-29E /18m","BG",null,null,"26 (599)","3 (992)","11 (910)","26 (784)","20 (480)","4 (679)","10 (556)"]
["Bernd Goretzki",null,null,"LSV Rinteln",null,null,null,null,10,4914,null,null,null,null,null,"Ventus 3M","C8",null,null,"20 (619)","29 (856)","10 (923)","11 (907)","29 (442)","8 (666)","17 (501)"]
["Andre Weidlich",null,null,"LSV Ruhr-Lenne Iserlohn",null,null,null,null,11,4897,null,null,null,null,null,"Ventus 3M - 18m","TE",null,null,"24 (609)","14 (935)","14 (893)","24 (806)","5 (540)","18 (598)","15 (516)"]
["Arkadiusz Downar",null,null,"Warmińsko-Mazurski",null,null,null,null,12,4889,null,null,null,null,null,"ASG-29E /18m","29L",null,null,"11 (668)","31 (840)","18 (848)","20 (828)","10 (519)","13 (641)","13 (545)"]
["Kessler & Chisu-Muresan",null,null,"Romanian Airclub",null,null,null,null,13,4868,null,null,null,null,null,"ASG-32 Mi-850 kg","AK",null,null,"16 (646)","8 (959)","8 (931)","4 (955)","17 (482)","9 (658)","33 (237)"]
["Tomasz Dul",null,null,"LSV Dinslaken",null,null,null,null,14,4847,null,null,null,null,null,"JS3 MD","TO",null,null,"17 (639)","27 (872)","12 (901)","28 (765)","26 (449)","6 (670)","11 (551)"]
["Martin Fürješ",null,null,"SGC Martin",null,null,null,null,15,4745,null,null,null,null,null,"JS3 /18m",3,null,null,"19 (622)","17 (919)","26 (778)","25 (791)","25 (459)","7 (668)","16 (508)"]
["Jože Verdev",null,null,"Šaleški Aeroklub",null,null,null,null,16,4609,null,null,null,null,null,"JS1-CTJ 18 EVO","DZ",null,null,"8 (728)","13 (937)","19 (834)","27 (782)","37 (318)","24 (531)","19 (479)"]
["Lukasz Kornacki",null,null,"Aeroklub Ziemi Mazowieckiej",null,null,null,null,17,4591,null,null,null,null,null,"ASG-29E /18m","PLI",null,null,"14 (660)","19 (902)","25 (792)","21 (819)","5 (540)","14 (638)","32 (240)"]
["Petr Krejcirik",null,null,"Hranice",null,null,null,null,18,4547,null,null,null,null,null,"AS 33 Es",12,null,null,"4 (747)","23 (885)","22 (819)","29 (742)","18 (481)","29 (469)","23 (404)"]
["Motl & Marhefka",null,null,"Kyjov",null,null,null,null,19,4497,null,null,null,null,null,"Nimbus 4DM","AM",null,null,"23 (610)","30 (847)","23 (802)","13 (884)","24 (463)","32 (396)","18 (495)"]
["Arkadiusz Stefańczyk",null,null,null,null,null,null,null,20,4472,null,null,null,null,null,"ASG 32 Mi","MD",null,null,"6 (738)","26 (874)","16 (861)","1 (980)","11 (497)","36 (272)","30 (250)"]
["Janos Sindely",null,null,"Alfoldi Repülőklub",null,null,null,null,21,4448,null,null,null,null,null,"JS1-1C 21","RZ",null,null,"25 (608)","22 (889)","17 (850)","14 (876)","30 (426)","38 (253)","12 (546)"]
["Jerzey Kolasinski",null,null,"Aeroklub Poznanski/KKGT",null,null,null,null,22,4443,null,null,null,null,null,"ASG 29 18m","EMI",null,null,"17 (639)","32 (825)","32 (696)","22 (817)","14 (484)","26 (518)","22 (464)"]
["Paul Altrichter",null,null,"Fliegergrrupe waldviertel",null,null,null,null,23,4442,null,null,null,null,null,"Ventus 2 cxa 18m-600 kg","AX",null,null,"31 (569)","7 (967)","3 (957)","9 (925)","22 (470)","23 (554)","36 (0)"]
["Kapuy & Reti",null,null,null,null,null,null,null,24,4437,null,null,null,null,null,"-29,3m","HB",null,null,"29 (575)","28 (864)","34 (625)","15 (861)","26 (449)","20 (584)","19 (479)"]
["Teet Jagomagi",null,null,"Ridali",null,null,null,null,25,4409,null,null,null,null,null,"JS1-1C 18 EVO",56,null,null,"10 (670)","10 (953)","27 (773)","8 (930)","8 (523)","39 (0)","9 (560)"]
["Petr Panek",null,null,"Ikarus gliding club",null,null,null,null,26,4402,null,null,null,null,null,"JS-1b JET","IGC",null,null,"28 (576)","25 (878)","31 (718)","18 (839)","8 (523)","27 (510)","26 (358)"]
["Ivan Novak",null,null,"Mlada Boleslav",null,null,null,null,27,4388,null,null,null,null,null,"ASG 29 /18m","QZ",null,null,"14 (660)","20 (900)","15 (872)","34 (601)","35 (358)","17 (607)","25 (390)"]
["Hana Treslova",null,null,"Rana",null,null,null,null,28,4329,null,null,null,null,null,"JS3 /18m","XM",null,null,"30 (573)","33 (813)","33 (662)","10 (915)","16 (483)","25 (529)","27 (354)"]
["Pirker & Pirker",null,null,"FAS-Wien (Vienna)",null,null,null,null,29,4140,null,null,null,null,null,"Arcus M","PV",null,null,"35 (373)","4 (981)","4 (953)","23 (807)","23 (466)","22 (560)","36 (0)"]
["Tamas & Korom",null,null,"HUN Team",null,null,null,null,30,4066,null,null,null,null,null,"Arcus T","HUX",null,null,"5 (739)","5 (979)","24 (793)","39 (0)","13 (495)","21 (583)","21 (477)"]
["Oldrich Bartonik",null,null,"Luhačovice",null,null,null,null,31,3918,null,null,null,null,null,"Diana 3 FES","D3",null,null,"9 (682)","18 (905)","5 (951)","3 (962)","31 (418)","39 (0)","36 (0)"]
["Jakubcak & Sulirova",null,null,null,null,null,null,null,32,3838,null,null,null,null,null,"Arcus M","CAR",null,null,"12 (666)","20 (900)","29 (735)","32 (655)","32 (410)","31 (409)","35 (63)"]
["Jan Divok",null,null,"Aeroklub SNV",null,null,null,null,33,3718,null,null,null,null,null,"Discus 2cT /18m","DJ",null,null,"36 (334)","35 (738)","36 (612)","33 (628)","33 (365)","12 (643)","24 (398)"]
["Miguel Schwan",null,null,"SFC Tulin",null,null,null,null,34,3695,null,null,null,null,null,"ASG-29Es /18m","AY",null,null,"39 (312)","15 (933)","28 (752)","36 (381)","21 (475)","19 (593)","31 (249)"]
["Lukas Benedikt",null,null,"Trnava",null,null,null,null,35,3310,null,null,null,null,null,"Ventus 3F - 18m","LB",null,null,"27 (586)","36 (700)","30 (722)","39 (0)","18 (481)","34 (301)","14 (520)"]
["Lubomir Doupal",null,null,"LKKM",null,null,null,null,36,3234,null,null,null,null,null,"Ventus 2cxm 18m-565 kg","LD",null,null,"33 (446)","39 (293)","37 (606)","19 (830)","34 (359)","33 (346)","27 (354)"]
["Kollar & Kromka",null,null,"Poprad",null,null,null,null,37,2837,null,null,null,null,null,"Arcus M","TA3",null,null,"32 (504)","37 (696)","35 (624)","37 (124)","36 (353)","30 (419)","34 (117)"]
["Gabriela Belakova",null,null,"Prievidza",null,null,null,null,38,2813,null,null,null,null,null,"Ventus 3M 18m","CAT",null,null,"34 (436)","34 (767)","39 (527)","35 (515)","38 (305)","37 (263)","36 (0)"]
["Aldo Cernezzi",null,null,"Acao Varese",null,null,null,null,39,2782,null,null,null,null,null,"DG 800b/18m","TI",null,null,"36 (334)","38 (566)","38 (604)","30 (700)","39 (289)","35 (289)","36 (0)"]
["Jan Keher",null,null,"Prievidza",null,null,null,null,40,2074,null,null,null,null,null,"Discus 2cT /18m","EF",null,null,"38 (323)","40 (170)","40 (431)","38 (96)","40 (199)","28 (501)","27 (354)"]
["Wolfgang Zimmermann",null,null,"FRA Wr. Neustadt",null,null,null,null,41,0,null,null,null,null,null,"Ventus 3M - 18m","WZ",null,null,"41 (0)","41 (0)","41 (0)","39 (0)","41 (0)","39 (0)","36 (0)"]
["Andrej Majewski",null,null,"Warminsko-Mazurski",null,null,null,null,41,0,null,null,null,null,null,"ASG-29E /18m",29,null,null,"41 (0)","41 (0)","41 (0)","39 (0)","41 (0)","39 (0)","36 (0)"]
["Zsolt Osi",null,null,"G6AX,ACFH",null,null,null,null,41,0,null,null,null,null,null,"ASW-22BLE /26,58m (850 kg)","BY",null,null,"41 (0)","41 (0)","41 (0)","39 (0)","41 (0)","39 (0)","36 (0)"]
["Heimo Demmerer",null,null,"SFC Mariazell",null,null,null,null,41,0,null,null,null,null,null,"Ventus 3M - 18m","OD",null,null,"41 (0)","41 (0)","41 (0)","39 (0)","41 (0)","39 (0)","36 (0)"]
["Botond Szabadfi",null,null,"Alfoldi AK",null,null,null,null,41,0,null,null,null,null,null,"Nimbus 4DM","XXL",null,null,"41 (0)","41 (0)","41 (0)","39 (0)","41 (0)","39 (0)","36 (0)"]
[]
["Pribina Cup 2022 - Klub"]
["Nitra, Slovakia,   15 April 2022 – 23 April 2022 "]
["https://www.soaringspot.com/en_gb/pribina-cup-2022-nitra-2022/results/club# "]
[]
["Michal Lesinger",null,null,null,null,null,null,null,1,3186,null,null,null,null,null,"ASW 20","LL",null,null,"2 (979)","2 (425)","4 (794)","4 (424)","9 (564)"]
["Roelof Corporaal",null,null,"Gelderse Zweefvliegclub",null,null,null,null,2,3179,null,null,null,null,null,"LS 7 WL","LK",null,null,"1 (998)","11 (351)","1 (808)","6 (371)","3 (651)"]
["Mark Travner",null,null,"Aeroklub Celje",null,null,null,null,3,3169,null,null,null,null,null,"ASW 20 W","SH",null,null,"11 (876)","14 (342)","8 (778)","1 (600)","7 (573)"]
["Jiri Kusbach",null,null,null,null,null,null,null,4,3164,null,null,null,null,null,"KKB-15E FES","B",null,null,"3 (973)","3 (422)","4 (794)","4 (424)","11 (551)"]
["Edmund Schuller",null,null,null,null,null,null,null,5,3114,null,null,null,null,null,"ASW 24 WL","ZS",null,null,"8 (926)","7 (372)","7 (791)","3 (425)","6 (600)"]
["Tibor Fratrik",null,null,"SGC Martin",null,null,null,null,6,3037,null,null,null,null,null,"ASW 20 C","VG",null,null,"4 (966)","4 (418)","10 (756)","7 (359)","16 (538)"]
["Uwe Wahlig",null,null,"Segelfluggruppe Bensheim e.V.",null,null,null,null,7,3011,null,null,null,null,null,"LS 3 WL","SN",null,null,"7 (929)","1 (571)","24 (485)","13 (301)","1 (725)"]
["Juliusz Pieniazek",null,null,"Aeroklub Podhalanski",null,null,null,null,8,2878,null,null,null,null,null,"ASW 19B",11,null,null,"5 (960)","13 (346)","2 (806)","16 (200)","8 (566)"]
["Boris Žorž",null,null,null,null,null,null,null,9,2863,null,null,null,null,null,"Std. Cirrus WL","IPF",null,null,"16 (818)","21 (278)","13 (722)","2 (430)","5 (615)"]
["Artur Lonczuk",null,null,null,null,null,null,null,10,2810,null,null,null,null,null,"Jantar 2","KM",null,null,"6 (930)","17 (318)","3 (796)","8 (315)","23 (451)"]
["Zbigniew Górecki",null,null,"Lódz",null,null,null,null,11,2755,null,null,null,null,null,"Mini Nimbus","CH",null,null,"9 (920)","11 (351)","11 (753)","19 (193)","16 (538)"]
["Wojciech Domanski",null,null,null,null,null,null,null,12,2742,null,null,null,null,null,"LS 4","WW",null,null,"18 (787)","10 (352)","12 (726)","8 (315)","10 (562)"]
["Jakub Kaczorowski",null,null,"Wloclawek",null,null,null,null,13,2716,null,null,null,null,null,"Jantar 2","BI",null,null,"13 (862)","8 (361)","19 (640)","12 (314)","14 (539)"]
["Tomasz Kurowski",null,null,"Aeroklub Krakowski",null,null,null,null,14,2703,null,null,null,null,null,"SZD-48-3M","BZ",null,null,"14 (852)","9 (359)","20 (638)","8 (315)","14 (539)"]
["Maciej Kowalski",null,null,"Aeroklub Kielecki",null,null,null,null,15,2698,null,null,null,null,null,"Jantar 2","SO",null,null,"10 (878)","16 (329)","21 (636)","8 (315)","13 (540)"]
["Pawel Glowacki",null,null,null,null,null,null,null,16,2627,null,null,null,null,null,"Pegase C-101A","J7",null,null,"12 (873)","15 (340)","16 (672)","18 (196)","12 (546)"]
["Benjamin Josuttis",null,null,"LSV Kreis Osterode e.V.",null,null,null,null,17,2624,null,null,null,null,null,"LS 4","RF",null,null,"19 (776)","6 (380)","22 (633)","20 (189)","4 (646)"]
["Filip Durda",null,null,"Aeroklub Kielecki",null,null,null,null,18,2568,null,null,null,null,null,"Jantar 2","Y3",null,null,"15 (851)","18 (297)","6 (793)","17 (198)","24 (429)"]
["Jakub Kos",null,null,null,null,null,null,null,19,2370,null,null,null,null,null,"Jantar 2","Z4R",null,null,"20 (757)","19 (294)","18 (644)","26 (157)","18 (518)"]
["Staš Stankovic",null,null,"Aeroklub Novo mesto",null,null,null,null,20,2352,null,null,null,null,null,"DG 101 G","GO",null,null,"21 (680)","25 (245)","17 (657)","15 (280)","19 (490)"]
["Markus Uhlig",null,null,"FC Grossrückerswalde",null,null,null,null,21,2294,null,null,null,null,null,"Jantar 2 WL","M4",null,null,"17 (799)","5 (396)","28 (243)","21 (188)","2 (668)"]
["Ulrich Luta",null,null,"Luftsportverein Aachen e.V.",null,null,null,null,22,2247,null,null,null,null,null,"LS 7 WL","PR",null,null,"22 (657)","24 (266)","15 (674)","23 (185)","22 (465)"]
["Richard Vajda",null,null,null,null,null,null,null,23,1820,null,null,null,null,null,"ASW 20 W","BAS",null,null,"23 (475)","25 (245)","25 (440)","22 (187)","21 (473)"]
["Michael Wilden",null,null,"Luftsportverein Aachen e.V.",null,null,null,null,24,1585,null,null,null,null,null,"LS 7 WL","FOX",null,null,"25 (0)","23 (267)","9 (757)","24 (171)","26 (390)"]
["Kornel Negro",null,null,null,null,null,null,null,25,1468,null,null,null,null,null,"DG 202/15m","DK",null,null,"25 (0)","22 (272)","23 (562)","25 (159)","20 (475)"]
["Benedikt Sindermann",null,null,"Stölln/Rhinow e.V.",null,null,null,null,26,1265,null,null,null,null,null,"LS 1 f","1F",null,null,"25 (0)","20 (292)","14 (692)","14 (281)","28 (0)"]
["Stefan Schneider",null,null,"SFG Bensheim",null,null,null,null,27,1199,null,null,null,null,null,"Std. Cirrus","KT",null,null,"24 (111)","25 (245)","26 (313)","28 (113)","25 (417)"]
["Milos Horvat",null,null,null,null,null,null,null,28,724,null,null,null,null,null,"ASW 20 B","II",null,null,"25 (0)","28 (26)","27 (308)","27 (130)","27 (260)"]
[]
["Pribina Cup 2022 - Kombi 15m"]
["Nitra, Slovakia,   15 April 2022 – 23 April 2022 "]
["https://www.soaringspot.com/en_gb/pribina-cup-2022-nitra-2022/results/15-meter# "]
[]
["David Mach",null,null,null,null,null,null,null,1,3942,null,null,null,null,null,"Ventus 2a/15m","AX",null,null,"1 (1,000)","9 (843)","5 (735)","1 (600)","6 (764)"]
["Max Maslak",null,null,null,null,null,null,null,2,3866,null,null,null,null,null,"Discus 2T","OLC",null,null,"2 (956)","2 (914)","2 (795)","3 (419)","3 (782)"]
["Jan Schulz",null,null,null,null,null,null,null,3,3623,null,null,null,null,null,"Discus 2T","BW3",null,null,"4 (953)","6 (867)","1 (800)","11 (222)","4 (781)"]
["Sebastian Nagel",null,null,null,null,null,null,null,4,3564,null,null,null,null,null,"Discus 2a","XN",null,null,"6 (930)","7 (866)","3 (779)","12 (221)","5 (768)"]
["Tomasz Hornik",null,null,"Aeroklub Nadwislanski",null,null,null,null,5,3530,null,null,null,null,null,"ASG 29/15m","PL",null,null,"3 (955)","4 (907)","15 (643)","22 (191)","1 (834)"]
["Lukasz Grabowski",null,null,null,null,null,null,null,6,3526,null,null,null,null,null,"SZD 56 Diana2","RP",null,null,"5 (935)","5 (885)","9 (701)","23 (188)","2 (817)"]
["Patrick Benoist",null,null,null,null,null,null,null,7,3478,null,null,null,null,null,"LS 8s","PB",null,null,"7 (916)","11 (794)","17 (639)","3 (419)","14 (710)"]
["Jan Kretzschmar",null,null,"Aero Club Lichtenfels",null,null,null,null,8,3338,null,null,null,null,null,"LS 8a","JK",null,null,"17 (817)","10 (835)","4 (740)","16 (203)","7 (743)"]
["Daniel Bernhardt",null,null,null,null,null,null,null,9,3278,null,null,null,null,null,"Discus 2T","BW2",null,null,"15 (830)","12 (792)","7 (722)","18 (202)","11 (732)"]
["Hannes Friederritzi",null,null,null,null,null,null,null,10,3267,null,null,null,null,null,"Discus 2T","NW2",null,null,"16 (821)","14 (790)","8 (719)","16 (203)","9 (734)"]
["Ambrus Vancso",null,null,"Dunaferr",null,null,null,null,11,3242,null,null,null,null,null,"Ventus bT/15m","RB",null,null,"14 (842)","16 (782)","11 (686)","13 (218)","13 (714)"]
["Clemens Berger",null,null,null,null,null,null,null,12,3240,null,null,null,null,null,"LS 6a","8A",null,null,"8 (899)","8 (846)","20 (592)","14 (210)","18 (693)"]
["Wiktor Lacinski",null,null,"Aeroklub Ostrowski",null,null,null,null,13,3196,null,null,null,null,null,"Discus 2a","L",null,null,"12 (872)","1 (921)","13 (656)","7 (232)","24 (515)"]
["Karol Snapko",null,null,"Aeroklub Nadwislanski",null,null,null,null,14,3193,null,null,null,null,null,"Discus 2a","Y",null,null,"13 (871)","12 (792)","15 (643)","7 (232)","21 (655)"]
["Henrik Bieler",null,null,"Aeroclub Landau",null,null,null,null,15,3173,null,null,null,null,null,"Ventus 2b","1G",null,null,"11 (889)","17 (728)","10 (688)","15 (204)","19 (664)"]
["Judyta Czyz",null,null,null,null,null,null,null,16,2937,null,null,null,null,null,"LS 8a","MP",null,null,"9 (894)","19 (583)","22 (541)","10 (224)","16 (695)"]
["Kinga Tchorz",null,null,null,null,null,null,null,17,2915,null,null,null,null,null,"LS 8","LOT",null,null,"10 (892)","22 (559)","21 (544)","9 (225)","16 (695)"]
["Dana Novakova",null,null,null,null,null,null,null,18,2907,null,null,null,null,null,"LS 8a","AU",null,null,"18 (740)","20 (577)","14 (651)","20 (198)","8 (741)"]
["Jana Treslova",null,null,null,null,null,null,null,19,2855,null,null,null,null,null,"Discus 2a","GX",null,null,"20 (726)","21 (565)","17 (639)","21 (196)","12 (729)"]
["Karel Novak",null,null,null,null,null,null,null,20,2721,null,null,null,null,null,"JS 3/15m","ZE",null,null,"23 (1)","3 (908)","6 (724)","2 (432)","20 (656)"]
["Piotr Jarysz",null,null,"Aeroklub Leszczynski",null,null,null,null,21,2325,null,null,null,null,null,"LS 6","BB",null,null,"24 (0)","14 (790)","19 (626)","19 (201)","15 (708)"]
["Aurélien Doriat",null,null,"ACP Poitiers",null,null,null,null,22,2307,null,null,null,null,null,"LS 8","P1",null,null,"24 (0)","18 (649)","12 (669)","5 (255)","9 (734)"]
["Maciej Walasek",null,null,"Aeroklub Krakowski",null,null,null,null,23,2085,null,null,null,null,null,"LS 6c/15m","KK",null,null,"21 (700)","25 (331)","24 (385)","24 (171)","25 (498)"]
["Tomasz Królik",null,null,null,null,null,null,null,24,1811,null,null,null,null,null,"Ventus a WL","TT",null,null,"24 (0)","23 (504)","23 (511)","26 (153)","22 (643)"]
["Philip Joens",null,null,null,null,null,null,null,25,1777,null,null,null,null,null,"LS 7 WL","AP",null,null,"19 (728)","26 (240)","26 (0)","6 (246)","23 (563)"]
["Istvan Reti",null,null,null,null,null,null,null,26,1687,null,null,null,null,null,"Ventus b/15m","G6",null,null,"22 (598)","24 (340)","25 (288)","25 (162)","26 (299)"]
[]
["Pribina Cup 2022 - Kombi Open"]
["Nitra, Slovakia,   15 April 2022 – 23 April 2022 "]
["https://www.soaringspot.com/en_gb/pribina-cup-2022-nitra-2022/results/open# "]
[]
["Wim Akkermans",null,null,null,null,null,null,null,1,3844,null,null,null,null,null,"Ventus 3F/18m","LC",null,null,"3 (914)","17 (730)","3 (782)","1 (558)","10 (860)"]
["Radek Krejcirik",null,null,"LKHN Hranice",null,null,null,null,2,3844,null,null,null,null,null,"JS 1-C 21","ZF",null,null,"4 (902)","3 (831)","8 (737)","5 (508)","9 (866)"]
["Matthias Sturm",null,null,"LSV Schwarzwald",null,null,null,null,3,3753,null,null,null,null,null,"JS 3/18m","M9",null,null,"2 (950)","1 (894)","2 (798)","28 (183)","3 (928)"]
["Leszek Staryszak",null,null,"Warsaw",null,null,null,null,4,3673,null,null,null,null,null,"ASG 29/18m","BGI",null,null,"6 (895)","10 (766)","19 (653)","6 (504)","11 (855)"]
["Enrique Levin",null,null,"LSV Homberg/Ohm",null,null,null,null,5,3636,null,null,null,null,null,"EB 29R","EL",null,null,"15 (842)","12 (755)","29 (601)","3 (536)","7 (902)"]
["Zdislaw Bednarczuk",null,null,null,null,null,null,null,6,3600,null,null,null,null,null,"JS 3/18m","ZB",null,null,"13 (854)","4 (826)","10 (701)","11 (315)","6 (904)"]
["Zoltan Hamar",null,null,null,null,null,null,null,7,3580,null,null,null,null,null,"JS 3/18m","7A",null,null,"12 (875)","2 (840)","9 (722)","17 (243)","8 (900)"]
["Toni Kittler",null,null,"FSV Mössingen",null,null,null,null,8,3562,null,null,null,null,null,"Ventus 3/18m","IYB",null,null,"7 (892)","14 (748)","5 (776)","7 (354)","23 (792)"]
["Thomas Wettemann",null,null,"Fliegergruppe Neckartal-Koengen e.V.",null,null,null,null,9,3530,null,null,null,null,null,"JS 3/18m","EA",null,null,"9 (888)","15 (747)","6 (773)","11 (315)","18 (807)"]
["Simon Briel",null,null,null,null,null,null,null,10,3504,null,null,null,null,null,"EB 28/28,3m","IGO",null,null,"17 (835)","23 (701)","23 (643)","2 (538)","25 (787)"]
["Jernej Lokovsek",null,null,"Aeroklub ALC Lesce",null,null,null,null,11,3491,null,null,null,null,null,"JS 3/18m","NL",null,null,"1 (1,000)","18 (727)","28 (611)","19 (241)","5 (912)"]
["Andreas Lutz",null,null,"SFC-Ried; Akaflieg Muenchen; FG Wolf Hirth",null,null,null,null,11,3491,null,null,null,null,null,"Ventus 3/18m","A",null,null,"25 (795)","19 (723)","1 (800)","9 (342)","16 (831)"]
["Petr Krejcirik",null,null,"Hranice",null,null,null,null,13,3473,null,null,null,null,null,"AS 33 Es/18m",12,null,null,"28 (751)","16 (734)","7 (757)","4 (525)","36 (706)"]
["Luka Znidarsic",null,null,"Ak Postojna",null,null,null,null,13,3473,null,null,null,null,null,"Ventus 3F/18m","LZ",null,null,"27 (786)","6 (775)","27 (613)","8 (352)","1 (947)"]
["Nils Fecker",null,null,"Luftsportgruppe Erbslöh Langenfeld e.V.",null,null,null,null,15,3471,null,null,null,null,null,"Ventus 3/18m","3V",null,null,"7 (892)","12 (755)","4 (777)","15 (245)","22 (802)"]
["Ivan Novak",null,null,null,null,null,null,null,16,3433,null,null,null,null,null,"ASG 29/18m","QZ",null,null,"11 (882)","5 (803)","17 (655)","32 (168)","4 (925)"]
["Marius Stelzer",null,null,null,null,null,null,null,17,3316,null,null,null,null,null,"Discus 2c FES/18m","FES",null,null,"19 (825)","24 (700)","25 (625)","10 (340)","17 (826)"]
["Marek Sawczuk",null,null,"Aeroklub Warszawski",null,null,null,null,18,3295,null,null,null,null,null,"ASG 29/18m","MS",null,null,"5 (897)","21 (707)","24 (630)","24 (207)","12 (854)"]
["Nik Salej",null,null,"Aeroklub Celje",null,null,null,null,19,3170,null,null,null,null,null,"JS 3/18m","XD",null,null,"10 (886)","29 (681)","32 (584)","18 (242)","26 (777)"]
["Ondrej Dupal",null,null,null,null,null,null,null,20,3162,null,null,null,null,null,"ASG 29/18m","GOL",null,null,"16 (838)","11 (760)","12 (685)","40 (104)","27 (775)"]
["Andreas Sandhöfner",null,null,"FSK Sturmvogel",null,null,null,null,21,3133,null,null,null,null,null,"ASG 29/18m","AY",null,null,"23 (807)","26 (696)","21 (645)","16 (244)","33 (741)"]
["Erazem Polutnik",null,null,"Aeroclub Celje",null,null,null,null,22,3123,null,null,null,null,null,"Ventus 3/18m","EM",null,null,"20 (824)","27 (691)","30 (595)","31 (175)","13 (838)"]
["Viliam Kubovcik",null,null,"AK Poprad",null,null,null,null,22,3123,null,null,null,null,null,"Ventus 2cx/18m","VV",null,null,"32 (720)","20 (721)","16 (663)","27 (184)","14 (835)"]
["Christian Hynek",null,null,"ASKÖ Flugsport Wien",null,null,null,null,24,3106,null,null,null,null,null,"EB 29DR-28m","DD",null,null,"21 (817)","36 (607)","11 (690)","21 (234)","29 (758)"]
["Jan Kovalcik",null,null,null,null,null,null,null,25,3088,null,null,null,null,null,"Discus 2c FES/18m","ZI",null,null,"14 (848)","34 (621)","38 (552)","37 (133)","2 (934)"]
["Jan Umlauf",null,null,"HAC Boberg",null,null,null,null,26,3078,null,null,null,null,null,"JS 3/18m","XC",null,null,"30 (731)","8 (768)","13 (682)","42 (93)","19 (804)"]
["Sebastian Huhmann",null,null,"HAC Boberg",null,null,null,null,27,3067,null,null,null,null,null,"AS 33 Es/18m","2U",null,null,"31 (723)","8 (768)","14 (680)","42 (93)","20 (803)"]
["Miha Berginc",null,null,"Aeroklub Celje",null,null,null,null,28,3045,null,null,null,null,null,"ASG 29/18m","BER",null,null,"18 (829)","22 (706)","37 (568)","13 (246)","37 (696)"]
["Werner Danz",null,null,null,null,null,null,null,29,2988,null,null,null,null,null,"Antares 18T","BT",null,null,"33 (680)","28 (688)","15 (673)","25 (201)","32 (746)"]
["Renè Schënmann",null,null,null,null,null,null,null,30,2971,null,null,null,null,null,"JS 1-C 21","LI",null,null,"24 (798)","35 (616)","17 (655)","22 (232)","38 (670)"]
["Svend Andersen",null,null,null,null,null,null,null,31,2967,null,null,null,null,null,"AS 33 Es/18m","2C",null,null,"36 (637)","31 (674)","33 (580)","19 (241)","14 (835)"]
["Hana Treslova",null,null,"RanÃ¡",null,null,null,null,32,2859,null,null,null,null,null,"JS 3/18m","XM",null,null,"26 (788)","33 (628)","36 (572)","23 (217)","39 (654)"]
["Nils Heck",null,null,null,null,null,null,null,33,2815,null,null,null,null,null,"Nimbus 4","EP",null,null,"35 (640)","30 (675)","35 (575)","34 (155)","28 (770)"]
["Miguel Schwan",null,null,null,null,null,null,null,34,2788,null,null,null,null,null,"Ventus 2cx/18m","CX",null,null,"34 (673)","39 (502)","26 (616)","13 (246)","31 (751)"]
["Petr Setka",null,null,"Plzen-Letkov",null,null,null,null,35,2776,null,null,null,null,null,"Ventus 2cx/18m","RS",null,null,"44 (371)","7 (770)","19 (653)","30 (179)","20 (803)"]
["Henning Kjersgaard Nielsen",null,null,"Midtsjaellands Svaeveflyveklub",null,null,null,null,36,2591,null,null,null,null,null,"Ventus 3/18m","I",null,null,"39 (571)","38 (533)","33 (580)","36 (152)","30 (755)"]
["Marek Pechanec",null,null,null,null,null,null,null,37,2495,null,null,null,null,null,"JS 3/18m","Q1",null,null,"45 (260)","25 (698)","21 (645)","41 (103)","24 (789)"]
["Peter Pokorny",null,null,"Bratislava",null,null,null,null,38,2400,null,null,null,null,null,"ASG 29/18m","9E",null,null,"40 (570)","42 (369)","31 (590)","33 (160)","35 (711)"]
["Thomas Hynek",null,null,"Flugschule ASKÖ Wien",null,null,null,null,39,2327,null,null,null,null,null,"Ventus 2cM/18m","CC",null,null,"37 (609)","37 (582)","42 (427)","28 (183)","40 (526)"]
["Sorin Lingureanu",null,null,"Tampereen Ilmailuyhdistys",null,null,null,null,40,2293,null,null,null,null,null,"Ventus 2c/18m","TD",null,null,"29 (746)","32 (642)","43 (280)","34 (155)","42 (470)"]
["Nicolas Bernhard",null,null,"AAPCA Fayence",null,null,null,null,41,2254,null,null,null,null,null,"JS 1 18m","JD",null,null,"41 (559)","43 (363)","40 (491)","39 (127)","34 (714)"]
["Mathias Muench",null,null,"Alpenflugzentrum Unterwossen",null,null,null,null,42,2113,null,null,null,null,null,"DG 800/18m","MU",null,null,"38 (596)","44 (331)","39 (510)","26 (200)","41 (476)"]
["Lukas Benedikt",null,null,"AK Trnava",null,null,null,null,43,1867,null,null,null,null,null,"Ventus 3F/18m","LB",null,null,"22 (808)","40 (454)","41 (474)","38 (131)","43 (0)"]
["Hansen & Gevad",null,null,null,null,null,null,null,44,844,null,null,null,null,null,"Nimbus 4DM","UFO",null,null,"43 (391)","41 (453)","44 (0)","44 (0)","43 (0)"]
["Martin Picka",null,null,null,null,null,null,null,45,508,null,null,null,null,null,"Ventus 2c/18m","CXI",null,null,"42 (508)","46 (0)","44 (0)","44 (0)","43 (0)"]
["Botond Szabadfi",null,null,"Malev Aeroclub LHDK",null,null,null,null,46,84,null,null,null,null,null,"Nimbus 4DM","XXL",null,null,"46 (55)","45 (29)","44 (0)","44 (0)","43 (0)"]
[]
["XII.Flatland Cup 2022 - Kombi Open"]
["Szeged, Hungary,   1 July 2022 – 9 July 2022 "]
["https://www.soaringspot.com/en_gb/xii-flatland-cup-szeged-2022/results/mixed-15m# "]
[]
["Peter Szabo",null,null,"ARK",null,null,null,null,1,5778,null,null,null,null,null,"JS3","BX",null,null,"11 (887)","1 (899)","7 (881)","1 (749)","2 (830)","6 (541)","4 (991)"]
["Zoltan Verebelyi",null,null,"ARK",null,null,null,null,2,5744,null,null,null,null,null,"JS3","HI",null,null,"8 (912)","2 (893)","9 (864)","2 (737)","4 (821)","9 (529)","5 (988)"]
["Petr Krejcirik",null,null,"Hranice",null,null,null,null,3,5741,null,null,null,null,null,"JS3 18m","VB",null,null,"3 (971)","4 (831)","4 (952)","4 (710)","11 (771)","11 (513)","3 (993)"]
["Richard Bartolf",null,null,"ARK",null,null,null,null,4,5707,null,null,null,null,null,"JS3","HAB",null,null,"7 (915)","3 (863)","8 (865)","3 (722)","3 (824)","5 (546)","7 (972)"]
["Radek Krejcirik",null,null,"Hranice",null,null,null,null,5,5698,null,null,null,null,null,"JS1C 21m","ZF",null,null,"6 (918)","6 (799)","2 (980)","9 (627)","1 (860)","2 (591)","11 (923)"]
["Zoltan Hamar",null,null,"VARIO SE",null,null,null,null,6,5645,null,null,null,null,null,"JS3","7A",null,null,"5 (922)","5 (825)","5 (947)","16 (568)","5 (808)","1 (605)","8 (970)"]
["Kiss & Buki",null,null,"Aeroklub Farkashegy",null,null,null,null,7,5609,null,null,null,null,null,"Arcus T","SQ",null,null,"4 (970)","7 (785)","3 (975)","15 (569)","8 (786)","10 (528)","2 (996)"]
["Tamas & Korom",null,null,"Délvidéki Aero Club 1930",null,null,null,null,8,5606,null,null,null,null,null,"Arcus T","HUX",null,null,"1 (1,000)","8 (783)","1 (1,000)","19 (514)","10 (779)","8 (530)","1 (1,000)"]
["Richard Basa",null,null,"ARK",null,null,null,null,9,5552,null,null,null,null,null,"JS3","RI",null,null,"8 (912)","9 (782)","10 (857)","5 (697)","7 (791)","7 (539)","6 (974)"]
["Halasz & Kerekréti",null,null,"ARK",null,null,null,null,10,5232,null,null,null,null,null,"Twin shark","HPX",null,null,"13 (871)","10 (776)","15 (737)","10 (605)","6 (793)","14 (495)","10 (955)"]
["Janos Sindely",null,null,"ARK",null,null,null,null,11,5170,null,null,null,null,null,"JS1","RZ",null,null,"10 (901)","22 (575)","11 (840)","6 (680)","16 (733)","4 (558)","12 (883)"]
["Laszlo Kapuy",null,null,"MSE",null,null,null,null,12,5145,null,null,null,null,null,"EB 29D","HB",null,null,"12 (879)","11 (736)","12 (819)","8 (639)","18 (729)","13 (501)","13 (842)"]
["Zoltan Kore",null,null,"ARK",null,null,null,null,13,4990,null,null,null,null,null,"JS3","AI",null,null,"2 (981)","16 (652)","6 (923)","12 (589)","17 (732)","18 (406)","18 (707)"]
["Christian Hynek",null,null,"ASKÖ Flugsport Wien",null,null,null,null,14,4920,null,null,null,null,null,"EB 29D","DD",null,null,"14 (831)","13 (676)","16 (725)","7 (643)","13 (746)","15 (465)","14 (834)"]
["Ivan Novak",null,null,"Mladá Boleslav",null,null,null,null,15,4767,null,null,null,null,null,"ASG 29 18m","QZ",null,null,"15 (756)","12 (732)","14 (743)","11 (604)","12 (755)","3 (574)","19 (603)"]
["Robert Toth",null,null,"HOSESZ",null,null,null,null,16,4238,null,null,null,null,null,"LS 6","4L",null,null,"18 (675)","18 (627)","20 (630)","22 (436)","19 (727)","16 (433)","17 (710)"]
["Kornel Negro",null,null,"ARK",null,null,null,null,17,4004,null,null,null,null,null,"Arcus T",13,null,null,"21 (39)","21 (590)","13 (750)","14 (581)","9 (781)","12 (508)","16 (755)"]
["Csaba Tóth",null,null,"Dunaferr RK",null,null,null,null,18,4002,null,null,null,null,null,"Ventus 2b","V7",null,null,"22 (6)","14 (667)","18 (677)","17 (549)","14 (742)","19 (403)","9 (958)"]
["Peter Harsfalvi",null,null,"Albatrosz VE",null,null,null,null,19,3943,null,null,null,null,null,"JS1","AAD",null,null,"19 (640)","15 (666)","19 (676)","20 (501)","21 (690)","21 (0)","15 (770)"]
["Jan Kovalcik",null,null,"AK Bratislava",null,null,null,null,20,3850,null,null,null,null,null,"Twin Shark","TS",null,null,"16 (717)","20 (602)","22 (580)","18 (531)","20 (703)","17 (418)","21 (299)"]
["Laszlo Loskay",null,null,"Dunaferr RK",null,null,null,null,21,3767,null,null,null,null,null,"Ventus","LY",null,null,"20 (299)","19 (604)","21 (600)","13 (588)","15 (741)","20 (343)","20 (592)"]
["Miklos Taglieber",null,null,"ARK",null,null,null,null,22,2547,null,null,null,null,null,"Ventus 2","GE",null,null,"17 (704)","17 (633)","17 (710)","21 (457)","22 (43)","21 (0)","22 (0)"]
[]
["XII.Flatland Cup 2022 - Klub"]
["Szeged, Hungary,   1 July 2022 – 9 July 2022 "]
["https://www.soaringspot.com/en_gb/xii-flatland-cup-szeged-2022/results/fai-club# "]
[]
["Istvan Balog",null,null,"HOSESZ",null,null,null,null,1,5129,null,null,null,null,null,"LS 3a","TP",null,null,"4 (965)","9 (948)","1 (1,000)","3 (832)","3 (422)","1 (962)"]
["Krisztian Kovacs",null,null,"HOSESZ",null,null,null,null,2,5117,null,null,null,null,null,"LS 3a","EC",null,null,"6 (954)","4 (976)","2 (992)","4 (827)","4 (418)","2 (950)"]
["Peter Kassai",null,null,"MALÉV RK",null,null,null,null,3,4857,null,null,null,null,null,"Discus","7W",null,null,"2 (989)","5 (965)","10 (938)","11 (777)","17 (323)","8 (865)"]
["Tamás Mayer",null,null,"MALÉV RK",null,null,null,null,4,4739,null,null,null,null,null,"ASW 20","RZi",null,null,"1 (1,000)","7 (958)","20 (865)","8 (807)","27 (243)","7 (866)"]
["Balazs Endrodi",null,null,"MÁV SE",null,null,null,null,5,4707,null,null,null,null,null,"ASW 20","M6",null,null,"8 (950)","17 (888)","18 (870)","9 (804)","8 (379)","18 (816)"]
["Attila Keczan",null,null,"Aero Klub Debrecen",null,null,null,null,6,4691,null,null,null,null,null,"Mini Nimbus, C","MI",null,null,"13 (886)","8 (953)","6 (952)","5 (824)","19 (304)","21 (772)"]
["Zoltan Foldi",null,null,"ARK",null,null,null,null,7,4685,null,null,null,null,null,"Jantar Std. 2","ZP",null,null,"5 (956)","10 (942)","12 (933)","20 (710)","24 (272)","6 (872)"]
["Michal Lesinger",null,null,null,null,null,null,null,8,4675,null,null,null,null,null,"ASW 20","LL",null,null,"11 (898)","18 (885)","15 (899)","15 (751)","5 (393)","11 (849)"]
["Jeno Vörös",null,null,"Délvidéki Aero Club 1930.",null,null,null,null,9,4673,null,null,null,null,null,"LS 1-f","VR",null,null,"19 (811)","6 (960)","11 (937)","18 (730)","10 (354)","3 (881)"]
["Barnabás Tóth",null,null,"SZRK",null,null,null,null,10,4660,null,null,null,null,null,"ASW 20","NY",null,null,"21 (795)","1 (1,000)","23 (835)","2 (868)","15 (332)","14 (830)"]
["Balázs Laktis",null,null,"MÁV SE",null,null,null,null,11,4656,null,null,null,null,null,"Discus","M5",null,null,"12 (894)","13 (908)","8 (941)","6 (817)","6 (390)","24 (706)"]
["Sandor Laurinyecz",null,null,"Kvasz András RE",null,null,null,null,12,4651,null,null,null,null,null,"Jantar Std. 2",91,null,null,"6 (954)","19 (884)","7 (946)","14 (753)","12 (344)","22 (770)"]
["Zsombor Wéber",null,null,"ARK",null,null,null,null,13,4648,null,null,null,null,null,"ASW 20",18,null,null,"27 (715)","2 (996)","22 (851)","1 (873)","7 (385)","15 (828)"]
["Adam Kapuy",null,null,"MSE",null,null,null,null,14,4632,null,null,null,null,null,"LS 4","GJ",null,null,"22 (769)","11 (935)","3 (988)","7 (815)","24 (272)","10 (853)"]
["Tibor Fratrik",null,null,"SGC Martin",null,null,null,null,15,4577,null,null,null,null,null,"ASW 20","VG",null,null,"15 (844)","25 (818)","9 (940)","21 (700)","1 (447)","15 (828)"]
["Dylan Osolian",null,null,"Skövde Flygklubb",null,null,null,null,16,4421,null,null,null,null,null,"LS 3a","CP",null,null,"14 (884)","30 (704)","19 (867)","10 (787)","12 (344)","13 (835)"]
["András Schieber",null,null,"Aeroklub Farkashegy",null,null,null,null,17,4412,null,null,null,null,null,"ASW 20","BAS",null,null,"20 (798)","29 (708)","4 (979)","13 (755)","20 (294)","4 (878)"]
["Edmund Schuller",null,null,null,null,null,null,null,18,4339,null,null,null,null,null,"ASW 24","ZS",null,null,"29 (705)","24 (837)","16 (877)","26 (650)","2 (429)","12 (841)"]
["Géza Molnár",null,null,"ARK",null,null,null,null,19,4305,null,null,null,null,null,"LS 3a","7T",null,null,"30 (665)","14 (904)","25 (815)","19 (714)","14 (343)","9 (864)"]
["Zoltan Suranyi",null,null,"HOSESZ",null,null,null,null,20,4251,null,null,null,null,null,"ASW 20","X34",null,null,"3 (973)","22 (865)","32 (463)","12 (757)","9 (367)","17 (826)"]
["Karoly Borosnyay",null,null,"MALÉV RK",null,null,null,null,21,4095,null,null,null,null,null,"Janus C FG","DDi",null,null,"28 (710)","28 (730)","17 (871)","27 (646)","26 (260)","4 (878)"]
["Máté Mészáros",null,null,"Dunaferr RK",null,null,null,null,22,4066,null,null,null,null,null,"ASW 19","DB",null,null,"25 (725)","23 (846)","30 (589)","17 (738)","11 (352)","18 (816)"]
["Zsolt Balogh",null,null,"Albatrosz VE",null,null,null,null,23,4062,null,null,null,null,null,"ASW 20","NB",null,null,"10 (899)","3 (990)","24 (827)","16 (745)","18 (314)","29 (287)"]
["Istvan Vig",null,null,"Aeroclub Hajdúszoboszló",null,null,null,null,24,4054,null,null,null,null,null,"ASW 20","AD",null,null,"24 (726)","26 (800)","21 (864)","22 (699)","31 (153)","20 (812)"]
["Csaba Oltvai",null,null,"Délvidéki Aero Club 1930.",null,null,null,null,25,3786,null,null,null,null,null,"Std. Cirrus",52,null,null,"23 (736)","15 (892)","31 (516)","23 (695)","21 (290)","25 (657)"]
["András Oswald",null,null,"Szentesi Repülőklub",null,null,null,null,26,3579,null,null,null,null,null,"LS 3a","CH",null,null,"18 (821)","12 (917)","13 (921)","30 (593)","16 (327)","32 (0)"]
["Jozsef Tornyai",null,null,"MALÉV RK",null,null,null,null,27,3527,null,null,null,null,null,"LS 3a","BY",null,null,"9 (927)","20 (879)","28 (740)","32 (544)","22 (286)","31 (151)"]
["Lilla Szamosujvári",null,null,"Aeroclub Hajdúszoboszló",null,null,null,null,28,3479,null,null,null,null,null,"ASW 15","FA",null,null,"16 (839)","32 (369)","26 (806)","28 (611)","30 (204)","26 (650)"]
["Tibor Nagy",null,null,"MALÉV RK",null,null,null,null,29,3443,null,null,null,null,null,"Jantar Std. 3",33,null,null,"33 (241)","31 (653)","5 (970)","31 (574)","23 (284)","23 (721)"]
["Farkas & Mazán",null,null,"Délvidéki Aero Club 1930.",null,null,null,null,30,3347,null,null,null,null,null,"Janus C FG","GR",null,null,"17 (822)","27 (786)","27 (748)","33 (468)","28 (242)","30 (281)"]
["Peter Ronai",null,null,"Opitz RK",null,null,null,null,31,3198,null,null,null,null,null,"ASW 20","TE",null,null,"26 (718)","15 (892)","14 (912)","25 (676)","32 (0)","32 (0)"]
["Jozsef Szabo",null,null,"ARK",null,null,null,null,32,2472,null,null,null,null,null,"ASW 20","FS",null,null,"31 (295)","21 (866)","33 (0)","24 (689)","32 (0)","27 (622)"]
["Gábor Érseki",null,null,"Opitz RK",null,null,null,null,33,2446,null,null,null,null,null,"ASW 15","NK",null,null,"32 (245)","33 (309)","29 (726)","29 (609)","29 (241)","28 (316)"]
[]
["SGP Boras 2022"]
[]
["Stefan Langer",null,null,null,null,null,null,null,1,21,null,null,null,null,null,"ASG29","SL"]
["Klaus Kalmbach",null,null,null,null,null,null,null,2,18,null,null,null,null,null,"JS3-18m Jet","CT"]
["Hermann Leucker",null,null,null,null,null,null,null,3,18,null,null,null,null,null,"JS 3 TJ 18m","HL"]
["Michael Pfennig",null,null,null,null,null,null,null,4,16,null,null,null,null,null,"JS3 TJ","S"]
["Jochen Schulte",null,null,null,null,null,null,null,5,15,null,null,null,null,null,"JS-MD3","KS"]
["Patrick Benoist",null,null,null,null,null,null,null,6,10,null,null,null,null,null,"AS33 Es",33]
["Börje Eriksson",null,null,null,null,null,null,null,7,10,null,null,null,null,null,"Ventus 3","7X"]
["Clemens Berger",null,null,null,null,null,null,null,8,9,null,null,null,null,null,"Ventus 3T","IYB"]
["Björn Regnström",null,null,null,null,null,null,null,9,9,null,null,null,null,null,"JS3","BR"]
["Jon Gatfield",null,null,null,null,null,null,null,10,6,null,null,null,null,null,"AS33","YO"]
["Petr Krejčiřík",null,null,null,null,null,null,null,11,3,null,null,null,null,null,"AS-33 Es",12]
["Max Maslak",null,null,null,null,null,null,null,12,3,null,null,null,null,null,"Discus 2cT","OLC"]
["Erik Rudsmark",null,null,null,null,null,null,null,13,1,null,null,null,null,null,"DG 808 S","VG"]
["Wolfgang Zeyen",null,null,null,null,null,null,null,14,0,null,null,null,null,null,"Discus 2c FES","FES"]
["Mikael Widén",null,null,null,null,null,null,null,15,0,null,null,null,null,null,"DG808C","2Y"]

{"sheet":"Data","index":6,"n_rows":2640,"n_cols":19,"rows_kept":2640,"cut":false,"hidden":false,"merged":[]}
[null,null,null,null,null,null,null,null,null,null,null,null,"Počet X filtr:",{"$f":"SUBTOTAL(103,N7:N2253)","v":922},{"$f":"SUBTOTAL(103,O7:O2253)","v":62}]
["*",null,null,null,null,null,null,null,null,null,null,null,"Počet X:",{"$f":"COUNTIFS(N$7:N$2253,\"x\",$A$7:$A$2253,$A$2)","v":922},{"$f":"COUNTIFS(O$7:O$2253,\"x\",$A$7:$A$2253,$A$2)","v":62}]
[null,null,null,null,null,null,null,2017,null,null,null,null,null,{"$f":"COUNTIFS(#REF!,$H3,#REF!,\"x\",#REF!,$A$2)","v":{"$error":"#REF!"}},{"$f":"COUNTIFS(#REF!,$H3,#REF!,\"x\",#REF!,$A$2)","v":{"$error":"#REF!"}}]
[null,null,null,null,null,null,null,2016,null,null,null,null,null,{"$f":"COUNTIFS(#REF!,$H4,#REF!,\"x\",#REF!,$A$2)","v":{"$error":"#REF!"}},{"$f":"COUNTIFS(#REF!,$H4,#REF!,\"x\",#REF!,$A$2)","v":{"$error":"#REF!"}}]
[null,null,null,null,null,null,null,2015,null,null,null,null,null,{"$f":"COUNTIFS(#REF!,$H5,#REF!,\"x\",#REF!,$A$2)","v":{"$error":"#REF!"}},{"$f":"COUNTIFS(#REF!,$H5,#REF!,\"x\",#REF!,$A$2)","v":{"$error":"#REF!"}}]
["Jméno","Rok narození","M/F","Aeroklub","Region","Soutěž","Stát","Rok","Pořadí ve třídě","Body ve třídě","Kinp","Bi","Bi×Kinp","G","W","Typ","CN","Junior","Poznámka"]
["Vojtech Novotny",{"$f":"VLOOKUP(A7,Pilot,2,0)","v":1992},{"$f":"VLOOKUP(A7,Pilot,5,0)","v":"M"},{"$f":"VLOOKUP(A7,Pilot,3,0)","v":"Kralupy"},{"$f":"VLOOKUP(A7,Pilot,4,0)","v":"CZ/C1"},"JPJ 2020 - Klub",{"$f":"VLOOKUP(F7,Soutez!B:C,2,FALSE)","v":"CZ"},{"$f":"VLOOKUP(F7,Soutez!B:D,3,FALSE)","v":2020},1,5131,{"$f":"VLOOKUP(F7,Soutez,12,0)","v":0.91},{"$f":"ROUND(J7/MAX($J$7:$J$39)*10000*0.7+(MAX($I$7:$I$39)-I7)/(MAX($I$7:$I$39)-1)*10000*0.3,0)","v":10000},{"$f":"ROUND(K7*L7,0)","v":9100},"x",null,"LS-1f","EF",{"$f":"IF(ISERROR(VLOOKUP(A7,Pilot,6,0)),\"Není v databázi\",VLOOKUP(A7,Pilot,6,0))","v":""}]
["Josef Novotny",1983,"M","Přibyslav","CZ/C2","JPJ 2020 - Klub",{"$f":"VLOOKUP(F8,Soutez!B:C,2,FALSE)","v":"CZ"},{"$f":"VLOOKUP(F8,Soutez!B:D,3,FALSE)","v":2020},2,5093,0.91,{"$f":"ROUND(J8/MAX($J$7:$J$39)*10000*0.7+(MAX($I$7:$I$39)-I8)/(MAX($I$7:$I$39)-1)*10000*0.3,0)","v":9854},8967,"x",null,"Std. Cirrus","AW",""]
["Jindrich Svorc",1978,"M","Letňany","CZ/C1","JPJ 2020 - Klub",{"$f":"VLOOKUP(F9,Soutez!B:C,2,FALSE)","v":"CZ"},{"$f":"VLOOKUP(F9,Soutez!B:D,3,FALSE)","v":2020},3,4998,0.91,9631,8764,"x",null,"Std. Cirrus","IMI",""]
["Martin Ficnar",1971,"M","Šumperk","CZ/M","JPJ 2020 - Klub",{"$f":"VLOOKUP(F10,Soutez!B:C,2,FALSE)","v":"CZ"},{"$f":"VLOOKUP(F10,Soutez!B:D,3,FALSE)","v":2020},4,4951,0.91,9473,8620,"x",null,"LS-3a 15m","S20",""]
["Martin Urner",1974,"M","Letňany","CZ/C1","JPJ 2020 - Klub",{"$f":"VLOOKUP(F11,Soutez!B:C,2,FALSE)","v":"CZ"},{"$f":"VLOOKUP(F11,Soutez!B:D,3,FALSE)","v":2020},5,4917,0.91,9333,8493,"x",null,"ASW-15B","JJ",""]
["Petr Kolomaznik",1981,"M","Šumperk","CZ/M","JPJ 2020 - Klub",{"$f":"VLOOKUP(F12,Soutez!B:C,2,FALSE)","v":"CZ"},{"$f":"VLOOKUP(F12,Soutez!B:D,3,FALSE)","v":2020},6,4491,0.91,8658,7879,"x",null,"LS-1f","LS",""]
["Antonin Novotny",1972,"M","Luhačovice","CZ/M","JPJ 2020 - Klub",{"$f":"VLOOKUP(F13,Soutez!B:C,2,FALSE)","v":"CZ"},{"$f":"VLOOKUP(F13,Soutez!B:D,3,FALSE)","v":2020},7,4462,0.91,8525,7758,"x",null,"Std. Cirrus","SP",""]
["Petr Valenta 94",1994,"M","Kunovice","CZ/M","JPJ 2020 - Klub",{"$f":"VLOOKUP(F14,Soutez!B:C,2,FALSE)","v":"CZ"},{"$f":"VLOOKUP(F14,Soutez!B:D,3,FALSE)","v":2020},8,4433,0.91,8391,7636,"x",null,"Astir CS","BU",""]
["Josef Novak",1981,"M","Kunovice","CZ/M","JPJ 2020 - Klub",{"$f":"VLOOKUP(F15,Soutez!B:C,2,FALSE)","v":"CZ"},{"$f":"VLOOKUP(F15,Soutez!B:D,3,FALSE)","v":2020},9,4284,0.91,8094,7366,"x",null,"LS-1f","JT",""]
["Petr Havrlant",1965,"M","Šumperk","CZ/M","JPJ 2020 - Klub",{"$f":"VLOOKUP(F16,Soutez!B:C,2,FALSE)","v":"CZ"},{"$f":"VLOOKUP(F16,Soutez!B:D,3,FALSE)","v":2020},10,4150,0.91,7818,7114,"x",null,"ASW-15B","Q1",""]
["Libor Bednarik",1972,"M","Kunovice","CZ/M","JPJ 2020 - Klub",{"$f":"VLOOKUP(F17,Soutez!B:C,2,FALSE)","v":"CZ"},{"$f":"VLOOKUP(F17,Soutez!B:D,3,FALSE)","v":2020},11,4109,0.91,7668,6978,"x",null,"Std. Cirrus","PIF",""]
["Michaela Krizova",2001,"F","Přibyslav","CZ/C2","JPJ 2020 - Klub",{"$f":"VLOOKUP(F18,Soutez!B:C,2,FALSE)","v":"CZ"},{"$f":"VLOOKUP(F18,Soutez!B:D,3,FALSE)","v":2020},12,4088,0.91,7546,6867,null,null,"ASW-15B","BE","Junior v roce 2023"]
["Rene Hudak",1972,"M","Kunovice","CZ/M","JPJ 2020 - Klub",{"$f":"VLOOKUP(F19,Soutez!B:C,2,FALSE)","v":"CZ"},{"$f":"VLOOKUP(F19,Soutez!B:D,3,FALSE)","v":2020},13,4087,0.91,7451,6780,"x",null,"Std. Cirrus WL","NK",""]
["Martin Svarc",1981,"M","Olomouc","CZ/M","JPJ 2020 - Klub",{"$f":"VLOOKUP(F20,Soutez!B:C,2,FALSE)","v":"CZ"},{"$f":"VLOOKUP(F20,Soutez!B:D,3,FALSE)","v":2020},14,3935,0.91,7150,6507,"x",null,"DG-101 G","HE",""]
["Jiri Koudela",1974,"M","Vyškov","CZ/M","JPJ 2020 - Klub",{"$f":"VLOOKUP(F21,Soutez!B:C,2,FALSE)","v":"CZ"},{"$f":"VLOOKUP(F21,Soutez!B:D,3,FALSE)","v":2020},15,3905,0.91,7015,6384,"x",null,"ASW-19B","JK",""]
["Petr Kolacek",1965,"M","Šumperk","CZ/M","JPJ 2020 - Klub",{"$f":"VLOOKUP(F22,Soutez!B:C,2,FALSE)","v":"CZ"},{"$f":"VLOOKUP(F22,Soutez!B:D,3,FALSE)","v":2020},16,3354,0.91,6169,5614,"x",null,"SZD-48 Jantar std. 3","IX",""]
["Roman Schotli",1970,"M","Hranice","CZ/M","JPJ 2020 - Klub",{"$f":"VLOOKUP(F23,Soutez!B:C,2,FALSE)","v":"CZ"},{"$f":"VLOOKUP(F23,Soutez!B:D,3,FALSE)","v":2020},17,3343,0.91,6061,5516,"x",null,"ASW-19B",19,""]
["Karel Horalek",1976,"M","Olomouc","CZ/M","JPJ 2020 - Klub",{"$f":"VLOOKUP(F24,Soutez!B:C,2,FALSE)","v":"CZ"},{"$f":"VLOOKUP(F24,Soutez!B:D,3,FALSE)","v":2020},18,3229,0.91,5811,5288,"x",null,"LS-3 15m","Y1",""]
["Stepan Obrovsky",1990,"M","Frýdlant","CZ/M","JPJ 2020 - Klub",{"$f":"VLOOKUP(F25,Soutez!B:C,2,FALSE)","v":"CZ"},{"$f":"VLOOKUP(F25,Soutez!B:D,3,FALSE)","v":2020},19,3150,0.91,5610,5105,"x",null,"Std. Cirrus",22,""]
["Josef Hlusek",1993,"M","Kunovice","CZ/M","JPJ 2020 - Klub",{"$f":"VLOOKUP(F26,Soutez!B:C,2,FALSE)","v":"CZ"},{"$f":"VLOOKUP(F26,Soutez!B:D,3,FALSE)","v":2020},20,3138,0.91,5500,5005,"x",null,"Std. Cirrus","WO",""]
["Peter Kaspar",1980,"M","Vyškov","CZ/M","JPJ 2020 - Klub",{"$f":"VLOOKUP(F27,Soutez!B:C,2,FALSE)","v":"CZ"},{"$f":"VLOOKUP(F27,Soutez!B:D,3,FALSE)","v":2020},21,3111,0.91,5369,4886,"x",null,"Astir CS 77","AP",""]
["Pavel Simek",1957,"M","Vyškov","CZ/M","JPJ 2020 - Klub",{"$f":"VLOOKUP(F28,Soutez!B:C,2,FALSE)","v":"CZ"},{"$f":"VLOOKUP(F28,Soutez!B:D,3,FALSE)","v":2020},22,2989,0.91,5109,4649,"x",null,"DG-1000S 18m",66,""]
["Jan Pokluda",1973,"M","Šumperk","CZ/M","JPJ 2020 - Klub",{"$f":"VLOOKUP(F29,Soutez!B:C,2,FALSE)","v":"CZ"},{"$f":"VLOOKUP(F29,Soutez!B:D,3,FALSE)","v":2020},23,2868,0.91,4850,4414,"x",null,"ASW-15B WL","JG",""]
["Lukas Petrzela",1987,"M","Olomouc","CZ/M","JPJ 2020 - Klub",{"$f":"VLOOKUP(F30,Soutez!B:C,2,FALSE)","v":"CZ"},{"$f":"VLOOKUP(F30,Soutez!B:D,3,FALSE)","v":2020},24,2349,0.91,4048,3684,"x",null,"Astir CS","AL",""]
["Ludek Mikl",1963,"M","Šumperk","CZ/M","JPJ 2020 - Klub",{"$f":"VLOOKUP(F31,Soutez!B:C,2,FALSE)","v":"CZ"},{"$f":"VLOOKUP(F31,Soutez!B:D,3,FALSE)","v":2020},25,1806,0.91,3214,2925,"x",null,"Astir CS Jeans","L1",""]
["Yvona Vyhnankova",1963,"F","Olomouc","CZ/M","JPJ 2020 - Klub",{"$f":"VLOOKUP(F32,Soutez!B:C,2,FALSE)","v":"CZ"},{"$f":"VLOOKUP(F32,Soutez!B:D,3,FALSE)","v":2020},26,1650,0.91,2907,2645,"x","x","ASW-15","YZ",""]
["Petr Lonsky",1965,"M","Toužim","CZ/C1","JPJ 2020 - Klub",{"$f":"VLOOKUP(F33,Soutez!B:C,2,FALSE)","v":"CZ"},{"$f":"VLOOKUP(F33,Soutez!B:D,3,FALSE)","v":2020},27,1585,0.91,{"$f":"ROUND(J33/MAX($J$7:$J$39)*10000*0.7+(MAX($I$7:$I$39)-I33)/(MAX($I$7:$I$39)-1)*10000*0.3,0)","v":2725},2480,null,null,"Cirrus VTC","JP",""]
["Jan Zezula",{"$f":"VLOOKUP(A34,Pilot,2,0)","v":1979},{"$f":"VLOOKUP(A34,Pilot,5,0)","v":"M"},{"$f":"VLOOKUP(A34,Pilot,3,0)","v":"Letňany"},{"$f":"VLOOKUP(A34,Pilot,4,0)","v":"CZ/C1"},"JPJ 2020 - Klub",{"$f":"VLOOKUP(F34,Soutez!B:C,2,FALSE)","v":"CZ"},{"$f":"VLOOKUP(F34,Soutez!B:D,3,FALSE)","v":2020},28,1455,0.91,2454,2233,null,null,"ASW-19B","HD",""]
["Viktor Zimcik",1976,"M","Kunovice","CZ/M","JPJ 2020 - Klub",{"$f":"VLOOKUP(F35,Soutez!B:C,2,FALSE)","v":"CZ"},{"$f":"VLOOKUP(F35,Soutez!B:D,3,FALSE)","v":2020},29,738,0.91,1382,1258,"x",null,"Astir CS","O5",""]
["Jan Podhrazsky",1976,"M","Šumperk","CZ/M","JPJ 2020 - Klub",{"$f":"VLOOKUP(F36,Soutez!B:C,2,FALSE)","v":"CZ"},{"$f":"VLOOKUP(F36,Soutez!B:D,3,FALSE)","v":2020},30,696,0.91,1231,1120,"x",null,"Astir CS 77","NZ",""]
["Karel Ertl",1939,"M","LK Břeclav","CZ/M","JPJ 2020 - Klub",{"$f":"VLOOKUP(F37,Soutez!B:C,2,FALSE)","v":"CZ"},{"$f":"VLOOKUP(F37,Soutez!B:D,3,FALSE)","v":2020},31,695,0.91,1136,1034,null,null,"TST-10M Atlas","KE",""]
["Libor Danhel",1966,"M","Kunovice","CZ/M","JPJ 2020 - Klub",{"$f":"VLOOKUP(F38,Soutez!B:C,2,FALSE)","v":"CZ"},{"$f":"VLOOKUP(F38,Soutez!B:D,3,FALSE)","v":2020},32,300,0.91,503,458,"x",null,"Std. Cirrus","OK",""]
["Pavel Handl",1971,"M","Kroměříž","CZ/M","JPJ 2020 - Klub",{"$f":"VLOOKUP(F39,Soutez!B:C,2,FALSE)","v":"CZ"},{"$f":"VLOOKUP(F39,Soutez!B:D,3,FALSE)","v":2020},33,279,0.91,381,347,"x",null,"Phoebus A1","P1",""]
["Frantisek Vancura",1966,"M","Hranice","CZ/M","JPJ 2020 - Kombi",{"$f":"VLOOKUP(F40,Soutez!B:C,2,FALSE)","v":"CZ"},{"$f":"VLOOKUP(F40,Soutez!B:D,3,FALSE)","v":2020},1,4741,0.91,{"$f":"ROUND(J40/MAX($J$40:$J$60)*10000*0.7+(MAX($I$40:$I$60)-I40)/(MAX($I$40:$I$60)-1)*10000*0.3,0)","v":10000},9100,"x",null,"Nimbus 3T 24,5m WL 750kg","A1",""]
["Marek Blatak",1969,"M","Šumperk","CZ/M","JPJ 2020 - Kombi",{"$f":"VLOOKUP(F41,Soutez!B:C,2,FALSE)","v":"CZ"},{"$f":"VLOOKUP(F41,Soutez!B:D,3,FALSE)","v":2020},2,4740,0.91,{"$f":"ROUND(J41/MAX($J$40:$J$60)*10000*0.7+(MAX($I$40:$I$60)-I41)/(MAX($I$40:$I$60)-1)*10000*0.3,0)","v":9849},8963,"x",null,"Duo Discus T 700kg","ZS",""]
["Kamil Sohr",1973,"M","Šumperk","CZ/M","JPJ 2020 - Kombi",{"$f":"VLOOKUP(F42,Soutez!B:C,2,FALSE)","v":"CZ"},{"$f":"VLOOKUP(F42,Soutez!B:D,3,FALSE)","v":2020},3,4645,0.91,9558,8698,"x",null,"Ventus c 17,6m","W",""]
["Jiri Steiger",1969,"M","Olomouc","CZ/M","JPJ 2020 - Kombi",{"$f":"VLOOKUP(F43,Soutez!B:C,2,FALSE)","v":"CZ"},{"$f":"VLOOKUP(F43,Soutez!B:D,3,FALSE)","v":2020},4,4451,0.91,9122,8301,"x",null,"Duo Discus XLT","JIM",""]
["Michal Cechmanek",1978,"M","Luhačovice","CZ/M","JPJ 2020 - Kombi",{"$f":"VLOOKUP(F44,Soutez!B:C,2,FALSE)","v":"CZ"},{"$f":"VLOOKUP(F44,Soutez!B:D,3,FALSE)","v":2020},5,4371,0.91,8854,8057,"x",null,"ASW-20 L +FL 16,6m","MK",""]
["Jan Dersak 69",1969,"M","Kralupy","CZ/C1","JPJ 2020 - Kombi",{"$f":"VLOOKUP(F45,Soutez!B:C,2,FALSE)","v":"CZ"},{"$f":"VLOOKUP(F45,Soutez!B:D,3,FALSE)","v":2020},6,4344,0.91,8664,7884,null,null,"HpH 304JS SHARK 18m 573kg","DJ",""]
["Miroslav Koci",1961,"M","Žamberk","CZ/C2","JPJ 2020 - Kombi",{"$f":"VLOOKUP(F46,Soutez!B:C,2,FALSE)","v":"CZ"},{"$f":"VLOOKUP(F46,Soutez!B:D,3,FALSE)","v":2020},7,4315,0.91,8471,7709,"x",null,"Ventus 2cxm 18m 565kg","E8",""]
["Tomas Prikryl",1973,"M","Vyškov","CZ/M","JPJ 2020 - Kombi",{"$f":"VLOOKUP(F47,Soutez!B:C,2,FALSE)","v":"CZ"},{"$f":"VLOOKUP(F47,Soutez!B:D,3,FALSE)","v":2020},8,4070,0.91,7959,7243,"x",null,"Ventus 2cm 18m 525kg","FN",""]
["Zdenek Schenk",1972,"M","Hranice","CZ/M","JPJ 2020 - Kombi",{"$f":"VLOOKUP(F48,Soutez!B:C,2,FALSE)","v":"CZ"},{"$f":"VLOOKUP(F48,Soutez!B:D,3,FALSE)","v":2020},9,3921,0.91,{"$f":"ROUND(J48/MAX($J$40:$J$60)*10000*0.7+(MAX($I$40:$I$60)-I48)/(MAX($I$40:$I$60)-1)*10000*0.3,0)","v":7589},6906,null,null,"Ventus cm 17,6m","ŠNeK",""]
["Jaroslav Buryan",1953,"M","Zábřeh","CZ/M","JPJ 2020 - Kombi",{"$f":"VLOOKUP(F49,Soutez!B:C,2,FALSE)","v":"CZ"},{"$f":"VLOOKUP(F49,Soutez!B:D,3,FALSE)","v":2020},10,3872,0.91,7367,6704,"x",null,"ASW-20 (A)+F 15m WL","NS",""]
["Jan Simon",1970,"M","Kralupy","CZ/C1","JPJ 2020 - Kombi",{"$f":"VLOOKUP(F50,Soutez!B:C,2,FALSE)","v":"CZ"},{"$f":"VLOOKUP(F50,Soutez!B:D,3,FALSE)","v":2020},11,3730,0.91,7007,6376,"x",null,"Ventus ct 17,6m","KR",""]
["Ladislav Jozsa",1981,"M","Medlánky","CZ/M","JPJ 2020 - Kombi",{"$f":"VLOOKUP(F51,Soutez!B:C,2,FALSE)","v":"CZ"},{"$f":"VLOOKUP(F51,Soutez!B:D,3,FALSE)","v":2020},12,3666,0.91,6763,6154,"x",null,"Ventus c 17.6m","WW",""]
["Miroslav Sklenar",1964,"M","Žamberk","CZ/C2","JPJ 2020 - Kombi",{"$f":"VLOOKUP(F52,Soutez!B:C,2,FALSE)","v":"CZ"},{"$f":"VLOOKUP(F52,Soutez!B:D,3,FALSE)","v":2020},13,3582,{"$f":"VLOOKUP(F52,Soutez,12,0)","v":0.91},6489,5905,"x",null,"Duo Discus 700kg","VP",{"$f":"IF(ISERROR(VLOOKUP(A52,Pilot,6,0)),\"Není v databázi\",VLOOKUP(A52,Pilot,6,0))","v":""}]
["Roman Cerny",1971,"M","Hranice","CZ/M","JPJ 2020 - Kombi",{"$f":"VLOOKUP(F53,Soutez!B:C,2,FALSE)","v":"CZ"},{"$f":"VLOOKUP(F53,Soutez!B:D,3,FALSE)","v":2020},14,3089,0.91,5611,5106,"x",null,"LAK-17AT 18m","B2",""]
["Pavel Haluza",1966,"M","Prostějov","CZ/M","JPJ 2020 - Kombi",{"$f":"VLOOKUP(F54,Soutez!B:C,2,FALSE)","v":"CZ"},{"$f":"VLOOKUP(F54,Soutez!B:D,3,FALSE)","v":2020},15,2817,0.91,5059,4604,"x",null,"Nimbus 2b","HT",""]
["Vit Grossmann",1977,"M","Hranice","CZ/M","JPJ 2020 - Kombi",{"$f":"VLOOKUP(F55,Soutez!B:C,2,FALSE)","v":"CZ"},{"$f":"VLOOKUP(F55,Soutez!B:D,3,FALSE)","v":2020},16,2783,0.91,4859,{"$f":"ROUND(K55*L55,0)","v":4422},"x",null,"Duo Discus 700kg","OK",""]
["Tomas Profeld",1964,"M","Jičín","CZ/C2","JPJ 2020 - Kombi",{"$f":"VLOOKUP(F56,Soutez!B:C,2,FALSE)","v":"CZ"},{"$f":"VLOOKUP(F56,Soutez!B:D,3,FALSE)","v":2020},17,2577,0.91,4405,4009,null,null,"Ventus 2cm 18m 525kg","OZ",""]
["Martin Kriz",1968,"M","Přibyslav","CZ/C2","JPJ 2020 - Kombi",{"$f":"VLOOKUP(F57,Soutez!B:C,2,FALSE)","v":"CZ"},{"$f":"VLOOKUP(F57,Soutez!B:D,3,FALSE)","v":2020},18,2528,0.91,4183,3807,null,null,"ASW-20 (A)+F 15m WL",67,""]
["Albrecht Beat",1953,"M","Šumperk","CZ/M","JPJ 2020 - Kombi",{"$f":"VLOOKUP(F58,Soutez!B:C,2,FALSE)","v":"CZ"},{"$f":"VLOOKUP(F58,Soutez!B:D,3,FALSE)","v":2020},19,2176,0.91,3513,3197,"x",null,"LS-8 15m","GL",""]
["Vladimir Spilka",1940,"M","Hranice","CZ/M","JPJ 2020 - Kombi",{"$f":"VLOOKUP(F59,Soutez!B:C,2,FALSE)","v":"CZ"},{"$f":"VLOOKUP(F59,Soutez!B:D,3,FALSE)","v":2020},20,1712,0.91,2678,2437,"x",null,"Nimbus 2b","AY",""]
["Antonin Kutalek",1943,"M","Zábřeh","CZ/M","JPJ 2020 - Kombi",{"$f":"VLOOKUP(F60,Soutez!B:C,2,FALSE)","v":"CZ"},{"$f":"VLOOKUP(F60,Soutez!B:D,3,FALSE)","v":2020},21,1439,0.91,2125,1934,null,null,"Mini-Nimbus c","GLk",""]
["Klara Teichmannova",1993,"F","Hronov","CZ/C2","HOP 2020 - Klub",{"$f":"VLOOKUP(F61,Soutez!B:C,2,FALSE)","v":"CZ"},{"$f":"VLOOKUP(F61,Soutez!B:D,3,FALSE)","v":2020},1,3803,0.755,{"$f":"ROUND(J61/MAX($J$61:$J$86)*10000*0.7+(MAX($I$61:$I$86)-I61)/(MAX($I$61:$I$86)-1)*10000*0.3,0)","v":10000},7550,"x",null,"VT-116 Orlik 2",5509,""]
["Michal Janda",1972,"M","Broumov","CZ/C2","HOP 2020 - Klub",{"$f":"VLOOKUP(F62,Soutez!B:C,2,FALSE)","v":"CZ"},{"$f":"VLOOKUP(F62,Soutez!B:D,3,FALSE)","v":2020},2,3743,0.755,{"$f":"ROUND(J62/MAX($J$61:$J$86)*10000*0.7+(MAX($I$61:$I$86)-I62)/(MAX($I$61:$I$86)-1)*10000*0.3,0)","v":9770},7376,"x",null,"VT-116 Orlik 2",7402,""]
["Oldrich Slavicek",1959,"M","Hronov","CZ/C2","HOP 2020 - Klub",{"$f":"VLOOKUP(F63,Soutez!B:C,2,FALSE)","v":"CZ"},{"$f":"VLOOKUP(F63,Soutez!B:D,3,FALSE)","v":2020},3,3647,0.755,9473,7152,"x",null,"VT-116 Orlik 2",4310,""]
["Milan Svoboda 80",1980,"M","Havlíčkův Brod","CZ/C2","HOP 2020 - Klub",{"$f":"VLOOKUP(F64,Soutez!B:C,2,FALSE)","v":"CZ"},{"$f":"VLOOKUP(F64,Soutez!B:D,3,FALSE)","v":2020},4,3533,0.755,9143,6903,"x",null,"VT-116 Orlik 2",6446,""]
["Miroslav Stepan",1955,"M","Žamberk","CZ/C2","HOP 2020 - Klub",{"$f":"VLOOKUP(F65,Soutez!B:C,2,FALSE)","v":"CZ"},{"$f":"VLOOKUP(F65,Soutez!B:D,3,FALSE)","v":2020},5,3450,0.755,8870,6697,"x",null,"VT-116 Orlik 2",8412,""]
["Wolfgang Sluka",{"$f":"VLOOKUP(A66,Pilot,2,0)","v":1942},"M","Liberec","CZ/C2","HOP 2020 - Klub",{"$f":"VLOOKUP(F66,Soutez!B:C,2,FALSE)","v":"CZ"},{"$f":"VLOOKUP(F66,Soutez!B:D,3,FALSE)","v":2020},6,3386,0.755,8632,6517,null,null,"VT-116 Orlik 2",8425,""]
["Tomas Mezera",1973,"M","Raná","CZ/C2","HOP 2020 - Klub",{"$f":"VLOOKUP(F67,Soutez!B:C,2,FALSE)","v":"CZ"},{"$f":"VLOOKUP(F67,Soutez!B:D,3,FALSE)","v":2020},7,3095,0.755,7977,6023,"x",null,"VT-116 Orlik 2",8401,""]
["Josef Linhart, Milos Dedera",null,"M","AK Medlánky",null,"HOP 2020 - Klub",{"$f":"VLOOKUP(F68,Soutez!B:C,2,FALSE)","v":"CZ"},{"$f":"VLOOKUP(F68,Soutez!B:D,3,FALSE)","v":2020},8,2950,0.755,7590,5730,null,null,"Ka 6 E",9781,"Není v databázi"]
["Jaromir Vlk",{"$f":"VLOOKUP(A69,Pilot,2,0)","v":1959},{"$f":"VLOOKUP(A69,Pilot,5,0)","v":"M"},{"$f":"VLOOKUP(A69,Pilot,3,0)","v":"Šumperk"},{"$f":"VLOOKUP(A69,Pilot,4,0)","v":"CZ/M"},"HOP 2020 - Klub",{"$f":"VLOOKUP(F69,Soutez!B:C,2,FALSE)","v":"CZ"},{"$f":"VLOOKUP(F69,Soutez!B:D,3,FALSE)","v":2020},9,2829,0.755,7247,5471,"x",null,"VT-116 Orlik 2",6907,""]
["Ondrej Teichman",1984,"M","Dvůr Králové","CZ/C2","HOP 2020 - Klub",{"$f":"VLOOKUP(F70,Soutez!B:C,2,FALSE)","v":"CZ"},{"$f":"VLOOKUP(F70,Soutez!B:D,3,FALSE)","v":2020},10,2678,0.755,6849,5171,null,null,"VT-116 Orlik 2",6445,""]
["Jaromir Hendrych",1954,"M","Raná","CZ/C2","HOP 2020 - Klub",{"$f":"VLOOKUP(F71,Soutez!B:C,2,FALSE)","v":"CZ"},{"$f":"VLOOKUP(F71,Soutez!B:D,3,FALSE)","v":2020},11,2603,0.755,6591,4976,"x",null,"M-35",2403,""]
["Michal Nutil",1966,"M","Náchod","CZ/C2","HOP 2020 - Klub",{"$f":"VLOOKUP(F72,Soutez!B:C,2,FALSE)","v":"CZ"},{"$f":"VLOOKUP(F72,Soutez!B:D,3,FALSE)","v":2020},12,2510,0.755,6300,4757,"x",null,"VT-116 Orlik 2",7424,""]
["Vaclav Kysilka",1979,"M","GAC Benešov","CZ/C1","HOP 2020 - Klub",{"$f":"VLOOKUP(F73,Soutez!B:C,2,FALSE)","v":"CZ"},{"$f":"VLOOKUP(F73,Soutez!B:D,3,FALSE)","v":2020},13,2509,0.755,6178,4664,"x",null,"VT-116 Orlik 2",8430,""]
["Petr Vezda",1974,"M","Medlánky","CZ/M","HOP 2020 - Klub",{"$f":"VLOOKUP(F74,Soutez!B:C,2,FALSE)","v":"CZ"},{"$f":"VLOOKUP(F74,Soutez!B:D,3,FALSE)","v":2020},14,2312,0.755,{"$f":"ROUND(J74/MAX($J$61:$J$86)*10000*0.7+(MAX($I$61:$I$86)-I74)/(MAX($I$61:$I$86)-1)*10000*0.3,0)","v":5696},4300,"x",null,"VT-116 Orlik 2",4321,""]
["Oldrich Hlavacek",1973,"M","Medlánky","CZ/M","HOP 2020 - Klub",{"$f":"VLOOKUP(F75,Soutez!B:C,2,FALSE)","v":"CZ"},{"$f":"VLOOKUP(F75,Soutez!B:D,3,FALSE)","v":2020},15,2261,0.755,5482,4139,"x",null,"VT-116 Orlik 2",4307,""]
["Jana Mezerova",1975,"F","Raná","CZ/C2","HOP 2020 - Klub",{"$f":"VLOOKUP(F76,Soutez!B:C,2,FALSE)","v":"CZ"},{"$f":"VLOOKUP(F76,Soutez!B:D,3,FALSE)","v":2020},16,2245,0.755,5332,4026,"x","x","VT-116 Orlik 2",7425,""]
["Matej Jelinek",1999,"M","Hronov","CZ/C2","HOP 2020 - Klub",{"$f":"VLOOKUP(F77,Soutez!B:C,2,FALSE)","v":"CZ"},{"$f":"VLOOKUP(F77,Soutez!B:D,3,FALSE)","v":2020},17,2172,0.755,5078,3834,"x",null,"VT-116 Orlik 2",6922,"Junior v roce 2023"]
["Krystof Mimra",1992,"M","Most","CZ/C2","HOP 2020 - Klub",{"$f":"VLOOKUP(F78,Soutez!B:C,2,FALSE)","v":"CZ"},{"$f":"VLOOKUP(F78,Soutez!B:D,3,FALSE)","v":2020},18,2135,0.755,{"$f":"ROUND(J78/MAX($J$61:$J$86)*10000*0.7+(MAX($I$61:$I$86)-I78)/(MAX($I$61:$I$86)-1)*10000*0.3,0)","v":4890},3692,null,null,"VT-116 Orlik 2",7413,""]
["Petr Seibrt",1974,"M","Náchod","CZ/C2","HOP 2020 - Klub",{"$f":"VLOOKUP(F79,Soutez!B:C,2,FALSE)","v":"CZ"},{"$f":"VLOOKUP(F79,Soutez!B:D,3,FALSE)","v":2020},19,2134,0.755,4768,3600,"x",null,"VT-16 Orlik",2412,""]
["Milos Hrabe",1979,"M","Letňany","CZ/C1","HOP 2020 - Klub",{"$f":"VLOOKUP(F80,Soutez!B:C,2,FALSE)","v":"CZ"},{"$f":"VLOOKUP(F80,Soutez!B:D,3,FALSE)","v":2020},20,2019,0.755,4436,3349,"x",null,"VT-116 Orlik 2",6444,""]
["Miroslav Major",1968,"M","Kralupy","CZ/C1","HOP 2020 - Klub",{"$f":"VLOOKUP(F81,Soutez!B:C,2,FALSE)","v":"CZ"},{"$f":"VLOOKUP(F81,Soutez!B:D,3,FALSE)","v":2020},21,1923,0.755,4140,3126,"x",null,"VT-116 Orlik 2",7403,""]
["Petr Vlasak",1974,"M","Medlánky","CZ/M","HOP 2020 - Klub",{"$f":"VLOOKUP(F82,Soutez!B:C,2,FALSE)","v":"CZ"},{"$f":"VLOOKUP(F82,Soutez!B:D,3,FALSE)","v":2020},22,1563,0.755,3357,2535,"x",null,"VT-16 Orlik",2909,""]
["Sarka Lochova",1966,"F","Šumperk","CZ/M","HOP 2020 - Klub",{"$f":"VLOOKUP(F83,Soutez!B:C,2,FALSE)","v":"CZ"},{"$f":"VLOOKUP(F83,Soutez!B:D,3,FALSE)","v":2020},23,1561,0.755,3233,2441,null,null,"VT-116 Orlik 2",7445,""]
["Tomas Holenda",1956,"M","Havlíčkův Brod","CZ/C2","HOP 2020 - Klub",{"$f":"VLOOKUP(F84,Soutez!B:C,2,FALSE)","v":"CZ"},{"$f":"VLOOKUP(F84,Soutez!B:D,3,FALSE)","v":2020},24,1378,0.755,2776,2096,null,null,"VT-116 Orlik 2",4314,""]
["Jiri Klicnar",1965,"M","Medlánky","CZ/M","HOP 2020 - Klub",{"$f":"VLOOKUP(F85,Soutez!B:C,2,FALSE)","v":"CZ"},{"$f":"VLOOKUP(F85,Soutez!B:D,3,FALSE)","v":2020},25,1316,0.755,2542,1919,"x",null,"M-28",2903,""]
["Martin Adamec",1971,"M","Medlánky","CZ/M","HOP 2020 - Klub",{"$f":"VLOOKUP(F86,Soutez!B:C,2,FALSE)","v":"CZ"},{"$f":"VLOOKUP(F86,Soutez!B:D,3,FALSE)","v":2020},26,723,0.755,1331,1005,"x",null,"VT-116 Orlik 2",8406,""]
["David Mach",1994,"M","Hronov","CZ/C2","HOP 2020 - Kombi",{"$f":"VLOOKUP(F87,Soutez!B:C,2,FALSE)","v":"CZ"},{"$f":"VLOOKUP(F87,Soutez!B:D,3,FALSE)","v":2020},1,4289,0.76,{"$f":"ROUND(J87/MAX($J$87:$J$105)*10000*0.7+(MAX($I$87:$I$105)-I87)/(MAX($I$87:$I$105)-1)*10000*0.3,0)","v":10000},7600,null,null,"ASG 29/18m (voda)","QZ",""]
["Sebastian Bode",null,"M","FSV Eisenhüttenstadt","DE","HOP 2020 - Kombi",{"$f":"VLOOKUP(F88,Soutez!B:C,2,FALSE)","v":"CZ"},{"$f":"VLOOKUP(F88,Soutez!B:D,3,FALSE)","v":2020},2,3315,0.76,{"$f":"ROUND(J88/MAX($J$87:$J$105)*10000*0.7+(MAX($I$87:$I$105)-I88)/(MAX($I$87:$I$105)-1)*10000*0.3,0)","v":8244},6265,null,null,"HPH 304S Shark (voda)","AY","Není v databázi"]
["Martin Koci",{"$f":"VLOOKUP(A89,Pilot,2,0)","v":1975},{"$f":"VLOOKUP(A89,Pilot,5,0)","v":"M"},{"$f":"VLOOKUP(A89,Pilot,3,0)","v":"Ústí nad Orlicí"},{"$f":"VLOOKUP(A89,Pilot,4,0)","v":"CZ/C2"},"HOP 2020 - Kombi",{"$f":"VLOOKUP(F89,Soutez!B:C,2,FALSE)","v":"CZ"},{"$f":"VLOOKUP(F89,Soutez!B:D,3,FALSE)","v":2020},3,3267,0.76,7999,6079,"x",null,"Discus b (bez vody)","XE",""]
["Zdenek Schenk",1972,"M","Hranice","CZ/M","HOP 2020 - Kombi",{"$f":"VLOOKUP(F90,Soutez!B:C,2,FALSE)","v":"CZ"},{"$f":"VLOOKUP(F90,Soutez!B:D,3,FALSE)","v":2020},4,3181,0.76,7692,5846,null,null,"Ventus cm 17,6m (bez vody)","SNeK",""]
["Zdenek Boruvka 54",1954,"M","Jičín","CZ/C2","HOP 2020 - Kombi",{"$f":"VLOOKUP(F91,Soutez!B:C,2,FALSE)","v":"CZ"},{"$f":"VLOOKUP(F91,Soutez!B:D,3,FALSE)","v":2020},5,3160,0.76,7491,5693,null,null,"LS 8 15 m (voda)","ZB",""]
["Vratislav Sram",1966,"M","Broumov","CZ/C2","HOP 2020 - Kombi",{"$f":"VLOOKUP(F92,Soutez!B:C,2,FALSE)","v":"CZ"},{"$f":"VLOOKUP(F92,Soutez!B:D,3,FALSE)","v":2020},6,3150,0.76,7308,5554,null,null,"Janus b (bez vody)","KG",""]
["Petr Fisar",1974,"M","Ústí nad Orlicí","CZ/C2","HOP 2020 - Kombi",{"$f":"VLOOKUP(F93,Soutez!B:C,2,FALSE)","v":"CZ"},{"$f":"VLOOKUP(F93,Soutez!B:D,3,FALSE)","v":2020},7,3142,0.76,7128,5417,"x",null,"Mosquito b (bez vody)","PF",""]
["Jan Kohout",1970,"M","Žamberk","CZ/C2","HOP 2020 - Kombi",{"$f":"VLOOKUP(F94,Soutez!B:C,2,FALSE)","v":"CZ"},{"$f":"VLOOKUP(F94,Soutez!B:D,3,FALSE)","v":2020},8,3091,0.76,6878,5227,"x",null,"LS 8 15 m (voda)","SK",""]
["Michal Maly",1982,"M","Broumov","CZ/C2","HOP 2020 - Kombi",{"$f":"VLOOKUP(F95,Soutez!B:C,2,FALSE)","v":"CZ"},{"$f":"VLOOKUP(F95,Soutez!B:D,3,FALSE)","v":2020},9,2954,0.76,6488,4931,"x",null,"Ventus c 17,6 (voda)","JN",""]
["Petr Babak",1973,"M","Hořice","CZ/C2","HOP 2020 - Kombi",{"$f":"VLOOKUP(F96,Soutez!B:C,2,FALSE)","v":"CZ"},{"$f":"VLOOKUP(F96,Soutez!B:D,3,FALSE)","v":2020},10,2905,0.76,6241,4743,null,null,"Ventus c 17,6 (voda)","LS",""]
["Vaclav Kult",1973,"M","Broumov","CZ/C2","HOP 2020 - Kombi",{"$f":"VLOOKUP(F97,Soutez!B:C,2,FALSE)","v":"CZ"},{"$f":"VLOOKUP(F97,Soutez!B:D,3,FALSE)","v":2020},11,2837,0.76,5964,4533,"x",null,"Nimbus 2 b WL (voda)","VK",""]
["Christian Rakowski",null,"M","FSV Eisenhüttenstadt","DE","HOP 2020 - Kombi",{"$f":"VLOOKUP(F98,Soutez!B:C,2,FALSE)","v":"CZ"},{"$f":"VLOOKUP(F98,Soutez!B:D,3,FALSE)","v":2020},12,2820,0.76,5769,4384,null,null,"ASW 24 WL (bez vody)","TD","Není v databázi"]
["Timo+George Jakl",null,"M","AK Ústí nad Orlicí","CZ/DE","HOP 2020 - Kombi",{"$f":"VLOOKUP(F99,Soutez!B:C,2,FALSE)","v":"CZ"},{"$f":"VLOOKUP(F99,Soutez!B:D,3,FALSE)","v":2020},13,2770,0.76,5521,4196,null,null,"Janus b (bez vody)","GJ","Není v databázi"]
["Jan Rott",{"$f":"VLOOKUP(A100,Pilot,2,0)","v":1962},{"$f":"VLOOKUP(A100,Pilot,5,0)","v":"M"},{"$f":"VLOOKUP(A100,Pilot,3,0)","v":"Hronov"},{"$f":"VLOOKUP(A100,Pilot,4,0)","v":"CZ/C2"},"HOP 2020 - Kombi",{"$f":"VLOOKUP(F100,Soutez!B:C,2,FALSE)","v":"CZ"},{"$f":"VLOOKUP(F100,Soutez!B:D,3,FALSE)","v":2020},14,2767,0.76,5349,4065,"x",null,"HPH 304 cz 17,4 (bez vody)","Jou",""]
["Jan Cerveny",{"$f":"VLOOKUP(A101,Pilot,2,0)","v":1984},{"$f":"VLOOKUP(A101,Pilot,5,0)","v":"M"},{"$f":"VLOOKUP(A101,Pilot,3,0)","v":"Jaroměř"},{"$f":"VLOOKUP(A101,Pilot,4,0)","v":"CZ/C2"},"HOP 2020 - Kombi",{"$f":"VLOOKUP(F101,Soutez!B:C,2,FALSE)","v":"CZ"},{"$f":"VLOOKUP(F101,Soutez!B:D,3,FALSE)","v":2020},15,2690,0.76,5057,3843,"x",null,"LS 3a (bez vody)","EI",""]
["Miloslav Cindr",{"$f":"VLOOKUP(A102,Pilot,2,0)","v":1974},{"$f":"VLOOKUP(A102,Pilot,5,0)","v":"M"},{"$f":"VLOOKUP(A102,Pilot,3,0)","v":"Ústí nad Orlicí"},{"$f":"VLOOKUP(A102,Pilot,4,0)","v":"CZ/C2"},"HOP 2020 - Kombi",{"$f":"VLOOKUP(F102,Soutez!B:C,2,FALSE)","v":"CZ"},{"$f":"VLOOKUP(F102,Soutez!B:D,3,FALSE)","v":2020},16,2306,0.76,4264,3241,"x",null,"Ventus c 17,6 (bez vody)","MC",""]
["Jiri Suchomel",{"$f":"VLOOKUP(A103,Pilot,2,0)","v":1950},{"$f":"VLOOKUP(A103,Pilot,5,0)","v":"M"},{"$f":"VLOOKUP(A103,Pilot,3,0)","v":"Broumov"},{"$f":"VLOOKUP(A103,Pilot,4,0)","v":"CZ/C2"},"HOP 2020 - Kombi",{"$f":"VLOOKUP(F103,Soutez!B:C,2,FALSE)","v":"CZ"},{"$f":"VLOOKUP(F103,Soutez!B:D,3,FALSE)","v":2020},17,2203,0.76,3929,2986,"x",null,"Janus b (bez vody)","V1",""]
["Miroslav+Josef Plechac",null,"M","AK Hronov","CZ/C2","HOP 2020 - Kombi",{"$f":"VLOOKUP(F104,Soutez!B:C,2,FALSE)","v":"CZ"},{"$f":"VLOOKUP(F104,Soutez!B:D,3,FALSE)","v":2020},18,2138,0.76,{"$f":"ROUND(J104/MAX($J$87:$J$105)*10000*0.7+(MAX($I$87:$I$105)-I104)/(MAX($I$87:$I$105)-1)*10000*0.3,0)","v":3656},2779,null,null,"Nimbus 2 WL (voda)","PM","Není v databázi"]
["Milos Novotny",{"$f":"VLOOKUP(A105,Pilot,2,0)","v":1973},{"$f":"VLOOKUP(A105,Pilot,5,0)","v":"M"},{"$f":"VLOOKUP(A105,Pilot,3,0)","v":"Hronov"},{"$f":"VLOOKUP(A105,Pilot,4,0)","v":"CZ/C2"},"HOP 2020 - Kombi",{"$f":"VLOOKUP(F105,Soutez!B:C,2,FALSE)","v":"CZ"},{"$f":"VLOOKUP(F105,Soutez!B:D,3,FALSE)","v":2020},19,1757,0.76,2868,2180,"x",null,"Ventus b 16.6m (bez vody)","VeV",""]
["Friedrich Hofinger",null,"M","SMBC Kirchdorf Micheldorf",null,"Alpe Adria Cup 2020 - Kombi 106",{"$f":"VLOOKUP(F106,Soutez!B:C,2,FALSE)","v":"AT"},{"$f":"VLOOKUP(F106,Soutez!B:D,3,FALSE)","v":2020},1,4989,0.76500000000000001,{"$f":"ROUND(J106/MAX($J$106:$J$126)*10000*0.7+(MAX($I$106:$I$126)-I106)/(MAX($I$106:$I$126)-1)*10000*0.3,0)","v":10000},7650,null,null,"Discus 2ct","KN","Není v databázi"]
["Supersperger & Puhl",null,null,"SMBC Kirchdorf/Micheldorf",null,"Alpe Adria Cup 2020 - Kombi 106",{"$f":"VLOOKUP(F107,Soutez!B:C,2,FALSE)","v":"AT"},{"$f":"VLOOKUP(F107,Soutez!B:D,3,FALSE)","v":2020},2,4988,0.76500000000000001,{"$f":"ROUND(J107/MAX($J$106:$J$126)*10000*0.7+(MAX($I$106:$I$126)-I107)/(MAX($I$106:$I$126)-1)*10000*0.3,0)","v":9849},7534,null,null,"DUO Discus","M1","Není v databázi"]
["Jan Jagiello",null,"M","Österreich",null,"Alpe Adria Cup 2020 - Kombi 106",{"$f":"VLOOKUP(F108,Soutez!B:C,2,FALSE)","v":"AT"},{"$f":"VLOOKUP(F108,Soutez!B:D,3,FALSE)","v":2020},3,4625,0.76500000000000001,9189,7030,null,null,"Ventus CM","SN","Není v databázi"]
["Achleitner & Haslinger",null,null,"Österreich",null,"Alpe Adria Cup 2020 - Kombi 106",{"$f":"VLOOKUP(F109,Soutez!B:C,2,FALSE)","v":"AT"},{"$f":"VLOOKUP(F109,Soutez!B:D,3,FALSE)","v":2020},4,4560,0.76500000000000001,8948,6845,null,null,"ASG32Mi","GA","Není v databázi"]
["Petr Malcek",{"$f":"VLOOKUP(A110,Pilot,2,0)","v":1965},{"$f":"VLOOKUP(A110,Pilot,5,0)","v":"M"},{"$f":"VLOOKUP(A110,Pilot,3,0)","v":"Letňany"},{"$f":"VLOOKUP(A110,Pilot,4,0)","v":"CZ/C1"},"Alpe Adria Cup 2020 - Kombi 106",{"$f":"VLOOKUP(F110,Soutez!B:C,2,FALSE)","v":"AT"},{"$f":"VLOOKUP(F110,Soutez!B:D,3,FALSE)","v":2020},5,4331,0.76500000000000001,{"$f":"ROUND(J110/MAX($J$106:$J$126)*10000*0.7+(MAX($I$106:$I$126)-I110)/(MAX($I$106:$I$126)-1)*10000*0.3,0)","v":8477},6485,"x",null,"LS6c-18w","F5",""]
["Herbert Pirker",null,"M","FAS",null,"Alpe Adria Cup 2020 - Kombi 106",{"$f":"VLOOKUP(F111,Soutez!B:C,2,FALSE)","v":"AT"},{"$f":"VLOOKUP(F111,Soutez!B:D,3,FALSE)","v":2020},6,4269,0.76500000000000001,8240,6304,null,null,"Ventus Cm","PM","Není v databázi"]
["van Houweninge & Hallbrucker",null,null,"ISV",null,"Alpe Adria Cup 2020 - Kombi 106",{"$f":"VLOOKUP(F112,Soutez!B:C,2,FALSE)","v":"AT"},{"$f":"VLOOKUP(F112,Soutez!B:D,3,FALSE)","v":2020},7,4218,0.76500000000000001,8018,6134,null,null,"Arcus M",3,"Není v databázi"]
["Klaus Porod",null,"M","FSV Feldkirchen",null,"Alpe Adria Cup 2020 - Kombi 106",{"$f":"VLOOKUP(F113,Soutez!B:C,2,FALSE)","v":"AT"},{"$f":"VLOOKUP(F113,Soutez!B:D,3,FALSE)","v":2020},8,4073,0.76500000000000001,7665,5864,null,null,"Discus 2cT","PSI","Není v databázi"]
["Philipp Wittwer",null,"M","Österreich",null,"Alpe Adria Cup 2020 - Kombi 106",{"$f":"VLOOKUP(F114,Soutez!B:C,2,FALSE)","v":"AT"},{"$f":"VLOOKUP(F114,Soutez!B:D,3,FALSE)","v":2020},9,4060,0.76500000000000001,7497,5735,null,null,"LS 8","ZL","Není v databázi"]
["Sauter & Hecht",null,null,"FSG Wangen",null,"Alpe Adria Cup 2020 - Kombi 106",{"$f":"VLOOKUP(F115,Soutez!B:C,2,FALSE)","v":"AT"},{"$f":"VLOOKUP(F115,Soutez!B:D,3,FALSE)","v":2020},10,3684,0.76500000000000001,6819,5217,null,null,"Arcus M","EW","Není v databázi"]
["Herwig Wagner",null,"M","St. Flugsportunion",null,"Alpe Adria Cup 2020 - Kombi 106",{"$f":"VLOOKUP(F116,Soutez!B:C,2,FALSE)","v":"AT"},{"$f":"VLOOKUP(F116,Soutez!B:D,3,FALSE)","v":2020},11,3325,{"$f":"VLOOKUP(F116,Soutez,12,0)","v":0.76500000000000001},6165,4716,null,null,"SZD 55","KE",{"$f":"IF(ISERROR(VLOOKUP(A116,Pilot,6,0)),\"Není v databázi\",VLOOKUP(A116,Pilot,6,0))","v":"Není v databázi"}]
["Florian Forcher",null,"M","SFC Pinkafeld",null,"Alpe Adria Cup 2020 - Kombi 106",{"$f":"VLOOKUP(F117,Soutez!B:C,2,FALSE)","v":"AT"},{"$f":"VLOOKUP(F117,Soutez!B:D,3,FALSE)","v":2020},11,3325,0.76500000000000001,6165,4716,null,null,"DG 300 WL","N1","Není v databázi"]
["Schneeweis & Mayrhofer",null,null,"ASKÖ Flugsportverein Linz",null,"Alpe Adria Cup 2020 - Kombi 106",{"$f":"VLOOKUP(F118,Soutez!B:C,2,FALSE)","v":"AT"},{"$f":"VLOOKUP(F118,Soutez!B:D,3,FALSE)","v":2020},13,2946,0.76500000000000001,5333,4080,null,null,"Duo Discus","L","Není v databázi"]
["Feichter & Treffner",null,null,"Österreich",null,"Alpe Adria Cup 2020 - Kombi 106",{"$f":"VLOOKUP(F119,Soutez!B:C,2,FALSE)","v":"AT"},{"$f":"VLOOKUP(F119,Soutez!B:D,3,FALSE)","v":2020},14,2944,0.76500000000000001,5181,{"$f":"ROUND(K119*L119,0)","v":3963},null,null,"Arcus-T","UHM","Není v databázi"]
["Ute Baranowski",null,"M","Alpenflugzentrum Unterwössen e.V.",null,"Alpe Adria Cup 2020 - Kombi 106",{"$f":"VLOOKUP(F120,Soutez!B:C,2,FALSE)","v":"AT"},{"$f":"VLOOKUP(F120,Soutez!B:D,3,FALSE)","v":2020},15,2406,0.76500000000000001,4276,3271,null,null,"Ventus 2ax","IB","Není v databázi"]
["Tomasz Królik",null,"M",null,null,"Alpe Adria Cup 2020 - Kombi 106",{"$f":"VLOOKUP(F121,Soutez!B:C,2,FALSE)","v":"AT"},{"$f":"VLOOKUP(F121,Soutez!B:D,3,FALSE)","v":2020},16,2258,0.76500000000000001,3918,2997,null,null,"Ventus a","TT","Není v databázi"]
["Karl Ortner",null,"M","SMBC",null,"Alpe Adria Cup 2020 - Kombi 106",{"$f":"VLOOKUP(F122,Soutez!B:C,2,FALSE)","v":"AT"},{"$f":"VLOOKUP(F122,Soutez!B:D,3,FALSE)","v":2020},17,1960,0.76500000000000001,3350,2563,null,null,"Ventus2b","M3","Není v databázi"]
["Hauser & Wöckner",null,null,"Lägern",null,"Alpe Adria Cup 2020 - Kombi 106",{"$f":"VLOOKUP(F123,Soutez!B:C,2,FALSE)","v":"AT"},{"$f":"VLOOKUP(F123,Soutez!B:D,3,FALSE)","v":2020},18,1756,0.76500000000000001,2914,2229,null,null,"ASG32 Mi","HM","Není v databázi"]
["Flicker & Frech",null,null,null,null,"Alpe Adria Cup 2020 - Kombi 106",{"$f":"VLOOKUP(F124,Soutez!B:C,2,FALSE)","v":"AT"},{"$f":"VLOOKUP(F124,Soutez!B:D,3,FALSE)","v":2020},19,1528,0.76500000000000001,2444,1870,null,null,"Duo Discus","MM","Není v databázi"]
["Alexander Lukasik",null,"M","Deutschland",null,"Alpe Adria Cup 2020 - Kombi 106",{"$f":"VLOOKUP(F125,Soutez!B:C,2,FALSE)","v":"AT"},{"$f":"VLOOKUP(F125,Soutez!B:D,3,FALSE)","v":2020},20,1476,0.76500000000000001,2221,1699,null,null,"SZD-55","FY","Není v databázi"]
["Salomon & Dawkins",null,null,"Steirische Flugsportunion",null,"Alpe Adria Cup 2020 - Kombi 106",{"$f":"VLOOKUP(F126,Soutez!B:C,2,FALSE)","v":"AT"},{"$f":"VLOOKUP(F126,Soutez!B:D,3,FALSE)","v":2020},21,640,0.76500000000000001,898,687,null,null,"Arcus M","FS","Není v databázi"]
["Wolfgang Janowitsch",null,"M","FRA-Wr.Neustadt",null,"Alpe Adria Cup 2020 - Kombi Open",{"$f":"VLOOKUP(F127,Soutez!B:C,2,FALSE)","v":"AT"},{"$f":"VLOOKUP(F127,Soutez!B:D,3,FALSE)","v":2020},1,5992,0.77500000000000002,{"$f":"ROUND(J127/MAX($J$127:$J$150)*10000*0.7+(MAX($I$127:$I$150)-I127)/(MAX($I$127:$I$150)-1)*10000*0.3,0)","v":10000},7750,null,null,"Ventus 3T","WO","Není v databázi"]
["Heimo Demmerer",null,"M","SFC-Mariazell",null,"Alpe Adria Cup 2020 - Kombi Open",{"$f":"VLOOKUP(F128,Soutez!B:C,2,FALSE)","v":"AT"},{"$f":"VLOOKUP(F128,Soutez!B:D,3,FALSE)","v":2020},2,5820,0.77500000000000002,{"$f":"ROUND(J128/MAX($J$127:$J$150)*10000*0.7+(MAX($I$127:$I$150)-I128)/(MAX($I$127:$I$150)-1)*10000*0.3,0)","v":9669},7493,null,null,"Ventus 2CM","OD","Není v databázi"]
["Stefan Sidler",null,"M","SG Knonaueramt",null,"Alpe Adria Cup 2020 - Kombi Open",{"$f":"VLOOKUP(F129,Soutez!B:C,2,FALSE)","v":"AT"},{"$f":"VLOOKUP(F129,Soutez!B:D,3,FALSE)","v":2020},3,5597,0.77500000000000002,9278,7190,null,null,"ASG 29","KF","Není v databázi"]
["Sven Kolb",null,"M","HGSV",null,"Alpe Adria Cup 2020 - Kombi Open",{"$f":"VLOOKUP(F130,Soutez!B:C,2,FALSE)","v":"AT"},{"$f":"VLOOKUP(F130,Soutez!B:D,3,FALSE)","v":2020},4,5294,0.77500000000000002,8793,6815,null,null,"Antares LF20e","ZF","Není v databázi"]
["Michael Rass",null,"M","St.Johann",null,"Alpe Adria Cup 2020 - Kombi Open",{"$f":"VLOOKUP(F131,Soutez!B:C,2,FALSE)","v":"AT"},{"$f":"VLOOKUP(F131,Soutez!B:D,3,FALSE)","v":2020},5,5267,0.77500000000000002,8631,6689,null,null,"Ventus 2cT","HA","Není v databázi"]
["Thomas Krüger",null,"M","Deutschland",null,"Alpe Adria Cup 2020 - Kombi Open",{"$f":"VLOOKUP(F132,Soutez!B:C,2,FALSE)","v":"AT"},{"$f":"VLOOKUP(F132,Soutez!B:D,3,FALSE)","v":2020},6,5148,0.77500000000000002,8362,6481,null,null,"EB 29","TK","Není v databázi"]
["Andreas Lutz",null,"M","SFC Ried/ FGWH",null,"Alpe Adria Cup 2020 - Kombi Open",{"$f":"VLOOKUP(F133,Soutez!B:C,2,FALSE)","v":"AT"},{"$f":"VLOOKUP(F133,Soutez!B:D,3,FALSE)","v":2020},7,5140,0.77500000000000002,8222,6372,null,null,"Ventus 3","A","Není v databázi"]
["Werner Danz",null,"M","SG Glarnerland",null,"Alpe Adria Cup 2020 - Kombi Open",{"$f":"VLOOKUP(F134,Soutez!B:C,2,FALSE)","v":"AT"},{"$f":"VLOOKUP(F134,Soutez!B:D,3,FALSE)","v":2020},8,5124,0.77500000000000002,8073,6257,null,null,"Antares 18T","BT","Není v databázi"]
["Dominik Mauchle",null,"M","SG Bad Ragaz",null,"Alpe Adria Cup 2020 - Kombi Open",{"$f":"VLOOKUP(F135,Soutez!B:C,2,FALSE)","v":"AT"},{"$f":"VLOOKUP(F135,Soutez!B:D,3,FALSE)","v":2020},9,4948,0.77500000000000002,7737,5996,null,null,"DG-808C","D","Není v databázi"]
["Klaus Kalmbach",null,"M","FSV Tübingen e.V.",null,"Alpe Adria Cup 2020 - Kombi Open",{"$f":"VLOOKUP(F136,Soutez!B:C,2,FALSE)","v":"AT"},{"$f":"VLOOKUP(F136,Soutez!B:D,3,FALSE)","v":2020},10,4834,0.77500000000000002,7473,5792,null,null,"Nimbus4M","OL","Není v databázi"]
["Christoph Limpert",null,"M","Rhönflug Gersfeld",null,"Alpe Adria Cup 2020 - Kombi Open",{"$f":"VLOOKUP(F137,Soutez!B:C,2,FALSE)","v":"AT"},{"$f":"VLOOKUP(F137,Soutez!B:D,3,FALSE)","v":2020},11,4617,0.77500000000000002,7089,5494,null,null,"ASG29","CC","Není v databázi"]
["Christian Hynek",null,"M","streckenflug.at",null,"Alpe Adria Cup 2020 - Kombi Open",{"$f":"VLOOKUP(F138,Soutez!B:C,2,FALSE)","v":"AT"},{"$f":"VLOOKUP(F138,Soutez!B:D,3,FALSE)","v":2020},12,4553,0.77500000000000002,6884,5335,null,null,"EB29DR","DD","Není v databázi"]
["Andreas Klugsberger",null,"M",null,null,"Alpe Adria Cup 2020 - Kombi Open",{"$f":"VLOOKUP(F139,Soutez!B:C,2,FALSE)","v":"AT"},{"$f":"VLOOKUP(F139,Soutez!B:D,3,FALSE)","v":2020},13,4435,0.77500000000000002,6616,5127,null,null,"ASH26E","HF","Není v databázi"]
["Georg Falkensammer",null,"M","FSV Feldkirchen/Ossiachersee",null,"Alpe Adria Cup 2020 - Kombi Open",{"$f":"VLOOKUP(F140,Soutez!B:C,2,FALSE)","v":"AT"},{"$f":"VLOOKUP(F140,Soutez!B:D,3,FALSE)","v":2020},14,4075,0.77500000000000002,6065,4700,null,null,"Antares 18T","FW","Není v databázi"]
["Rainer Cronjäger",null,"M","SG Knonaueramt",null,"Alpe Adria Cup 2020 - Kombi Open",{"$f":"VLOOKUP(F141,Soutez!B:C,2,FALSE)","v":"AT"},{"$f":"VLOOKUP(F141,Soutez!B:D,3,FALSE)","v":2020},15,4041,0.77500000000000002,5895,4569,null,null,"ASH 31MI","I","Není v databázi"]
["Matthias Hölzl",null,"M","AFZ Unterwössen",null,"Alpe Adria Cup 2020 - Kombi Open",{"$f":"VLOOKUP(F142,Soutez!B:C,2,FALSE)","v":"AT"},{"$f":"VLOOKUP(F142,Soutez!B:D,3,FALSE)","v":2020},16,3953,0.77500000000000002,5661,4387,null,null,"ASG29e","HNO","Není v databázi"]
["Thomas Hynek",null,"M","Flugschule ASKÖ Wioen",null,"Alpe Adria Cup 2020 - Kombi Open",{"$f":"VLOOKUP(F143,Soutez!B:C,2,FALSE)","v":"AT"},{"$f":"VLOOKUP(F143,Soutez!B:D,3,FALSE)","v":2020},17,3848,0.77500000000000002,5408,4191,null,null,"Ventus 2cm","HU","Není v databázi"]
["Wolfgang Zimmermann",null,"M","Flugring Wr. Neustadt",null,"Alpe Adria Cup 2020 - Kombi Open",{"$f":"VLOOKUP(F144,Soutez!B:C,2,FALSE)","v":"AT"},{"$f":"VLOOKUP(F144,Soutez!B:D,3,FALSE)","v":2020},18,3736,0.77500000000000002,5147,3989,null,null,"Ventus3M","WZ","Není v databázi"]
["Rene Schönmann",null,"M","Segelfluggruppe Basel Fricktal",null,"Alpe Adria Cup 2020 - Kombi Open",{"$f":"VLOOKUP(F145,Soutez!B:C,2,FALSE)","v":"AT"},{"$f":"VLOOKUP(F145,Soutez!B:D,3,FALSE)","v":2020},19,3489,0.77500000000000002,{"$f":"ROUND(J145/MAX($J$127:$J$150)*10000*0.7+(MAX($I$127:$I$150)-I145)/(MAX($I$127:$I$150)-1)*10000*0.3,0)","v":4728},3664,null,null,"JS1-C 18m","LI","Není v databázi"]
["Conrad Hartter",null,"M","FSV Tuebingen",null,"Alpe Adria Cup 2020 - Kombi Open",{"$f":"VLOOKUP(F146,Soutez!B:C,2,FALSE)","v":"AT"},{"$f":"VLOOKUP(F146,Soutez!B:D,3,FALSE)","v":2020},20,3000,0.77500000000000002,4026,3120,null,null,"JS1c 18m","OT","Není v databázi"]
["Gerold Auerbach",null,"M","LSV Salzburg",null,"Alpe Adria Cup 2020 - Kombi Open",{"$f":"VLOOKUP(F147,Soutez!B:C,2,FALSE)","v":"AT"},{"$f":"VLOOKUP(F147,Soutez!B:D,3,FALSE)","v":2020},21,2211,0.77500000000000002,2974,2305,null,null,"ASH 31","FT","Není v databázi"]
["Karel Krobath",null,"M","SFC Tulln",null,"Alpe Adria Cup 2020 - Kombi Open",{"$f":"VLOOKUP(F148,Soutez!B:C,2,FALSE)","v":"AT"},{"$f":"VLOOKUP(F148,Soutez!B:D,3,FALSE)","v":2020},22,1993,0.77500000000000002,2589,2006,null,null,"HPH 304MS","Q","Není v databázi"]
["Erich Niedl",null,"M","USFC Tulln",null,"Alpe Adria Cup 2020 - Kombi Open",{"$f":"VLOOKUP(F149,Soutez!B:C,2,FALSE)","v":"AT"},{"$f":"VLOOKUP(F149,Soutez!B:D,3,FALSE)","v":2020},23,1019,0.77500000000000002,1321,1024,null,null,"Ventus 2cxT","CX","Není v databázi"]
["Alexander Schütz",null,"M","AFZ Unterwössen",null,"Alpe Adria Cup 2020 - Kombi Open",{"$f":"VLOOKUP(F150,Soutez!B:C,2,FALSE)","v":"AT"},{"$f":"VLOOKUP(F150,Soutez!B:D,3,FALSE)","v":2020},24,0,0.77500000000000002,0,0,null,null,"Ventus 2cT","AI","Není v databázi"]
["Michal Cupak",{"$f":"VLOOKUP(A151,Pilot,2,0)","v":1991},{"$f":"VLOOKUP(A151,Pilot,5,0)","v":"M"},{"$f":"VLOOKUP(A151,Pilot,3,0)","v":"Medlánky"},{"$f":"VLOOKUP(A151,Pilot,4,0)","v":"CZ/M"},"Adrenalin GP 2020 - Klub GP",{"$f":"VLOOKUP(F151,Soutez!B:C,2,FALSE)","v":"CZ"},{"$f":"VLOOKUP(F151,Soutez!B:D,3,FALSE)","v":2020},1,7,0,{"$f":"ROUND((MAX($I$151:$I$159)-I151)/(MAX($I$151:$I$159)-1)*10000,0)","v":10000},0,null,null,"Std. Cirrus","A7",""]
["Jan Mareth",1979,"M","Frýdlant","CZ/M","Adrenalin GP 2020 - Klub GP",{"$f":"VLOOKUP(F152,Soutez!B:C,2,FALSE)","v":"CZ"},{"$f":"VLOOKUP(F152,Soutez!B:D,3,FALSE)","v":2020},2,5,0,{"$f":"ROUND((MAX($I$151:$I$159)-I152)/(MAX($I$151:$I$159)-1)*10000,0)","v":8000},0,null,null,"ASW 15b","PA",""]
["Stepan Obrovsky",1990,"M","Frýdlant","CZ/M","Adrenalin GP 2020 - Klub GP",{"$f":"VLOOKUP(F153,Soutez!B:C,2,FALSE)","v":"CZ"},{"$f":"VLOOKUP(F153,Soutez!B:D,3,FALSE)","v":2020},2,5,0,8000,0,null,null,"Std. Cirrus",75,""]
["Rostislav Stryk",1972,"M","Frýdlant","CZ/M","Adrenalin GP 2020 - Klub GP",{"$f":"VLOOKUP(F154,Soutez!B:C,2,FALSE)","v":"CZ"},{"$f":"VLOOKUP(F154,Soutez!B:D,3,FALSE)","v":2020},4,1,0,{"$f":"ROUND((MAX($I$151:$I$159)-I154)/(MAX($I$151:$I$159)-1)*10000,0)","v":4000},0,null,null,"Std. Cirrus",22,""]
["Vit Prokop",1987,"M","Medlánky","CZ/M","Adrenalin GP 2020 - Klub GP",{"$f":"VLOOKUP(F155,Soutez!B:C,2,FALSE)","v":"CZ"},{"$f":"VLOOKUP(F155,Soutez!B:D,3,FALSE)","v":2020},4,1,0,4000,0,null,null,"Std. Cirrus","MF",""]
["Lukas Kotek",1994,"M","Frýdlant","CZ/M","Adrenalin GP 2020 - Klub GP",{"$f":"VLOOKUP(F156,Soutez!B:C,2,FALSE)","v":"CZ"},{"$f":"VLOOKUP(F156,Soutez!B:D,3,FALSE)","v":2020},6,0,0,0,0,null,null,"Astir CS","BH",""]
["Stanislav Doskocil",1978,"M","Medlánky","CZ/M","Adrenalin GP 2020 - Klub GP",{"$f":"VLOOKUP(F157,Soutez!B:C,2,FALSE)","v":"CZ"},{"$f":"VLOOKUP(F157,Soutez!B:D,3,FALSE)","v":2020},6,0,0,0,0,null,null,"Std. Cirrus","SD",""]
["Oldrich Houzvicka",1975,"M","Frýdlant","CZ/M","Adrenalin GP 2020 - Klub GP",{"$f":"VLOOKUP(F158,Soutez!B:C,2,FALSE)","v":"CZ"},{"$f":"VLOOKUP(F158,Soutez!B:D,3,FALSE)","v":2020},6,0,0,0,0,null,null,"LS 1 f","EM",""]
["Martin Svacina",1965,"M","Frýdlant","CZ/M","Adrenalin GP 2020 - Klub GP",{"$f":"VLOOKUP(F159,Soutez!B:C,2,FALSE)","v":"CZ"},{"$f":"VLOOKUP(F159,Soutez!B:D,3,FALSE)","v":2020},6,0,0,0,0,null,null,"Std. Cirrus","E",""]
["Ivan Novak",1962,"M","Mladá Boleslav","CZ/C1","AZ Cup 2020 - Klub",{"$f":"VLOOKUP(F160,Soutez!B:C,2,FALSE)","v":"CZ"},{"$f":"VLOOKUP(F160,Soutez!B:D,3,FALSE)","v":2020},1,2366,0.90500000000000003,{"$f":"ROUND(J160/MAX($J$160:$J$186)*10000*0.7+(MAX($I$160:$I$186)-I160)/(MAX($I$160:$I$186)-1)*10000*0.3,0)","v":10000},9050,null,null,"LS-4","IX",""]
["Jaroslav Tomana",1975,"M","Zbraslavice","CZ/C1","AZ Cup 2020 - Klub",{"$f":"VLOOKUP(F161,Soutez!B:C,2,FALSE)","v":"CZ"},{"$f":"VLOOKUP(F161,Soutez!B:D,3,FALSE)","v":2020},2,2342,0.90500000000000003,{"$f":"ROUND(J161/MAX($J$160:$J$186)*10000*0.7+(MAX($I$160:$I$186)-I161)/(MAX($I$160:$I$186)-1)*10000*0.3,0)","v":9814},8882,null,null,"Pegase 101 BC","RT",""]
["Zdenek Boruvka 86",1986,"M","Jičín","CZ/C2","AZ Cup 2020 - Klub",{"$f":"VLOOKUP(F162,Soutez!B:C,2,FALSE)","v":"CZ"},{"$f":"VLOOKUP(F162,Soutez!B:D,3,FALSE)","v":2020},3,2109,0.90500000000000003,9009,8153,null,null,"Std. Cirrus","BJ",""]
["Vojtech Novotny",1992,"M","Kralupy","CZ/C1","AZ Cup 2020 - Klub",{"$f":"VLOOKUP(F163,Soutez!B:C,2,FALSE)","v":"CZ"},{"$f":"VLOOKUP(F163,Soutez!B:D,3,FALSE)","v":2020},4,1844,0.90500000000000003,8109,7339,null,null,"LS1-f","EF",""]
["David Sachl",1978,"M","Kralupy","CZ/C1","AZ Cup 2020 - Klub",{"$f":"VLOOKUP(F164,Soutez!B:C,2,FALSE)","v":"CZ"},{"$f":"VLOOKUP(F164,Soutez!B:D,3,FALSE)","v":2020},5,1806,0.90500000000000003,7882,7133,null,null,"DG-300 Elan","BK",""]
["Jakub Kmosek",1978,"M","Zbraslavice","CZ/C1","AZ Cup 2020 - Klub",{"$f":"VLOOKUP(F165,Soutez!B:C,2,FALSE)","v":"CZ"},{"$f":"VLOOKUP(F165,Soutez!B:D,3,FALSE)","v":2020},6,1731,0.90500000000000003,7544,6827,"x",null,"Std. Cirrus","ST",""]
["Martin Urban",1971,"M","Frýdlant","CZ/M","AZ Cup 2020 - Klub",{"$f":"VLOOKUP(F166,Soutez!B:C,2,FALSE)","v":"CZ"},{"$f":"VLOOKUP(F166,Soutez!B:D,3,FALSE)","v":2020},7,1726,0.90500000000000003,7414,6710,"x",null,"LS3a","SJ",""]
["David Popovsky",1976,"M","Rakovník","CZ/C1","AZ Cup 2020 - Klub",{"$f":"VLOOKUP(F167,Soutez!B:C,2,FALSE)","v":"CZ"},{"$f":"VLOOKUP(F167,Soutez!B:D,3,FALSE)","v":2020},8,1720,0.90500000000000003,7281,6589,"x",null,"ASW 24(A)",76,""]
["Dalibor Pek",1968,"M","Raná","CZ/C2","AZ Cup 2020 - Klub",{"$f":"VLOOKUP(F168,Soutez!B:C,2,FALSE)","v":"CZ"},{"$f":"VLOOKUP(F168,Soutez!B:D,3,FALSE)","v":2020},9,1718,0.90500000000000003,7160,6480,"x",null,"STD. CIRRUS","GP",""]
["Jan Zahradka",1981,"M","Hodkovice","CZ/C2","AZ Cup 2020 - Klub",{"$f":"VLOOKUP(F169,Soutez!B:C,2,FALSE)","v":"CZ"},{"$f":"VLOOKUP(F169,Soutez!B:D,3,FALSE)","v":2020},10,1667,0.90500000000000003,6893,6238,null,null,"Std.Cirrus","AR",""]
["Zdenek Balcarek",1967,"M","Kroměříž","CZ/M","AZ Cup 2020 - Klub",{"$f":"VLOOKUP(F170,Soutez!B:C,2,FALSE)","v":"CZ"},{"$f":"VLOOKUP(F170,Soutez!B:D,3,FALSE)","v":2020},11,1663,0.90500000000000003,6766,6123,null,null,"Std. Cirrus","ZL",""]
["David Vrchota",1976,"M","Jaroměř","CZ/C2","AZ Cup 2020 - Klub",{"$f":"VLOOKUP(F171,Soutez!B:C,2,FALSE)","v":"CZ"},{"$f":"VLOOKUP(F171,Soutez!B:D,3,FALSE)","v":2020},12,1593,0.90500000000000003,6444,5832,null,null,"Janus B dvojí","BV",""]
["Lumir Motyka",1955,"M","Frýdlant","CZ/M","AZ Cup 2020 - Klub",{"$f":"VLOOKUP(F172,Soutez!B:C,2,FALSE)","v":"CZ"},{"$f":"VLOOKUP(F172,Soutez!B:D,3,FALSE)","v":2020},13,1526,0.90500000000000003,6130,5548,null,null,"Std. Cirrus",22,""]
["Jan Florian",1992,"M","Zbraslavice","CZ/C1","AZ Cup 2020 - Klub",{"$f":"VLOOKUP(F173,Soutez!B:C,2,FALSE)","v":"CZ"},{"$f":"VLOOKUP(F173,Soutez!B:D,3,FALSE)","v":2020},14,1494,0.90500000000000003,5920,5358,null,null,"Std. Cirrus","C1",""]
["Jiri Hodan",1959,"M","Zbraslavice","CZ/C1","AZ Cup 2020 - Klub",{"$f":"VLOOKUP(F174,Soutez!B:C,2,FALSE)","v":"CZ"},{"$f":"VLOOKUP(F174,Soutez!B:D,3,FALSE)","v":2020},15,1487,0.90500000000000003,5784,5235,"x",null,"Twin Astir G 103","RB",""]
["Matous Schmidt",1981,"M","Letňany","CZ/C1","AZ Cup 2020 - Klub",{"$f":"VLOOKUP(F175,Soutez!B:C,2,FALSE)","v":"CZ"},{"$f":"VLOOKUP(F175,Soutez!B:D,3,FALSE)","v":2020},16,1459,0.90500000000000003,5586,5055,"x",null,"Std.Cirrus","IMI",""]
["Tomas Moravec",2000,"M","Žamberk","CZ/C2","AZ Cup 2020 - Klub",{"$f":"VLOOKUP(F176,Soutez!B:C,2,FALSE)","v":"CZ"},{"$f":"VLOOKUP(F176,Soutez!B:D,3,FALSE)","v":2020},17,1458,0.90500000000000003,5467,4948,null,null,"Std.Cirrus WL","OK6","Junior v roce 2023"]
["Jan Ratz",1987,"M","Zbraslavice","CZ/C1","AZ Cup 2020 - Klub",{"$f":"VLOOKUP(F177,Soutez!B:C,2,FALSE)","v":"CZ"},{"$f":"VLOOKUP(F177,Soutez!B:D,3,FALSE)","v":2020},18,1414,0.90500000000000003,5222,4726,null,null,"Std. Cirrus","REX",""]
["Jan Oscatka",1990,"M","Jaroměř","CZ/C2","AZ Cup 2020 - Klub",{"$f":"VLOOKUP(F178,Soutez!B:C,2,FALSE)","v":"CZ"},{"$f":"VLOOKUP(F178,Soutez!B:D,3,FALSE)","v":2020},19,1398,0.90500000000000003,5059,4578,"x",null,"Discus b","JA",""]
["Tomas Jung",1950,"M","Zbraslavice","CZ/C1","AZ Cup 2020 - Klub",{"$f":"VLOOKUP(F179,Soutez!B:C,2,FALSE)","v":"CZ"},{"$f":"VLOOKUP(F179,Soutez!B:D,3,FALSE)","v":2020},20,1313,0.90500000000000003,4692,4246,null,null,"ASW 19","O2",""]
["Robin Förster",null,"M","BAeC-Mitte","DE","AZ Cup 2020 - Klub",{"$f":"VLOOKUP(F180,Soutez!B:C,2,FALSE)","v":"CZ"},{"$f":"VLOOKUP(F180,Soutez!B:D,3,FALSE)","v":2020},21,1235,{"$f":"VLOOKUP(F180,Soutez,12,0)","v":0.90500000000000003},{"$f":"ROUND(J180/MAX($J$160:$J$186)*10000*0.7+(MAX($I$160:$I$186)-I180)/(MAX($I$160:$I$186)-1)*10000*0.3,0)","v":4346},3933,null,null,"ASW24 E WL","RF",{"$f":"IF(ISERROR(VLOOKUP(A180,Pilot,6,0)),\"Není v databázi\",VLOOKUP(A180,Pilot,6,0))","v":"Není v databázi"}]
["Juraj Dudas",{"$f":"VLOOKUP(A181,Pilot,2,0)","v":1990},{"$f":"VLOOKUP(A181,Pilot,5,0)","v":"M"},{"$f":"VLOOKUP(A181,Pilot,3,0)","v":"Křižanov"},{"$f":"VLOOKUP(A181,Pilot,4,0)","v":"CZ/M"},"AZ Cup 2020 - Klub",{"$f":"VLOOKUP(F181,Soutez!B:C,2,FALSE)","v":"CZ"},{"$f":"VLOOKUP(F181,Soutez!B:D,3,FALSE)","v":2020},22,967,0.90500000000000003,3438,3111,"x",null,"Pegase C101A","ZD",""]
["Petr Velek",1975,"M","GAC Benešov","CZ/C1","AZ Cup 2020 - Klub",{"$f":"VLOOKUP(F182,Soutez!B:C,2,FALSE)","v":"CZ"},{"$f":"VLOOKUP(F182,Soutez!B:D,3,FALSE)","v":2020},23,880,0.90500000000000003,3065,2774,null,null,"DG 400, 15m","HX",""]
["Jan Sustr 76",1976,"M","Raná","CZ/C2","AZ Cup 2020 - Klub",{"$f":"VLOOKUP(F183,Soutez!B:C,2,FALSE)","v":"CZ"},{"$f":"VLOOKUP(F183,Soutez!B:D,3,FALSE)","v":2020},24,690,0.90500000000000003,2388,{"$f":"ROUND(K183*L183,0)","v":2161},null,null,"DG-300 ELAN","WL",""]
["Martin Grmela",1989,"M","Zbraslavice","CZ/C1","AZ Cup 2020 - Klub",{"$f":"VLOOKUP(F184,Soutez!B:C,2,FALSE)","v":"CZ"},{"$f":"VLOOKUP(F184,Soutez!B:D,3,FALSE)","v":2020},25,625,0.90500000000000003,2080,1882,"x",null,"ASW-19","FY",""]
["Petr Brezina",1963,"M","Frýdlant","CZ/M","AZ Cup 2020 - Klub",{"$f":"VLOOKUP(F185,Soutez!B:C,2,FALSE)","v":"CZ"},{"$f":"VLOOKUP(F185,Soutez!B:D,3,FALSE)","v":2020},26,308,0.90500000000000003,1027,929,"x",null,"DG 200","AK",""]
["Petr Lonsky",1965,"M","Toužim","CZ/C1","AZ Cup 2020 - Klub",{"$f":"VLOOKUP(F186,Soutez!B:C,2,FALSE)","v":"CZ"},{"$f":"VLOOKUP(F186,Soutez!B:D,3,FALSE)","v":2020},27,0,0.90500000000000003,0,0,null,null,"std Cirrus","FD",""]
["Jan Kotan",1982,"M","Letňany","CZ/C1","AZ Cup 2020 - Kombi A",{"$f":"VLOOKUP(F187,Soutez!B:C,2,FALSE)","v":"CZ"},{"$f":"VLOOKUP(F187,Soutez!B:D,3,FALSE)","v":2020},1,2474,0.9,{"$f":"ROUND(J187/MAX($J$187:$J$206)*10000*0.7+(MAX($I$187:$I$206)-I187)/(MAX($I$187:$I$206)-1)*10000*0.3,0)","v":10000},9000,null,null,"Ventus 2bx 15m","YA",""]
["Ondrej Dvorak 87",1987,"M","Raná","CZ/C2","AZ Cup 2020 - Kombi A",{"$f":"VLOOKUP(F188,Soutez!B:C,2,FALSE)","v":"CZ"},{"$f":"VLOOKUP(F188,Soutez!B:D,3,FALSE)","v":2020},2,2352,0.9,{"$f":"ROUND(J188/MAX($J$187:$J$206)*10000*0.7+(MAX($I$187:$I$206)-I188)/(MAX($I$187:$I$206)-1)*10000*0.3,0)","v":9497},8547,"x",null,"Ventus A WL 500kg","FW",""]
["Michal Lesinger",1966,"M","Moravská Třebová","CZ/M","AZ Cup 2020 - Kombi A",{"$f":"VLOOKUP(F189,Soutez!B:C,2,FALSE)","v":"CZ"},{"$f":"VLOOKUP(F189,Soutez!B:D,3,FALSE)","v":2020},3,2247,0.9,9042,8138,null,null,"ASG 32 Mi","DX",""]
["Jana Veprekova",1961,"F","Dvůr Králové","CZ/C2","AZ Cup 2020 - Kombi A",{"$f":"VLOOKUP(F190,Soutez!B:C,2,FALSE)","v":"CZ"},{"$f":"VLOOKUP(F190,Soutez!B:D,3,FALSE)","v":2020},4,2240,0.9,8864,7978,"x",null,"LS8","W8",""]
["Jan Horak",1971,"M","Zbraslavice","CZ/C1","AZ Cup 2020 - Kombi A",{"$f":"VLOOKUP(F191,Soutez!B:C,2,FALSE)","v":"CZ"},{"$f":"VLOOKUP(F191,Soutez!B:D,3,FALSE)","v":2020},5,2178,0.9,8531,7678,"x",null,"ASW-20","WX",""]
["Jan Smekal",1976,"M","Zbraslavice","CZ/C1","AZ Cup 2020 - Kombi A",{"$f":"VLOOKUP(F192,Soutez!B:C,2,FALSE)","v":"CZ"},{"$f":"VLOOKUP(F192,Soutez!B:D,3,FALSE)","v":2020},6,2077,0.9,8087,7278,"x",null,"ASW-20","NW",""]
["Jan Zapletal",1997,"M","Břeclav","CZ/M","AZ Cup 2020 - Kombi A",{"$f":"VLOOKUP(F193,Soutez!B:C,2,FALSE)","v":"CZ"},{"$f":"VLOOKUP(F193,Soutez!B:D,3,FALSE)","v":2020},7,2072,0.9,7915,7124,null,null,"LS8","JS",""]
["Jan Pavlik",1987,"M","Křižanov","CZ/M","AZ Cup 2020 - Kombi A",{"$f":"VLOOKUP(F194,Soutez!B:C,2,FALSE)","v":"CZ"},{"$f":"VLOOKUP(F194,Soutez!B:D,3,FALSE)","v":2020},8,1955,0.9,7426,6683,null,null,"LS8a/15m","JW",""]
["Hana Treslova",1991,"F","Raná","CZ/C2","AZ Cup 2020 - Kombi A",{"$f":"VLOOKUP(F195,Soutez!B:C,2,FALSE)","v":"CZ"},{"$f":"VLOOKUP(F195,Soutez!B:D,3,FALSE)","v":2020},9,1922,0.9,7175,6458,null,null,"Ventus 2ax","AX",""]
["Barbora Moravcova",1994,"F","Zbraslavice","CZ/C1","AZ Cup 2020 - Kombi A",{"$f":"VLOOKUP(F196,Soutez!B:C,2,FALSE)","v":"CZ"},{"$f":"VLOOKUP(F196,Soutez!B:D,3,FALSE)","v":2020},10,1914,0.9,6994,6295,null,null,"LS8 15m","EU",""]
["Dana Novakova",1965,"F","Mladá Boleslav","CZ/C1","AZ Cup 2020 - Kombi A",{"$f":"VLOOKUP(F197,Soutez!B:C,2,FALSE)","v":"CZ"},{"$f":"VLOOKUP(F197,Soutez!B:D,3,FALSE)","v":2020},11,1890,0.9,6769,6092,null,null,"LS-8","AU",""]
["Eduard Niko",1988,"M","Zbraslavice","CZ/C1","AZ Cup 2020 - Kombi A",{"$f":"VLOOKUP(F198,Soutez!B:C,2,FALSE)","v":"CZ"},{"$f":"VLOOKUP(F198,Soutez!B:D,3,FALSE)","v":2020},12,1865,0.9,{"$f":"ROUND(J198/MAX($J$187:$J$206)*10000*0.7+(MAX($I$187:$I$206)-I198)/(MAX($I$187:$I$206)-1)*10000*0.3,0)","v":6540},5886,null,null,"ASW-20","EW",""]
["Jana Treslova",{"$f":"VLOOKUP(A199,Pilot,2,0)","v":1963},{"$f":"VLOOKUP(A199,Pilot,5,0)","v":"F"},{"$f":"VLOOKUP(A199,Pilot,3,0)","v":"Raná"},{"$f":"VLOOKUP(A199,Pilot,4,0)","v":"CZ/C2"},"AZ Cup 2020 - Kombi A",{"$f":"VLOOKUP(F199,Soutez!B:C,2,FALSE)","v":"CZ"},{"$f":"VLOOKUP(F199,Soutez!B:D,3,FALSE)","v":2020},13,1819,0.9,6252,5627,null,null,"Discus 2a","GX",""]
["Jiri Kusbach",1959,"M","Luhačovice","CZ/M","AZ Cup 2020 - Kombi A",{"$f":"VLOOKUP(F200,Soutez!B:C,2,FALSE)","v":"CZ"},{"$f":"VLOOKUP(F200,Soutez!B:D,3,FALSE)","v":2020},14,1555,0.9,5347,4812,null,null,"KKB 15FES","B",""]
["Jan Kohout",1970,"M","Žamberk","CZ/C2","AZ Cup 2020 - Kombi A",{"$f":"VLOOKUP(F201,Soutez!B:C,2,FALSE)","v":"CZ"},{"$f":"VLOOKUP(F201,Soutez!B:D,3,FALSE)","v":2020},15,1481,0.9,4980,4482,null,null,"LS 8A","SK",""]
["Tomas Rendla",1973,"M","Zbraslavice","CZ/C1","AZ Cup 2020 - Kombi A",{"$f":"VLOOKUP(F202,Soutez!B:C,2,FALSE)","v":"CZ"},{"$f":"VLOOKUP(F202,Soutez!B:D,3,FALSE)","v":2020},16,1424,0.9,4661,4195,null,null,"Arcus M","EY",""]
["Martin Pekar",1973,"M","Šumperk","CZ/M","AZ Cup 2020 - Kombi A",{"$f":"VLOOKUP(F203,Soutez!B:C,2,FALSE)","v":"CZ"},{"$f":"VLOOKUP(F203,Soutez!B:D,3,FALSE)","v":2020},17,1403,0.9,4443,3999,"x",null,"304 TS TwinShark","TS",""]
["Radek Zima 78",1978,"M","Hodkovice","CZ/C2","AZ Cup 2020 - Kombi A",{"$f":"VLOOKUP(F204,Soutez!B:C,2,FALSE)","v":"CZ"},{"$f":"VLOOKUP(F204,Soutez!B:D,3,FALSE)","v":2020},18,1299,0.9,3991,3592,null,null,"Ventus b/15m WL","7F",""]
["Ladislav Jozsa",1981,"M","Medlánky","CZ/M","AZ Cup 2020 - Kombi A",{"$f":"VLOOKUP(F205,Soutez!B:C,2,FALSE)","v":"CZ"},{"$f":"VLOOKUP(F205,Soutez!B:D,3,FALSE)","v":2020},19,1222,0.9,3615,3254,null,null,"Ventus C 15m WL","WW",""]
["Petr Starek",1974,"M","Zbraslavice","CZ/C1","AZ Cup 2020 - Kombi A",{"$f":"VLOOKUP(F206,Soutez!B:C,2,FALSE)","v":"CZ"},{"$f":"VLOOKUP(F206,Soutez!B:D,3,FALSE)","v":2020},20,1090,0.9,3084,2776,"x",null,"304 TS TwinShark","DL",""]
["Radek Kucirek",1973,"M","Havlíčkův Brod","CZ/C2","AZ Cup 2020 - Kombi B",{"$f":"VLOOKUP(F207,Soutez!B:C,2,FALSE)","v":"CZ"},{"$f":"VLOOKUP(F207,Soutez!B:D,3,FALSE)","v":2020},1,2179,0.93,{"$f":"ROUND(J207/MAX($J$207:$J$227)*10000*0.7+(MAX($I$207:$I$227)-I207)/(MAX($I$207:$I$227)-1)*10000*0.3,0)","v":10000},9300,null,null,"EB 28 Edition","NA",""]
["Petr Tichy",1973,"M","Zbraslavice","CZ/C1","AZ Cup 2020 - Kombi B",{"$f":"VLOOKUP(F208,Soutez!B:C,2,FALSE)","v":"CZ"},{"$f":"VLOOKUP(F208,Soutez!B:D,3,FALSE)","v":2020},2,2106,0.93,{"$f":"ROUND(J208/MAX($J$207:$J$227)*10000*0.7+(MAX($I$207:$I$227)-I208)/(MAX($I$207:$I$227)-1)*10000*0.3,0)","v":9615},8942,"x",null,"ASG-29E","AJ",""]
["Roman Mracek",1980,"M","Letkov","CZ/C1","AZ Cup 2020 - Kombi B",{"$f":"VLOOKUP(F209,Soutez!B:C,2,FALSE)","v":"CZ"},{"$f":"VLOOKUP(F209,Soutez!B:D,3,FALSE)","v":2020},3,2028,0.93,9215,8570,null,null,"LS8-18","EJ",""]
["Tomas Suchanek",1964,"M","GAC Benešov","CZ/C1","AZ Cup 2020 - Kombi B",{"$f":"VLOOKUP(F210,Soutez!B:C,2,FALSE)","v":"CZ"},{"$f":"VLOOKUP(F210,Soutez!B:D,3,FALSE)","v":2020},4,1995,0.93,8959,8332,null,null,"LS - 8 18m","FX",""]
["Ondrej Dupal",1966,"M","GAC Benešov","CZ/C1","AZ Cup 2020 - Kombi B",{"$f":"VLOOKUP(F211,Soutez!B:C,2,FALSE)","v":"CZ"},{"$f":"VLOOKUP(F211,Soutez!B:D,3,FALSE)","v":2020},5,1977,0.93,8751,8138,null,null,"ASG 29E","GO",""]
["Radek Krejcirik",1991,"M","Hranice","CZ/M","AZ Cup 2020 - Kombi B",{"$f":"VLOOKUP(F212,Soutez!B:C,2,FALSE)","v":"CZ"},{"$f":"VLOOKUP(F212,Soutez!B:D,3,FALSE)","v":2020},6,1965,0.93,8563,7964,null,null,"JS1C EVO","ZF",""]
["Alena Netusilova",1970,"F","Zbraslavice","CZ/C1","AZ Cup 2020 - Kombi B",{"$f":"VLOOKUP(F213,Soutez!B:C,2,FALSE)","v":"CZ"},{"$f":"VLOOKUP(F213,Soutez!B:D,3,FALSE)","v":2020},7,1918,0.93,8262,7684,null,null,"JS1 EVO 18m","JX",""]
["Jan Louda",1986,"M","Mladá Boleslav","CZ/C1","AZ Cup 2020 - Kombi B",{"$f":"VLOOKUP(F214,Soutez!B:C,2,FALSE)","v":"CZ"},{"$f":"VLOOKUP(F214,Soutez!B:D,3,FALSE)","v":2020},8,1832,0.93,7835,7287,null,null,"JS-3","ZE",""]
["David Mach",1994,"M","Hronov","CZ/C2","AZ Cup 2020 - Kombi B",{"$f":"VLOOKUP(F215,Soutez!B:C,2,FALSE)","v":"CZ"},{"$f":"VLOOKUP(F215,Soutez!B:D,3,FALSE)","v":2020},9,1813,0.93,7624,7090,null,null,"JS3","XM",""]
["Lukas Benedikt",null,"M","AK Trnava","SK","AZ Cup 2020 - Kombi B",{"$f":"VLOOKUP(F216,Soutez!B:C,2,FALSE)","v":"CZ"},{"$f":"VLOOKUP(F216,Soutez!B:D,3,FALSE)","v":2020},10,1528,0.93,{"$f":"ROUND(J216/MAX($J$207:$J$227)*10000*0.7+(MAX($I$207:$I$227)-I216)/(MAX($I$207:$I$227)-1)*10000*0.3,0)","v":6559},6100,null,null,"Ventus 3 f","LB","Není v databázi"]
["Pavel Opat",{"$f":"VLOOKUP(A217,Pilot,2,0)","v":1975},{"$f":"VLOOKUP(A217,Pilot,5,0)","v":"M"},{"$f":"VLOOKUP(A217,Pilot,3,0)","v":"Rakovník"},{"$f":"VLOOKUP(A217,Pilot,4,0)","v":"CZ/C1"},"AZ Cup 2020 - Kombi B",{"$f":"VLOOKUP(F217,Soutez!B:C,2,FALSE)","v":"CZ"},{"$f":"VLOOKUP(F217,Soutez!B:D,3,FALSE)","v":2020},11,1451,0.93,6161,5730,"x",null,"DG-800s 18m+W","HC",""]
["Martin Hrivna",1978,"M","Zbraslavice","CZ/C1","AZ Cup 2020 - Kombi B",{"$f":"VLOOKUP(F218,Soutez!B:C,2,FALSE)","v":"CZ"},{"$f":"VLOOKUP(F218,Soutez!B:D,3,FALSE)","v":2020},12,1310,0.93,5558,5169,null,null,"ASG 29E","NX",""]
["Lenka Kuthanova",1960,"F","Tábor","CZ/C1","AZ Cup 2020 - Kombi B",{"$f":"VLOOKUP(F219,Soutez!B:C,2,FALSE)","v":"CZ"},{"$f":"VLOOKUP(F219,Soutez!B:D,3,FALSE)","v":2020},13,1304,0.93,5389,5012,null,null,"JS1 EVO18m","LX",""]
["Ivo Burda",1962,"M","Zbraslavice","CZ/C1","AZ Cup 2020 - Kombi B",{"$f":"VLOOKUP(F220,Soutez!B:C,2,FALSE)","v":"CZ"},{"$f":"VLOOKUP(F220,Soutez!B:D,3,FALSE)","v":2020},14,1270,0.93,5130,4771,"x",null,"Ventus2cxM","IB",""]
["Petr Krejcirik",1960,"M","Hranice","CZ/M","AZ Cup 2020 - Kombi B",{"$f":"VLOOKUP(F221,Soutez!B:C,2,FALSE)","v":"CZ"},{"$f":"VLOOKUP(F221,Soutez!B:D,3,FALSE)","v":2020},15,1096,0.93,4421,4112,null,null,"ASG 29E","QZ",""]
["Jan Dersak 69",1969,"M","Kralupy","CZ/C1","AZ Cup 2020 - Kombi B",{"$f":"VLOOKUP(F222,Soutez!B:C,2,FALSE)","v":"CZ"},{"$f":"VLOOKUP(F222,Soutez!B:D,3,FALSE)","v":2020},16,1016,0.93,4014,3733,null,null,"HPH 304 JS","DJ",""]
["Petr Jiranek 63",1962,"M","Toužim","CZ/C1","AZ Cup 2020 - Kombi B",{"$f":"VLOOKUP(F223,Soutez!B:C,2,FALSE)","v":"CZ"},{"$f":"VLOOKUP(F223,Soutez!B:D,3,FALSE)","v":2020},17,894,0.93,3472,3229,null,null,"Ventus cT 17,6","EB",""]
["Jaroslav Potmesil",1964,"M","Zbraslavice","CZ/C1","AZ Cup 2020 - Kombi B",{"$f":"VLOOKUP(F224,Soutez!B:C,2,FALSE)","v":"CZ"},{"$f":"VLOOKUP(F224,Soutez!B:D,3,FALSE)","v":2020},18,802,0.93,3026,2814,null,null,"HPH 304MS",61,""]
["Pavel Jiranek",1993,"M","Toužim","CZ/C1","AZ Cup 2020 - Kombi B",{"$f":"VLOOKUP(F225,Soutez!B:C,2,FALSE)","v":"CZ"},{"$f":"VLOOKUP(F225,Soutez!B:D,3,FALSE)","v":2020},19,799,0.93,2867,2666,null,null,"Ventus cM 17,6","SW",""]
["Michaela Rendlova",2004,"F","Toužim","CZ/C1","AZ Cup 2020 - Kombi B",{"$f":"VLOOKUP(F226,Soutez!B:C,2,FALSE)","v":"CZ"},{"$f":"VLOOKUP(F226,Soutez!B:D,3,FALSE)","v":2020},20,790,0.93,2688,2500,null,null,"JS1 EVO","VX","Junior v roce 2023"]
["Michal Posluzny",1968,"M","Medlánky","CZ/M","AZ Cup 2020 - Kombi B",{"$f":"VLOOKUP(F227,Soutez!B:C,2,FALSE)","v":"CZ"},{"$f":"VLOOKUP(F227,Soutez!B:D,3,FALSE)","v":2020},21,646,0.93,2075,1930,"x",null,"JS3","QX1",""]
["Jiri Kusbach",1959,"M","Luhačovice","CZ/M","Fatraglide 2020 - Klub",{"$f":"VLOOKUP(F228,Soutez!B:C,2,FALSE)","v":"SK"},{"$f":"VLOOKUP(F228,Soutez!B:D,3,FALSE)","v":2020},1,987,0.75,{"$f":"ROUND(J228/MAX($J$228:$J$237)*10000*0.7+(MAX($I$228:$I$237)-I228)/(MAX($I$228:$I$237)-1)*10000*0.3,0)","v":10000},7500,null,null,"KKB-15E-FES","B",""]
["Milan Surovcik Jr.",null,"M","Žilina",null,"Fatraglide 2020 - Klub",{"$f":"VLOOKUP(F229,Soutez!B:C,2,FALSE)","v":"SK"},{"$f":"VLOOKUP(F229,Soutez!B:D,3,FALSE)","v":2020},2,950,0.75,{"$f":"ROUND(J229/MAX($J$228:$J$237)*10000*0.7+(MAX($I$228:$I$237)-I229)/(MAX($I$228:$I$237)-1)*10000*0.3,0)","v":9404},7053,null,null,"Centrair C-101A Pegase","EL","Není v databázi"]
["Tibor Noga",null,"M","SGC Martin",null,"Fatraglide 2020 - Klub",{"$f":"VLOOKUP(F230,Soutez!B:C,2,FALSE)","v":"SK"},{"$f":"VLOOKUP(F230,Soutez!B:D,3,FALSE)","v":2020},3,929,0.75,8922,6692,null,null,"ASW-19B","A4","Není v databázi"]
["Gabor Bors",null,"M","Opitz",null,"Fatraglide 2020 - Klub",{"$f":"VLOOKUP(F231,Soutez!B:C,2,FALSE)","v":"SK"},{"$f":"VLOOKUP(F231,Soutez!B:D,3,FALSE)","v":2020},4,593,0.75,6206,4655,null,null,"Mini-Nimbus","SU","Není v databázi"]
["Peter Sedmak",null,"M","Martin",null,"Fatraglide 2020 - Klub",{"$f":"VLOOKUP(F232,Soutez!B:C,2,FALSE)","v":"SK"},{"$f":"VLOOKUP(F232,Soutez!B:D,3,FALSE)","v":2020},5,563,0.75,5660,4245,null,null,"Centrair C-101A Pegase","MT","Není v databázi"]
["Peter Gossanyi",null,"M","Nové Zámky",null,"Fatraglide 2020 - Klub",{"$f":"VLOOKUP(F233,Soutez!B:C,2,FALSE)","v":"SK"},{"$f":"VLOOKUP(F233,Soutez!B:D,3,FALSE)","v":2020},6,438,0.75,{"$f":"ROUND(J233/MAX($J$228:$J$237)*10000*0.7+(MAX($I$228:$I$237)-I233)/(MAX($I$228:$I$237)-1)*10000*0.3,0)","v":4440},3330,null,null,"Discus CS","VP","Není v databázi"]
["Marek Seman",null,"M","Prešov",null,"Fatraglide 2020 - Klub",{"$f":"VLOOKUP(F234,Soutez!B:C,2,FALSE)","v":"SK"},{"$f":"VLOOKUP(F234,Soutez!B:D,3,FALSE)","v":2020},7,317,0.75,3248,2436,null,null,"Std. Cirrus","CV","Není v databázi"]
["Jozef Zabka",null,"M","Partizánske",null,"Fatraglide 2020 - Klub",{"$f":"VLOOKUP(F235,Soutez!B:C,2,FALSE)","v":"SK"},{"$f":"VLOOKUP(F235,Soutez!B:D,3,FALSE)","v":2020},8,223,0.75,2248,1686,null,null,"Std. Cirrus","LX","Není v databázi"]
["Peter Gasparovic",null,"M","SGC Martin",null,"Fatraglide 2020 - Klub",{"$f":"VLOOKUP(F236,Soutez!B:C,2,FALSE)","v":"SK"},{"$f":"VLOOKUP(F236,Soutez!B:D,3,FALSE)","v":2020},9,103,0.75,1064,798,null,null,"G-103 Twin Astir dvojí (zatahovací podvozek)","VLT","Není v databázi"]
["Ivan Chabada",null,"M","Banská Bystrica",null,"Fatraglide 2020 - Klub",{"$f":"VLOOKUP(F237,Soutez!B:C,2,FALSE)","v":"SK"},{"$f":"VLOOKUP(F237,Soutez!B:D,3,FALSE)","v":2020},10,1,0.75,7,5,null,null,"Pik-20B","KM","Není v databázi"]
["Martin Fürjes",null,"M","SGC Martin",null,"Fatraglide 2020 - Kombi",{"$f":"VLOOKUP(F238,Soutez!B:C,2,FALSE)","v":"SK"},{"$f":"VLOOKUP(F238,Soutez!B:D,3,FALSE)","v":2020},1,2360,0.76,{"$f":"ROUND(J238/MAX($J$238:$J$255)*10000*0.7+(MAX($I$238:$I$255)-I238)/(MAX($I$238:$I$255)-1)*10000*0.3,0)","v":10000},7600,null,null,"JS3, JS3 TJ-18m",3,"Není v databázi"]
["Jan Divok",null,"M","SNV",null,"Fatraglide 2020 - Kombi",{"$f":"VLOOKUP(F239,Soutez!B:C,2,FALSE)","v":"SK"},{"$f":"VLOOKUP(F239,Soutez!B:D,3,FALSE)","v":2020},2,2337,0.76,{"$f":"ROUND(J239/MAX($J$238:$J$255)*10000*0.7+(MAX($I$238:$I$255)-I239)/(MAX($I$238:$I$255)-1)*10000*0.3,0)","v":9755},7414,null,null,"Discus 2T /18m","DJ","Není v databázi"]
["Branislav Jesensky",null,"M","SGC Martin",null,"Fatraglide 2020 - Kombi",{"$f":"VLOOKUP(F240,Soutez!B:C,2,FALSE)","v":"SK"},{"$f":"VLOOKUP(F240,Soutez!B:D,3,FALSE)","v":2020},3,2193,0.76,9152,6956,null,null,"Ventus 2cxt /18m -600 kg","J","Není v databázi"]
["Viktoria Divokova",null,"F","Spišska Nová Ves",null,"Fatraglide 2020 - Kombi",{"$f":"VLOOKUP(F241,Soutez!B:C,2,FALSE)","v":"SK"},{"$f":"VLOOKUP(F241,Soutez!B:D,3,FALSE)","v":2020},4,2125,0.76,8774,6668,null,null,"LS-8-18 / 18m","SI","Není v databázi"]
["Maros Divok",null,"M","SNV",null,"Fatraglide 2020 - Kombi",{"$f":"VLOOKUP(F242,Soutez!B:C,2,FALSE)","v":"SK"},{"$f":"VLOOKUP(F242,Soutez!B:D,3,FALSE)","v":2020},5,2119,0.76,8579,6520,null,null,"Ventus c /17,6m","D3","Není v databázi"]
["Petr Hotovy",{"$f":"VLOOKUP(A243,Pilot,2,0)","v":1958},{"$f":"VLOOKUP(A243,Pilot,5,0)","v":"M"},{"$f":"VLOOKUP(A243,Pilot,3,0)","v":"Česká Lípa"},{"$f":"VLOOKUP(A243,Pilot,4,0)","v":"CZ/C2"},"Fatraglide 2020 - Kombi",{"$f":"VLOOKUP(F243,Soutez!B:C,2,FALSE)","v":"SK"},{"$f":"VLOOKUP(F243,Soutez!B:D,3,FALSE)","v":2020},6,2054,0.76,8210,6240,null,null,"JS1-BTJ 18","IGC",""]
["Samuel Posluch",null,"M","Martin",null,"Fatraglide 2020 - Kombi",{"$f":"VLOOKUP(F244,Soutez!B:C,2,FALSE)","v":"SK"},{"$f":"VLOOKUP(F244,Soutez!B:D,3,FALSE)","v":2020},7,1995,{"$f":"VLOOKUP(F244,Soutez,12,0)","v":0.76},7859,5973,null,null,"Ventus 2b 15m","VI",{"$f":"IF(ISERROR(VLOOKUP(A244,Pilot,6,0)),\"Není v databázi\",VLOOKUP(A244,Pilot,6,0))","v":"Není v databázi"}]
["Peter Pokorny",null,"M","Bratislava",null,"Fatraglide 2020 - Kombi",{"$f":"VLOOKUP(F245,Soutez!B:C,2,FALSE)","v":"SK"},{"$f":"VLOOKUP(F245,Soutez!B:D,3,FALSE)","v":2020},8,1918,0.76,7454,5665,null,null,"ASG-29E /18m","9E","Není v databázi"]
["Lukas Benedikt",null,"M","Trnava",null,"Fatraglide 2020 - Kombi",{"$f":"VLOOKUP(F246,Soutez!B:C,2,FALSE)","v":"SK"},{"$f":"VLOOKUP(F246,Soutez!B:D,3,FALSE)","v":2020},9,1620,0.76,6393,4859,null,null,"Ventus 3F - 18m","LB","Není v databázi"]
["Kromka & Kollar",null,"M",null,null,"Fatraglide 2020 - Kombi",{"$f":"VLOOKUP(F247,Soutez!B:C,2,FALSE)","v":"SK"},{"$f":"VLOOKUP(F247,Soutez!B:D,3,FALSE)","v":2020},10,1577,0.76,6089,{"$f":"ROUND(K247*L247,0)","v":4628},null,null,"Arcus M","TA3","Není v databázi"]
["Vaclav Hruza",{"$f":"VLOOKUP(A248,Pilot,2,0)","v":1965},{"$f":"VLOOKUP(A248,Pilot,5,0)","v":"M"},{"$f":"VLOOKUP(A248,Pilot,3,0)","v":"Břeclav"},{"$f":"VLOOKUP(A248,Pilot,4,0)","v":"CZ/M"},"Fatraglide 2020 - Kombi",{"$f":"VLOOKUP(F248,Soutez!B:C,2,FALSE)","v":"SK"},{"$f":"VLOOKUP(F248,Soutez!B:D,3,FALSE)","v":2020},11,1191,0.76,4768,3624,"x",null,"HpH 304MS SHARK","TH",""]
["Milan Lojdl",null,"M","Martin",null,"Fatraglide 2020 - Kombi",{"$f":"VLOOKUP(F249,Soutez!B:C,2,FALSE)","v":"SK"},{"$f":"VLOOKUP(F249,Soutez!B:D,3,FALSE)","v":2020},12,1188,0.76,4583,3483,null,null,"Ventus 2cxt /18m 600kg","MJ1","Není v databázi"]
["Lubomir Jakubcak",null,"M","SGC Martin",null,"Fatraglide 2020 - Kombi",{"$f":"VLOOKUP(F250,Soutez!B:C,2,FALSE)","v":"SK"},{"$f":"VLOOKUP(F250,Soutez!B:D,3,FALSE)","v":2020},13,1056,0.76,4015,3051,null,null,"Arcus M","CÁR","Není v databázi"]
["Jozef Pesko",null,"M","Nitra",null,"Fatraglide 2020 - Kombi",{"$f":"VLOOKUP(F251,Soutez!B:C,2,FALSE)","v":"SK"},{"$f":"VLOOKUP(F251,Soutez!B:D,3,FALSE)","v":2020},14,997,0.76,3663,2784,null,null,"LS-8t /18m","HM","Není v databázi"]
["Lubomir Doupal",{"$f":"VLOOKUP(A252,Pilot,2,0)","v":1975},{"$f":"VLOOKUP(A252,Pilot,5,0)","v":"M"},{"$f":"VLOOKUP(A252,Pilot,3,0)","v":"Kroměříž"},{"$f":"VLOOKUP(A252,Pilot,4,0)","v":"CZ/M"},"Fatraglide 2020 - Kombi",{"$f":"VLOOKUP(F252,Soutez!B:C,2,FALSE)","v":"SK"},{"$f":"VLOOKUP(F252,Soutez!B:D,3,FALSE)","v":2020},15,995,0.76,{"$f":"ROUND(J252/MAX($J$238:$J$255)*10000*0.7+(MAX($I$238:$I$255)-I252)/(MAX($I$238:$I$255)-1)*10000*0.3,0)","v":3481},2646,null,null,"Ventus 2cxt /18m -600 kg","LD",""]
["Peter Abonyi",null,"M",null,null,"Fatraglide 2020 - Kombi",{"$f":"VLOOKUP(F253,Soutez!B:C,2,FALSE)","v":"SK"},{"$f":"VLOOKUP(F253,Soutez!B:D,3,FALSE)","v":2020},16,789,0.76,2693,2047,null,null,"Ventus c /17,6m","PA","Není v databázi"]
["Dusan Bernat",null,"M","SGC Martin",null,"Fatraglide 2020 - Kombi",{"$f":"VLOOKUP(F254,Soutez!B:C,2,FALSE)","v":"SK"},{"$f":"VLOOKUP(F254,Soutez!B:D,3,FALSE)","v":2020},17,705,0.76,2268,1724,null,null,"Ventus c /17,6m","AD","Není v databázi"]
["Daniel Kronek",null,"M","SGC Martin",null,"Fatraglide 2020 - Kombi",{"$f":"VLOOKUP(F255,Soutez!B:C,2,FALSE)","v":"SK"},{"$f":"VLOOKUP(F255,Soutez!B:D,3,FALSE)","v":2020},18,52,0.76,154,117,null,null,"Ventus bt /17,6m","DK","Není v databázi"]
["Lubomir Motl",{"$f":"VLOOKUP(A256,Pilot,2,0)","v":1959},{"$f":"VLOOKUP(A256,Pilot,5,0)","v":"M"},{"$f":"VLOOKUP(A256,Pilot,3,0)","v":"Kyjov"},{"$f":"VLOOKUP(A256,Pilot,4,0)","v":"CZ/M"},"FCC 2020 - Klub",{"$f":"VLOOKUP(F256,Soutez!B:C,2,FALSE)","v":"SK"},{"$f":"VLOOKUP(F256,Soutez!B:D,3,FALSE)","v":2020},1,7094,0.92500000000000004,{"$f":"ROUND(J256/MAX($J$256:$J$266)*10000*0.7+(MAX($I$256:$I$266)-I256)/(MAX($I$256:$I$266)-1)*10000*0.3,0)","v":10000},9250,"x",null,"LS-1f","G2",""]
["Petra Piskata",{"$f":"VLOOKUP(A257,Pilot,2,0)","v":1989},{"$f":"VLOOKUP(A257,Pilot,5,0)","v":"F"},{"$f":"VLOOKUP(A257,Pilot,3,0)","v":"Luhačovice"},{"$f":"VLOOKUP(A257,Pilot,4,0)","v":"CZ/M"},"FCC 2020 - Klub",{"$f":"VLOOKUP(F257,Soutez!B:C,2,FALSE)","v":"SK"},{"$f":"VLOOKUP(F257,Soutez!B:D,3,FALSE)","v":2020},2,7018,0.92500000000000004,{"$f":"ROUND(J257/MAX($J$256:$J$266)*10000*0.7+(MAX($I$256:$I$266)-I257)/(MAX($I$256:$I$266)-1)*10000*0.3,0)","v":9625},8903,"x","x","LS-4","FP",""]
["Lumir Motyka",{"$f":"VLOOKUP(A258,Pilot,2,0)","v":1955},{"$f":"VLOOKUP(A258,Pilot,5,0)","v":"M"},{"$f":"VLOOKUP(A258,Pilot,3,0)","v":"Frýdlant"},{"$f":"VLOOKUP(A258,Pilot,4,0)","v":"CZ/M"},"FCC 2020 - Klub",{"$f":"VLOOKUP(F258,Soutez!B:C,2,FALSE)","v":"SK"},{"$f":"VLOOKUP(F258,Soutez!B:D,3,FALSE)","v":2020},3,6930,0.92500000000000004,9238,8545,"x",null,"LS-1f","EM",""]
["Attila Korom",null,"M","ARK",null,"FCC 2020 - Klub",{"$f":"VLOOKUP(F259,Soutez!B:C,2,FALSE)","v":"SK"},{"$f":"VLOOKUP(F259,Soutez!B:D,3,FALSE)","v":2020},4,6344,0.92500000000000004,8360,7733,null,null,"ASW-20 (A)+F /15m WL","MC","Není v databázi"]
["Jakub Kos",null,"M","Bialsko-Biala",null,"FCC 2020 - Klub",{"$f":"VLOOKUP(F260,Soutez!B:C,2,FALSE)","v":"SK"},{"$f":"VLOOKUP(F260,Soutez!B:D,3,FALSE)","v":2020},5,5896,0.92500000000000004,7618,7047,null,null,"SZD-48 Jantar std. 3","ZAR","Není v databázi"]
["Bernard Dobre",null,"M","Aeroklub Postojna",null,"FCC 2020 - Klub",{"$f":"VLOOKUP(F261,Soutez!B:C,2,FALSE)","v":"SK"},{"$f":"VLOOKUP(F261,Soutez!B:D,3,FALSE)","v":2020},6,5855,0.92500000000000004,7277,6731,null,null,"DG-101 G","GO","Není v databázi"]
["Stanislaw Biela",null,"M","Nowy Targ",null,"FCC 2020 - Klub",{"$f":"VLOOKUP(F262,Soutez!B:C,2,FALSE)","v":"SK"},{"$f":"VLOOKUP(F262,Soutez!B:D,3,FALSE)","v":2020},7,5687,0.92500000000000004,6812,6301,null,null,"SZD-55 Promyk","BS","Není v databázi"]
["Krzysztof Kotarski",null,"M","Nadwislanski",null,"FCC 2020 - Klub",{"$f":"VLOOKUP(F263,Soutez!B:C,2,FALSE)","v":"SK"},{"$f":"VLOOKUP(F263,Soutez!B:D,3,FALSE)","v":2020},8,5383,0.92500000000000004,6212,5746,null,null,"ASW 19B","J1","Není v databázi"]
["Gonczi",null,"M","Malév",null,"FCC 2020 - Klub",{"$f":"VLOOKUP(F264,Soutez!B:C,2,FALSE)","v":"SK"},{"$f":"VLOOKUP(F264,Soutez!B:D,3,FALSE)","v":2020},9,5149,0.92500000000000004,5681,5255,null,null,"Janus C (FG)","DD","Není v databázi"]
["Jan Keher",null,"M","Prievidza",null,"FCC 2020 - Klub",{"$f":"VLOOKUP(F265,Soutez!B:C,2,FALSE)","v":"SK"},{"$f":"VLOOKUP(F265,Soutez!B:D,3,FALSE)","v":2020},10,3974,0.92500000000000004,4221,3904,null,null,"Discus CS","DR","Není v databázi"]
["Slavomir Piskaty 58",{"$f":"VLOOKUP(A266,Pilot,2,0)","v":1958},{"$f":"VLOOKUP(A266,Pilot,5,0)","v":"M"},{"$f":"VLOOKUP(A266,Pilot,3,0)","v":"Kunovice"},{"$f":"VLOOKUP(A266,Pilot,4,0)","v":"CZ/M"},"FCC 2020 - Klub",{"$f":"VLOOKUP(F266,Soutez!B:C,2,FALSE)","v":"SK"},{"$f":"VLOOKUP(F266,Soutez!B:D,3,FALSE)","v":2020},11,3373,0.92500000000000004,{"$f":"ROUND(J266/MAX($J$256:$J$266)*10000*0.7+(MAX($I$256:$I$266)-I266)/(MAX($I$256:$I$266)-1)*10000*0.3,0)","v":3328},3078,"x",null,"Discus CS","KAL",""]
["Lukasz Grabowski",null,"M","Włocławski",null,"FCC 2020 - Kombi",{"$f":"VLOOKUP(F267,Soutez!B:C,2,FALSE)","v":"SK"},{"$f":"VLOOKUP(F267,Soutez!B:D,3,FALSE)","v":2020},1,7635,0.94500000000000006,{"$f":"ROUND(J267/MAX($J$267:$J$283)*10000*0.7+(MAX($I$267:$I$283)-I267)/(MAX($I$267:$I$283)-1)*10000*0.3,0)","v":10000},9450,null,null,"JS1-C 18 EVO","P","Není v databázi"]
["Gintas Zube",null,"M","LT/KLAIPEDA",null,"FCC 2020 - Kombi",{"$f":"VLOOKUP(F268,Soutez!B:C,2,FALSE)","v":"SK"},{"$f":"VLOOKUP(F268,Soutez!B:D,3,FALSE)","v":2020},2,7368,0.94500000000000006,{"$f":"ROUND(J268/MAX($J$267:$J$283)*10000*0.7+(MAX($I$267:$I$283)-I268)/(MAX($I$267:$I$283)-1)*10000*0.3,0)","v":9568},9042,null,null,"ASG-29E /18m","AR","Není v databázi"]
["Luka Znidarsic",null,"M","AK Postojna",null,"FCC 2020 - Kombi",{"$f":"VLOOKUP(F269,Soutez!B:C,2,FALSE)","v":"SK"},{"$f":"VLOOKUP(F269,Soutez!B:D,3,FALSE)","v":2020},3,7109,0.94500000000000006,9143,8640,null,null,"Ventus 3F - 18m","LZ","Není v databázi"]
["Joze Verdev",null,"M","Šaleški Aeroklub",null,"FCC 2020 - Kombi",{"$f":"VLOOKUP(F270,Soutez!B:C,2,FALSE)","v":"SK"},{"$f":"VLOOKUP(F270,Soutez!B:D,3,FALSE)","v":2020},4,6910,0.94500000000000006,8773,8290,null,null,"JS1-CTJ 18","DZ","Není v databázi"]
["Jernej Lokovsek",null,"M","ALC",null,"FCC 2020 - Kombi",{"$f":"VLOOKUP(F271,Soutez!B:C,2,FALSE)","v":"SK"},{"$f":"VLOOKUP(F271,Soutez!B:D,3,FALSE)","v":2020},5,6582,0.94500000000000006,8285,7829,null,null,"JS3 TJ-18m","NL","Není v databázi"]
["Teet Jagomagi",null,"M","Ridali",null,"FCC 2020 - Kombi",{"$f":"VLOOKUP(F272,Soutez!B:C,2,FALSE)","v":"SK"},{"$f":"VLOOKUP(F272,Soutez!B:D,3,FALSE)","v":2020},6,6300,0.94500000000000006,7839,7408,null,null,"JS1-B 18","TP","Není v databázi"]
["Judyta Czyz",null,"F","Bielsko Bialski",null,"FCC 2020 - Kombi",{"$f":"VLOOKUP(F273,Soutez!B:C,2,FALSE)","v":"SK"},{"$f":"VLOOKUP(F273,Soutez!B:D,3,FALSE)","v":2020},7,5848,0.94500000000000006,7237,6839,null,null,"ASG-29E /18m","PL","Není v databázi"]
["Zoltan Hamar",null,"M","Vario SE",null,"FCC 2020 - Kombi",{"$f":"VLOOKUP(F274,Soutez!B:C,2,FALSE)","v":"SK"},{"$f":"VLOOKUP(F274,Soutez!B:D,3,FALSE)","v":2020},8,5841,0.94500000000000006,7043,6656,null,null,"Ventus 2cxa, 15m","5A","Není v databázi"]
["Janos Sindely",null,"M","Alfoldi Repülőklub",null,"FCC 2020 - Kombi",{"$f":"VLOOKUP(F275,Soutez!B:C,2,FALSE)","v":"SK"},{"$f":"VLOOKUP(F275,Soutez!B:D,3,FALSE)","v":2020},9,5704,0.94500000000000006,6730,6360,null,null,"JS1-C 21","RZ","Není v databázi"]
["Adam Czeladzki",null,"M","Aeroklub Warszawski KKGT",null,"FCC 2020 - Kombi",{"$f":"VLOOKUP(F276,Soutez!B:C,2,FALSE)","v":"SK"},{"$f":"VLOOKUP(F276,Soutez!B:D,3,FALSE)","v":2020},10,5619,0.94500000000000006,6464,6108,null,null,"Duo Discus XLT","POL","Není v databázi"]
["Peter Harsfalvi",null,"M","Albatrosz Nyíregyháza",null,"FCC 2020 - Kombi",{"$f":"VLOOKUP(F277,Soutez!B:C,2,FALSE)","v":"SK"},{"$f":"VLOOKUP(F277,Soutez!B:D,3,FALSE)","v":2020},11,4725,0.94500000000000006,5457,5157,null,null,"JS1-C 21","AAD","Není v databázi"]
["Drahos Sitar",null,"M","Aeroklub Prievidza",null,"FCC 2020 - Kombi",{"$f":"VLOOKUP(F278,Soutez!B:C,2,FALSE)","v":"SK"},{"$f":"VLOOKUP(F278,Soutez!B:D,3,FALSE)","v":2020},12,4255,0.94500000000000006,4839,4573,null,null,"ASG-29E /18m","LK","Není v databázi"]
["Jan Paepke",null,"M","SFC Riesa-Canitz",null,"FCC 2020 - Kombi",{"$f":"VLOOKUP(F279,Soutez!B:C,2,FALSE)","v":"SK"},{"$f":"VLOOKUP(F279,Soutez!B:D,3,FALSE)","v":2020},13,3743,0.94500000000000006,{"$f":"ROUND(J279/MAX($J$267:$J$283)*10000*0.7+(MAX($I$267:$I$283)-I279)/(MAX($I$267:$I$283)-1)*10000*0.3,0)","v":4182},3952,null,null,"LAK 17 AT 18m","AK","Není v databázi"]
["Tornyai & Szabadfi",null,"M","Malev Aeroclub LHDK",null,"FCC 2020 - Kombi",{"$f":"VLOOKUP(F280,Soutez!B:C,2,FALSE)","v":"SK"},{"$f":"VLOOKUP(F280,Soutez!B:D,3,FALSE)","v":2020},14,3689,0.94500000000000006,3945,3728,null,null,"Arcus T","AB","Není v databázi"]
["Benedikt Laho",null,"M","Trnava",null,"FCC 2020 - Kombi",{"$f":"VLOOKUP(F281,Soutez!B:C,2,FALSE)","v":"SK"},{"$f":"VLOOKUP(F281,Soutez!B:D,3,FALSE)","v":2020},15,2942,0.94500000000000006,3072,2903,null,null,"Discus 2T /18m","JH","Není v databázi"]
["Arkadiusz Stefańczyk",null,"M","Aeroklub Kielecki/SGT",null,"FCC 2020 - Kombi",{"$f":"VLOOKUP(F282,Soutez!B:C,2,FALSE)","v":"SK"},{"$f":"VLOOKUP(F282,Soutez!B:D,3,FALSE)","v":2020},16,2304,0.94500000000000006,2300,2174,null,null,"ASH 31 Mi 21m","ME","Není v databázi"]
["Istvan Reti",null,"M","Alfoldi Repülőklub",null,"FCC 2020 - Kombi",{"$f":"VLOOKUP(F283,Soutez!B:C,2,FALSE)","v":"SK"},{"$f":"VLOOKUP(F283,Soutez!B:D,3,FALSE)","v":2020},17,1695,0.94500000000000006,1554,1469,null,null,"ASG-29E /18m","IR","Není v databázi"]
["Frantisek Vancura",{"$f":"VLOOKUP(A284,Pilot,2,0)","v":1966},{"$f":"VLOOKUP(A284,Pilot,5,0)","v":"M"},{"$f":"VLOOKUP(A284,Pilot,3,0)","v":"Hranice"},{"$f":"VLOOKUP(A284,Pilot,4,0)","v":"CZ/M"},"FL 2020 - Kombi",{"$f":"VLOOKUP(F284,Soutez!B:C,2,FALSE)","v":"CZ"},{"$f":"VLOOKUP(F284,Soutez!B:D,3,FALSE)","v":2020},1,809,0,{"$f":"ROUND(J284/MAX($J$284:$J$294)*10000*0.7+(MAX($I$284:$I$294)-I284)/(MAX($I$284:$I$294)-1)*10000*0.3,0)","v":10000},0,null,null,"Nimbus 3T/24.5m","A1",""]
["Lumir Motyka",1955,"M","Frýdlant","CZ/M","FL 2020 - Kombi",{"$f":"VLOOKUP(F285,Soutez!B:C,2,FALSE)","v":"CZ"},{"$f":"VLOOKUP(F285,Soutez!B:D,3,FALSE)","v":2020},2,782,0,{"$f":"ROUND(J285/MAX($J$284:$J$294)*10000*0.7+(MAX($I$284:$I$294)-I285)/(MAX($I$284:$I$294)-1)*10000*0.3,0)","v":9466},0,null,null,"LAK 12","DE",""]
["Pavel Foldyna",1976,"M","Frýdlant","CZ/M","FL 2020 - Kombi",{"$f":"VLOOKUP(F286,Soutez!B:C,2,FALSE)","v":"CZ"},{"$f":"VLOOKUP(F286,Soutez!B:D,3,FALSE)","v":2020},3,709,0,8535,0,null,null,"Arcus M","FJ",""]
["Jaroslav Buryan",1953,"M","Zábřeh","CZ/M","FL 2020 - Kombi",{"$f":"VLOOKUP(F287,Soutez!B:C,2,FALSE)","v":"CZ"},{"$f":"VLOOKUP(F287,Soutez!B:D,3,FALSE)","v":2020},4,694,0,8105,0,null,null,"ASW 20","NS",""]
["Radim Hahn",1972,"M","Zábřeh","CZ/M","FL 2020 - Kombi",{"$f":"VLOOKUP(F288,Soutez!B:C,2,FALSE)","v":"CZ"},{"$f":"VLOOKUP(F288,Soutez!B:D,3,FALSE)","v":2020},5,602,0,7009,0,null,null,"ASH 26E","I",""]
["Milos Matejka",1956,"M","Beroun","CZ/C1","FL 2020 - Kombi",{"$f":"VLOOKUP(F289,Soutez!B:C,2,FALSE)","v":"CZ"},{"$f":"VLOOKUP(F289,Soutez!B:D,3,FALSE)","v":2020},6,537,0,6146,0,null,null,"Discus b","SH",""]
["Martin Suchy",1969,"M","Hranice","CZ/M","FL 2020 - Kombi",{"$f":"VLOOKUP(F290,Soutez!B:C,2,FALSE)","v":"CZ"},{"$f":"VLOOKUP(F290,Soutez!B:D,3,FALSE)","v":2020},7,375,0,4445,0,null,null,"Duo Discus","OK",""]
["Petr Brezina",1963,"M","Frýdlant","CZ/M","FL 2020 - Kombi",{"$f":"VLOOKUP(F291,Soutez!B:C,2,FALSE)","v":"CZ"},{"$f":"VLOOKUP(F291,Soutez!B:D,3,FALSE)","v":2020},8,241,0,{"$f":"ROUND(J291/MAX($J$284:$J$294)*10000*0.7+(MAX($I$284:$I$294)-I291)/(MAX($I$284:$I$294)-1)*10000*0.3,0)","v":2985},0,null,null,"DG 200","AK",""]
["Jan Kristof",1962,"M","Frýdlant","CZ/M","FL 2020 - Kombi",{"$f":"VLOOKUP(F292,Soutez!B:C,2,FALSE)","v":"CZ"},{"$f":"VLOOKUP(F292,Soutez!B:D,3,FALSE)","v":2020},9,234,0,2625,0,null,null,"LS 3","TX",""]
["Antonin Kutalek",1943,"M","Zábřeh","CZ/M","FL 2020 - Kombi",{"$f":"VLOOKUP(F293,Soutez!B:C,2,FALSE)","v":"CZ"},{"$f":"VLOOKUP(F293,Soutez!B:D,3,FALSE)","v":2020},10,53,0,759,0,null,null,"Mini Nimbus c","GL",""]
["Vit Grossmann",1977,"M","Hranice","CZ/M","FL 2020 - Kombi",{"$f":"VLOOKUP(F294,Soutez!B:C,2,FALSE)","v":"CZ"},{"$f":"VLOOKUP(F294,Soutez!B:D,3,FALSE)","v":2020},11,0,0,0,0,null,null,"Ventus c 17.6m","FC",""]
["Viktor Romacik",null,"M",null,null,"Oldtimer Pribina Star 2020 - Klub",{"$f":"VLOOKUP(F295,Soutez!B:C,2,FALSE)","v":"SK"},{"$f":"VLOOKUP(F295,Soutez!B:D,3,FALSE)","v":2020},1,861,0.75,{"$f":"ROUND(J295/MAX($J$295:$J$311)*10000*0.7+(MAX($I$295:$I$311)-I295)/(MAX($I$295:$I$311)-1)*10000*0.3,0)","v":10000},7500,null,null,"H-201B Libelle","RR","Není v databázi"]
["Ludovit Homola",null,"M",null,null,"Oldtimer Pribina Star 2020 - Klub",{"$f":"VLOOKUP(F296,Soutez!B:C,2,FALSE)","v":"SK"},{"$f":"VLOOKUP(F296,Soutez!B:D,3,FALSE)","v":2020},2,822,0.75,{"$f":"ROUND(J296/MAX($J$295:$J$311)*10000*0.7+(MAX($I$295:$I$311)-I296)/(MAX($I$295:$I$311)-1)*10000*0.3,0)","v":9452},7089,null,null,"VSO-10","I5","Není v databázi"]
["Vladimir Abraham",{"$f":"VLOOKUP(A297,Pilot,2,0)","v":1962},{"$f":"VLOOKUP(A297,Pilot,5,0)","v":"M"},{"$f":"VLOOKUP(A297,Pilot,3,0)","v":"Raná"},{"$f":"VLOOKUP(A297,Pilot,4,0)","v":"CZ/C2"},"Oldtimer Pribina Star 2020 - Klub",{"$f":"VLOOKUP(F297,Soutez!B:C,2,FALSE)","v":"SK"},{"$f":"VLOOKUP(F297,Soutez!B:D,3,FALSE)","v":2020},3,800,0.75,9043,6782,"x",null,"K6 Cr","YZ",""]
["Radovan Uhelsky",null,"M",null,null,"Oldtimer Pribina Star 2020 - Klub",{"$f":"VLOOKUP(F298,Soutez!B:C,2,FALSE)","v":"SK"},{"$f":"VLOOKUP(F298,Soutez!B:D,3,FALSE)","v":2020},4,721,0.75,8169,6127,null,null,"VT-16 Orlik","m24","Není v databázi"]
["Juraj Vysny",null,"M",null,null,"Oldtimer Pribina Star 2020 - Klub",{"$f":"VLOOKUP(F299,Soutez!B:C,2,FALSE)","v":"SK"},{"$f":"VLOOKUP(F299,Soutez!B:D,3,FALSE)","v":2020},5,719,0.75,7922,5942,null,null,"Mosquito B","JS","Není v databázi"]
["Milan Boros",null,"M",null,null,"Oldtimer Pribina Star 2020 - Klub",{"$f":"VLOOKUP(F300,Soutez!B:C,2,FALSE)","v":"SK"},{"$f":"VLOOKUP(F300,Soutez!B:D,3,FALSE)","v":2020},6,714,0.75,7651,5738,null,null,"VSO-10","KO","Není v databázi"]
["Ivana Jurovicova",null,"F",null,null,"Oldtimer Pribina Star 2020 - Klub",{"$f":"VLOOKUP(F301,Soutez!B:C,2,FALSE)","v":"SK"},{"$f":"VLOOKUP(F301,Soutez!B:D,3,FALSE)","v":2020},7,660,0.75,6981,5236,null,null,"Libelle","J3","Není v databázi"]
["Marian Szabó",null,"M",null,null,"Oldtimer Pribina Star 2020 - Klub",{"$f":"VLOOKUP(F302,Soutez!B:C,2,FALSE)","v":"SK"},{"$f":"VLOOKUP(F302,Soutez!B:D,3,FALSE)","v":2020},8,659,0.75,6742,5057,null,null,"VT-116 Orlik 2","m84","Není v databázi"]
["Vaclav cerny",{"$f":"VLOOKUP(A303,Pilot,2,0)","v":1949},{"$f":"VLOOKUP(A303,Pilot,5,0)","v":"M"},{"$f":"VLOOKUP(A303,Pilot,3,0)","v":"Slaný"},{"$f":"VLOOKUP(A303,Pilot,4,0)","v":"CZ/C1"},"Oldtimer Pribina Star 2020 - Klub",{"$f":"VLOOKUP(F303,Soutez!B:C,2,FALSE)","v":"SK"},{"$f":"VLOOKUP(F303,Soutez!B:D,3,FALSE)","v":2020},9,616,0.75,6162,4622,null,null,"VT-125 Sohaj","V",""]
["Norbert Karolyi",null,"M",null,null,"Oldtimer Pribina Star 2020 - Klub",{"$f":"VLOOKUP(F304,Soutez!B:C,2,FALSE)","v":"SK"},{"$f":"VLOOKUP(F304,Soutez!B:D,3,FALSE)","v":2020},10,558,0.75,5460,4095,null,null,"SZD 36 Cobra 15","k29","Není v databázi"]
["Frantisek Ehn",null,"M",null,null,"Oldtimer Pribina Star 2020 - Klub",{"$f":"VLOOKUP(F305,Soutez!B:C,2,FALSE)","v":"SK"},{"$f":"VLOOKUP(F305,Soutez!B:D,3,FALSE)","v":2020},11,517,0.75,4896,3672,null,null,"VSO-10","m65","Není v databázi"]
["Jaroslav Kares",{"$f":"VLOOKUP(A306,Pilot,2,0)","v":1962},{"$f":"VLOOKUP(A306,Pilot,5,0)","v":"M"},{"$f":"VLOOKUP(A306,Pilot,3,0)","v":"Olomouc"},{"$f":"VLOOKUP(A306,Pilot,4,0)","v":"CZ/M"},"Oldtimer Pribina Star 2020 - Klub",{"$f":"VLOOKUP(F306,Soutez!B:C,2,FALSE)","v":"SK"},{"$f":"VLOOKUP(F306,Soutez!B:D,3,FALSE)","v":2020},12,479,0.75,{"$f":"ROUND(J306/MAX($J$295:$J$311)*10000*0.7+(MAX($I$295:$I$311)-I306)/(MAX($I$295:$I$311)-1)*10000*0.3,0)","v":4356},3267,"x",null,"SF-27A Scheibe","k14",""]
["Zdeno Hrcka",null,"M",null,null,"Oldtimer Pribina Star 2020 - Klub",{"$f":"VLOOKUP(F307,Soutez!B:C,2,FALSE)","v":"SK"},{"$f":"VLOOKUP(F307,Soutez!B:D,3,FALSE)","v":2020},13,198,0.75,1841,1381,null,null,"C101 PEGASE","H","Není v databázi"]
["Michal Baxa",null,"M",null,null,"Oldtimer Pribina Star 2020 - Klub",{"$f":"VLOOKUP(F308,Soutez!B:C,2,FALSE)","v":"SK"},{"$f":"VLOOKUP(F308,Soutez!B:D,3,FALSE)","v":2020},14,0,{"$f":"VLOOKUP(F308,Soutez,12,0)","v":0.75},0,0,null,null,"VSO-10","m35",{"$f":"IF(ISERROR(VLOOKUP(A308,Pilot,6,0)),\"Není v databázi\",VLOOKUP(A308,Pilot,6,0))","v":"Není v databázi"}]
["Oto Gese",null,"M",null,null,"Oldtimer Pribina Star 2020 - Klub",{"$f":"VLOOKUP(F309,Soutez!B:C,2,FALSE)","v":"SK"},{"$f":"VLOOKUP(F309,Soutez!B:D,3,FALSE)","v":2020},14,0,0.75,0,0,null,null,"L 13 Blanik","m17","Není v databázi"]
["Igor Ott",null,"M",null,null,"Oldtimer Pribina Star 2020 - Klub",{"$f":"VLOOKUP(F310,Soutez!B:C,2,FALSE)","v":"SK"},{"$f":"VLOOKUP(F310,Soutez!B:D,3,FALSE)","v":2020},14,0,0.75,0,0,null,null,"LG-425 SOHAJ","N","Není v databázi"]
["Józi Ott",null,"M",null,null,"Oldtimer Pribina Star 2020 - Klub",{"$f":"VLOOKUP(F311,Soutez!B:C,2,FALSE)","v":"SK"},{"$f":"VLOOKUP(F311,Soutez!B:D,3,FALSE)","v":2020},"HC",0,0.75,null,{"$f":"ROUND(K311*L311,0)","v":0},null,null,"Z-23 HONZA","m56","Není v databázi"]
["Ondrej Bordovsky",{"$f":"VLOOKUP(A312,Pilot,2,0)","v":1983},{"$f":"VLOOKUP(A312,Pilot,5,0)","v":"M"},{"$f":"VLOOKUP(A312,Pilot,3,0)","v":"Krnov"},{"$f":"VLOOKUP(A312,Pilot,4,0)","v":"CZ/M"},"PMČR 2020 - Klub",{"$f":"VLOOKUP(F312,Soutez!B:C,2,FALSE)","v":"CZ"},{"$f":"VLOOKUP(F312,Soutez!B:D,3,FALSE)","v":2020},1,7555,1.085,{"$f":"ROUND(J312/MAX($J$312:$J$336)*10000*0.7+(MAX($I$312:$I$336)-I312)/(MAX($I$312:$I$336)-1)*10000*0.3,0)","v":10000},10850,"x",null,"Std.Cirrus","BW",""]
["Jan Ratz",{"$f":"VLOOKUP(A313,Pilot,2,0)","v":1987},{"$f":"VLOOKUP(A313,Pilot,5,0)","v":"M"},{"$f":"VLOOKUP(A313,Pilot,3,0)","v":"Zbraslavice"},{"$f":"VLOOKUP(A313,Pilot,4,0)","v":"CZ/C1"},"PMČR 2020 - Klub",{"$f":"VLOOKUP(F313,Soutez!B:C,2,FALSE)","v":"CZ"},{"$f":"VLOOKUP(F313,Soutez!B:D,3,FALSE)","v":2020},2,7424,1.085,{"$f":"ROUND(J313/MAX($J$312:$J$336)*10000*0.7+(MAX($I$312:$I$336)-I313)/(MAX($I$312:$I$336)-1)*10000*0.3,0)","v":9754},10583,"x",null,"Std.Cirrus","REX",""]
["Finn Sleigh",null,"M","Gliding Now","UK","PMČR 2020 - Klub",{"$f":"VLOOKUP(F314,Soutez!B:C,2,FALSE)","v":"CZ"},{"$f":"VLOOKUP(F314,Soutez!B:D,3,FALSE)","v":2020},3,7280,1.085,9495,10302,null,null,"ASW20",5,"Není v databázi"]
["Daniel Ryba",{"$f":"VLOOKUP(A315,Pilot,2,0)","v":1994},{"$f":"VLOOKUP(A315,Pilot,5,0)","v":"M"},{"$f":"VLOOKUP(A315,Pilot,3,0)","v":"Dvůr Králové"},{"$f":"VLOOKUP(A315,Pilot,4,0)","v":"CZ/C2"},"PMČR 2020 - Klub",{"$f":"VLOOKUP(F315,Soutez!B:C,2,FALSE)","v":"CZ"},{"$f":"VLOOKUP(F315,Soutez!B:D,3,FALSE)","v":2020},4,7228,1.085,9322,10114,"x",null,"ASW19B","L7",""]
["Jaroslav Tomana",{"$f":"VLOOKUP(A316,Pilot,2,0)","v":1975},{"$f":"VLOOKUP(A316,Pilot,5,0)","v":"M"},{"$f":"VLOOKUP(A316,Pilot,3,0)","v":"Zbraslavice"},{"$f":"VLOOKUP(A316,Pilot,4,0)","v":"CZ/C1"},"PMČR 2020 - Klub",{"$f":"VLOOKUP(F316,Soutez!B:C,2,FALSE)","v":"CZ"},{"$f":"VLOOKUP(F316,Soutez!B:D,3,FALSE)","v":2020},5,7213,1.085,9183,9964,"x",null,"Pegase 101 BC","RT",""]
["Michal Lesinger",{"$f":"VLOOKUP(A317,Pilot,2,0)","v":1966},{"$f":"VLOOKUP(A317,Pilot,5,0)","v":"M"},{"$f":"VLOOKUP(A317,Pilot,3,0)","v":"Moravská Třebová"},{"$f":"VLOOKUP(A317,Pilot,4,0)","v":"CZ/M"},"PMČR 2020 - Klub",{"$f":"VLOOKUP(F317,Soutez!B:C,2,FALSE)","v":"CZ"},{"$f":"VLOOKUP(F317,Soutez!B:D,3,FALSE)","v":2020},6,7082,1.085,8937,9697,"x",null,"ASW19B","LL",""]
["Pavel Trybenekr",{"$f":"VLOOKUP(A318,Pilot,2,0)","v":1990},{"$f":"VLOOKUP(A318,Pilot,5,0)","v":"M"},{"$f":"VLOOKUP(A318,Pilot,3,0)","v":"Hořice"},{"$f":"VLOOKUP(A318,Pilot,4,0)","v":"CZ/C2"},"PMČR 2020 - Klub",{"$f":"VLOOKUP(F318,Soutez!B:C,2,FALSE)","v":"CZ"},{"$f":"VLOOKUP(F318,Soutez!B:D,3,FALSE)","v":2020},7,7037,1.085,8770,9515,"x",null,"LS4","PF",""]
["Toby Freeland",null,"M","Imperial College - Lasham","UK","PMČR 2020 - Klub",{"$f":"VLOOKUP(F319,Soutez!B:C,2,FALSE)","v":"CZ"},{"$f":"VLOOKUP(F319,Soutez!B:D,3,FALSE)","v":2020},8,6922,1.085,8539,9265,null,null,"ASW24 WL",96,"Není v databázi"]
["Ivan Novak",{"$f":"VLOOKUP(A320,Pilot,2,0)","v":1962},{"$f":"VLOOKUP(A320,Pilot,5,0)","v":"M"},{"$f":"VLOOKUP(A320,Pilot,3,0)","v":"Mladá Boleslav"},{"$f":"VLOOKUP(A320,Pilot,4,0)","v":"CZ/C1"},"PMČR 2020 - Klub",{"$f":"VLOOKUP(F320,Soutez!B:C,2,FALSE)","v":"CZ"},{"$f":"VLOOKUP(F320,Soutez!B:D,3,FALSE)","v":2020},9,6777,1.085,8279,8983,null,null,"LS4","IX",""]
["Pavel Rericha",{"$f":"VLOOKUP(A321,Pilot,2,0)","v":1967},{"$f":"VLOOKUP(A321,Pilot,5,0)","v":"M"},{"$f":"VLOOKUP(A321,Pilot,3,0)","v":"Moravská Třebová"},{"$f":"VLOOKUP(A321,Pilot,4,0)","v":"CZ/M"},"PMČR 2020 - Klub",{"$f":"VLOOKUP(F321,Soutez!B:C,2,FALSE)","v":"CZ"},{"$f":"VLOOKUP(F321,Soutez!B:D,3,FALSE)","v":2020},10,6731,1.085,8112,8802,"x",null,"ASW19B","NO",""]
["Vit Morkovsky",{"$f":"VLOOKUP(A322,Pilot,2,0)","v":2000},{"$f":"VLOOKUP(A322,Pilot,5,0)","v":"M"},{"$f":"VLOOKUP(A322,Pilot,3,0)","v":"Polička"},{"$f":"VLOOKUP(A322,Pilot,4,0)","v":"CZ/C2"},"PMČR 2020 - Klub",{"$f":"VLOOKUP(F322,Soutez!B:C,2,FALSE)","v":"CZ"},{"$f":"VLOOKUP(F322,Soutez!B:D,3,FALSE)","v":2020},11,6532,1.085,7802,8465,null,null,"ASW24","SM","Junior v roce 2023"]
["Henry Inigo-Jones",null,"M","Lasham","UK","PMČR 2020 - Klub",{"$f":"VLOOKUP(F323,Soutez!B:C,2,FALSE)","v":"CZ"},{"$f":"VLOOKUP(F323,Soutez!B:D,3,FALSE)","v":2020},12,6373,1.085,7530,8170,null,null,"DG 300",950,"Není v databázi"]
["Zdenek Boruvka 86",{"$f":"VLOOKUP(A324,Pilot,2,0)","v":1986},{"$f":"VLOOKUP(A324,Pilot,5,0)","v":"M"},{"$f":"VLOOKUP(A324,Pilot,3,0)","v":"Jičín"},{"$f":"VLOOKUP(A324,Pilot,4,0)","v":"CZ/C2"},"PMČR 2020 - Klub",{"$f":"VLOOKUP(F324,Soutez!B:C,2,FALSE)","v":"CZ"},{"$f":"VLOOKUP(F324,Soutez!B:D,3,FALSE)","v":2020},13,6320,1.085,7356,7981,null,null,"Std.Cirrus","BJ",""]
["Jan Hruska",{"$f":"VLOOKUP(A325,Pilot,2,0)","v":1988},{"$f":"VLOOKUP(A325,Pilot,5,0)","v":"M"},{"$f":"VLOOKUP(A325,Pilot,3,0)","v":"Tábor"},{"$f":"VLOOKUP(A325,Pilot,4,0)","v":"CZ/C1"},"PMČR 2020 - Klub",{"$f":"VLOOKUP(F325,Soutez!B:C,2,FALSE)","v":"CZ"},{"$f":"VLOOKUP(F325,Soutez!B:D,3,FALSE)","v":2020},14,6124,1.085,7049,7648,"x",null,"ASW15B","LF",""]
["Zdenek Balcarek",{"$f":"VLOOKUP(A326,Pilot,2,0)","v":1967},{"$f":"VLOOKUP(A326,Pilot,5,0)","v":"M"},{"$f":"VLOOKUP(A326,Pilot,3,0)","v":"Kroměříž"},{"$f":"VLOOKUP(A326,Pilot,4,0)","v":"CZ/M"},"PMČR 2020 - Klub",{"$f":"VLOOKUP(F326,Soutez!B:C,2,FALSE)","v":"CZ"},{"$f":"VLOOKUP(F326,Soutez!B:D,3,FALSE)","v":2020},15,5703,1.085,6534,7089,"x",null,"Std.Cirrus","ZL",""]
["Lukas Schneeberger",null,"M","SMBC Eferding","AT","PMČR 2020 - Klub",{"$f":"VLOOKUP(F327,Soutez!B:C,2,FALSE)","v":"CZ"},{"$f":"VLOOKUP(F327,Soutez!B:D,3,FALSE)","v":2020},16,5575,1.085,6290,6825,null,null,"ASW19","I","Není v databázi"]
["Jiri Stepanek",{"$f":"VLOOKUP(A328,Pilot,2,0)","v":1956},{"$f":"VLOOKUP(A328,Pilot,5,0)","v":"M"},{"$f":"VLOOKUP(A328,Pilot,3,0)","v":"Moravská Třebová"},{"$f":"VLOOKUP(A328,Pilot,4,0)","v":"CZ/M"},"PMČR 2020 - Klub",{"$f":"VLOOKUP(F328,Soutez!B:C,2,FALSE)","v":"CZ"},{"$f":"VLOOKUP(F328,Soutez!B:D,3,FALSE)","v":2020},17,5563,1.085,6154,6677,"x",null,"ASW15b","LE",""]
["Martin Stepanek",{"$f":"VLOOKUP(A329,Pilot,2,0)","v":1987},{"$f":"VLOOKUP(A329,Pilot,5,0)","v":"M"},{"$f":"VLOOKUP(A329,Pilot,3,0)","v":"Moravská Třebová"},{"$f":"VLOOKUP(A329,Pilot,4,0)","v":"CZ/M"},"PMČR 2020 - Klub",{"$f":"VLOOKUP(F329,Soutez!B:C,2,FALSE)","v":"CZ"},{"$f":"VLOOKUP(F329,Soutez!B:D,3,FALSE)","v":2020},18,5421,1.085,5898,6399,"x",null,"ASW15B","ZP",""]
["Petr Stepanek",{"$f":"VLOOKUP(A330,Pilot,2,0)","v":1989},{"$f":"VLOOKUP(A330,Pilot,5,0)","v":"M"},{"$f":"VLOOKUP(A330,Pilot,3,0)","v":"Moravská Třebová"},{"$f":"VLOOKUP(A330,Pilot,4,0)","v":"CZ/M"},"PMČR 2020 - Klub",{"$f":"VLOOKUP(F330,Soutez!B:C,2,FALSE)","v":"CZ"},{"$f":"VLOOKUP(F330,Soutez!B:D,3,FALSE)","v":2020},19,5341,1.085,5699,6183,"x",null,"ASW19B","AE",""]
["Edmund Schuller",null,"M","Lučenec","SK","PMČR 2020 - Klub",{"$f":"VLOOKUP(F331,Soutez!B:C,2,FALSE)","v":"CZ"},{"$f":"VLOOKUP(F331,Soutez!B:D,3,FALSE)","v":2020},20,5306,1.085,5541,6012,null,null,"ASW24 WL","ZS","Není v databázi"]
["Pavlina Horackova",{"$f":"VLOOKUP(A332,Pilot,2,0)","v":1965},{"$f":"VLOOKUP(A332,Pilot,5,0)","v":"F"},{"$f":"VLOOKUP(A332,Pilot,3,0)","v":"Šumperk"},{"$f":"VLOOKUP(A332,Pilot,4,0)","v":"CZ/M"},"PMČR 2020 - Klub",{"$f":"VLOOKUP(F332,Soutez!B:C,2,FALSE)","v":"CZ"},{"$f":"VLOOKUP(F332,Soutez!B:D,3,FALSE)","v":2020},21,5146,1.085,5268,5716,null,null,"SZD 48 Jantar Std. 2","SU",""]
["Ivan Harasta 65",{"$f":"VLOOKUP(A333,Pilot,2,0)","v":1965},{"$f":"VLOOKUP(A333,Pilot,5,0)","v":"M"},{"$f":"VLOOKUP(A333,Pilot,3,0)","v":"Toužim"},{"$f":"VLOOKUP(A333,Pilot,4,0)","v":"CZ/C1"},"PMČR 2020 - Klub",{"$f":"VLOOKUP(F333,Soutez!B:C,2,FALSE)","v":"CZ"},{"$f":"VLOOKUP(F333,Soutez!B:D,3,FALSE)","v":2020},22,5130,1.085,5128,5564,null,null,"ASW 19b","KZ",""]
["Ivan Tvrdik",{"$f":"VLOOKUP(A334,Pilot,2,0)","v":1997},{"$f":"VLOOKUP(A334,Pilot,5,0)","v":"M"},{"$f":"VLOOKUP(A334,Pilot,3,0)","v":"Letňany"},{"$f":"VLOOKUP(A334,Pilot,4,0)","v":"CZ/C1"},"PMČR 2020 - Klub",{"$f":"VLOOKUP(F334,Soutez!B:C,2,FALSE)","v":"CZ"},{"$f":"VLOOKUP(F334,Soutez!B:D,3,FALSE)","v":2020},23,5104,1.085,4979,5402,null,null,"Discus CS","LH",""]
["Szymon Bartus",null,"M","Lasham GS","UK","PMČR 2020 - Klub",{"$f":"VLOOKUP(F335,Soutez!B:C,2,FALSE)","v":"CZ"},{"$f":"VLOOKUP(F335,Soutez!B:D,3,FALSE)","v":2020},24,4414,1.085,4215,4573,null,null,"Discus b",296,"Není v databázi"]
["Tomas Moravec",{"$f":"VLOOKUP(A336,Pilot,2,0)","v":2000},{"$f":"VLOOKUP(A336,Pilot,5,0)","v":"M"},{"$f":"VLOOKUP(A336,Pilot,3,0)","v":"Žamberk"},{"$f":"VLOOKUP(A336,Pilot,4,0)","v":"CZ/C2"},"PMČR 2020 - Klub",{"$f":"VLOOKUP(F336,Soutez!B:C,2,FALSE)","v":"CZ"},{"$f":"VLOOKUP(F336,Soutez!B:D,3,FALSE)","v":2020},25,4136,1.085,3832,4158,null,null,"Std. Cirrus WL","OK6","Junior v roce 2023"]
["Petr Koutny",1971,"M","Křižanov","CZ/M","PMČR 2020 - Kombi 15m",{"$f":"VLOOKUP(F337,Soutez!B:C,2,FALSE)","v":"CZ"},{"$f":"VLOOKUP(F337,Soutez!B:D,3,FALSE)","v":2020},1,7466,1.0899999999999999,{"$f":"ROUND(J337/MAX($J$337:$J$358)*10000*0.7+(MAX($I$337:$I$358)-I337)/(MAX($I$337:$I$358)-1)*10000*0.3,0)","v":10000},10900,"x",null,"LS8 15m","SK",""]
["Jan Pavlik",1987,"M","Křižanov","CZ/M","PMČR 2020 - Kombi 15m",{"$f":"VLOOKUP(F338,Soutez!B:C,2,FALSE)","v":"CZ"},{"$f":"VLOOKUP(F338,Soutez!B:D,3,FALSE)","v":2020},2,7421,1.0899999999999999,{"$f":"ROUND(J338/MAX($J$337:$J$358)*10000*0.7+(MAX($I$337:$I$358)-I338)/(MAX($I$337:$I$358)-1)*10000*0.3,0)","v":9815},10698,"x",null,"LS8a 15m","JW",""]
["Miloslav Cink",1987,"M","Letkov","CZ/C1","PMČR 2020 - Kombi 15m",{"$f":"VLOOKUP(F339,Soutez!B:C,2,FALSE)","v":"CZ"},{"$f":"VLOOKUP(F339,Soutez!B:D,3,FALSE)","v":2020},3,6950,1.0899999999999999,9230,10061,"x",null,"LS8b 15m","JB",""]
["Pavel Louzecky",1957,"M","Přibyslav","CZ/C2","PMČR 2020 - Kombi 15m",{"$f":"VLOOKUP(F340,Soutez!B:C,2,FALSE)","v":"CZ"},{"$f":"VLOOKUP(F340,Soutez!B:D,3,FALSE)","v":2020},4,6751,1.0899999999999999,8901,9702,"x",null,"LS8 15m","FX",""]
["Karel Novak",1993,"M","Mladá Boleslav","CZ/C1","PMČR 2020 - Kombi 15m",{"$f":"VLOOKUP(F341,Soutez!B:C,2,FALSE)","v":"CZ"},{"$f":"VLOOKUP(F341,Soutez!B:D,3,FALSE)","v":2020},5,6578,1.0899999999999999,8596,9370,"x",null,"JS3 15m","XM",""]
["Jiri Kusbach",1959,"M","Luhačovice","CZ/M","PMČR 2020 - Kombi 15m",{"$f":"VLOOKUP(F342,Soutez!B:C,2,FALSE)","v":"CZ"},{"$f":"VLOOKUP(F342,Soutez!B:D,3,FALSE)","v":2020},6,6548,1.0899999999999999,8425,9183,"x",null,"KKB-15E","B",""]
["Jan Zapletal",1997,"M","Břeclav","CZ/M","PMČR 2020 - Kombi 15m",{"$f":"VLOOKUP(F343,Soutez!B:C,2,FALSE)","v":"CZ"},{"$f":"VLOOKUP(F343,Soutez!B:D,3,FALSE)","v":2020},7,6542,1.0899999999999999,8277,9022,"x",null,"LS8 15m","JS",""]
["Petr Krejcirik",1960,"M","Hranice","CZ/M","PMČR 2020 - Kombi 15m",{"$f":"VLOOKUP(F344,Soutez!B:C,2,FALSE)","v":"CZ"},{"$f":"VLOOKUP(F344,Soutez!B:D,3,FALSE)","v":2020},8,6252,1.0899999999999999,7862,8570,"x",null,"JS MD3 15m","VB",""]
["Hana Treslova",1991,"F","Raná","CZ/C2","PMČR 2020 - Kombi 15m",{"$f":"VLOOKUP(F345,Soutez!B:C,2,FALSE)","v":"CZ"},{"$f":"VLOOKUP(F345,Soutez!B:D,3,FALSE)","v":2020},9,6243,1.0899999999999999,7710,8404,"x",null,"Ventus 2ax 15m","AX",""]
["Jan Kotan",1982,"M","Letňany","CZ/C1","PMČR 2020 - Kombi 15m",{"$f":"VLOOKUP(F346,Soutez!B:C,2,FALSE)","v":"CZ"},{"$f":"VLOOKUP(F346,Soutez!B:D,3,FALSE)","v":2020},10,6188,1.0899999999999999,7516,8192,null,null,"Ventus 2bx 15m","YA",""]
["Jan Vavrin",1987,"M","Vysoké Mýto","CZ/C2","PMČR 2020 - Kombi 15m",{"$f":"VLOOKUP(F347,Soutez!B:C,2,FALSE)","v":"CZ"},{"$f":"VLOOKUP(F347,Soutez!B:D,3,FALSE)","v":2020},11,6171,1.0899999999999999,7357,8019,"x",null,"DuoDiscus T 700kg",777,""]
["Barbora Moravcova",1994,"F","Zbraslavice","CZ/C1","PMČR 2020 - Kombi 15m",{"$f":"VLOOKUP(F348,Soutez!B:C,2,FALSE)","v":"CZ"},{"$f":"VLOOKUP(F348,Soutez!B:D,3,FALSE)","v":2020},12,6114,1.0899999999999999,7161,7805,"x",null,"LS8a 15m","EU",""]
["Zdenek Boruvka 54",1954,"M","Jičín","CZ/C2","PMČR 2020 - Kombi 15m",{"$f":"VLOOKUP(F349,Soutez!B:C,2,FALSE)","v":"CZ"},{"$f":"VLOOKUP(F349,Soutez!B:D,3,FALSE)","v":2020},13,6085,1.0899999999999999,6991,7620,"x",null,"LS8 15m","ZB",""]
["Jan Boruvka",1984,"M","Jičín","CZ/C2","PMČR 2020 - Kombi 15m",{"$f":"VLOOKUP(F350,Soutez!B:C,2,FALSE)","v":"CZ"},{"$f":"VLOOKUP(F350,Soutez!B:D,3,FALSE)","v":2020},14,6043,1.0899999999999999,6809,7422,null,null,"Ventus c 15m","EG",""]
["Jan Horak",1971,"M","Zbraslavice","CZ/C1","PMČR 2020 - Kombi 15m",{"$f":"VLOOKUP(F351,Soutez!B:C,2,FALSE)","v":"CZ"},{"$f":"VLOOKUP(F351,Soutez!B:D,3,FALSE)","v":2020},15,5930,1.0899999999999999,6560,7150,null,null,"ASW20 (A) 15m + WL","WX",""]
["Radek Zima 78",1978,"M","Hodkovice","CZ/C2","PMČR 2020 - Kombi 15m",{"$f":"VLOOKUP(F352,Soutez!B:C,2,FALSE)","v":"CZ"},{"$f":"VLOOKUP(F352,Soutez!B:D,3,FALSE)","v":2020},16,5803,1.0899999999999999,6298,6865,null,null,"Ventus b WL 15m 500kg","7F",""]
["Jana Treslova",1963,"F","Raná","CZ/C2","PMČR 2020 - Kombi 15m",{"$f":"VLOOKUP(F353,Soutez!B:C,2,FALSE)","v":"CZ"},{"$f":"VLOOKUP(F353,Soutez!B:D,3,FALSE)","v":2020},17,5740,1.0899999999999999,6096,6645,null,null,"Discus 2a 15m","GX",""]
["Dana Novakova",1965,"F","Mladá Boleslav","CZ/C1","PMČR 2020 - Kombi 15m",{"$f":"VLOOKUP(F354,Soutez!B:C,2,FALSE)","v":"CZ"},{"$f":"VLOOKUP(F354,Soutez!B:D,3,FALSE)","v":2020},18,5663,1.0899999999999999,5881,6410,null,null,"LS8 15m","AU",""]
["Lukas Kirchberger",null,"M","SFC Mariazell","AT","PMČR 2020 - Kombi 15m",{"$f":"VLOOKUP(F355,Soutez!B:C,2,FALSE)","v":"CZ"},{"$f":"VLOOKUP(F355,Soutez!B:D,3,FALSE)","v":2020},19,5622,1.0899999999999999,5700,6213,null,null,"LS 7 WL","LK","Není v databázi"]
["Matthew Scutter",null,"M","Adelaide Soaring Club","AU","PMČR 2020 - Kombi 15m",{"$f":"VLOOKUP(F356,Soutez!B:C,2,FALSE)","v":"CZ"},{"$f":"VLOOKUP(F356,Soutez!B:D,3,FALSE)","v":2020},20,5242,1.0899999999999999,5201,5669,null,null,"Diana 2 FES","LI","Není v databázi"]
["Jan Louda",{"$f":"VLOOKUP(A357,Pilot,2,0)","v":1986},{"$f":"VLOOKUP(A357,Pilot,5,0)","v":"M"},{"$f":"VLOOKUP(A357,Pilot,3,0)","v":"Mladá Boleslav"},{"$f":"VLOOKUP(A357,Pilot,4,0)","v":"CZ/C1"},"PMČR 2020 - Kombi 15m",{"$f":"VLOOKUP(F357,Soutez!B:C,2,FALSE)","v":"CZ"},{"$f":"VLOOKUP(F357,Soutez!B:D,3,FALSE)","v":2020},21,5008,1.0899999999999999,{"$f":"ROUND(J357/MAX($J$337:$J$358)*10000*0.7+(MAX($I$337:$I$358)-I357)/(MAX($I$337:$I$358)-1)*10000*0.3,0)","v":4838},5273,null,null,"JS3 15m","ZE",""]
["Jana Veprekova",1961,"F","Dvůr Králové","CZ/C2","PMČR 2020 - Kombi 15m",{"$f":"VLOOKUP(F358,Soutez!B:C,2,FALSE)","v":"CZ"},{"$f":"VLOOKUP(F358,Soutez!B:D,3,FALSE)","v":2020},22,624,1.0899999999999999,585,638,null,null,"LS8 15m","W8",""]
["David Mach",1994,"M","Hronov","CZ/C2","PMČR 2020 - Kombi Open",{"$f":"VLOOKUP(F359,Soutez!B:C,2,FALSE)","v":"CZ"},{"$f":"VLOOKUP(F359,Soutez!B:D,3,FALSE)","v":2020},1,7261,1.0699999999999998,{"$f":"ROUND(J359/MAX($J$359:$J$379)*10000*0.7+(MAX($I$359:$I$379)-I359)/(MAX($I$359:$I$379)-1)*10000*0.3,0)","v":10000},10700,"x",null,"ASG29e","QZ",""]
["Tomas Suchanek",1964,"M","GAC Benešov","CZ/C1","PMČR 2020 - Kombi Open",{"$f":"VLOOKUP(F360,Soutez!B:C,2,FALSE)","v":"CZ"},{"$f":"VLOOKUP(F360,Soutez!B:D,3,FALSE)","v":2020},2,7146,1.0699999999999998,{"$f":"ROUND(J360/MAX($J$359:$J$379)*10000*0.7+(MAX($I$359:$I$379)-I360)/(MAX($I$359:$I$379)-1)*10000*0.3,0)","v":9739},10421,"x",null,"Ventus C 17.6","UP",""]
["Radek Krejcirik",1991,"M","Hranice","CZ/M","PMČR 2020 - Kombi Open",{"$f":"VLOOKUP(F361,Soutez!B:C,2,FALSE)","v":"CZ"},{"$f":"VLOOKUP(F361,Soutez!B:D,3,FALSE)","v":2020},3,6983,1.0699999999999998,9432,10092,"x",null,"JS1 c 18m","ZF",""]
["Roman Mracek",1980,"M","Letkov","CZ/C1","PMČR 2020 - Kombi Open",{"$f":"VLOOKUP(F362,Soutez!B:C,2,FALSE)","v":"CZ"},{"$f":"VLOOKUP(F362,Soutez!B:D,3,FALSE)","v":2020},4,6789,1.0699999999999998,9095,9732,"x",null,"LS8 s 18m","EJ",""]
["Radek Kucirek",1973,"M","Havlíčkův Brod","CZ/C2","PMČR 2020 - Kombi Open",{"$f":"VLOOKUP(F363,Soutez!B:C,2,FALSE)","v":"CZ"},{"$f":"VLOOKUP(F363,Soutez!B:D,3,FALSE)","v":2020},5,6709,1.0699999999999998,8868,9489,"x",null,"EB 28 28,3m","NA",""]
["Ondrej Dupal",1966,"M","GAC Benešov","CZ/C1","PMČR 2020 - Kombi Open",{"$f":"VLOOKUP(F364,Soutez!B:C,2,FALSE)","v":"CZ"},{"$f":"VLOOKUP(F364,Soutez!B:D,3,FALSE)","v":2020},6,6625,1.0699999999999998,8637,9242,"x",null,"ASG29E","GO",""]
["Alena Netusilova",1970,"F","Zbraslavice","CZ/C1","PMČR 2020 - Kombi Open",{"$f":"VLOOKUP(F365,Soutez!B:C,2,FALSE)","v":"CZ"},{"$f":"VLOOKUP(F365,Soutez!B:D,3,FALSE)","v":2020},7,6534,1.0699999999999998,8399,8987,"x",null,"JS1 c 21m","JX",""]
["Petr Tichy",1973,"M","Zbraslavice","CZ/C1","PMČR 2020 - Kombi Open",{"$f":"VLOOKUP(F366,Soutez!B:C,2,FALSE)","v":"CZ"},{"$f":"VLOOKUP(F366,Soutez!B:D,3,FALSE)","v":2020},8,6531,1.0699999999999998,8246,8823,null,null,"ASG29 E","AJ",""]
["Danes Grula",1961,"M","Medlánky","CZ/M","PMČR 2020 - Kombi Open",{"$f":"VLOOKUP(F367,Soutez!B:C,2,FALSE)","v":"CZ"},{"$f":"VLOOKUP(F367,Soutez!B:D,3,FALSE)","v":2020},9,6338,1.0699999999999998,7910,8464,null,null,"ASG29E","DX",""]
["Tomas Rendla",1973,"M","Zbraslavice","CZ/C1","PMČR 2020 - Kombi Open",{"$f":"VLOOKUP(F368,Soutez!B:C,2,FALSE)","v":"CZ"},{"$f":"VLOOKUP(F368,Soutez!B:D,3,FALSE)","v":2020},10,6240,1.0699999999999998,7666,8203,null,null,"EB29R","EX",""]
["Vladimir Foltin",null,"M","Aeroklub Nitra","SK","PMČR 2020 - Kombi Open",{"$f":"VLOOKUP(F369,Soutez!B:C,2,FALSE)","v":"CZ"},{"$f":"VLOOKUP(F369,Soutez!B:D,3,FALSE)","v":2020},11,6045,1.0699999999999998,7328,7841,null,null,"JS3",3,"Není v databázi"]
["Petr Panek",{"$f":"VLOOKUP(A370,Pilot,2,0)","v":1975},{"$f":"VLOOKUP(A370,Pilot,5,0)","v":"M"},{"$f":"VLOOKUP(A370,Pilot,3,0)","v":"Dvůr Králové"},{"$f":"VLOOKUP(A370,Pilot,4,0)","v":"CZ/C2"},"PMČR 2020 - Kombi Open",{"$f":"VLOOKUP(F370,Soutez!B:C,2,FALSE)","v":"CZ"},{"$f":"VLOOKUP(F370,Soutez!B:D,3,FALSE)","v":2020},12,5888,1.0699999999999998,7026,7518,"x",null,"JS1 b 18m","IGC",""]
["Michaela Rendlova",{"$f":"VLOOKUP(A371,Pilot,2,0)","v":2004},{"$f":"VLOOKUP(A371,Pilot,5,0)","v":"F"},{"$f":"VLOOKUP(A371,Pilot,3,0)","v":"Toužim"},{"$f":"VLOOKUP(A371,Pilot,4,0)","v":"CZ/C1"},"PMČR 2020 - Kombi Open",{"$f":"VLOOKUP(F371,Soutez!B:C,2,FALSE)","v":"CZ"},{"$f":"VLOOKUP(F371,Soutez!B:D,3,FALSE)","v":2020},13,5786,1.0699999999999998,6778,7252,null,null,"JS1c 18m","VX","Junior v roce 2023"]
["Martin Hrivna",{"$f":"VLOOKUP(A372,Pilot,2,0)","v":1978},{"$f":"VLOOKUP(A372,Pilot,5,0)","v":"M"},{"$f":"VLOOKUP(A372,Pilot,3,0)","v":"Zbraslavice"},{"$f":"VLOOKUP(A372,Pilot,4,0)","v":"CZ/C1"},"PMČR 2020 - Kombi Open",{"$f":"VLOOKUP(F372,Soutez!B:C,2,FALSE)","v":"CZ"},{"$f":"VLOOKUP(F372,Soutez!B:D,3,FALSE)","v":2020},14,5493,{"$f":"VLOOKUP(F372,Soutez,12,0)","v":1.0699999999999998},6346,6790,"x",null,"ASG29E","NX",{"$f":"IF(ISERROR(VLOOKUP(A372,Pilot,6,0)),\"Není v databázi\",VLOOKUP(A372,Pilot,6,0))","v":""}]
["Christian Hynek",null,"M","ASKÖ Flugsport Wien","AT","PMČR 2020 - Kombi Open",{"$f":"VLOOKUP(F373,Soutez!B:C,2,FALSE)","v":"CZ"},{"$f":"VLOOKUP(F373,Soutez!B:D,3,FALSE)","v":2020},15,5476,1.0699999999999998,{"$f":"ROUND(J373/MAX($J$359:$J$379)*10000*0.7+(MAX($I$359:$I$379)-I373)/(MAX($I$359:$I$379)-1)*10000*0.3,0)","v":6179},6612,null,null,"EB29 DR","DD","Není v databázi"]
["Lenka Kuthanova",{"$f":"VLOOKUP(A374,Pilot,2,0)","v":1960},{"$f":"VLOOKUP(A374,Pilot,5,0)","v":"F"},{"$f":"VLOOKUP(A374,Pilot,3,0)","v":"Tábor"},{"$f":"VLOOKUP(A374,Pilot,4,0)","v":"CZ/C1"},"PMČR 2020 - Kombi Open",{"$f":"VLOOKUP(F374,Soutez!B:C,2,FALSE)","v":"CZ"},{"$f":"VLOOKUP(F374,Soutez!B:D,3,FALSE)","v":2020},16,5219,1.0699999999999998,5781,6186,null,null,"JS1 c 21m","LX",""]
["Martin Picka",1974,"M","Tábor","CZ/C1","PMČR 2020 - Kombi Open",{"$f":"VLOOKUP(F375,Soutez!B:C,2,FALSE)","v":"CZ"},{"$f":"VLOOKUP(F375,Soutez!B:D,3,FALSE)","v":2020},17,4874,1.0699999999999998,5299,{"$f":"ROUND(K375*L375,0)","v":5670},"x",null,"Ventus 2C 18m","CX",""]
["Petr Bartak",1984,"M","Letkov","CZ/C1","PMČR 2020 - Kombi Open",{"$f":"VLOOKUP(F376,Soutez!B:C,2,FALSE)","v":"CZ"},{"$f":"VLOOKUP(F376,Soutez!B:D,3,FALSE)","v":2020},18,4848,1.0699999999999998,5124,5483,null,null,"LS6 18W","BL",""]
["Eva Cerna",1964,"F","Příbram","CZ/C1","PMČR 2020 - Kombi Open",{"$f":"VLOOKUP(F377,Soutez!B:C,2,FALSE)","v":"CZ"},{"$f":"VLOOKUP(F377,Soutez!B:D,3,FALSE)","v":2020},19,4444,1.0699999999999998,4584,4905,"x",null,"Ventus 2cxt","FR",""]
["Karel Mares",1974,"M","Slaný","CZ/C1","PMČR 2020 - Kombi Open",{"$f":"VLOOKUP(F378,Soutez!B:C,2,FALSE)","v":"CZ"},{"$f":"VLOOKUP(F378,Soutez!B:D,3,FALSE)","v":2020},20,4159,1.0699999999999998,4160,4451,"x",null,"Ventus C","YF",""]
["Vaclav Svoboda",1970,"M","Letkov","CZ/C1","PMČR 2020 - Kombi Open",{"$f":"VLOOKUP(F379,Soutez!B:C,2,FALSE)","v":"CZ"},{"$f":"VLOOKUP(F379,Soutez!B:D,3,FALSE)","v":2020},21,3919,1.0699999999999998,3778,4042,null,null,"LS8 18m",301,""]
["Jan Viskot",1995,"M","Břeclav","CZ/M","PMČRj 2020 - Klub",{"$f":"VLOOKUP(F380,Soutez!B:C,2,FALSE)","v":"CZ"},{"$f":"VLOOKUP(F380,Soutez!B:D,3,FALSE)","v":2020},1,7135,0.93,{"$f":"ROUND(J380/MAX($J$380:$J$416)*10000*0.7+(MAX($I$380:$I$416)-I380)/(MAX($I$380:$I$416)-1)*10000*0.3,0)","v":10000},9300,"x",null,"LS4b","6L",""]
["Jan Zapletal",1997,"M","Břeclav","CZ/M","PMČRj 2020 - Klub",{"$f":"VLOOKUP(F381,Soutez!B:C,2,FALSE)","v":"CZ"},{"$f":"VLOOKUP(F381,Soutez!B:D,3,FALSE)","v":2020},2,6733,0.93,{"$f":"ROUND(J381/MAX($J$380:$J$416)*10000*0.7+(MAX($I$380:$I$416)-I381)/(MAX($I$380:$I$416)-1)*10000*0.3,0)","v":9522},8855,null,null,"LS8","JS",""]
["Jaromir Macoun",1999,"M","Jičín","CZ/C2","PMČRj 2020 - Klub",{"$f":"VLOOKUP(F382,Soutez!B:C,2,FALSE)","v":"CZ"},{"$f":"VLOOKUP(F382,Soutez!B:D,3,FALSE)","v":2020},3,6635,0.93,9343,8689,"x",null,"LS-8","EU","Junior v roce 2023"]
["Vit Morkovsky",2000,"M","Polička","CZ/C2","PMČRj 2020 - Klub",{"$f":"VLOOKUP(F383,Soutez!B:C,2,FALSE)","v":"CZ"},{"$f":"VLOOKUP(F383,Soutez!B:D,3,FALSE)","v":2020},4,6547,0.93,9173,8531,"x",null,"ASW-24","SM","Junior v roce 2023"]
["Toby Freeland",null,"M","Imperial College - Lasham","UK","PMČRj 2020 - Klub",{"$f":"VLOOKUP(F384,Soutez!B:C,2,FALSE)","v":"CZ"},{"$f":"VLOOKUP(F384,Soutez!B:D,3,FALSE)","v":2020},5,6466,0.93,9010,8379,null,null,"ASW24 W",96,"Není v databázi"]
["Ivan Tvrdik",{"$f":"VLOOKUP(A385,Pilot,2,0)","v":1997},{"$f":"VLOOKUP(A385,Pilot,5,0)","v":"M"},{"$f":"VLOOKUP(A385,Pilot,3,0)","v":"Letňany"},{"$f":"VLOOKUP(A385,Pilot,4,0)","v":"CZ/C1"},"PMČRj 2020 - Klub",{"$f":"VLOOKUP(F385,Soutez!B:C,2,FALSE)","v":"CZ"},{"$f":"VLOOKUP(F385,Soutez!B:D,3,FALSE)","v":2020},6,6263,0.93,8728,8117,"x",null,"ASW-19b","KZ",""]
["Tereza Koubkova",{"$f":"VLOOKUP(A386,Pilot,2,0)","v":1999},{"$f":"VLOOKUP(A386,Pilot,5,0)","v":"F"},{"$f":"VLOOKUP(A386,Pilot,3,0)","v":"Vysoké Mýto"},{"$f":"VLOOKUP(A386,Pilot,4,0)","v":"CZ/C2"},"PMČRj 2020 - Klub",{"$f":"VLOOKUP(F386,Soutez!B:C,2,FALSE)","v":"CZ"},{"$f":"VLOOKUP(F386,Soutez!B:D,3,FALSE)","v":2020},7,6177,0.93,8560,7961,null,null,"Std. Cirrus","WY","Junior v roce 2023"]
["Michaela Krizova",{"$f":"VLOOKUP(A387,Pilot,2,0)","v":2001},{"$f":"VLOOKUP(A387,Pilot,5,0)","v":"F"},{"$f":"VLOOKUP(A387,Pilot,3,0)","v":"Přibyslav"},{"$f":"VLOOKUP(A387,Pilot,4,0)","v":"CZ/C2"},"PMČRj 2020 - Klub",{"$f":"VLOOKUP(F387,Soutez!B:C,2,FALSE)","v":"CZ"},{"$f":"VLOOKUP(F387,Soutez!B:D,3,FALSE)","v":2020},8,6176,0.93,8476,7883,"x","x","ASW 15b","BE","Junior v roce 2023"]
["Henry Inigo-Jones",null,"M","Lasham Gliding Society","UK","PMČRj 2020 - Klub",{"$f":"VLOOKUP(F388,Soutez!B:C,2,FALSE)","v":"CZ"},{"$f":"VLOOKUP(F388,Soutez!B:D,3,FALSE)","v":2020},9,6147,0.93,{"$f":"ROUND(J388/MAX($J$380:$J$416)*10000*0.7+(MAX($I$380:$I$416)-I388)/(MAX($I$380:$I$416)-1)*10000*0.3,0)","v":8364},7779,null,null,"DG 300 Club",950,"Není v databázi"]
["Tibor Hezina",{"$f":"VLOOKUP(A389,Pilot,2,0)","v":2002},{"$f":"VLOOKUP(A389,Pilot,5,0)","v":"M"},{"$f":"VLOOKUP(A389,Pilot,3,0)","v":"Křižanov"},{"$f":"VLOOKUP(A389,Pilot,4,0)","v":"CZ/M"},"PMČRj 2020 - Klub",{"$f":"VLOOKUP(F389,Soutez!B:C,2,FALSE)","v":"CZ"},{"$f":"VLOOKUP(F389,Soutez!B:D,3,FALSE)","v":2020},10,5872,0.93,8011,7450,"x",null,"Std.Cirrus","IJ","Junior v roce 2023"]
["Jan Stastny",2003,"M","Medlánky","CZ/M","PMČRj 2020 - Klub",{"$f":"VLOOKUP(F390,Soutez!B:C,2,FALSE)","v":"CZ"},{"$f":"VLOOKUP(F390,Soutez!B:D,3,FALSE)","v":2020},11,5826,0.93,7882,7330,null,null,"ASW-15B","TW","Junior v roce 2023"]
["Tomas Jilek",1995,"M","Raná","CZ/C2","PMČRj 2020 - Klub",{"$f":"VLOOKUP(F391,Soutez!B:C,2,FALSE)","v":"CZ"},{"$f":"VLOOKUP(F391,Soutez!B:D,3,FALSE)","v":2020},12,5793,0.93,7767,7223,"x",null,"ASW 15A","PI",""]
["Daniel Suchy",1995,"M","Hranice","CZ/M","PMČRj 2020 - Klub",{"$f":"VLOOKUP(F392,Soutez!B:C,2,FALSE)","v":"CZ"},{"$f":"VLOOKUP(F392,Soutez!B:D,3,FALSE)","v":2020},13,5792,0.93,7682,7144,"x",null,"Astir CS","W7",""]
["Tomas Hulmak",1999,"M","Hosín","CZ/C1","PMČRj 2020 - Klub",{"$f":"VLOOKUP(F393,Soutez!B:C,2,FALSE)","v":"CZ"},{"$f":"VLOOKUP(F393,Soutez!B:D,3,FALSE)","v":2020},14,5757,0.93,7565,7035,"x",null,"ASW-15b","HH","Junior v roce 2023"]
["Lukas Kriz",2003,"M","Křižanov","CZ/M","PMČRj 2020 - Klub",{"$f":"VLOOKUP(F394,Soutez!B:C,2,FALSE)","v":"CZ"},{"$f":"VLOOKUP(F394,Soutez!B:D,3,FALSE)","v":2020},15,5751,0.93,7476,6953,null,null,"Std.Cirrus","EJ","Junior v roce 2023"]
["Tomas Kulhavy",2001,"M","Liberec","CZ/C2","PMČRj 2020 - Klub",{"$f":"VLOOKUP(F395,Soutez!B:C,2,FALSE)","v":"CZ"},{"$f":"VLOOKUP(F395,Soutez!B:D,3,FALSE)","v":2020},16,5654,0.93,7297,6786,"x",null,"HpH G304CZ","IH","Junior v roce 2023"]
["Lukas Maly",1998,"M","Vysoké Mýto","CZ/C2","PMČRj 2020 - Klub",{"$f":"VLOOKUP(F396,Soutez!B:C,2,FALSE)","v":"CZ"},{"$f":"VLOOKUP(F396,Soutez!B:D,3,FALSE)","v":2020},17,5646,0.93,7206,6702,"x",null,"ASW-15B","AM","Junior v roce 2023"]
["Vladimir Hammer",2000,"M","Letkov","CZ/C1","PMČRj 2020 - Klub",{"$f":"VLOOKUP(F397,Soutez!B:C,2,FALSE)","v":"CZ"},{"$f":"VLOOKUP(F397,Soutez!B:D,3,FALSE)","v":2020},18,5552,0.93,7030,6538,null,null,"Std. Cirrus","XII","Junior v roce 2023"]
["Lukas Volek",2004,"M","Hodkovice","CZ/C2","PMČRj 2020 - Klub",{"$f":"VLOOKUP(F398,Soutez!B:C,2,FALSE)","v":"CZ"},{"$f":"VLOOKUP(F398,Soutez!B:D,3,FALSE)","v":2020},19,5290,0.93,6690,6222,"x",null,"ASW-15B","BF","Junior v roce 2023"]
["Tomas Hynek",2002,"M","Dvůr Králové","CZ/C2","PMČRj 2020 - Klub",{"$f":"VLOOKUP(F399,Soutez!B:C,2,FALSE)","v":"CZ"},{"$f":"VLOOKUP(F399,Soutez!B:D,3,FALSE)","v":2020},20,5249,0.93,6566,6106,null,null,"DG-200","IQ","Junior v roce 2023"]
["Petr Gebauer",1999,"M","Mladá Boleslav","CZ/C1","PMČRj 2020 - Klub",{"$f":"VLOOKUP(F400,Soutez!B:C,2,FALSE)","v":"CZ"},{"$f":"VLOOKUP(F400,Soutez!B:D,3,FALSE)","v":2020},21,5125,0.93,6361,5916,"x",null,"ASW-19","AH","Junior v roce 2023"]
["Ondrej Dvorak 98",1998,"M","Mladá Boleslav","CZ/C1","PMČRj 2020 - Klub",{"$f":"VLOOKUP(F401,Soutez!B:C,2,FALSE)","v":"CZ"},{"$f":"VLOOKUP(F401,Soutez!B:D,3,FALSE)","v":2020},22,5124,0.93,6277,5838,null,null,"ASW-15b","MB","Junior v roce 2023"]
["Tomas Moravec",2000,"M","Žamberk","CZ/C2","PMČRj 2020 - Klub",{"$f":"VLOOKUP(F402,Soutez!B:C,2,FALSE)","v":"CZ"},{"$f":"VLOOKUP(F402,Soutez!B:D,3,FALSE)","v":2020},23,4857,0.93,5932,5517,"x",null,"Std.CirrusWL","OK6","Junior v roce 2023"]
["Marek Pechar",1995,"M","Chrudim","CZ/C2","PMČRj 2020 - Klub",{"$f":"VLOOKUP(F403,Soutez!B:C,2,FALSE)","v":"CZ"},{"$f":"VLOOKUP(F403,Soutez!B:D,3,FALSE)","v":2020},24,4797,0.93,5790,5385,"x",null,"Std. Cirrus","JE",""]
["Jan Vozeh",1995,"M","Rakovník","CZ/C1","PMČRj 2020 - Klub",{"$f":"VLOOKUP(F404,Soutez!B:C,2,FALSE)","v":"CZ"},{"$f":"VLOOKUP(F404,Soutez!B:D,3,FALSE)","v":2020},25,4752,0.93,5662,5266,"x",null,"Std. Cirrus","OG",""]
["Jan Beran",1999,"M","Kladno","CZ/C1","PMČRj 2020 - Klub",{"$f":"VLOOKUP(F405,Soutez!B:C,2,FALSE)","v":"CZ"},{"$f":"VLOOKUP(F405,Soutez!B:D,3,FALSE)","v":2020},26,4656,0.93,5485,5101,"x",null,"ASW - 19B","HB","Junior v roce 2023"]
["Jiri Maier 99",1999,"M","Raná","CZ/C2","PMČRj 2020 - Klub",{"$f":"VLOOKUP(F406,Soutez!B:C,2,FALSE)","v":"CZ"},{"$f":"VLOOKUP(F406,Soutez!B:D,3,FALSE)","v":2020},27,4437,0.93,5186,4823,null,null,"Discus bT WL","TAL","Junior v roce 2023"]
["Jakub Malik",1999,"M","Letňany","CZ/C1","PMČRj 2020 - Klub",{"$f":"VLOOKUP(F407,Soutez!B:C,2,FALSE)","v":"CZ"},{"$f":"VLOOKUP(F407,Soutez!B:D,3,FALSE)","v":2020},28,4046,0.93,4719,4389,null,null,"VSO-10","L5","Junior v roce 2023"]
["Jan Adam",2002,"M","Podhořany","CZ/C2","PMČRj 2020 - Klub",{"$f":"VLOOKUP(F408,Soutez!B:C,2,FALSE)","v":"CZ"},{"$f":"VLOOKUP(F408,Soutez!B:D,3,FALSE)","v":2020},29,3982,0.93,4573,4253,"x",null,"Std. Cirrus","YX","Junior v roce 2023"]
["Katerina Vancurova",2002,"F","Hranice","CZ/M","PMČRj 2020 - Klub",{"$f":"VLOOKUP(F409,Soutez!B:C,2,FALSE)","v":"CZ"},{"$f":"VLOOKUP(F409,Soutez!B:D,3,FALSE)","v":2020},30,3693,0.93,4206,3912,"x","x","Std.Cirrus","HC","Junior v roce 2023"]
["Jan Cibulka",2002,"M","Letňany","CZ/C1","PMČRj 2020 - Klub",{"$f":"VLOOKUP(F410,Soutez!B:C,2,FALSE)","v":"CZ"},{"$f":"VLOOKUP(F410,Soutez!B:D,3,FALSE)","v":2020},31,3243,0.93,3682,3424,"x",null,"VSO-10","L2","Junior v roce 2023"]
["Jan Camr",2002,"M","Jaroměř","CZ/C2","PMČRj 2020 - Klub",{"$f":"VLOOKUP(F411,Soutez!B:C,2,FALSE)","v":"CZ"},{"$f":"VLOOKUP(F411,Soutez!B:D,3,FALSE)","v":2020},32,3174,0.93,3531,3284,"x",null,"VSO-10",31,"Junior v roce 2023"]
["Zuzana Markesova",2001,"F","Medlánky","CZ/M","PMČRj 2020 - Klub",{"$f":"VLOOKUP(F412,Soutez!B:C,2,FALSE)","v":"CZ"},{"$f":"VLOOKUP(F412,Soutez!B:D,3,FALSE)","v":2020},33,2996,0.93,3273,3044,"x","x","Std.Cirrus","MP","Junior v roce 2023"]
["Michal Coufal",1999,"M","Jičín","CZ/C2","PMČRj 2020 - Klub",{"$f":"VLOOKUP(F413,Soutez!B:C,2,FALSE)","v":"CZ"},{"$f":"VLOOKUP(F413,Soutez!B:D,3,FALSE)","v":2020},34,2800,0.93,2997,2787,"x",null,"Std.Cirrus","FS","Junior v roce 2023"]
["Filip Vita",2001,"M","Kroměříž","CZ/M","PMČRj 2020 - Klub",{"$f":"VLOOKUP(F414,Soutez!B:C,2,FALSE)","v":"CZ"},{"$f":"VLOOKUP(F414,Soutez!B:D,3,FALSE)","v":2020},35,2687,0.93,2803,2607,"x",null,"Astir","2Y","Junior v roce 2023"]
["Jakub Koudelka",2000,"M","Křižanov","CZ/M","PMČRj 2020 - Klub",{"$f":"VLOOKUP(F415,Soutez!B:C,2,FALSE)","v":"CZ"},{"$f":"VLOOKUP(F415,Soutez!B:D,3,FALSE)","v":2020},36,2608,0.93,2642,2457,"x",null,"ASW-19b","A1","Junior v roce 2023"]
["Tim Raasch",2000,"M","Polička","CZ/C2","PMČRj 2020 - Klub",{"$f":"VLOOKUP(F416,Soutez!B:C,2,FALSE)","v":"CZ"},{"$f":"VLOOKUP(F416,Soutez!B:D,3,FALSE)","v":2020},37,983,0.93,964,897,"x",null,"VSO-10","H5","Junior v roce 2023"]
["Michal Lesinger",1966,"M","Moravská Třebová","CZ/M","PMRg 2020 - Klub",{"$f":"VLOOKUP(F417,Soutez!B:C,2,FALSE)","v":"CZ"},{"$f":"VLOOKUP(F417,Soutez!B:D,3,FALSE)","v":2020},1,4243,0.91500000000000004,{"$f":"ROUND(J417/MAX($J$417:$J$440)*10000*0.7+(MAX($I$417:$I$440)-I417)/(MAX($I$417:$I$440)-1)*10000*0.3,0)","v":10000},9150,null,null,"ASW 19B","LL",""]
["Zdenek Boruvka 86",1986,"M","Jičín","CZ/C2","PMRg 2020 - Klub",{"$f":"VLOOKUP(F418,Soutez!B:C,2,FALSE)","v":"CZ"},{"$f":"VLOOKUP(F418,Soutez!B:D,3,FALSE)","v":2020},2,4134,0.91500000000000004,{"$f":"ROUND(J418/MAX($J$417:$J$440)*10000*0.7+(MAX($I$417:$I$440)-I418)/(MAX($I$417:$I$440)-1)*10000*0.3,0)","v":9690},8866,"x",null,"STD. CIRRUS","BJ",""]
["Jan Zahradka",1981,"M","Hodkovice","CZ/C2","PMRg 2020 - Klub",{"$f":"VLOOKUP(F419,Soutez!B:C,2,FALSE)","v":"CZ"},{"$f":"VLOOKUP(F419,Soutez!B:D,3,FALSE)","v":2020},3,3619,0.91500000000000004,8710,7970,"x",null,"Std. Cirrus","AR",""]
["Marek Svancara",1976,"M","GAC Benešov","CZ/C1","PMRg 2020 - Klub",{"$f":"VLOOKUP(F420,Soutez!B:C,2,FALSE)","v":"CZ"},{"$f":"VLOOKUP(F420,Soutez!B:D,3,FALSE)","v":2020},4,3499,0.91500000000000004,8381,7669,"x",null,"Std. Cirrus","GT",""]
["Jan Stastny",{"$f":"VLOOKUP(A421,Pilot,2,0)","v":2003},{"$f":"VLOOKUP(A421,Pilot,5,0)","v":"M"},{"$f":"VLOOKUP(A421,Pilot,3,0)","v":"Medlánky"},{"$f":"VLOOKUP(A421,Pilot,4,0)","v":"CZ/M"},"PMRg 2020 - Klub",{"$f":"VLOOKUP(F421,Soutez!B:C,2,FALSE)","v":"CZ"},{"$f":"VLOOKUP(F421,Soutez!B:D,3,FALSE)","v":2020},5,3276,0.91500000000000004,7883,7213,null,null,"ASW-15B","TW","Junior v roce 2023"]
["Jindrich Hruska",1986,"M","Soběslav","CZ/C1","PMRg 2020 - Klub",{"$f":"VLOOKUP(F422,Soutez!B:C,2,FALSE)","v":"CZ"},{"$f":"VLOOKUP(F422,Soutez!B:D,3,FALSE)","v":2020},6,3243,0.91500000000000004,7698,7044,"x",null,"Mosquito","UFO",""]
["Jiri Vondracek",1989,"M","Kladno","CZ/C1","PMRg 2020 - Klub",{"$f":"VLOOKUP(F423,Soutez!B:C,2,FALSE)","v":"CZ"},{"$f":"VLOOKUP(F423,Soutez!B:D,3,FALSE)","v":2020},7,3122,0.91500000000000004,7368,6742,"x",null,"ASW-15B","2P",""]
["Vladimir Hammer",2000,"M","Letkov","CZ/C1","PMRg 2020 - Klub",{"$f":"VLOOKUP(F424,Soutez!B:C,2,FALSE)","v":"CZ"},{"$f":"VLOOKUP(F424,Soutez!B:D,3,FALSE)","v":2020},8,3106,0.91500000000000004,7211,6598,"x",null,"Std. Cirrus","XII","Junior v roce 2023"]
["Miloslav Hulmak",1963,"M","Hosín","CZ/C1","PMRg 2020 - Klub",{"$f":"VLOOKUP(F425,Soutez!B:C,2,FALSE)","v":"CZ"},{"$f":"VLOOKUP(F425,Soutez!B:D,3,FALSE)","v":2020},9,3030,0.91500000000000004,6955,6364,"x",null,"ASW15B","HH",""]
["Pavlina Horackova",1965,"F","Šumperk","CZ/M","PMRg 2020 - Klub",{"$f":"VLOOKUP(F426,Soutez!B:C,2,FALSE)","v":"CZ"},{"$f":"VLOOKUP(F426,Soutez!B:D,3,FALSE)","v":2020},10,2891,0.91500000000000004,{"$f":"ROUND(J426/MAX($J$417:$J$440)*10000*0.7+(MAX($I$417:$I$440)-I426)/(MAX($I$417:$I$440)-1)*10000*0.3,0)","v":6596},6035,"x","x","SZD 48 Jantar Std. 2","SU",""]
["Jan Florian",1992,"M","Zbraslavice","CZ/C1","PMRg 2020 - Klub",{"$f":"VLOOKUP(F427,Soutez!B:C,2,FALSE)","v":"CZ"},{"$f":"VLOOKUP(F427,Soutez!B:D,3,FALSE)","v":2020},11,2831,0.91500000000000004,6366,5825,"x",null,"Std. Cirrus","C1",""]
["Tomas Hulmak",1999,"M","Hosín","CZ/C1","PMRg 2020 - Klub",{"$f":"VLOOKUP(F428,Soutez!B:C,2,FALSE)","v":"CZ"},{"$f":"VLOOKUP(F428,Soutez!B:D,3,FALSE)","v":2020},12,2823,0.91500000000000004,6223,5694,null,null,"ASW-15B","XI","Junior v roce 2023"]
["Jiri Holcman",1976,"M","Hosín","CZ/C1","PMRg 2020 - Klub",{"$f":"VLOOKUP(F429,Soutez!B:C,2,FALSE)","v":"CZ"},{"$f":"VLOOKUP(F429,Soutez!B:D,3,FALSE)","v":2020},13,2717,0.91500000000000004,5917,5414,"x",null,"ASW-19","BO",""]
["Petr Rozhon",1972,"M","Hosín","CZ/C1","PMRg 2020 - Klub",{"$f":"VLOOKUP(F430,Soutez!B:C,2,FALSE)","v":"CZ"},{"$f":"VLOOKUP(F430,Soutez!B:D,3,FALSE)","v":2020},14,2611,0.91500000000000004,5612,5135,"x",null,"vso-10",9,""]
["Pavel Koudelka",1973,"M","Křižanov","CZ/M","PMRg 2020 - Klub",{"$f":"VLOOKUP(F431,Soutez!B:C,2,FALSE)","v":"CZ"},{"$f":"VLOOKUP(F431,Soutez!B:D,3,FALSE)","v":2020},15,2442,0.91500000000000004,5203,4761,"x",null,"Std.Cirrus","ICQ",""]
["Michal Vranek",1993,"M","Hosín","CZ/C1","PMRg 2020 - Klub",{"$f":"VLOOKUP(F432,Soutez!B:C,2,FALSE)","v":"CZ"},{"$f":"VLOOKUP(F432,Soutez!B:D,3,FALSE)","v":2020},16,2440,0.91500000000000004,5069,4638,"x",null,"DG-100","8W",""]
["Jan Beran",1999,"M","Kladno","CZ/C1","PMRg 2020 - Klub",{"$f":"VLOOKUP(F433,Soutez!B:C,2,FALSE)","v":"CZ"},{"$f":"VLOOKUP(F433,Soutez!B:D,3,FALSE)","v":2020},17,2275,0.91500000000000004,4666,4269,null,null,"ASW 19","HB","Junior v roce 2023"]
["Martin Tison",2000,"M","Hosín","CZ/C1","PMRg 2020 - Klub",{"$f":"VLOOKUP(F434,Soutez!B:C,2,FALSE)","v":"CZ"},{"$f":"VLOOKUP(F434,Soutez!B:D,3,FALSE)","v":2020},18,2175,0.91500000000000004,4371,3999,"x",null,"ASW-15B","EZ","Junior v roce 2023"]
["Petr Velek",1975,"M","GAC Benešov","CZ/C1","PMRg 2020 - Klub",{"$f":"VLOOKUP(F435,Soutez!B:C,2,FALSE)","v":"CZ"},{"$f":"VLOOKUP(F435,Soutez!B:D,3,FALSE)","v":2020},19,2138,0.91500000000000004,4179,3824,"x",null,"DG400","HX",""]
["Lukas Plocek",1990,"M","Mladá Boleslav","CZ/C1","PMRg 2020 - Klub",{"$f":"VLOOKUP(F436,Soutez!B:C,2,FALSE)","v":"CZ"},{"$f":"VLOOKUP(F436,Soutez!B:D,3,FALSE)","v":2020},20,1896,{"$f":"VLOOKUP(F436,Soutez,12,0)","v":0.91500000000000004},{"$f":"ROUND(J436/MAX($J$417:$J$440)*10000*0.7+(MAX($I$417:$I$440)-I436)/(MAX($I$417:$I$440)-1)*10000*0.3,0)","v":3650},3340,"x",null,"ASW-19B","AH",{"$f":"IF(ISERROR(VLOOKUP(A436,Pilot,6,0)),\"Není v databázi\",VLOOKUP(A436,Pilot,6,0))","v":""}]
["Vaclav Zak",1962,"M","GAC Benešov","CZ/C1","PMRg 2020 - Klub",{"$f":"VLOOKUP(F437,Soutez!B:C,2,FALSE)","v":"CZ"},{"$f":"VLOOKUP(F437,Soutez!B:D,3,FALSE)","v":2020},21,1721,0.91500000000000004,3231,2956,"x",null,"Std. Cirrus","TS",""]
["Jiri Krofta",1988,"M","Hosín","CZ/C1","PMRg 2020 - Klub",{"$f":"VLOOKUP(F438,Soutez!B:C,2,FALSE)","v":"CZ"},{"$f":"VLOOKUP(F438,Soutez!B:D,3,FALSE)","v":2020},22,1563,0.91500000000000004,2839,2598,"x",null,"Std. Cirrus","2U",""]
["Frantisek Suna",1983,"M","Hosín","CZ/C1","PMRg 2020 - Klub",{"$f":"VLOOKUP(F439,Soutez!B:C,2,FALSE)","v":"CZ"},{"$f":"VLOOKUP(F439,Soutez!B:D,3,FALSE)","v":2020},23,1461,0.91500000000000004,2541,{"$f":"ROUND(K439*L439,0)","v":2325},"x",null,"DG-100",78,""]
["Petr Sochor",1986,"M","Hosín","CZ/C1","PMRg 2020 - Klub",{"$f":"VLOOKUP(F440,Soutez!B:C,2,FALSE)","v":"CZ"},{"$f":"VLOOKUP(F440,Soutez!B:D,3,FALSE)","v":2020},24,1308,0.91500000000000004,2158,1975,"x",null,"ASW15B","6Y",""]
["Danes Grula",1961,"M","Medlánky","CZ/M","PMRg 2020 - Kombi",{"$f":"VLOOKUP(F441,Soutez!B:C,2,FALSE)","v":"CZ"},{"$f":"VLOOKUP(F441,Soutez!B:D,3,FALSE)","v":2020},1,4243,0.92,{"$f":"ROUND(J441/MAX($J$441:$J$452)*10000*0.7+(MAX($I$441:$I$452)-I441)/(MAX($I$441:$I$452)-1)*10000*0.3,0)","v":10000},9200,"x",null,"ASG29E","DX",""]
["Petr Hotovy",1958,"M","Česká Lípa","CZ/C2","PMRg 2020 - Kombi",{"$f":"VLOOKUP(F442,Soutez!B:C,2,FALSE)","v":"CZ"},{"$f":"VLOOKUP(F442,Soutez!B:D,3,FALSE)","v":2020},2,4106,0.92,{"$f":"ROUND(J442/MAX($J$441:$J$452)*10000*0.7+(MAX($I$441:$I$452)-I442)/(MAX($I$441:$I$452)-1)*10000*0.3,0)","v":9501},8741,"x",null,"JS1B 18m","IGC",""]
["Josef Busek",1967,"M","Hosín","CZ/C1","PMRg 2020 - Kombi",{"$f":"VLOOKUP(F443,Soutez!B:C,2,FALSE)","v":"CZ"},{"$f":"VLOOKUP(F443,Soutez!B:D,3,FALSE)","v":2020},3,3900,0.92,{"$f":"ROUND(J443/MAX($J$441:$J$452)*10000*0.7+(MAX($I$441:$I$452)-I443)/(MAX($I$441:$I$452)-1)*10000*0.3,0)","v":8889},8178,"x",null,"Duodiscus X 750kg","BB",""]
["Michael Fik",1972,"M","Strakonice","CZ/C1","PMRg 2020 - Kombi",{"$f":"VLOOKUP(F444,Soutez!B:C,2,FALSE)","v":"CZ"},{"$f":"VLOOKUP(F444,Soutez!B:D,3,FALSE)","v":2020},4,3722,0.92,8322,7656,"x",null,"Ventus C 17,6","GE",""]
["Hana Treslova",1991,"F","Raná","CZ/C2","PMRg 2020 - Kombi",{"$f":"VLOOKUP(F445,Soutez!B:C,2,FALSE)","v":"CZ"},{"$f":"VLOOKUP(F445,Soutez!B:D,3,FALSE)","v":2020},5,3460,0.92,7617,7008,null,null,"Ventus 2ax","AX",""]
["Jaromir Macoun",1999,"M","Jičín","CZ/C2","PMRg 2020 - Kombi",{"$f":"VLOOKUP(F446,Soutez!B:C,2,FALSE)","v":"CZ"},{"$f":"VLOOKUP(F446,Soutez!B:D,3,FALSE)","v":2020},6,3413,0.92,7267,6686,null,null,"LS 8","EU","Junior v roce 2023"]
["Jaromir Pauer",1974,"M","Hosín","CZ/C1","PMRg 2020 - Kombi",{"$f":"VLOOKUP(F447,Soutez!B:C,2,FALSE)","v":"CZ"},{"$f":"VLOOKUP(F447,Soutez!B:D,3,FALSE)","v":2020},7,3293,0.92,6796,6252,"x",null,"Ventus C 17,6m","XE",""]
["Karel Novak",1993,"M","Mladá Boleslav","CZ/C1","PMRg 2020 - Kombi",{"$f":"VLOOKUP(F448,Soutez!B:C,2,FALSE)","v":"CZ"},{"$f":"VLOOKUP(F448,Soutez!B:D,3,FALSE)","v":2020},8,3255,0.92,6461,5944,null,null,"JS-3","XM",""]
["Jaroslav Potmesil",1964,"M","Zbraslavice","CZ/C1","PMRg 2020 - Kombi",{"$f":"VLOOKUP(F449,Soutez!B:C,2,FALSE)","v":"CZ"},{"$f":"VLOOKUP(F449,Soutez!B:D,3,FALSE)","v":2020},9,2273,0.92,4568,4203,"x",null,"304TS TwinShark","DL",""]
["Radek Zima 78",1978,"M","Hodkovice","CZ/C2","PMRg 2020 - Kombi",{"$f":"VLOOKUP(F450,Soutez!B:C,2,FALSE)","v":"CZ"},{"$f":"VLOOKUP(F450,Soutez!B:D,3,FALSE)","v":2020},10,1751,0.92,3434,3159,null,null,"Ventus b 16,6m 430kg WL","7F",""]
["Jan Kohout",1970,"M","Žamberk","CZ/C2","PMRg 2020 - Kombi",{"$f":"VLOOKUP(F451,Soutez!B:C,2,FALSE)","v":"CZ"},{"$f":"VLOOKUP(F451,Soutez!B:D,3,FALSE)","v":2020},11,1320,0.92,{"$f":"ROUND(J451/MAX($J$441:$J$452)*10000*0.7+(MAX($I$441:$I$452)-I451)/(MAX($I$441:$I$452)-1)*10000*0.3,0)","v":2450},2254,null,null,"LS8a","SK",""]
["Radoslav Pur",1973,"M","Hosín","CZ/C1","PMRg 2020 - Kombi",{"$f":"VLOOKUP(F452,Soutez!B:C,2,FALSE)","v":"CZ"},{"$f":"VLOOKUP(F452,Soutez!B:D,3,FALSE)","v":2020},12,1147,0.92,{"$f":"ROUND(J452/MAX($J$441:$J$452)*10000*0.7+(MAX($I$441:$I$452)-I452)/(MAX($I$441:$I$452)-1)*10000*0.3,0)","v":1892},1741,"x",null,"DG-200","EK",""]
["Ivan Novak",{"$f":"VLOOKUP(A453,Pilot,2,0)","v":1962},"M","Mladá Boleslav","CZ/C1","PMSR 2020 - Klub",{"$f":"VLOOKUP(F453,Soutez!B:C,2,FALSE)","v":"SK"},{"$f":"VLOOKUP(F453,Soutez!B:D,3,FALSE)","v":2020},1,7906,0.93500000000000005,{"$f":"ROUND(J453/MAX($J$453:$J$477)*10000*0.7+(MAX($I$453:$I$477)-I453)/(MAX($I$453:$I$477)-1)*10000*0.3,0)","v":10000},9350,"x",null,"LS-4","IX",""]
["Josef Kozar",null,"M","AK MARTIN",null,"PMSR 2020 - Klub",{"$f":"VLOOKUP(F454,Soutez!B:C,2,FALSE)","v":"SK"},{"$f":"VLOOKUP(F454,Soutez!B:D,3,FALSE)","v":2020},2,7804,0.93500000000000005,9785,9149,null,null,"LS1-f","MF","Není v databázi"]
["Milan Surovcik Ml.",null,"M","AK ZILINA",null,"PMSR 2020 - Klub",{"$f":"VLOOKUP(F455,Soutez!B:C,2,FALSE)","v":"SK"},{"$f":"VLOOKUP(F455,Soutez!B:D,3,FALSE)","v":2020},3,7612,0.93500000000000005,9490,8873,null,null,"C-101A Pegase","EL","Není v databázi"]
["Samuel Posluch",null,"M","AK MATRIN",null,"PMSR 2020 - Klub",{"$f":"VLOOKUP(F456,Soutez!B:C,2,FALSE)","v":"SK"},{"$f":"VLOOKUP(F456,Soutez!B:D,3,FALSE)","v":2020},4,7312,0.93500000000000005,9099,8508,null,null,"C101A Pegase","ZD","Není v databázi"]
["Jan Kovalcik",null,"M","AK BRATISLAVA",null,"PMSR 2020 - Klub",{"$f":"VLOOKUP(F457,Soutez!B:C,2,FALSE)","v":"SK"},{"$f":"VLOOKUP(F457,Soutez!B:D,3,FALSE)","v":2020},5,7299,0.93500000000000005,8963,8380,null,null,"C101A Pegase","OI","Není v databázi"]
["Martin Jurovic",null,"M","AK BRATISLAVA",null,"PMSR 2020 - Klub",{"$f":"VLOOKUP(F458,Soutez!B:C,2,FALSE)","v":"SK"},{"$f":"VLOOKUP(F458,Soutez!B:D,3,FALSE)","v":2020},6,7222,0.93500000000000005,8769,8199,null,null,"C101A Pegase","J2","Není v databázi"]
["Edmund Schuller",null,"M","AK LUCENEC",null,"PMSR 2020 - Klub",{"$f":"VLOOKUP(F459,Soutez!B:C,2,FALSE)","v":"SK"},{"$f":"VLOOKUP(F459,Soutez!B:D,3,FALSE)","v":2020},7,7204,0.93500000000000005,8628,8067,null,null,"ASW 24WL","ZS","Není v databázi"]
["Roman Petro",null,"M","AK NITRA",null,"PMSR 2020 - Klub",{"$f":"VLOOKUP(F460,Soutez!B:C,2,FALSE)","v":"SK"},{"$f":"VLOOKUP(F460,Soutez!B:D,3,FALSE)","v":2020},8,7064,0.93500000000000005,8379,7834,null,null,"C101A Pegase",101,"Není v databázi"]
["Tibor Noga",null,"M","SGC Martin",null,"PMSR 2020 - Klub",{"$f":"VLOOKUP(F461,Soutez!B:C,2,FALSE)","v":"SK"},{"$f":"VLOOKUP(F461,Soutez!B:D,3,FALSE)","v":2020},9,6987,0.93500000000000005,8186,7654,null,null,"ASW 19 B","A4","Není v databázi"]
["Martin Sabla",null,"M","AK Sp. Nova Ves",null,"PMSR 2020 - Klub",{"$f":"VLOOKUP(F462,Soutez!B:C,2,FALSE)","v":"SK"},{"$f":"VLOOKUP(F462,Soutez!B:D,3,FALSE)","v":2020},10,6938,0.93500000000000005,8018,7497,null,null,"Std. Cirrus","SA","Není v databázi"]
["Simon Siska",null,"M","AK Martin",null,"PMSR 2020 - Klub",{"$f":"VLOOKUP(F463,Soutez!B:C,2,FALSE)","v":"SK"},{"$f":"VLOOKUP(F463,Soutez!B:D,3,FALSE)","v":2020},11,6828,0.93500000000000005,7796,7289,null,null,"Ls-4","BM","Není v databázi"]
["Marek Straka",null,"M","AK TRENCIN",null,"PMSR 2020 - Klub",{"$f":"VLOOKUP(F464,Soutez!B:C,2,FALSE)","v":"SK"},{"$f":"VLOOKUP(F464,Soutez!B:D,3,FALSE)","v":2020},12,6743,0.93500000000000005,7595,7101,null,null,"LS 3","AI","Není v databázi"]
["Tibor Fratrik",null,"M","SGC Martin",null,"PMSR 2020 - Klub",{"$f":"VLOOKUP(F465,Soutez!B:C,2,FALSE)","v":"SK"},{"$f":"VLOOKUP(F465,Soutez!B:D,3,FALSE)","v":2020},13,6473,0.93500000000000005,7231,6761,null,null,"ASW-19","A1","Není v databázi"]
["Bohumil Vasek",null,"M","AK PARTIZANSKE",null,"PMSR 2020 - Klub",{"$f":"VLOOKUP(F466,Soutez!B:C,2,FALSE)","v":"SK"},{"$f":"VLOOKUP(F466,Soutez!B:D,3,FALSE)","v":2020},14,6399,0.93500000000000005,7041,6583,null,null,"C101AP Pegase","LL","Není v databázi"]
["Karol Benedikovic",null,"M","AIR SYMPATIA",null,"PMSR 2020 - Klub",{"$f":"VLOOKUP(F467,Soutez!B:C,2,FALSE)","v":"SK"},{"$f":"VLOOKUP(F467,Soutez!B:D,3,FALSE)","v":2020},15,6178,0.93500000000000005,6720,6283,null,null,"Std.Cirrus","AM","Není v databázi"]
["Jakub Kos",null,"M","GOrska Szkoła Szybowcowa Zar",null,"PMSR 2020 - Klub",{"$f":"VLOOKUP(F468,Soutez!B:C,2,FALSE)","v":"SK"},{"$f":"VLOOKUP(F468,Soutez!B:D,3,FALSE)","v":2020},16,6101,0.93500000000000005,6527,6103,null,null,"SZD-48 Jantar Standard 3","ZAR","Není v databázi"]
["Milos Srank",null,"M","AK NOVE ZAMKY",null,"PMSR 2020 - Klub",{"$f":"VLOOKUP(F469,Soutez!B:C,2,FALSE)","v":"SK"},{"$f":"VLOOKUP(F469,Soutez!B:D,3,FALSE)","v":2020},17,5845,0.93500000000000005,6175,5774,null,null,"ASW-24WL","CK","Není v databázi"]
["Jan Hlinka",null,"M","AK MARTIN",null,"PMSR 2020 - Klub",{"$f":"VLOOKUP(F470,Soutez!B:C,2,FALSE)","v":"SK"},{"$f":"VLOOKUP(F470,Soutez!B:D,3,FALSE)","v":2020},18,5790,0.93500000000000005,6001,5611,null,null,"C101A Pegase","MT","Není v databázi"]
["Jozef Sopirjak",null,"M","AK KOSICE",null,"PMSR 2020 - Klub",{"$f":"VLOOKUP(F471,Soutez!B:C,2,FALSE)","v":"SK"},{"$f":"VLOOKUP(F471,Soutez!B:D,3,FALSE)","v":2020},19,4965,0.93500000000000005,5146,4812,null,null,"DG 101G ELAN","SX","Není v databázi"]
["Lubomir Belusko",null,"M","AK PRESOV",null,"PMSR 2020 - Klub",{"$f":"VLOOKUP(F472,Soutez!B:C,2,FALSE)","v":"SK"},{"$f":"VLOOKUP(F472,Soutez!B:D,3,FALSE)","v":2020},20,4876,0.93500000000000005,4942,4621,null,null,"Centrair 201B Marianne","AMI","Není v databázi"]
["Anton Zelanaj",null,"M","AK NOVE ZAMKY",null,"PMSR 2020 - Klub",{"$f":"VLOOKUP(F473,Soutez!B:C,2,FALSE)","v":"SK"},{"$f":"VLOOKUP(F473,Soutez!B:D,3,FALSE)","v":2020},21,4589,0.93500000000000005,4563,4266,null,null,"ASW 15B","TZ","Není v databázi"]
["Erik Mikulas",null,"M","AK PARTIZANSKE",null,"PMSR 2020 - Klub",{"$f":"VLOOKUP(F474,Soutez!B:C,2,FALSE)","v":"SK"},{"$f":"VLOOKUP(F474,Soutez!B:D,3,FALSE)","v":2020},22,4532,0.93500000000000005,4388,4103,null,null,"LS 1 f","LS","Není v databázi"]
["Marek Seman",null,"M","AK PRESOV",null,"PMSR 2020 - Klub",{"$f":"VLOOKUP(F475,Soutez!B:C,2,FALSE)","v":"SK"},{"$f":"VLOOKUP(F475,Soutez!B:D,3,FALSE)","v":2020},23,4284,0.93500000000000005,4043,3780,null,null,"C101-D Pegase","HS","Není v databázi"]
["Branislav Studienka",null,"M","AK TRENCIN",null,"PMSR 2020 - Klub",{"$f":"VLOOKUP(F476,Soutez!B:C,2,FALSE)","v":"SK"},{"$f":"VLOOKUP(F476,Soutez!B:D,3,FALSE)","v":2020},24,4000,0.93500000000000005,3667,3429,null,null,"Std. Astir III",72,"Není v databázi"]
["Alberto Rizzi",null,"M","AK HOLIC",null,"PMSR 2020 - Klub",{"$f":"VLOOKUP(F477,Soutez!B:C,2,FALSE)","v":"SK"},{"$f":"VLOOKUP(F477,Soutez!B:D,3,FALSE)","v":2020},25,2090,0.93500000000000005,1850,1730,null,null,"DG-202","SJ","Není v databázi"]
["Maros Divok",null,"M","AK SPISKA NOVA VES",null,"PMSR 2020 - Kombi 15m",{"$f":"VLOOKUP(F478,Soutez!B:C,2,FALSE)","v":"SK"},{"$f":"VLOOKUP(F478,Soutez!B:D,3,FALSE)","v":2020},1,7678,0.93500000000000005,{"$f":"ROUND(J478/MAX($J$478:$J$488)*10000*0.7+(MAX($I$478:$I$488)-I478)/(MAX($I$478:$I$488)-1)*10000*0.3,0)","v":10000},9350,null,null,"Discus","3D","Není v databázi"]
["Dana Novakova",{"$f":"VLOOKUP(A479,Pilot,2,0)","v":1965},{"$f":"VLOOKUP(A479,Pilot,5,0)","v":"F"},{"$f":"VLOOKUP(A479,Pilot,3,0)","v":"Mladá Boleslav"},{"$f":"VLOOKUP(A479,Pilot,4,0)","v":"CZ/C1"},"PMSR 2020 - Kombi 15m",{"$f":"VLOOKUP(F479,Soutez!B:C,2,FALSE)","v":"SK"},{"$f":"VLOOKUP(F479,Soutez!B:D,3,FALSE)","v":2020},2,7608,0.93500000000000005,9636,9010,"x",null,"LS-8","AU",""]
["Viktoria Divokova",null,"F","Spišska Nová Ves",null,"PMSR 2020 - Kombi 15m",{"$f":"VLOOKUP(F480,Soutez!B:C,2,FALSE)","v":"SK"},{"$f":"VLOOKUP(F480,Soutez!B:D,3,FALSE)","v":2020},3,7070,0.93500000000000005,8846,8271,null,null,"Discus 2b","DI","Není v databázi"]
["Jana Treslova",{"$f":"VLOOKUP(A481,Pilot,2,0)","v":1963},{"$f":"VLOOKUP(A481,Pilot,5,0)","v":"F"},{"$f":"VLOOKUP(A481,Pilot,3,0)","v":"Raná"},{"$f":"VLOOKUP(A481,Pilot,4,0)","v":"CZ/C2"},"PMSR 2020 - Kombi 15m",{"$f":"VLOOKUP(F481,Soutez!B:C,2,FALSE)","v":"SK"},{"$f":"VLOOKUP(F481,Soutez!B:D,3,FALSE)","v":2020},4,6939,0.93500000000000005,8426,7878,"x",null,"Discus 2","GX",""]
["Dominik Jancik",null,"M","Nitra",null,"PMSR 2020 - Kombi 15m",{"$f":"VLOOKUP(F482,Soutez!B:C,2,FALSE)","v":"SK"},{"$f":"VLOOKUP(F482,Soutez!B:D,3,FALSE)","v":2020},5,6804,0.93500000000000005,8003,7483,null,null,"LS 8","SI","Není v databázi"]
["Jiri Kusbach",{"$f":"VLOOKUP(A483,Pilot,2,0)","v":1959},{"$f":"VLOOKUP(A483,Pilot,5,0)","v":"M"},{"$f":"VLOOKUP(A483,Pilot,3,0)","v":"Luhačovice"},{"$f":"VLOOKUP(A483,Pilot,4,0)","v":"CZ/M"},"PMSR 2020 - Kombi 15m",{"$f":"VLOOKUP(F483,Soutez!B:C,2,FALSE)","v":"SK"},{"$f":"VLOOKUP(F483,Soutez!B:D,3,FALSE)","v":2020},6,6723,0.93500000000000005,7629,7133,null,null,"KKB 15 FES","B",""]
["Tibor Arpas",null,"M","AK NITRA",null,"PMSR 2020 - Kombi 15m",{"$f":"VLOOKUP(F484,Soutez!B:C,2,FALSE)","v":"SK"},{"$f":"VLOOKUP(F484,Soutez!B:D,3,FALSE)","v":2020},7,6502,0.93500000000000005,7128,6665,null,null,"LS 8","TC","Není v databázi"]
["Slavomir Valecko",{"$f":"VLOOKUP(A485,Pilot,2,0)","v":1960},{"$f":"VLOOKUP(A485,Pilot,5,0)","v":"M"},{"$f":"VLOOKUP(A485,Pilot,3,0)","v":"Hranice"},{"$f":"VLOOKUP(A485,Pilot,4,0)","v":"CZ/M"},"PMSR 2020 - Kombi 15m",{"$f":"VLOOKUP(F485,Soutez!B:C,2,FALSE)","v":"SK"},{"$f":"VLOOKUP(F485,Soutez!B:D,3,FALSE)","v":2020},8,6421,0.93500000000000005,6754,6315,"x",null,"Discus CS","IYB",""]
["Peter Janoska",null,"M","AK NITRA",null,"PMSR 2020 - Kombi 15m",{"$f":"VLOOKUP(F486,Soutez!B:C,2,FALSE)","v":"SK"},{"$f":"VLOOKUP(F486,Soutez!B:D,3,FALSE)","v":2020},9,5823,0.93500000000000005,5909,5525,null,null,"LS- 6c/15m","N6","Není v databázi"]
["Oldrich Bartonik",{"$f":"VLOOKUP(A487,Pilot,2,0)","v":1961},{"$f":"VLOOKUP(A487,Pilot,5,0)","v":"M"},{"$f":"VLOOKUP(A487,Pilot,3,0)","v":"Luhačovice"},{"$f":"VLOOKUP(A487,Pilot,4,0)","v":"CZ/M"},"PMSR 2020 - Kombi 15m",{"$f":"VLOOKUP(F487,Soutez!B:C,2,FALSE)","v":"SK"},{"$f":"VLOOKUP(F487,Soutez!B:D,3,FALSE)","v":2020},10,4833,0.93500000000000005,4706,4400,"x",null,"KKB-15","N1",""]
["Jozef Pesko",null,"M","AK NITRA",null,"PMSR 2020 - Kombi 15m",{"$f":"VLOOKUP(F488,Soutez!B:C,2,FALSE)","v":"SK"},{"$f":"VLOOKUP(F488,Soutez!B:D,3,FALSE)","v":2020},11,4359,0.93500000000000005,3974,3716,null,null,"LS 8t","HM","Není v databázi"]
["Roman Mracek",{"$f":"VLOOKUP(A489,Pilot,2,0)","v":1980},{"$f":"VLOOKUP(A489,Pilot,5,0)","v":"M"},{"$f":"VLOOKUP(A489,Pilot,3,0)","v":"Letkov"},{"$f":"VLOOKUP(A489,Pilot,4,0)","v":"CZ/C1"},"PMSR 2020 - Kombi Open",{"$f":"VLOOKUP(F489,Soutez!B:C,2,FALSE)","v":"SK"},{"$f":"VLOOKUP(F489,Soutez!B:D,3,FALSE)","v":2020},1,7750,0.93500000000000005,{"$f":"ROUND(J489/MAX($J$489:$J$508)*10000*0.7+(MAX($I$489:$I$508)-I489)/(MAX($I$489:$I$508)-1)*10000*0.3,0)","v":10000},9350,null,null,"LS8-18","JB",""]
["Vladimir Foltin",null,"M","AK NITRA",null,"PMSR 2020 - Kombi Open",{"$f":"VLOOKUP(F490,Soutez!B:C,2,FALSE)","v":"SK"},{"$f":"VLOOKUP(F490,Soutez!B:D,3,FALSE)","v":2020},2,7325,0.93500000000000005,9449,8835,null,null,"JS3 18m",3,"Není v databázi"]
["Tomas Bobok",null,"M","Prievidza",null,"PMSR 2020 - Kombi Open",{"$f":"VLOOKUP(F491,Soutez!B:C,2,FALSE)","v":"SK"},{"$f":"VLOOKUP(F491,Soutez!B:D,3,FALSE)","v":2020},3,6739,0.93500000000000005,8754,8185,null,null,"Discus 2ct","AL","Není v databázi"]
["Lukas Benedikt",null,"M","AK Trnava",null,"PMSR 2020 - Kombi Open",{"$f":"VLOOKUP(F492,Soutez!B:C,2,FALSE)","v":"SK"},{"$f":"VLOOKUP(F492,Soutez!B:D,3,FALSE)","v":2020},4,6516,0.93500000000000005,8385,7840,null,null,"Ventus 3 fes","LB","Není v databázi"]
["Kollar & KROMKA",null,"M","AK POPRAD",null,"PMSR 2020 - Kombi Open",{"$f":"VLOOKUP(F493,Soutez!B:C,2,FALSE)","v":"SK"},{"$f":"VLOOKUP(F493,Soutez!B:D,3,FALSE)","v":2020},5,5900,0.93500000000000005,7662,7164,null,null,"Arcus M","TA3","Není v databázi"]
["Jan Divok",null,"M","AK SPISKA NOVA VES",null,"PMSR 2020 - Kombi Open",{"$f":"VLOOKUP(F494,Soutez!B:C,2,FALSE)","v":"SK"},{"$f":"VLOOKUP(F494,Soutez!B:D,3,FALSE)","v":2020},6,5768,0.93500000000000005,7376,6897,null,null,"Discus 2cT","DJ","Není v databázi"]
["Aldo Cernezzi",null,"M","Varese",null,"PMSR 2020 - Kombi Open",{"$f":"VLOOKUP(F495,Soutez!B:C,2,FALSE)","v":"SK"},{"$f":"VLOOKUP(F495,Soutez!B:D,3,FALSE)","v":2020},7,5684,0.93500000000000005,7134,6670,null,null,"DG800B","TI","Není v databázi"]
["Gabriela Belakova",null,"F","AK PRIEVIDZA",null,"PMSR 2020 - Kombi Open",{"$f":"VLOOKUP(F496,Soutez!B:C,2,FALSE)","v":"SK"},{"$f":"VLOOKUP(F496,Soutez!B:D,3,FALSE)","v":2020},8,5627,0.93500000000000005,6916,6466,null,null,"Discus 2cT","EF","Není v databázi"]
["Jakubcak & SULIROVA",null,null,"SGC MARTIN",null,"PMSR 2020 - Kombi Open",{"$f":"VLOOKUP(F497,Soutez!B:C,2,FALSE)","v":"SK"},{"$f":"VLOOKUP(F497,Soutez!B:D,3,FALSE)","v":2020},9,5615,0.93500000000000005,6738,6300,null,null,"Arcus M","CÁR","Není v databázi"]
["Eduard Niko",{"$f":"VLOOKUP(A498,Pilot,2,0)","v":1988},{"$f":"VLOOKUP(A498,Pilot,5,0)","v":"M"},{"$f":"VLOOKUP(A498,Pilot,3,0)","v":"Zbraslavice"},{"$f":"VLOOKUP(A498,Pilot,4,0)","v":"CZ/C1"},"PMSR 2020 - Kombi Open",{"$f":"VLOOKUP(F498,Soutez!B:C,2,FALSE)","v":"SK"},{"$f":"VLOOKUP(F498,Soutez!B:D,3,FALSE)","v":2020},10,5472,0.93500000000000005,6442,6023,null,null,"Discus 2ct","AE",""]
["Skrabalek & Simoncic",null,"M","AK BRATISLAVA",null,"PMSR 2020 - Kombi Open",{"$f":"VLOOKUP(F499,Soutez!B:C,2,FALSE)","v":"SK"},{"$f":"VLOOKUP(F499,Soutez!B:D,3,FALSE)","v":2020},11,5225,0.93500000000000005,6053,5660,null,null,"Duo Discus","2X","Není v databázi"]
["Petr Krejcirik",{"$f":"VLOOKUP(A500,Pilot,2,0)","v":1960},{"$f":"VLOOKUP(A500,Pilot,5,0)","v":"M"},{"$f":"VLOOKUP(A500,Pilot,3,0)","v":"Hranice"},{"$f":"VLOOKUP(A500,Pilot,4,0)","v":"CZ/M"},"PMSR 2020 - Kombi Open",{"$f":"VLOOKUP(F500,Soutez!B:C,2,FALSE)","v":"SK"},{"$f":"VLOOKUP(F500,Soutez!B:D,3,FALSE)","v":2020},12,4716,{"$f":"VLOOKUP(F500,Soutez,12,0)","v":0.93500000000000005},5426,5073,null,null,"JS 1 Revelation","ZF",{"$f":"IF(ISERROR(VLOOKUP(A500,Pilot,6,0)),\"Není v databázi\",VLOOKUP(A500,Pilot,6,0))","v":""}]
["Pavol Cerny",null,"M","SGC Martin",null,"PMSR 2020 - Kombi Open",{"$f":"VLOOKUP(F501,Soutez!B:C,2,FALSE)","v":"SK"},{"$f":"VLOOKUP(F501,Soutez!B:D,3,FALSE)","v":2020},13,4681,0.93500000000000005,5228,4888,null,null,"Ventus 2CxT","FR","Není v databázi"]
["Benedikt Laho",null,"M","AK TRNAVA",null,"PMSR 2020 - Kombi Open",{"$f":"VLOOKUP(F502,Soutez!B:C,2,FALSE)","v":"SK"},{"$f":"VLOOKUP(F502,Soutez!B:D,3,FALSE)","v":2020},14,4430,0.93500000000000005,4835,4521,null,null,"Discus 2ct","JH","Není v databázi"]
["Peter Abonyi",null,"M","AK RUZOMBEROK",null,"PMSR 2020 - Kombi Open",{"$f":"VLOOKUP(F503,Soutez!B:C,2,FALSE)","v":"SK"},{"$f":"VLOOKUP(F503,Soutez!B:D,3,FALSE)","v":2020},15,4253,0.93500000000000005,4508,{"$f":"ROUND(K503*L503,0)","v":4215},null,null,"Ventus C; 17,6m","PA","Není v databázi"]
["Hupka & HOLAK",null,"M","AK NITRA",null,"PMSR 2020 - Kombi Open",{"$f":"VLOOKUP(F504,Soutez!B:C,2,FALSE)","v":"SK"},{"$f":"VLOOKUP(F504,Soutez!B:D,3,FALSE)","v":2020},16,4143,0.93500000000000005,4242,3966,null,null,"DG-1000T","NIT","Není v databázi"]
["Lubomir Doupal",{"$f":"VLOOKUP(A505,Pilot,2,0)","v":1975},{"$f":"VLOOKUP(A505,Pilot,5,0)","v":"M"},{"$f":"VLOOKUP(A505,Pilot,3,0)","v":"Kroměříž"},{"$f":"VLOOKUP(A505,Pilot,4,0)","v":"CZ/M"},"PMSR 2020 - Kombi Open",{"$f":"VLOOKUP(F505,Soutez!B:C,2,FALSE)","v":"SK"},{"$f":"VLOOKUP(F505,Soutez!B:D,3,FALSE)","v":2020},17,3725,0.93500000000000005,3698,3458,"x",null,"VENTUS 2cxT","LD",""]
["Milan Lojdl",null,"M","AK MARTIN",null,"PMSR 2020 - Kombi Open",{"$f":"VLOOKUP(F506,Soutez!B:C,2,FALSE)","v":"SK"},{"$f":"VLOOKUP(F506,Soutez!B:D,3,FALSE)","v":2020},18,3416,0.93500000000000005,3252,3041,null,null,"VENTUS 2cxT","MJ1","Není v databázi"]
["Peter Pokorny",null,"M","AK BRATISLAVA",null,"PMSR 2020 - Kombi Open",{"$f":"VLOOKUP(F507,Soutez!B:C,2,FALSE)","v":"SK"},{"$f":"VLOOKUP(F507,Soutez!B:D,3,FALSE)","v":2020},19,0,0.93500000000000005,0,0,null,null,"ASG29E","9E","Není v databázi"]
["Petr Hotovy",{"$f":"VLOOKUP(A508,Pilot,2,0)","v":1958},{"$f":"VLOOKUP(A508,Pilot,5,0)","v":"M"},{"$f":"VLOOKUP(A508,Pilot,3,0)","v":"Česká Lípa"},{"$f":"VLOOKUP(A508,Pilot,4,0)","v":"CZ/C2"},"PMSR 2020 - Kombi Open",{"$f":"VLOOKUP(F508,Soutez!B:C,2,FALSE)","v":"SK"},{"$f":"VLOOKUP(F508,Soutez!B:D,3,FALSE)","v":2020},19,0,0.93500000000000005,0,0,null,null,"JS1 B TJ","IGC",""]
["Michal Coufal",1999,"M","Jičín","CZ/C2","Pohár Českého Ráje 2020 - Kombi",{"$f":"VLOOKUP(F509,Soutez!B:C,2,FALSE)","v":"CZ"},{"$f":"VLOOKUP(F509,Soutez!B:D,3,FALSE)","v":2020},1,1855,0,{"$f":"ROUND(J509/MAX($J$509:$J$518)*10000*0.7+(MAX($I$509:$I$518)-I509)/(MAX($I$509:$I$518)-1)*10000*0.3,0)","v":10000},0,null,null,"Std. Cirrus","FS","Junior v roce 2023"]
["Petr Tax",1968,"M","Jičín","CZ/C2","Pohár Českého Ráje 2020 - Kombi",{"$f":"VLOOKUP(F510,Soutez!B:C,2,FALSE)","v":"CZ"},{"$f":"VLOOKUP(F510,Soutez!B:D,3,FALSE)","v":2020},2,1562,0,{"$f":"ROUND(J510/MAX($J$509:$J$518)*10000*0.7+(MAX($I$509:$I$518)-I510)/(MAX($I$509:$I$518)-1)*10000*0.3,0)","v":8519},0,null,null,"Terej","VIP",""]
["Zbynek Fuksa",1956,"M","Jičín","CZ/C2","Pohár Českého Ráje 2020 - Kombi",{"$f":"VLOOKUP(F511,Soutez!B:C,2,FALSE)","v":"CZ"},{"$f":"VLOOKUP(F511,Soutez!B:D,3,FALSE)","v":2020},3,1437,0,{"$f":"ROUND(J511/MAX($J$509:$J$518)*10000*0.7+(MAX($I$509:$I$518)-I511)/(MAX($I$509:$I$518)-1)*10000*0.3,0)","v":7673},0,null,null,"Duo Discus XL",88,""]
["Radek Tobolka",1977,"M","Jičín","CZ/C2","Pohár Českého Ráje 2020 - Kombi",{"$f":"VLOOKUP(F512,Soutez!B:C,2,FALSE)","v":"CZ"},{"$f":"VLOOKUP(F512,Soutez!B:D,3,FALSE)","v":2020},4,1244,0,{"$f":"ROUND(J512/MAX($J$509:$J$518)*10000*0.7+(MAX($I$509:$I$518)-I512)/(MAX($I$509:$I$518)-1)*10000*0.3,0)","v":6569},0,null,null,"Std. cirrus","XL",""]
["Petr Kyzivat",1970,"M","Jičín","CZ/C2","Pohár Českého Ráje 2020 - Kombi",{"$f":"VLOOKUP(F513,Soutez!B:C,2,FALSE)","v":"CZ"},{"$f":"VLOOKUP(F513,Soutez!B:D,3,FALSE)","v":2020},5,1156,0,{"$f":"ROUND(J513/MAX($J$509:$J$518)*10000*0.7+(MAX($I$509:$I$518)-I513)/(MAX($I$509:$I$518)-1)*10000*0.3,0)","v":5862},0,null,null,"std. cirrus","SC",""]
["Lukas Jezek",{"$f":"VLOOKUP(A514,Pilot,2,0)","v":1975},"M",{"$f":"VLOOKUP(A514,Pilot,3,0)","v":"Jičín"},{"$f":"VLOOKUP(A514,Pilot,4,0)","v":"CZ/C2"},"Pohár Českého Ráje 2020 - Kombi",{"$f":"VLOOKUP(F514,Soutez!B:C,2,FALSE)","v":"CZ"},{"$f":"VLOOKUP(F514,Soutez!B:D,3,FALSE)","v":2020},"HC",1142,0,null,{"$f":"ROUND(K514*L514,0)","v":0},null,null,"L-13",null,{"$f":"IF(ISERROR(VLOOKUP(A514,Pilot,6,0)),\"Není v databázi\",VLOOKUP(A514,Pilot,6,0))","v":""}]
["Ilja Kopacek",1943,"M","Jičín","CZ/C2","Pohár Českého Ráje 2020 - Kombi",{"$f":"VLOOKUP(F515,Soutez!B:C,2,FALSE)","v":"CZ"},{"$f":"VLOOKUP(F515,Soutez!B:D,3,FALSE)","v":2020},6,1091,0,{"$f":"ROUND(J515/MAX($J$509:$J$518)*10000*0.7+(MAX($I$509:$I$518)-I515)/(MAX($I$509:$I$518)-1)*10000*0.3,0)","v":5242},0,null,null,"Janus 18.2m","JC",""]
["Pavel Kyzivat",1973,"M","Zbraslavice","CZ/C1","Pohár Českého Ráje 2020 - Kombi",{"$f":"VLOOKUP(F516,Soutez!B:C,2,FALSE)","v":"CZ"},{"$f":"VLOOKUP(F516,Soutez!B:D,3,FALSE)","v":2020},7,561,0,{"$f":"ROUND(J516/MAX($J$509:$J$518)*10000*0.7+(MAX($I$509:$I$518)-I516)/(MAX($I$509:$I$518)-1)*10000*0.3,0)","v":2867},0,null,null,"ASW 19","PM",""]
["Miroslav Trybucek",1965,"M","Jičín","CZ/C2","Pohár Českého Ráje 2020 - Kombi",{"$f":"VLOOKUP(F517,Soutez!B:C,2,FALSE)","v":"CZ"},{"$f":"VLOOKUP(F517,Soutez!B:D,3,FALSE)","v":2020},8,548,0,{"$f":"ROUND(J517/MAX($J$509:$J$518)*10000*0.7+(MAX($I$509:$I$518)-I517)/(MAX($I$509:$I$518)-1)*10000*0.3,0)","v":2443},0,null,null,"Ventus 2cM/18m","OZ",""]
["Jiri Pixa",1968,"M","Slaný","CZ/C1","Pohár Českého Ráje 2020 - Kombi",{"$f":"VLOOKUP(F518,Soutez!B:C,2,FALSE)","v":"CZ"},{"$f":"VLOOKUP(F518,Soutez!B:D,3,FALSE)","v":2020},9,184,0,{"$f":"ROUND(J518/MAX($J$509:$J$518)*10000*0.7+(MAX($I$509:$I$518)-I518)/(MAX($I$509:$I$518)-1)*10000*0.3,0)","v":694},0,null,null,"VSO-10","G9",""]
["Jan Ratz",1987,"M","Zbraslavice","CZ/C1","Pozdní sběr 2020 - Kombi",{"$f":"VLOOKUP(F519,Soutez!B:C,2,FALSE)","v":"CZ"},{"$f":"VLOOKUP(F519,Soutez!B:D,3,FALSE)","v":2020},1,524,0,{"$f":"ROUND(J519/MAX($J$519:$J$525)*10000*0.7+(MAX($I$519:$I$525)-I519)/(MAX($I$519:$I$525)-1)*10000*0.3,0)","v":10000},0,null,null,"Cirrus Std.","REX",""]
["Jan Smekal",1976,"M","Zbraslavice","CZ/C1","Pozdní sběr 2020 - Kombi",{"$f":"VLOOKUP(F520,Soutez!B:C,2,FALSE)","v":"CZ"},{"$f":"VLOOKUP(F520,Soutez!B:D,3,FALSE)","v":2020},2,396,0,7790,0,null,null,"ASW 20","NW",""]
["Martin Grmela",1989,"M","Zbraslavice","CZ/C1","Pozdní sběr 2020 - Kombi",{"$f":"VLOOKUP(F521,Soutez!B:C,2,FALSE)","v":"CZ"},{"$f":"VLOOKUP(F521,Soutez!B:D,3,FALSE)","v":2020},3,306,0,6088,0,null,null,"ASW 19","FY",""]
["Jakub Kmosek",1978,"M","Zbraslavice","CZ/C1","Pozdní sběr 2020 - Kombi",{"$f":"VLOOKUP(F522,Soutez!B:C,2,FALSE)","v":"CZ"},{"$f":"VLOOKUP(F522,Soutez!B:D,3,FALSE)","v":2020},4,302,0,5534,0,null,null,"Std. Cirrus","ST",""]
["Alena Netusilova",1970,"F","Zbraslavice","CZ/C1","Pozdní sběr 2020 - Kombi",{"$f":"VLOOKUP(F523,Soutez!B:C,2,FALSE)","v":"CZ"},{"$f":"VLOOKUP(F523,Soutez!B:D,3,FALSE)","v":2020},5,279,0,4727,0,null,null,"ASG 29E 18m","AJ",""]
["Petr Havelka",1997,"M","Zbraslavice","CZ/C1","Pozdní sběr 2020 - Kombi",{"$f":"VLOOKUP(F524,Soutez!B:C,2,FALSE)","v":"CZ"},{"$f":"VLOOKUP(F524,Soutez!B:D,3,FALSE)","v":2020},6,159,0,2624,0,null,null,"ASW 19","IS",""]
["Tomas Turek",1988,"M","Zbraslavice","CZ/C1","Pozdní sběr 2020 - Kombi",{"$f":"VLOOKUP(F525,Soutez!B:C,2,FALSE)","v":"CZ"},{"$f":"VLOOKUP(F525,Soutez!B:D,3,FALSE)","v":2020},7,94,0,1256,0,null,null,"Std. Cirrus","C1",""]
["Robert Hribersek",null,"M","Maribor","SI","Ranský Pohár 2020 - Kombi",{"$f":"VLOOKUP(F526,Soutez!B:C,2,FALSE)","v":"CZ"},{"$f":"VLOOKUP(F526,Soutez!B:D,3,FALSE)","v":2020},1,3363,0.76,{"$f":"ROUND(J526/MAX($J$526:$J$549)*10000*0.7+(MAX($I$526:$I$549)-I526)/(MAX($I$526:$I$549)-1)*10000*0.3,0)","v":10000},7600,null,null,"Std. Cirrus 75","TR","Není v databázi"]
["Jiri Maier 99",{"$f":"VLOOKUP(A527,Pilot,2,0)","v":1999},{"$f":"VLOOKUP(A527,Pilot,5,0)","v":"M"},{"$f":"VLOOKUP(A527,Pilot,3,0)","v":"Raná"},{"$f":"VLOOKUP(A527,Pilot,4,0)","v":"CZ/C2"},"Ranský Pohár 2020 - Kombi",{"$f":"VLOOKUP(F527,Soutez!B:C,2,FALSE)","v":"CZ"},{"$f":"VLOOKUP(F527,Soutez!B:D,3,FALSE)","v":2020},2,3113,0.76,{"$f":"ROUND(J527/MAX($J$526:$J$549)*10000*0.7+(MAX($I$526:$I$549)-I527)/(MAX($I$526:$I$549)-1)*10000*0.3,0)","v":9349},7105,"x",null,"Discus bT WL","TAL","Junior v roce 2023"]
["Martin Zvonicek",1972,"M","Raná","CZ/C2","Ranský Pohár 2020 - Kombi",{"$f":"VLOOKUP(F528,Soutez!B:C,2,FALSE)","v":"CZ"},{"$f":"VLOOKUP(F528,Soutez!B:D,3,FALSE)","v":2020},3,3096,0.76,9183,6979,"x",null,"ASW 15","EET",""]
["Jan Smaha",1958,"M","Česká Lípa","CZ/C2","Ranský Pohár 2020 - Kombi",{"$f":"VLOOKUP(F529,Soutez!B:C,2,FALSE)","v":"CZ"},{"$f":"VLOOKUP(F529,Soutez!B:D,3,FALSE)","v":2020},4,3022,0.76,8899,6763,"x",null,"ASW 15B","CW",""]
["Tomas Novak",1974,"M","Česká Lípa","CZ/C2","Ranský Pohár 2020 - Kombi",{"$f":"VLOOKUP(F530,Soutez!B:C,2,FALSE)","v":"CZ"},{"$f":"VLOOKUP(F530,Soutez!B:D,3,FALSE)","v":2020},5,2956,0.76,8631,6560,"x",null,"Std. Cirrus","CV",""]
["Krystof Mimra",1992,"M","Most","CZ/C2","Ranský Pohár 2020 - Kombi",{"$f":"VLOOKUP(F531,Soutez!B:C,2,FALSE)","v":"CZ"},{"$f":"VLOOKUP(F531,Soutez!B:D,3,FALSE)","v":2020},6,2866,0.76,8313,6318,"x",null,"VSO-10",51,""]
["Jiri Maier 66",1966,"M","Raná","CZ/C2","Ranský Pohár 2020 - Kombi",{"$f":"VLOOKUP(F532,Soutez!B:C,2,FALSE)","v":"CZ"},{"$f":"VLOOKUP(F532,Soutez!B:D,3,FALSE)","v":2020},7,2791,0.76,8027,6101,"x",null,"ASW 24E","JM",""]
["Ludek Souhrada",1974,"M","Raná","CZ/C2","Ranský Pohár 2020 - Kombi",{"$f":"VLOOKUP(F533,Soutez!B:C,2,FALSE)","v":"CZ"},{"$f":"VLOOKUP(F533,Soutez!B:D,3,FALSE)","v":2020},8,2634,0.76,7570,5753,"x",null,"Janus 18.2m","RA",""]
["Dalibor Pek",1968,"M","Raná","CZ/C2","Ranský Pohár 2020 - Kombi",{"$f":"VLOOKUP(F534,Soutez!B:C,2,FALSE)","v":"CZ"},{"$f":"VLOOKUP(F534,Soutez!B:D,3,FALSE)","v":2020},9,2630,0.76,7431,5648,null,null,"Std. Cirrus","GP",""]
["Jaroslav Vancata",1985,"M","Raná","CZ/C2","Ranský Pohár 2020 - Kombi",{"$f":"VLOOKUP(F535,Soutez!B:C,2,FALSE)","v":"CZ"},{"$f":"VLOOKUP(F535,Soutez!B:D,3,FALSE)","v":2020},10,2609,0.76,7257,5515,"x",null,"LS 7 WL","2B",""]
["Eduard Svoboda",1957,"M","Raná","CZ/C2","Ranský Pohár 2020 - Kombi",{"$f":"VLOOKUP(F536,Soutez!B:C,2,FALSE)","v":"CZ"},{"$f":"VLOOKUP(F536,Soutez!B:D,3,FALSE)","v":2020},11,2542,0.76,6987,5310,"x",null,"ASW 15B","HL",""]
["Michal Hemrle",1974,"M","Česká Lípa","CZ/C2","Ranský Pohár 2020 - Kombi",{"$f":"VLOOKUP(F537,Soutez!B:C,2,FALSE)","v":"CZ"},{"$f":"VLOOKUP(F537,Soutez!B:D,3,FALSE)","v":2020},12,2332,0.76,6419,4878,"x",null,"ASG 29E","ET",""]
["Pavel Derda",1952,"M","Dvůr Králové","CZ/C2","Ranský Pohár 2020 - Kombi",{"$f":"VLOOKUP(F538,Soutez!B:C,2,FALSE)","v":"CZ"},{"$f":"VLOOKUP(F538,Soutez!B:D,3,FALSE)","v":2020},13,2219,0.76,6054,4601,null,null,"Cirrus VTC 17.74","VE",""]
["Tomas Mezera",1973,"M","Raná","CZ/C2","Ranský Pohár 2020 - Kombi",{"$f":"VLOOKUP(F539,Soutez!B:C,2,FALSE)","v":"CZ"},{"$f":"VLOOKUP(F539,Soutez!B:D,3,FALSE)","v":2020},14,2064,0.76,{"$f":"ROUND(J539/MAX($J$526:$J$549)*10000*0.7+(MAX($I$526:$I$549)-I539)/(MAX($I$526:$I$549)-1)*10000*0.3,0)","v":5601},4257,null,null,"VSO-10",59,""]
["Sarka Lochova",1966,"F","Šumperk","CZ/M","Ranský Pohár 2020 - Kombi",{"$f":"VLOOKUP(F540,Soutez!B:C,2,FALSE)","v":"CZ"},{"$f":"VLOOKUP(F540,Soutez!B:D,3,FALSE)","v":2020},15,2050,0.76,5441,4135,"x","x","M-35",35,""]
["Jana Mezerova",1975,"F","Raná","CZ/C2","Ranský Pohár 2020 - Kombi",{"$f":"VLOOKUP(F541,Soutez!B:C,2,FALSE)","v":"CZ"},{"$f":"VLOOKUP(F541,Soutez!B:D,3,FALSE)","v":2020},16,1992,0.76,5190,3944,null,null,"LS 1-0","AL",""]
["Jan Sustr 76",1976,"M","Raná","CZ/C2","Ranský Pohár 2020 - Kombi",{"$f":"VLOOKUP(F542,Soutez!B:C,2,FALSE)","v":"CZ"},{"$f":"VLOOKUP(F542,Soutez!B:D,3,FALSE)","v":2020},17,1940,0.76,4951,3763,"x",null,"DG 300","WL",""]
["Jaromir Vlk",1959,"M","Šumperk","CZ/M","Ranský Pohár 2020 - Kombi",{"$f":"VLOOKUP(F543,Soutez!B:C,2,FALSE)","v":"CZ"},{"$f":"VLOOKUP(F543,Soutez!B:D,3,FALSE)","v":2020},18,1516,0.76,3938,2993,null,null,"ASW 15B","R5",""]
["Zbynek Bican",1961,"M","Raná","CZ/C2","Ranský Pohár 2020 - Kombi",{"$f":"VLOOKUP(F544,Soutez!B:C,2,FALSE)","v":"CZ"},{"$f":"VLOOKUP(F544,Soutez!B:D,3,FALSE)","v":2020},19,1484,0.76,3741,2843,"x",null,"LS 3","H1",""]
["Jaromir Hendrych",1954,"M","Raná","CZ/C2","Ranský Pohár 2020 - Kombi",{"$f":"VLOOKUP(F545,Soutez!B:C,2,FALSE)","v":"CZ"},{"$f":"VLOOKUP(F545,Soutez!B:D,3,FALSE)","v":2020},20,1463,0.76,3567,2711,null,null,"M-35",36,""]
["Tereza Krcilova Spalenkova",1981,"F","Raná","CZ/C2","Ranský Pohár 2020 - Kombi",{"$f":"VLOOKUP(F546,Soutez!B:C,2,FALSE)","v":"CZ"},{"$f":"VLOOKUP(F546,Soutez!B:D,3,FALSE)","v":2020},21,1448,0.76,3405,2588,"x","x","ASW 15","KA",""]
["Vojtech Kostejn",1974,"M","Česká Lípa","CZ/C2","Ranský Pohár 2020 - Kombi",{"$f":"VLOOKUP(F547,Soutez!B:C,2,FALSE)","v":"CZ"},{"$f":"VLOOKUP(F547,Soutez!B:D,3,FALSE)","v":2020},22,1444,0.76,3267,2483,"x",null,"ASW 15B","I",""]
["Stanislav Vrabec",1975,"M","Česká Lípa","CZ/C2","Ranský Pohár 2020 - Kombi",{"$f":"VLOOKUP(F548,Soutez!B:C,2,FALSE)","v":"CZ"},{"$f":"VLOOKUP(F548,Soutez!B:D,3,FALSE)","v":2020},23,1266,0.76,2766,2102,"x",null,"G-102 Astir CS","X",""]
["David Krcil",1976,"M","Raná","CZ/C2","Ranský Pohár 2020 - Kombi",{"$f":"VLOOKUP(F549,Soutez!B:C,2,FALSE)","v":"CZ"},{"$f":"VLOOKUP(F549,Soutez!B:D,3,FALSE)","v":2020},24,1011,0.76,2104,1599,"x",null,"ASW 15B","BE",""]
["Rostislav Broz",1968,"M","Vrchlabí","CZ/C2","Safari 2020 - Duo Kombi",{"$f":"VLOOKUP(F550,Soutez!B:C,2,FALSE)","v":"CZ"},{"$f":"VLOOKUP(F550,Soutez!B:D,3,FALSE)","v":2020},1,632,0,{"$f":"ROUND(J550/MAX($J$550:$J$563)*10000*0.7+(MAX($I$550:$I$563)-I550)/(MAX($I$550:$I$563)-1)*10000*0.3,0)","v":10000},0,null,null,"L13 Blanik","V",""]
["Vladimir Prihoda",1953,"M","Kralupy","CZ/C1","Safari 2020 - Duo Kombi",{"$f":"VLOOKUP(F551,Soutez!B:C,2,FALSE)","v":"CZ"},{"$f":"VLOOKUP(F551,Soutez!B:D,3,FALSE)","v":2020},1,632,0,{"$f":"ROUND(J551/MAX($J$550:$J$563)*10000*0.7+(MAX($I$550:$I$563)-I551)/(MAX($I$550:$I$563)-1)*10000*0.3,0)","v":10000},0,null,null,"L-23 Super Blanik dvoji","X",""]
["Petr Hosek",2001,"M","Beroun","CZ/C1","Safari 2020 - Duo Kombi",{"$f":"VLOOKUP(F552,Soutez!B:C,2,FALSE)","v":"CZ"},{"$f":"VLOOKUP(F552,Soutez!B:D,3,FALSE)","v":2020},3,591,0,9000,0,null,null,"L13 Blanik","BU","Junior v roce 2023"]
["Jan Hybner",1977,"M","Liberec","CZ/C2","Safari 2020 - Duo Kombi",{"$f":"VLOOKUP(F553,Soutez!B:C,2,FALSE)","v":"CZ"},{"$f":"VLOOKUP(F553,Soutez!B:D,3,FALSE)","v":2020},4,493,0,7642,0,null,null,"L-23 Super Blanik",23,""]
["Petr Panek",1975,"M","Dvůr Králové","CZ/C2","Safari 2020 - Duo Kombi",{"$f":"VLOOKUP(F554,Soutez!B:C,2,FALSE)","v":"CZ"},{"$f":"VLOOKUP(F554,Soutez!B:D,3,FALSE)","v":2020},5,490,0,7336,0,null,null,"L-23 Super Blanik","Y",""]
["Jaroslav Rapac",1977,"M","Dvůr Králové","CZ/C2","Safari 2020 - Duo Kombi",{"$f":"VLOOKUP(F555,Soutez!B:C,2,FALSE)","v":"CZ"},{"$f":"VLOOKUP(F555,Soutez!B:D,3,FALSE)","v":2020},6,443,0,6543,0,null,null,"L-23 Super Blanik","KM",""]
["Vojtech Pivonka",1976,"M","Vrchlabí","CZ/C2","Safari 2020 - Duo Kombi",{"$f":"VLOOKUP(F556,Soutez!B:C,2,FALSE)","v":"CZ"},{"$f":"VLOOKUP(F556,Soutez!B:D,3,FALSE)","v":2020},7,429,0,6115,0,null,null,"L-13 Blanik","AY",""]
["Martin Sehnoutka",1970,"M","Dvůr Králové","CZ/C2","Safari 2020 - Duo Kombi",{"$f":"VLOOKUP(F557,Soutez!B:C,2,FALSE)","v":"CZ"},{"$f":"VLOOKUP(F557,Soutez!B:D,3,FALSE)","v":2020},8,369,0,{"$f":"ROUND(J557/MAX($J$550:$J$563)*10000*0.7+(MAX($I$550:$I$563)-I557)/(MAX($I$550:$I$563)-1)*10000*0.3,0)","v":5178},0,null,null,"L 13 Blanik","VF",""]
["Vladislav Cadsky",null,"M",null,"SK","Safari 2020 - Duo Kombi",{"$f":"VLOOKUP(F558,Soutez!B:C,2,FALSE)","v":"CZ"},{"$f":"VLOOKUP(F558,Soutez!B:D,3,FALSE)","v":2020},9,257,0,3665,0,null,null,"L-13 Blanik","FI",""]
["Kuk",{"$f":"VLOOKUP(A559,Pilot,2,0)","v":1900},{"$f":"VLOOKUP(A559,Pilot,5,0)","v":"M"},{"$f":"VLOOKUP(A559,Pilot,3,0)","v":"Dvůr Králové"},{"$f":"VLOOKUP(A559,Pilot,4,0)","v":"CZ/C2"},"Safari 2020 - Duo Kombi",{"$f":"VLOOKUP(F559,Soutez!B:C,2,FALSE)","v":"CZ"},{"$f":"VLOOKUP(F559,Soutez!B:D,3,FALSE)","v":2020},10,210,0,2871,0,null,null,"L-13 Blanik dvoji","ET",""]
["Martin Markl",1960,"M","Kolín","CZ/C1","Safari 2020 - Duo Kombi",{"$f":"VLOOKUP(F560,Soutez!B:C,2,FALSE)","v":"CZ"},{"$f":"VLOOKUP(F560,Soutez!B:D,3,FALSE)","v":2020},11,87,0,1236,0,null,null,"L 13 Blanik dvoji","FL",""]
["Martin Benesovsky",1900,"M","Kolín","CZ/C1","Safari 2020 - Duo Kombi",{"$f":"VLOOKUP(F561,Soutez!B:C,2,FALSE)","v":"CZ"},{"$f":"VLOOKUP(F561,Soutez!B:D,3,FALSE)","v":2020},12,0,0,0,0,null,null,"L 13 Blanik dvoji","FI",""]
["Pavel Kuriscak",1987,"M","Beroun","CZ/C1","Safari 2020 - Duo Kombi",{"$f":"VLOOKUP(F562,Soutez!B:C,2,FALSE)","v":"CZ"},{"$f":"VLOOKUP(F562,Soutez!B:D,3,FALSE)","v":2020},12,0,0,0,0,null,null,"L13 Blanik","BU",""]
["Jan Karnik",1976,"M","Letkov","CZ/C1","Safari 2020 - Duo Kombi",{"$f":"VLOOKUP(F563,Soutez!B:C,2,FALSE)","v":"CZ"},{"$f":"VLOOKUP(F563,Soutez!B:D,3,FALSE)","v":2020},12,0,0,0,0,null,null,"L-23 Super Blanik","LR",""]
["Petr Lonsky",1965,"M","Toužim","CZ/C1","Safari 2020 - Klub",{"$f":"VLOOKUP(F564,Soutez!B:C,2,FALSE)","v":"CZ"},{"$f":"VLOOKUP(F564,Soutez!B:D,3,FALSE)","v":2020},1,1919,{"$f":"VLOOKUP(F564,Soutez,12,0)","v":0.75},{"$f":"ROUND(J564/MAX($J$564:$J$589)*10000*0.7+(MAX($I$564:$I$589)-I564)/(MAX($I$564:$I$589)-1)*10000*0.3,0)","v":10000},7500,"x",null,"Cirrus VTC","JP",{"$f":"IF(ISERROR(VLOOKUP(A564,Pilot,6,0)),\"Není v databázi\",VLOOKUP(A564,Pilot,6,0))","v":""}]
["Marek Kornec",1957,"M","Dvůr Králové","CZ/C2","Safari 2020 - Klub",{"$f":"VLOOKUP(F565,Soutez!B:C,2,FALSE)","v":"CZ"},{"$f":"VLOOKUP(F565,Soutez!B:D,3,FALSE)","v":2020},2,1911,0.75,{"$f":"ROUND(J565/MAX($J$564:$J$589)*10000*0.7+(MAX($I$564:$I$589)-I565)/(MAX($I$564:$I$589)-1)*10000*0.3,0)","v":9851},7388,"x",null,"Janus C (FG)","KSS",""]
["David Tejnora",1982,"M","Jaroměř","CZ/C2","Safari 2020 - Klub",{"$f":"VLOOKUP(F566,Soutez!B:C,2,FALSE)","v":"CZ"},{"$f":"VLOOKUP(F566,Soutez!B:D,3,FALSE)","v":2020},3,1904,0.75,9705,7279,"x",null,"Std. Cirrus",17,""]
["Jan Hybner",1977,"M","Liberec","CZ/C2","Safari 2020 - Klub",{"$f":"VLOOKUP(F567,Soutez!B:C,2,FALSE)","v":"CZ"},{"$f":"VLOOKUP(F567,Soutez!B:D,3,FALSE)","v":2020},4,1868,0.75,9454,{"$f":"ROUND(K567*L567,0)","v":7091},"x",null,"HpH 304cz /15m","LB",""]
["Wolfgang Sluka",1942,"M","Liberec","CZ/C2","Safari 2020 - Klub",{"$f":"VLOOKUP(F568,Soutez!B:C,2,FALSE)","v":"CZ"},{"$f":"VLOOKUP(F568,Soutez!B:D,3,FALSE)","v":2020},5,1847,0.75,9257,6943,"x",null,"Std. Cirrus","KA",""]
["Milan Dvorak",1965,"M","Liberec","CZ/C2","Safari 2020 - Klub",{"$f":"VLOOKUP(F569,Soutez!B:C,2,FALSE)","v":"CZ"},{"$f":"VLOOKUP(F569,Soutez!B:D,3,FALSE)","v":2020},6,1675,0.75,8510,6383,"x",null,"HpH 304cz /15m","IH",""]
["Tomas Kulhavy",2001,"M","Liberec","CZ/C2","Safari 2020 - Klub",{"$f":"VLOOKUP(F570,Soutez!B:C,2,FALSE)","v":"CZ"},{"$f":"VLOOKUP(F570,Soutez!B:D,3,FALSE)","v":2020},7,1552,0.75,7941,5956,null,null,"VSO-10",78,"Junior v roce 2023"]
["Martin Cicvarek",1966,"M","Liberec","CZ/C2","Safari 2020 - Klub",{"$f":"VLOOKUP(F571,Soutez!B:C,2,FALSE)","v":"CZ"},{"$f":"VLOOKUP(F571,Soutez!B:D,3,FALSE)","v":2020},8,1467,0.75,7511,5633,"x",null,"DG-400 15m","AC",""]
["Pavel Derda",1952,"M","Dvůr Králové","CZ/C2","Safari 2020 - Klub",{"$f":"VLOOKUP(F572,Soutez!B:C,2,FALSE)","v":"CZ"},{"$f":"VLOOKUP(F572,Soutez!B:D,3,FALSE)","v":2020},9,1382,0.75,7081,5311,"x",null,"Cirrus VTC","VE",""]
["Jan Zezula",1979,"M","Letňany","CZ/C1","Safari 2020 - Klub",{"$f":"VLOOKUP(F573,Soutez!B:C,2,FALSE)","v":"CZ"},{"$f":"VLOOKUP(F573,Soutez!B:D,3,FALSE)","v":2020},10,1148,0.75,6108,4581,"x",null,"ASW-19B","HD",""]
["Tomas Hynek",2002,"M","Dvůr Králové","CZ/C2","Safari 2020 - Klub",{"$f":"VLOOKUP(F574,Soutez!B:C,2,FALSE)","v":"CZ"},{"$f":"VLOOKUP(F574,Soutez!B:D,3,FALSE)","v":2020},11,1047,0.75,5619,4214,null,null,"DG-200 15m","IQ","Junior v roce 2023"]
["Marek Malinsky",1985,"M","Chrudim","CZ/C2","Safari 2020 - Klub",{"$f":"VLOOKUP(F575,Soutez!B:C,2,FALSE)","v":"CZ"},{"$f":"VLOOKUP(F575,Soutez!B:D,3,FALSE)","v":2020},12,959,0.75,5178,3884,"x",null,"Std. Cirrus","EX",""]
["Vaclav Sehnal",1962,"M","Kolín","CZ/C1","Safari 2020 - Klub",{"$f":"VLOOKUP(F576,Soutez!B:C,2,FALSE)","v":"CZ"},{"$f":"VLOOKUP(F576,Soutez!B:D,3,FALSE)","v":2020},13,936,0.75,4974,3731,"x",null,"ASK-21 dvojí","E7",""]
["Artur Szlachta",null,"M","KSS/LSV Zellhausen","DE","Safari 2020 - Klub",{"$f":"VLOOKUP(F577,Soutez!B:C,2,FALSE)","v":"CZ"},{"$f":"VLOOKUP(F577,Soutez!B:D,3,FALSE)","v":2020},14,920,0.75,4796,3597,null,null,"LS-4","V4","Není v databázi"]
["Jaroslav Sima",{"$f":"VLOOKUP(A578,Pilot,2,0)","v":1972},{"$f":"VLOOKUP(A578,Pilot,5,0)","v":"M"},{"$f":"VLOOKUP(A578,Pilot,3,0)","v":"Chomutov"},{"$f":"VLOOKUP(A578,Pilot,4,0)","v":"CZ/C2"},"Safari 2020 - Klub",{"$f":"VLOOKUP(F578,Soutez!B:C,2,FALSE)","v":"CZ"},{"$f":"VLOOKUP(F578,Soutez!B:D,3,FALSE)","v":2020},15,917,0.75,4665,3499,"x",null,"G-104 Speed Astir II","V2",""]
["Petr Velek",{"$f":"VLOOKUP(A579,Pilot,2,0)","v":1975},{"$f":"VLOOKUP(A579,Pilot,5,0)","v":"M"},{"$f":"VLOOKUP(A579,Pilot,3,0)","v":"GAC Benešov"},{"$f":"VLOOKUP(A579,Pilot,4,0)","v":"CZ/C1"},"Safari 2020 - Klub",{"$f":"VLOOKUP(F579,Soutez!B:C,2,FALSE)","v":"CZ"},{"$f":"VLOOKUP(F579,Soutez!B:D,3,FALSE)","v":2020},16,910,0.75,4519,3389,null,null,"DG-400 15m","HX",""]
["Jerzy Mikolajczyk",null,"M","SAZM Plock","PL","Safari 2020 - Klub",{"$f":"VLOOKUP(F580,Soutez!B:C,2,FALSE)","v":"CZ"},{"$f":"VLOOKUP(F580,Soutez!B:D,3,FALSE)","v":2020},17,893,0.75,4337,3253,null,null,"LS-4","YL","Není v databázi"]
["Jiri Skarka",{"$f":"VLOOKUP(A581,Pilot,2,0)","v":1965},{"$f":"VLOOKUP(A581,Pilot,5,0)","v":"M"},{"$f":"VLOOKUP(A581,Pilot,3,0)","v":"Chomutov"},{"$f":"VLOOKUP(A581,Pilot,4,0)","v":"CZ/C2"},"Safari 2020 - Klub",{"$f":"VLOOKUP(F581,Soutez!B:C,2,FALSE)","v":"CZ"},{"$f":"VLOOKUP(F581,Soutez!B:D,3,FALSE)","v":2020},18,822,0.75,{"$f":"ROUND(J581/MAX($J$564:$J$589)*10000*0.7+(MAX($I$564:$I$589)-I581)/(MAX($I$564:$I$589)-1)*10000*0.3,0)","v":3958},2969,"x",null,"ASW-19","HK",""]
["Jiri Donat",{"$f":"VLOOKUP(A582,Pilot,2,0)","v":1983},{"$f":"VLOOKUP(A582,Pilot,5,0)","v":"M"},{"$f":"VLOOKUP(A582,Pilot,3,0)","v":"Chrudim"},{"$f":"VLOOKUP(A582,Pilot,4,0)","v":"CZ/C2"},"Safari 2020 - Klub",{"$f":"VLOOKUP(F582,Soutez!B:C,2,FALSE)","v":"CZ"},{"$f":"VLOOKUP(F582,Soutez!B:D,3,FALSE)","v":2020},19,711,0.75,3434,2576,"x",null,"Std. Cirrus WL","JE",""]
["Lukas Hykl",{"$f":"VLOOKUP(A583,Pilot,2,0)","v":1985},{"$f":"VLOOKUP(A583,Pilot,5,0)","v":"M"},{"$f":"VLOOKUP(A583,Pilot,3,0)","v":"Kolín"},{"$f":"VLOOKUP(A583,Pilot,4,0)","v":"CZ/C1"},"Safari 2020 - Klub",{"$f":"VLOOKUP(F583,Soutez!B:C,2,FALSE)","v":"CZ"},{"$f":"VLOOKUP(F583,Soutez!B:D,3,FALSE)","v":2020},20,640,0.75,3055,2291,"x",null,"SZD-48 Jantar std. 2 (3) WL","VS",""]
["Ryszard Bendkowski",null,"M","Warszawa","PL","Safari 2020 - Klub",{"$f":"VLOOKUP(F584,Soutez!B:C,2,FALSE)","v":"CZ"},{"$f":"VLOOKUP(F584,Soutez!B:D,3,FALSE)","v":2020},21,409,0.75,2092,1569,null,null,"SZD-41A Jantar std.","Fili","Není v databázi"]
["Karel Ertl",{"$f":"VLOOKUP(A585,Pilot,2,0)","v":1939},{"$f":"VLOOKUP(A585,Pilot,5,0)","v":"M"},{"$f":"VLOOKUP(A585,Pilot,3,0)","v":"LK Břeclav"},{"$f":"VLOOKUP(A585,Pilot,4,0)","v":"CZ/M"},"Safari 2020 - Klub",{"$f":"VLOOKUP(F585,Soutez!B:C,2,FALSE)","v":"CZ"},{"$f":"VLOOKUP(F585,Soutez!B:D,3,FALSE)","v":2020},22,349,0.75,1753,1315,null,null,"TST-10M Atlas","KE",""]
["Jiri Tomicek",{"$f":"VLOOKUP(A586,Pilot,2,0)","v":1947},{"$f":"VLOOKUP(A586,Pilot,5,0)","v":"M"},{"$f":"VLOOKUP(A586,Pilot,3,0)","v":"Dvůr Králové"},{"$f":"VLOOKUP(A586,Pilot,4,0)","v":"CZ/C2"},"Safari 2020 - Klub",{"$f":"VLOOKUP(F586,Soutez!B:C,2,FALSE)","v":"CZ"},{"$f":"VLOOKUP(F586,Soutez!B:D,3,FALSE)","v":2020},23,344,0.75,1615,1211,"x",null,"G-103 Twin Astir solo",5,""]
["Romuald Dorofieczyk",null,"M","Jelenia Gora","PL","Safari 2020 - Klub",{"$f":"VLOOKUP(F587,Soutez!B:C,2,FALSE)","v":"CZ"},{"$f":"VLOOKUP(F587,Soutez!B:D,3,FALSE)","v":2020},24,140,0.75,751,563,null,null,"DG-300 WL","N5","Není v databázi"]
["Petr Omelka",{"$f":"VLOOKUP(A588,Pilot,2,0)","v":1970},{"$f":"VLOOKUP(A588,Pilot,5,0)","v":"M"},{"$f":"VLOOKUP(A588,Pilot,3,0)","v":"Vyškov"},{"$f":"VLOOKUP(A588,Pilot,4,0)","v":"CZ/M"},"Safari 2020 - Klub",{"$f":"VLOOKUP(F588,Soutez!B:C,2,FALSE)","v":"CZ"},{"$f":"VLOOKUP(F588,Soutez!B:D,3,FALSE)","v":2020},25,113,0.75,532,399,"x",null,"DG-400 15m","MR",""]
["Leos Nosek",1958,"M","Křižanov","CZ/M","Safari 2020 - Klub",{"$f":"VLOOKUP(F589,Soutez!B:C,2,FALSE)","v":"CZ"},{"$f":"VLOOKUP(F589,Soutez!B:D,3,FALSE)","v":2020},26,18,0.75,66,50,"x",null,"G-104 Speed Astir II b","LE",""]
["Jana Veprekova",1961,"F","Dvůr Králové","CZ/C2","Safari 2020 - Kombi",{"$f":"VLOOKUP(F590,Soutez!B:C,2,FALSE)","v":"CZ"},{"$f":"VLOOKUP(F590,Soutez!B:D,3,FALSE)","v":2020},1,3481,0.76500000000000001,{"$f":"ROUND(J590/MAX($J$590:$J$601)*10000*0.7+(MAX($I$590:$I$601)-I590)/(MAX($I$590:$I$601)-1)*10000*0.3,0)","v":10000},7650,null,null,"LS8 a,b,s,18 /15m (voda)","W8",""]
["Lukas Hynek",1979,"M","Dvůr Králové","CZ/C2","Safari 2020 - Kombi",{"$f":"VLOOKUP(F591,Soutez!B:C,2,FALSE)","v":"CZ"},{"$f":"VLOOKUP(F591,Soutez!B:D,3,FALSE)","v":2020},2,3330,0.76500000000000001,{"$f":"ROUND(J591/MAX($J$590:$J$601)*10000*0.7+(MAX($I$590:$I$601)-I591)/(MAX($I$590:$I$601)-1)*10000*0.3,0)","v":9424},7209,null,null,"Nimbus 3 /22,9m WL -750kg (voda)","HS",""]
["Milan Meisner",1961,"M","Dvůr Králové","CZ/C2","Safari 2020 - Kombi",{"$f":"VLOOKUP(F592,Soutez!B:C,2,FALSE)","v":"CZ"},{"$f":"VLOOKUP(F592,Soutez!B:D,3,FALSE)","v":2020},3,3319,0.76500000000000001,9129,6984,"x",null,"Ventus c /17,6m (voda)","VV",""]
["David Mach",1994,"M","Hronov","CZ/C2","Safari 2020 - Kombi",{"$f":"VLOOKUP(F593,Soutez!B:C,2,FALSE)","v":"CZ"},{"$f":"VLOOKUP(F593,Soutez!B:D,3,FALSE)","v":2020},4,3161,0.76500000000000001,8538,6532,null,null,"JS3 TJ - 18m (voda)","XM",""]
["Jan Simon",1970,"M","Kralupy","CZ/C1","Safari 2020 - Kombi",{"$f":"VLOOKUP(F594,Soutez!B:C,2,FALSE)","v":"CZ"},{"$f":"VLOOKUP(F594,Soutez!B:D,3,FALSE)","v":2020},5,3147,0.76500000000000001,8237,6301,null,null,"Duo Discus T (700kg) (voda)","ZS",""]
["Ladislav Prokes",1954,"M","Vrchlabí","CZ/C2","Safari 2020 - Kombi",{"$f":"VLOOKUP(F595,Soutez!B:C,2,FALSE)","v":"CZ"},{"$f":"VLOOKUP(F595,Soutez!B:D,3,FALSE)","v":2020},6,2995,0.76500000000000001,7659,5859,"x",null,"Discus b (voda)","VR",""]
["Zdenek Boruvka 54",1954,"M","Jičín","CZ/C2","Safari 2020 - Kombi",{"$f":"VLOOKUP(F596,Soutez!B:C,2,FALSE)","v":"CZ"},{"$f":"VLOOKUP(F596,Soutez!B:D,3,FALSE)","v":2020},7,2817,0.76500000000000001,7028,5376,null,null,"LS8 a,b,s,18 /15m (voda)","ZB",""]
["Jan Pazour",1979,"M","Dvůr Králové","CZ/C2","Safari 2020 - Kombi",{"$f":"VLOOKUP(F597,Soutez!B:C,2,FALSE)","v":"CZ"},{"$f":"VLOOKUP(F597,Soutez!B:D,3,FALSE)","v":2020},8,2456,0.76500000000000001,6030,4613,"x",null,"ASW-20 L+FL /16,6m","JP",""]
["Tomas Ditrt",1969,"M","Podhořany","CZ/C2","Safari 2020 - Kombi",{"$f":"VLOOKUP(F598,Soutez!B:C,2,FALSE)","v":"CZ"},{"$f":"VLOOKUP(F598,Soutez!B:D,3,FALSE)","v":2020},9,2371,0.76500000000000001,{"$f":"ROUND(J598/MAX($J$590:$J$601)*10000*0.7+(MAX($I$590:$I$601)-I598)/(MAX($I$590:$I$601)-1)*10000*0.3,0)","v":5586},4273,"x",null,"ASW-20 (A)+F /15m","LS",""]
["Jan Dersak 69",1969,"M","Kralupy","CZ/C1","Safari 2020 - Kombi",{"$f":"VLOOKUP(F599,Soutez!B:C,2,FALSE)","v":"CZ"},{"$f":"VLOOKUP(F599,Soutez!B:D,3,FALSE)","v":2020},10,1962,0.76500000000000001,4491,3436,null,null,"HpH 304JS SHARK /18m (573kg) (voda)","DJ",""]
["Slavomir Tanglmajer",1966,"M","Chomutov","CZ/C2","Safari 2020 - Kombi",{"$f":"VLOOKUP(F600,Soutez!B:C,2,FALSE)","v":"CZ"},{"$f":"VLOOKUP(F600,Soutez!B:D,3,FALSE)","v":2020},11,1762,0.76500000000000001,3816,2919,"x",null,"DG-400 17m","ST",""]
["Karel Policky",1950,"M","Kolín","CZ/C1","Safari 2020 - Kombi",{"$f":"VLOOKUP(F601,Soutez!B:C,2,FALSE)","v":"CZ"},{"$f":"VLOOKUP(F601,Soutez!B:D,3,FALSE)","v":2020},12,912,0.76500000000000001,1834,1403,null,null,"Duo Discus XL",777,""]
["Benedikt & Cerny",null,"M","SGC Martin",null,"Septembrova cena 2020 - Kombi",{"$f":"VLOOKUP(F602,Soutez!B:C,2,FALSE)","v":"SK"},{"$f":"VLOOKUP(F602,Soutez!B:D,3,FALSE)","v":2020},1,76,0,{"$f":"ROUND(J602/MAX($J$602:$J$613)*10000*0.7+(MAX($I$602:$I$613)-I602)/(MAX($I$602:$I$613)-1)*10000*0.3,0)","v":10000},0,null,null,"Janus CFM","T","Není v databázi"]
["Jan Kovalcik",null,"M","Bratislava",null,"Septembrova cena 2020 - Kombi",{"$f":"VLOOKUP(F603,Soutez!B:C,2,FALSE)","v":"SK"},{"$f":"VLOOKUP(F603,Soutez!B:D,3,FALSE)","v":2020},2,65,0,{"$f":"ROUND(J603/MAX($J$602:$J$613)*10000*0.7+(MAX($I$602:$I$613)-I603)/(MAX($I$602:$I$613)-1)*10000*0.3,0)","v":8714},0,null,null,"Discusc 2c /18m","Z","Není v databázi"]
["Zdeno Hrcka",null,"M","Trnava",null,"Septembrova cena 2020 - Kombi",{"$f":"VLOOKUP(F604,Soutez!B:C,2,FALSE)","v":"SK"},{"$f":"VLOOKUP(F604,Soutez!B:D,3,FALSE)","v":2020},3,42,0,6323,0,null,null,"Centrair C-101A Pegase","H","Není v databázi"]
["Beliansky & Karolyiova",null,"M","Bratislava",null,"Septembrova cena 2020 - Kombi",{"$f":"VLOOKUP(F605,Soutez!B:C,2,FALSE)","v":"SK"},{"$f":"VLOOKUP(F605,Soutez!B:D,3,FALSE)","v":2020},4,39,0,5774,0,null,null,"G-103 Twin Trainer dvojí","BA3","Není v databázi"]
["Juraj Dudas",{"$f":"VLOOKUP(A606,Pilot,2,0)","v":1990},{"$f":"VLOOKUP(A606,Pilot,5,0)","v":"M"},{"$f":"VLOOKUP(A606,Pilot,3,0)","v":"Křižanov"},{"$f":"VLOOKUP(A606,Pilot,4,0)","v":"CZ/M"},"Septembrova cena 2020 - Kombi",{"$f":"VLOOKUP(F606,Soutez!B:C,2,FALSE)","v":"SK"},{"$f":"VLOOKUP(F606,Soutez!B:D,3,FALSE)","v":2020},5,31,0,{"$f":"ROUND(J606/MAX($J$602:$J$613)*10000*0.7+(MAX($I$602:$I$613)-I606)/(MAX($I$602:$I$613)-1)*10000*0.3,0)","v":4764},0,null,null,"Centrair C-101A Pegase","ZD",""]
["Marek Kuban",null,"M","Bratislava",null,"Septembrova cena 2020 - Kombi",{"$f":"VLOOKUP(F607,Soutez!B:C,2,FALSE)","v":"SK"},{"$f":"VLOOKUP(F607,Soutez!B:D,3,FALSE)","v":2020},6,29,0,4307,0,null,null,"ASW-19","BA6","Není v databázi"]
["Oldrich Spaniel",null,"M","Bratislava",null,"Septembrova cena 2020 - Kombi",{"$f":"VLOOKUP(F608,Soutez!B:C,2,FALSE)","v":"SK"},{"$f":"VLOOKUP(F608,Soutez!B:D,3,FALSE)","v":2020},7,28,0,3943,0,null,null,"ASW-19","BA4","Není v databázi"]
["Marek Mikula",null,"M","Trnava",null,"Septembrova cena 2020 - Kombi",{"$f":"VLOOKUP(F609,Soutez!B:C,2,FALSE)","v":"SK"},{"$f":"VLOOKUP(F609,Soutez!B:D,3,FALSE)","v":2020},7,28,0,3943,0,null,null,"ASW-15","X1","Není v databázi"]
["Benedikt Laho",null,"M","Trnava",null,"Septembrova cena 2020 - Kombi",{"$f":"VLOOKUP(F610,Soutez!B:C,2,FALSE)","v":"SK"},{"$f":"VLOOKUP(F610,Soutez!B:D,3,FALSE)","v":2020},9,27,0,3305,0,null,null,"Discus 2cT /18m","JH","Není v databázi"]
["Ivana Jurovicova",null,"F","Bratislava",null,"Septembrova cena 2020 - Kombi",{"$f":"VLOOKUP(F611,Soutez!B:C,2,FALSE)","v":"SK"},{"$f":"VLOOKUP(F611,Soutez!B:D,3,FALSE)","v":2020},10,22,0,2572,0,null,null,"H-201 Std. Libelle WL","J3","Není v databázi"]
["Stefan Simoncic",null,"M","Bratislava",null,"Septembrova cena 2020 - Kombi",{"$f":"VLOOKUP(F612,Soutez!B:C,2,FALSE)","v":"SK"},{"$f":"VLOOKUP(F612,Soutez!B:D,3,FALSE)","v":2020},11,19,0,2023,0,null,null,"Duo Discus (700 kg),","2X","Není v databázi"]
["Branislav Jankech",null,"M","AEROCLUB BRATISLAVA",null,"Septembrova cena 2020 - Kombi",{"$f":"VLOOKUP(F613,Soutez!B:C,2,FALSE)","v":"SK"},{"$f":"VLOOKUP(F613,Soutez!B:D,3,FALSE)","v":2020},12,17,0,1566,0,null,null,"ASW-15","BA5","Není v databázi"]
["Jozef Sobek",null,"M","AK Prešov",null,"Šariš Cup 2020 - Klub",{"$f":"VLOOKUP(F614,Soutez!B:C,2,FALSE)","v":"SK"},{"$f":"VLOOKUP(F614,Soutez!B:D,3,FALSE)","v":2020},1,4763,0.76500000000000001,{"$f":"ROUND(J614/MAX($J$614:$J$624)*10000*0.7+(MAX($I$614:$I$624)-I614)/(MAX($I$614:$I$624)-1)*10000*0.3,0)","v":10000},7650,null,null,"Std. Cirrus","MJ","Není v databázi"]
["Frantisek Sobek",null,"M","AK Sabinov",null,"Šariš Cup 2020 - Klub",{"$f":"VLOOKUP(F615,Soutez!B:C,2,FALSE)","v":"SK"},{"$f":"VLOOKUP(F615,Soutez!B:D,3,FALSE)","v":2020},2,4723,0.76500000000000001,{"$f":"ROUND(J615/MAX($J$614:$J$624)*10000*0.7+(MAX($I$614:$I$624)-I615)/(MAX($I$614:$I$624)-1)*10000*0.3,0)","v":9641},7375,null,null,"DG 100","G1","Není v databázi"]
["Miroslav stempel",null,"M","AK Prešov",null,"Šariš Cup 2020 - Klub",{"$f":"VLOOKUP(F616,Soutez!B:C,2,FALSE)","v":"SK"},{"$f":"VLOOKUP(F616,Soutez!B:D,3,FALSE)","v":2020},3,3777,0.76500000000000001,7951,6083,null,null,"Std. Cirrus","CV","Není v databázi"]
["Juraj Sidor",null,"M","AK Holíč",null,"Šariš Cup 2020 - Klub",{"$f":"VLOOKUP(F617,Soutez!B:C,2,FALSE)","v":"SK"},{"$f":"VLOOKUP(F617,Soutez!B:D,3,FALSE)","v":2020},4,3523,0.76500000000000001,7278,5568,null,null,"Std. Cirrus","L4","Není v databázi"]
["Marek Imrich",null,"M","AK Sabinov",null,"Šariš Cup 2020 - Klub",{"$f":"VLOOKUP(F618,Soutez!B:C,2,FALSE)","v":"SK"},{"$f":"VLOOKUP(F618,Soutez!B:D,3,FALSE)","v":2020},5,3485,0.76500000000000001,6922,5295,null,null,"VSO-10","M9","Není v databázi"]
["Matej Petrik",null,"M","AK Sabinov",null,"Šariš Cup 2020 - Klub",{"$f":"VLOOKUP(F619,Soutez!B:C,2,FALSE)","v":"SK"},{"$f":"VLOOKUP(F619,Soutez!B:D,3,FALSE)","v":2020},6,3020,0.76500000000000001,5938,4543,null,null,"VSO-10",45,"Není v databázi"]
["Alberto Rizzi",null,"M","AK Holíč",null,"Šariš Cup 2020 - Klub",{"$f":"VLOOKUP(F620,Soutez!B:C,2,FALSE)","v":"SK"},{"$f":"VLOOKUP(F620,Soutez!B:D,3,FALSE)","v":2020},7,2543,0.76500000000000001,4937,3777,null,null,"DG 202","SJ","Není v databázi"]
["Jozef Sopirjak",null,"M","AK Košice",null,"Šariš Cup 2020 - Klub",{"$f":"VLOOKUP(F621,Soutez!B:C,2,FALSE)","v":"SK"},{"$f":"VLOOKUP(F621,Soutez!B:D,3,FALSE)","v":2020},8,2334,0.76500000000000001,4330,3312,null,null,"DG 101 G Elan","SX","Není v databázi"]
["Macek Macek",null,"M","AK Košice",null,"Šariš Cup 2020 - Klub",{"$f":"VLOOKUP(F622,Soutez!B:C,2,FALSE)","v":"SK"},{"$f":"VLOOKUP(F622,Soutez!B:D,3,FALSE)","v":2020},9,1317,0.76500000000000001,2536,1940,null,null,"L 23 Super Blanik",24,"Není v databázi"]
["Petr Velek",{"$f":"VLOOKUP(A623,Pilot,2,0)","v":1975},{"$f":"VLOOKUP(A623,Pilot,5,0)","v":"M"},{"$f":"VLOOKUP(A623,Pilot,3,0)","v":"GAC Benešov"},{"$f":"VLOOKUP(A623,Pilot,4,0)","v":"CZ/C1"},"Šariš Cup 2020 - Klub",{"$f":"VLOOKUP(F623,Soutez!B:C,2,FALSE)","v":"SK"},{"$f":"VLOOKUP(F623,Soutez!B:D,3,FALSE)","v":2020},10,1227,0.76500000000000001,{"$f":"ROUND(J623/MAX($J$614:$J$624)*10000*0.7+(MAX($I$614:$I$624)-I623)/(MAX($I$614:$I$624)-1)*10000*0.3,0)","v":2103},1609,null,null,"DG 400","HX",""]
["Ivana Sidorova",null,"F","AK Holíč",null,"Šariš Cup 2020 - Klub",{"$f":"VLOOKUP(F624,Soutez!B:C,2,FALSE)","v":"SK"},{"$f":"VLOOKUP(F624,Soutez!B:D,3,FALSE)","v":2020},11,320,0.76500000000000001,470,360,null,null,"Std. Cirrus","NM","Není v databázi"]
["Jan Viskot",{"$f":"VLOOKUP(A625,Pilot,2,0)","v":1995},{"$f":"VLOOKUP(A625,Pilot,5,0)","v":"M"},{"$f":"VLOOKUP(A625,Pilot,3,0)","v":"Břeclav"},{"$f":"VLOOKUP(A625,Pilot,4,0)","v":"CZ/M"},"Toužim Cup 2020 - Klub",{"$f":"VLOOKUP(F625,Soutez!B:C,2,FALSE)","v":"CZ"},{"$f":"VLOOKUP(F625,Soutez!B:D,3,FALSE)","v":2020},1,4190,0.91500000000000004,{"$f":"ROUND(J625/MAX($J$625:$J$654)*10000*0.7+(MAX($I$625:$I$654)-I625)/(MAX($I$625:$I$654)-1)*10000*0.3,0)","v":10000},9150,null,null,"Std. Cirrus","W",""]
["Lukas Koukal",1991,"M","Letkov","CZ/C1","Toužim Cup 2020 - Klub",{"$f":"VLOOKUP(F626,Soutez!B:C,2,FALSE)","v":"CZ"},{"$f":"VLOOKUP(F626,Soutez!B:D,3,FALSE)","v":2020},2,3927,0.91500000000000004,{"$f":"ROUND(J626/MAX($J$625:$J$654)*10000*0.7+(MAX($I$625:$I$654)-I626)/(MAX($I$625:$I$654)-1)*10000*0.3,0)","v":9457},8653,"x",null,"ASW 15B","T1",""]
["Martin Zahalka",1987,"M","Staňkov","CZ/C1","Toužim Cup 2020 - Klub",{"$f":"VLOOKUP(F627,Soutez!B:C,2,FALSE)","v":"CZ"},{"$f":"VLOOKUP(F627,Soutez!B:D,3,FALSE)","v":2020},3,3878,0.91500000000000004,9272,8484,"x",null,"DG 100","8B",""]
["Jan Pubec",1979,"M","Plzeň Bory","CZ/C1","Toužim Cup 2020 - Klub",{"$f":"VLOOKUP(F628,Soutez!B:C,2,FALSE)","v":"CZ"},{"$f":"VLOOKUP(F628,Soutez!B:D,3,FALSE)","v":2020},4,3840,{"$f":"VLOOKUP(F628,Soutez,12,0)","v":0.91500000000000004},9105,8331,"x",null,"Std. Cirrus","LM",{"$f":"IF(ISERROR(VLOOKUP(A628,Pilot,6,0)),\"Není v databázi\",VLOOKUP(A628,Pilot,6,0))","v":""}]
["Ivan Harasta 65",1965,"M","Toužim","CZ/C1","Toužim Cup 2020 - Klub",{"$f":"VLOOKUP(F629,Soutez!B:C,2,FALSE)","v":"CZ"},{"$f":"VLOOKUP(F629,Soutez!B:D,3,FALSE)","v":2020},5,3763,0.91500000000000004,8873,8119,"x",null,"ASW 19","KZ",""]
["Petr Jiranek 91",1991,"M","Toužim","CZ/C1","Toužim Cup 2020 - Klub",{"$f":"VLOOKUP(F630,Soutez!B:C,2,FALSE)","v":"CZ"},{"$f":"VLOOKUP(F630,Soutez!B:D,3,FALSE)","v":2020},6,3701,0.91500000000000004,8666,7929,"x",null,"Astir CS","PJ",""]
["Pavel Jiranek",1993,"M","Toužim","CZ/C1","Toužim Cup 2020 - Klub",{"$f":"VLOOKUP(F631,Soutez!B:C,2,FALSE)","v":"CZ"},{"$f":"VLOOKUP(F631,Soutez!B:D,3,FALSE)","v":2020},7,3623,0.91500000000000004,8432,{"$f":"ROUND(K631*L631,0)","v":7715},null,null,"Std. Cirrus","IYD",""]
["Lubomir Motl",1959,"M","Kyjov","CZ/M","Toužim Cup 2020 - Klub",{"$f":"VLOOKUP(F632,Soutez!B:C,2,FALSE)","v":"CZ"},{"$f":"VLOOKUP(F632,Soutez!B:D,3,FALSE)","v":2020},8,3605,0.91500000000000004,8299,7594,null,null,"LS 1 f","G2",""]
["Michal Drab",1969,"M","Letkov","CZ/C1","Toužim Cup 2020 - Klub",{"$f":"VLOOKUP(F633,Soutez!B:C,2,FALSE)","v":"CZ"},{"$f":"VLOOKUP(F633,Soutez!B:D,3,FALSE)","v":2020},9,3571,0.91500000000000004,8138,7446,"x",null,"LS 1-d","S3",""]
["Michal Cupak",1991,"M","Medlánky","CZ/M","Toužim Cup 2020 - Klub",{"$f":"VLOOKUP(F634,Soutez!B:C,2,FALSE)","v":"CZ"},{"$f":"VLOOKUP(F634,Soutez!B:D,3,FALSE)","v":2020},10,3537,0.91500000000000004,7978,7300,"x",null,"Std. Cirrus","A7",""]
["Roman Jokl",1979,"M","Letkov","CZ/C1","Toužim Cup 2020 - Klub",{"$f":"VLOOKUP(F635,Soutez!B:C,2,FALSE)","v":"CZ"},{"$f":"VLOOKUP(F635,Soutez!B:D,3,FALSE)","v":2020},11,3456,0.91500000000000004,7739,7081,"x",null,"ASW 19","JL",""]
["Daniel Dvorak",1980,"M","Letkov","CZ/C1","Toužim Cup 2020 - Klub",{"$f":"VLOOKUP(F636,Soutez!B:C,2,FALSE)","v":"CZ"},{"$f":"VLOOKUP(F636,Soutez!B:D,3,FALSE)","v":2020},12,3449,0.91500000000000004,7624,6976,"x",null,"Std. Cirrus","LD",""]
["Tomas Talanda",1988,"M","Křižanov","CZ/M","Toužim Cup 2020 - Klub",{"$f":"VLOOKUP(F637,Soutez!B:C,2,FALSE)","v":"CZ"},{"$f":"VLOOKUP(F637,Soutez!B:D,3,FALSE)","v":2020},13,3273,0.91500000000000004,7227,6613,"x",null,"ASW 19","DS",""]
["Jiri Prochazka",1971,"M","Toužim","CZ/C1","Toužim Cup 2020 - Klub",{"$f":"VLOOKUP(F638,Soutez!B:C,2,FALSE)","v":"CZ"},{"$f":"VLOOKUP(F638,Soutez!B:D,3,FALSE)","v":2020},14,3225,0.91500000000000004,7043,6444,"x",null,"Janus CM ohne EZ","J59",""]
["Ivan Harasta 98",1998,"M","Toužim","CZ/C1","Toužim Cup 2020 - Klub",{"$f":"VLOOKUP(F639,Soutez!B:C,2,FALSE)","v":"CZ"},{"$f":"VLOOKUP(F639,Soutez!B:D,3,FALSE)","v":2020},15,3084,0.91500000000000004,6704,6134,"x",null,"ASW 15B","HI","Junior v roce 2023"]
["Petr Lonsky",1965,"M","Toužim","CZ/C1","Toužim Cup 2020 - Klub",{"$f":"VLOOKUP(F640,Soutez!B:C,2,FALSE)","v":"CZ"},{"$f":"VLOOKUP(F640,Soutez!B:D,3,FALSE)","v":2020},16,2753,0.91500000000000004,6048,5534,null,null,"Cirrus / VTC 17,74m","JP",""]
["Tomas Jung",1950,"M","Zbraslavice","CZ/C1","Toužim Cup 2020 - Klub",{"$f":"VLOOKUP(F641,Soutez!B:C,2,FALSE)","v":"CZ"},{"$f":"VLOOKUP(F641,Soutez!B:D,3,FALSE)","v":2020},17,2538,0.91500000000000004,5585,5110,"x",null,"ASW 19","O2",""]
["Jiri Cincera",1966,"M","Toužim","CZ/C1","Toužim Cup 2020 - Klub",{"$f":"VLOOKUP(F642,Soutez!B:C,2,FALSE)","v":"CZ"},{"$f":"VLOOKUP(F642,Soutez!B:D,3,FALSE)","v":2020},18,2456,0.91500000000000004,5344,4890,"x",null,"ASW 15B","TT",""]
["Martin Valenta",1969,"M","Toužim","CZ/C1","Toužim Cup 2020 - Klub",{"$f":"VLOOKUP(F643,Soutez!B:C,2,FALSE)","v":"CZ"},{"$f":"VLOOKUP(F643,Soutez!B:D,3,FALSE)","v":2020},19,2416,0.91500000000000004,5174,4734,"x",null,"LS 1-c","T2",""]
["Josef Kreutzer",1992,"M","Letkov","CZ/C1","Toužim Cup 2020 - Klub",{"$f":"VLOOKUP(F644,Soutez!B:C,2,FALSE)","v":"CZ"},{"$f":"VLOOKUP(F644,Soutez!B:D,3,FALSE)","v":2020},20,2151,0.91500000000000004,{"$f":"ROUND(J644/MAX($J$625:$J$654)*10000*0.7+(MAX($I$625:$I$654)-I644)/(MAX($I$625:$I$654)-1)*10000*0.3,0)","v":4628},4235,"x",null,"Std. Cirrus","AL",""]
["Tomas Seifert",1972,"M","Raná","CZ/C2","Toužim Cup 2020 - Klub",{"$f":"VLOOKUP(F645,Soutez!B:C,2,FALSE)","v":"CZ"},{"$f":"VLOOKUP(F645,Soutez!B:D,3,FALSE)","v":2020},21,2034,0.91500000000000004,4329,3961,"x",null,"ASW 15B","MC",""]
["Rudolf Jung",1954,"M","Zbraslavice","CZ/C1","Toužim Cup 2020 - Klub",{"$f":"VLOOKUP(F646,Soutez!B:C,2,FALSE)","v":"CZ"},{"$f":"VLOOKUP(F646,Soutez!B:D,3,FALSE)","v":2020},22,2012,0.91500000000000004,4189,3833,"x",null,"Twin Astir","TO",""]
["Vaclav Halek",1966,"M","Toužim","CZ/C1","Toužim Cup 2020 - Klub",{"$f":"VLOOKUP(F647,Soutez!B:C,2,FALSE)","v":"CZ"},{"$f":"VLOOKUP(F647,Soutez!B:D,3,FALSE)","v":2020},23,1948,0.91500000000000004,3979,3641,"x",null,"LS 1-d","CL",""]
["Vit Prokop",1987,"M","Medlánky","CZ/M","Toužim Cup 2020 - Klub",{"$f":"VLOOKUP(F648,Soutez!B:C,2,FALSE)","v":"CZ"},{"$f":"VLOOKUP(F648,Soutez!B:D,3,FALSE)","v":2020},24,1945,0.91500000000000004,3870,3541,"x",null,"Std. Cirrus","MF",""]
["Martin Fric",1967,"M","Raná","CZ/C2","Toužim Cup 2020 - Klub",{"$f":"VLOOKUP(F649,Soutez!B:C,2,FALSE)","v":"CZ"},{"$f":"VLOOKUP(F649,Soutez!B:D,3,FALSE)","v":2020},25,1862,0.91500000000000004,3628,3320,"x",null,"Janus 18,2m","RA",""]
["Martin Nejezchleb",1979,"M","Plzeň Bory","CZ/C1","Toužim Cup 2020 - Klub",{"$f":"VLOOKUP(F650,Soutez!B:C,2,FALSE)","v":"CZ"},{"$f":"VLOOKUP(F650,Soutez!B:D,3,FALSE)","v":2020},26,1733,0.91500000000000004,3309,3028,"x",null,"ASW 15B",90,""]
["Petr Cernicky",1974,"M","Toužim","CZ/C1","Toužim Cup 2020 - Klub",{"$f":"VLOOKUP(F651,Soutez!B:C,2,FALSE)","v":"CZ"},{"$f":"VLOOKUP(F651,Soutez!B:D,3,FALSE)","v":2020},27,1659,0.91500000000000004,3082,2820,"x",null,"Astir CS","LS",""]
["Frantisek Kriz",1961,"M","Toužim","CZ/C1","Toužim Cup 2020 - Klub",{"$f":"VLOOKUP(F652,Soutez!B:C,2,FALSE)","v":"CZ"},{"$f":"VLOOKUP(F652,Soutez!B:D,3,FALSE)","v":2020},28,1563,0.91500000000000004,2818,2578,"x",null,"LS 1-d","FK",""]
["Vaclav Hrdina",1984,"M","Letkov","CZ/C1","Toužim Cup 2020 - Klub",{"$f":"VLOOKUP(F653,Soutez!B:C,2,FALSE)","v":"CZ"},{"$f":"VLOOKUP(F653,Soutez!B:D,3,FALSE)","v":2020},29,798,0.91500000000000004,1437,1315,"x",null,"LS 1-c","AN",""]
["Frantisek Brozman",1960,"M","Tachov","CZ/C1","Toužim Cup 2020 - Klub",{"$f":"VLOOKUP(F654,Soutez!B:C,2,FALSE)","v":"CZ"},{"$f":"VLOOKUP(F654,Soutez!B:D,3,FALSE)","v":2020},30,399,0.91500000000000004,667,610,"x",null,"Astir CS Jeans","FB",""]
["Ondrej Dupal",1966,"M","GAC Benešov","CZ/C1","Toužim Cup 2020 - Kombi",{"$f":"VLOOKUP(F655,Soutez!B:C,2,FALSE)","v":"CZ"},{"$f":"VLOOKUP(F655,Soutez!B:D,3,FALSE)","v":2020},1,4021,0.91,{"$f":"ROUND(J655/MAX($J$655:$J$677)*10000*0.7+(MAX($I$655:$I$677)-I655)/(MAX($I$655:$I$677)-1)*10000*0.3,0)","v":10000},9100,null,null,"ASG 29 18m","GO",""]
["Vratislav Sram",1966,"M","Broumov","CZ/C2","Toužim Cup 2020 - Kombi",{"$f":"VLOOKUP(F656,Soutez!B:C,2,FALSE)","v":"CZ"},{"$f":"VLOOKUP(F656,Soutez!B:D,3,FALSE)","v":2020},2,3650,0.91,{"$f":"ROUND(J656/MAX($J$655:$J$677)*10000*0.7+(MAX($I$655:$I$677)-I656)/(MAX($I$655:$I$677)-1)*10000*0.3,0)","v":9218},8388,"x",null,"Nimbus 2M","NB",""]
["Marek Blatak",1969,"M","Šumperk","CZ/M","Toužim Cup 2020 - Kombi",{"$f":"VLOOKUP(F657,Soutez!B:C,2,FALSE)","v":"CZ"},{"$f":"VLOOKUP(F657,Soutez!B:D,3,FALSE)","v":2020},3,3551,0.91,{"$f":"ROUND(J657/MAX($J$655:$J$677)*10000*0.7+(MAX($I$655:$I$677)-I657)/(MAX($I$655:$I$677)-1)*10000*0.3,0)","v":8909},8107,null,null,"Duo Discus T","ZS",""]
["Karel Benisek 76",1976,"M","Toužim","CZ/C1","Toužim Cup 2020 - Kombi",{"$f":"VLOOKUP(F658,Soutez!B:C,2,FALSE)","v":"CZ"},{"$f":"VLOOKUP(F658,Soutez!B:D,3,FALSE)","v":2020},4,3467,0.91,{"$f":"ROUND(J658/MAX($J$655:$J$677)*10000*0.7+(MAX($I$655:$I$677)-I658)/(MAX($I$655:$I$677)-1)*10000*0.3,0)","v":8626},7850,"x",null,"Ventus cT 17,6m","KB",""]
["Tomas Rendla",1973,"M","Zbraslavice","CZ/C1","Toužim Cup 2020 - Kombi",{"$f":"VLOOKUP(F659,Soutez!B:C,2,FALSE)","v":"CZ"},{"$f":"VLOOKUP(F659,Soutez!B:D,3,FALSE)","v":2020},5,3432,0.91,8429,7670,null,null,"EB 29","EX",""]
["Karel Krobath",null,"M","SFC Tulln","AT","Toužim Cup 2020 - Kombi",{"$f":"VLOOKUP(F660,Soutez!B:C,2,FALSE)","v":"CZ"},{"$f":"VLOOKUP(F660,Soutez!B:D,3,FALSE)","v":2020},6,3373,0.91,8190,7453,null,null,"HPH 304 Shark","Q","Není v databázi"]
["Zdenek Schenk",{"$f":"VLOOKUP(A661,Pilot,2,0)","v":1972},{"$f":"VLOOKUP(A661,Pilot,5,0)","v":"M"},{"$f":"VLOOKUP(A661,Pilot,3,0)","v":"Hranice"},{"$f":"VLOOKUP(A661,Pilot,4,0)","v":"CZ/M"},"Toužim Cup 2020 - Kombi",{"$f":"VLOOKUP(F661,Soutez!B:C,2,FALSE)","v":"CZ"},{"$f":"VLOOKUP(F661,Soutez!B:D,3,FALSE)","v":2020},7,3228,0.91,7801,7099,"x",null,"Ventus cM 17,6m","ŠNeK",""]
["Frantisek Myska",1968,"M","Most","CZ/C2","Toužim Cup 2020 - Kombi",{"$f":"VLOOKUP(F662,Soutez!B:C,2,FALSE)","v":"CZ"},{"$f":"VLOOKUP(F662,Soutez!B:D,3,FALSE)","v":2020},8,3172,0.91,7567,6886,"x",null,"Ventus bT 16,6m","SK",""]
["Michaela Rendlova",2004,"F","Toužim","CZ/C1","Toužim Cup 2020 - Kombi",{"$f":"VLOOKUP(F663,Soutez!B:C,2,FALSE)","v":"CZ"},{"$f":"VLOOKUP(F663,Soutez!B:D,3,FALSE)","v":2020},9,3150,0.91,7393,6728,null,null,"JS 1 Revelation 18m","VX","Junior v roce 2023"]
["Petr Bartak",1984,"M","Letkov","CZ/C1","Toužim Cup 2020 - Kombi",{"$f":"VLOOKUP(F664,Soutez!B:C,2,FALSE)","v":"CZ"},{"$f":"VLOOKUP(F664,Soutez!B:D,3,FALSE)","v":2020},10,2876,0.91,6779,6169,"x",null,"LS 6 18m","BL",""]
["Jaroslav Hot",1965,"M","Toužim","CZ/C1","Toužim Cup 2020 - Kombi",{"$f":"VLOOKUP(F665,Soutez!B:C,2,FALSE)","v":"CZ"},{"$f":"VLOOKUP(F665,Soutez!B:D,3,FALSE)","v":2020},11,2838,0.91,6577,5985,"x",null,"Ventus cM 17,6m","SW",""]
["Vaclav Svoboda",1970,"M","Letkov","CZ/C1","Toužim Cup 2020 - Kombi",{"$f":"VLOOKUP(F666,Soutez!B:C,2,FALSE)","v":"CZ"},{"$f":"VLOOKUP(F666,Soutez!B:D,3,FALSE)","v":2020},12,2805,0.91,6383,5809,"x",null,"LS 8 18m",301,""]
["Petr Jiranek 63",1962,"M","Toužim","CZ/C1","Toužim Cup 2020 - Kombi",{"$f":"VLOOKUP(F667,Soutez!B:C,2,FALSE)","v":"CZ"},{"$f":"VLOOKUP(F667,Soutez!B:D,3,FALSE)","v":2020},13,2793,0.91,6226,5666,"x",null,"Ventus cT 17,6m","EB",""]
["Tomas Profeld",1964,"M","Jičín","CZ/C2","Toužim Cup 2020 - Kombi",{"$f":"VLOOKUP(F668,Soutez!B:C,2,FALSE)","v":"CZ"},{"$f":"VLOOKUP(F668,Soutez!B:D,3,FALSE)","v":2020},14,2785,0.91,6076,5529,"x",null,"Ventus 2c / M / T 18m","OZ",""]
["Jan Zanda",1983,"M","Letkov","CZ/C1","Toužim Cup 2020 - Kombi",{"$f":"VLOOKUP(F669,Soutez!B:C,2,FALSE)","v":"CZ"},{"$f":"VLOOKUP(F669,Soutez!B:D,3,FALSE)","v":2020},15,2766,0.91,5906,5374,"x",null,"Duo Discus","DL",""]
["Karl Schiffleithner",null,"M","SFC Tulln",null,"Toužim Cup 2020 - Kombi",{"$f":"VLOOKUP(F670,Soutez!B:C,2,FALSE)","v":"CZ"},{"$f":"VLOOKUP(F670,Soutez!B:D,3,FALSE)","v":2020},16,2684,0.91,{"$f":"ROUND(J670/MAX($J$655:$J$677)*10000*0.7+(MAX($I$655:$I$677)-I670)/(MAX($I$655:$I$677)-1)*10000*0.3,0)","v":5627},5121,null,null,"Ventus 2c / M / T 18m","WG","Není v databázi"]
["Roman Lanzendorf",{"$f":"VLOOKUP(A671,Pilot,2,0)","v":1964},{"$f":"VLOOKUP(A671,Pilot,5,0)","v":"M"},{"$f":"VLOOKUP(A671,Pilot,3,0)","v":"Letkov"},{"$f":"VLOOKUP(A671,Pilot,4,0)","v":"CZ/C1"},"Toužim Cup 2020 - Kombi",{"$f":"VLOOKUP(F671,Soutez!B:C,2,FALSE)","v":"CZ"},{"$f":"VLOOKUP(F671,Soutez!B:D,3,FALSE)","v":2020},17,2541,0.91,5242,4770,"x",null,"Ventus cT 17,6m","AW",""]
["Olga Mokosova",{"$f":"VLOOKUP(A672,Pilot,2,0)","v":1970},{"$f":"VLOOKUP(A672,Pilot,5,0)","v":"F"},{"$f":"VLOOKUP(A672,Pilot,3,0)","v":"Jihlava"},{"$f":"VLOOKUP(A672,Pilot,4,0)","v":"CZ/M"},"Toužim Cup 2020 - Kombi",{"$f":"VLOOKUP(F672,Soutez!B:C,2,FALSE)","v":"CZ"},{"$f":"VLOOKUP(F672,Soutez!B:D,3,FALSE)","v":2020},18,2503,0.91,5039,4585,"x","x","LS 6 18m","MM",""]
["Antonin Kutalek",{"$f":"VLOOKUP(A673,Pilot,2,0)","v":1943},{"$f":"VLOOKUP(A673,Pilot,5,0)","v":"M"},{"$f":"VLOOKUP(A673,Pilot,3,0)","v":"Zábřeh"},{"$f":"VLOOKUP(A673,Pilot,4,0)","v":"CZ/M"},"Toužim Cup 2020 - Kombi",{"$f":"VLOOKUP(F673,Soutez!B:C,2,FALSE)","v":"CZ"},{"$f":"VLOOKUP(F673,Soutez!B:D,3,FALSE)","v":2020},19,2405,0.91,4732,4306,"x",null,"Mini Nimbus","GL",""]
["Ludek Kluger",{"$f":"VLOOKUP(A674,Pilot,2,0)","v":1963},{"$f":"VLOOKUP(A674,Pilot,5,0)","v":"M"},{"$f":"VLOOKUP(A674,Pilot,3,0)","v":"Tábor"},{"$f":"VLOOKUP(A674,Pilot,4,0)","v":"CZ/C1"},"Toužim Cup 2020 - Kombi",{"$f":"VLOOKUP(F674,Soutez!B:C,2,FALSE)","v":"CZ"},{"$f":"VLOOKUP(F674,Soutez!B:D,3,FALSE)","v":2020},20,1987,0.91,3868,3520,"x",null,"HPH 304S Shark","LK",""]
["Milos Pajr",{"$f":"VLOOKUP(A675,Pilot,2,0)","v":1966},{"$f":"VLOOKUP(A675,Pilot,5,0)","v":"M"},{"$f":"VLOOKUP(A675,Pilot,3,0)","v":"Jičín"},{"$f":"VLOOKUP(A675,Pilot,4,0)","v":"CZ/C2"},"Toužim Cup 2020 - Kombi",{"$f":"VLOOKUP(F675,Soutez!B:C,2,FALSE)","v":"CZ"},{"$f":"VLOOKUP(F675,Soutez!B:D,3,FALSE)","v":2020},21,1907,0.91,3593,3270,"x",null,"HPH 304S Shark","MS",""]
["Uwe Tolkmitt",null,"M","LSV Greiz",null,"Toužim Cup 2020 - Kombi",{"$f":"VLOOKUP(F676,Soutez!B:C,2,FALSE)","v":"CZ"},{"$f":"VLOOKUP(F676,Soutez!B:D,3,FALSE)","v":2020},22,1894,0.91,3434,3125,null,null,"DG-400 17m","JO","Není v databázi"]
["Roman Michalek",{"$f":"VLOOKUP(A677,Pilot,2,0)","v":1974},{"$f":"VLOOKUP(A677,Pilot,5,0)","v":"M"},{"$f":"VLOOKUP(A677,Pilot,3,0)","v":"Toužim"},{"$f":"VLOOKUP(A677,Pilot,4,0)","v":"CZ/C1"},"Toužim Cup 2020 - Kombi",{"$f":"VLOOKUP(F677,Soutez!B:C,2,FALSE)","v":"CZ"},{"$f":"VLOOKUP(F677,Soutez!B:D,3,FALSE)","v":2020},23,1682,0.91,2928,2664,"x",null,"DG-400 17m","TK",""]
["Ulf Kern",{"$f":"VLOOKUP(A678,Pilot,2,0)","v":1958},{"$f":"VLOOKUP(A678,Pilot,5,0)","v":"M"},{"$f":"VLOOKUP(A678,Pilot,3,0)","v":"Raná"},{"$f":"VLOOKUP(A678,Pilot,4,0)","v":"CZ/C2"},"Závody Šohajů 2020 - Klub",{"$f":"VLOOKUP(F678,Soutez!B:C,2,FALSE)","v":"CZ"},{"$f":"VLOOKUP(F678,Soutez!B:D,3,FALSE)","v":2020},1,549,0,{"$f":"ROUND(J678/MAX($J$678:$J$692)*10000*0.7+(MAX($I$678:$I$692)-I678)/(MAX($I$678:$I$692)-1)*10000*0.3,0)","v":10000},0,null,null,"VT-125 Sohaj","L",""]
["Sarka Lochova",{"$f":"VLOOKUP(A679,Pilot,2,0)","v":1966},{"$f":"VLOOKUP(A679,Pilot,5,0)","v":"F"},{"$f":"VLOOKUP(A679,Pilot,3,0)","v":"Šumperk"},{"$f":"VLOOKUP(A679,Pilot,4,0)","v":"CZ/M"},"Závody Šohajů 2020 - Klub",{"$f":"VLOOKUP(F679,Soutez!B:C,2,FALSE)","v":"CZ"},{"$f":"VLOOKUP(F679,Soutez!B:D,3,FALSE)","v":2020},2,412,0,{"$f":"ROUND(J679/MAX($J$678:$J$692)*10000*0.7+(MAX($I$678:$I$692)-I679)/(MAX($I$678:$I$692)-1)*10000*0.3,0)","v":8039},0,null,null,"Ka 6",22,""]
["Johannes Fischer, Jiri Lenik",null,null,null,"DE/CZ","Závody Šohajů 2020 - Klub",{"$f":"VLOOKUP(F680,Soutez!B:C,2,FALSE)","v":"CZ"},{"$f":"VLOOKUP(F680,Soutez!B:D,3,FALSE)","v":2020},3,393,0,7582,0,null,null,"Nord 2000","N","Není v databázi"]
["Petr Seibrt",{"$f":"VLOOKUP(A681,Pilot,2,0)","v":1974},{"$f":"VLOOKUP(A681,Pilot,5,0)","v":"M"},{"$f":"VLOOKUP(A681,Pilot,3,0)","v":"Náchod"},{"$f":"VLOOKUP(A681,Pilot,4,0)","v":"CZ/C2"},"Závody Šohajů 2020 - Klub",{"$f":"VLOOKUP(F681,Soutez!B:C,2,FALSE)","v":"CZ"},{"$f":"VLOOKUP(F681,Soutez!B:D,3,FALSE)","v":2020},4,383,0,7241,0,null,null,"Bergfalke IV","RZ2",""]
["Miroslav Mitrus",{"$f":"VLOOKUP(A682,Pilot,2,0)","v":1972},{"$f":"VLOOKUP(A682,Pilot,5,0)","v":"M"},{"$f":"VLOOKUP(A682,Pilot,3,0)","v":"GAC Benešov"},{"$f":"VLOOKUP(A682,Pilot,4,0)","v":"CZ/C1"},"Závody Šohajů 2020 - Klub",{"$f":"VLOOKUP(F682,Soutez!B:C,2,FALSE)","v":"CZ"},{"$f":"VLOOKUP(F682,Soutez!B:D,3,FALSE)","v":2020},4,383,0,7241,0,null,null,"VT-125 Sohaj","F",""]
["Jaromir Hendrych",{"$f":"VLOOKUP(A683,Pilot,2,0)","v":1954},{"$f":"VLOOKUP(A683,Pilot,5,0)","v":"M"},{"$f":"VLOOKUP(A683,Pilot,3,0)","v":"Raná"},{"$f":"VLOOKUP(A683,Pilot,4,0)","v":"CZ/C2"},"Závody Šohajů 2020 - Klub",{"$f":"VLOOKUP(F683,Soutez!B:C,2,FALSE)","v":"CZ"},{"$f":"VLOOKUP(F683,Soutez!B:D,3,FALSE)","v":2020},6,346,0,6340,0,null,null,"VT-125 Sohaj","H",""]
["Jiri Slouka, Jiri Klicnar",null,null,"Medlánky","CZ/M","Závody Šohajů 2020 - Klub",{"$f":"VLOOKUP(F684,Soutez!B:C,2,FALSE)","v":"CZ"},{"$f":"VLOOKUP(F684,Soutez!B:D,3,FALSE)","v":2020},7,333,0,5960,0,null,null,"Lunak LF 107",17,"Není v databázi"]
["Christian Gernot",null,"M",null,"DE","Závody Šohajů 2020 - Klub",{"$f":"VLOOKUP(F685,Soutez!B:C,2,FALSE)","v":"CZ"},{"$f":"VLOOKUP(F685,Soutez!B:D,3,FALSE)","v":2020},8,267,0,4904,0,null,null,"Ka 8",77,"Není v databázi"]
["Zbynek Bican",{"$f":"VLOOKUP(A686,Pilot,2,0)","v":1961},{"$f":"VLOOKUP(A686,Pilot,5,0)","v":"M"},{"$f":"VLOOKUP(A686,Pilot,3,0)","v":"Raná"},{"$f":"VLOOKUP(A686,Pilot,4,0)","v":"CZ/C2"},"Závody Šohajů 2020 - Klub",{"$f":"VLOOKUP(F686,Soutez!B:C,2,FALSE)","v":"CZ"},{"$f":"VLOOKUP(F686,Soutez!B:D,3,FALSE)","v":2020},9,233,0,4257,0,null,null,"VT-130","K",""]
["Michal Ondracek",{"$f":"VLOOKUP(A687,Pilot,2,0)","v":1966},{"$f":"VLOOKUP(A687,Pilot,5,0)","v":"M"},{"$f":"VLOOKUP(A687,Pilot,3,0)","v":"Medlánky"},{"$f":"VLOOKUP(A687,Pilot,4,0)","v":"CZ/M"},"Závody Šohajů 2020 - Klub",{"$f":"VLOOKUP(F687,Soutez!B:C,2,FALSE)","v":"CZ"},{"$f":"VLOOKUP(F687,Soutez!B:D,3,FALSE)","v":2020},10,213,0,{"$f":"ROUND(J687/MAX($J$678:$J$692)*10000*0.7+(MAX($I$678:$I$692)-I687)/(MAX($I$678:$I$692)-1)*10000*0.3,0)","v":3787},0,null,null,"Ka 6 E","2W",""]
["Reinhard Muller",null,"M",null,"DE","Závody Šohajů 2020 - Klub",{"$f":"VLOOKUP(F688,Soutez!B:C,2,FALSE)","v":"CZ"},{"$f":"VLOOKUP(F688,Soutez!B:D,3,FALSE)","v":2020},10,213,0,3787,0,null,null,"MG 23","MG","Není v databázi"]
["Vladimir Abraham",{"$f":"VLOOKUP(A689,Pilot,2,0)","v":1962},{"$f":"VLOOKUP(A689,Pilot,5,0)","v":"M"},{"$f":"VLOOKUP(A689,Pilot,3,0)","v":"Raná"},{"$f":"VLOOKUP(A689,Pilot,4,0)","v":"CZ/C2"},"Závody Šohajů 2020 - Klub",{"$f":"VLOOKUP(F689,Soutez!B:C,2,FALSE)","v":"CZ"},{"$f":"VLOOKUP(F689,Soutez!B:D,3,FALSE)","v":2020},12,194,0,3116,0,null,null,"Ka 6","YZ",""]
["Tomas Mezera, Josef Mezera",null,null,"Raná","CZ/C2","Závody Šohajů 2020 - Klub",{"$f":"VLOOKUP(F690,Soutez!B:C,2,FALSE)","v":"CZ"},{"$f":"VLOOKUP(F690,Soutez!B:D,3,FALSE)","v":2020},13,135,0,2150,0,null,null,"VT-425 Sohaj","T","Není v databázi"]
["Vaclav cerny",{"$f":"VLOOKUP(A691,Pilot,2,0)","v":1949},{"$f":"VLOOKUP(A691,Pilot,5,0)","v":"M"},{"$f":"VLOOKUP(A691,Pilot,3,0)","v":"Slaný"},{"$f":"VLOOKUP(A691,Pilot,4,0)","v":"CZ/C1"},"Závody Šohajů 2020 - Klub",{"$f":"VLOOKUP(F691,Soutez!B:C,2,FALSE)","v":"CZ"},{"$f":"VLOOKUP(F691,Soutez!B:D,3,FALSE)","v":2020},14,109,0,1604,0,null,null,"Lunak LF 107","W15",""]
["Edgar Kraus",null,"M",null,"DE","Závody Šohajů 2020 - Klub",{"$f":"VLOOKUP(F692,Soutez!B:C,2,FALSE)","v":"CZ"},{"$f":"VLOOKUP(F692,Soutez!B:D,3,FALSE)","v":2020},15,106,{"$f":"VLOOKUP(F692,Soutez,12,0)","v":0},1352,0,null,null,"L-Spatz","L55","Není v databázi"]
["Michal Kratochvil",{"$f":"VLOOKUP(A693,Pilot,2,0)","v":1984},{"$f":"VLOOKUP(A693,Pilot,5,0)","v":"M"},{"$f":"VLOOKUP(A693,Pilot,3,0)","v":"Slaný"},{"$f":"VLOOKUP(A693,Pilot,4,0)","v":"CZ/C1"},"GGP MB 2020 - Gradient GP",{"$f":"VLOOKUP(F693,Soutez!B:C,2,FALSE)","v":"CZ"},{"$f":"VLOOKUP(F693,Soutez!B:D,3,FALSE)","v":2020},1,21,0.9,{"$f":"ROUND((MAX($I$693:$I$702)-I693)/(MAX($I$693:$I$702)-1)*10000,0)","v":10000},{"$f":"ROUND(K693*L693,0)","v":9000},"x",null,"VSO-10",56,{"$f":"IF(ISERROR(VLOOKUP(A693,Pilot,6,0)),\"Není v databázi\",VLOOKUP(A693,Pilot,6,0))","v":""}]
["Jan Hejret",{"$f":"VLOOKUP(A694,Pilot,2,0)","v":1976},{"$f":"VLOOKUP(A694,Pilot,5,0)","v":"M"},{"$f":"VLOOKUP(A694,Pilot,3,0)","v":"Jaroměř"},{"$f":"VLOOKUP(A694,Pilot,4,0)","v":"CZ/C2"},"GGP MB 2020 - Gradient GP",{"$f":"VLOOKUP(F694,Soutez!B:C,2,FALSE)","v":"CZ"},{"$f":"VLOOKUP(F694,Soutez!B:D,3,FALSE)","v":2020},2,17,0.9,8889,{"$f":"ROUND(K694*L694,0)","v":8000},"x",null,"VSO-10","J6",""]
["Barbora Moravcova",{"$f":"VLOOKUP(A695,Pilot,2,0)","v":1994},{"$f":"VLOOKUP(A695,Pilot,5,0)","v":"F"},{"$f":"VLOOKUP(A695,Pilot,3,0)","v":"Zbraslavice"},{"$f":"VLOOKUP(A695,Pilot,4,0)","v":"CZ/C1"},"GGP MB 2020 - Gradient GP",{"$f":"VLOOKUP(F695,Soutez!B:C,2,FALSE)","v":"CZ"},{"$f":"VLOOKUP(F695,Soutez!B:D,3,FALSE)","v":2020},3,15,0.9,7778,7000,null,null,"VSO-10","F2",""]
["David Vrchota",{"$f":"VLOOKUP(A696,Pilot,2,0)","v":1976},{"$f":"VLOOKUP(A696,Pilot,5,0)","v":"M"},{"$f":"VLOOKUP(A696,Pilot,3,0)","v":"Jaroměř"},{"$f":"VLOOKUP(A696,Pilot,4,0)","v":"CZ/C2"},"GGP MB 2020 - Gradient GP",{"$f":"VLOOKUP(F696,Soutez!B:C,2,FALSE)","v":"CZ"},{"$f":"VLOOKUP(F696,Soutez!B:D,3,FALSE)","v":2020},4,10,0.9,6667,6000,null,null,"VSO-10",60,""]
["Bednarik &",null,null,"Kunovice",null,"GGP MB 2020 - Gradient GP",{"$f":"VLOOKUP(F697,Soutez!B:C,2,FALSE)","v":"CZ"},{"$f":"VLOOKUP(F697,Soutez!B:D,3,FALSE)","v":2020},5,8,0.9,5556,5000,null,null,"VSO-10",94,"Není v databázi"]
["Martin Krizovic",{"$f":"VLOOKUP(A698,Pilot,2,0)","v":1971},{"$f":"VLOOKUP(A698,Pilot,5,0)","v":"M"},{"$f":"VLOOKUP(A698,Pilot,3,0)","v":"Přibyslav"},{"$f":"VLOOKUP(A698,Pilot,4,0)","v":"CZ/C2"},"GGP MB 2020 - Gradient GP",{"$f":"VLOOKUP(F698,Soutez!B:C,2,FALSE)","v":"CZ"},{"$f":"VLOOKUP(F698,Soutez!B:D,3,FALSE)","v":2020},5,8,0.9,5556,5000,"x",null,"VSO-10","G3",""]
["Jan Zdvorak",1980,"M","Roudnice","CZ/C2","GGP MB 2020 - Gradient GP",{"$f":"VLOOKUP(F699,Soutez!B:C,2,FALSE)","v":"CZ"},{"$f":"VLOOKUP(F699,Soutez!B:D,3,FALSE)","v":2020},7,4,0.9,3333,3000,"x",null,"VSO-10",6,""]
["Karel Policky",1950,"M","Kolín","CZ/C1","GGP MB 2020 - Gradient GP",{"$f":"VLOOKUP(F700,Soutez!B:C,2,FALSE)","v":"CZ"},{"$f":"VLOOKUP(F700,Soutez!B:D,3,FALSE)","v":2020},8,3,0.9,2222,2000,"x",null,"VSO-10",47,""]
["Libor Kovarnik",1968,"M","Mladá Boleslav","CZ/C1","GGP MB 2020 - Gradient GP",{"$f":"VLOOKUP(F701,Soutez!B:C,2,FALSE)","v":"CZ"},{"$f":"VLOOKUP(F701,Soutez!B:D,3,FALSE)","v":2020},9,2,0.9,1111,{"$f":"ROUND(K701*L701,0)","v":1000},"x",null,"VSO-10","C3",""]
["Jaroslav Kral",1961,"M","Přibyslav","CZ/C2","GGP MB 2020 - Gradient GP",{"$f":"VLOOKUP(F702,Soutez!B:C,2,FALSE)","v":"CZ"},{"$f":"VLOOKUP(F702,Soutez!B:D,3,FALSE)","v":2020},10,0,0.9,0,0,null,null,"VSO-10",3,""]
["Ondrej Bordovsky",1983,"M","Krnov","CZ/M","GGP MB 2020 - Klub GP",{"$f":"VLOOKUP(F703,Soutez!B:C,2,FALSE)","v":"CZ"},{"$f":"VLOOKUP(F703,Soutez!B:D,3,FALSE)","v":2020},1,32,0.92,{"$f":"ROUND((MAX($I$703:$I$715)-I703)/(MAX($I$703:$I$715)-1)*10000,0)","v":10000},{"$f":"ROUND(K703*L703,0)","v":9200},null,null,"Std. Cirrus","BW",""]
["Jaroslav Tomana",1975,"M","Zbraslavice","CZ/C1","GGP MB 2020 - Klub GP",{"$f":"VLOOKUP(F704,Soutez!B:C,2,FALSE)","v":"CZ"},{"$f":"VLOOKUP(F704,Soutez!B:D,3,FALSE)","v":2020},2,29,0.92,9091,{"$f":"ROUND(K704*L704,0)","v":8364},null,null,"C-101BC Pegase WL","RT",""]
["Lukas Hynek",1979,"M","Dvůr Králové","CZ/C2","GGP MB 2020 - Klub GP",{"$f":"VLOOKUP(F705,Soutez!B:C,2,FALSE)","v":"CZ"},{"$f":"VLOOKUP(F705,Soutez!B:D,3,FALSE)","v":2020},3,24,0.92,8182,7527,"x",null,"Cirrus/Cirrus VTC","2W",""]
["Jan Zahradka",1981,"M","Hodkovice","CZ/C2","GGP MB 2020 - Klub GP",{"$f":"VLOOKUP(F706,Soutez!B:C,2,FALSE)","v":"CZ"},{"$f":"VLOOKUP(F706,Soutez!B:D,3,FALSE)","v":2020},4,21,0.92,7273,6691,null,null,"Std. Cirrus","AR",""]
["Ondrej Dvorak 98",1998,"M","Mladá Boleslav","CZ/C1","GGP MB 2020 - Klub GP",{"$f":"VLOOKUP(F707,Soutez!B:C,2,FALSE)","v":"CZ"},{"$f":"VLOOKUP(F707,Soutez!B:D,3,FALSE)","v":2020},4,21,0.92,{"$f":"ROUND((MAX($I$703:$I$715)-I707)/(MAX($I$703:$I$715)-1)*10000,0)","v":7273},6691,"x",null,"ASW 15 b","MB","Junior v roce 2023"]
["Katerina Vojtova",1983,"F","Slaný","CZ/C1","GGP MB 2020 - Klub GP",{"$f":"VLOOKUP(F708,Soutez!B:C,2,FALSE)","v":"CZ"},{"$f":"VLOOKUP(F708,Soutez!B:D,3,FALSE)","v":2020},6,17,0.92,5455,5019,"x","x","Std. Cirrus","KAC",""]
["Linda Vasatova",1990,"F","Mladá Boleslav","CZ/C1","GGP MB 2020 - Klub GP",{"$f":"VLOOKUP(F709,Soutez!B:C,2,FALSE)","v":"CZ"},{"$f":"VLOOKUP(F709,Soutez!B:D,3,FALSE)","v":2020},7,15,0.92,4545,4181,"x","x","ASW 19","XS",""]
["Jan Zezula",1979,"M","Letňany","CZ/C1","GGP MB 2020 - Klub GP",{"$f":"VLOOKUP(F710,Soutez!B:C,2,FALSE)","v":"CZ"},{"$f":"VLOOKUP(F710,Soutez!B:D,3,FALSE)","v":2020},8,10,0.92,3636,3345,null,null,"ASW 19","HD",""]
["David Sachl",1978,"M","Kralupy","CZ/C1","GGP MB 2020 - Klub GP",{"$f":"VLOOKUP(F711,Soutez!B:C,2,FALSE)","v":"CZ"},{"$f":"VLOOKUP(F711,Soutez!B:D,3,FALSE)","v":2020},8,10,0.92,3636,3345,null,null,"DG 300 Club ELAN","BK",""]
["Jan Jindra",1981,"M","Roudnice","CZ/C2","GGP MB 2020 - Klub GP",{"$f":"VLOOKUP(F712,Soutez!B:C,2,FALSE)","v":"CZ"},{"$f":"VLOOKUP(F712,Soutez!B:D,3,FALSE)","v":2020},10,9,0.92,1818,1673,"x",null,"Std. Cirrus WL","FD",""]
["Matej Krestes",1986,"M","Slaný","CZ/C1","GGP MB 2020 - Klub GP",{"$f":"VLOOKUP(F713,Soutez!B:C,2,FALSE)","v":"CZ"},{"$f":"VLOOKUP(F713,Soutez!B:D,3,FALSE)","v":2020},11,8,0.92,909,{"$f":"ROUND(K713*L713,0)","v":836},null,null,"Std. Cirrus","CON",""]
["Tomas Hlavacek",1984,"M","Mladá Boleslav","CZ/C1","GGP MB 2020 - Klub GP",{"$f":"VLOOKUP(F714,Soutez!B:C,2,FALSE)","v":"CZ"},{"$f":"VLOOKUP(F714,Soutez!B:D,3,FALSE)","v":2020},12,0,0.92,0,0,null,null,"ASW 19 b","AH",""]
["Martin Marek",1967,"M","Roudnice","CZ/C2","GGP MB 2020 - Klub GP",{"$f":"VLOOKUP(F715,Soutez!B:C,2,FALSE)","v":"CZ"},{"$f":"VLOOKUP(F715,Soutez!B:D,3,FALSE)","v":2020},12,0,0.92,0,0,null,null,"Std. Cirrus","2X",""]
["Lenka Kuthanova",1960,"F","Tábor","CZ/C1","GGP MB 2020 - Pohár MV - Kombi",{"$f":"VLOOKUP(F716,Soutez!B:C,2,FALSE)","v":"CZ"},{"$f":"VLOOKUP(F716,Soutez!B:D,3,FALSE)","v":2020},1,2524,0.93,{"$f":"ROUND(J716/MAX($J$716:$J$734)*10000*0.7+(MAX($I$716:$I$734)-I716)/(MAX($I$716:$I$734)-1)*10000*0.3,0)","v":10000},{"$f":"ROUND(K716*L716,0)","v":9300},"x","x","JS1 CTJ 18 EVO","LX",""]
["Alena Netusilova",1970,"F","Zbraslavice","CZ/C1","GGP MB 2020 - Pohár MV - Kombi",{"$f":"VLOOKUP(F717,Soutez!B:C,2,FALSE)","v":"CZ"},{"$f":"VLOOKUP(F717,Soutez!B:D,3,FALSE)","v":2020},2,2446,0.93,9617,{"$f":"ROUND(K717*L717,0)","v":8944},null,null,"JS 1 CTJ 18 EVO","JX",""]
["Karel Novak",1993,"M","Mladá Boleslav","CZ/C1","GGP MB 2020 - Pohár MV - Kombi",{"$f":"VLOOKUP(F718,Soutez!B:C,2,FALSE)","v":"CZ"},{"$f":"VLOOKUP(F718,Soutez!B:D,3,FALSE)","v":2020},3,2343,0.93,9165,8523,null,null,"LS 8, 15m","AU",""]
["Jan Dersak 69",1969,"M","Kralupy","CZ/C1","GGP MB 2020 - Pohár MV - Kombi",{"$f":"VLOOKUP(F719,Soutez!B:C,2,FALSE)","v":"CZ"},{"$f":"VLOOKUP(F719,Soutez!B:D,3,FALSE)","v":2020},4,2234,0.93,8696,8087,"x",null,"HPH 304SJ Shark","DJ",""]
["Radek Krejcirik",1991,"M","Hranice","CZ/M","GGP MB 2020 - Pohár MV - Kombi",{"$f":"VLOOKUP(F720,Soutez!B:C,2,FALSE)","v":"CZ"},{"$f":"VLOOKUP(F720,Soutez!B:D,3,FALSE)","v":2020},5,2215,0.93,8476,7883,null,null,"JS 1 CTJ 18 EVO","ZF",""]
["Ivan Novak",1962,"M","Mladá Boleslav","CZ/C1","GGP MB 2020 - Pohár MV - Kombi",{"$f":"VLOOKUP(F721,Soutez!B:C,2,FALSE)","v":"CZ"},{"$f":"VLOOKUP(F721,Soutez!B:D,3,FALSE)","v":2020},6,2167,0.93,8177,7605,null,null,"Std. Cirrus","DI",""]
["Vojtech Hajek",1987,"M","Mladá Boleslav","CZ/C1","GGP MB 2020 - Pohár MV - Kombi",{"$f":"VLOOKUP(F722,Soutez!B:C,2,FALSE)","v":"CZ"},{"$f":"VLOOKUP(F722,Soutez!B:D,3,FALSE)","v":2020},7,2139,0.93,7932,7377,"x",null,"Duo Discus 700kg",777,""]
["Hana Treslova",1991,"F","Raná","CZ/C2","GGP MB 2020 - Pohár MV - Kombi",{"$f":"VLOOKUP(F723,Soutez!B:C,2,FALSE)","v":"CZ"},{"$f":"VLOOKUP(F723,Soutez!B:D,3,FALSE)","v":2020},8,2062,0.93,7552,7023,null,null,"JS 3 18m","XM",""]
["Jan Smaha",1958,"M","Česká Lípa","CZ/C2","GGP MB 2020 - Pohár MV - Kombi",{"$f":"VLOOKUP(F724,Soutez!B:C,2,FALSE)","v":"CZ"},{"$f":"VLOOKUP(F724,Soutez!B:D,3,FALSE)","v":2020},9,2009,0.93,7238,6731,null,null,"ASW-15B","CW",""]
["Antonin Bordovsky",1951,"M","Krnov","CZ/M","GGP MB 2020 - Pohár MV - Kombi",{"$f":"VLOOKUP(F725,Soutez!B:C,2,FALSE)","v":"CZ"},{"$f":"VLOOKUP(F725,Soutez!B:D,3,FALSE)","v":2020},10,1970,0.93,6964,6477,"x",null,"Ventus C 17,6","SEX",""]
["Zdenek Boruvka 54",1954,"M","Jičín","CZ/C2","GGP MB 2020 - Pohár MV - Kombi",{"$f":"VLOOKUP(F726,Soutez!B:C,2,FALSE)","v":"CZ"},{"$f":"VLOOKUP(F726,Soutez!B:D,3,FALSE)","v":2020},11,1772,0.93,6248,5811,null,null,"LS 8, 15m","ZB",""]
["Martin Soucek",1975,"M","Mladá Boleslav","CZ/C1","GGP MB 2020 - Pohár MV - Kombi",{"$f":"VLOOKUP(F727,Soutez!B:C,2,FALSE)","v":"CZ"},{"$f":"VLOOKUP(F727,Soutez!B:D,3,FALSE)","v":2020},12,1691,0.93,5856,5446,"x",null,"DG200 17m","MS",""]
["Jiri Slemr",1979,"M","Vysoké Mýto","CZ/C2","GGP MB 2020 - Pohár MV - Kombi",{"$f":"VLOOKUP(F728,Soutez!B:C,2,FALSE)","v":"CZ"},{"$f":"VLOOKUP(F728,Soutez!B:D,3,FALSE)","v":2020},13,1647,0.93,5568,5178,"x",null,"Discus b voda",65,""]
["Jana Treslova",1963,"F","Raná","CZ/C2","GGP MB 2020 - Pohár MV - Kombi",{"$f":"VLOOKUP(F729,Soutez!B:C,2,FALSE)","v":"CZ"},{"$f":"VLOOKUP(F729,Soutez!B:D,3,FALSE)","v":2020},14,1586,0.93,5232,4866,null,null,"Ventus 2 a","AX",""]
["Daniela Frankova",1997,"M","Jaroměř","CZ/C2","GGP MB 2020 - Pohár MV - Kombi",{"$f":"VLOOKUP(F730,Soutez!B:C,2,FALSE)","v":"CZ"},{"$f":"VLOOKUP(F730,Soutez!B:D,3,FALSE)","v":2020},15,1512,0.93,4860,4520,"x",null,"Janus b 18.2m","BV",""]
["Tomas Hynek",2002,"M","Dvůr Králové","CZ/C2","GGP MB 2020 - Pohár MV - Kombi",{"$f":"VLOOKUP(F731,Soutez!B:C,2,FALSE)","v":"CZ"},{"$f":"VLOOKUP(F731,Soutez!B:D,3,FALSE)","v":2020},16,1383,0.93,4336,{"$f":"ROUND(K731*L731,0)","v":4032},null,null,"DG-200 17m","IQ","Junior v roce 2023"]
["Marek Kornec",1957,"M","Dvůr Králové","CZ/C2","GGP MB 2020 - Pohár MV - Kombi",{"$f":"VLOOKUP(F732,Soutez!B:C,2,FALSE)","v":"CZ"},{"$f":"VLOOKUP(F732,Soutez!B:D,3,FALSE)","v":2020},17,1371,0.93,4136,3846,null,null,"Janus C FG-bez vody","KSS",""]
["Zbynek Kuchta",1976,"M","Klatovy","CZ/C1","GGP MB 2020 - Pohár MV - Kombi",{"$f":"VLOOKUP(F733,Soutez!B:C,2,FALSE)","v":"CZ"},{"$f":"VLOOKUP(F733,Soutez!B:D,3,FALSE)","v":2020},18,262,0.93,893,830,"x",null,"G102 CS77 bez vody","I",""]
["Milos Rejzl",1962,"M","Klatovy","CZ/C1","GGP MB 2020 - Pohár MV - Kombi",{"$f":"VLOOKUP(F734,Soutez!B:C,2,FALSE)","v":"CZ"},{"$f":"VLOOKUP(F734,Soutez!B:D,3,FALSE)","v":2020},19,209,{"$f":"VLOOKUP(F734,Soutez,12,0)","v":0.93},{"$f":"ROUND(J734/MAX($J$716:$J$734)*10000*0.7+(MAX($I$716:$I$734)-I734)/(MAX($I$716:$I$734)-1)*10000*0.3,0)","v":580},{"$f":"ROUND(K734*L734,0)","v":539},"x",null,"Nimbus 2","MR",{"$f":"IF(ISERROR(VLOOKUP(A734,Pilot,6,0)),\"Není v databázi\",VLOOKUP(A734,Pilot,6,0))","v":""}]
["Elena Fergnani",null,null,"Italy",null,"WWGC 2020 - Klub",{"$f":"VLOOKUP(F735,Soutez!B:C,2,FALSE)","v":"AU"},{"$f":"VLOOKUP(F735,Soutez!B:D,3,FALSE)","v":2020},1,7859,1.0549999999999999,{"$f":"ROUND(J735/MAX($J$735:$J$751)*10000*0.7+(MAX($I$735:$I$751)-I735)/(MAX($I$735:$I$751)-1)*10000*0.3,0)","v":10000},{"$f":"ROUND(K735*L735,0)","v":10550},null,null,"Discus",40,"Není v databázi"]
["Christine Grote",null,null,"Germany",null,"WWGC 2020 - Klub",{"$f":"VLOOKUP(F736,Soutez!B:C,2,FALSE)","v":"AU"},{"$f":"VLOOKUP(F736,Soutez!B:D,3,FALSE)","v":2020},2,7735,1.0549999999999999,{"$f":"ROUND(J736/MAX($J$735:$J$751)*10000*0.7+(MAX($I$735:$I$751)-I736)/(MAX($I$735:$I$751)-1)*10000*0.3,0)","v":9702},{"$f":"ROUND(K736*L736,0)","v":10236},null,null,"LS 4","CQL","Není v databázi"]
["Céline Rault",null,null,"France",null,"WWGC 2020 - Klub",{"$f":"VLOOKUP(F737,Soutez!B:C,2,FALSE)","v":"AU"},{"$f":"VLOOKUP(F737,Soutez!B:D,3,FALSE)","v":2020},3,7708,1.0549999999999999,9491,10013,null,null,"LS 4B","V57","Není v databázi"]
["Jo Davis",null,null,"Australia",null,"WWGC 2020 - Klub",{"$f":"VLOOKUP(F738,Soutez!B:C,2,FALSE)","v":"AU"},{"$f":"VLOOKUP(F738,Soutez!B:D,3,FALSE)","v":2020},4,7703,1.0549999999999999,9299,9810,null,null,"ASW 20","IIC","Není v databázi"]
["Sabrina Vogt",null,null,"Germany",null,"WWGC 2020 - Klub",{"$f":"VLOOKUP(F739,Soutez!B:C,2,FALSE)","v":"AU"},{"$f":"VLOOKUP(F739,Soutez!B:D,3,FALSE)","v":2020},5,7667,1.0549999999999999,9079,9578,null,null,"LS 4 WL","BM","Není v databázi"]
["Claudia Hill",null,null,"United Kingdom",null,"WWGC 2020 - Klub",{"$f":"VLOOKUP(F740,Soutez!B:C,2,FALSE)","v":"AU"},{"$f":"VLOOKUP(F740,Soutez!B:D,3,FALSE)","v":2020},6,7402,1.0549999999999999,8655,9131,null,null,"LS 4","WH","Není v databázi"]
["Judyta Czyz",null,null,"Poland",null,"WWGC 2020 - Klub",{"$f":"VLOOKUP(F741,Soutez!B:C,2,FALSE)","v":"AU"},{"$f":"VLOOKUP(F741,Soutez!B:D,3,FALSE)","v":2020},7,7378,1.0549999999999999,8447,8912,null,null,"ASW 19","J1","Není v databázi"]
["Kinga Tchorz",null,null,"Poland",null,"WWGC 2020 - Klub",{"$f":"VLOOKUP(F742,Soutez!B:C,2,FALSE)","v":"AU"},{"$f":"VLOOKUP(F742,Soutez!B:D,3,FALSE)","v":2020},8,7324,1.0549999999999999,8211,8663,null,null,"SZD-48-3","BI","Není v databázi"]
["Barbora Moravcova",{"$f":"VLOOKUP(A743,Pilot,2,0)","v":1994},{"$f":"VLOOKUP(A743,Pilot,5,0)","v":"F"},{"$f":"VLOOKUP(A743,Pilot,3,0)","v":"Zbraslavice"},{"$f":"VLOOKUP(A743,Pilot,4,0)","v":"CZ/C1"},"WWGC 2020 - Klub",{"$f":"VLOOKUP(F743,Soutez!B:C,2,FALSE)","v":"AU"},{"$f":"VLOOKUP(F743,Soutez!B:D,3,FALSE)","v":2020},9,7163,1.0549999999999999,7880,8313,null,null,"ASW 19B","UKE",""]
["Jenny Ganderton",null,null,"Australia",null,"WWGC 2020 - Klub",{"$f":"VLOOKUP(F744,Soutez!B:C,2,FALSE)","v":"AU"},{"$f":"VLOOKUP(F744,Soutez!B:D,3,FALSE)","v":2020},10,7091,1.0549999999999999,{"$f":"ROUND(J744/MAX($J$735:$J$751)*10000*0.7+(MAX($I$735:$I$751)-I744)/(MAX($I$735:$I$751)-1)*10000*0.3,0)","v":7628},8048,null,null,"Mosquito","KW","Není v databázi"]
["Ines Engelhardt",null,null,"Germany",null,"WWGC 2020 - Klub",{"$f":"VLOOKUP(F745,Soutez!B:C,2,FALSE)","v":"AU"},{"$f":"VLOOKUP(F745,Soutez!B:D,3,FALSE)","v":2020},11,7040,1.0549999999999999,7396,7803,null,null,"LS 4","AJ","Není v databázi"]
["Klara Teichmannova",{"$f":"VLOOKUP(A746,Pilot,2,0)","v":1993},{"$f":"VLOOKUP(A746,Pilot,5,0)","v":"F"},{"$f":"VLOOKUP(A746,Pilot,3,0)","v":"Hronov"},{"$f":"VLOOKUP(A746,Pilot,4,0)","v":"CZ/C2"},"WWGC 2020 - Klub",{"$f":"VLOOKUP(F746,Soutez!B:C,2,FALSE)","v":"AU"},{"$f":"VLOOKUP(F746,Soutez!B:D,3,FALSE)","v":2020},12,7022,1.0549999999999999,7192,7588,null,"x","LS 4","CQO",""]
["Amélie Audier",null,null,"France",null,"WWGC 2020 - Klub",{"$f":"VLOOKUP(F747,Soutez!B:C,2,FALSE)","v":"AU"},{"$f":"VLOOKUP(F747,Soutez!B:D,3,FALSE)","v":2020},13,6954,1.0549999999999999,6944,7326,null,null,"LS 4","SC","Není v databázi"]
["Kathryn Fosha",null,null,"USA",null,"WWGC 2020 - Klub",{"$f":"VLOOKUP(F748,Soutez!B:C,2,FALSE)","v":"AU"},{"$f":"VLOOKUP(F748,Soutez!B:D,3,FALSE)","v":2020},14,6916,1.0549999999999999,6723,7093,null,null,"LS 1 f","MF","Není v databázi"]
["Petra Piskata",{"$f":"VLOOKUP(A749,Pilot,2,0)","v":1989},{"$f":"VLOOKUP(A749,Pilot,5,0)","v":"F"},{"$f":"VLOOKUP(A749,Pilot,3,0)","v":"Luhačovice"},{"$f":"VLOOKUP(A749,Pilot,4,0)","v":"CZ/M"},"WWGC 2020 - Klub",{"$f":"VLOOKUP(F749,Soutez!B:C,2,FALSE)","v":"AU"},{"$f":"VLOOKUP(F749,Soutez!B:D,3,FALSE)","v":2020},15,6576,1.0549999999999999,6232,6575,null,null,"LS 1 f","JO",""]
["Sylvia Grandstaff",null,null,"USA",null,"WWGC 2020 - Klub",{"$f":"VLOOKUP(F750,Soutez!B:C,2,FALSE)","v":"AU"},{"$f":"VLOOKUP(F750,Soutez!B:D,3,FALSE)","v":2020},16,6299,1.0549999999999999,5798,6117,null,null,"LS 7 WL","XJY","Není v databázi"]
["Kerrie Claffey",null,null,"Australia",null,"WWGC 2020 - Klub",{"$f":"VLOOKUP(F751,Soutez!B:C,2,FALSE)","v":"AU"},{"$f":"VLOOKUP(F751,Soutez!B:D,3,FALSE)","v":2020},17,5668,1.0549999999999999,5048,5326,null,null,"SZD 55","T1","Není v databázi"]
["Sarah Arnold",null,null,"USA",null,"WWGC 2020 - Std",{"$f":"VLOOKUP(F752,Soutez!B:C,2,FALSE)","v":"AU"},{"$f":"VLOOKUP(F752,Soutez!B:D,3,FALSE)","v":2020},1,7998,1.0699999999999998,{"$f":"ROUND(J752/MAX($J$752:$J$767)*10000*0.7+(MAX($I$752:$I$767)-I752)/(MAX($I$752:$I$767)-1)*10000*0.3,0)","v":10000},{"$f":"ROUND(K752*L752,0)","v":10700},null,null,"Discus 2","XBY","Není v databázi"]
["Aude Grangeray",null,null,"France",null,"WWGC 2020 - Std",{"$f":"VLOOKUP(F753,Soutez!B:C,2,FALSE)","v":"AU"},{"$f":"VLOOKUP(F753,Soutez!B:D,3,FALSE)","v":2020},2,7932,1.0699999999999998,9742,{"$f":"ROUND(K753*L753,0)","v":10424},null,null,"Discus 2a","ET","Není v databázi"]
["Ayala Truelove",null,null,"United Kingdom",null,"WWGC 2020 - Std",{"$f":"VLOOKUP(F754,Soutez!B:C,2,FALSE)","v":"AU"},{"$f":"VLOOKUP(F754,Soutez!B:D,3,FALSE)","v":2020},3,7601,1.0699999999999998,9253,9901,null,null,"LS 8","L7","Není v databázi"]
["Dana Novakova",{"$f":"VLOOKUP(A755,Pilot,2,0)","v":1965},{"$f":"VLOOKUP(A755,Pilot,5,0)","v":"F"},{"$f":"VLOOKUP(A755,Pilot,3,0)","v":"Mladá Boleslav"},{"$f":"VLOOKUP(A755,Pilot,4,0)","v":"CZ/C1"},"WWGC 2020 - Std",{"$f":"VLOOKUP(F755,Soutez!B:C,2,FALSE)","v":"AU"},{"$f":"VLOOKUP(F755,Soutez!B:D,3,FALSE)","v":2020},4,7540,1.0699999999999998,8999,9629,null,"x","LS 8","FX",""]
["Hana Treslova",1991,"F","Raná","CZ/C2","WWGC 2020 - Std",{"$f":"VLOOKUP(F756,Soutez!B:C,2,FALSE)","v":"AU"},{"$f":"VLOOKUP(F756,Soutez!B:D,3,FALSE)","v":2020},5,7526,1.0699999999999998,8787,9402,null,"x","LS 8","EU",""]
["Jana Veprekova",1961,"F","Dvůr Králové","CZ/C2","WWGC 2020 - Std",{"$f":"VLOOKUP(F757,Soutez!B:C,2,FALSE)","v":"AU"},{"$f":"VLOOKUP(F757,Soutez!B:D,3,FALSE)","v":2020},6,7476,1.0699999999999998,8543,9141,null,"x","LS 8","W8",""]
["Lisa Trotter",null,null,"Australia",null,"WWGC 2020 - Std",{"$f":"VLOOKUP(F758,Soutez!B:C,2,FALSE)","v":"AU"},{"$f":"VLOOKUP(F758,Soutez!B:D,3,FALSE)","v":2020},7,7418,1.0699999999999998,8292,8872,null,null,"LS 8","LT","Není v databázi"]
["Claire Scutter",null,null,"Australia",null,"WWGC 2020 - Std",{"$f":"VLOOKUP(F759,Soutez!B:C,2,FALSE)","v":"AU"},{"$f":"VLOOKUP(F759,Soutez!B:D,3,FALSE)","v":2020},8,7325,1.0699999999999998,8011,8572,null,null,"LS 8","CC","Není v databázi"]
["Akemi Ichikawa",null,null,"Japan",null,"WWGC 2020 - Std",{"$f":"VLOOKUP(F760,Soutez!B:C,2,FALSE)","v":"AU"},{"$f":"VLOOKUP(F760,Soutez!B:D,3,FALSE)","v":2020},9,7225,1.0699999999999998,7723,8264,null,null,"LS 8","1A","Není v databázi"]
["Aude Untersee",null,null,"France",null,"WWGC 2020 - Std",{"$f":"VLOOKUP(F761,Soutez!B:C,2,FALSE)","v":"AU"},{"$f":"VLOOKUP(F761,Soutez!B:D,3,FALSE)","v":2020},10,7134,1.0699999999999998,7444,7965,null,null,"Discus 2a","JPA","Není v databázi"]
["Agata Kaszczuk",null,null,"Poland",null,"WWGC 2020 - Std",{"$f":"VLOOKUP(F762,Soutez!B:C,2,FALSE)","v":"AU"},{"$f":"VLOOKUP(F762,Soutez!B:D,3,FALSE)","v":2020},11,7112,1.0699999999999998,7225,7731,null,null,"LS 8","P1","Není v databázi"]
["Serena Triebel",null,null,"Germany",null,"WWGC 2020 - Std",{"$f":"VLOOKUP(F763,Soutez!B:C,2,FALSE)","v":"AU"},{"$f":"VLOOKUP(F763,Soutez!B:D,3,FALSE)","v":2020},12,7057,1.0699999999999998,6976,7464,null,null,"LS 8","PO","Není v databázi"]
["Ulrike Teichmann",null,null,"Germany",null,"WWGC 2020 - Std",{"$f":"VLOOKUP(F764,Soutez!B:C,2,FALSE)","v":"AU"},{"$f":"VLOOKUP(F764,Soutez!B:D,3,FALSE)","v":2020},13,7047,1.0699999999999998,6768,7242,null,null,"LS 8","S7","Není v databázi"]
["Cornelia Schaich",null,null,"Germany",null,"WWGC 2020 - Std",{"$f":"VLOOKUP(F765,Soutez!B:C,2,FALSE)","v":"AU"},{"$f":"VLOOKUP(F765,Soutez!B:D,3,FALSE)","v":2020},14,6897,1.0699999999999998,6436,6887,null,null,"LS 8T","FQF","Není v databázi"]
["Anna Piotrowska",null,null,"Poland",null,"WWGC 2020 - Std",{"$f":"VLOOKUP(F766,Soutez!B:C,2,FALSE)","v":"AU"},{"$f":"VLOOKUP(F766,Soutez!B:D,3,FALSE)","v":2020},15,6819,1.0699999999999998,6168,6600,null,null,"LS 8","LOT","Není v databázi"]
["Catherine Conway",null,null,"Australia",null,"WWGC 2020 - Std",{"$f":"VLOOKUP(F767,Soutez!B:C,2,FALSE)","v":"AU"},{"$f":"VLOOKUP(F767,Soutez!B:D,3,FALSE)","v":2020},16,5943,1.0699999999999998,5201,5565,null,null,"Discus 2b","XZ","Není v databázi"]
["Mélanie Gadoulet",null,null,"France",null,"WWGC 2020 - 18m",{"$f":"VLOOKUP(F768,Soutez!B:C,2,FALSE)","v":"AU"},{"$f":"VLOOKUP(F768,Soutez!B:D,3,FALSE)","v":2020},1,8137,1.0599999999999998,{"$f":"ROUND(J768/MAX($J$768:$J$781)*10000*0.7+(MAX($I$768:$I$781)-I768)/(MAX($I$768:$I$781)-1)*10000*0.3,0)","v":10000},{"$f":"ROUND(K768*L768,0)","v":10600},null,null,"JS 3","FQ","Není v databázi"]
["Anne Ducarouge",null,null,"France",null,"WWGC 2020 - 18m",{"$f":"VLOOKUP(F769,Soutez!B:C,2,FALSE)","v":"AU"},{"$f":"VLOOKUP(F769,Soutez!B:D,3,FALSE)","v":2020},2,8123,1.0599999999999998,9757,{"$f":"ROUND(K769*L769,0)","v":10342},null,null,"JS 3","FM","Není v databázi"]
["Katrin Senne",null,null,"Germany",null,"WWGC 2020 - 18m",{"$f":"VLOOKUP(F770,Soutez!B:C,2,FALSE)","v":"AU"},{"$f":"VLOOKUP(F770,Soutez!B:D,3,FALSE)","v":2020},3,7829,1.0599999999999998,9273,9829,null,null,"JS 3","1B","Není v databázi"]
["Elizabeth Sparrow",null,null,"United Kingdom",null,"WWGC 2020 - 18m",{"$f":"VLOOKUP(F771,Soutez!B:C,2,FALSE)","v":"AU"},{"$f":"VLOOKUP(F771,Soutez!B:D,3,FALSE)","v":2020},4,7739,1.0599999999999998,8965,9503,null,null,"ASG 29",51,"Není v databázi"]
["Alena Netusilova",{"$f":"VLOOKUP(A772,Pilot,2,0)","v":1970},{"$f":"VLOOKUP(A772,Pilot,5,0)","v":"F"},{"$f":"VLOOKUP(A772,Pilot,3,0)","v":"Zbraslavice"},{"$f":"VLOOKUP(A772,Pilot,4,0)","v":"CZ/C1"},"WWGC 2020 - 18m",{"$f":"VLOOKUP(F772,Soutez!B:C,2,FALSE)","v":"AU"},{"$f":"VLOOKUP(F772,Soutez!B:D,3,FALSE)","v":2020},5,7466,1.0599999999999998,8500,9010,null,"x","JS 3","XM",""]
["Ailsa McMillan",null,null,"Australia",null,"WWGC 2020 - 18m",{"$f":"VLOOKUP(F773,Soutez!B:C,2,FALSE)","v":"AU"},{"$f":"VLOOKUP(F773,Soutez!B:D,3,FALSE)","v":2020},6,7461,1.0599999999999998,8265,8761,null,null,"JS1","OG","Není v databázi"]
["Lisa Turner",null,null,"Australia",null,"WWGC 2020 - 18m",{"$f":"VLOOKUP(F774,Soutez!B:C,2,FALSE)","v":"AU"},{"$f":"VLOOKUP(F774,Soutez!B:D,3,FALSE)","v":2020},7,7186,1.0599999999999998,7797,8265,null,null,"ASG 29","HS","Není v databázi"]
["Jana Treslova",{"$f":"VLOOKUP(A775,Pilot,2,0)","v":1963},{"$f":"VLOOKUP(A775,Pilot,5,0)","v":"F"},{"$f":"VLOOKUP(A775,Pilot,3,0)","v":"Raná"},{"$f":"VLOOKUP(A775,Pilot,4,0)","v":"CZ/C2"},"WWGC 2020 - 18m",{"$f":"VLOOKUP(F775,Soutez!B:C,2,FALSE)","v":"AU"},{"$f":"VLOOKUP(F775,Soutez!B:D,3,FALSE)","v":2020},8,7036,1.0599999999999998,7437,7883,null,"x","JS 3","ZE",""]
["Joanna Biedermann",null,null,"Poland",null,"WWGC 2020 - 18m",{"$f":"VLOOKUP(F776,Soutez!B:C,2,FALSE)","v":"AU"},{"$f":"VLOOKUP(F776,Soutez!B:D,3,FALSE)","v":2020},9,6658,1.0599999999999998,6882,7295,null,null,"JS1 C","P","Není v databázi"]
["Margherita Acquaderni",null,null,"Italy",null,"WWGC 2020 - 18m",{"$f":"VLOOKUP(F777,Soutez!B:C,2,FALSE)","v":"AU"},{"$f":"VLOOKUP(F777,Soutez!B:D,3,FALSE)","v":2020},10,6587,1.0599999999999998,6590,6985,null,null,"Ventus 3",57,"Není v databázi"]
["Stefanie Mühl",null,null,"Germany",null,"WWGC 2020 - 18m",{"$f":"VLOOKUP(F778,Soutez!B:C,2,FALSE)","v":"AU"},{"$f":"VLOOKUP(F778,Soutez!B:D,3,FALSE)","v":2020},11,6513,1.0599999999999998,6295,6673,null,null,"ASG 29","PT","Není v databázi"]
["Eva Cerna",{"$f":"VLOOKUP(A779,Pilot,2,0)","v":1964},{"$f":"VLOOKUP(A779,Pilot,5,0)","v":"F"},{"$f":"VLOOKUP(A779,Pilot,3,0)","v":"Příbram"},{"$f":"VLOOKUP(A779,Pilot,4,0)","v":"CZ/C1"},"WWGC 2020 - 18m",{"$f":"VLOOKUP(F779,Soutez!B:C,2,FALSE)","v":"AU"},{"$f":"VLOOKUP(F779,Soutez!B:D,3,FALSE)","v":2020},12,6083,1.0599999999999998,5695,6037,null,"x","JS 1C","ZF",""]
["Jenny Thompson",null,null,"Australia",null,"WWGC 2020 - 18m",{"$f":"VLOOKUP(F780,Soutez!B:C,2,FALSE)","v":"AU"},{"$f":"VLOOKUP(F780,Soutez!B:D,3,FALSE)","v":2020},13,5861,1.0599999999999998,5273,5589,null,null,"ASG 29","J7","Není v databázi"]
["Diana Schuit",null,null,"Luxembourg",null,"WWGC 2020 - 18m",{"$f":"VLOOKUP(F781,Soutez!B:C,2,FALSE)","v":"AU"},{"$f":"VLOOKUP(F781,Soutez!B:D,3,FALSE)","v":2020},14,5552,1.0599999999999998,4776,5063,null,null,"JS 3","MM","Není v databázi"]
["Lukas Kriz",{"$f":"VLOOKUP(A782,Pilot,2,0)","v":2003},{"$f":"VLOOKUP(A782,Pilot,5,0)","v":"M"},{"$f":"VLOOKUP(A782,Pilot,3,0)","v":"Křižanov"},{"$f":"VLOOKUP(A782,Pilot,4,0)","v":"CZ/M"},"JPJ 2021 - Klub",{"$f":"VLOOKUP(F782,Soutez!B:C,2,FALSE)","v":"CZ"},{"$f":"VLOOKUP(F782,Soutez!B:D,3,FALSE)","v":2021},1,3547,{"$f":"VLOOKUP(F782,Soutez,12,0)","v":0.90500000000000003},{"$f":"ROUND(J782/MAX($J$782:$J$817)*10000*0.7+(MAX($I$782:$I$817)-I782)/(MAX($I$782:$I$817)-1)*10000*0.3,0)","v":10000},{"$f":"ROUND(K782*L782,0)","v":9050},"x",null,"Std. Cirrus","EJ","Junior v roce 2023"]
["Josef Novotny",1983,"M","Přibyslav","CZ/C2","JPJ 2021 - Klub",{"$f":"VLOOKUP(F783,Soutez!B:C,2,FALSE)","v":"CZ"},{"$f":"VLOOKUP(F783,Soutez!B:D,3,FALSE)","v":2021},2,3464,0.90500000000000003,9750,{"$f":"ROUND(K783*L783,0)","v":8824},"x",null,"Std. Cirrus","AW",""]
["Marek Blatak",1969,"M","Šumperk","CZ/M","JPJ 2021 - Klub",{"$f":"VLOOKUP(F784,Soutez!B:C,2,FALSE)","v":"CZ"},{"$f":"VLOOKUP(F784,Soutez!B:D,3,FALSE)","v":2021},3,3388,0.90500000000000003,9515,8611,"x",null,"LS-1f","LS",""]
["David Sachl",1978,"M","Kralupy","CZ/C1","JPJ 2021 - Klub",{"$f":"VLOOKUP(F785,Soutez!B:C,2,FALSE)","v":"CZ"},{"$f":"VLOOKUP(F785,Soutez!B:D,3,FALSE)","v":2021},4,3362,0.90500000000000003,9378,8487,"x",null,"DG-300 Club ELAN WL","BK",""]
["Martin Ficnar",{"$f":"VLOOKUP(A786,Pilot,2,0)","v":1971},{"$f":"VLOOKUP(A786,Pilot,5,0)","v":"M"},{"$f":"VLOOKUP(A786,Pilot,3,0)","v":"Šumperk"},{"$f":"VLOOKUP(A786,Pilot,4,0)","v":"CZ/M"},"JPJ 2021 - Klub",{"$f":"VLOOKUP(F786,Soutez!B:C,2,FALSE)","v":"CZ"},{"$f":"VLOOKUP(F786,Soutez!B:D,3,FALSE)","v":2021},5,3311,0.90500000000000003,9191,8318,"x",null,"LS-3a 15m","S20",""]
["Jindrich Svorc",1978,"M","Letňany","CZ/C1","JPJ 2021 - Klub",{"$f":"VLOOKUP(F787,Soutez!B:C,2,FALSE)","v":"CZ"},{"$f":"VLOOKUP(F787,Soutez!B:D,3,FALSE)","v":2021},6,3214,0.90500000000000003,8914,8067,"x",null,"Std. Cirrus","IMI",""]
["Jan Mareth",1979,"M","Frýdlant","CZ/M","JPJ 2021 - Klub",{"$f":"VLOOKUP(F788,Soutez!B:C,2,FALSE)","v":"CZ"},{"$f":"VLOOKUP(F788,Soutez!B:D,3,FALSE)","v":2021},7,3209,0.90500000000000003,8819,7981,"x",null,"ASW-15B","PA",""]
["Martin Urner",1974,"M","Letňany","CZ/C1","JPJ 2021 - Klub",{"$f":"VLOOKUP(F789,Soutez!B:C,2,FALSE)","v":"CZ"},{"$f":"VLOOKUP(F789,Soutez!B:D,3,FALSE)","v":2021},8,3123,0.90500000000000003,8563,7750,"x",null,"ASW-15B","JJ",""]
["Josef Novak",1981,"M","Kunovice","CZ/M","JPJ 2021 - Klub",{"$f":"VLOOKUP(F790,Soutez!B:C,2,FALSE)","v":"CZ"},{"$f":"VLOOKUP(F790,Soutez!B:D,3,FALSE)","v":2021},9,3102,0.90500000000000003,8436,7635,"x",null,"Discus CS","CS",""]
["Rene Hudak",1972,"M","Kunovice","CZ/M","JPJ 2021 - Klub",{"$f":"VLOOKUP(F791,Soutez!B:C,2,FALSE)","v":"CZ"},{"$f":"VLOOKUP(F791,Soutez!B:D,3,FALSE)","v":2021},10,3074,0.90500000000000003,8295,7507,"x",null,"Std. Cirrus WL","NK",""]
["Petr Kolomaznik",1981,"M","Šumperk","CZ/M","JPJ 2021 - Klub",{"$f":"VLOOKUP(F792,Soutez!B:C,2,FALSE)","v":"CZ"},{"$f":"VLOOKUP(F792,Soutez!B:D,3,FALSE)","v":2021},11,3021,0.90500000000000003,8105,7335,"x",null,"Discus b","VE",""]
["Pavlina Horackova",1965,"F","Šumperk","CZ/M","JPJ 2021 - Klub",{"$f":"VLOOKUP(F793,Soutez!B:C,2,FALSE)","v":"CZ"},{"$f":"VLOOKUP(F793,Soutez!B:D,3,FALSE)","v":2021},12,2971,0.90500000000000003,7920,7168,"x","x","SZD-48 Jantar std. 2","SU",""]
["David Vrchota",1976,"M","Jaroměř","CZ/C2","JPJ 2021 - Klub",{"$f":"VLOOKUP(F794,Soutez!B:C,2,FALSE)","v":"CZ"},{"$f":"VLOOKUP(F794,Soutez!B:D,3,FALSE)","v":2021},13,2940,0.90500000000000003,7774,7035,"x",null,"Std. Cirrus","GO",""]
["Vaclav Marel",1974,"M","Jaroměř","CZ/C2","JPJ 2021 - Klub",{"$f":"VLOOKUP(F795,Soutez!B:C,2,FALSE)","v":"CZ"},{"$f":"VLOOKUP(F795,Soutez!B:D,3,FALSE)","v":2021},14,2871,0.90500000000000003,7552,6835,"x",null,"Std. Cirrus","IF",""]
["Petr Kolacek",1965,"M","Šumperk","CZ/M","JPJ 2021 - Klub",{"$f":"VLOOKUP(F796,Soutez!B:C,2,FALSE)","v":"CZ"},{"$f":"VLOOKUP(F796,Soutez!B:D,3,FALSE)","v":2021},15,2862,0.90500000000000003,7448,6740,"x",null,"SZD-48 Jantar std. 3","IX",""]
["Vojtech Novotny",1992,"M","Kralupy","CZ/C1","JPJ 2021 - Klub",{"$f":"VLOOKUP(F797,Soutez!B:C,2,FALSE)","v":"CZ"},{"$f":"VLOOKUP(F797,Soutez!B:D,3,FALSE)","v":2021},16,2771,0.90500000000000003,7183,6501,"x",null,"LS-1f","EF",{"$f":"IF(ISERROR(VLOOKUP(A797,Pilot,6,0)),\"Není v databázi\",VLOOKUP(A797,Pilot,6,0))","v":""}]
["Peter Kaspar",1980,"M","Vyškov","CZ/M","JPJ 2021 - Klub",{"$f":"VLOOKUP(F798,Soutez!B:C,2,FALSE)","v":"CZ"},{"$f":"VLOOKUP(F798,Soutez!B:D,3,FALSE)","v":2021},17,2604,0.90500000000000003,6768,6125,"x",null,"G-102 Astir 77","AP",""]
["Martin Svarc",1981,"M","Olomouc","CZ/M","JPJ 2021 - Klub",{"$f":"VLOOKUP(F799,Soutez!B:C,2,FALSE)","v":"CZ"},{"$f":"VLOOKUP(F799,Soutez!B:D,3,FALSE)","v":2021},18,2435,0.90500000000000003,6348,5745,"x",null,"DG-101 G","HE",""]
["Jiri Koudela",1974,"M","Vyškov","CZ/M","JPJ 2021 - Klub",{"$f":"VLOOKUP(F800,Soutez!B:C,2,FALSE)","v":"CZ"},{"$f":"VLOOKUP(F800,Soutez!B:D,3,FALSE)","v":2021},19,2432,0.90500000000000003,6257,5663,null,null,"ASW-19B","JK",""]
["Roman Schotli",1970,"M","Hranice","CZ/M","JPJ 2021 - Klub",{"$f":"VLOOKUP(F801,Soutez!B:C,2,FALSE)","v":"CZ"},{"$f":"VLOOKUP(F801,Soutez!B:D,3,FALSE)","v":2021},20,2338,0.90500000000000003,5985,5416,"x",null,"ASW-19B",19,""]
["Adam Sugl",1987,"M","Vyškov","CZ/M","JPJ 2021 - Klub",{"$f":"VLOOKUP(F802,Soutez!B:C,2,FALSE)","v":"CZ"},{"$f":"VLOOKUP(F802,Soutez!B:D,3,FALSE)","v":2021},21,2323,0.90500000000000003,5870,5312,"x",null,"G-102 Astir 77","AS",""]
["Jaromir Vlk",{"$f":"VLOOKUP(A803,Pilot,2,0)","v":1959},{"$f":"VLOOKUP(A803,Pilot,5,0)","v":"M"},{"$f":"VLOOKUP(A803,Pilot,3,0)","v":"Šumperk"},{"$f":"VLOOKUP(A803,Pilot,4,0)","v":"CZ/M"},"JPJ 2021 - Klub",{"$f":"VLOOKUP(F803,Soutez!B:C,2,FALSE)","v":"CZ"},{"$f":"VLOOKUP(F803,Soutez!B:D,3,FALSE)","v":2021},22,2301,0.90500000000000003,5741,5196,"x",null,"ASW-15B","R5",""]
["Petr Havrlant",1965,"M","Šumperk","CZ/M","JPJ 2021 - Klub",{"$f":"VLOOKUP(F804,Soutez!B:C,2,FALSE)","v":"CZ"},{"$f":"VLOOKUP(F804,Soutez!B:D,3,FALSE)","v":2021},23,2144,0.90500000000000003,5345,4837,"x",null,"ASW-15B","Q1",""]
["Stepan Obrovsky",1990,"M","Frýdlant","CZ/M","JPJ 2021 - Klub",{"$f":"VLOOKUP(F805,Soutez!B:C,2,FALSE)","v":"CZ"},{"$f":"VLOOKUP(F805,Soutez!B:D,3,FALSE)","v":2021},24,2135,0.90500000000000003,5242,4744,null,null,"Std. Cirrus",22,""]
["Karel Horalek",1976,"M","Olomouc","CZ/M","JPJ 2021 - Klub",{"$f":"VLOOKUP(F806,Soutez!B:C,2,FALSE)","v":"CZ"},{"$f":"VLOOKUP(F806,Soutez!B:D,3,FALSE)","v":2021},25,2134,0.90500000000000003,5154,4664,"x",null,"LS-3 15m","Y1",""]
["Jan Zezula",1979,"M","Letňany","CZ/C1","JPJ 2021 - Klub",{"$f":"VLOOKUP(F807,Soutez!B:C,2,FALSE)","v":"CZ"},{"$f":"VLOOKUP(F807,Soutez!B:D,3,FALSE)","v":2021},26,2066,0.90500000000000003,4934,4465,"x",null,"ASW-19B","HD",""]
["Lukas Petrzela",1987,"M","Olomouc","CZ/M","JPJ 2021 - Klub",{"$f":"VLOOKUP(F808,Soutez!B:C,2,FALSE)","v":"CZ"},{"$f":"VLOOKUP(F808,Soutez!B:D,3,FALSE)","v":2021},27,1797,0.90500000000000003,4318,3908,"x",null,"G-102 Astir cs","AL",""]
["Petr Valenta 76",{"$f":"VLOOKUP(A809,Pilot,2,0)","v":1976},{"$f":"VLOOKUP(A809,Pilot,5,0)","v":"M"},{"$f":"VLOOKUP(A809,Pilot,3,0)","v":"Jaroměř"},{"$f":"VLOOKUP(A809,Pilot,4,0)","v":"CZ/C2"},"JPJ 2021 - Klub",{"$f":"VLOOKUP(F809,Soutez!B:C,2,FALSE)","v":"CZ"},{"$f":"VLOOKUP(F809,Soutez!B:D,3,FALSE)","v":2021},28,1580,0.90500000000000003,3804,3443,"x",null,"Discus b","JA",""]
["Petr Lonsky",1965,"M","Toužim","CZ/C1","JPJ 2021 - Klub",{"$f":"VLOOKUP(F810,Soutez!B:C,2,FALSE)","v":"CZ"},{"$f":"VLOOKUP(F810,Soutez!B:D,3,FALSE)","v":2021},29,1430,0.90500000000000003,3422,3097,null,null,"Cirrus","JP",""]
["Yvona Vyhnankova",1963,"F","Olomouc","CZ/M","JPJ 2021 - Klub",{"$f":"VLOOKUP(F811,Soutez!B:C,2,FALSE)","v":"CZ"},{"$f":"VLOOKUP(F811,Soutez!B:D,3,FALSE)","v":2021},30,1427,0.90500000000000003,3330,3014,"x","x","ASW-15","YZ",""]
["Karel Ertl",1939,"M","LK Břeclav","CZ/M","JPJ 2021 - Klub",{"$f":"VLOOKUP(F812,Soutez!B:C,2,FALSE)","v":"CZ"},{"$f":"VLOOKUP(F812,Soutez!B:D,3,FALSE)","v":2021},31,1071,0.90500000000000003,2542,2301,"x",null,"TST-10M Atlas","KE",""]
["Jan Pokluda",1973,"M","Šumperk","CZ/M","JPJ 2021 - Klub",{"$f":"VLOOKUP(F813,Soutez!B:C,2,FALSE)","v":"CZ"},{"$f":"VLOOKUP(F813,Soutez!B:D,3,FALSE)","v":2021},32,1028,0.90500000000000003,2372,2147,"x",null,"ASW-15B WL","JG",""]
["Lubomir Papezik",1951,"M","Luhačovice","CZ/M","JPJ 2021 - Klub",{"$f":"VLOOKUP(F814,Soutez!B:C,2,FALSE)","v":"CZ"},{"$f":"VLOOKUP(F814,Soutez!B:D,3,FALSE)","v":2021},33,899,{"$f":"VLOOKUP(F814,Soutez,12,0)","v":0.90500000000000003},2031,1838,"x",null,"LS-4","FP",""]
["Michal Linhart",1982,"M","Vyškov","CZ/M","JPJ 2021 - Klub",{"$f":"VLOOKUP(F815,Soutez!B:C,2,FALSE)","v":"CZ"},{"$f":"VLOOKUP(F815,Soutez!B:D,3,FALSE)","v":2021},34,617,0.90500000000000003,1389,{"$f":"ROUND(K815*L815,0)","v":1257},"x",null,"VSO-10","B2",""]
["Ludek Mikl",1963,"M","Šumperk","CZ/M","JPJ 2021 - Klub",{"$f":"VLOOKUP(F816,Soutez!B:C,2,FALSE)","v":"CZ"},{"$f":"VLOOKUP(F816,Soutez!B:D,3,FALSE)","v":2021},35,601,0.90500000000000003,1272,1151,"x",null,"Std. Cirrus",16,""]
["Albert Schneider",{"$f":"VLOOKUP(A817,Pilot,2,0)","v":1967},{"$f":"VLOOKUP(A817,Pilot,5,0)","v":"M"},{"$f":"VLOOKUP(A817,Pilot,3,0)","v":"Hranice"},{"$f":"VLOOKUP(A817,Pilot,4,0)","v":"CZ/M"},"JPJ 2021 - Klub",{"$f":"VLOOKUP(F817,Soutez!B:C,2,FALSE)","v":"CZ"},{"$f":"VLOOKUP(F817,Soutez!B:D,3,FALSE)","v":2021},36,580,0.90500000000000003,1145,1036,"x",null,"Mini-Nimbus c","I",""]
["Jan Sustr 76",{"$f":"VLOOKUP(A818,Pilot,2,0)","v":1976},{"$f":"VLOOKUP(A818,Pilot,5,0)","v":"M"},{"$f":"VLOOKUP(A818,Pilot,3,0)","v":"Raná"},{"$f":"VLOOKUP(A818,Pilot,4,0)","v":"CZ/C2"},"JPJ 2021 - Klub",{"$f":"VLOOKUP(F818,Soutez!B:C,2,FALSE)","v":"CZ"},{"$f":"VLOOKUP(F818,Soutez!B:D,3,FALSE)","v":2021},"DNS",0,0.90500000000000003,0,0,null,null,"DG-300 Club ELAN","WL",""]
["Pavel Skrabal",1969,"M","Šumperk","CZ/M","JPJ 2021 - Klub",{"$f":"VLOOKUP(F819,Soutez!B:C,2,FALSE)","v":"CZ"},{"$f":"VLOOKUP(F819,Soutez!B:D,3,FALSE)","v":2021},"DNS",0,0.90500000000000003,0,0,null,null,"L-13 Blaník dvojí","PAS",""]
["Radek Hybl",{"$f":"VLOOKUP(A820,Pilot,2,0)","v":1980},{"$f":"VLOOKUP(A820,Pilot,5,0)","v":"M"},{"$f":"VLOOKUP(A820,Pilot,3,0)","v":"Šumperk"},{"$f":"VLOOKUP(A820,Pilot,4,0)","v":"CZ/M"},"JPJ 2021 - Kombi",{"$f":"VLOOKUP(F820,Soutez!B:C,2,FALSE)","v":"CZ"},{"$f":"VLOOKUP(F820,Soutez!B:D,3,FALSE)","v":2021},1,3343,0.90500000000000003,{"$f":"ROUND(J820/MAX($J$820:$J$844)*10000*0.7+(MAX($I$820:$I$844)-I820)/(MAX($I$820:$I$844)-1)*10000*0.3,0)","v":10000},{"$f":"ROUND(K820*L820,0)","v":9050},"x",null,"Ventus cm 17,6m","IHH",""]
["Radek Zima 78",1978,"M","Hodkovice","CZ/C2","JPJ 2021 - Kombi",{"$f":"VLOOKUP(F821,Soutez!B:C,2,FALSE)","v":"CZ"},{"$f":"VLOOKUP(F821,Soutez!B:D,3,FALSE)","v":2021},2,3263,0.90500000000000003,9707,{"$f":"ROUND(K821*L821,0)","v":8785},"x",null,"ASG-29E 18m","XZ",""]
["Miroslav Koci",{"$f":"VLOOKUP(A822,Pilot,2,0)","v":1961},{"$f":"VLOOKUP(A822,Pilot,5,0)","v":"M"},{"$f":"VLOOKUP(A822,Pilot,3,0)","v":"Žamberk"},{"$f":"VLOOKUP(A822,Pilot,4,0)","v":"CZ/C2"},"JPJ 2021 - Kombi",{"$f":"VLOOKUP(F822,Soutez!B:C,2,FALSE)","v":"CZ"},{"$f":"VLOOKUP(F822,Soutez!B:D,3,FALSE)","v":2021},3,3119,0.90500000000000003,9281,8399,"x",null,"Ventus 2cxm 18m 565kg","E8",""]
["Frantisek Vancura",1966,"M","Hranice","CZ/M","JPJ 2021 - Kombi",{"$f":"VLOOKUP(F823,Soutez!B:C,2,FALSE)","v":"CZ"},{"$f":"VLOOKUP(F823,Soutez!B:D,3,FALSE)","v":2021},4,3015,0.90500000000000003,8938,8089,"x",null,"Nimbus 3T 24,5m WL 750kg","A1",""]
["Michal Cechmanek",1978,"M","Luhačovice","CZ/M","JPJ 2021 - Kombi",{"$f":"VLOOKUP(F824,Soutez!B:C,2,FALSE)","v":"CZ"},{"$f":"VLOOKUP(F824,Soutez!B:D,3,FALSE)","v":2021},5,2893,0.90500000000000003,8558,7745,"x",null,"ASW-20 (A)+F 15m WL","MK",""]
["Radim Hahn",1972,"M","Zábřeh","CZ/M","JPJ 2021 - Kombi",{"$f":"VLOOKUP(F825,Soutez!B:C,2,FALSE)","v":"CZ"},{"$f":"VLOOKUP(F825,Soutez!B:D,3,FALSE)","v":2021},6,2872,0.90500000000000003,8389,7592,"x",null,"Arcus","II",""]
["Jan Dersak 69",1969,"M","Kralupy","CZ/C1","JPJ 2021 - Kombi",{"$f":"VLOOKUP(F826,Soutez!B:C,2,FALSE)","v":"CZ"},{"$f":"VLOOKUP(F826,Soutez!B:D,3,FALSE)","v":2021},7,2843,0.90500000000000003,8203,7424,null,null,"HpH 304JS SHARK 18m 573kg","DJ",""]
["Jaroslav Buryan",{"$f":"VLOOKUP(A827,Pilot,2,0)","v":1953},{"$f":"VLOOKUP(A827,Pilot,5,0)","v":"M"},{"$f":"VLOOKUP(A827,Pilot,3,0)","v":"Zábřeh"},{"$f":"VLOOKUP(A827,Pilot,4,0)","v":"CZ/M"},"JPJ 2021 - Kombi",{"$f":"VLOOKUP(F827,Soutez!B:C,2,FALSE)","v":"CZ"},{"$f":"VLOOKUP(F827,Soutez!B:D,3,FALSE)","v":2021},8,2809,0.90500000000000003,8007,7246,"x",null,"ASW-20 (A)+F 15m WL","NS",""]
["Jan Simon",1970,"M","Kralupy","CZ/C1","JPJ 2021 - Kombi",{"$f":"VLOOKUP(F828,Soutez!B:C,2,FALSE)","v":"CZ"},{"$f":"VLOOKUP(F828,Soutez!B:D,3,FALSE)","v":2021},9,2664,0.90500000000000003,7578,6858,"x",null,"Duo Discus T 700kg","ZS",""]
["Zdenek Schenk",1972,"M","Hranice","CZ/M","JPJ 2021 - Kombi",{"$f":"VLOOKUP(F829,Soutez!B:C,2,FALSE)","v":"CZ"},{"$f":"VLOOKUP(F829,Soutez!B:D,3,FALSE)","v":2021},10,2601,0.90500000000000003,7321,6626,"x",null,"Ventus cm 17,6m","ŠNeK",""]
["Jan Kohout",1970,"M","Žamberk","CZ/C2","JPJ 2021 - Kombi",{"$f":"VLOOKUP(F830,Soutez!B:C,2,FALSE)","v":"CZ"},{"$f":"VLOOKUP(F830,Soutez!B:D,3,FALSE)","v":2021},11,2562,0.90500000000000003,7115,6439,"x",null,"LS-8 15m","SK",""]
["Jiri Steiger",1969,"M","Olomouc","CZ/M","JPJ 2021 - Kombi",{"$f":"VLOOKUP(F831,Soutez!B:C,2,FALSE)","v":"CZ"},{"$f":"VLOOKUP(F831,Soutez!B:D,3,FALSE)","v":2021},11,2562,0.90500000000000003,7115,6439,null,null,"Ventus 3M 18m","JS",""]
["Albrecht Beat",1953,"M","Šumperk","CZ/M","JPJ 2021 - Kombi",{"$f":"VLOOKUP(F832,Soutez!B:C,2,FALSE)","v":"CZ"},{"$f":"VLOOKUP(F832,Soutez!B:D,3,FALSE)","v":2021},13,2548,0.90500000000000003,6835,6186,"x",null,"LS-8-18 18m","GL",""]
["Ladislav Jozsa",1981,"M","Medlánky","CZ/M","JPJ 2021 - Kombi",{"$f":"VLOOKUP(F833,Soutez!B:C,2,FALSE)","v":"CZ"},{"$f":"VLOOKUP(F833,Soutez!B:D,3,FALSE)","v":2021},14,2522,0.90500000000000003,6656,6024,"x",null,"Ventus c 17,6m","WW",""]
["Tomas Prikryl",1973,"M","Vyškov","CZ/M","JPJ 2021 - Kombi",{"$f":"VLOOKUP(F834,Soutez!B:C,2,FALSE)","v":"CZ"},{"$f":"VLOOKUP(F834,Soutez!B:D,3,FALSE)","v":2021},15,2425,0.90500000000000003,6328,5727,"x",null,"Ventus 2cm 18m 525kg","FN",""]
["Vit Grossmann",1977,"M","Hranice","CZ/M","JPJ 2021 - Kombi",{"$f":"VLOOKUP(F835,Soutez!B:C,2,FALSE)","v":"CZ"},{"$f":"VLOOKUP(F835,Soutez!B:D,3,FALSE)","v":2021},16,2351,0.90500000000000003,6048,5473,"x",null,"Duo Discus 700kg","OK",""]
["Miroslav Sklenar",1964,"M","Žamberk","CZ/C2","JPJ 2021 - Kombi",{"$f":"VLOOKUP(F836,Soutez!B:C,2,FALSE)","v":"CZ"},{"$f":"VLOOKUP(F836,Soutez!B:D,3,FALSE)","v":2021},17,2282,0.90500000000000003,5778,5229,"x",null,"Duo Discus 700kg","VP",""]
["Pavel Haluza",1966,"M","Prostějov","CZ/M","JPJ 2021 - Kombi",{"$f":"VLOOKUP(F837,Soutez!B:C,2,FALSE)","v":"CZ"},{"$f":"VLOOKUP(F837,Soutez!B:D,3,FALSE)","v":2021},18,2212,0.90500000000000003,5507,4984,"x",null,"Nimbus 2b","HT",""]
["Roman Cerny",1971,"M","Hranice","CZ/M","JPJ 2021 - Kombi",{"$f":"VLOOKUP(F838,Soutez!B:C,2,FALSE)","v":"CZ"},{"$f":"VLOOKUP(F838,Soutez!B:D,3,FALSE)","v":2021},19,1991,0.90500000000000003,4919,4452,"x",null,"DG-500M 22m","T",""]
["Tomas Profeld",1964,"M","Jičín","CZ/C2","JPJ 2021 - Kombi",{"$f":"VLOOKUP(F839,Soutez!B:C,2,FALSE)","v":"CZ"},{"$f":"VLOOKUP(F839,Soutez!B:D,3,FALSE)","v":2021},20,1984,0.90500000000000003,4779,{"$f":"ROUND(K839*L839,0)","v":4325},null,null,"Ventus 2cm 18m 525kg","OZ",""]
["Kamil Sohr",1973,"M","Šumperk","CZ/M","JPJ 2021 - Kombi",{"$f":"VLOOKUP(F840,Soutez!B:C,2,FALSE)","v":"CZ"},{"$f":"VLOOKUP(F840,Soutez!B:D,3,FALSE)","v":2021},21,1915,0.90500000000000003,4510,4082,"x",null,"Ventus c 17,6m","W",""]
["Martin Kriz",1968,"M","Přibyslav","CZ/C2","JPJ 2021 - Kombi",{"$f":"VLOOKUP(F841,Soutez!B:C,2,FALSE)","v":"CZ"},{"$f":"VLOOKUP(F841,Soutez!B:D,3,FALSE)","v":2021},22,1825,0.90500000000000003,4196,3797,null,null,"ASW-20 (A)+F 15m WL",67,""]
["Antonin Kutalek",1943,"M","Zábřeh","CZ/M","JPJ 2021 - Kombi",{"$f":"VLOOKUP(F842,Soutez!B:C,2,FALSE)","v":"CZ"},{"$f":"VLOOKUP(F842,Soutez!B:D,3,FALSE)","v":2021},23,1818,0.90500000000000003,4057,3672,null,null,"LAK-17AT 18m","GLK",""]
["Vladimir Spilka",1940,"M","Hranice","CZ/M","JPJ 2021 - Kombi",{"$f":"VLOOKUP(F843,Soutez!B:C,2,FALSE)","v":"CZ"},{"$f":"VLOOKUP(F843,Soutez!B:D,3,FALSE)","v":2021},24,1521,0.90500000000000003,3310,2996,"x",null,"Nimbus 2b","AY",""]
["Pavel Handl",1971,"M","Kroměříž","CZ/M","JPJ 2021 - Kombi",{"$f":"VLOOKUP(F844,Soutez!B:C,2,FALSE)","v":"CZ"},{"$f":"VLOOKUP(F844,Soutez!B:D,3,FALSE)","v":2021},25,285,0.90500000000000003,597,540,"x",null,"Ventus 2cm 18m 525kg","VJ",""]
["Toby Freeland",null,null,"Imperial Gliding College Club","GB","PMČR 2021 - Klub",{"$f":"VLOOKUP(F845,Soutez!B:C,2,FALSE)","v":"CZ"},{"$f":"VLOOKUP(F845,Soutez!B:D,3,FALSE)","v":2021},1,6518,1.05,{"$f":"ROUND(J845/MAX($J$845:$J$860)*10000*0.7+(MAX($I$845:$I$860)-I845)/(MAX($I$845:$I$860)-1)*10000*0.3,0)","v":10000},{"$f":"ROUND(K845*L845,0)","v":10500},null,null,"ASW20",212,"Není v databázi"]
["Jakub Hlavacek",{"$f":"VLOOKUP(A846,Pilot,2,0)","v":1991},{"$f":"VLOOKUP(A846,Pilot,5,0)","v":"M"},{"$f":"VLOOKUP(A846,Pilot,3,0)","v":"Letkov"},{"$f":"VLOOKUP(A846,Pilot,4,0)","v":"CZ/C1"},"PMČR 2021 - Klub",{"$f":"VLOOKUP(F846,Soutez!B:C,2,FALSE)","v":"CZ"},{"$f":"VLOOKUP(F846,Soutez!B:D,3,FALSE)","v":2021},2,6482,{"$f":"VLOOKUP(F846,Soutez,12,0)","v":1.05},9761,{"$f":"ROUND(K846*L846,0)","v":10249},"x",null,"StdCirrus","SB",""]
["Finn Sleigh",null,null,"Lasham","GB","PMČR 2021 - Klub",{"$f":"VLOOKUP(F847,Soutez!B:C,2,FALSE)","v":"CZ"},{"$f":"VLOOKUP(F847,Soutez!B:D,3,FALSE)","v":2021},3,6390,1.05,9463,9936,null,null,"ASW 20",5,"Není v databázi"]
["Jan Ratz",{"$f":"VLOOKUP(A848,Pilot,2,0)","v":1987},{"$f":"VLOOKUP(A848,Pilot,5,0)","v":"M"},{"$f":"VLOOKUP(A848,Pilot,3,0)","v":"Zbraslavice"},{"$f":"VLOOKUP(A848,Pilot,4,0)","v":"CZ/C1"},"PMČR 2021 - Klub",{"$f":"VLOOKUP(F848,Soutez!B:C,2,FALSE)","v":"CZ"},{"$f":"VLOOKUP(F848,Soutez!B:D,3,FALSE)","v":2021},4,6335,1.05,9203,9663,"x",null,"StdCirrus","REX",""]
["Zdenek Boruvka 86",1986,"M","Jičín","CZ/C2","PMČR 2021 - Klub",{"$f":"VLOOKUP(F849,Soutez!B:C,2,FALSE)","v":"CZ"},{"$f":"VLOOKUP(F849,Soutez!B:D,3,FALSE)","v":2021},5,6321,1.05,8988,9437,"x",null,"StdCirrus","BJ",""]
["Michal Lesinger",{"$f":"VLOOKUP(A850,Pilot,2,0)","v":1966},{"$f":"VLOOKUP(A850,Pilot,5,0)","v":"M"},{"$f":"VLOOKUP(A850,Pilot,3,0)","v":"Moravská Třebová"},{"$f":"VLOOKUP(A850,Pilot,4,0)","v":"CZ/M"},"PMČR 2021 - Klub",{"$f":"VLOOKUP(F850,Soutez!B:C,2,FALSE)","v":"CZ"},{"$f":"VLOOKUP(F850,Soutez!B:D,3,FALSE)","v":2021},6,5699,1.05,8120,8526,null,null,"ASW19B","LL",""]
["Edmund Schuller",null,null,"Lucenec","SK","PMČR 2021 - Klub",{"$f":"VLOOKUP(F851,Soutez!B:C,2,FALSE)","v":"CZ"},{"$f":"VLOOKUP(F851,Soutez!B:D,3,FALSE)","v":2021},7,5427,1.05,7628,8009,null,null,"ASW24","ZS","Není v databázi"]
["Pavel Rericha",{"$f":"VLOOKUP(A852,Pilot,2,0)","v":1967},{"$f":"VLOOKUP(A852,Pilot,5,0)","v":"M"},{"$f":"VLOOKUP(A852,Pilot,3,0)","v":"Moravská Třebová"},{"$f":"VLOOKUP(A852,Pilot,4,0)","v":"CZ/M"},"PMČR 2021 - Klub",{"$f":"VLOOKUP(F852,Soutez!B:C,2,FALSE)","v":"CZ"},{"$f":"VLOOKUP(F852,Soutez!B:D,3,FALSE)","v":2021},8,5199,1.05,7183,7542,"x",null,"ASW19B","NO",""]
["Tibor Fratrik",null,null,"SGC Martin","SK","PMČR 2021 - Klub",{"$f":"VLOOKUP(F853,Soutez!B:C,2,FALSE)","v":"CZ"},{"$f":"VLOOKUP(F853,Soutez!B:D,3,FALSE)","v":2021},9,5010,1.05,6780,7119,null,null,"C101APegase","OI","Není v databázi"]
["Pawel Glowacki",null,null,"Leszno","PL","PMČR 2021 - Klub",{"$f":"VLOOKUP(F854,Soutez!B:C,2,FALSE)","v":"CZ"},{"$f":"VLOOKUP(F854,Soutez!B:D,3,FALSE)","v":2021},10,4911,1.05,6474,6798,null,null,"C101APegase","J7","Není v databázi"]
["Slavomir Piskaty 84",{"$f":"VLOOKUP(A855,Pilot,2,0)","v":1984},{"$f":"VLOOKUP(A855,Pilot,5,0)","v":"M"},{"$f":"VLOOKUP(A855,Pilot,3,0)","v":"Kunovice"},{"$f":"VLOOKUP(A855,Pilot,4,0)","v":"CZ/M"},"PMČR 2021 - Klub",{"$f":"VLOOKUP(F855,Soutez!B:C,2,FALSE)","v":"CZ"},{"$f":"VLOOKUP(F855,Soutez!B:D,3,FALSE)","v":2021},11,4360,1.05,5682,5966,"x",null,"Discus cs","KAL",""]
["Karol Snapko",null,null,"Nadwislanski","PL","PMČR 2021 - Klub",{"$f":"VLOOKUP(F856,Soutez!B:C,2,FALSE)","v":"CZ"},{"$f":"VLOOKUP(F856,Soutez!B:D,3,FALSE)","v":2021},12,4190,1.05,5300,{"$f":"ROUND(K856*L856,0)","v":5565},null,null,"SZD48 JantarStd2/3","BZ","Není v databázi"]
["Petra Piskata",{"$f":"VLOOKUP(A857,Pilot,2,0)","v":1989},{"$f":"VLOOKUP(A857,Pilot,5,0)","v":"F"},{"$f":"VLOOKUP(A857,Pilot,3,0)","v":"Luhačovice"},{"$f":"VLOOKUP(A857,Pilot,4,0)","v":"CZ/M"},"PMČR 2021 - Klub",{"$f":"VLOOKUP(F857,Soutez!B:C,2,FALSE)","v":"CZ"},{"$f":"VLOOKUP(F857,Soutez!B:D,3,FALSE)","v":2021},13,4187,1.05,5097,5352,"x",null,"LS 4","FP",""]
["Lukas Plocek",1990,"M","Mladá Boleslav","CZ/C1","PMČR 2021 - Klub",{"$f":"VLOOKUP(F858,Soutez!B:C,2,FALSE)","v":"CZ"},{"$f":"VLOOKUP(F858,Soutez!B:D,3,FALSE)","v":2021},14,3369,1.05,4018,4219,"x",null,"ASW19B","AH",""]
["Marek Pechanec",1970,"M","Luhačovice","CZ/M","PMČR 2021 - Klub",{"$f":"VLOOKUP(F859,Soutez!B:C,2,FALSE)","v":"CZ"},{"$f":"VLOOKUP(F859,Soutez!B:D,3,FALSE)","v":2021},15,3233,1.05,3672,3856,null,null,"StdCirrus","SJ",{"$f":"IF(ISERROR(VLOOKUP(A859,Pilot,6,0)),\"Není v databázi\",VLOOKUP(A859,Pilot,6,0))","v":""}]
["Jakub Kos",null,null,"Bielsko-Bialski","PL","PMČR 2021 - Klub",{"$f":"VLOOKUP(F860,Soutez!B:C,2,FALSE)","v":"CZ"},{"$f":"VLOOKUP(F860,Soutez!B:D,3,FALSE)","v":2021},16,3081,1.05,3309,3474,null,null,"SZD48 Jantar std3","ZAR","Není v databázi"]
["Petr Koutny",{"$f":"VLOOKUP(A861,Pilot,2,0)","v":1971},{"$f":"VLOOKUP(A861,Pilot,5,0)","v":"M"},{"$f":"VLOOKUP(A861,Pilot,3,0)","v":"Křižanov"},{"$f":"VLOOKUP(A861,Pilot,4,0)","v":"CZ/M"},"PMČR 2021 - Kombi 15m",{"$f":"VLOOKUP(F861,Soutez!B:C,2,FALSE)","v":"CZ"},{"$f":"VLOOKUP(F861,Soutez!B:D,3,FALSE)","v":2021},1,6225,1.0599999999999998,{"$f":"ROUND(J861/MAX($J$861:$J$876)*10000*0.7+(MAX($I$861:$I$876)-I861)/(MAX($I$861:$I$876)-1)*10000*0.3,0)","v":10000},{"$f":"ROUND(K861*L861,0)","v":10600},"x",null,"LS8 15m","SK",""]
["Jan Zapletal",1997,"M","Břeclav","CZ/M","PMČR 2021 - Kombi 15m",{"$f":"VLOOKUP(F862,Soutez!B:C,2,FALSE)","v":"CZ"},{"$f":"VLOOKUP(F862,Soutez!B:D,3,FALSE)","v":2021},2,6126,1.0599999999999998,9689,{"$f":"ROUND(K862*L862,0)","v":10270},"x",null,"LS8","JS",""]
["Jan Pavlik",1987,"M","Křižanov","CZ/M","PMČR 2021 - Kombi 15m",{"$f":"VLOOKUP(F863,Soutez!B:C,2,FALSE)","v":"CZ"},{"$f":"VLOOKUP(F863,Soutez!B:D,3,FALSE)","v":2021},3,6112,1.0599999999999998,9473,10041,"x",null,"LS8","JW",""]
["Pavel Louzecky",1957,"M","Přibyslav","CZ/C2","PMČR 2021 - Kombi 15m",{"$f":"VLOOKUP(F864,Soutez!B:C,2,FALSE)","v":"CZ"},{"$f":"VLOOKUP(F864,Soutez!B:D,3,FALSE)","v":2021},4,6074,1.0599999999999998,9230,9784,"x",null,"LS8","FX",""]
["Miloslav Cink",1987,"M","Letkov","CZ/C1","PMČR 2021 - Kombi 15m",{"$f":"VLOOKUP(F865,Soutez!B:C,2,FALSE)","v":"CZ"},{"$f":"VLOOKUP(F865,Soutez!B:D,3,FALSE)","v":2021},5,6073,1.0599999999999998,9029,9571,null,null,"LS8","JB",""]
["Henry Inigo-Jones",null,null,"Lasham Gliding Society",null,"PMČR 2021 - Kombi 15m",{"$f":"VLOOKUP(F866,Soutez!B:C,2,FALSE)","v":"CZ"},{"$f":"VLOOKUP(F866,Soutez!B:D,3,FALSE)","v":2021},6,5785,1.0599999999999998,8505,9015,null,null,"LS8",95,"Není v databázi"]
["Thomas Pavis",null,null,"York Gliding Centre",null,"PMČR 2021 - Kombi 15m",{"$f":"VLOOKUP(F867,Soutez!B:C,2,FALSE)","v":"CZ"},{"$f":"VLOOKUP(F867,Soutez!B:D,3,FALSE)","v":2021},7,5444,1.0599999999999998,7922,8397,null,null,"Discus2a",235,"Není v databázi"]
["Jan Horak",{"$f":"VLOOKUP(A868,Pilot,2,0)","v":1971},{"$f":"VLOOKUP(A868,Pilot,5,0)","v":"M"},{"$f":"VLOOKUP(A868,Pilot,3,0)","v":"Zbraslavice"},{"$f":"VLOOKUP(A868,Pilot,4,0)","v":"CZ/C1"},"PMČR 2021 - Kombi 15m",{"$f":"VLOOKUP(F868,Soutez!B:C,2,FALSE)","v":"CZ"},{"$f":"VLOOKUP(F868,Soutez!B:D,3,FALSE)","v":2021},8,5372,1.0599999999999998,7641,8099,"x",null,"ASW 20 WL","WX",""]
["Hana Treslova",1991,"F","Raná","CZ/C2","PMČR 2021 - Kombi 15m",{"$f":"VLOOKUP(F869,Soutez!B:C,2,FALSE)","v":"CZ"},{"$f":"VLOOKUP(F869,Soutez!B:D,3,FALSE)","v":2021},9,5335,1.0599999999999998,7399,7843,null,null,"Ventus2ax","AX",""]
["Barbora Moravcova",1994,"F","Zbraslavice","CZ/C1","PMČR 2021 - Kombi 15m",{"$f":"VLOOKUP(F870,Soutez!B:C,2,FALSE)","v":"CZ"},{"$f":"VLOOKUP(F870,Soutez!B:D,3,FALSE)","v":2021},10,5329,1.0599999999999998,7192,7624,null,null,"LS8","EU",""]
["Jiri Kusbach",1959,"M","Luhačovice","CZ/M","PMČR 2021 - Kombi 15m",{"$f":"VLOOKUP(F871,Soutez!B:C,2,FALSE)","v":"CZ"},{"$f":"VLOOKUP(F871,Soutez!B:D,3,FALSE)","v":2021},11,4688,1.0599999999999998,6272,6648,null,null,"KKB 15E FES","B",""]
["Jan Kotan",1982,"M","Letňany","CZ/C1","PMČR 2021 - Kombi 15m",{"$f":"VLOOKUP(F872,Soutez!B:C,2,FALSE)","v":"CZ"},{"$f":"VLOOKUP(F872,Soutez!B:D,3,FALSE)","v":2021},12,4674,1.0599999999999998,6056,{"$f":"ROUND(K872*L872,0)","v":6419},null,null,"Ventus2bx","YA",""]
["Jana Veprekova",1961,"F","Dvůr Králové","CZ/C2","PMČR 2021 - Kombi 15m",{"$f":"VLOOKUP(F873,Soutez!B:C,2,FALSE)","v":"CZ"},{"$f":"VLOOKUP(F873,Soutez!B:D,3,FALSE)","v":2021},13,4663,1.0599999999999998,5844,6195,null,null,"LS8","W8",""]
["Jana Treslova",1963,"F","Raná","CZ/C2","PMČR 2021 - Kombi 15m",{"$f":"VLOOKUP(F874,Soutez!B:C,2,FALSE)","v":"CZ"},{"$f":"VLOOKUP(F874,Soutez!B:D,3,FALSE)","v":2021},14,4607,1.0599999999999998,5581,5916,null,null,"Discus2a","GX",""]
["Dana Novakova",1965,"F","Mladá Boleslav","CZ/C1","PMČR 2021 - Kombi 15m",{"$f":"VLOOKUP(F875,Soutez!B:C,2,FALSE)","v":"CZ"},{"$f":"VLOOKUP(F875,Soutez!B:D,3,FALSE)","v":2021},15,4498,1.0599999999999998,5258,5573,null,null,"LS8","AU",""]
["Zdenek Balcarek",1967,"M","Kroměříž","CZ/M","PMČR 2021 - Kombi 15m",{"$f":"VLOOKUP(F876,Soutez!B:C,2,FALSE)","v":"CZ"},{"$f":"VLOOKUP(F876,Soutez!B:D,3,FALSE)","v":2021},16,4401,1.0599999999999998,4949,5246,null,null,"DiscusB","OS",""]
["Roman Mracek",{"$f":"VLOOKUP(A877,Pilot,2,0)","v":1980},{"$f":"VLOOKUP(A877,Pilot,5,0)","v":"M"},{"$f":"VLOOKUP(A877,Pilot,3,0)","v":"Letkov"},{"$f":"VLOOKUP(A877,Pilot,4,0)","v":"CZ/C1"},"PMČR 2021 - Kombi Open",{"$f":"VLOOKUP(F877,Soutez!B:C,2,FALSE)","v":"CZ"},{"$f":"VLOOKUP(F877,Soutez!B:D,3,FALSE)","v":2021},1,6274,{"$f":"VLOOKUP(F877,Soutez,12,0)","v":1.0549999999999999},{"$f":"ROUND(J877/MAX($J$877:$J$896)*10000*0.7+(MAX($I$877:$I$896)-I877)/(MAX($I$877:$I$896)-1)*10000*0.3,0)","v":10000},{"$f":"ROUND(K877*L877,0)","v":10550},"x",null,"JS3 18M","ZE",""]
["Radek Krejcirik",1991,"M","Hranice","CZ/M","PMČR 2021 - Kombi Open",{"$f":"VLOOKUP(F878,Soutez!B:C,2,FALSE)","v":"CZ"},{"$f":"VLOOKUP(F878,Soutez!B:D,3,FALSE)","v":2021},2,6065,1.0549999999999999,{"$f":"ROUND(J878/MAX($J$877:$J$896)*10000*0.7+(MAX($I$877:$I$896)-I878)/(MAX($I$877:$I$896)-1)*10000*0.3,0)","v":9609},{"$f":"ROUND(K878*L878,0)","v":10137},"x",null,"JS1 C EVO","ZF",""]
["Jan Boruvka",1984,"M","Jičín","CZ/C2","PMČR 2021 - Kombi Open",{"$f":"VLOOKUP(F879,Soutez!B:C,2,FALSE)","v":"CZ"},{"$f":"VLOOKUP(F879,Soutez!B:D,3,FALSE)","v":2021},3,5635,1.0549999999999999,8971,9464,"x",null,"VentusC","EG",""]
["Radek Kucirek",1973,"M","Havlíčkův Brod","CZ/C2","PMČR 2021 - Kombi Open",{"$f":"VLOOKUP(F880,Soutez!B:C,2,FALSE)","v":"CZ"},{"$f":"VLOOKUP(F880,Soutez!B:D,3,FALSE)","v":2021},4,5525,1.0549999999999999,8691,9169,"x",null,"EB28Edition","NA",""]
["Martin Hrivna",1978,"M","Zbraslavice","CZ/C1","PMČR 2021 - Kombi Open",{"$f":"VLOOKUP(F881,Soutez!B:C,2,FALSE)","v":"CZ"},{"$f":"VLOOKUP(F881,Soutez!B:D,3,FALSE)","v":2021},5,5434,1.0549999999999999,8431,8895,"x",null,"ASG29E","NX",""]
["Tomas Rendla",1973,"M","Zbraslavice","CZ/C1","PMČR 2021 - Kombi Open",{"$f":"VLOOKUP(F882,Soutez!B:C,2,FALSE)","v":"CZ"},{"$f":"VLOOKUP(F882,Soutez!B:D,3,FALSE)","v":2021},6,5401,1.0549999999999999,8237,8690,null,null,"EB29R","EX",""]
["Radek Zima 78",1978,"M","Hodkovice","CZ/C2","PMČR 2021 - Kombi Open",{"$f":"VLOOKUP(F883,Soutez!B:C,2,FALSE)","v":"CZ"},{"$f":"VLOOKUP(F883,Soutez!B:D,3,FALSE)","v":2021},7,5336,1.0549999999999999,8006,8446,"x",null,"ASG29E","XZ",""]
["Ondrej Dupal",{"$f":"VLOOKUP(A884,Pilot,2,0)","v":1966},{"$f":"VLOOKUP(A884,Pilot,5,0)","v":"M"},{"$f":"VLOOKUP(A884,Pilot,3,0)","v":"GAC Benešov"},{"$f":"VLOOKUP(A884,Pilot,4,0)","v":"CZ/C1"},"PMČR 2021 - Kombi Open",{"$f":"VLOOKUP(F884,Soutez!B:C,2,FALSE)","v":"CZ"},{"$f":"VLOOKUP(F884,Soutez!B:D,3,FALSE)","v":2021},8,5326,1.0549999999999999,7837,8268,"x",null,"ASG29E","GO",""]
["David Mach",1994,"M","Hronov","CZ/C2","PMČR 2021 - Kombi Open",{"$f":"VLOOKUP(F885,Soutez!B:C,2,FALSE)","v":"CZ"},{"$f":"VLOOKUP(F885,Soutez!B:D,3,FALSE)","v":2021},9,5323,1.0549999999999999,7676,8098,null,null,"JS3 18M","XM",""]
["Petr Krejcirik",1960,"M","Hranice","CZ/M","PMČR 2021 - Kombi Open",{"$f":"VLOOKUP(F886,Soutez!B:C,2,FALSE)","v":"CZ"},{"$f":"VLOOKUP(F886,Soutez!B:D,3,FALSE)","v":2021},10,5249,1.0549999999999999,7435,7844,null,null,"JS3 18M","VB",""]
["Petr Hotovy",1958,"M","Česká Lípa","CZ/C2","PMČR 2021 - Kombi Open",{"$f":"VLOOKUP(F887,Soutez!B:C,2,FALSE)","v":"CZ"},{"$f":"VLOOKUP(F887,Soutez!B:D,3,FALSE)","v":2021},11,5213,1.0549999999999999,7237,7635,null,null,"JS1 18m EVO","IGC",""]
["Michaela Rendlova",2004,"F","Toužim","CZ/C1","PMČR 2021 - Kombi Open",{"$f":"VLOOKUP(F888,Soutez!B:C,2,FALSE)","v":"CZ"},{"$f":"VLOOKUP(F888,Soutez!B:D,3,FALSE)","v":2021},12,5193,1.0549999999999999,7057,7445,null,null,"ASG29E","QX","Junior v roce 2023"]
["Ivan Novak",1962,"M","Mladá Boleslav","CZ/C1","PMČR 2021 - Kombi Open",{"$f":"VLOOKUP(F889,Soutez!B:C,2,FALSE)","v":"CZ"},{"$f":"VLOOKUP(F889,Soutez!B:D,3,FALSE)","v":2021},13,5131,1.0549999999999999,6830,7206,null,null,"ASG29E","QZ",""]
["Alena Netusilova",1970,"F","Zbraslavice","CZ/C1","PMČR 2021 - Kombi Open",{"$f":"VLOOKUP(F890,Soutez!B:C,2,FALSE)","v":"CZ"},{"$f":"VLOOKUP(F890,Soutez!B:D,3,FALSE)","v":2021},14,5089,1.0549999999999999,6625,6989,null,null,"JS 1 C EVO","JX",""]
["Lenka Kuthanova",{"$f":"VLOOKUP(A891,Pilot,2,0)","v":1960},{"$f":"VLOOKUP(A891,Pilot,5,0)","v":"F"},{"$f":"VLOOKUP(A891,Pilot,3,0)","v":"Tábor"},{"$f":"VLOOKUP(A891,Pilot,4,0)","v":"CZ/C1"},"PMČR 2021 - Kombi Open",{"$f":"VLOOKUP(F891,Soutez!B:C,2,FALSE)","v":"CZ"},{"$f":"VLOOKUP(F891,Soutez!B:D,3,FALSE)","v":2021},15,4805,1.0549999999999999,6150,6488,"x","x","JS1 18EVO","LX",""]
["Jan Kovalcik",null,null,"Bratislava",null,"PMČR 2021 - Kombi Open",{"$f":"VLOOKUP(F892,Soutez!B:C,2,FALSE)","v":"CZ"},{"$f":"VLOOKUP(F892,Soutez!B:D,3,FALSE)","v":2021},16,4720,1.0549999999999999,5898,6222,null,null,"DISCUS2CFES","ZI","Není v databázi"]
["Martin Picka",{"$f":"VLOOKUP(A893,Pilot,2,0)","v":1974},{"$f":"VLOOKUP(A893,Pilot,5,0)","v":"M"},{"$f":"VLOOKUP(A893,Pilot,3,0)","v":"Tábor"},{"$f":"VLOOKUP(A893,Pilot,4,0)","v":"CZ/C1"},"PMČR 2021 - Kombi Open",{"$f":"VLOOKUP(F893,Soutez!B:C,2,FALSE)","v":"CZ"},{"$f":"VLOOKUP(F893,Soutez!B:D,3,FALSE)","v":2021},17,4543,1.0549999999999999,5542,5847,"x",null,"Ventus2C","CX",""]
["Petr Bartak",1984,"M","Letkov","CZ/C1","PMČR 2021 - Kombi Open",{"$f":"VLOOKUP(F894,Soutez!B:C,2,FALSE)","v":"CZ"},{"$f":"VLOOKUP(F894,Soutez!B:D,3,FALSE)","v":2021},18,4539,1.0549999999999999,{"$f":"ROUND(J894/MAX($J$877:$J$896)*10000*0.7+(MAX($I$877:$I$896)-I894)/(MAX($I$877:$I$896)-1)*10000*0.3,0)","v":5380},5676,"x",null,"LS6c-18W","BL",""]
["Lukas Benedikt",null,null,"Trnava",null,"PMČR 2021 - Kombi Open",{"$f":"VLOOKUP(F895,Soutez!B:C,2,FALSE)","v":"CZ"},{"$f":"VLOOKUP(F895,Soutez!B:D,3,FALSE)","v":2021},19,4468,1.0549999999999999,5143,{"$f":"ROUND(K895*L895,0)","v":5426},null,null,"Ventus3f-18m","LB","Není v databázi"]
["Ivan Harasta 65",{"$f":"VLOOKUP(A896,Pilot,2,0)","v":1965},{"$f":"VLOOKUP(A896,Pilot,5,0)","v":"M"},{"$f":"VLOOKUP(A896,Pilot,3,0)","v":"Toužim"},{"$f":"VLOOKUP(A896,Pilot,4,0)","v":"CZ/C1"},"PMČR 2021 - Kombi Open",{"$f":"VLOOKUP(F896,Soutez!B:C,2,FALSE)","v":"CZ"},{"$f":"VLOOKUP(F896,Soutez!B:D,3,FALSE)","v":2021},20,1819,1.0549999999999999,2029,2141,null,null,"Nimbus 3/25.5m",12,""]
["Jan Louda",{"$f":"VLOOKUP(A897,Pilot,2,0)","v":1986},{"$f":"VLOOKUP(A897,Pilot,5,0)","v":"M"},{"$f":"VLOOKUP(A897,Pilot,3,0)","v":"Mladá Boleslav"},{"$f":"VLOOKUP(A897,Pilot,4,0)","v":"CZ/C1"},"PMRg 2021 - Klub",{"$f":"VLOOKUP(F897,Soutez!B:C,2,FALSE)","v":"CZ"},{"$f":"VLOOKUP(F897,Soutez!B:D,3,FALSE)","v":2021},1,5782,{"$f":"VLOOKUP(F897,Soutez,12,0)","v":0.94000000000000006},{"$f":"ROUND(J897/MAX($J$897:$J$922)*10000*0.7+(MAX($I$897:$I$922)-I897)/(MAX($I$897:$I$922)-1)*10000*0.3,0)","v":10000},{"$f":"ROUND(K897*L897,0)","v":9400},"x",null,"ASW-19B","XS",""]
["Pavel Jiranek",1993,"M","Toužim","CZ/C1","PMRg 2021 - Klub",{"$f":"VLOOKUP(F898,Soutez!B:C,2,FALSE)","v":"CZ"},{"$f":"VLOOKUP(F898,Soutez!B:D,3,FALSE)","v":2021},2,5754,0.94000000000000006,9846,{"$f":"ROUND(K898*L898,0)","v":9255},"x",null,"Std. Cirrus","IYD",""]
["Pavel Trybenekr",1990,"M","Hořice","CZ/C2","PMRg 2021 - Klub",{"$f":"VLOOKUP(F899,Soutez!B:C,2,FALSE)","v":"CZ"},{"$f":"VLOOKUP(F899,Soutez!B:D,3,FALSE)","v":2021},3,5741,0.94000000000000006,9710,9127,"x",null,"LS-4","PF",""]
["Hana Treslova",1991,"F","Raná","CZ/C2","PMRg 2021 - Klub",{"$f":"VLOOKUP(F900,Soutez!B:C,2,FALSE)","v":"CZ"},{"$f":"VLOOKUP(F900,Soutez!B:D,3,FALSE)","v":2021},4,5404,0.94000000000000006,9182,8631,"x","x","Std. Cirrus","CI",""]
["Jiri Stepanek",1956,"M","Moravská Třebová","CZ/M","PMRg 2021 - Klub",{"$f":"VLOOKUP(F901,Soutez!B:C,2,FALSE)","v":"CZ"},{"$f":"VLOOKUP(F901,Soutez!B:D,3,FALSE)","v":2021},5,5331,0.94000000000000006,8974,8436,"x",null,"VSO-10","H9",""]
["Martin Stepanek",1987,"M","Moravská Třebová","CZ/M","PMRg 2021 - Klub",{"$f":"VLOOKUP(F902,Soutez!B:C,2,FALSE)","v":"CZ"},{"$f":"VLOOKUP(F902,Soutez!B:D,3,FALSE)","v":2021},6,5267,0.94000000000000006,8777,8250,"x",null,"ASW-15B","LE",""]
["Petr Stepanek",1989,"M","Moravská Třebová","CZ/M","PMRg 2021 - Klub",{"$f":"VLOOKUP(F903,Soutez!B:C,2,FALSE)","v":"CZ"},{"$f":"VLOOKUP(F903,Soutez!B:D,3,FALSE)","v":2021},7,5104,0.94000000000000006,8459,7951,"x",null,"ASW-15B","ZP",""]
["Zdenek Balcarek",1967,"M","Kroměříž","CZ/M","PMRg 2021 - Klub",{"$f":"VLOOKUP(F904,Soutez!B:C,2,FALSE)","v":"CZ"},{"$f":"VLOOKUP(F904,Soutez!B:D,3,FALSE)","v":2021},8,4662,0.94000000000000006,7804,7336,"x",null,"Discus b","OS",""]
["Zdenek Boruvka 86",1986,"M","Jičín","CZ/C2","PMRg 2021 - Klub",{"$f":"VLOOKUP(F905,Soutez!B:C,2,FALSE)","v":"CZ"},{"$f":"VLOOKUP(F905,Soutez!B:D,3,FALSE)","v":2021},9,4641,0.94000000000000006,7659,7199,null,null,"Std. Cirrus","BJ",""]
["Petr Valenta 94",{"$f":"VLOOKUP(A906,Pilot,2,0)","v":1994},{"$f":"VLOOKUP(A906,Pilot,5,0)","v":"M"},{"$f":"VLOOKUP(A906,Pilot,3,0)","v":"Kunovice"},{"$f":"VLOOKUP(A906,Pilot,4,0)","v":"CZ/M"},"PMRg 2021 - Klub",{"$f":"VLOOKUP(F906,Soutez!B:C,2,FALSE)","v":"CZ"},{"$f":"VLOOKUP(F906,Soutez!B:D,3,FALSE)","v":2021},10,4371,0.94000000000000006,7212,6779,"x",null,"Std. Cirrus","OK",""]
["Pavlina Horackova",1965,"F","Šumperk","CZ/M","PMRg 2021 - Klub",{"$f":"VLOOKUP(F907,Soutez!B:C,2,FALSE)","v":"CZ"},{"$f":"VLOOKUP(F907,Soutez!B:D,3,FALSE)","v":2021},11,4345,0.94000000000000006,7060,6636,"x","x","SZD-48 Jantar std. 2 (3)","SU",""]
["Jiri Vondracek",1989,"M","Kladno","CZ/C1","PMRg 2021 - Klub",{"$f":"VLOOKUP(F908,Soutez!B:C,2,FALSE)","v":"CZ"},{"$f":"VLOOKUP(F908,Soutez!B:D,3,FALSE)","v":2021},12,4337,0.94000000000000006,6931,6515,"x",null,"ASW-15B","2P",""]
["Jiri Maier 66",1966,"M","Raná","CZ/C2","PMRg 2021 - Klub",{"$f":"VLOOKUP(F909,Soutez!B:C,2,FALSE)","v":"CZ"},{"$f":"VLOOKUP(F909,Soutez!B:D,3,FALSE)","v":2021},13,4311,0.94000000000000006,6779,6372,"x",null,"ASW-24E","JM",""]
["Martin Kriz",{"$f":"VLOOKUP(A910,Pilot,2,0)","v":1968},{"$f":"VLOOKUP(A910,Pilot,5,0)","v":"M"},{"$f":"VLOOKUP(A910,Pilot,3,0)","v":"Přibyslav"},{"$f":"VLOOKUP(A910,Pilot,4,0)","v":"CZ/C2"},"PMRg 2021 - Klub",{"$f":"VLOOKUP(F910,Soutez!B:C,2,FALSE)","v":"CZ"},{"$f":"VLOOKUP(F910,Soutez!B:D,3,FALSE)","v":2021},14,4245,0.94000000000000006,6579,6184,"x",null,"ASW-20 (A)+F /15m WL",67,""]
["Jan Florian",1992,"M","Zbraslavice","CZ/C1","PMRg 2021 - Klub",{"$f":"VLOOKUP(F911,Soutez!B:C,2,FALSE)","v":"CZ"},{"$f":"VLOOKUP(F911,Soutez!B:D,3,FALSE)","v":2021},15,3748,0.94000000000000006,5858,5507,"x",null,"Std. Cirrus","C1",""]
["Pavel Liska",1965,"M","Roudnice","CZ/C2","PMRg 2021 - Klub",{"$f":"VLOOKUP(F912,Soutez!B:C,2,FALSE)","v":"CZ"},{"$f":"VLOOKUP(F912,Soutez!B:D,3,FALSE)","v":2021},15,3748,0.94000000000000006,5858,5507,"x",null,"ASW-19B","RCE",""]
["Michal Lesinger",1966,"M","Moravská Třebová","CZ/M","PMRg 2021 - Klub",{"$f":"VLOOKUP(F913,Soutez!B:C,2,FALSE)","v":"CZ"},{"$f":"VLOOKUP(F913,Soutez!B:D,3,FALSE)","v":2021},17,3527,0.94000000000000006,5350,5029,null,null,"ASW-19B","LL",""]
["Pavel Koudelka",1973,"M","Křižanov","CZ/M","PMRg 2021 - Klub",{"$f":"VLOOKUP(F914,Soutez!B:C,2,FALSE)","v":"CZ"},{"$f":"VLOOKUP(F914,Soutez!B:D,3,FALSE)","v":2021},18,3320,0.94000000000000006,4979,4680,"x",null,"Std. Cirrus","ZL",""]
["Petr Prichystal",1973,"M","Moravská Třebová","CZ/M","PMRg 2021 - Klub",{"$f":"VLOOKUP(F915,Soutez!B:C,2,FALSE)","v":"CZ"},{"$f":"VLOOKUP(F915,Soutez!B:D,3,FALSE)","v":2021},19,3256,0.94000000000000006,4782,4495,"x",null,"ASW-19B","AE",""]
["Jan Vozeh",1995,"M","Rakovník","CZ/C1","PMRg 2021 - Klub",{"$f":"VLOOKUP(F916,Soutez!B:C,2,FALSE)","v":"CZ"},{"$f":"VLOOKUP(F916,Soutez!B:D,3,FALSE)","v":2021},20,3074,0.94000000000000006,4442,4175,"x",null,"Std. Cirrus","OG",""]
["Jakub Kohn",1992,"M","Prostějov","CZ/M","PMRg 2021 - Klub",{"$f":"VLOOKUP(F917,Soutez!B:C,2,FALSE)","v":"CZ"},{"$f":"VLOOKUP(F917,Soutez!B:D,3,FALSE)","v":2021},21,2944,0.94000000000000006,4164,3914,"x",null,"ASW-15B","FK",""]
["Josef Hlusek",1993,"M","Kunovice","CZ/M","PMRg 2021 - Klub",{"$f":"VLOOKUP(F918,Soutez!B:C,2,FALSE)","v":"CZ"},{"$f":"VLOOKUP(F918,Soutez!B:D,3,FALSE)","v":2021},22,2433,0.94000000000000006,3426,3220,"x",null,"Std. Cirrus","WO",""]
["Petr Kubik 75",1975,"M","Moravská Třebová","CZ/M","PMRg 2021 - Klub",{"$f":"VLOOKUP(F919,Soutez!B:C,2,FALSE)","v":"CZ"},{"$f":"VLOOKUP(F919,Soutez!B:D,3,FALSE)","v":2021},23,2399,0.94000000000000006,3264,{"$f":"ROUND(K919*L919,0)","v":3068},"x",null,"ASW-19B","NO",""]
["Marek Pechar",{"$f":"VLOOKUP(A920,Pilot,2,0)","v":1995},{"$f":"VLOOKUP(A920,Pilot,5,0)","v":"M"},{"$f":"VLOOKUP(A920,Pilot,3,0)","v":"Chrudim"},{"$f":"VLOOKUP(A920,Pilot,4,0)","v":"CZ/C2"},"PMRg 2021 - Klub",{"$f":"VLOOKUP(F920,Soutez!B:C,2,FALSE)","v":"CZ"},{"$f":"VLOOKUP(F920,Soutez!B:D,3,FALSE)","v":2021},24,1755,0.94000000000000006,2365,2223,"x",null,"Std. Cirrus","JE",{"$f":"IF(ISERROR(VLOOKUP(A920,Pilot,6,0)),\"Není v databázi\",VLOOKUP(A920,Pilot,6,0))","v":""}]
["Jiri Krofta",1988,"M","Hosín","CZ/C1","PMRg 2021 - Klub",{"$f":"VLOOKUP(F921,Soutez!B:C,2,FALSE)","v":"CZ"},{"$f":"VLOOKUP(F921,Soutez!B:D,3,FALSE)","v":2021},25,1748,0.94000000000000006,2236,2102,"x",null,"Std. Cirrus","YU",""]
["Zuzana Kutilkova",1993,"F","Křižanov","CZ/M","PMRg 2021 - Klub",{"$f":"VLOOKUP(F922,Soutez!B:C,2,FALSE)","v":"CZ"},{"$f":"VLOOKUP(F922,Soutez!B:D,3,FALSE)","v":2021},26,813,0.94000000000000006,984,925,"x","x","LS-1f","DP",""]
["Tomas Rendla",{"$f":"VLOOKUP(A923,Pilot,2,0)","v":1973},{"$f":"VLOOKUP(A923,Pilot,5,0)","v":"M"},{"$f":"VLOOKUP(A923,Pilot,3,0)","v":"Zbraslavice"},{"$f":"VLOOKUP(A923,Pilot,4,0)","v":"CZ/C1"},"PMRg 2021 - Kombi",{"$f":"VLOOKUP(F923,Soutez!B:C,2,FALSE)","v":"CZ"},{"$f":"VLOOKUP(F923,Soutez!B:D,3,FALSE)","v":2021},1,5477,0.93,{"$f":"ROUND(J923/MAX($J$923:$J$935)*10000*0.7+(MAX($I$923:$I$935)-I923)/(MAX($I$923:$I$935)-1)*10000*0.3,0)","v":10000},{"$f":"ROUND(K923*L923,0)","v":9300},"x",null,"EB-29R","EX",""]
["Radek Kucirek",1973,"M","Havlíčkův Brod","CZ/C2","PMRg 2021 - Kombi",{"$f":"VLOOKUP(F924,Soutez!B:C,2,FALSE)","v":"CZ"},{"$f":"VLOOKUP(F924,Soutez!B:D,3,FALSE)","v":2021},2,5461,0.93,9730,{"$f":"ROUND(K924*L924,0)","v":9049},null,null,"EB-28 edition","NA",""]
["Jan Boruvka",1984,"M","Jičín","CZ/C2","PMRg 2021 - Kombi",{"$f":"VLOOKUP(F925,Soutez!B:C,2,FALSE)","v":"CZ"},{"$f":"VLOOKUP(F925,Soutez!B:D,3,FALSE)","v":2021},3,5225,0.93,9178,8536,"x",null,"Ventus C 17.6m","EG",""]
["Michaela Rendlova",2004,"F","Toužim","CZ/C1","PMRg 2021 - Kombi",{"$f":"VLOOKUP(F926,Soutez!B:C,2,FALSE)","v":"CZ"},{"$f":"VLOOKUP(F926,Soutez!B:D,3,FALSE)","v":2021},4,4833,0.93,8427,7837,"x","x","ASG 29/18m","NX","Junior v roce 2023"]
["Radek Zima 78",1978,"M","Hodkovice","CZ/C2","PMRg 2021 - Kombi",{"$f":"VLOOKUP(F927,Soutez!B:C,2,FALSE)","v":"CZ"},{"$f":"VLOOKUP(F927,Soutez!B:D,3,FALSE)","v":2021},5,4825,0.93,8167,7595,null,null,"ASG 29/18m","XZ",""]
["Jiri Steiger",{"$f":"VLOOKUP(A928,Pilot,2,0)","v":1969},{"$f":"VLOOKUP(A928,Pilot,5,0)","v":"M"},{"$f":"VLOOKUP(A928,Pilot,3,0)","v":"Olomouc"},{"$f":"VLOOKUP(A928,Pilot,4,0)","v":"CZ/M"},"PMRg 2021 - Kombi",{"$f":"VLOOKUP(F928,Soutez!B:C,2,FALSE)","v":"CZ"},{"$f":"VLOOKUP(F928,Soutez!B:D,3,FALSE)","v":2021},6,4284,0.93,7225,6719,"x",null,"Ventus 3M 18m","JSI",""]
["Jaromir Macoun",1999,"M","Jičín","CZ/C2","PMRg 2021 - Kombi",{"$f":"VLOOKUP(F929,Soutez!B:C,2,FALSE)","v":"CZ"},{"$f":"VLOOKUP(F929,Soutez!B:D,3,FALSE)","v":2021},7,4128,0.93,6776,6302,null,null,"LS-8 15m","AU","Junior v roce 2023"]
["Miroslav Koci",1961,"M","Žamberk","CZ/C2","PMRg 2021 - Kombi",{"$f":"VLOOKUP(F930,Soutez!B:C,2,FALSE)","v":"CZ"},{"$f":"VLOOKUP(F930,Soutez!B:D,3,FALSE)","v":2021},8,3695,0.93,5972,5554,null,null,"Ventus 2cxm","E8",""]
["Vit Morkovsky",2000,"M","Polička","CZ/C2","PMRg 2021 - Kombi",{"$f":"VLOOKUP(F931,Soutez!B:C,2,FALSE)","v":"CZ"},{"$f":"VLOOKUP(F931,Soutez!B:D,3,FALSE)","v":2021},9,3438,0.93,5394,{"$f":"ROUND(K931*L931,0)","v":5016},null,null,"Discus 2a","GX","Junior v roce 2023"]
["Ivan Tvrdik",1997,"M","Letňany","CZ/C1","PMRg 2021 - Kombi",{"$f":"VLOOKUP(F932,Soutez!B:C,2,FALSE)","v":"CZ"},{"$f":"VLOOKUP(F932,Soutez!B:D,3,FALSE)","v":2021},10,2951,0.93,4522,4205,null,null,"LS-8 15m","EU",""]
["Jan Zapletal",1997,"M","Břeclav","CZ/M","PMRg 2021 - Kombi",{"$f":"VLOOKUP(F933,Soutez!B:C,2,FALSE)","v":"CZ"},{"$f":"VLOOKUP(F933,Soutez!B:D,3,FALSE)","v":2021},11,2697,0.93,3947,3671,null,null,"LS-8 15m","JS",""]
["Antonin Kutalek",1943,"M","Zábřeh","CZ/M","PMRg 2021 - Kombi",{"$f":"VLOOKUP(F934,Soutez!B:C,2,FALSE)","v":"CZ"},{"$f":"VLOOKUP(F934,Soutez!B:D,3,FALSE)","v":2021},12,1816,0.93,2571,2391,null,null,"LAK-17AT 18m","GL",""]
["Petr Panek",1975,"M","Dvůr Králové","CZ/C2","PMRg 2021 - Kombi",{"$f":"VLOOKUP(F935,Soutez!B:C,2,FALSE)","v":"CZ"},{"$f":"VLOOKUP(F935,Soutez!B:D,3,FALSE)","v":2021},13,495,0.93,633,589,"x",null,"JS1B EVO 18m","IGC",""]
["Jan Stastny",{"$f":"VLOOKUP(A936,Pilot,2,0)","v":2003},{"$f":"VLOOKUP(A936,Pilot,5,0)","v":"M"},{"$f":"VLOOKUP(A936,Pilot,3,0)","v":"Medlánky"},{"$f":"VLOOKUP(A936,Pilot,4,0)","v":"CZ/M"},"PMČRj 2021 - Klub",{"$f":"VLOOKUP(F936,Soutez!B:C,2,FALSE)","v":"CZ"},{"$f":"VLOOKUP(F936,Soutez!B:D,3,FALSE)","v":2021},1,4704,0.91500000000000004,{"$f":"ROUND(J936/MAX($J$936:$J$964)*10000*0.7+(MAX($I$936:$I$964)-I936)/(MAX($I$936:$I$964)-1)*10000*0.3,0)","v":10000},{"$f":"ROUND(K936*L936,0)","v":9150},"x",null,"ASW-15B","TW","Junior v roce 2023"]
["Lukas Kriz",2003,"M","Křižanov","CZ/M","PMČRj 2021 - Klub",{"$f":"VLOOKUP(F937,Soutez!B:C,2,FALSE)","v":"CZ"},{"$f":"VLOOKUP(F937,Soutez!B:D,3,FALSE)","v":2021},2,4628,0.91500000000000004,{"$f":"ROUND(J937/MAX($J$936:$J$964)*10000*0.7+(MAX($I$936:$I$964)-I937)/(MAX($I$936:$I$964)-1)*10000*0.3,0)","v":9780},{"$f":"ROUND(K937*L937,0)","v":8949},null,null,"Std. Cirrus","EJ","Junior v roce 2023"]
["Vladimir Hammer",2000,"M","Letkov","CZ/C1","PMČRj 2021 - Klub",{"$f":"VLOOKUP(F938,Soutez!B:C,2,FALSE)","v":"CZ"},{"$f":"VLOOKUP(F938,Soutez!B:D,3,FALSE)","v":2021},3,4200,0.91500000000000004,9036,8268,"x",null,"Std. Cirrus","UB","Junior v roce 2023"]
["Tereza Koubkova",1999,"F","Vysoké Mýto","CZ/C2","PMČRj 2021 - Klub",{"$f":"VLOOKUP(F939,Soutez!B:C,2,FALSE)","v":"CZ"},{"$f":"VLOOKUP(F939,Soutez!B:D,3,FALSE)","v":2021},4,4051,0.91500000000000004,8707,7967,"x","x","Std. Cirrus","WY","Junior v roce 2023"]
["Tomas Hynek",2002,"M","Dvůr Králové","CZ/C2","PMČRj 2021 - Klub",{"$f":"VLOOKUP(F940,Soutez!B:C,2,FALSE)","v":"CZ"},{"$f":"VLOOKUP(F940,Soutez!B:D,3,FALSE)","v":2021},5,4043,0.91500000000000004,8588,7858,"x",null,"Std. Cirrus","HT","Junior v roce 2023"]
["Tomas Hulmak",1999,"M","Hosín","CZ/C1","PMČRj 2021 - Klub",{"$f":"VLOOKUP(F941,Soutez!B:C,2,FALSE)","v":"CZ"},{"$f":"VLOOKUP(F941,Soutez!B:D,3,FALSE)","v":2021},6,3781,0.91500000000000004,8091,7403,"x",null,"ASW-15B","HH","Junior v roce 2023"]
["Lukas Volek",{"$f":"VLOOKUP(A942,Pilot,2,0)","v":2004},{"$f":"VLOOKUP(A942,Pilot,5,0)","v":"M"},{"$f":"VLOOKUP(A942,Pilot,3,0)","v":"Hodkovice"},{"$f":"VLOOKUP(A942,Pilot,4,0)","v":"CZ/C2"},"PMČRj 2021 - Klub",{"$f":"VLOOKUP(F942,Soutez!B:C,2,FALSE)","v":"CZ"},{"$f":"VLOOKUP(F942,Soutez!B:D,3,FALSE)","v":2021},7,3675,0.91500000000000004,7826,7161,"x",null,"ASW-15B","B","Junior v roce 2023"]
["Petr Havelka",1997,"M","Zbraslavice","CZ/C1","PMČRj 2021 - Klub",{"$f":"VLOOKUP(F943,Soutez!B:C,2,FALSE)","v":"CZ"},{"$f":"VLOOKUP(F943,Soutez!B:D,3,FALSE)","v":2021},8,3484,0.91500000000000004,7435,6803,"x",null,"ASW-19B","PH",""]
["Tomas Moravec",2000,"M","Žamberk","CZ/C2","PMČRj 2021 - Klub",{"$f":"VLOOKUP(F944,Soutez!B:C,2,FALSE)","v":"CZ"},{"$f":"VLOOKUP(F944,Soutez!B:D,3,FALSE)","v":2021},9,3375,0.91500000000000004,7165,6556,"x",null,"Std. Cirrus","OK6","Junior v roce 2023"]
["Lukas Maly",1998,"M","Vysoké Mýto","CZ/C2","PMČRj 2021 - Klub",{"$f":"VLOOKUP(F945,Soutez!B:C,2,FALSE)","v":"CZ"},{"$f":"VLOOKUP(F945,Soutez!B:D,3,FALSE)","v":2021},10,3355,0.91500000000000004,7028,6431,"x",null,"ASW-15B","AM","Junior v roce 2023"]
["Vit Tvrdik",2000,"M","Letňany","CZ/C1","PMČRj 2021 - Klub",{"$f":"VLOOKUP(F946,Soutez!B:C,2,FALSE)","v":"CZ"},{"$f":"VLOOKUP(F946,Soutez!B:D,3,FALSE)","v":2021},11,3329,0.91500000000000004,6882,6297,"x",null,"ASW-19B","HDI","Junior v roce 2023"]
["Ondrej Dvorak 98",1998,"M","Mladá Boleslav","CZ/C1","PMČRj 2021 - Klub",{"$f":"VLOOKUP(F947,Soutez!B:C,2,FALSE)","v":"CZ"},{"$f":"VLOOKUP(F947,Soutez!B:D,3,FALSE)","v":2021},12,3305,0.91500000000000004,6740,6167,"x",null,"ASW-19B","AH","Junior v roce 2023"]
["Jan Cibulka",{"$f":"VLOOKUP(A948,Pilot,2,0)","v":2002},{"$f":"VLOOKUP(A948,Pilot,5,0)","v":"M"},{"$f":"VLOOKUP(A948,Pilot,3,0)","v":"Letňany"},{"$f":"VLOOKUP(A948,Pilot,4,0)","v":"CZ/C1"},"PMČRj 2021 - Klub",{"$f":"VLOOKUP(F948,Soutez!B:C,2,FALSE)","v":"CZ"},{"$f":"VLOOKUP(F948,Soutez!B:D,3,FALSE)","v":2021},13,3194,0.91500000000000004,6467,5917,"x",null,"ASW-19B","KZ","Junior v roce 2023"]
["Petr Hosek",{"$f":"VLOOKUP(A949,Pilot,2,0)","v":2001},{"$f":"VLOOKUP(A949,Pilot,5,0)","v":"M"},{"$f":"VLOOKUP(A949,Pilot,3,0)","v":"Beroun"},{"$f":"VLOOKUP(A949,Pilot,4,0)","v":"CZ/C1"},"PMČRj 2021 - Klub",{"$f":"VLOOKUP(F949,Soutez!B:C,2,FALSE)","v":"CZ"},{"$f":"VLOOKUP(F949,Soutez!B:D,3,FALSE)","v":2021},14,3186,0.91500000000000004,6348,5808,"x",null,"VSO-10","B1","Junior v roce 2023"]
["Matej Jelinek",1999,"M","Hronov","CZ/C2","PMČRj 2021 - Klub",{"$f":"VLOOKUP(F950,Soutez!B:C,2,FALSE)","v":"CZ"},{"$f":"VLOOKUP(F950,Soutez!B:D,3,FALSE)","v":2021},15,3152,0.91500000000000004,6190,5664,"x",null,"Std. Cirrus","ZF","Junior v roce 2023"]
["Michaela Krizova",2001,"F","Přibyslav","CZ/C2","PMČRj 2021 - Klub",{"$f":"VLOOKUP(F951,Soutez!B:C,2,FALSE)","v":"CZ"},{"$f":"VLOOKUP(F951,Soutez!B:D,3,FALSE)","v":2021},16,3092,0.91500000000000004,5994,5485,null,null,"Std. Cirrus","XC","Junior v roce 2023"]
["Jakub Malik",1999,"M","Letňany","CZ/C1","PMČRj 2021 - Klub",{"$f":"VLOOKUP(F952,Soutez!B:C,2,FALSE)","v":"CZ"},{"$f":"VLOOKUP(F952,Soutez!B:D,3,FALSE)","v":2021},17,3075,0.91500000000000004,5862,5364,null,null,"Discus b WL","DP","Junior v roce 2023"]
["Michal Coufal",{"$f":"VLOOKUP(A953,Pilot,2,0)","v":1999},{"$f":"VLOOKUP(A953,Pilot,5,0)","v":"M"},{"$f":"VLOOKUP(A953,Pilot,3,0)","v":"Jičín"},{"$f":"VLOOKUP(A953,Pilot,4,0)","v":"CZ/C2"},"PMČRj 2021 - Klub",{"$f":"VLOOKUP(F953,Soutez!B:C,2,FALSE)","v":"CZ"},{"$f":"VLOOKUP(F953,Soutez!B:D,3,FALSE)","v":2021},18,3066,0.91500000000000004,5741,5253,"x",null,"Std. Cirrus","FS","Junior v roce 2023"]
["Jan Beran",1999,"M","Kladno","CZ/C1","PMČRj 2021 - Klub",{"$f":"VLOOKUP(F954,Soutez!B:C,2,FALSE)","v":"CZ"},{"$f":"VLOOKUP(F954,Soutez!B:D,3,FALSE)","v":2021},19,2977,0.91500000000000004,5501,5033,"x",null,"ASW-19B","HB","Junior v roce 2023"]
["Tibor Hezina",2002,"M","Křižanov","CZ/M","PMČRj 2021 - Klub",{"$f":"VLOOKUP(F955,Soutez!B:C,2,FALSE)","v":"CZ"},{"$f":"VLOOKUP(F955,Soutez!B:D,3,FALSE)","v":2021},20,2897,0.91500000000000004,5275,4827,"x",null,"Std. Cirrus","IJ","Junior v roce 2023"]
["Jan Adam",2002,"M","Podhořany","CZ/C2","PMČRj 2021 - Klub",{"$f":"VLOOKUP(F956,Soutez!B:C,2,FALSE)","v":"CZ"},{"$f":"VLOOKUP(F956,Soutez!B:D,3,FALSE)","v":2021},21,2878,0.91500000000000004,5140,4703,"x",null,"Std. Cirrus","YX","Junior v roce 2023"]
["Jiri Maier 99",1999,"M","Raná","CZ/C2","PMČRj 2021 - Klub",{"$f":"VLOOKUP(F957,Soutez!B:C,2,FALSE)","v":"CZ"},{"$f":"VLOOKUP(F957,Soutez!B:D,3,FALSE)","v":2021},22,2561,0.91500000000000004,4561,4173,null,null,"Discus bT","TAL","Junior v roce 2023"]
["Premysl Chvoj",{"$f":"VLOOKUP(A958,Pilot,2,0)","v":2003},{"$f":"VLOOKUP(A958,Pilot,5,0)","v":"M"},{"$f":"VLOOKUP(A958,Pilot,3,0)","v":"Zbraslavice"},{"$f":"VLOOKUP(A958,Pilot,4,0)","v":"CZ/C1"},"PMČRj 2021 - Klub",{"$f":"VLOOKUP(F958,Soutez!B:C,2,FALSE)","v":"CZ"},{"$f":"VLOOKUP(F958,Soutez!B:D,3,FALSE)","v":2021},23,2341,0.91500000000000004,4126,3775,"x",null,"G-102 Astir cs","MV","Junior v roce 2023"]
["Katerina Vancurova",{"$f":"VLOOKUP(A959,Pilot,2,0)","v":2002},{"$f":"VLOOKUP(A959,Pilot,5,0)","v":"F"},{"$f":"VLOOKUP(A959,Pilot,3,0)","v":"Hranice"},{"$f":"VLOOKUP(A959,Pilot,4,0)","v":"CZ/M"},"PMČRj 2021 - Klub",{"$f":"VLOOKUP(F959,Soutez!B:C,2,FALSE)","v":"CZ"},{"$f":"VLOOKUP(F959,Soutez!B:D,3,FALSE)","v":2021},24,2263,{"$f":"VLOOKUP(F959,Soutez,12,0)","v":0.91500000000000004},3903,3571,null,null,"Discus b","HD","Junior v roce 2023"]
["Matej Bartos",1998,"M","Hodkovice","CZ/C2","PMČRj 2021 - Klub",{"$f":"VLOOKUP(F960,Soutez!B:C,2,FALSE)","v":"CZ"},{"$f":"VLOOKUP(F960,Soutez!B:D,3,FALSE)","v":2021},25,2167,0.91500000000000004,3653,3342,"x",null,"Std. Cirrus","KA","Junior v roce 2023"]
["Jakub Koudelka",2000,"M","Křižanov","CZ/M","PMČRj 2021 - Klub",{"$f":"VLOOKUP(F961,Soutez!B:C,2,FALSE)","v":"CZ"},{"$f":"VLOOKUP(F961,Soutez!B:D,3,FALSE)","v":2021},26,1992,0.91500000000000004,3286,3007,"x",null,"ASW-19B","A1","Junior v roce 2023"]
["Kristina Santruckova",1996,"F","Podhořany","CZ/C2","PMČRj 2021 - Klub",{"$f":"VLOOKUP(F962,Soutez!B:C,2,FALSE)","v":"CZ"},{"$f":"VLOOKUP(F962,Soutez!B:D,3,FALSE)","v":2021},27,1687,0.91500000000000004,2725,2493,"x","x","ASW-15B WL","KS",""]
["Filip Malik",2001,"M","Letňany","CZ/C1","PMČRj 2021 - Klub",{"$f":"VLOOKUP(F963,Soutez!B:C,2,FALSE)","v":"CZ"},{"$f":"VLOOKUP(F963,Soutez!B:D,3,FALSE)","v":2021},28,1654,0.91500000000000004,2568,2350,"x",null,"VSO-10","L5","Junior v roce 2023"]
["Tim Raasch",{"$f":"VLOOKUP(A964,Pilot,2,0)","v":2000},{"$f":"VLOOKUP(A964,Pilot,5,0)","v":"M"},{"$f":"VLOOKUP(A964,Pilot,3,0)","v":"Polička"},{"$f":"VLOOKUP(A964,Pilot,4,0)","v":"CZ/C2"},"PMČRj 2021 - Klub",{"$f":"VLOOKUP(F964,Soutez!B:C,2,FALSE)","v":"CZ"},{"$f":"VLOOKUP(F964,Soutez!B:D,3,FALSE)","v":2021},29,617,0.91500000000000004,918,840,"x",null,"VSO-10","H5","Junior v roce 2023"]
["Michal Kratochvil",{"$f":"VLOOKUP(A965,Pilot,2,0)","v":1984},{"$f":"VLOOKUP(A965,Pilot,5,0)","v":"M"},{"$f":"VLOOKUP(A965,Pilot,3,0)","v":"Slaný"},{"$f":"VLOOKUP(A965,Pilot,4,0)","v":"CZ/C1"},"GGP MB 2021 - Gradient GP",{"$f":"VLOOKUP(F965,Soutez!B:C,2,FALSE)","v":"CZ"},{"$f":"VLOOKUP(F965,Soutez!B:D,3,FALSE)","v":2021},1,14,0,{"$f":"ROUND((MAX($I$965:$I$973)-I965)/(MAX($I$965:$I$973)-1)*10000,0)","v":10000},{"$f":"ROUND(K965*L965,0)","v":0},null,null,"VSO-10",56,""]
["David Vrchota",{"$f":"VLOOKUP(A966,Pilot,2,0)","v":1976},{"$f":"VLOOKUP(A966,Pilot,5,0)","v":"M"},{"$f":"VLOOKUP(A966,Pilot,3,0)","v":"Jaroměř"},{"$f":"VLOOKUP(A966,Pilot,4,0)","v":"CZ/C2"},"GGP MB 2021 - Gradient GP",{"$f":"VLOOKUP(F966,Soutez!B:C,2,FALSE)","v":"CZ"},{"$f":"VLOOKUP(F966,Soutez!B:D,3,FALSE)","v":2021},2,12,0,{"$f":"ROUND((MAX($I$965:$I$973)-I966)/(MAX($I$965:$I$973)-1)*10000,0)","v":8750},{"$f":"ROUND(K966*L966,0)","v":0},null,null,"VSO-10","J6",""]
["Jan Hejret",1976,"M","Jaroměř","CZ/C2","GGP MB 2021 - Gradient GP",{"$f":"VLOOKUP(F967,Soutez!B:C,2,FALSE)","v":"CZ"},{"$f":"VLOOKUP(F967,Soutez!B:D,3,FALSE)","v":2021},3,9,0,7500,0,null,null,"VSO-10","C3",""]
["Libor Bednarik",1972,"M","Kunovice","CZ/M","GGP MB 2021 - Gradient GP",{"$f":"VLOOKUP(F968,Soutez!B:C,2,FALSE)","v":"CZ"},{"$f":"VLOOKUP(F968,Soutez!B:D,3,FALSE)","v":2021},4,6,0,6250,0,null,null,"VSO-10",94,""]
["Karel Policky",{"$f":"VLOOKUP(A969,Pilot,2,0)","v":1950},{"$f":"VLOOKUP(A969,Pilot,5,0)","v":"M"},{"$f":"VLOOKUP(A969,Pilot,3,0)","v":"Kolín"},{"$f":"VLOOKUP(A969,Pilot,4,0)","v":"CZ/C1"},"GGP MB 2021 - Gradient GP",{"$f":"VLOOKUP(F969,Soutez!B:C,2,FALSE)","v":"CZ"},{"$f":"VLOOKUP(F969,Soutez!B:D,3,FALSE)","v":2021},4,6,0,{"$f":"ROUND((MAX($I$965:$I$973)-I969)/(MAX($I$965:$I$973)-1)*10000,0)","v":6250},0,null,null,"VSO-10",93,""]
["David Kaspar",1993,"M","Jaroměř","CZ/C2","GGP MB 2021 - Gradient GP",{"$f":"VLOOKUP(F970,Soutez!B:C,2,FALSE)","v":"CZ"},{"$f":"VLOOKUP(F970,Soutez!B:D,3,FALSE)","v":2021},6,5,0,3750,{"$f":"ROUND(K970*L970,0)","v":0},null,null,"VSO-10",31,""]
["Martin Krizovic",{"$f":"VLOOKUP(A971,Pilot,2,0)","v":1971},{"$f":"VLOOKUP(A971,Pilot,5,0)","v":"M"},{"$f":"VLOOKUP(A971,Pilot,3,0)","v":"Přibyslav"},{"$f":"VLOOKUP(A971,Pilot,4,0)","v":"CZ/C2"},"GGP MB 2021 - Gradient GP",{"$f":"VLOOKUP(F971,Soutez!B:C,2,FALSE)","v":"CZ"},{"$f":"VLOOKUP(F971,Soutez!B:D,3,FALSE)","v":2021},7,2,0,2500,{"$f":"ROUND(K971*L971,0)","v":0},null,null,"VSO-10","G3",""]
["Jan Zdvorak",1980,"M","Roudnice","CZ/C2","GGP MB 2021 - Gradient GP",{"$f":"VLOOKUP(F972,Soutez!B:C,2,FALSE)","v":"CZ"},{"$f":"VLOOKUP(F972,Soutez!B:D,3,FALSE)","v":2021},8,1,0,1250,0,null,null,"VSO-10",6,""]
["Jiri Pixa",1968,"M","Slaný","CZ/C1","GGP MB 2021 - Gradient GP",{"$f":"VLOOKUP(F973,Soutez!B:C,2,FALSE)","v":"CZ"},{"$f":"VLOOKUP(F973,Soutez!B:D,3,FALSE)","v":2021},9,0,0,0,0,null,null,"VSO-10","G8",""]
["Lukas Kriz",{"$f":"VLOOKUP(A974,Pilot,2,0)","v":2003},{"$f":"VLOOKUP(A974,Pilot,5,0)","v":"M"},{"$f":"VLOOKUP(A974,Pilot,3,0)","v":"Křižanov"},{"$f":"VLOOKUP(A974,Pilot,4,0)","v":"CZ/M"},"GGP MB 2021 - Klub GP",{"$f":"VLOOKUP(F974,Soutez!B:C,2,FALSE)","v":"CZ"},{"$f":"VLOOKUP(F974,Soutez!B:D,3,FALSE)","v":2021},1,19,0.88,{"$f":"ROUND((MAX($I$974:$I$990)-I974)/(MAX($I$974:$I$990)-1)*10000,0)","v":10000},{"$f":"ROUND(K974*L974,0)","v":8800},null,null,"Std. Cirrus","EJ","Junior v roce 2023"]
["Matej Krestes",1986,"M","Slaný","CZ/C1","GGP MB 2021 - Klub GP",{"$f":"VLOOKUP(F975,Soutez!B:C,2,FALSE)","v":"CZ"},{"$f":"VLOOKUP(F975,Soutez!B:D,3,FALSE)","v":2021},1,19,0.88,{"$f":"ROUND((MAX($I$974:$I$990)-I975)/(MAX($I$974:$I$990)-1)*10000,0)","v":10000},{"$f":"ROUND(K975*L975,0)","v":8800},"x",null,"Std. Cirrus","CO",""]
["David Sachl",1978,"M","Kralupy","CZ/C1","GGP MB 2021 - Klub GP",{"$f":"VLOOKUP(F976,Soutez!B:C,2,FALSE)","v":"CZ"},{"$f":"VLOOKUP(F976,Soutez!B:D,3,FALSE)","v":2021},3,18,0.88,8333,7333,"x",null,"DG 300 WL","BK",""]
["Tomas Hynek",{"$f":"VLOOKUP(A977,Pilot,2,0)","v":2002},{"$f":"VLOOKUP(A977,Pilot,5,0)","v":"M"},{"$f":"VLOOKUP(A977,Pilot,3,0)","v":"Dvůr Králové"},{"$f":"VLOOKUP(A977,Pilot,4,0)","v":"CZ/C2"},"GGP MB 2021 - Klub GP",{"$f":"VLOOKUP(F977,Soutez!B:C,2,FALSE)","v":"CZ"},{"$f":"VLOOKUP(F977,Soutez!B:D,3,FALSE)","v":2021},3,18,0.88,8333,7333,"x",null,"Std. Cirrus","HT","Junior v roce 2023"]
["Jan Cibulka",2002,"M","Letňany","CZ/C1","GGP MB 2021 - Klub GP",{"$f":"VLOOKUP(F978,Soutez!B:C,2,FALSE)","v":"CZ"},{"$f":"VLOOKUP(F978,Soutez!B:D,3,FALSE)","v":2021},5,16,0.88,6667,5867,"x",null,"ASW 19","KZ","Junior v roce 2023"]
["Ondrej Dvorak 98",{"$f":"VLOOKUP(A979,Pilot,2,0)","v":1998},{"$f":"VLOOKUP(A979,Pilot,5,0)","v":"M"},{"$f":"VLOOKUP(A979,Pilot,3,0)","v":"Mladá Boleslav"},{"$f":"VLOOKUP(A979,Pilot,4,0)","v":"CZ/C1"},"GGP MB 2021 - Klub GP",{"$f":"VLOOKUP(F979,Soutez!B:C,2,FALSE)","v":"CZ"},{"$f":"VLOOKUP(F979,Soutez!B:D,3,FALSE)","v":2021},6,14,0.88,5833,5133,"x",null,"ASW 19","AH","Junior v roce 2023"]
["Linda Vasatova",{"$f":"VLOOKUP(A980,Pilot,2,0)","v":1990},{"$f":"VLOOKUP(A980,Pilot,5,0)","v":"F"},{"$f":"VLOOKUP(A980,Pilot,3,0)","v":"Mladá Boleslav"},{"$f":"VLOOKUP(A980,Pilot,4,0)","v":"CZ/C1"},"GGP MB 2021 - Klub GP",{"$f":"VLOOKUP(F980,Soutez!B:C,2,FALSE)","v":"CZ"},{"$f":"VLOOKUP(F980,Soutez!B:D,3,FALSE)","v":2021},7,13,0.88,5000,4400,"x","x","ASW 19b","XS",{"$f":"IF(ISERROR(VLOOKUP(A980,Pilot,6,0)),\"Není v databázi\",VLOOKUP(A980,Pilot,6,0))","v":""}]
["Martin Fric",1967,"M","Raná","CZ/C2","GGP MB 2021 - Klub GP",{"$f":"VLOOKUP(F981,Soutez!B:C,2,FALSE)","v":"CZ"},{"$f":"VLOOKUP(F981,Soutez!B:D,3,FALSE)","v":2021},8,6,0.88,4167,3667,"x",null,"DG 100","E2",""]
["Fabian Curda",2004,"M","Zábřeh","CZ/M","GGP MB 2021 - Klub GP",{"$f":"VLOOKUP(F982,Soutez!B:C,2,FALSE)","v":"CZ"},{"$f":"VLOOKUP(F982,Soutez!B:D,3,FALSE)","v":2021},9,2,0.88,3333,2933,"x",null,"Std. Cirrus","MJ","Junior v roce 2023"]
["Katerina Vojtova",{"$f":"VLOOKUP(A983,Pilot,2,0)","v":1983},{"$f":"VLOOKUP(A983,Pilot,5,0)","v":"F"},{"$f":"VLOOKUP(A983,Pilot,3,0)","v":"Slaný"},{"$f":"VLOOKUP(A983,Pilot,4,0)","v":"CZ/C1"},"GGP MB 2021 - Klub GP",{"$f":"VLOOKUP(F983,Soutez!B:C,2,FALSE)","v":"CZ"},{"$f":"VLOOKUP(F983,Soutez!B:D,3,FALSE)","v":2021},9,2,0.88,{"$f":"ROUND((MAX($I$974:$I$990)-I983)/(MAX($I$974:$I$990)-1)*10000,0)","v":3333},2933,"x","x","Std. Cirrus","KAC",""]
["Jan Zahradka",1981,"M","Hodkovice","CZ/C2","GGP MB 2021 - Klub GP",{"$f":"VLOOKUP(F984,Soutez!B:C,2,FALSE)","v":"CZ"},{"$f":"VLOOKUP(F984,Soutez!B:D,3,FALSE)","v":2021},11,1,0.88,1667,1467,null,null,"Std. Cirrus","AR",""]
["Jan Florian",1992,"M","Zbraslavice","CZ/C1","GGP MB 2021 - Klub GP",{"$f":"VLOOKUP(F985,Soutez!B:C,2,FALSE)","v":"CZ"},{"$f":"VLOOKUP(F985,Soutez!B:D,3,FALSE)","v":2021},11,1,0.88,{"$f":"ROUND((MAX($I$974:$I$990)-I985)/(MAX($I$974:$I$990)-1)*10000,0)","v":1667},1467,null,null,"Std. Cirrus","C1",""]
["Tomas Talanda",1988,"M","Křižanov","CZ/M","GGP MB 2021 - Klub GP",{"$f":"VLOOKUP(F986,Soutez!B:C,2,FALSE)","v":"CZ"},{"$f":"VLOOKUP(F986,Soutez!B:D,3,FALSE)","v":2021},13,0,0.88,0,0,null,null,"ASW 19","DS",""]
["Martin Marek",1967,"M","Roudnice","CZ/C2","GGP MB 2021 - Klub GP",{"$f":"VLOOKUP(F987,Soutez!B:C,2,FALSE)","v":"CZ"},{"$f":"VLOOKUP(F987,Soutez!B:D,3,FALSE)","v":2021},13,0,0.88,0,0,null,null,"Std. Cirrus","2X",""]
["Jan Hruska",1988,"M","Tábor","CZ/C1","GGP MB 2021 - Klub GP",{"$f":"VLOOKUP(F988,Soutez!B:C,2,FALSE)","v":"CZ"},{"$f":"VLOOKUP(F988,Soutez!B:D,3,FALSE)","v":2021},13,0,0.88,0,0,null,null,"ASW 15b","LF",""]
["Jan Zezula",1979,"M","Letňany","CZ/C1","GGP MB 2021 - Klub GP",{"$f":"VLOOKUP(F989,Soutez!B:C,2,FALSE)","v":"CZ"},{"$f":"VLOOKUP(F989,Soutez!B:D,3,FALSE)","v":2021},13,0,0.88,0,0,null,null,"ASW 19","HD",""]
["Filip Sirc",1993,"M","Letňany","CZ/C1","GGP MB 2021 - Klub GP",{"$f":"VLOOKUP(F990,Soutez!B:C,2,FALSE)","v":"CZ"},{"$f":"VLOOKUP(F990,Soutez!B:D,3,FALSE)","v":2021},13,0,0.88,0,0,null,null,"ASW 19","WT",""]
["Tomas Suchanek",{"$f":"VLOOKUP(A991,Pilot,2,0)","v":1964},{"$f":"VLOOKUP(A991,Pilot,5,0)","v":"M"},{"$f":"VLOOKUP(A991,Pilot,3,0)","v":"GAC Benešov"},{"$f":"VLOOKUP(A991,Pilot,4,0)","v":"CZ/C1"},"GGP MB 2021 - Pohár MV - Kombi",{"$f":"VLOOKUP(F991,Soutez!B:C,2,FALSE)","v":"CZ"},{"$f":"VLOOKUP(F991,Soutez!B:D,3,FALSE)","v":2021},1,1874,0.89,{"$f":"ROUND(J991/MAX($J$991:$J$1001)*10000*0.7+(MAX($I$991:$I$1001)-I991)/(MAX($I$991:$I$1001)-1)*10000*0.3,0)","v":10000},{"$f":"ROUND(K991*L991,0)","v":8900},null,null,"Ventus c 17.6m","UP",""]
["Ivan Novak",1962,"M","Mladá Boleslav","CZ/C1","GGP MB 2021 - Pohár MV - Kombi",{"$f":"VLOOKUP(F992,Soutez!B:C,2,FALSE)","v":"CZ"},{"$f":"VLOOKUP(F992,Soutez!B:D,3,FALSE)","v":2021},2,1501,0.89,{"$f":"ROUND(J992/MAX($J$991:$J$1001)*10000*0.7+(MAX($I$991:$I$1001)-I992)/(MAX($I$991:$I$1001)-1)*10000*0.3,0)","v":8307},{"$f":"ROUND(K992*L992,0)","v":7393},null,null,"ASG 29(E) 18m","QZ",""]
["Ivan Harasta 65",1965,"M","Toužim","CZ/C1","GGP MB 2021 - Pohár MV - Kombi",{"$f":"VLOOKUP(F993,Soutez!B:C,2,FALSE)","v":"CZ"},{"$f":"VLOOKUP(F993,Soutez!B:D,3,FALSE)","v":2021},3,1427,0.89,7730,6880,"x",null,"Nimbus 3/24.5m",12,""]
["Martin Soucek",{"$f":"VLOOKUP(A994,Pilot,2,0)","v":1975},{"$f":"VLOOKUP(A994,Pilot,5,0)","v":"M"},{"$f":"VLOOKUP(A994,Pilot,3,0)","v":"Mladá Boleslav"},{"$f":"VLOOKUP(A994,Pilot,4,0)","v":"CZ/C1"},"GGP MB 2021 - Pohár MV - Kombi",{"$f":"VLOOKUP(F994,Soutez!B:C,2,FALSE)","v":"CZ"},{"$f":"VLOOKUP(F994,Soutez!B:D,3,FALSE)","v":2021},4,1391,0.89,7296,6493,"x",null,"DG 200/17","MS",""]
["Radek Zima 78",1978,"M","Hodkovice","CZ/C2","GGP MB 2021 - Pohár MV - Kombi",{"$f":"VLOOKUP(F995,Soutez!B:C,2,FALSE)","v":"CZ"},{"$f":"VLOOKUP(F995,Soutez!B:D,3,FALSE)","v":2021},5,1364,0.89,6895,6137,null,null,"ASG 29(E) 18m","XZ",""]
["Vojtech Hajek",{"$f":"VLOOKUP(A996,Pilot,2,0)","v":1987},{"$f":"VLOOKUP(A996,Pilot,5,0)","v":"M"},{"$f":"VLOOKUP(A996,Pilot,3,0)","v":"Mladá Boleslav"},{"$f":"VLOOKUP(A996,Pilot,4,0)","v":"CZ/C1"},"GGP MB 2021 - Pohár MV - Kombi",{"$f":"VLOOKUP(F996,Soutez!B:C,2,FALSE)","v":"CZ"},{"$f":"VLOOKUP(F996,Soutez!B:D,3,FALSE)","v":2021},6,1296,0.89,6341,5643,"x",null,"Duo Discus T 700kg",77,""]
["Lukas Hynek",1979,"M","Dvůr Králové","CZ/C2","GGP MB 2021 - Pohár MV - Kombi",{"$f":"VLOOKUP(F997,Soutez!B:C,2,FALSE)","v":"CZ"},{"$f":"VLOOKUP(F997,Soutez!B:D,3,FALSE)","v":2021},7,1247,0.89,5858,5214,"x",null,"DG 200/17","HL",""]
["Antonin Bordovsky",1951,"M","Krnov","CZ/M","GGP MB 2021 - Pohár MV - Kombi",{"$f":"VLOOKUP(F998,Soutez!B:C,2,FALSE)","v":"CZ"},{"$f":"VLOOKUP(F998,Soutez!B:D,3,FALSE)","v":2021},8,927,0.89,4363,3883,"x",null,"Ventus C 17,6m","AD",""]
["Barbora Moravcova",1994,"F","Zbraslavice","CZ/C1","GGP MB 2021 - Pohár MV - Kombi",{"$f":"VLOOKUP(F999,Soutez!B:C,2,FALSE)","v":"CZ"},{"$f":"VLOOKUP(F999,Soutez!B:D,3,FALSE)","v":2021},9,898,0.89,3954,3519,null,null,"LS 8 15m","EU",""]
["Jan Dersak 69",1969,"M","Kralupy","CZ/C1","GGP MB 2021 - Pohár MV - Kombi",{"$f":"VLOOKUP(F1000,Soutez!B:C,2,FALSE)","v":"CZ"},{"$f":"VLOOKUP(F1000,Soutez!B:D,3,FALSE)","v":2021},10,767,0.89,3165,2817,null,null,"HpH 304JS Shark/18m(573kg)","DJ",""]
["David Zapletal",1970,"M","Mladá Boleslav","CZ/C1","GGP MB 2021 - Pohár MV - Kombi",{"$f":"VLOOKUP(F1001,Soutez!B:C,2,FALSE)","v":"CZ"},{"$f":"VLOOKUP(F1001,Soutez!B:D,3,FALSE)","v":2021},11,539,0.89,2013,1792,"x",null,"Duo Discus T","XH",""]
["Jakub Kmosek",{"$f":"VLOOKUP(A1002,Pilot,2,0)","v":1978},{"$f":"VLOOKUP(A1002,Pilot,5,0)","v":"M"},{"$f":"VLOOKUP(A1002,Pilot,3,0)","v":"Zbraslavice"},{"$f":"VLOOKUP(A1002,Pilot,4,0)","v":"CZ/C1"},"Rakovnická Dlaždice 2021 - Kombi",{"$f":"VLOOKUP(F1002,Soutez!B:C,2,FALSE)","v":"CZ"},{"$f":"VLOOKUP(F1002,Soutez!B:D,3,FALSE)","v":2021},1,528,0,{"$f":"ROUND(J1002/MAX($J$1002:$J$1013)*10000*0.7+(MAX($I$1002:$I$1013)-I1002)/(MAX($I$1002:$I$1013)-1)*10000*0.3,0)","v":10000},{"$f":"ROUND(K1002*L1002,0)","v":0},null,null,"Std. Cirrus","ST",""]
["Jan Konecny",1972,"M","Rakovník","CZ/C1","Rakovnická Dlaždice 2021 - Kombi",{"$f":"VLOOKUP(F1003,Soutez!B:C,2,FALSE)","v":"CZ"},{"$f":"VLOOKUP(F1003,Soutez!B:D,3,FALSE)","v":2021},2,509,0,9415,{"$f":"ROUND(K1003*L1003,0)","v":0},null,null,"LS 7",72,""]
["Jan Hlavacek",1965,"M","Rakovník","CZ/C1","Rakovnická Dlaždice 2021 - Kombi",{"$f":"VLOOKUP(F1004,Soutez!B:C,2,FALSE)","v":"CZ"},{"$f":"VLOOKUP(F1004,Soutez!B:D,3,FALSE)","v":2021},3,500,0,8962,0,null,null,"Discus","SJ",""]
["Pavel Opat",1975,"M","Rakovník","CZ/C1","Rakovnická Dlaždice 2021 - Kombi",{"$f":"VLOOKUP(F1005,Soutez!B:C,2,FALSE)","v":"CZ"},{"$f":"VLOOKUP(F1005,Soutez!B:D,3,FALSE)","v":2021},4,451,0,7979,0,null,null,"DG 800S/18m","HC",""]
["Jiri Bulanek",1983,"M","Rakovník","CZ/C1","Rakovnická Dlaždice 2021 - Kombi",{"$f":"VLOOKUP(F1006,Soutez!B:C,2,FALSE)","v":"CZ"},{"$f":"VLOOKUP(F1006,Soutez!B:D,3,FALSE)","v":2021},5,416,0,7182,0,null,null,"DG 101G",null,""]
["Miroslav Macik",1983,"M","Rakovník","CZ/C1","Rakovnická Dlaždice 2021 - Kombi",{"$f":"VLOOKUP(F1007,Soutez!B:C,2,FALSE)","v":"CZ"},{"$f":"VLOOKUP(F1007,Soutez!B:D,3,FALSE)","v":2021},6,324,0,5629,0,null,null,"Std. Cirrus","OG",""]
["Petr sindelar 45",1945,"M","Rakovník","CZ/C1","Rakovnická Dlaždice 2021 - Kombi",{"$f":"VLOOKUP(F1008,Soutez!B:C,2,FALSE)","v":"CZ"},{"$f":"VLOOKUP(F1008,Soutez!B:D,3,FALSE)","v":2021},7,121,0,2604,0,null,null,"LS 1-d","HV",""]
["Petr Sindelar 80",1980,"M","Rakovník","CZ/C1","Rakovnická Dlaždice 2021 - Kombi",{"$f":"VLOOKUP(F1009,Soutez!B:C,2,FALSE)","v":"CZ"},{"$f":"VLOOKUP(F1009,Soutez!B:D,3,FALSE)","v":2021},8,65,0,1528,0,null,null,"DG 300 WL","U4",""]
["Adam Pergner",2002,"M","Rakovník","CZ/C1","Rakovnická Dlaždice 2021 - Kombi",{"$f":"VLOOKUP(F1010,Soutez!B:C,2,FALSE)","v":"CZ"},{"$f":"VLOOKUP(F1010,Soutez!B:D,3,FALSE)","v":2021},9,1,0,347,0,null,null,"VSO-10",79,"Junior v roce 2023"]
["Jan Vozeh",1995,"M","Rakovník","CZ/C1","Rakovnická Dlaždice 2021 - Kombi",{"$f":"VLOOKUP(F1011,Soutez!B:C,2,FALSE)","v":"CZ"},{"$f":"VLOOKUP(F1011,Soutez!B:D,3,FALSE)","v":2021},10,0,0,0,{"$f":"ROUND(K1011*L1011,0)","v":0},null,null,"Twin Astir RG","T19",""]
["Viktor Tvrdik",1977,"M","Rakovník","CZ/C1","Rakovnická Dlaždice 2021 - Kombi",{"$f":"VLOOKUP(F1012,Soutez!B:C,2,FALSE)","v":"CZ"},{"$f":"VLOOKUP(F1012,Soutez!B:D,3,FALSE)","v":2021},10,0,0,0,0,null,null,"DG 800S/18m","HF",""]
["Jan Heroudek",1970,"M","Rakovník","CZ/C1","Rakovnická Dlaždice 2021 - Kombi",{"$f":"VLOOKUP(F1013,Soutez!B:C,2,FALSE)","v":"CZ"},{"$f":"VLOOKUP(F1013,Soutez!B:D,3,FALSE)","v":2021},10,0,0,0,0,null,null,"DG 100",75,""]
["David Mach",{"$f":"VLOOKUP(A1014,Pilot,2,0)","v":1994},{"$f":"VLOOKUP(A1014,Pilot,5,0)","v":"M"},{"$f":"VLOOKUP(A1014,Pilot,3,0)","v":"Hronov"},{"$f":"VLOOKUP(A1014,Pilot,4,0)","v":"CZ/C2"},"HOP 2021 - Klub",{"$f":"VLOOKUP(F1014,Soutez!B:C,2,FALSE)","v":"CZ"},{"$f":"VLOOKUP(F1014,Soutez!B:D,3,FALSE)","v":2021},1,2618,0.76500000000000001,{"$f":"ROUND(J1014/MAX($J$1014:$J$1039)*10000*0.7+(MAX($I$1014:$I$1039)-I1014)/(MAX($I$1014:$I$1039)-1)*10000*0.3,0)","v":10000},{"$f":"ROUND(K1014*L1014,0)","v":7650},null,null,"VT-116 Orlik 2",6922,""]
["Oldrich Slavicek",1959,"M","Hronov","CZ/C2","HOP 2021 - Klub",{"$f":"VLOOKUP(F1015,Soutez!B:C,2,FALSE)","v":"CZ"},{"$f":"VLOOKUP(F1015,Soutez!B:D,3,FALSE)","v":2021},2,2571,0.76500000000000001,9754,{"$f":"ROUND(K1015*L1015,0)","v":7462},"x",null,"VT-116 Orlik 2",4310,""]
["Milan Svoboda 80",1980,"M","Havlíčkův Brod","CZ/C2","HOP 2021 - Klub",{"$f":"VLOOKUP(F1016,Soutez!B:C,2,FALSE)","v":"CZ"},{"$f":"VLOOKUP(F1016,Soutez!B:D,3,FALSE)","v":2021},3,2366,0.76500000000000001,9086,6951,"x",null,"VT-116 Orlik 2",6446,""]
["Michal Janda",{"$f":"VLOOKUP(A1017,Pilot,2,0)","v":1972},{"$f":"VLOOKUP(A1017,Pilot,5,0)","v":"M"},{"$f":"VLOOKUP(A1017,Pilot,3,0)","v":"Broumov"},{"$f":"VLOOKUP(A1017,Pilot,4,0)","v":"CZ/C2"},"HOP 2021 - Klub",{"$f":"VLOOKUP(F1017,Soutez!B:C,2,FALSE)","v":"CZ"},{"$f":"VLOOKUP(F1017,Soutez!B:D,3,FALSE)","v":2021},4,2105,0.76500000000000001,8268,6325,"x",null,"VT-116 Orlik 2",7402,""]
["Klara Teichmannova",1993,"F","Hronov","CZ/C2","HOP 2021 - Klub",{"$f":"VLOOKUP(F1018,Soutez!B:C,2,FALSE)","v":"CZ"},{"$f":"VLOOKUP(F1018,Soutez!B:D,3,FALSE)","v":2021},5,2052,{"$f":"VLOOKUP(F1018,Soutez,12,0)","v":0.76500000000000001},8007,6125,"x","x","SZD 30 Pirat",6800,""]
["Miroslav Stepan",1955,"M","Žamberk","CZ/C2","HOP 2021 - Klub",{"$f":"VLOOKUP(F1019,Soutez!B:C,2,FALSE)","v":"CZ"},{"$f":"VLOOKUP(F1019,Soutez!B:D,3,FALSE)","v":2021},6,2011,0.76500000000000001,7777,5949,"x",null,"VT-116 Orlik 2",8412,""]
["Wolfgang Sluka",{"$f":"VLOOKUP(A1020,Pilot,2,0)","v":1942},{"$f":"VLOOKUP(A1020,Pilot,5,0)","v":"M"},{"$f":"VLOOKUP(A1020,Pilot,3,0)","v":"Liberec"},{"$f":"VLOOKUP(A1020,Pilot,4,0)","v":"CZ/C2"},"HOP 2021 - Klub",{"$f":"VLOOKUP(F1020,Soutez!B:C,2,FALSE)","v":"CZ"},{"$f":"VLOOKUP(F1020,Soutez!B:D,3,FALSE)","v":2021},7,1954,0.76500000000000001,7505,5741,"x",null,"VT-116 Orlik 2",8425,""]
["Ondrej Teichman",1984,"M","Dvůr Králové","CZ/C2","HOP 2021 - Klub",{"$f":"VLOOKUP(F1021,Soutez!B:C,2,FALSE)","v":"CZ"},{"$f":"VLOOKUP(F1021,Soutez!B:D,3,FALSE)","v":2021},8,1929,0.76500000000000001,7318,5598,null,null,"VT-116 Orlik 2",6445,""]
["Michal Nutil",1966,"M","Náchod","CZ/C2","HOP 2021 - Klub",{"$f":"VLOOKUP(F1022,Soutez!B:C,2,FALSE)","v":"CZ"},{"$f":"VLOOKUP(F1022,Soutez!B:D,3,FALSE)","v":2021},9,1894,0.76500000000000001,7104,5435,"x",null,"VT-116 Orlik 2",7424,""]
["Ondrej Blaha",1976,"M","Letňany","CZ/C1","HOP 2021 - Klub",{"$f":"VLOOKUP(F1023,Soutez!B:C,2,FALSE)","v":"CZ"},{"$f":"VLOOKUP(F1023,Soutez!B:D,3,FALSE)","v":2021},10,1784,0.76500000000000001,6690,5118,"x",null,"VT-116 Orlik 2",6444,""]
["Ivan Kuzelka",1945,"M","Havlíčkův Brod","CZ/C2","HOP 2021 - Klub",{"$f":"VLOOKUP(F1024,Soutez!B:C,2,FALSE)","v":"CZ"},{"$f":"VLOOKUP(F1024,Soutez!B:D,3,FALSE)","v":2021},11,1760,0.76500000000000001,6506,4977,"x",null,"VT-116 Orlik 2",4314,""]
["Vaclav Kysilka",1979,"M","GAC Benešov","CZ/C1","HOP 2021 - Klub",{"$f":"VLOOKUP(F1025,Soutez!B:C,2,FALSE)","v":"CZ"},{"$f":"VLOOKUP(F1025,Soutez!B:D,3,FALSE)","v":2021},12,1728,0.76500000000000001,6300,4820,"x",null,"VT-116 Orlik 2",8436,""]
["J.Vojta / L.Vyhlid / O.Kuchar",null,null,"AK Kroměříž",null,"HOP 2021 - Klub",{"$f":"VLOOKUP(F1026,Soutez!B:C,2,FALSE)","v":"CZ"},{"$f":"VLOOKUP(F1026,Soutez!B:D,3,FALSE)","v":2021},13,1713,0.76500000000000001,6140,4697,null,null,"VT-116 Orlik 2",8431,"Není v databázi"]
["Tomas Mezera",{"$f":"VLOOKUP(A1027,Pilot,2,0)","v":1973},{"$f":"VLOOKUP(A1027,Pilot,5,0)","v":"M"},{"$f":"VLOOKUP(A1027,Pilot,3,0)","v":"Raná"},{"$f":"VLOOKUP(A1027,Pilot,4,0)","v":"CZ/C2"},"HOP 2021 - Klub",{"$f":"VLOOKUP(F1027,Soutez!B:C,2,FALSE)","v":"CZ"},{"$f":"VLOOKUP(F1027,Soutez!B:D,3,FALSE)","v":2021},13,1713,0.76500000000000001,6140,4697,"x",null,"VT-116 Orlik 2",8401,""]
["Petr Seibrt",1974,"M","Náchod","CZ/C2","HOP 2021 - Klub",{"$f":"VLOOKUP(F1028,Soutez!B:C,2,FALSE)","v":"CZ"},{"$f":"VLOOKUP(F1028,Soutez!B:D,3,FALSE)","v":2021},15,1684,0.76500000000000001,5823,4455,"x",null,"VT-16 Orlik",2412,""]
["Jaromir Hendrych",1954,"M","Raná","CZ/C2","HOP 2021 - Klub",{"$f":"VLOOKUP(F1029,Soutez!B:C,2,FALSE)","v":"CZ"},{"$f":"VLOOKUP(F1029,Soutez!B:D,3,FALSE)","v":2021},16,1502,0.76500000000000001,5216,3990,"x",null,"M-35",2403,""]
["Sarka Lochova",1966,"F","Šumperk","CZ/M","HOP 2021 - Klub",{"$f":"VLOOKUP(F1030,Soutez!B:C,2,FALSE)","v":"CZ"},{"$f":"VLOOKUP(F1030,Soutez!B:D,3,FALSE)","v":2021},17,1462,0.76500000000000001,4989,3817,"x","x","VT-116 Orlik 2",7445,""]
["Miroslav Major",{"$f":"VLOOKUP(A1031,Pilot,2,0)","v":1968},{"$f":"VLOOKUP(A1031,Pilot,5,0)","v":"M"},{"$f":"VLOOKUP(A1031,Pilot,3,0)","v":"Kralupy"},{"$f":"VLOOKUP(A1031,Pilot,4,0)","v":"CZ/C1"},"HOP 2021 - Klub",{"$f":"VLOOKUP(F1031,Soutez!B:C,2,FALSE)","v":"CZ"},{"$f":"VLOOKUP(F1031,Soutez!B:D,3,FALSE)","v":2021},18,1446,0.76500000000000001,4826,3692,"x",null,"VT-116 Orlik 2",8430,""]
["Jana Mezerova",1975,"F","Raná","CZ/C2","HOP 2021 - Klub",{"$f":"VLOOKUP(F1032,Soutez!B:C,2,FALSE)","v":"CZ"},{"$f":"VLOOKUP(F1032,Soutez!B:D,3,FALSE)","v":2021},19,1431,0.76500000000000001,4666,3569,"x","x","VT-116 Orlik 2",7425,""]
["Petr Vezda",1974,"M","Medlánky","CZ/M","HOP 2021 - Klub",{"$f":"VLOOKUP(F1033,Soutez!B:C,2,FALSE)","v":"CZ"},{"$f":"VLOOKUP(F1033,Soutez!B:D,3,FALSE)","v":2021},20,1234,0.76500000000000001,4019,3075,"x",null,"VT-116 Orlik 2",4321,""]
["Tomas Holenda",1956,"M","Havlíčkův Brod","CZ/C2","HOP 2021 - Klub",{"$f":"VLOOKUP(F1034,Soutez!B:C,2,FALSE)","v":"CZ"},{"$f":"VLOOKUP(F1034,Soutez!B:D,3,FALSE)","v":2021},21,1121,0.76500000000000001,3597,2752,"x",null,"VT-116 Orlik 2",8424,""]
["Petr Vlasak",1974,"M","Medlánky","CZ/M","HOP 2021 - Klub",{"$f":"VLOOKUP(F1035,Soutez!B:C,2,FALSE)","v":"CZ"},{"$f":"VLOOKUP(F1035,Soutez!B:D,3,FALSE)","v":2021},22,1036,0.76500000000000001,3250,2486,"x",null,"VT-16 Orlik",2909,""]
["Martin Adamec",1971,"M","Medlánky","CZ/M","HOP 2021 - Klub",{"$f":"VLOOKUP(F1036,Soutez!B:C,2,FALSE)","v":"CZ"},{"$f":"VLOOKUP(F1036,Soutez!B:D,3,FALSE)","v":2021},23,954,0.76500000000000001,2911,{"$f":"ROUND(K1036*L1036,0)","v":2227},"x",null,"VT-116 Orlik 2",8406,""]
["M.Ondracek / J.Linhart",null,null,"AK Medlánky",null,"HOP 2021 - Klub",{"$f":"VLOOKUP(F1037,Soutez!B:C,2,FALSE)","v":"CZ"},{"$f":"VLOOKUP(F1037,Soutez!B:D,3,FALSE)","v":2021},24,763,0.76500000000000001,2280,1744,null,null,"Ka 6 E",9781,"Není v databázi"]
["Gabriela Cervena",{"$f":"VLOOKUP(A1038,Pilot,2,0)","v":1966},{"$f":"VLOOKUP(A1038,Pilot,5,0)","v":"F"},{"$f":"VLOOKUP(A1038,Pilot,3,0)","v":"Jaroměř"},{"$f":"VLOOKUP(A1038,Pilot,4,0)","v":"CZ/C2"},"HOP 2021 - Klub",{"$f":"VLOOKUP(F1038,Soutez!B:C,2,FALSE)","v":"CZ"},{"$f":"VLOOKUP(F1038,Soutez!B:D,3,FALSE)","v":2021},25,248,0.76500000000000001,783,599,"x","x","VT-116 Orlik 2",7413,""]
["Jaromir Vlk",1959,"M","Šumperk","CZ/M","HOP 2021 - Klub",{"$f":"VLOOKUP(F1039,Soutez!B:C,2,FALSE)","v":"CZ"},{"$f":"VLOOKUP(F1039,Soutez!B:D,3,FALSE)","v":2021},26,0,0.76500000000000001,0,0,null,null,"VT-116 Orlik 2",6907,""]
["Vratislav Sram",{"$f":"VLOOKUP(A1040,Pilot,2,0)","v":1966},{"$f":"VLOOKUP(A1040,Pilot,5,0)","v":"M"},{"$f":"VLOOKUP(A1040,Pilot,3,0)","v":"Broumov"},{"$f":"VLOOKUP(A1040,Pilot,4,0)","v":"CZ/C2"},"HOP 2021 - Kombi",{"$f":"VLOOKUP(F1040,Soutez!B:C,2,FALSE)","v":"CZ"},{"$f":"VLOOKUP(F1040,Soutez!B:D,3,FALSE)","v":2021},1,2934,0.76,{"$f":"ROUND(J1040/MAX($J$1040:$J$1056)*10000*0.7+(MAX($I$1040:$I$1056)-I1040)/(MAX($I$1040:$I$1056)-1)*10000*0.3,0)","v":10000},{"$f":"ROUND(K1040*L1040,0)","v":7600},"x",null,"Duo Discus XT ( bez vody )","DD",{"$f":"IF(ISERROR(VLOOKUP(A1040,Pilot,6,0)),\"Není v databázi\",VLOOKUP(A1040,Pilot,6,0))","v":""}]
["Jan Cerveny",1984,"M","Jaroměř","CZ/C2","HOP 2021 - Kombi",{"$f":"VLOOKUP(F1041,Soutez!B:C,2,FALSE)","v":"CZ"},{"$f":"VLOOKUP(F1041,Soutez!B:D,3,FALSE)","v":2021},2,2786,0.76,9459,{"$f":"ROUND(K1041*L1041,0)","v":7189},"x",null,"LS 3a (bez vody)","EI",""]
["Martin Koci",{"$f":"VLOOKUP(A1042,Pilot,2,0)","v":1975},{"$f":"VLOOKUP(A1042,Pilot,5,0)","v":"M"},{"$f":"VLOOKUP(A1042,Pilot,3,0)","v":"Ústí nad Orlicí"},{"$f":"VLOOKUP(A1042,Pilot,4,0)","v":"CZ/C2"},"HOP 2021 - Kombi",{"$f":"VLOOKUP(F1042,Soutez!B:C,2,FALSE)","v":"CZ"},{"$f":"VLOOKUP(F1042,Soutez!B:D,3,FALSE)","v":2021},3,2729,0.76,9136,6943,"x",null,"Discus b (bez vody)","XE",""]
["Petr Fisar",1974,"M","Ústí nad Orlicí","CZ/C2","HOP 2021 - Kombi",{"$f":"VLOOKUP(F1043,Soutez!B:C,2,FALSE)","v":"CZ"},{"$f":"VLOOKUP(F1043,Soutez!B:D,3,FALSE)","v":2021},4,2705,0.76,8891,6757,"x",null,"Mosquito b (bez vody)","PF",""]
["Vaclav Kult",1973,"M","Broumov","CZ/C2","HOP 2021 - Kombi",{"$f":"VLOOKUP(F1044,Soutez!B:C,2,FALSE)","v":"CZ"},{"$f":"VLOOKUP(F1044,Soutez!B:D,3,FALSE)","v":2021},5,2496,0.76,8205,6236,"x",null,"Nimbus 2 b WL (voda)","VK",""]
["Michal Maly",1982,"M","Broumov","CZ/C2","HOP 2021 - Kombi",{"$f":"VLOOKUP(F1045,Soutez!B:C,2,FALSE)","v":"CZ"},{"$f":"VLOOKUP(F1045,Soutez!B:D,3,FALSE)","v":2021},6,2425,0.76,7848,5964,"x",null,"Ventus c 17,6 (voda)","JN",""]
["Zdenek Boruvka 54",1954,"M","Jičín","CZ/C2","HOP 2021 - Kombi",{"$f":"VLOOKUP(F1046,Soutez!B:C,2,FALSE)","v":"CZ"},{"$f":"VLOOKUP(F1046,Soutez!B:D,3,FALSE)","v":2021},7,2417,0.76,7642,5808,null,null,"LS 8 15 m (voda)","ZB",""]
["Zdenek Schenk",{"$f":"VLOOKUP(A1047,Pilot,2,0)","v":1972},{"$f":"VLOOKUP(A1047,Pilot,5,0)","v":"M"},{"$f":"VLOOKUP(A1047,Pilot,3,0)","v":"Hranice"},{"$f":"VLOOKUP(A1047,Pilot,4,0)","v":"CZ/M"},"HOP 2021 - Kombi",{"$f":"VLOOKUP(F1047,Soutez!B:C,2,FALSE)","v":"CZ"},{"$f":"VLOOKUP(F1047,Soutez!B:D,3,FALSE)","v":2021},8,2369,0.76,7340,5578,null,null,"Ventus cm 17,6m (bez vody)","SNeK",""]
["Petr Babak",1973,"M","Hořice","CZ/C2","HOP 2021 - Kombi",{"$f":"VLOOKUP(F1048,Soutez!B:C,2,FALSE)","v":"CZ"},{"$f":"VLOOKUP(F1048,Soutez!B:D,3,FALSE)","v":2021},9,2352,0.76,7111,5404,null,null,"Ventus c 17,6 (voda)","LS",""]
["M.+J. Plechac",null,null,"AK Hronov",null,"HOP 2021 - Kombi",{"$f":"VLOOKUP(F1049,Soutez!B:C,2,FALSE)","v":"CZ"},{"$f":"VLOOKUP(F1049,Soutez!B:D,3,FALSE)","v":2021},10,2050,0.76,6203,4714,null,null,"Nimbus 2 WL ( voda )","PM","Není v databázi"]
["Christian Rakowski",null,null,"FSV Eisenhüttenstadt",null,"HOP 2021 - Kombi",{"$f":"VLOOKUP(F1050,Soutez!B:C,2,FALSE)","v":"CZ"},{"$f":"VLOOKUP(F1050,Soutez!B:D,3,FALSE)","v":2021},11,1805,0.76,5431,4128,null,null,"ASW 24 WL ( voda )","TD","Není v databázi"]
["Sebastian Bode",null,null,"FSV Eisenhüttenstadt",null,"HOP 2021 - Kombi",{"$f":"VLOOKUP(F1051,Soutez!B:C,2,FALSE)","v":"CZ"},{"$f":"VLOOKUP(F1051,Soutez!B:D,3,FALSE)","v":2021},12,1781,0.76,5187,3942,null,null,"HPH 304S Shark (voda)","AY","Není v databázi"]
["Miloslav Cindr",{"$f":"VLOOKUP(A1052,Pilot,2,0)","v":1974},{"$f":"VLOOKUP(A1052,Pilot,5,0)","v":"M"},{"$f":"VLOOKUP(A1052,Pilot,3,0)","v":"Ústí nad Orlicí"},{"$f":"VLOOKUP(A1052,Pilot,4,0)","v":"CZ/C2"},"HOP 2021 - Kombi",{"$f":"VLOOKUP(F1052,Soutez!B:C,2,FALSE)","v":"CZ"},{"$f":"VLOOKUP(F1052,Soutez!B:D,3,FALSE)","v":2021},13,1596,0.76,4558,{"$f":"ROUND(K1052*L1052,0)","v":3464},"x",null,"Ventus c 17,6 (bez vody)","MC",""]
["Zdenek Mach",{"$f":"VLOOKUP(A1053,Pilot,2,0)","v":1976},{"$f":"VLOOKUP(A1053,Pilot,5,0)","v":"M"},{"$f":"VLOOKUP(A1053,Pilot,3,0)","v":"Broumov"},{"$f":"VLOOKUP(A1053,Pilot,4,0)","v":"CZ/C2"},"HOP 2021 - Kombi",{"$f":"VLOOKUP(F1053,Soutez!B:C,2,FALSE)","v":"CZ"},{"$f":"VLOOKUP(F1053,Soutez!B:D,3,FALSE)","v":2021},14,1454,0.76,4031,3064,"x",null,"LS 1-d ( bez vody)","FK",""]
["Jan Kohout",1970,"M","Žamberk","CZ/C2","HOP 2021 - Kombi",{"$f":"VLOOKUP(F1054,Soutez!B:C,2,FALSE)","v":"CZ"},{"$f":"VLOOKUP(F1054,Soutez!B:D,3,FALSE)","v":2021},15,1300,0.76,3477,2643,null,null,"LS 8 15 m (voda)","SK",""]
["Pilotky UO / G.Jakl",null,null,"AK Ústí nad Orlicí",null,"HOP 2021 - Kombi",{"$f":"VLOOKUP(F1055,Soutez!B:C,2,FALSE)","v":"CZ"},{"$f":"VLOOKUP(F1055,Soutez!B:D,3,FALSE)","v":2021},16,1006,0.76,2588,1967,null,null,"Janus 18.2m ( bez vody)","GJ","Není v databázi"]
["Jan Rott",{"$f":"VLOOKUP(A1056,Pilot,2,0)","v":1962},{"$f":"VLOOKUP(A1056,Pilot,5,0)","v":"M"},{"$f":"VLOOKUP(A1056,Pilot,3,0)","v":"Hronov"},{"$f":"VLOOKUP(A1056,Pilot,4,0)","v":"CZ/C2"},"HOP 2021 - Kombi",{"$f":"VLOOKUP(F1056,Soutez!B:C,2,FALSE)","v":"CZ"},{"$f":"VLOOKUP(F1056,Soutez!B:D,3,FALSE)","v":2021},17,594,0.76,1417,1077,"x",null,"HPH 304 cz 17,4 (bez vody)","Jou",""]
["Radek Tobolka",{"$f":"VLOOKUP(A1057,Pilot,2,0)","v":1977},{"$f":"VLOOKUP(A1057,Pilot,5,0)","v":"M"},{"$f":"VLOOKUP(A1057,Pilot,3,0)","v":"Jičín"},{"$f":"VLOOKUP(A1057,Pilot,4,0)","v":"CZ/C2"},"Pohár Českého Ráje 2021 - Kombi",{"$f":"VLOOKUP(F1057,Soutez!B:C,2,FALSE)","v":"CZ"},{"$f":"VLOOKUP(F1057,Soutez!B:D,3,FALSE)","v":2021},1,398,0.73,{"$f":"ROUND(J1057/MAX($J$1057:$J$1068)*10000*0.7+(MAX($I$1057:$I$1068)-I1057)/(MAX($I$1057:$I$1068)-1)*10000*0.3,0)","v":10000},{"$f":"ROUND(K1057*L1057,0)","v":7300},"x",null,"TST-10M Atlas",10,""]
["Petr Rygl",1966,"M","Jičín","CZ/C2","Pohár Českého Ráje 2021 - Kombi",{"$f":"VLOOKUP(F1058,Soutez!B:C,2,FALSE)","v":"CZ"},{"$f":"VLOOKUP(F1058,Soutez!B:D,3,FALSE)","v":2021},2,373,0.73,9288,{"$f":"ROUND(K1058*L1058,0)","v":6780},"x",null,"ASW-15","A18",""]
["Tomas Profeld",1964,"M","Jičín","CZ/C2","Pohár Českého Ráje 2021 - Kombi",{"$f":"VLOOKUP(F1059,Soutez!B:C,2,FALSE)","v":"CZ"},{"$f":"VLOOKUP(F1059,Soutez!B:D,3,FALSE)","v":2021},3,359,0.73,8769,6401,"x",null,"Ventus 2cM/18m / 500 kg","OZ",""]
["Zbynek Fuksa",{"$f":"VLOOKUP(A1060,Pilot,2,0)","v":1956},{"$f":"VLOOKUP(A1060,Pilot,5,0)","v":"M"},{"$f":"VLOOKUP(A1060,Pilot,3,0)","v":"Jičín"},{"$f":"VLOOKUP(A1060,Pilot,4,0)","v":"CZ/C2"},"Pohár Českého Ráje 2021 - Kombi",{"$f":"VLOOKUP(F1060,Soutez!B:C,2,FALSE)","v":"CZ"},{"$f":"VLOOKUP(F1060,Soutez!B:D,3,FALSE)","v":2021},4,341,0.73,8179,5971,"x",null,"Duo Discus XL",88,""]
["Petr Kyzivat",1970,"M","Jičín","CZ/C2","Pohár Českého Ráje 2021 - Kombi",{"$f":"VLOOKUP(F1061,Soutez!B:C,2,FALSE)","v":"CZ"},{"$f":"VLOOKUP(F1061,Soutez!B:D,3,FALSE)","v":2021},5,331,0.73,7731,5644,"x",null,"Std. Cirrus","SC",""]
["Ales Holoubek",1966,"M","Jičín","CZ/C2","Pohár Českého Ráje 2021 - Kombi",{"$f":"VLOOKUP(F1062,Soutez!B:C,2,FALSE)","v":"CZ"},{"$f":"VLOOKUP(F1062,Soutez!B:D,3,FALSE)","v":2021},6,294,0.73,6807,4969,"x",null,"ASW-15b NG","T",""]
["Ilja Kopacek",1943,"M","Jičín","CZ/C2","Pohár Českého Ráje 2021 - Kombi",{"$f":"VLOOKUP(F1063,Soutez!B:C,2,FALSE)","v":"CZ"},{"$f":"VLOOKUP(F1063,Soutez!B:D,3,FALSE)","v":2021},7,246,0.73,5690,4154,"x",null,"Std. Cirrus","XL",""]
["Kamil Hejda",{"$f":"VLOOKUP(A1064,Pilot,2,0)","v":1973},{"$f":"VLOOKUP(A1064,Pilot,5,0)","v":"M"},{"$f":"VLOOKUP(A1064,Pilot,3,0)","v":"Jičín"},{"$f":"VLOOKUP(A1064,Pilot,4,0)","v":"CZ/C2"},"Pohár Českého Ráje 2021 - Kombi",{"$f":"VLOOKUP(F1064,Soutez!B:C,2,FALSE)","v":"CZ"},{"$f":"VLOOKUP(F1064,Soutez!B:D,3,FALSE)","v":2021},8,197,0.73,4556,3326,"x",null,"Janus b","JC",""]
["Stepan Capek",{"$f":"VLOOKUP(A1065,Pilot,2,0)","v":1960},{"$f":"VLOOKUP(A1065,Pilot,5,0)","v":"M"},{"$f":"VLOOKUP(A1065,Pilot,3,0)","v":"Jičín"},{"$f":"VLOOKUP(A1065,Pilot,4,0)","v":"CZ/C2"},"Pohár Českého Ráje 2021 - Kombi",{"$f":"VLOOKUP(F1065,Soutez!B:C,2,FALSE)","v":"CZ"},{"$f":"VLOOKUP(F1065,Soutez!B:D,3,FALSE)","v":2021},9,144,0.73,3351,2446,"x",null,"Banjo 2","ZF",""]
["Dusan Patocka",1972,"M","Vrchlabí","CZ/C2","Pohár Českého Ráje 2021 - Kombi",{"$f":"VLOOKUP(F1066,Soutez!B:C,2,FALSE)","v":"CZ"},{"$f":"VLOOKUP(F1066,Soutez!B:D,3,FALSE)","v":2021},10,107,0.73,2427,1772,"x",null,"VT-116 Orlik 2",null,""]
["Lukas Jezek",{"$f":"VLOOKUP(A1067,Pilot,2,0)","v":1975},{"$f":"VLOOKUP(A1067,Pilot,5,0)","v":"M"},{"$f":"VLOOKUP(A1067,Pilot,3,0)","v":"Jičín"},{"$f":"VLOOKUP(A1067,Pilot,4,0)","v":"CZ/C2"},"Pohár Českého Ráje 2021 - Kombi",{"$f":"VLOOKUP(F1067,Soutez!B:C,2,FALSE)","v":"CZ"},{"$f":"VLOOKUP(F1067,Soutez!B:D,3,FALSE)","v":2021},11,43,0.73,1029,{"$f":"ROUND(K1067*L1067,0)","v":751},"x",null,"L-13",null,""]
["Jiri Pixa",{"$f":"VLOOKUP(A1068,Pilot,2,0)","v":1968},{"$f":"VLOOKUP(A1068,Pilot,5,0)","v":"M"},{"$f":"VLOOKUP(A1068,Pilot,3,0)","v":"Slaný"},{"$f":"VLOOKUP(A1068,Pilot,4,0)","v":"CZ/C1"},"Pohár Českého Ráje 2021 - Kombi",{"$f":"VLOOKUP(F1068,Soutez!B:C,2,FALSE)","v":"CZ"},{"$f":"VLOOKUP(F1068,Soutez!B:D,3,FALSE)","v":2021},12,16,0.73,281,205,"x",null,"VSO-10","G9",""]
["David Riha",{"$f":"VLOOKUP(A1069,Pilot,2,0)","v":1983},{"$f":"VLOOKUP(A1069,Pilot,5,0)","v":"M"},{"$f":"VLOOKUP(A1069,Pilot,3,0)","v":"Vlašim"},{"$f":"VLOOKUP(A1069,Pilot,4,0)","v":"CZ/C1"},"Ranský pohár 2021 - Kombi",{"$f":"VLOOKUP(F1069,Soutez!B:C,2,FALSE)","v":"CZ"},{"$f":"VLOOKUP(F1069,Soutez!B:D,3,FALSE)","v":2021},1,2928,0.75,{"$f":"ROUND(J1069/MAX($J$1069:$J$1087)*10000*0.7+(MAX($I$1069:$I$1087)-I1069)/(MAX($I$1069:$I$1087)-1)*10000*0.3,0)","v":10000},{"$f":"ROUND(K1069*L1069,0)","v":7500},"x",null,"ASW 15 B","XE",""]
["Jan Smaha",1958,"M","Česká Lípa","CZ/C2","Ranský pohár 2021 - Kombi",{"$f":"VLOOKUP(F1070,Soutez!B:C,2,FALSE)","v":"CZ"},{"$f":"VLOOKUP(F1070,Soutez!B:D,3,FALSE)","v":2021},2,2542,0.75,8911,{"$f":"ROUND(K1070*L1070,0)","v":6683},"x",null,"ASW 15 B","CW",""]
["Tomas Novak",1974,"M","Česká Lípa","CZ/C2","Ranský pohár 2021 - Kombi",{"$f":"VLOOKUP(F1071,Soutez!B:C,2,FALSE)","v":"CZ"},{"$f":"VLOOKUP(F1071,Soutez!B:D,3,FALSE)","v":2021},3,2444,0.75,8510,6383,"x",null,"Ventus C 17,6m","XE",""]
["Jiri Maier 99",1999,"M","Raná","CZ/C2","Ranský pohár 2021 - Kombi",{"$f":"VLOOKUP(F1072,Soutez!B:C,2,FALSE)","v":"CZ"},{"$f":"VLOOKUP(F1072,Soutez!B:D,3,FALSE)","v":2021},4,2406,0.75,8252,6189,"x",null,"Discus bT WL","TAL","Junior v roce 2023"]
["Vojtech Kostejn",{"$f":"VLOOKUP(A1073,Pilot,2,0)","v":1974},{"$f":"VLOOKUP(A1073,Pilot,5,0)","v":"M"},{"$f":"VLOOKUP(A1073,Pilot,3,0)","v":"Česká Lípa"},{"$f":"VLOOKUP(A1073,Pilot,4,0)","v":"CZ/C2"},"Ranský pohár 2021 - Kombi",{"$f":"VLOOKUP(F1073,Soutez!B:C,2,FALSE)","v":"CZ"},{"$f":"VLOOKUP(F1073,Soutez!B:D,3,FALSE)","v":2021},5,2377,0.75,8016,6012,"x",null,"ASW 15 B","I",""]
["Pavel Derda",{"$f":"VLOOKUP(A1074,Pilot,2,0)","v":1952},{"$f":"VLOOKUP(A1074,Pilot,5,0)","v":"M"},{"$f":"VLOOKUP(A1074,Pilot,3,0)","v":"Dvůr Králové"},{"$f":"VLOOKUP(A1074,Pilot,4,0)","v":"CZ/C2"},"Ranský pohár 2021 - Kombi",{"$f":"VLOOKUP(F1074,Soutez!B:C,2,FALSE)","v":"CZ"},{"$f":"VLOOKUP(F1074,Soutez!B:D,3,FALSE)","v":2021},6,2357,0.75,7802,5852,"x",null,"Cirrus/Cirrus VTC 17.74","VE",""]
["Jiri Maier 66",1966,"M","Raná","CZ/C2","Ranský pohár 2021 - Kombi",{"$f":"VLOOKUP(F1075,Soutez!B:C,2,FALSE)","v":"CZ"},{"$f":"VLOOKUP(F1075,Soutez!B:D,3,FALSE)","v":2021},7,2354,0.75,7628,5721,"x",null,"ASW 24E WL","JM",""]
["Martin Zvonicek",{"$f":"VLOOKUP(A1076,Pilot,2,0)","v":1972},{"$f":"VLOOKUP(A1076,Pilot,5,0)","v":"M"},{"$f":"VLOOKUP(A1076,Pilot,3,0)","v":"Raná"},{"$f":"VLOOKUP(A1076,Pilot,4,0)","v":"CZ/C2"},"Ranský pohár 2021 - Kombi",{"$f":"VLOOKUP(F1076,Soutez!B:C,2,FALSE)","v":"CZ"},{"$f":"VLOOKUP(F1076,Soutez!B:D,3,FALSE)","v":2021},8,2345,0.75,7440,5580,"x",null,"ASW 15","ET",""]
["Zbynek Bican",1961,"M","Raná","CZ/C2","Ranský pohár 2021 - Kombi",{"$f":"VLOOKUP(F1077,Soutez!B:C,2,FALSE)","v":"CZ"},{"$f":"VLOOKUP(F1077,Soutez!B:D,3,FALSE)","v":2021},9,2014,0.75,6482,4862,"x",null,"LS 3 WL","H1",""]
["Krystof Mimra",1992,"M","Most","CZ/C2","Ranský pohár 2021 - Kombi",{"$f":"VLOOKUP(F1078,Soutez!B:C,2,FALSE)","v":"CZ"},{"$f":"VLOOKUP(F1078,Soutez!B:D,3,FALSE)","v":2021},10,1889,0.75,6016,4512,"x",null,"VSO-10",51,""]
["Dalibor Pek",1968,"M","Raná","CZ/C2","Ranský pohár 2021 - Kombi",{"$f":"VLOOKUP(F1079,Soutez!B:C,2,FALSE)","v":"CZ"},{"$f":"VLOOKUP(F1079,Soutez!B:D,3,FALSE)","v":2021},11,1830,{"$f":"VLOOKUP(F1079,Soutez,12,0)","v":0.75},5708,4281,"x",null,"Std. Cirrus","GP",""]
["Jaroslav Vancata",1985,"M","Raná","CZ/C2","Ranský pohár 2021 - Kombi",{"$f":"VLOOKUP(F1080,Soutez!B:C,2,FALSE)","v":"CZ"},{"$f":"VLOOKUP(F1080,Soutez!B:D,3,FALSE)","v":2021},12,1761,0.75,5377,4033,"x",null,"LS 7 WL","2B",""]
["Michal Hemrle",1974,"M","Česká Lípa","CZ/C2","Ranský pohár 2021 - Kombi",{"$f":"VLOOKUP(F1081,Soutez!B:C,2,FALSE)","v":"CZ"},{"$f":"VLOOKUP(F1081,Soutez!B:D,3,FALSE)","v":2021},13,1739,0.75,5157,{"$f":"ROUND(K1081*L1081,0)","v":3868},"x",null,"ASG 29E 18m","EET",""]
["Jana Mezerova",1975,"F","Raná","CZ/C2","Ranský pohár 2021 - Kombi",{"$f":"VLOOKUP(F1082,Soutez!B:C,2,FALSE)","v":"CZ"},{"$f":"VLOOKUP(F1082,Soutez!B:D,3,FALSE)","v":2021},14,1602,0.75,4663,3497,"x","x","LS 1-0","AL",""]
["Jaromir Hendrych",1954,"M","Raná","CZ/C2","Ranský pohár 2021 - Kombi",{"$f":"VLOOKUP(F1083,Soutez!B:C,2,FALSE)","v":"CZ"},{"$f":"VLOOKUP(F1083,Soutez!B:D,3,FALSE)","v":2021},15,1495,0.75,4241,3181,null,null,"M-35",36,""]
["Martin Fric",1967,"M","Raná","CZ/C2","Ranský pohár 2021 - Kombi",{"$f":"VLOOKUP(F1084,Soutez!B:C,2,FALSE)","v":"CZ"},{"$f":"VLOOKUP(F1084,Soutez!B:D,3,FALSE)","v":2021},16,1457,0.75,3983,2987,null,null,"Janus B","RA",""]
["Daniel Devecka",{"$f":"VLOOKUP(A1085,Pilot,2,0)","v":1981},{"$f":"VLOOKUP(A1085,Pilot,5,0)","v":"M"},{"$f":"VLOOKUP(A1085,Pilot,3,0)","v":"Vlašim"},{"$f":"VLOOKUP(A1085,Pilot,4,0)","v":"CZ/C1"},"Ranský pohár 2021 - Kombi",{"$f":"VLOOKUP(F1085,Soutez!B:C,2,FALSE)","v":"CZ"},{"$f":"VLOOKUP(F1085,Soutez!B:D,3,FALSE)","v":2021},17,1237,0.75,3291,2468,"x",null,"VSO-10 C","V3",""]
["Tomas Mezera",1973,"M","Raná","CZ/C2","Ranský pohár 2021 - Kombi",{"$f":"VLOOKUP(F1086,Soutez!B:C,2,FALSE)","v":"CZ"},{"$f":"VLOOKUP(F1086,Soutez!B:D,3,FALSE)","v":2021},18,1001,0.75,2560,1920,null,null,"VSO-10",59,""]
["Stanislav Vrabec",1975,"M","Česká Lípa","CZ/C2","Ranský pohár 2021 - Kombi",{"$f":"VLOOKUP(F1087,Soutez!B:C,2,FALSE)","v":"CZ"},{"$f":"VLOOKUP(F1087,Soutez!B:D,3,FALSE)","v":2021},19,699,0.75,{"$f":"ROUND(J1087/MAX($J$1069:$J$1087)*10000*0.7+(MAX($I$1069:$I$1087)-I1087)/(MAX($I$1069:$I$1087)-1)*10000*0.3,0)","v":1671},{"$f":"ROUND(K1087*L1087,0)","v":1253},"x",null,"Std. Cirrus","CV",""]
["Jakub Hlavacek",{"$f":"VLOOKUP(A1088,Pilot,2,0)","v":1991},{"$f":"VLOOKUP(A1088,Pilot,5,0)","v":"M"},{"$f":"VLOOKUP(A1088,Pilot,3,0)","v":"Letkov"},{"$f":"VLOOKUP(A1088,Pilot,4,0)","v":"CZ/C1"},"Cirrus GP 2021 - Std. Cirrus",{"$f":"VLOOKUP(F1088,Soutez!B:C,2,FALSE)","v":"CZ"},{"$f":"VLOOKUP(F1088,Soutez!B:D,3,FALSE)","v":2021},1,43,0.76,{"$f":"ROUND((MAX($I$1088:$I$1101)-I1088)/(MAX($I$1088:$I$1101)-1)*10000,0)","v":10000},{"$f":"ROUND(K1088*L1088,0)","v":7600},"x",null,"Std. Cirrus","SB",""]
["Michal Navratil",1985,"M","Křižanov","CZ/M","Cirrus GP 2021 - Std. Cirrus",{"$f":"VLOOKUP(F1089,Soutez!B:C,2,FALSE)","v":"CZ"},{"$f":"VLOOKUP(F1089,Soutez!B:D,3,FALSE)","v":2021},2,34,0.76,9231,{"$f":"ROUND(K1089*L1089,0)","v":7016},"x",null,"Std. Cirrus","IJ",""]
["Pavel Jiranek",1993,"M","Toužim","CZ/C1","Cirrus GP 2021 - Std. Cirrus",{"$f":"VLOOKUP(F1090,Soutez!B:C,2,FALSE)","v":"CZ"},{"$f":"VLOOKUP(F1090,Soutez!B:D,3,FALSE)","v":2021},3,29,0.76,8462,6431,null,null,"Std. Cirrus","IYD",""]
["Jan Zahradka",1981,"M","Hodkovice","CZ/C2","Cirrus GP 2021 - Std. Cirrus",{"$f":"VLOOKUP(F1091,Soutez!B:C,2,FALSE)","v":"CZ"},{"$f":"VLOOKUP(F1091,Soutez!B:D,3,FALSE)","v":2021},4,28,0.76,7692,5846,"x",null,"Std. Cirrus","AR",""]
["Jan Hruska",1988,"M","Tábor","CZ/C1","Cirrus GP 2021 - Std. Cirrus",{"$f":"VLOOKUP(F1092,Soutez!B:C,2,FALSE)","v":"CZ"},{"$f":"VLOOKUP(F1092,Soutez!B:D,3,FALSE)","v":2021},5,23,0.76,6923,5261,"x",null,"Std. Cirrus",75,""]
["Fousek & Dvorak",null,null,"Raná",null,"Cirrus GP 2021 - Std. Cirrus",{"$f":"VLOOKUP(F1093,Soutez!B:C,2,FALSE)","v":"CZ"},{"$f":"VLOOKUP(F1093,Soutez!B:D,3,FALSE)","v":2021},6,19,0.76,6154,{"$f":"ROUND(K1093*L1093,0)","v":4677},null,null,"Std. Cirrus","LW","Není v databázi"]
["Jan Ratz",{"$f":"VLOOKUP(A1094,Pilot,2,0)","v":1987},{"$f":"VLOOKUP(A1094,Pilot,5,0)","v":"M"},{"$f":"VLOOKUP(A1094,Pilot,3,0)","v":"Zbraslavice"},{"$f":"VLOOKUP(A1094,Pilot,4,0)","v":"CZ/C1"},"Cirrus GP 2021 - Std. Cirrus",{"$f":"VLOOKUP(F1094,Soutez!B:C,2,FALSE)","v":"CZ"},{"$f":"VLOOKUP(F1094,Soutez!B:D,3,FALSE)","v":2021},7,16,0.76,5385,4093,null,null,"Std. Cirrus","REX",""]
["Hana Treslova",1991,"F","Raná","CZ/C2","Cirrus GP 2021 - Std. Cirrus",{"$f":"VLOOKUP(F1095,Soutez!B:C,2,FALSE)","v":"CZ"},{"$f":"VLOOKUP(F1095,Soutez!B:D,3,FALSE)","v":2021},8,15,0.76,4615,3507,null,null,"Std. Cirrus","CI",""]
["Katerina Vojtova",1983,"F","Slaný","CZ/C1","Cirrus GP 2021 - Std. Cirrus",{"$f":"VLOOKUP(F1096,Soutez!B:C,2,FALSE)","v":"CZ"},{"$f":"VLOOKUP(F1096,Soutez!B:D,3,FALSE)","v":2021},9,7,0.76,3846,2923,null,null,"Std. Cirrus","KAC",""]
["Matej Krestes",1986,"M","Slaný","CZ/C1","Cirrus GP 2021 - Std. Cirrus",{"$f":"VLOOKUP(F1097,Soutez!B:C,2,FALSE)","v":"CZ"},{"$f":"VLOOKUP(F1097,Soutez!B:D,3,FALSE)","v":2021},10,6,0.76,3077,2339,"x",null,"Std. Cirrus","CON",""]
["Jiri Hula",1973,"M","Slaný","CZ/C1","Cirrus GP 2021 - Std. Cirrus",{"$f":"VLOOKUP(F1098,Soutez!B:C,2,FALSE)","v":"CZ"},{"$f":"VLOOKUP(F1098,Soutez!B:D,3,FALSE)","v":2021},11,4,0.76,2308,1754,"x",null,"Std.Cirrus","IT",""]
["Michal Fortik",1976,"M","Točná","CZ/C1","Cirrus GP 2021 - Std. Cirrus",{"$f":"VLOOKUP(F1099,Soutez!B:C,2,FALSE)","v":"CZ"},{"$f":"VLOOKUP(F1099,Soutez!B:D,3,FALSE)","v":2021},11,4,0.76,2308,1754,"x",null,"Std. Cirrus","AC",""]
["Jan Platenik",1981,"M","Krnov","CZ/M","Cirrus GP 2021 - Std. Cirrus",{"$f":"VLOOKUP(F1100,Soutez!B:C,2,FALSE)","v":"CZ"},{"$f":"VLOOKUP(F1100,Soutez!B:D,3,FALSE)","v":2021},13,3,0.76,{"$f":"ROUND((MAX($I$1088:$I$1101)-I1100)/(MAX($I$1088:$I$1101)-1)*10000,0)","v":769},584,"x",null,"Std. Cirrus","SX",""]
["Bordovska & Bordovsky",null,null,"Krnov",null,"Cirrus GP 2021 - Std. Cirrus",{"$f":"VLOOKUP(F1101,Soutez!B:C,2,FALSE)","v":"CZ"},{"$f":"VLOOKUP(F1101,Soutez!B:D,3,FALSE)","v":2021},14,1,0.76,0,0,null,null,"Std. Cirrus","BB",{"$f":"IF(ISERROR(VLOOKUP(A1101,Pilot,6,0)),\"Není v databázi\",VLOOKUP(A1101,Pilot,6,0))","v":"Není v databázi"}]
["Uwe Wahlig",null,null,"GER",null,"WGC 2021 - Klub",{"$f":"VLOOKUP(F1102,Soutez!B:C,2,FALSE)","v":"FR"},{"$f":"VLOOKUP(F1102,Soutez!B:D,3,FALSE)","v":2021},1,4614,1.105,{"$f":"ROUND(J1102/MAX($J$1102:$J$1137)*10000*0.7+(MAX($I$1102:$I$1137)-I1102)/(MAX($I$1102:$I$1137)-1)*10000*0.3,0)","v":10000},{"$f":"ROUND(K1102*L1102,0)","v":11050},null,null,"LS 3","SN","Není v databázi"]
["Thies Bruins",null,null,"NDL",null,"WGC 2021 - Klub",{"$f":"VLOOKUP(F1103,Soutez!B:C,2,FALSE)","v":"FR"},{"$f":"VLOOKUP(F1103,Soutez!B:D,3,FALSE)","v":2021},2,4499,1.105,9740,{"$f":"ROUND(K1103*L1103,0)","v":10763},null,null,"ASW 20","IV","Není v databázi"]
["Stefan Langer",null,null,"GER",null,"WGC 2021 - Klub",{"$f":"VLOOKUP(F1104,Soutez!B:C,2,FALSE)","v":"FR"},{"$f":"VLOOKUP(F1104,Soutez!B:D,3,FALSE)","v":2021},3,4457,1.105,9590,10597,null,null,"LS 3","SF","Není v databázi"]
["Tom Arscott",null,null,"GBR",null,"WGC 2021 - Klub",{"$f":"VLOOKUP(F1105,Soutez!B:C,2,FALSE)","v":"FR"},{"$f":"VLOOKUP(F1105,Soutez!B:D,3,FALSE)","v":2021},4,4450,1.105,9494,10491,null,null,"LS 7 WL",768,"Není v databázi"]
["Ferenc Tamas",null,null,"HUN",null,"WGC 2021 - Klub",{"$f":"VLOOKUP(F1106,Soutez!B:C,2,FALSE)","v":"FR"},{"$f":"VLOOKUP(F1106,Soutez!B:D,3,FALSE)","v":2021},5,4435,1.105,9386,10372,null,null,"LS 3","1A","Není v databázi"]
["Robin Smit",null,null,"NDL",null,"WGC 2021 - Klub",{"$f":"VLOOKUP(F1107,Soutez!B:C,2,FALSE)","v":"FR"},{"$f":"VLOOKUP(F1107,Soutez!B:D,3,FALSE)","v":2021},6,4388,1.105,9229,10198,null,null,"LS 4","RSM","Není v databázi"]
["Jake Brattle",null,null,"GBR",null,"WGC 2021 - Klub",{"$f":"VLOOKUP(F1108,Soutez!B:C,2,FALSE)","v":"FR"},{"$f":"VLOOKUP(F1108,Soutez!B:D,3,FALSE)","v":2021},7,4318,1.105,9037,9986,null,null,"LS 7 WL",25,"Není v databázi"]
["Jakub Barszcz",null,null,"POL",null,"WGC 2021 - Klub",{"$f":"VLOOKUP(F1109,Soutez!B:C,2,FALSE)","v":"FR"},{"$f":"VLOOKUP(F1109,Soutez!B:D,3,FALSE)","v":2021},8,4163,1.105,8716,9631,null,null,"Mini Nimbus","CC","Není v databázi"]
["Mark Travner",null,null,"SLO",null,"WGC 2021 - Klub",{"$f":"VLOOKUP(F1110,Soutez!B:C,2,FALSE)","v":"FR"},{"$f":"VLOOKUP(F1110,Soutez!B:D,3,FALSE)","v":2021},9,4061,1.105,8475,9365,null,null,"DG 300","CF","Není v databázi"]
["Darius Gudziunas",null,null,"LTU",null,"WGC 2021 - Klub",{"$f":"VLOOKUP(F1111,Soutez!B:C,2,FALSE)","v":"FR"},{"$f":"VLOOKUP(F1111,Soutez!B:D,3,FALSE)","v":2021},10,4048,1.105,8370,9249,null,null,"ASW 20","FL1","Není v databázi"]
["Lukasz Kornacki",null,null,"POL",null,"WGC 2021 - Klub",{"$f":"VLOOKUP(F1112,Soutez!B:C,2,FALSE)","v":"FR"},{"$f":"VLOOKUP(F1112,Soutez!B:D,3,FALSE)","v":2021},11,3981,1.105,8183,9042,null,null,"Mini Nimbus","CH","Není v databázi"]
["Simon Gantner",null,null,"CHE",null,"WGC 2021 - Klub",{"$f":"VLOOKUP(F1113,Soutez!B:C,2,FALSE)","v":"FR"},{"$f":"VLOOKUP(F1113,Soutez!B:D,3,FALSE)","v":2021},12,3964,1.105,8071,8918,null,null,"LS 4","MN","Není v databázi"]
["Rasmus Ørskov",null,null,"DEN",null,"WGC 2021 - Klub",{"$f":"VLOOKUP(F1114,Soutez!B:C,2,FALSE)","v":"FR"},{"$f":"VLOOKUP(F1114,Soutez!B:D,3,FALSE)","v":2021},13,3957,1.105,7975,8812,null,null,"ASW 20","LH","Není v databázi"]
["Eric Bernard",null,null,"FRA",null,"WGC 2021 - Klub",{"$f":"VLOOKUP(F1115,Soutez!B:C,2,FALSE)","v":"FR"},{"$f":"VLOOKUP(F1115,Soutez!B:D,3,FALSE)","v":2021},14,3876,1.105,7766,8581,null,null,"LS 7 WL","HG","Není v databázi"]
["Killian Walbrou",null,null,"FRA",null,"WGC 2021 - Klub",{"$f":"VLOOKUP(F1116,Soutez!B:C,2,FALSE)","v":"FR"},{"$f":"VLOOKUP(F1116,Soutez!B:D,3,FALSE)","v":2021},15,3834,1.105,7617,8417,null,null,"LS 7 WL","AG","Není v databázi"]
["Andrej Lebedev",null,null,"LTU",null,"WGC 2021 - Klub",{"$f":"VLOOKUP(F1117,Soutez!B:C,2,FALSE)","v":"FR"},{"$f":"VLOOKUP(F1117,Soutez!B:D,3,FALSE)","v":2021},16,3805,1.105,7487,8273,null,null,"ASW 20","WU","Není v databázi"]
["Tomas Suchanek",{"$f":"VLOOKUP(A1118,Pilot,2,0)","v":1964},{"$f":"VLOOKUP(A1118,Pilot,5,0)","v":"M"},{"$f":"VLOOKUP(A1118,Pilot,3,0)","v":"GAC Benešov"},{"$f":"VLOOKUP(A1118,Pilot,4,0)","v":"CZ/C1"},"WGC 2021 - Klub",{"$f":"VLOOKUP(F1118,Soutez!B:C,2,FALSE)","v":"FR"},{"$f":"VLOOKUP(F1118,Soutez!B:D,3,FALSE)","v":2021},17,3755,1.105,7325,8094,null,null,"ASW 20","CP",""]
["Frédéric De Groote",null,null,"BEL",null,"WGC 2021 - Klub",{"$f":"VLOOKUP(F1119,Soutez!B:C,2,FALSE)","v":"FR"},{"$f":"VLOOKUP(F1119,Soutez!B:D,3,FALSE)","v":2021},18,3735,1.105,7209,7966,null,null,"Std. Libelle","FB","Není v databázi"]
["Giacomo Dall'Olio",null,null,"ITA",null,"WGC 2021 - Klub",{"$f":"VLOOKUP(F1120,Soutez!B:C,2,FALSE)","v":"FR"},{"$f":"VLOOKUP(F1120,Soutez!B:D,3,FALSE)","v":2021},19,3724,1.105,7107,7853,null,null,"ASW 20","B6","Není v databázi"]
["Anton Minskiy",null,null,"FAS",null,"WGC 2021 - Klub",{"$f":"VLOOKUP(F1121,Soutez!B:C,2,FALSE)","v":"FR"},{"$f":"VLOOKUP(F1121,Soutez!B:D,3,FALSE)","v":2021},20,3714,1.105,7006,7742,null,null,"ASW 20","RZ","Není v databázi"]
["Paul Altrichter",null,null,"AUT",null,"WGC 2021 - Klub",{"$f":"VLOOKUP(F1122,Soutez!B:C,2,FALSE)","v":"FR"},{"$f":"VLOOKUP(F1122,Soutez!B:D,3,FALSE)","v":2021},21,3686,1.105,6878,7600,null,null,"LS 4 WL","IAX","Není v databázi"]
["Jan Pavlik",{"$f":"VLOOKUP(A1123,Pilot,2,0)","v":1987},{"$f":"VLOOKUP(A1123,Pilot,5,0)","v":"M"},{"$f":"VLOOKUP(A1123,Pilot,3,0)","v":"Křižanov"},{"$f":"VLOOKUP(A1123,Pilot,4,0)","v":"CZ/M"},"WGC 2021 - Klub",{"$f":"VLOOKUP(F1123,Soutez!B:C,2,FALSE)","v":"FR"},{"$f":"VLOOKUP(F1123,Soutez!B:D,3,FALSE)","v":2021},22,3679,1.105,6781,7493,null,null,"LS 4","6L",""]
["Sven Sprunger",null,null,"CHE",null,"WGC 2021 - Klub",{"$f":"VLOOKUP(F1124,Soutez!B:C,2,FALSE)","v":"FR"},{"$f":"VLOOKUP(F1124,Soutez!B:D,3,FALSE)","v":2021},23,3631,1.105,6623,7318,null,null,"LS 4","WG","Není v databázi"]
["Miguel Schwan",null,null,"AUT",null,"WGC 2021 - Klub",{"$f":"VLOOKUP(F1125,Soutez!B:C,2,FALSE)","v":"FR"},{"$f":"VLOOKUP(F1125,Soutez!B:D,3,FALSE)","v":2021},24,3540,1.105,6399,{"$f":"ROUND(K1125*L1125,0)","v":7071},null,null,"LS 4 WL","T5","Není v databázi"]
["Daniel Sazhin",null,null,"USA",null,"WGC 2021 - Klub",{"$f":"VLOOKUP(F1126,Soutez!B:C,2,FALSE)","v":"FR"},{"$f":"VLOOKUP(F1126,Soutez!B:D,3,FALSE)","v":2021},25,3529,1.105,6297,6958,null,null,"ASW 20","WA","Není v databázi"]
["Sami Rissanen",null,null,"FIN",null,"WGC 2021 - Klub",{"$f":"VLOOKUP(F1127,Soutez!B:C,2,FALSE)","v":"FR"},{"$f":"VLOOKUP(F1127,Soutez!B:D,3,FALSE)","v":2021},26,3474,1.105,6128,6771,null,null,"LS 7","GE","Není v databázi"]
["Vojko Starovic",null,null,"SLO",null,"WGC 2021 - Klub",{"$f":"VLOOKUP(F1128,Soutez!B:C,2,FALSE)","v":"FR"},{"$f":"VLOOKUP(F1128,Soutez!B:D,3,FALSE)","v":2021},27,3418,1.105,5957,6582,null,null,"DG 300","CE","Není v databázi"]
["Geert De Palmenaer",null,null,"BEL",null,"WGC 2021 - Klub",{"$f":"VLOOKUP(F1129,Soutez!B:C,2,FALSE)","v":"FR"},{"$f":"VLOOKUP(F1129,Soutez!B:D,3,FALSE)","v":2021},28,3400,1.105,5844,6458,null,null,"LS 4","LV","Není v databázi"]
["Frane Franic",null,null,"CRO",null,"WGC 2021 - Klub",{"$f":"VLOOKUP(F1130,Soutez!B:C,2,FALSE)","v":"FR"},{"$f":"VLOOKUP(F1130,Soutez!B:D,3,FALSE)","v":2021},29,3338,1.105,5664,6259,null,null,"ASW 24","HR3","Není v databázi"]
["James P. Stewart",null,null,"USA",null,"WGC 2021 - Klub",{"$f":"VLOOKUP(F1131,Soutez!B:C,2,FALSE)","v":"FR"},{"$f":"VLOOKUP(F1131,Soutez!B:D,3,FALSE)","v":2021},30,3293,1.105,5510,6089,null,null,"ASW 20","IRS","Není v databázi"]
["Oleg Rzhondkovskyi",null,null,"UKR",null,"WGC 2021 - Klub",{"$f":"VLOOKUP(F1132,Soutez!B:C,2,FALSE)","v":"FR"},{"$f":"VLOOKUP(F1132,Soutez!B:D,3,FALSE)","v":2021},31,3213,1.105,5303,5860,null,null,"Discus",762,"Není v databázi"]
["Gerrard G Dale",null,null,"GBR",null,"WGC 2021 - Klub",{"$f":"VLOOKUP(F1133,Soutez!B:C,2,FALSE)","v":"FR"},{"$f":"VLOOKUP(F1133,Soutez!B:D,3,FALSE)","v":2021},32,3138,1.105,5104,5640,null,null,"ASW 24",247,"Není v databázi"]
["Morten Hoeck Petersen",null,null,"DEN",null,"WGC 2021 - Klub",{"$f":"VLOOKUP(F1134,Soutez!B:C,2,FALSE)","v":"FR"},{"$f":"VLOOKUP(F1134,Soutez!B:D,3,FALSE)","v":2021},33,3040,1.105,4869,5380,null,null,"Glasflugel 304","G","Není v databázi"]
["Attila Korom",null,null,"HUN",null,"WGC 2021 - Klub",{"$f":"VLOOKUP(F1135,Soutez!B:C,2,FALSE)","v":"FR"},{"$f":"VLOOKUP(F1135,Soutez!B:D,3,FALSE)","v":2021},34,3003,1.105,4727,5223,null,null,"ASW 20","MC","Není v databázi"]
["Mykhailo Grytsenko",null,null,"UKR",null,"WGC 2021 - Klub",{"$f":"VLOOKUP(F1136,Soutez!B:C,2,FALSE)","v":"FR"},{"$f":"VLOOKUP(F1136,Soutez!B:D,3,FALSE)","v":2021},35,1390,1.105,2195,2425,null,null,"Jantar Std. 3",89,"Není v databázi"]
["Markku Valkama",null,null,"FIN",null,"WGC 2021 - Klub",{"$f":"VLOOKUP(F1137,Soutez!B:C,2,FALSE)","v":"FR"},{"$f":"VLOOKUP(F1137,Soutez!B:D,3,FALSE)","v":2021},36,657,1.105,997,1102,null,null,"PIK 20 A","MV","Není v databázi"]
["Simon Schröder",null,null,"GER",null,"WGC 2021 - Std",{"$f":"VLOOKUP(F1138,Soutez!B:C,2,FALSE)","v":"FR"},{"$f":"VLOOKUP(F1138,Soutez!B:D,3,FALSE)","v":2021},1,4609,1.085,{"$f":"ROUND(J1138/MAX($J$1138:$J$1167)*10000*0.7+(MAX($I$1138:$I$1167)-I1138)/(MAX($I$1138:$I$1167)-1)*10000*0.3,0)","v":10000},{"$f":"ROUND(K1138*L1138,0)","v":10850},null,null,"LS 8","S2","Není v databázi"]
["Jan Omsels",null,null,"GER",null,"WGC 2021 - Std",{"$f":"VLOOKUP(F1139,Soutez!B:C,2,FALSE)","v":"FR"},{"$f":"VLOOKUP(F1139,Soutez!B:D,3,FALSE)","v":2021},2,4504,1.085,9737,{"$f":"ROUND(K1139*L1139,0)","v":10565},null,null,"Discus 2a","V","Není v databázi"]
["Dennis Huybreckx",null,null,"BEL",null,"WGC 2021 - Std",{"$f":"VLOOKUP(F1140,Soutez!B:C,2,FALSE)","v":"FR"},{"$f":"VLOOKUP(F1140,Soutez!B:D,3,FALSE)","v":2021},3,4390,{"$f":"VLOOKUP(F1140,Soutez,12,0)","v":1.085},9460,10264,null,null,"LS 8","CM","Není v databázi"]
["Jeremy Hood",null,null,"GBR",null,"WGC 2021 - Std",{"$f":"VLOOKUP(F1141,Soutez!B:C,2,FALSE)","v":"FR"},{"$f":"VLOOKUP(F1141,Soutez!B:D,3,FALSE)","v":2021},4,4229,1.085,9113,9888,null,null,"LS 8",352,"Není v databázi"]
["Norbert Scarlat",null,null,"ROM",null,"WGC 2021 - Std",{"$f":"VLOOKUP(F1142,Soutez!B:C,2,FALSE)","v":"FR"},{"$f":"VLOOKUP(F1142,Soutez!B:D,3,FALSE)","v":2021},5,4168,1.085,8916,9674,null,null,"Discus 2a","Y1","Není v databázi"]
["Jeroen Jennen",null,null,"BEL",null,"WGC 2021 - Std",{"$f":"VLOOKUP(F1143,Soutez!B:C,2,FALSE)","v":"FR"},{"$f":"VLOOKUP(F1143,Soutez!B:D,3,FALSE)","v":2021},6,4159,1.085,8799,9547,null,null,"LS 8","LT","Není v databázi"]
["Sjaak Selen",null,null,"NDL",null,"WGC 2021 - Std",{"$f":"VLOOKUP(F1144,Soutez!B:C,2,FALSE)","v":"FR"},{"$f":"VLOOKUP(F1144,Soutez!B:D,3,FALSE)","v":2021},7,4129,1.085,8650,9385,null,null,"Discus 2a","2SI","Není v databázi"]
["Enrique Levin",null,null,"GER",null,"WGC 2021 - Std",{"$f":"VLOOKUP(F1145,Soutez!B:C,2,FALSE)","v":"FR"},{"$f":"VLOOKUP(F1145,Soutez!B:D,3,FALSE)","v":2021},8,4105,1.085,8510,9233,null,null,"Discus 2a","FL","Není v databázi"]
["Robbie Seton",null,null,"NDL",null,"WGC 2021 - Std",{"$f":"VLOOKUP(F1146,Soutez!B:C,2,FALSE)","v":"FR"},{"$f":"VLOOKUP(F1146,Soutez!B:D,3,FALSE)","v":2021},9,3947,1.085,8167,8861,null,null,"LS 8","SR","Není v databázi"]
["David Leemann",null,null,"CHE",null,"WGC 2021 - Std",{"$f":"VLOOKUP(F1147,Soutez!B:C,2,FALSE)","v":"FR"},{"$f":"VLOOKUP(F1147,Soutez!B:D,3,FALSE)","v":2021},10,3932,1.085,8041,8724,null,null,"LS 8","4B","Není v databázi"]
["Lukasz Blaszczyk",null,null,"POL",null,"WGC 2021 - Std",{"$f":"VLOOKUP(F1148,Soutez!B:C,2,FALSE)","v":"FR"},{"$f":"VLOOKUP(F1148,Soutez!B:D,3,FALSE)","v":2021},11,3872,1.085,7846,8513,null,null,"Discus 2a","I","Není v databázi"]
["Benjamin Néglais",null,null,"FRA",null,"WGC 2021 - Std",{"$f":"VLOOKUP(F1149,Soutez!B:C,2,FALSE)","v":"FR"},{"$f":"VLOOKUP(F1149,Soutez!B:D,3,FALSE)","v":2021},12,3827,1.085,7674,8326,null,null,"Discus 2a","ET","Není v databázi"]
["Filip Bojanowski",null,null,"DEN",null,"WGC 2021 - Std",{"$f":"VLOOKUP(F1150,Soutez!B:C,2,FALSE)","v":"FR"},{"$f":"VLOOKUP(F1150,Soutez!B:D,3,FALSE)","v":2021},13,3764,1.085,7475,8110,null,null,"Discus 2a","LAX","Není v databázi"]
["Howard Jones",null,null,"GBR",null,"WGC 2021 - Std",{"$f":"VLOOKUP(F1151,Soutez!B:C,2,FALSE)","v":"FR"},{"$f":"VLOOKUP(F1151,Soutez!B:D,3,FALSE)","v":2021},14,3716,1.085,7299,{"$f":"ROUND(K1151*L1151,0)","v":7919},null,null,"Discus 2a",6,"Není v databázi"]
["Méric Morel",null,null,"FRA",null,"WGC 2021 - Std",{"$f":"VLOOKUP(F1152,Soutez!B:C,2,FALSE)","v":"FR"},{"$f":"VLOOKUP(F1152,Soutez!B:D,3,FALSE)","v":2021},15,3711,1.085,7188,7799,null,null,"Discus 2a","JPA","Není v databázi"]
["Jacek Flis",null,null,"POL",null,"WGC 2021 - Std",{"$f":"VLOOKUP(F1153,Soutez!B:C,2,FALSE)","v":"FR"},{"$f":"VLOOKUP(F1153,Soutez!B:D,3,FALSE)","v":2021},16,3705,1.085,7075,7676,null,null,"Discus 2a","Y","Není v databázi"]
["Miloslav Cink",{"$f":"VLOOKUP(A1154,Pilot,2,0)","v":1987},{"$f":"VLOOKUP(A1154,Pilot,5,0)","v":"M"},{"$f":"VLOOKUP(A1154,Pilot,3,0)","v":"Letkov"},{"$f":"VLOOKUP(A1154,Pilot,4,0)","v":"CZ/C1"},"WGC 2021 - Std",{"$f":"VLOOKUP(F1154,Soutez!B:C,2,FALSE)","v":"FR"},{"$f":"VLOOKUP(F1154,Soutez!B:D,3,FALSE)","v":2021},17,3607,1.085,6823,7403,null,null,"LS 8","J3",""]
["Nico Jaegli",null,null,"CHE",null,"WGC 2021 - Std",{"$f":"VLOOKUP(F1155,Soutez!B:C,2,FALSE)","v":"FR"},{"$f":"VLOOKUP(F1155,Soutez!B:D,3,FALSE)","v":2021},18,3574,1.085,6669,7236,null,null,"Discus 2","2S","Není v databázi"]
["Sarah Arnold",null,null,"USA",null,"WGC 2021 - Std",{"$f":"VLOOKUP(F1156,Soutez!B:C,2,FALSE)","v":"FR"},{"$f":"VLOOKUP(F1156,Soutez!B:D,3,FALSE)","v":2021},19,3468,1.085,6405,6949,null,null,"Discus 2a","ALB","Není v databázi"]
["Pavel Louzecky",{"$f":"VLOOKUP(A1157,Pilot,2,0)","v":1957},{"$f":"VLOOKUP(A1157,Pilot,5,0)","v":"M"},{"$f":"VLOOKUP(A1157,Pilot,3,0)","v":"Přibyslav"},{"$f":"VLOOKUP(A1157,Pilot,4,0)","v":"CZ/C2"},"WGC 2021 - Std",{"$f":"VLOOKUP(F1157,Soutez!B:C,2,FALSE)","v":"FR"},{"$f":"VLOOKUP(F1157,Soutez!B:D,3,FALSE)","v":2021},20,3403,1.085,6203,6730,null,null,"LS 8","FX",""]
["Jan Brandt Jorgensen",null,null,"DEN",null,"WGC 2021 - Std",{"$f":"VLOOKUP(F1158,Soutez!B:C,2,FALSE)","v":"FR"},{"$f":"VLOOKUP(F1158,Soutez!B:D,3,FALSE)","v":2021},21,3397,1.085,6090,6608,null,null,"LS 8","JB","Není v databázi"]
["Luca Urbani",null,null,"ITA",null,"WGC 2021 - Std",{"$f":"VLOOKUP(F1159,Soutez!B:C,2,FALSE)","v":"FR"},{"$f":"VLOOKUP(F1159,Soutez!B:D,3,FALSE)","v":2021},22,3214,1.085,5709,6194,null,null,"Discus 2a","LR","Není v databázi"]
["Tamas Vamosi",null,null,"HUN",null,"WGC 2021 - Std",{"$f":"VLOOKUP(F1160,Soutez!B:C,2,FALSE)","v":"FR"},{"$f":"VLOOKUP(F1160,Soutez!B:D,3,FALSE)","v":2021},23,3207,1.085,5595,6071,null,null,"Discus 2a","HAL","Není v databázi"]
["Tom Holloran",null,null,"USA",null,"WGC 2021 - Std",{"$f":"VLOOKUP(F1161,Soutez!B:C,2,FALSE)","v":"FR"},{"$f":"VLOOKUP(F1161,Soutez!B:D,3,FALSE)","v":2021},24,3108,1.085,5341,5795,null,null,"LS 8","MY","Není v databázi"]
["Alex Pop",null,null,"ROM",null,"WGC 2021 - Std",{"$f":"VLOOKUP(F1162,Soutez!B:C,2,FALSE)","v":"FR"},{"$f":"VLOOKUP(F1162,Soutez!B:D,3,FALSE)","v":2021},25,3107,1.085,5236,5681,null,null,"Discus 2a","YB","Není v databázi"]
["Martin Schwab",null,null,"AUT",null,"WGC 2021 - Std",{"$f":"VLOOKUP(F1163,Soutez!B:C,2,FALSE)","v":"FR"},{"$f":"VLOOKUP(F1163,Soutez!B:D,3,FALSE)","v":2021},26,3022,1.085,5004,5429,null,null,"Discus 2T","FUN",{"$f":"IF(ISERROR(VLOOKUP(A1163,Pilot,6,0)),\"Není v databázi\",VLOOKUP(A1163,Pilot,6,0))","v":"Není v databázi"}]
["Péter Banki",null,null,"HUN",null,"WGC 2021 - Std",{"$f":"VLOOKUP(F1164,Soutez!B:C,2,FALSE)","v":"FR"},{"$f":"VLOOKUP(F1164,Soutez!B:D,3,FALSE)","v":2021},27,2732,1.085,4460,4839,null,null,"Discus 2a","HUN","Není v databázi"]
["Lorenzo Monti",null,null,"ITA",null,"WGC 2021 - Std",{"$f":"VLOOKUP(F1165,Soutez!B:C,2,FALSE)","v":"FR"},{"$f":"VLOOKUP(F1165,Soutez!B:D,3,FALSE)","v":2021},28,2355,1.085,3784,4106,null,null,"LAK 19/15m","B9","Není v databázi"]
["Serge Leclercq",null,null,"ESP",null,"WGC 2021 - Std",{"$f":"VLOOKUP(F1166,Soutez!B:C,2,FALSE)","v":"FR"},{"$f":"VLOOKUP(F1166,Soutez!B:D,3,FALSE)","v":2021},29,1933,1.085,3039,3297,null,null,"LS 8",220,"Není v databázi"]
["Arturas Pilvinis",null,null,"LTU",null,"WGC 2021 - Std",{"$f":"VLOOKUP(F1167,Soutez!B:C,2,FALSE)","v":"FR"},{"$f":"VLOOKUP(F1167,Soutez!B:D,3,FALSE)","v":2021},30,279,1.085,424,460,null,null,"LS 8","H8","Není v databázi"]
["Sebastian Kawa",null,null,"POL",null,"WGC 2021 - 15m",{"$f":"VLOOKUP(F1168,Soutez!B:C,2,FALSE)","v":"FR"},{"$f":"VLOOKUP(F1168,Soutez!B:D,3,FALSE)","v":2021},1,4470,1.075,{"$f":"ROUND(J1168/MAX($J$1168:$J$1196)*10000*0.7+(MAX($I$1168:$I$1196)-I1168)/(MAX($I$1168:$I$1196)-1)*10000*0.3,0)","v":10000},{"$f":"ROUND(K1168*L1168,0)","v":10750},null,null,"Diana 2","RP","Není v databázi"]
["Lukasz Grabowski",null,null,"POL",null,"WGC 2021 - 15m",{"$f":"VLOOKUP(F1169,Soutez!B:C,2,FALSE)","v":"FR"},{"$f":"VLOOKUP(F1169,Soutez!B:D,3,FALSE)","v":2021},2,4286,1.075,9605,{"$f":"ROUND(K1169*L1169,0)","v":10325},null,null,"Diana 2","BB","Není v databázi"]
["Matthew Scutter",null,null,"AUS",null,"WGC 2021 - 15m",{"$f":"VLOOKUP(F1170,Soutez!B:C,2,FALSE)","v":"FR"},{"$f":"VLOOKUP(F1170,Soutez!B:D,3,FALSE)","v":2021},3,4220,1.075,9394,10099,null,null,"Diana 2","D2","Není v databázi"]
["Hadriaan van Nes",null,null,"NDL",null,"WGC 2021 - 15m",{"$f":"VLOOKUP(F1171,Soutez!B:C,2,FALSE)","v":"FR"},{"$f":"VLOOKUP(F1171,Soutez!B:D,3,FALSE)","v":2021},4,4176,1.075,9218,9909,null,null,"JS 3",3,"Není v databázi"]
["Karel Novak",{"$f":"VLOOKUP(A1172,Pilot,2,0)","v":1993},{"$f":"VLOOKUP(A1172,Pilot,5,0)","v":"M"},{"$f":"VLOOKUP(A1172,Pilot,3,0)","v":"Mladá Boleslav"},{"$f":"VLOOKUP(A1172,Pilot,4,0)","v":"CZ/C1"},"WGC 2021 - 15m",{"$f":"VLOOKUP(F1172,Soutez!B:C,2,FALSE)","v":"FR"},{"$f":"VLOOKUP(F1172,Soutez!B:D,3,FALSE)","v":2021},5,4049,1.075,8912,9580,"x",null,"JS 3","XM",""]
["Riccardo Brigliadori",null,null,"ITA",null,"WGC 2021 - 15m",{"$f":"VLOOKUP(F1173,Soutez!B:C,2,FALSE)","v":"FR"},{"$f":"VLOOKUP(F1173,Soutez!B:D,3,FALSE)","v":2021},6,4017,1.075,8755,9412,null,null,"JS 3","LEO","Není v databázi"]
["Laurent Aboulin",null,null,"FRA",null,"WGC 2021 - 15m",{"$f":"VLOOKUP(F1174,Soutez!B:C,2,FALSE)","v":"FR"},{"$f":"VLOOKUP(F1174,Soutez!B:D,3,FALSE)","v":2021},7,3982,1.075,8593,9237,null,null,"JS 3","KW","Není v databázi"]
["David Bauder",null,null,"GER",null,"WGC 2021 - 15m",{"$f":"VLOOKUP(F1175,Soutez!B:C,2,FALSE)","v":"FR"},{"$f":"VLOOKUP(F1175,Soutez!B:D,3,FALSE)","v":2021},8,3923,1.075,8393,9022,null,null,"Ventus 3","3V","Není v databázi"]
["Steffen Schwarzer",null,null,"GER",null,"WGC 2021 - 15m",{"$f":"VLOOKUP(F1176,Soutez!B:C,2,FALSE)","v":"FR"},{"$f":"VLOOKUP(F1176,Soutez!B:D,3,FALSE)","v":2021},9,3891,1.075,8236,8854,null,null,"Ventus 3","A7","Není v databázi"]
["Daan Spruyt",null,null,"BEL",null,"WGC 2021 - 15m",{"$f":"VLOOKUP(F1177,Soutez!B:C,2,FALSE)","v":"FR"},{"$f":"VLOOKUP(F1177,Soutez!B:D,3,FALSE)","v":2021},10,3873,1.075,8101,8709,null,null,"Ventus 2 ax","FS","Není v databázi"]
["Jeroen Verkuijl",null,null,"NDL",null,"WGC 2021 - 15m",{"$f":"VLOOKUP(F1178,Soutez!B:C,2,FALSE)","v":"FR"},{"$f":"VLOOKUP(F1178,Soutez!B:D,3,FALSE)","v":2021},11,3855,1.075,7965,8562,null,null,"JS 3","JV","Není v databázi"]
["Roman Mracek",{"$f":"VLOOKUP(A1179,Pilot,2,0)","v":1980},{"$f":"VLOOKUP(A1179,Pilot,5,0)","v":"M"},{"$f":"VLOOKUP(A1179,Pilot,3,0)","v":"Letkov"},{"$f":"VLOOKUP(A1179,Pilot,4,0)","v":"CZ/C1"},"WGC 2021 - 15m",{"$f":"VLOOKUP(F1179,Soutez!B:C,2,FALSE)","v":"FR"},{"$f":"VLOOKUP(F1179,Soutez!B:D,3,FALSE)","v":2021},12,3836,1.075,7829,8416,null,null,"JS 3","ZE",""]
["Timothy A. Taylor",null,null,"USA",null,"WGC 2021 - 15m",{"$f":"VLOOKUP(F1180,Soutez!B:C,2,FALSE)","v":"FR"},{"$f":"VLOOKUP(F1180,Soutez!B:D,3,FALSE)","v":2021},13,3752,1.075,7590,8159,null,null,"Ventus 2 ax","VV","Není v databázi"]
["Maximilian Seis",null,null,"FRA",null,"WGC 2021 - 15m",{"$f":"VLOOKUP(F1181,Soutez!B:C,2,FALSE)","v":"FR"},{"$f":"VLOOKUP(F1181,Soutez!B:D,3,FALSE)","v":2021},14,3725,1.075,7440,7998,null,null,"JS 3","LB","Není v databázi"]
["Thomas Grove",null,null,"DEN",null,"WGC 2021 - 15m",{"$f":"VLOOKUP(F1182,Soutez!B:C,2,FALSE)","v":"FR"},{"$f":"VLOOKUP(F1182,Soutez!B:D,3,FALSE)","v":2021},15,3674,1.075,7253,{"$f":"ROUND(K1182*L1182,0)","v":7797},null,null,"ASG 29",29,"Není v databázi"]
["Zoltan Hamar",null,null,"HUN",null,"WGC 2021 - 15m",{"$f":"VLOOKUP(F1183,Soutez!B:C,2,FALSE)","v":"FR"},{"$f":"VLOOKUP(F1183,Soutez!B:D,3,FALSE)","v":2021},16,3622,1.075,7065,7595,null,null,"JS 3","7A","Není v databázi"]
["Mark Käppeli",null,null,"CHE",null,"WGC 2021 - 15m",{"$f":"VLOOKUP(F1184,Soutez!B:C,2,FALSE)","v":"FR"},{"$f":"VLOOKUP(F1184,Soutez!B:D,3,FALSE)","v":2021},17,3479,1.075,6734,7239,null,null,"JS 3","AX","Není v databázi"]
["Sean Murphy",null,null,"USA",null,"WGC 2021 - 15m",{"$f":"VLOOKUP(F1185,Soutez!B:C,2,FALSE)","v":"FR"},{"$f":"VLOOKUP(F1185,Soutez!B:D,3,FALSE)","v":2021},18,3431,1.075,6552,7043,null,null,"JS 3","XC","Není v databázi"]
["Morten Hugo Bennick",null,null,"DEN",null,"WGC 2021 - 15m",{"$f":"VLOOKUP(F1186,Soutez!B:C,2,FALSE)","v":"FR"},{"$f":"VLOOKUP(F1186,Soutez!B:D,3,FALSE)","v":2021},19,3360,1.075,6333,6808,null,null,"Ventus 2cT","RJ","Není v databázi"]
["Yves Gerster",null,null,"CHE",null,"WGC 2021 - 15m",{"$f":"VLOOKUP(F1187,Soutez!B:C,2,FALSE)","v":"FR"},{"$f":"VLOOKUP(F1187,Soutez!B:D,3,FALSE)","v":2021},20,3052,1.075,5744,6175,null,null,"JS 3",73,"Není v databázi"]
["Bruno Herencic",null,null,"CRO",null,"WGC 2021 - 15m",{"$f":"VLOOKUP(F1188,Soutez!B:C,2,FALSE)","v":"FR"},{"$f":"VLOOKUP(F1188,Soutez!B:D,3,FALSE)","v":2021},21,2902,1.075,5402,5807,null,null,"Diana 2","BH","Není v databázi"]
["Vitaliy Borovik",null,null,"FAS",null,"WGC 2021 - 15m",{"$f":"VLOOKUP(F1189,Soutez!B:C,2,FALSE)","v":"FR"},{"$f":"VLOOKUP(F1189,Soutez!B:D,3,FALSE)","v":2021},22,2565,1.075,4767,5125,null,null,"JS 3","VB","Není v databázi"]
["Oscar Marqués",null,null,"ESP",null,"WGC 2021 - 15m",{"$f":"VLOOKUP(F1190,Soutez!B:C,2,FALSE)","v":"FR"},{"$f":"VLOOKUP(F1190,Soutez!B:D,3,FALSE)","v":2021},23,2550,1.075,4636,4984,null,null,"LS 6","CB","Není v databázi"]
["Szabolcs Veigli",null,null,"HUN",null,"WGC 2021 - 15m",{"$f":"VLOOKUP(F1191,Soutez!B:C,2,FALSE)","v":"FR"},{"$f":"VLOOKUP(F1191,Soutez!B:D,3,FALSE)","v":2021},24,2327,1.075,4180,4494,null,null,"JS 3","HAB","Není v databázi"]
["Nik Salej",null,null,"SLO",null,"WGC 2021 - 15m",{"$f":"VLOOKUP(F1192,Soutez!B:C,2,FALSE)","v":"FR"},{"$f":"VLOOKUP(F1192,Soutez!B:D,3,FALSE)","v":2021},25,2265,1.075,3976,4274,null,null,"JS 3","XD","Není v databázi"]
["Diana Schuit",null,null,"LUX",null,"WGC 2021 - 15m",{"$f":"VLOOKUP(F1193,Soutez!B:C,2,FALSE)","v":"FR"},{"$f":"VLOOKUP(F1193,Soutez!B:D,3,FALSE)","v":2021},26,2248,1.075,3842,4130,null,null,"JS 3","MM","Není v databázi"]
["A. M. Litt",null,null,"BEL",null,"WGC 2021 - 15m",{"$f":"VLOOKUP(F1194,Soutez!B:C,2,FALSE)","v":"FR"},{"$f":"VLOOKUP(F1194,Soutez!B:D,3,FALSE)","v":2021},27,2245,1.075,3730,4010,null,null,"JS 3","MMI","Není v databázi"]
["Mykhaylo Kruglyakov",null,null,"UKR",null,"WGC 2021 - 15m",{"$f":"VLOOKUP(F1195,Soutez!B:C,2,FALSE)","v":"FR"},{"$f":"VLOOKUP(F1195,Soutez!B:D,3,FALSE)","v":2021},28,1465,1.075,2401,2581,null,null,"DG 400","BU","Není v databázi"]
["Jurado Navas Miguel",null,null,"ESP",null,"WGC 2021 - 15m",{"$f":"VLOOKUP(F1196,Soutez!B:C,2,FALSE)","v":"FR"},{"$f":"VLOOKUP(F1196,Soutez!B:D,3,FALSE)","v":2021},29,0,1.075,0,0,null,null,"Ventus 1",45,"Není v databázi"]
["Ivan Novak",{"$f":"VLOOKUP(A1197,Pilot,2,0)","v":1962},{"$f":"VLOOKUP(A1197,Pilot,5,0)","v":"M"},{"$f":"VLOOKUP(A1197,Pilot,3,0)","v":"Mladá Boleslav"},{"$f":"VLOOKUP(A1197,Pilot,4,0)","v":"CZ/C1"},"FCC 2021 - Klub",{"$f":"VLOOKUP(F1197,Soutez!B:C,2,FALSE)","v":"SK"},{"$f":"VLOOKUP(F1197,Soutez!B:D,3,FALSE)","v":2021},1,6045,0.93500000000000005,{"$f":"ROUND(J1197/MAX($J$1197:$J$1206)*10000*0.7+(MAX($I$1197:$I$1206)-I1197)/(MAX($I$1197:$I$1206)-1)*10000*0.3,0)","v":10000},{"$f":"ROUND(K1197*L1197,0)","v":9350},"x",null,"Std. Cirrus","DI",""]
["Stanislaw Biela",null,null,"Nowy Targ",null,"FCC 2021 - Klub",{"$f":"VLOOKUP(F1198,Soutez!B:C,2,FALSE)","v":"SK"},{"$f":"VLOOKUP(F1198,Soutez!B:D,3,FALSE)","v":2021},2,5253,0.93500000000000005,8750,{"$f":"ROUND(K1198*L1198,0)","v":8181},null,null,"SZD-55 Promyk","BS","Není v databázi"]
["Milan Surovcik Jr.",null,null,"Žilina",null,"FCC 2021 - Klub",{"$f":"VLOOKUP(F1199,Soutez!B:C,2,FALSE)","v":"SK"},{"$f":"VLOOKUP(F1199,Soutez!B:D,3,FALSE)","v":2021},3,5227,0.93500000000000005,8386,7841,null,null,"Centrair C-101A Pegase","EL","Není v databázi"]
["Petra Piskata",{"$f":"VLOOKUP(A1200,Pilot,2,0)","v":1989},{"$f":"VLOOKUP(A1200,Pilot,5,0)","v":"F"},{"$f":"VLOOKUP(A1200,Pilot,3,0)","v":"Luhačovice"},{"$f":"VLOOKUP(A1200,Pilot,4,0)","v":"CZ/M"},"FCC 2021 - Klub",{"$f":"VLOOKUP(F1200,Soutez!B:C,2,FALSE)","v":"SK"},{"$f":"VLOOKUP(F1200,Soutez!B:D,3,FALSE)","v":2021},4,5067,0.93500000000000005,7867,7356,"x","x","LS-4","FP",""]
["Judit Murati",null,null,"Malev",null,"FCC 2021 - Klub",{"$f":"VLOOKUP(F1201,Soutez!B:C,2,FALSE)","v":"SK"},{"$f":"VLOOKUP(F1201,Soutez!B:D,3,FALSE)","v":2021},5,5014,0.93500000000000005,7473,6987,null,null,"ASW-20 C /15m","J","Není v databázi"]
["Wojciech Domanski",null,null,"Nowy Targ",null,"FCC 2021 - Klub",{"$f":"VLOOKUP(F1202,Soutez!B:C,2,FALSE)","v":"SK"},{"$f":"VLOOKUP(F1202,Soutez!B:D,3,FALSE)","v":2021},6,4976,{"$f":"VLOOKUP(F1202,Soutez,12,0)","v":0.93500000000000005},7095,6634,null,null,"LS-4","WW","Není v databázi"]
["Peter Gonczi",null,null,"Malév",null,"FCC 2021 - Klub",{"$f":"VLOOKUP(F1203,Soutez!B:C,2,FALSE)","v":"SK"},{"$f":"VLOOKUP(F1203,Soutez!B:D,3,FALSE)","v":2021},7,4723,0.93500000000000005,6469,6049,null,null,"Janus C (FG)","DD","Není v databázi"]
["Olgierd Urbanczyk",null,null,"AOS Bezmiechowa",null,"FCC 2021 - Klub",{"$f":"VLOOKUP(F1204,Soutez!B:C,2,FALSE)","v":"SK"},{"$f":"VLOOKUP(F1204,Soutez!B:D,3,FALSE)","v":2021},8,4565,0.93500000000000005,5953,{"$f":"ROUND(K1204*L1204,0)","v":5566},null,null,"Janus dvojí","KI","Není v databázi"]
["Stas Stankovic",null,null,"Aeroklub Novo mesto",null,"FCC 2021 - Klub",{"$f":"VLOOKUP(F1205,Soutez!B:C,2,FALSE)","v":"SK"},{"$f":"VLOOKUP(F1205,Soutez!B:D,3,FALSE)","v":2021},9,3492,0.93500000000000005,4377,4092,null,null,"DG-100","GO","Není v databázi"]
["Ryszard Bendkowski",null,null,"Warszawa",null,"FCC 2021 - Klub",{"$f":"VLOOKUP(F1206,Soutez!B:C,2,FALSE)","v":"SK"},{"$f":"VLOOKUP(F1206,Soutez!B:D,3,FALSE)","v":2021},10,415,0.93500000000000005,481,450,null,null,"SZD-48 Jantar Std. 2","Filip","Není v databázi"]
["Jan Kotan",{"$f":"VLOOKUP(A1207,Pilot,2,0)","v":1982},{"$f":"VLOOKUP(A1207,Pilot,5,0)","v":"M"},{"$f":"VLOOKUP(A1207,Pilot,3,0)","v":"Letňany"},{"$f":"VLOOKUP(A1207,Pilot,4,0)","v":"CZ/C1"},"FCC 2021 - Kombi 15m",{"$f":"VLOOKUP(F1207,Soutez!B:C,2,FALSE)","v":"SK"},{"$f":"VLOOKUP(F1207,Soutez!B:D,3,FALSE)","v":2021},1,5644,0.94500000000000006,{"$f":"ROUND(J1207/MAX($J$1207:$J$1216)*10000*0.7+(MAX($I$1207:$I$1216)-I1207)/(MAX($I$1207:$I$1216)-1)*10000*0.3,0)","v":10000},{"$f":"ROUND(K1207*L1207,0)","v":9450},"x",null,"Ventus 2b 15m","YA",""]
["Czeladzki & Czubski",null,null,"Warszawski/KKGT",null,"FCC 2021 - Kombi 15m",{"$f":"VLOOKUP(F1208,Soutez!B:C,2,FALSE)","v":"SK"},{"$f":"VLOOKUP(F1208,Soutez!B:D,3,FALSE)","v":2021},2,5303,0.94500000000000006,9244,{"$f":"ROUND(K1208*L1208,0)","v":8736},null,null,"Duo Discus XLT","POL","Není v databázi"]
["Jiri Kusbach",{"$f":"VLOOKUP(A1209,Pilot,2,0)","v":1959},{"$f":"VLOOKUP(A1209,Pilot,5,0)","v":"M"},{"$f":"VLOOKUP(A1209,Pilot,3,0)","v":"Luhačovice"},{"$f":"VLOOKUP(A1209,Pilot,4,0)","v":"CZ/M"},"FCC 2021 - Kombi 15m",{"$f":"VLOOKUP(F1209,Soutez!B:C,2,FALSE)","v":"SK"},{"$f":"VLOOKUP(F1209,Soutez!B:D,3,FALSE)","v":2021},3,5019,0.94500000000000006,8558,8087,null,null,"KKB 15E-FES","B",""]
["Jana Treslova",1963,"F","Raná","CZ/C2","FCC 2021 - Kombi 15m",{"$f":"VLOOKUP(F1210,Soutez!B:C,2,FALSE)","v":"SK"},{"$f":"VLOOKUP(F1210,Soutez!B:D,3,FALSE)","v":2021},4,4821,0.94500000000000006,7979,7540,"x","x","Ventus 2ax","AX",""]
["Jana Veprekova",1961,"F","Dvůr Králové","CZ/C2","FCC 2021 - Kombi 15m",{"$f":"VLOOKUP(F1211,Soutez!B:C,2,FALSE)","v":"SK"},{"$f":"VLOOKUP(F1211,Soutez!B:D,3,FALSE)","v":2021},5,4634,0.94500000000000006,7414,7006,"x",null,"LS-8","W8",""]
["Slavomir Valecko",1960,"M","Hranice","CZ/M","FCC 2021 - Kombi 15m",{"$f":"VLOOKUP(F1212,Soutez!B:C,2,FALSE)","v":"SK"},{"$f":"VLOOKUP(F1212,Soutez!B:D,3,FALSE)","v":2021},6,4066,0.94500000000000006,6376,6025,"x",null,"Discus CS","IYB",""]
["Oldrich Bartonik",1961,"M","Luhačovice","CZ/M","FCC 2021 - Kombi 15m",{"$f":"VLOOKUP(F1213,Soutez!B:C,2,FALSE)","v":"SK"},{"$f":"VLOOKUP(F1213,Soutez!B:D,3,FALSE)","v":2021},7,3403,0.94500000000000006,5221,4934,"x",null,"KKB 15","N1",""]
["Maciej Walasek",null,null,"Aeroklub Krakowski",null,"FCC 2021 - Kombi 15m",{"$f":"VLOOKUP(F1214,Soutez!B:C,2,FALSE)","v":"SK"},{"$f":"VLOOKUP(F1214,Soutez!B:D,3,FALSE)","v":2021},8,2680,0.94500000000000006,3991,{"$f":"ROUND(K1214*L1214,0)","v":3771},null,null,"LS-6","KK","Není v databázi"]
["Jan Keher",null,null,"Prievidza",null,"FCC 2021 - Kombi 15m",{"$f":"VLOOKUP(F1215,Soutez!B:C,2,FALSE)","v":"SK"},{"$f":"VLOOKUP(F1215,Soutez!B:D,3,FALSE)","v":2021},9,2293,0.94500000000000006,3177,3002,null,null,"Discus CS","DR","Není v databázi"]
["Benedikt Laho",null,null,"Trnava",null,"FCC 2021 - Kombi 15m",{"$f":"VLOOKUP(F1216,Soutez!B:C,2,FALSE)","v":"SK"},{"$f":"VLOOKUP(F1216,Soutez!B:D,3,FALSE)","v":2021},10,1474,0.94500000000000006,1828,1727,null,null,"Discus 2T /15m","JH","Není v databázi"]
["Michael Streit",null,null,"LSC Burg Feuertein",null,"FCC 2021 - Kombi Open",{"$f":"VLOOKUP(F1217,Soutez!B:C,2,FALSE)","v":"SK"},{"$f":"VLOOKUP(F1217,Soutez!B:D,3,FALSE)","v":2021},1,5592,0.94500000000000006,{"$f":"ROUND(J1217/MAX($J$1217:$J$1234)*10000*0.7+(MAX($I$1217:$I$1234)-I1217)/(MAX($I$1217:$I$1234)-1)*10000*0.3,0)","v":10000},{"$f":"ROUND(K1217*L1217,0)","v":9450},null,null,"AS 33 /18m","M","Není v databázi"]
["Miroslaw Izydorczak",null,null,"Warszawa",null,"FCC 2021 - Kombi Open",{"$f":"VLOOKUP(F1218,Soutez!B:C,2,FALSE)","v":"SK"},{"$f":"VLOOKUP(F1218,Soutez!B:D,3,FALSE)","v":2021},2,5461,0.94500000000000006,9660,{"$f":"ROUND(K1218*L1218,0)","v":9129},null,null,"JS-1C 21","P","Není v databázi"]
["Radek Krejcirik",{"$f":"VLOOKUP(A1219,Pilot,2,0)","v":1991},{"$f":"VLOOKUP(A1219,Pilot,5,0)","v":"M"},{"$f":"VLOOKUP(A1219,Pilot,3,0)","v":"Hranice"},{"$f":"VLOOKUP(A1219,Pilot,4,0)","v":"CZ/M"},"FCC 2021 - Kombi Open",{"$f":"VLOOKUP(F1219,Soutez!B:C,2,FALSE)","v":"SK"},{"$f":"VLOOKUP(F1219,Soutez!B:D,3,FALSE)","v":2021},3,5181,0.94500000000000006,9133,8631,null,null,"JS1-C 21","ZF",""]
["Andre Weidlich",null,null,"LSV Ruhr-Lenne Iserlohn",null,"FCC 2021 - Kombi Open",{"$f":"VLOOKUP(F1220,Soutez!B:C,2,FALSE)","v":"SK"},{"$f":"VLOOKUP(F1220,Soutez!B:D,3,FALSE)","v":2021},4,5084,0.94500000000000006,8835,8349,null,null,"Arcus T","YAI","Není v databázi"]
["Joze Verdev",null,null,"Šaleški Aeroklub",null,"FCC 2021 - Kombi Open",{"$f":"VLOOKUP(F1221,Soutez!B:C,2,FALSE)","v":"SK"},{"$f":"VLOOKUP(F1221,Soutez!B:D,3,FALSE)","v":2021},5,4746,0.94500000000000006,8235,7782,null,null,"JS1-CTJ 18","DZ","Není v databázi"]
["Jakubcak & Sulirova",null,null,null,null,"FCC 2021 - Kombi Open",{"$f":"VLOOKUP(F1222,Soutez!B:C,2,FALSE)","v":"SK"},{"$f":"VLOOKUP(F1222,Soutez!B:D,3,FALSE)","v":2021},6,4470,0.94500000000000006,7713,7289,null,null,"Arcus M","CAR","Není v databázi"]
["Gintas Zube",null,null,"LT/LAK",null,"FCC 2021 - Kombi Open",{"$f":"VLOOKUP(F1223,Soutez!B:C,2,FALSE)","v":"SK"},{"$f":"VLOOKUP(F1223,Soutez!B:D,3,FALSE)","v":2021},7,4411,0.94500000000000006,7463,7053,null,null,"ASG-29E /18m","AR",{"$f":"IF(ISERROR(VLOOKUP(A1223,Pilot,6,0)),\"Není v databázi\",VLOOKUP(A1223,Pilot,6,0))","v":"Není v databázi"}]
["Kollar & Kromka",null,null,"Poprad",null,"FCC 2021 - Kombi Open",{"$f":"VLOOKUP(F1224,Soutez!B:C,2,FALSE)","v":"SK"},{"$f":"VLOOKUP(F1224,Soutez!B:D,3,FALSE)","v":2021},8,4249,0.94500000000000006,7084,6694,null,null,"Arcus M","TA3","Není v databázi"]
["Gabriela Belakova",null,null,"Prievidza",null,"FCC 2021 - Kombi Open",{"$f":"VLOOKUP(F1225,Soutez!B:C,2,FALSE)","v":"SK"},{"$f":"VLOOKUP(F1225,Soutez!B:D,3,FALSE)","v":2021},9,3825,0.94500000000000006,6376,6025,null,null,"Discus 2T /18m","EF","Není v databázi"]
["Zsolt Osi",null,null,"ACFH",null,"FCC 2021 - Kombi Open",{"$f":"VLOOKUP(F1226,Soutez!B:C,2,FALSE)","v":"SK"},{"$f":"VLOOKUP(F1226,Soutez!B:D,3,FALSE)","v":2021},10,3734,0.94500000000000006,6086,5751,null,null,"ASW-22BLE /26,58m (850 kg)","BY","Není v databázi"]
["Dana Novakova",{"$f":"VLOOKUP(A1227,Pilot,2,0)","v":1965},{"$f":"VLOOKUP(A1227,Pilot,5,0)","v":"F"},{"$f":"VLOOKUP(A1227,Pilot,3,0)","v":"Mladá Boleslav"},{"$f":"VLOOKUP(A1227,Pilot,4,0)","v":"CZ/C1"},"FCC 2021 - Kombi Open",{"$f":"VLOOKUP(F1227,Soutez!B:C,2,FALSE)","v":"SK"},{"$f":"VLOOKUP(F1227,Soutez!B:D,3,FALSE)","v":2021},11,3704,0.94500000000000006,5872,{"$f":"ROUND(K1227*L1227,0)","v":5549},null,null,"ASG-29E /18m","QZ",""]
["Janos Sindely",null,null,"Alfoldi Repülőklub",null,"FCC 2021 - Kombi Open",{"$f":"VLOOKUP(F1228,Soutez!B:C,2,FALSE)","v":"SK"},{"$f":"VLOOKUP(F1228,Soutez!B:D,3,FALSE)","v":2021},12,3616,0.94500000000000006,5585,5278,null,null,"JS1-C 18","RZ","Není v databázi"]
["Jan Paepke",null,null,"SFC Riesa-Canitz",null,"FCC 2021 - Kombi Open",{"$f":"VLOOKUP(F1229,Soutez!B:C,2,FALSE)","v":"SK"},{"$f":"VLOOKUP(F1229,Soutez!B:D,3,FALSE)","v":2021},13,3598,0.94500000000000006,5386,5090,null,null,"LAK 17 AT 18m WL","AK","Není v databázi"]
["Szabadfi & Toth",null,null,"Malev",null,"FCC 2021 - Kombi Open",{"$f":"VLOOKUP(F1230,Soutez!B:C,2,FALSE)","v":"SK"},{"$f":"VLOOKUP(F1230,Soutez!B:D,3,FALSE)","v":2021},14,3295,0.94500000000000006,4831,4565,null,null,"Arcus T","AB","Není v databázi"]
["Pavel Trojan",{"$f":"VLOOKUP(A1231,Pilot,2,0)","v":1960},{"$f":"VLOOKUP(A1231,Pilot,5,0)","v":"M"},{"$f":"VLOOKUP(A1231,Pilot,3,0)","v":"Chrudim"},{"$f":"VLOOKUP(A1231,Pilot,4,0)","v":"CZ/C2"},"FCC 2021 - Kombi Open",{"$f":"VLOOKUP(F1231,Soutez!B:C,2,FALSE)","v":"SK"},{"$f":"VLOOKUP(F1231,Soutez!B:D,3,FALSE)","v":2021},15,3080,0.94500000000000006,4385,4144,"x",null,"DG 808 C Competition WL","MS",""]
["Kapuy & Reti",null,null,"MSE",null,"FCC 2021 - Kombi Open",{"$f":"VLOOKUP(F1232,Soutez!B:C,2,FALSE)","v":"SK"},{"$f":"VLOOKUP(F1232,Soutez!B:D,3,FALSE)","v":2021},16,2898,0.94500000000000006,3981,3762,null,null,"EB-29D 28,3m","HB","Není v databázi"]
["Jirka & Doupal",null,null,"Zabreh",null,"FCC 2021 - Kombi Open",{"$f":"VLOOKUP(F1233,Soutez!B:C,2,FALSE)","v":"SK"},{"$f":"VLOOKUP(F1233,Soutez!B:D,3,FALSE)","v":2021},17,2881,0.94500000000000006,3783,3575,null,null,"HpH 304 TS Twin Shark MS (800 kg)",11,"Není v databázi"]
["Lukas Benedikt",null,null,"AK Trnava",null,"FCC 2021 - Kombi Open",{"$f":"VLOOKUP(F1234,Soutez!B:C,2,FALSE)","v":"SK"},{"$f":"VLOOKUP(F1234,Soutez!B:D,3,FALSE)","v":2021},18,1852,0.94500000000000006,2318,2191,null,null,"Ventus 3 F /18m","LB","Není v databázi"]
["Norbert Karolyi",null,null,"Bratislava",null,"Oldtimer Pribina Star 2021 - Klub",{"$f":"VLOOKUP(F1235,Soutez!B:C,2,FALSE)","v":"SK"},{"$f":"VLOOKUP(F1235,Soutez!B:D,3,FALSE)","v":2021},1,356,0.75,{"$f":"ROUND(J1235/MAX($J$1235:$J$1256)*10000*0.7+(MAX($I$1235:$I$1256)-I1235)/(MAX($I$1235:$I$1256)-1)*10000*0.3,0)","v":10000},{"$f":"ROUND(K1235*L1235,0)","v":7500},null,null,"SZD-36 Cobra","NK","Není v databázi"]
["Vladimir Abraham",{"$f":"VLOOKUP(A1236,Pilot,2,0)","v":1962},{"$f":"VLOOKUP(A1236,Pilot,5,0)","v":"M"},{"$f":"VLOOKUP(A1236,Pilot,3,0)","v":"Raná"},{"$f":"VLOOKUP(A1236,Pilot,4,0)","v":"CZ/C2"},"Oldtimer Pribina Star 2021 - Klub",{"$f":"VLOOKUP(F1236,Soutez!B:C,2,FALSE)","v":"SK"},{"$f":"VLOOKUP(F1236,Soutez!B:D,3,FALSE)","v":2021},2,325,0.75,9248,{"$f":"ROUND(K1236*L1236,0)","v":6936},"x",null,"KA6cr","YZ",""]
["Juraj Sidor",null,null,"Holíč",null,"Oldtimer Pribina Star 2021 - Klub",{"$f":"VLOOKUP(F1237,Soutez!B:C,2,FALSE)","v":"SK"},{"$f":"VLOOKUP(F1237,Soutez!B:D,3,FALSE)","v":2021},3,321,0.75,9026,6770,null,null,"Std Cirrus","LX","Není v databázi"]
["Ivana Jurovicova",null,null,"Bratislava",null,"Oldtimer Pribina Star 2021 - Klub",{"$f":"VLOOKUP(F1238,Soutez!B:C,2,FALSE)","v":"SK"},{"$f":"VLOOKUP(F1238,Soutez!B:D,3,FALSE)","v":2021},4,285,0.75,8175,6131,null,null,"Std Libelle","J3","Není v databázi"]
["Ludovit Homola",null,null,"Bratislava",null,"Oldtimer Pribina Star 2021 - Klub",{"$f":"VLOOKUP(F1239,Soutez!B:C,2,FALSE)","v":"SK"},{"$f":"VLOOKUP(F1239,Soutez!B:D,3,FALSE)","v":2021},5,271,0.75,7757,5818,null,null,"VSO-10","I5","Není v databázi"]
["Frantisek Ehn",null,null,"Nitra",null,"Oldtimer Pribina Star 2021 - Klub",{"$f":"VLOOKUP(F1240,Soutez!B:C,2,FALSE)","v":"SK"},{"$f":"VLOOKUP(F1240,Soutez!B:D,3,FALSE)","v":2021},6,269,0.75,7575,5681,null,null,"VSO-10",80,"Není v databázi"]
["Juraj Vysny",null,null,"Senica",null,"Oldtimer Pribina Star 2021 - Klub",{"$f":"VLOOKUP(F1241,Soutez!B:C,2,FALSE)","v":"SK"},{"$f":"VLOOKUP(F1241,Soutez!B:D,3,FALSE)","v":2021},7,268,0.75,7413,5560,null,null,"303 Mosquito",13,"Není v databázi"]
["Peter Hornak",null,null,"Senica",null,"Oldtimer Pribina Star 2021 - Klub",{"$f":"VLOOKUP(F1242,Soutez!B:C,2,FALSE)","v":"SK"},{"$f":"VLOOKUP(F1242,Soutez!B:D,3,FALSE)","v":2021},8,263,0.75,7171,5378,null,null,"VSO-10","K6","Není v databázi"]
["Viktor Romancik",null,null,"Bratislava",null,"Oldtimer Pribina Star 2021 - Klub",{"$f":"VLOOKUP(F1243,Soutez!B:C,2,FALSE)","v":"SK"},{"$f":"VLOOKUP(F1243,Soutez!B:D,3,FALSE)","v":2021},9,252,0.75,6812,5109,null,null,"STD LIBELLE","RR","Není v databázi"]
["Marian Szabo",null,null,"AirSympatia Trenčín",null,"Oldtimer Pribina Star 2021 - Klub",{"$f":"VLOOKUP(F1244,Soutez!B:C,2,FALSE)","v":"SK"},{"$f":"VLOOKUP(F1244,Soutez!B:D,3,FALSE)","v":2021},10,243,0.75,6492,4869,null,null,"VT-116",84,"Není v databázi"]
["Vaclav Cerny",{"$f":"VLOOKUP(A1245,Pilot,2,0)","v":1949},{"$f":"VLOOKUP(A1245,Pilot,5,0)","v":"M"},{"$f":"VLOOKUP(A1245,Pilot,3,0)","v":"Slaný"},{"$f":"VLOOKUP(A1245,Pilot,4,0)","v":"CZ/C1"},"Oldtimer Pribina Star 2021 - Klub",{"$f":"VLOOKUP(F1245,Soutez!B:C,2,FALSE)","v":"SK"},{"$f":"VLOOKUP(F1245,Soutez!B:D,3,FALSE)","v":2021},11,209,0.75,5681,{"$f":"ROUND(K1245*L1245,0)","v":4261},"x",null,"SOHAJ_2",null,""]
["Milan Boros",null,null,"Nitra",null,"Oldtimer Pribina Star 2021 - Klub",{"$f":"VLOOKUP(F1246,Soutez!B:C,2,FALSE)","v":"SK"},{"$f":"VLOOKUP(F1246,Soutez!B:D,3,FALSE)","v":2021},12,207,0.75,5499,4124,null,null,"VSO-10","D5","Není v databázi"]
["Radovan Uhelsky",null,null,"Nové Zámky",null,"Oldtimer Pribina Star 2021 - Klub",{"$f":"VLOOKUP(F1247,Soutez!B:C,2,FALSE)","v":"SK"},{"$f":"VLOOKUP(F1247,Soutez!B:D,3,FALSE)","v":2021},13,186,0.75,4943,3707,null,null,"VT-16",null,"Není v databázi"]
["Peter Pätoprsty",null,null,"Nitra-fan",null,"Oldtimer Pribina Star 2021 - Klub",{"$f":"VLOOKUP(F1248,Soutez!B:C,2,FALSE)","v":"SK"},{"$f":"VLOOKUP(F1248,Soutez!B:D,3,FALSE)","v":2021},13,186,0.75,4943,3707,null,null,"ASW 15B","RM","Není v databázi"]
["Ivana Sidorova",null,null,"Holíč",null,"Oldtimer Pribina Star 2021 - Klub",{"$f":"VLOOKUP(F1249,Soutez!B:C,2,FALSE)","v":"SK"},{"$f":"VLOOKUP(F1249,Soutez!B:D,3,FALSE)","v":2021},15,165,0.75,4244,3183,null,null,"Std Cirrus","NM","Není v databázi"]
["Jaroslav Kares",{"$f":"VLOOKUP(A1250,Pilot,2,0)","v":1962},{"$f":"VLOOKUP(A1250,Pilot,5,0)","v":"M"},{"$f":"VLOOKUP(A1250,Pilot,3,0)","v":"Olomouc"},{"$f":"VLOOKUP(A1250,Pilot,4,0)","v":"CZ/M"},"Oldtimer Pribina Star 2021 - Klub",{"$f":"VLOOKUP(F1250,Soutez!B:C,2,FALSE)","v":"SK"},{"$f":"VLOOKUP(F1250,Soutez!B:D,3,FALSE)","v":2021},16,139,0.75,3590,2693,"x",null,"SF27A",26,""]
["Lucia Uhelska",null,null,"Nové Zámky",null,"Oldtimer Pribina Star 2021 - Klub",{"$f":"VLOOKUP(F1251,Soutez!B:C,2,FALSE)","v":"SK"},{"$f":"VLOOKUP(F1251,Soutez!B:D,3,FALSE)","v":2021},17,133,0.75,3329,2497,null,null,"VT-116 Orlík 2",null,"Není v databázi"]
["Michal Baxa",null,null,"Nitra",null,"Oldtimer Pribina Star 2021 - Klub",{"$f":"VLOOKUP(F1252,Soutez!B:C,2,FALSE)","v":"SK"},{"$f":"VLOOKUP(F1252,Soutez!B:D,3,FALSE)","v":2021},18,132,0.75,3167,2375,null,null,"VSO-10","KO","Není v databázi"]
["Peter Fidler",null,null,"Partizánske",null,"Oldtimer Pribina Star 2021 - Klub",{"$f":"VLOOKUP(F1253,Soutez!B:C,2,FALSE)","v":"SK"},{"$f":"VLOOKUP(F1253,Soutez!B:D,3,FALSE)","v":2021},19,122,0.75,2827,2120,null,null,"Cirrus/Cirrus VTC 17.74","PF","Není v databázi"]
["Ľubos Benďak",null,null,"Nitra",null,"Oldtimer Pribina Star 2021 - Klub",{"$f":"VLOOKUP(F1254,Soutez!B:C,2,FALSE)","v":"SK"},{"$f":"VLOOKUP(F1254,Soutez!B:D,3,FALSE)","v":2021},20,58,0.75,1426,1070,null,null,"L 13 Blaník",null,"Není v databázi"]
["Jozef Ott",null,null,"Nitra",null,"Oldtimer Pribina Star 2021 - Klub",{"$f":"VLOOKUP(F1255,Soutez!B:C,2,FALSE)","v":"SK"},{"$f":"VLOOKUP(F1255,Soutez!B:D,3,FALSE)","v":2021},21,35,0.75,831,623,null,null,"Z-23 Honza",null,"Není v databázi"]
["Igor Ott",null,null,"Nitra",null,"Oldtimer Pribina Star 2021 - Klub",{"$f":"VLOOKUP(F1256,Soutez!B:C,2,FALSE)","v":"SK"},{"$f":"VLOOKUP(F1256,Soutez!B:D,3,FALSE)","v":2021},22,0,0.75,0,0,null,null,"LG-425 Šohaj","N","Není v databázi"]
["Tibor Fratrik",null,null,"SGC Martin",null,"PMSR 2021 - Klub",{"$f":"VLOOKUP(F1257,Soutez!B:C,2,FALSE)","v":"SK"},{"$f":"VLOOKUP(F1257,Soutez!B:D,3,FALSE)","v":2021},1,7982,0.94500000000000006,{"$f":"ROUND(J1257/MAX($J$1257:$J$1278)*10000*0.7+(MAX($I$1257:$I$1278)-I1257)/(MAX($I$1257:$I$1278)-1)*10000*0.3,0)","v":10000},{"$f":"ROUND(K1257*L1257,0)","v":9450},null,null,"Pegase C-101A","OI","Není v databázi"]
["Josef Kozar",null,null,"Martin",null,"PMSR 2021 - Klub",{"$f":"VLOOKUP(F1258,Soutez!B:C,2,FALSE)","v":"SK"},{"$f":"VLOOKUP(F1258,Soutez!B:D,3,FALSE)","v":2021},2,7867,0.94500000000000006,9756,{"$f":"ROUND(K1258*L1258,0)","v":9219},null,null,"LS 1 f","MF","Není v databázi"]
["Milan Surovcik Jr.",null,null,"Žilina",null,"PMSR 2021 - Klub",{"$f":"VLOOKUP(F1259,Soutez!B:C,2,FALSE)","v":"SK"},{"$f":"VLOOKUP(F1259,Soutez!B:D,3,FALSE)","v":2021},3,7754,0.94500000000000006,9514,8991,null,null,"Pegase C-101A","EL","Není v databázi"]
["Michal Lesinger",{"$f":"VLOOKUP(A1260,Pilot,2,0)","v":1966},{"$f":"VLOOKUP(A1260,Pilot,5,0)","v":"M"},{"$f":"VLOOKUP(A1260,Pilot,3,0)","v":"Moravská Třebová"},{"$f":"VLOOKUP(A1260,Pilot,4,0)","v":"CZ/M"},"PMSR 2021 - Klub",{"$f":"VLOOKUP(F1260,Soutez!B:C,2,FALSE)","v":"SK"},{"$f":"VLOOKUP(F1260,Soutez!B:D,3,FALSE)","v":2021},4,7716,0.94500000000000006,9338,8824,null,null,"ASW 19B","LL",""]
["Samuel Posluch",null,null,"Martin",null,"PMSR 2021 - Klub",{"$f":"VLOOKUP(F1261,Soutez!B:C,2,FALSE)","v":"SK"},{"$f":"VLOOKUP(F1261,Soutez!B:D,3,FALSE)","v":2021},5,7467,0.94500000000000006,8977,{"$f":"ROUND(K1261*L1261,0)","v":8483},null,null,"LS 4","MA","Není v databázi"]
["Filip Pechac",null,null,"Nitra",null,"PMSR 2021 - Klub",{"$f":"VLOOKUP(F1262,Soutez!B:C,2,FALSE)","v":"SK"},{"$f":"VLOOKUP(F1262,Soutez!B:D,3,FALSE)","v":2021},6,7452,{"$f":"VLOOKUP(F1262,Soutez,12,0)","v":0.94500000000000006},8821,8336,null,null,"Pegase C-101A","J2","Není v databázi"]
["Martin Snirc",null,null,"Nitra",null,"PMSR 2021 - Klub",{"$f":"VLOOKUP(F1263,Soutez!B:C,2,FALSE)","v":"SK"},{"$f":"VLOOKUP(F1263,Soutez!B:D,3,FALSE)","v":2021},7,7358,0.94500000000000006,8596,8123,null,null,"DG 400/17m",400,"Není v databázi"]
["Martin Sabla",null,null,"AK Sp. Nova Ves",null,"PMSR 2021 - Klub",{"$f":"VLOOKUP(F1264,Soutez!B:C,2,FALSE)","v":"SK"},{"$f":"VLOOKUP(F1264,Soutez!B:D,3,FALSE)","v":2021},8,7165,0.94500000000000006,8284,7828,null,null,"Std. Cirrus","SA","Není v databázi"]
["Radoslav cagala",null,null,"Nitra",null,"PMSR 2021 - Klub",{"$f":"VLOOKUP(F1265,Soutez!B:C,2,FALSE)","v":"SK"},{"$f":"VLOOKUP(F1265,Soutez!B:D,3,FALSE)","v":2021},9,7147,0.94500000000000006,8125,7678,null,null,"DG-400/17m","RD","Není v databázi"]
["Tibor Noga",null,null,"SGC Dražkovce",null,"PMSR 2021 - Klub",{"$f":"VLOOKUP(F1266,Soutez!B:C,2,FALSE)","v":"SK"},{"$f":"VLOOKUP(F1266,Soutez!B:D,3,FALSE)","v":2021},10,7084,0.94500000000000006,7927,7491,null,null,"ASW 19B","A4","Není v databázi"]
["Daniel Smolka",null,null,"Prievidza",null,"PMSR 2021 - Klub",{"$f":"VLOOKUP(F1267,Soutez!B:C,2,FALSE)","v":"SK"},{"$f":"VLOOKUP(F1267,Soutez!B:D,3,FALSE)","v":2021},11,7012,0.94500000000000006,7721,7296,null,null,"ASW 20","MP","Není v databázi"]
["Jiri Kusbach",{"$f":"VLOOKUP(A1268,Pilot,2,0)","v":1959},{"$f":"VLOOKUP(A1268,Pilot,5,0)","v":"M"},{"$f":"VLOOKUP(A1268,Pilot,3,0)","v":"Luhačovice"},{"$f":"VLOOKUP(A1268,Pilot,4,0)","v":"CZ/M"},"PMSR 2021 - Klub",{"$f":"VLOOKUP(F1268,Soutez!B:C,2,FALSE)","v":"SK"},{"$f":"VLOOKUP(F1268,Soutez!B:D,3,FALSE)","v":2021},12,6922,0.94500000000000006,7499,7087,null,null,"KKB-15FES","B",""]
["Edmund Schuller",null,null,"Lučenec",null,"PMSR 2021 - Klub",{"$f":"VLOOKUP(F1269,Soutez!B:C,2,FALSE)","v":"SK"},{"$f":"VLOOKUP(F1269,Soutez!B:D,3,FALSE)","v":2021},13,6474,0.94500000000000006,6963,6580,null,null,"ASW 24WL","ZS","Není v databázi"]
["Roman Petro",null,null,"Nitra",null,"PMSR 2021 - Klub",{"$f":"VLOOKUP(F1270,Soutez!B:C,2,FALSE)","v":"SK"},{"$f":"VLOOKUP(F1270,Soutez!B:D,3,FALSE)","v":2021},14,6323,0.94500000000000006,6688,6320,null,null,"Pegase C-101A",101,"Není v databázi"]
["Simon Siska",null,null,"Martin",null,"PMSR 2021 - Klub",{"$f":"VLOOKUP(F1271,Soutez!B:C,2,FALSE)","v":"SK"},{"$f":"VLOOKUP(F1271,Soutez!B:D,3,FALSE)","v":2021},15,6212,0.94500000000000006,6448,6093,null,null,"ASW 24WL","CK","Není v databázi"]
["Marek Straka",null,null,"Trenčín",null,"PMSR 2021 - Klub",{"$f":"VLOOKUP(F1272,Soutez!B:C,2,FALSE)","v":"SK"},{"$f":"VLOOKUP(F1272,Soutez!B:D,3,FALSE)","v":2021},16,4949,0.94500000000000006,5197,4911,null,null,"G 102 Astir Std III",72,"Není v databázi"]
["Juraj Sidor",null,null,"Holíč",null,"PMSR 2021 - Klub",{"$f":"VLOOKUP(F1273,Soutez!B:C,2,FALSE)","v":"SK"},{"$f":"VLOOKUP(F1273,Soutez!B:D,3,FALSE)","v":2021},17,4769,0.94500000000000006,4897,4628,null,null,"Std. Cirrus","NM","Není v databázi"]
["Juraj Dudas",{"$f":"VLOOKUP(A1274,Pilot,2,0)","v":1990},{"$f":"VLOOKUP(A1274,Pilot,5,0)","v":"M"},{"$f":"VLOOKUP(A1274,Pilot,3,0)","v":"Křižanov"},{"$f":"VLOOKUP(A1274,Pilot,4,0)","v":"CZ/M"},"PMSR 2021 - Klub",{"$f":"VLOOKUP(F1274,Soutez!B:C,2,FALSE)","v":"SK"},{"$f":"VLOOKUP(F1274,Soutez!B:D,3,FALSE)","v":2021},18,3058,0.94500000000000006,3253,3074,"x",null,"Pegase C-101A","ZD",""]
["Laho & Mikula",null,null,"Trnava",null,"PMSR 2021 - Klub",{"$f":"VLOOKUP(F1275,Soutez!B:C,2,FALSE)","v":"SK"},{"$f":"VLOOKUP(F1275,Soutez!B:D,3,FALSE)","v":2021},19,2468,0.94500000000000006,2593,2450,null,null,"Janus CM FG","T","Není v databázi"]
["Peter Klepac",null,null,"Nitra",null,"PMSR 2021 - Klub",{"$f":"VLOOKUP(F1276,Soutez!B:C,2,FALSE)","v":"SK"},{"$f":"VLOOKUP(F1276,Soutez!B:D,3,FALSE)","v":2021},20,2273,0.94500000000000006,2279,2154,null,null,"Grob Astir CS G102",78,"Není v databázi"]
["Jozef Dúc",null,null,"Nitra",null,"PMSR 2021 - Klub",{"$f":"VLOOKUP(F1277,Soutez!B:C,2,FALSE)","v":"SK"},{"$f":"VLOOKUP(F1277,Soutez!B:D,3,FALSE)","v":2021},21,1185,0.94500000000000006,1182,1117,null,null,"Std. Cirrus",99,"Není v databázi"]
["Zdeno Hrcka",null,null,"Trnava",null,"PMSR 2021 - Klub",{"$f":"VLOOKUP(F1278,Soutez!B:C,2,FALSE)","v":"SK"},{"$f":"VLOOKUP(F1278,Soutez!B:D,3,FALSE)","v":2021},22,880,0.94500000000000006,772,730,null,null,"Pegase C-101A","H","Není v databázi"]
["Miloslav Cink",{"$f":"VLOOKUP(A1279,Pilot,2,0)","v":1987},{"$f":"VLOOKUP(A1279,Pilot,5,0)","v":"M"},{"$f":"VLOOKUP(A1279,Pilot,3,0)","v":"Letkov"},{"$f":"VLOOKUP(A1279,Pilot,4,0)","v":"CZ/C1"},"PMSR 2021 - Kombi 15m",{"$f":"VLOOKUP(F1279,Soutez!B:C,2,FALSE)","v":"SK"},{"$f":"VLOOKUP(F1279,Soutez!B:D,3,FALSE)","v":2021},1,7976,{"$f":"VLOOKUP(F1279,Soutez,12,0)","v":0.96500000000000008},{"$f":"ROUND(J1279/MAX($J$1279:$J$1289)*10000*0.7+(MAX($I$1279:$I$1289)-I1279)/(MAX($I$1279:$I$1289)-1)*10000*0.3,0)","v":10000},{"$f":"ROUND(K1279*L1279,0)","v":9650},null,null,"LS 8b","JB",""]
["Pavel Louzecky",1957,"M","Přibyslav","CZ/C2","PMSR 2021 - Kombi 15m",{"$f":"VLOOKUP(F1280,Soutez!B:C,2,FALSE)","v":"SK"},{"$f":"VLOOKUP(F1280,Soutez!B:D,3,FALSE)","v":2021},2,7431,0.96500000000000008,9222,{"$f":"ROUND(K1280*L1280,0)","v":8899},null,null,"LS 8","FX",""]
["Tibor Arpas",null,null,"Nitra",null,"PMSR 2021 - Kombi 15m",{"$f":"VLOOKUP(F1281,Soutez!B:C,2,FALSE)","v":"SK"},{"$f":"VLOOKUP(F1281,Soutez!B:D,3,FALSE)","v":2021},3,6793,0.96500000000000008,8362,8069,null,null,"LS 8t/15m","HM","Není v databázi"]
["Maros Divok",null,null,"Spišská Nová Ves",null,"PMSR 2021 - Kombi 15m",{"$f":"VLOOKUP(F1282,Soutez!B:C,2,FALSE)","v":"SK"},{"$f":"VLOOKUP(F1282,Soutez!B:D,3,FALSE)","v":2021},4,6739,0.96500000000000008,8014,7734,null,null,"Discus 2b","DI","Není v databázi"]
["Viktória Divokova",null,null,"Spišská Nová Ves",null,"PMSR 2021 - Kombi 15m",{"$f":"VLOOKUP(F1283,Soutez!B:C,2,FALSE)","v":"SK"},{"$f":"VLOOKUP(F1283,Soutez!B:D,3,FALSE)","v":2021},5,6667,0.96500000000000008,7651,7383,null,null,"LS 8","SI","Není v databázi"]
["Karel Novak",{"$f":"VLOOKUP(A1284,Pilot,2,0)","v":1993},{"$f":"VLOOKUP(A1284,Pilot,5,0)","v":"M"},{"$f":"VLOOKUP(A1284,Pilot,3,0)","v":"Mladá Boleslav"},{"$f":"VLOOKUP(A1284,Pilot,4,0)","v":"CZ/C1"},"PMSR 2021 - Kombi 15m",{"$f":"VLOOKUP(F1284,Soutez!B:C,2,FALSE)","v":"SK"},{"$f":"VLOOKUP(F1284,Soutez!B:D,3,FALSE)","v":2021},6,6514,0.96500000000000008,7217,6964,null,null,"JS 3/15m","XM",{"$f":"IF(ISERROR(VLOOKUP(A1284,Pilot,6,0)),\"Není v databázi\",VLOOKUP(A1284,Pilot,6,0))","v":""}]
["Peter Janoska",null,null,"Nitra",null,"PMSR 2021 - Kombi 15m",{"$f":"VLOOKUP(F1285,Soutez!B:C,2,FALSE)","v":"SK"},{"$f":"VLOOKUP(F1285,Soutez!B:D,3,FALSE)","v":2021},7,6436,0.96500000000000008,6848,6608,null,null,"LS 6c/15m","N6","Není v databázi"]
["Dominik Jancik",null,null,"Nitra",null,"PMSR 2021 - Kombi 15m",{"$f":"VLOOKUP(F1286,Soutez!B:C,2,FALSE)","v":"SK"},{"$f":"VLOOKUP(F1286,Soutez!B:D,3,FALSE)","v":2021},8,6371,0.96500000000000008,6491,{"$f":"ROUND(K1286*L1286,0)","v":6264},null,null,"Ventus 2b","VI","Není v databázi"]
["Dana Novakova",{"$f":"VLOOKUP(A1287,Pilot,2,0)","v":1965},{"$f":"VLOOKUP(A1287,Pilot,5,0)","v":"F"},{"$f":"VLOOKUP(A1287,Pilot,3,0)","v":"Mladá Boleslav"},{"$f":"VLOOKUP(A1287,Pilot,4,0)","v":"CZ/C1"},"PMSR 2021 - Kombi 15m",{"$f":"VLOOKUP(F1287,Soutez!B:C,2,FALSE)","v":"SK"},{"$f":"VLOOKUP(F1287,Soutez!B:D,3,FALSE)","v":2021},9,5966,0.96500000000000008,5836,5632,null,null,"LS 8/15m","AU",""]
["Jana Treslova",1963,"F","Raná","CZ/C2","PMSR 2021 - Kombi 15m",{"$f":"VLOOKUP(F1288,Soutez!B:C,2,FALSE)","v":"SK"},{"$f":"VLOOKUP(F1288,Soutez!B:D,3,FALSE)","v":2021},10,5910,0.96500000000000008,5487,5295,null,null,"Ventus 2ax","AX",""]
["Milos Mach",null,null,"Nové Zámky",null,"PMSR 2021 - Kombi 15m",{"$f":"VLOOKUP(F1289,Soutez!B:C,2,FALSE)","v":"SK"},{"$f":"VLOOKUP(F1289,Soutez!B:D,3,FALSE)","v":2021},11,2406,0.96500000000000008,2112,2038,null,null,"Discus 2c/15m","JH","Není v databázi"]
["Radek Krejcirik",{"$f":"VLOOKUP(A1290,Pilot,2,0)","v":1991},{"$f":"VLOOKUP(A1290,Pilot,5,0)","v":"M"},{"$f":"VLOOKUP(A1290,Pilot,3,0)","v":"Hranice"},{"$f":"VLOOKUP(A1290,Pilot,4,0)","v":"CZ/M"},"PMSR 2021 - Kombi Open",{"$f":"VLOOKUP(F1290,Soutez!B:C,2,FALSE)","v":"SK"},{"$f":"VLOOKUP(F1290,Soutez!B:D,3,FALSE)","v":2021},1,7507,{"$f":"VLOOKUP(F1290,Soutez,12,0)","v":0.95000000000000007},{"$f":"ROUND(J1290/MAX($J$1290:$J$1312)*10000*0.7+(MAX($I$1290:$I$1312)-I1290)/(MAX($I$1290:$I$1312)-1)*10000*0.3,0)","v":10000},{"$f":"ROUND(K1290*L1290,0)","v":9500},null,null,"JS1-C 21 EVO","ZF",""]
["Pavol Cerny",null,null,"SGC Martin",null,"PMSR 2021 - Kombi Open",{"$f":"VLOOKUP(F1291,Soutez!B:C,2,FALSE)","v":"SK"},{"$f":"VLOOKUP(F1291,Soutez!B:D,3,FALSE)","v":2021},2,7138,0.95000000000000007,9520,{"$f":"ROUND(K1291*L1291,0)","v":9044},null,null,"Shark 304MS","EP","Není v databázi"]
["Branislav Jesensky",null,null,"SGC Dražkovce",null,"PMSR 2021 - Kombi Open",{"$f":"VLOOKUP(F1292,Soutez!B:C,2,FALSE)","v":"SK"},{"$f":"VLOOKUP(F1292,Soutez!B:D,3,FALSE)","v":2021},3,6828,0.95000000000000007,9094,8639,null,null,"Ventus 2cxt/18m","J","Není v databázi"]
["Viliam Kubovcik",null,null,"AK Poprad",null,"PMSR 2021 - Kombi Open",{"$f":"VLOOKUP(F1293,Soutez!B:C,2,FALSE)","v":"SK"},{"$f":"VLOOKUP(F1293,Soutez!B:D,3,FALSE)","v":2021},4,6735,0.95000000000000007,8871,8427,null,null,"Ventus 2cxt/18m","W","Není v databázi"]
["Petr Krejcirik",{"$f":"VLOOKUP(A1294,Pilot,2,0)","v":1960},{"$f":"VLOOKUP(A1294,Pilot,5,0)","v":"M"},{"$f":"VLOOKUP(A1294,Pilot,3,0)","v":"Hranice"},{"$f":"VLOOKUP(A1294,Pilot,4,0)","v":"CZ/M"},"PMSR 2021 - Kombi Open",{"$f":"VLOOKUP(F1294,Soutez!B:C,2,FALSE)","v":"SK"},{"$f":"VLOOKUP(F1294,Soutez!B:D,3,FALSE)","v":2021},5,6506,0.95000000000000007,8521,8095,null,null,"JS3/18m","VB",""]
["Ondrej Bordovsky",1983,"M","Krnov","CZ/M","PMSR 2021 - Kombi Open",{"$f":"VLOOKUP(F1295,Soutez!B:C,2,FALSE)","v":"SK"},{"$f":"VLOOKUP(F1295,Soutez!B:D,3,FALSE)","v":2021},6,6400,0.95000000000000007,8286,7872,null,null,"Ventus c/17,6m","AD",""]
["Vladimir Foltin",null,null,"Nitra",null,"PMSR 2021 - Kombi Open",{"$f":"VLOOKUP(F1296,Soutez!B:C,2,FALSE)","v":"SK"},{"$f":"VLOOKUP(F1296,Soutez!B:D,3,FALSE)","v":2021},7,6378,0.95000000000000007,8129,7723,null,null,"JS3/18m",3,"Není v databázi"]
["Petr Hotovy",{"$f":"VLOOKUP(A1297,Pilot,2,0)","v":1958},{"$f":"VLOOKUP(A1297,Pilot,5,0)","v":"M"},{"$f":"VLOOKUP(A1297,Pilot,3,0)","v":"Česká Lípa"},{"$f":"VLOOKUP(A1297,Pilot,4,0)","v":"CZ/C2"},"PMSR 2021 - Kombi Open",{"$f":"VLOOKUP(F1297,Soutez!B:C,2,FALSE)","v":"SK"},{"$f":"VLOOKUP(F1297,Soutez!B:D,3,FALSE)","v":2021},8,6368,0.95000000000000007,7983,7584,null,null,"JS1-B 18m","IGC",""]
["Eduard Niko",1988,"M","Zbraslavice","CZ/C1","PMSR 2021 - Kombi Open",{"$f":"VLOOKUP(F1298,Soutez!B:C,2,FALSE)","v":"SK"},{"$f":"VLOOKUP(F1298,Soutez!B:D,3,FALSE)","v":2021},9,5878,0.95000000000000007,7390,7021,"x",null,"Discus 2cT/18m","AE",""]
["Jan Divok",null,null,"Spišská Nová Ves",null,"PMSR 2021 - Kombi Open",{"$f":"VLOOKUP(F1299,Soutez!B:C,2,FALSE)","v":"SK"},{"$f":"VLOOKUP(F1299,Soutez!B:D,3,FALSE)","v":2021},10,5410,0.95000000000000007,6817,6476,null,null,"Discus 2cT/18m","DJ","Není v databázi"]
["Ivan Novak",{"$f":"VLOOKUP(A1300,Pilot,2,0)","v":1962},{"$f":"VLOOKUP(A1300,Pilot,5,0)","v":"M"},{"$f":"VLOOKUP(A1300,Pilot,3,0)","v":"Mladá Boleslav"},{"$f":"VLOOKUP(A1300,Pilot,4,0)","v":"CZ/C1"},"PMSR 2021 - Kombi Open",{"$f":"VLOOKUP(F1300,Soutez!B:C,2,FALSE)","v":"SK"},{"$f":"VLOOKUP(F1300,Soutez!B:D,3,FALSE)","v":2021},11,5351,0.95000000000000007,6626,6295,null,null,"ASG-29/18m","QZ",""]
["Jan Kovalcik",null,null,"Bratislava",null,"PMSR 2021 - Kombi Open",{"$f":"VLOOKUP(F1301,Soutez!B:C,2,FALSE)","v":"SK"},{"$f":"VLOOKUP(F1301,Soutez!B:D,3,FALSE)","v":2021},12,5315,0.95000000000000007,6456,6133,null,null,"Discus 2c FES/18m","ZI","Není v databázi"]
["Peter Pokorny",null,null,"Bratislava",null,"PMSR 2021 - Kombi Open",{"$f":"VLOOKUP(F1302,Soutez!B:C,2,FALSE)","v":"SK"},{"$f":"VLOOKUP(F1302,Soutez!B:D,3,FALSE)","v":2021},13,5301,0.95000000000000007,6307,5992,null,null,"ASG 29E/18m","9E","Není v databázi"]
["Tomas Bobok",null,null,"Prievidza",null,"PMSR 2021 - Kombi Open",{"$f":"VLOOKUP(F1303,Soutez!B:C,2,FALSE)","v":"SK"},{"$f":"VLOOKUP(F1303,Soutez!B:D,3,FALSE)","v":2021},14,5143,0.95000000000000007,6023,5722,null,null,"Discus 2cT/18m","AL","Není v databázi"]
["Jakubcak & Kollar",null,null,"SGC Dražkovce",null,"PMSR 2021 - Kombi Open",{"$f":"VLOOKUP(F1304,Soutez!B:C,2,FALSE)","v":"SK"},{"$f":"VLOOKUP(F1304,Soutez!B:D,3,FALSE)","v":2021},15,4880,0.95000000000000007,5641,5359,null,null,"Arcus M","CAR","Není v databázi"]
["Gabriela Belakova",null,null,"Prievidza",null,"PMSR 2021 - Kombi Open",{"$f":"VLOOKUP(F1305,Soutez!B:C,2,FALSE)","v":"SK"},{"$f":"VLOOKUP(F1305,Soutez!B:D,3,FALSE)","v":2021},16,4758,0.95000000000000007,5391,{"$f":"ROUND(K1305*L1305,0)","v":5121},null,null,"Discus 2cT/18m","EF","Není v databázi"]
["Sitar & Hornak",null,null,"Prievidza",null,"PMSR 2021 - Kombi Open",{"$f":"VLOOKUP(F1306,Soutez!B:C,2,FALSE)","v":"SK"},{"$f":"VLOOKUP(F1306,Soutez!B:D,3,FALSE)","v":2021},17,4417,0.95000000000000007,4937,4690,null,null,"Duo Discus","DUO","Není v databázi"]
["Milan Lojdl",null,null,"Martin",null,"PMSR 2021 - Kombi Open",{"$f":"VLOOKUP(F1307,Soutez!B:C,2,FALSE)","v":"SK"},{"$f":"VLOOKUP(F1307,Soutez!B:D,3,FALSE)","v":2021},18,3608,0.95000000000000007,4046,3844,null,null,"Ventus 2cx/18m","MJ1","Není v databázi"]
["Jurovic & Manka",null,null,"Bratislava",null,"PMSR 2021 - Kombi Open",{"$f":"VLOOKUP(F1308,Soutez!B:C,2,FALSE)","v":"SK"},{"$f":"VLOOKUP(F1308,Soutez!B:D,3,FALSE)","v":2021},19,2730,0.95000000000000007,3091,2936,null,null,"Duo Discus","2X","Není v databázi"]
["Hupka & Sadovsky",null,null,"Nitra",null,"PMSR 2021 - Kombi Open",{"$f":"VLOOKUP(F1309,Soutez!B:C,2,FALSE)","v":"SK"},{"$f":"VLOOKUP(F1309,Soutez!B:D,3,FALSE)","v":2021},20,2670,0.95000000000000007,2899,2754,null,null,"DG 1000T/20m","NIT","Není v databázi"]
["Lubomir Doupal",{"$f":"VLOOKUP(A1310,Pilot,2,0)","v":1975},{"$f":"VLOOKUP(A1310,Pilot,5,0)","v":"M"},{"$f":"VLOOKUP(A1310,Pilot,3,0)","v":"Kroměříž"},{"$f":"VLOOKUP(A1310,Pilot,4,0)","v":"CZ/M"},"PMSR 2021 - Kombi Open",{"$f":"VLOOKUP(F1310,Soutez!B:C,2,FALSE)","v":"SK"},{"$f":"VLOOKUP(F1310,Soutez!B:D,3,FALSE)","v":2021},21,2619,0.95000000000000007,2715,2579,null,null,"Ventus 2cxm/18m","LD",""]
["Peter Abonyi",null,null,"Ružomberok",null,"PMSR 2021 - Kombi Open",{"$f":"VLOOKUP(F1311,Soutez!B:C,2,FALSE)","v":"SK"},{"$f":"VLOOKUP(F1311,Soutez!B:D,3,FALSE)","v":2021},22,1954,0.95000000000000007,1958,1860,null,null,"Ventus c/17,6m","PA","Není v databázi"]
["Lukas Benedikt",null,null,"AK Trnava",null,"PMSR 2021 - Kombi Open",{"$f":"VLOOKUP(F1312,Soutez!B:C,2,FALSE)","v":"SK"},{"$f":"VLOOKUP(F1312,Soutez!B:D,3,FALSE)","v":2021},23,1877,0.95000000000000007,1750,1663,null,null,"Ventus 3 FES/18m","LB","Není v databázi"]
["Finn Sleigh",null,null,"United Kingdom",null,"JWGC 2021 - Klub",{"$f":"VLOOKUP(F1313,Soutez!B:C,2,FALSE)","v":"LT"},{"$f":"VLOOKUP(F1313,Soutez!B:D,3,FALSE)","v":2021},1,5341,{"$f":"VLOOKUP(F1313,Soutez,12,0)","v":1.0399999999999998},{"$f":"ROUND(J1313/MAX($J$1313:$J$1339)*10000*0.7+(MAX($I$1313:$I$1339)-I1313)/(MAX($I$1313:$I$1339)-1)*10000*0.3,0)","v":10000},{"$f":"ROUND(K1313*L1313,0)","v":10400},null,null,"ASW-20",5,"Není v databázi"]
["Lasse Edslev",null,null,"Denmark",null,"JWGC 2021 - Klub",{"$f":"VLOOKUP(F1314,Soutez!B:C,2,FALSE)","v":"LT"},{"$f":"VLOOKUP(F1314,Soutez!B:D,3,FALSE)","v":2021},1,5341,1.0399999999999998,10000,{"$f":"ROUND(K1314*L1314,0)","v":10400},null,null,"LS-4a WL","LE","Není v databázi"]
["Nils Fecker",null,null,"Germany",null,"JWGC 2021 - Klub",{"$f":"VLOOKUP(F1315,Soutez!B:C,2,FALSE)","v":"LT"},{"$f":"VLOOKUP(F1315,Soutez!B:D,3,FALSE)","v":2021},3,5329,1.0399999999999998,9754,10144,null,null,"LS-4b","2W","Není v databázi"]
["Lars Van Breemen",null,null,"Netherlands",null,"JWGC 2021 - Klub",{"$f":"VLOOKUP(F1316,Soutez!B:C,2,FALSE)","v":"LT"},{"$f":"VLOOKUP(F1316,Soutez!B:D,3,FALSE)","v":2021},4,5256,1.0399999999999998,9542,9924,null,null,"LS-4 neo","S4","Není v databázi"]
["Simon van den Eijkel",null,null,"Netherlands",null,"JWGC 2021 - Klub",{"$f":"VLOOKUP(F1317,Soutez!B:C,2,FALSE)","v":"LT"},{"$f":"VLOOKUP(F1317,Soutez!B:D,3,FALSE)","v":2021},5,5200,1.0399999999999998,9354,9728,null,null,"LS-4","AU","Není v databázi"]
["Jelmer Vis",null,null,"Netherlands",null,"JWGC 2021 - Klub",{"$f":"VLOOKUP(F1318,Soutez!B:C,2,FALSE)","v":"LT"},{"$f":"VLOOKUP(F1318,Soutez!B:D,3,FALSE)","v":2021},6,5139,1.0399999999999998,9158,9524,null,null,"LS-4a","VIS","Není v databázi"]
["Toby Freeland",null,null,"United Kingdom",null,"JWGC 2021 - Klub",{"$f":"VLOOKUP(F1319,Soutez!B:C,2,FALSE)","v":"LT"},{"$f":"VLOOKUP(F1319,Soutez!B:D,3,FALSE)","v":2021},7,5112,1.0399999999999998,9008,9368,null,null,"ASW-20",212,"Není v databázi"]
["Tobias Pachowsky",null,null,"Germany",null,"JWGC 2021 - Klub",{"$f":"VLOOKUP(F1320,Soutez!B:C,2,FALSE)","v":"LT"},{"$f":"VLOOKUP(F1320,Soutez!B:D,3,FALSE)","v":2021},8,5089,1.0399999999999998,8862,9216,null,null,"LS-4a","IGP","Není v databázi"]
["Tereza Koubkova",{"$f":"VLOOKUP(A1321,Pilot,2,0)","v":1999},{"$f":"VLOOKUP(A1321,Pilot,5,0)","v":"F"},{"$f":"VLOOKUP(A1321,Pilot,3,0)","v":"Vysoké Mýto"},{"$f":"VLOOKUP(A1321,Pilot,4,0)","v":"CZ/C2"},"JWGC 2021 - Klub",{"$f":"VLOOKUP(F1321,Soutez!B:C,2,FALSE)","v":"LT"},{"$f":"VLOOKUP(F1321,Soutez!B:D,3,FALSE)","v":2021},9,5069,1.0399999999999998,8720,9069,"x","x","LS-4b","IX","Junior v roce 2023"]
["Markus Uhlig",null,null,"Germany",null,"JWGC 2021 - Klub",{"$f":"VLOOKUP(F1322,Soutez!B:C,2,FALSE)","v":"LT"},{"$f":"VLOOKUP(F1322,Soutez!B:D,3,FALSE)","v":2021},10,4988,1.0399999999999998,8499,8839,null,null,"Jantar Std. 3 WL","M4","Není v databázi"]
["Ivan Tvrdik",{"$f":"VLOOKUP(A1323,Pilot,2,0)","v":1997},{"$f":"VLOOKUP(A1323,Pilot,5,0)","v":"M"},{"$f":"VLOOKUP(A1323,Pilot,3,0)","v":"Letňany"},{"$f":"VLOOKUP(A1323,Pilot,4,0)","v":"CZ/C1"},"JWGC 2021 - Klub",{"$f":"VLOOKUP(F1323,Soutez!B:C,2,FALSE)","v":"LT"},{"$f":"VLOOKUP(F1323,Soutez!B:D,3,FALSE)","v":2021},11,4983,1.0399999999999998,8377,8712,"x",null,"ASW-19b","KZ",""]
["Milan Surovcik",null,null,"Slovakia",null,"JWGC 2021 - Klub",{"$f":"VLOOKUP(F1324,Soutez!B:C,2,FALSE)","v":"LT"},{"$f":"VLOOKUP(F1324,Soutez!B:D,3,FALSE)","v":2021},12,4918,1.0399999999999998,8176,{"$f":"ROUND(K1324*L1324,0)","v":8503},null,null,"Pegase 101A","EL","Není v databázi"]
["Wiktor Łaciński",null,null,"Poland",null,"JWGC 2021 - Klub",{"$f":"VLOOKUP(F1325,Soutez!B:C,2,FALSE)","v":"LT"},{"$f":"VLOOKUP(F1325,Soutez!B:D,3,FALSE)","v":2021},13,4871,1.0399999999999998,7999,8319,null,null,"SZD-48-3M Bravo","BI","Není v databázi"]
["Michaela Krizova",{"$f":"VLOOKUP(A1326,Pilot,2,0)","v":2001},{"$f":"VLOOKUP(A1326,Pilot,5,0)","v":"F"},{"$f":"VLOOKUP(A1326,Pilot,3,0)","v":"Přibyslav"},{"$f":"VLOOKUP(A1326,Pilot,4,0)","v":"CZ/C2"},"JWGC 2021 - Klub",{"$f":"VLOOKUP(F1326,Soutez!B:C,2,FALSE)","v":"LT"},{"$f":"VLOOKUP(F1326,Soutez!B:D,3,FALSE)","v":2021},14,4822,1.0399999999999998,7820,8133,"x","x","LS-4b","6L","Junior v roce 2023"]
["Tudor Ionut",null,null,"Romania",null,"JWGC 2021 - Klub",{"$f":"VLOOKUP(F1327,Soutez!B:C,2,FALSE)","v":"LT"},{"$f":"VLOOKUP(F1327,Soutez!B:D,3,FALSE)","v":2021},15,4808,1.0399999999999998,7686,7993,null,null,"Jantar Std.","YE","Není v databázi"]
["Samuel Posluch",null,null,"Slovakia",null,"JWGC 2021 - Klub",{"$f":"VLOOKUP(F1328,Soutez!B:C,2,FALSE)","v":"LT"},{"$f":"VLOOKUP(F1328,Soutez!B:D,3,FALSE)","v":2021},16,4759,1.0399999999999998,7506,7806,null,null,"LS-4","MA","Není v databázi"]
["Jokūbas Motūza",null,null,"Lithuania",null,"JWGC 2021 - Klub",{"$f":"VLOOKUP(F1329,Soutez!B:C,2,FALSE)","v":"LT"},{"$f":"VLOOKUP(F1329,Soutez!B:D,3,FALSE)","v":2021},17,4676,1.0399999999999998,7282,7573,null,null,"Jantar Std.","JM","Není v databázi"]
["Maciej Kowalski",null,null,"Poland",null,"JWGC 2021 - Klub",{"$f":"VLOOKUP(F1330,Soutez!B:C,2,FALSE)","v":"LT"},{"$f":"VLOOKUP(F1330,Soutez!B:D,3,FALSE)","v":2021},18,4661,1.0399999999999998,7147,7433,null,null,"Jantar Std. 3","SO","Není v databázi"]
["Simon Siska",null,null,"Slovakia",null,"JWGC 2021 - Klub",{"$f":"VLOOKUP(F1331,Soutez!B:C,2,FALSE)","v":"LT"},{"$f":"VLOOKUP(F1331,Soutez!B:D,3,FALSE)","v":2021},19,4611,1.0399999999999998,6966,7245,null,null,"ASW-24b","CK","Není v databázi"]
["Karol Snapko",null,null,"Poland",null,"JWGC 2021 - Klub",{"$f":"VLOOKUP(F1332,Soutez!B:C,2,FALSE)","v":"LT"},{"$f":"VLOOKUP(F1332,Soutez!B:D,3,FALSE)","v":2021},20,4524,1.0399999999999998,6737,7006,null,null,"SZD-48-3M Bravo","BZ","Není v databázi"]
["Kim Toppari",null,null,"Finland",null,"JWGC 2021 - Klub",{"$f":"VLOOKUP(F1333,Soutez!B:C,2,FALSE)","v":"LT"},{"$f":"VLOOKUP(F1333,Soutez!B:D,3,FALSE)","v":2021},21,4468,1.0399999999999998,6548,6810,null,null,"LS-7","HV","Není v databázi"]
["Emil Dalboe-Pedersen",null,null,"Denmark",null,"JWGC 2021 - Klub",{"$f":"VLOOKUP(F1334,Soutez!B:C,2,FALSE)","v":"LT"},{"$f":"VLOOKUP(F1334,Soutez!B:D,3,FALSE)","v":2021},22,4447,1.0399999999999998,6405,6661,null,null,"LS-4","NE","Není v databázi"]
["Robert Alin Simion",null,null,"Romania",null,"JWGC 2021 - Klub",{"$f":"VLOOKUP(F1335,Soutez!B:C,2,FALSE)","v":"LT"},{"$f":"VLOOKUP(F1335,Soutez!B:D,3,FALSE)","v":2021},23,4323,1.0399999999999998,6127,6372,null,null,"Jantar Std. 2","YD","Není v databázi"]
["Titas Jovaisa",null,null,"Lithuania",null,"JWGC 2021 - Klub",{"$f":"VLOOKUP(F1336,Soutez!B:C,2,FALSE)","v":"LT"},{"$f":"VLOOKUP(F1336,Soutez!B:D,3,FALSE)","v":2021},24,4253,1.0399999999999998,5920,6157,null,null,"Jantar Std. 3","L","Není v databázi"]
["aron Érseki",null,null,"Hungary",null,"JWGC 2021 - Klub",{"$f":"VLOOKUP(F1337,Soutez!B:C,2,FALSE)","v":"LT"},{"$f":"VLOOKUP(F1337,Soutez!B:D,3,FALSE)","v":2021},25,3909,1.0399999999999998,5354,5568,null,null,"LS-1f","V2","Není v databázi"]
["Jens Andersen",null,null,"Denmark",null,"JWGC 2021 - Klub",{"$f":"VLOOKUP(F1338,Soutez!B:C,2,FALSE)","v":"LT"},{"$f":"VLOOKUP(F1338,Soutez!B:D,3,FALSE)","v":2021},26,3525,1.0399999999999998,4735,4924,null,null,"LS-4","PLU","Není v databázi"]
["Mikko Ylihärsilä",null,null,"Finland",null,"JWGC 2021 - Klub",{"$f":"VLOOKUP(F1339,Soutez!B:C,2,FALSE)","v":"LT"},{"$f":"VLOOKUP(F1339,Soutez!B:D,3,FALSE)","v":2021},27,3167,1.0399999999999998,4151,4317,null,null,"LS-7","GE","Není v databázi"]
["Simon Briel",null,null,"Germany",null,"JWGC 2021 - Std",{"$f":"VLOOKUP(F1340,Soutez!B:C,2,FALSE)","v":"LT"},{"$f":"VLOOKUP(F1340,Soutez!B:D,3,FALSE)","v":2021},1,4893,{"$f":"VLOOKUP(F1340,Soutez,12,0)","v":1.03},{"$f":"ROUND(J1340/MAX($J$1340:$J$1356)*10000*0.7+(MAX($I$1340:$I$1356)-I1340)/(MAX($I$1340:$I$1356)-1)*10000*0.3,0)","v":10000},{"$f":"ROUND(K1340*L1340,0)","v":10300},null,null,"Discus 2a","SB","Není v databázi"]
["Thomas Pavis",null,null,"United Kingdom",null,"JWGC 2021 - Std",{"$f":"VLOOKUP(F1341,Soutez!B:C,2,FALSE)","v":"LT"},{"$f":"VLOOKUP(F1341,Soutez!B:D,3,FALSE)","v":2021},2,4792,1.03,{"$f":"ROUND(J1341/MAX($J$1340:$J$1356)*10000*0.7+(MAX($I$1340:$I$1356)-I1341)/(MAX($I$1340:$I$1356)-1)*10000*0.3,0)","v":9668},{"$f":"ROUND(K1341*L1341,0)","v":9958},null,null,"Discus 2a",235,"Není v databázi"]
["Henry Inigo-Jones",null,null,"United Kingdom",null,"JWGC 2021 - Std",{"$f":"VLOOKUP(F1342,Soutez!B:C,2,FALSE)","v":"LT"},{"$f":"VLOOKUP(F1342,Soutez!B:D,3,FALSE)","v":2021},3,4776,1.03,9458,9742,null,null,"LS-8",95,"Není v databázi"]
["Jaromir Macoun",{"$f":"VLOOKUP(A1343,Pilot,2,0)","v":1999},{"$f":"VLOOKUP(A1343,Pilot,5,0)","v":"M"},{"$f":"VLOOKUP(A1343,Pilot,3,0)","v":"Jičín"},{"$f":"VLOOKUP(A1343,Pilot,4,0)","v":"CZ/C2"},"JWGC 2021 - Std",{"$f":"VLOOKUP(F1343,Soutez!B:C,2,FALSE)","v":"LT"},{"$f":"VLOOKUP(F1343,Soutez!B:D,3,FALSE)","v":2021},4,4712,1.03,9179,9454,"x",null,"LS-8","W8","Junior v roce 2023"]
["Jan Zapletal",1997,"M","Břeclav","CZ/M","JWGC 2021 - Std",{"$f":"VLOOKUP(F1344,Soutez!B:C,2,FALSE)","v":"LT"},{"$f":"VLOOKUP(F1344,Soutez!B:D,3,FALSE)","v":2021},5,4640,1.03,8888,9155,"x",null,"LS-8","JS",""]
["Vit Morkovsky",2000,"M","Polička","CZ/C2","JWGC 2021 - Std",{"$f":"VLOOKUP(F1345,Soutez!B:C,2,FALSE)","v":"LT"},{"$f":"VLOOKUP(F1345,Soutez!B:D,3,FALSE)","v":2021},6,4595,1.03,8636,8895,"x",null,"Discus 2a","GX",{"$f":"IF(ISERROR(VLOOKUP(A1345,Pilot,6,0)),\"Není v databázi\",VLOOKUP(A1345,Pilot,6,0))","v":"Junior v roce 2023"}]
["Jacob Bøgelund Lassen",null,null,"Denmark",null,"JWGC 2021 - Std",{"$f":"VLOOKUP(F1346,Soutez!B:C,2,FALSE)","v":"LT"},{"$f":"VLOOKUP(F1346,Soutez!B:D,3,FALSE)","v":2021},7,4564,1.03,8404,8656,null,null,"Discus 2a","MK","Není v databázi"]
["Johannes Dibbern",null,null,"Germany",null,"JWGC 2021 - Std",{"$f":"VLOOKUP(F1347,Soutez!B:C,2,FALSE)","v":"LT"},{"$f":"VLOOKUP(F1347,Soutez!B:D,3,FALSE)","v":2021},8,4442,1.03,8042,8283,null,null,"LS-8 neo","S1","Není v databázi"]
["Philipp Lauer",null,null,"Germany",null,"JWGC 2021 - Std",{"$f":"VLOOKUP(F1348,Soutez!B:C,2,FALSE)","v":"LT"},{"$f":"VLOOKUP(F1348,Soutez!B:D,3,FALSE)","v":2021},9,4226,1.03,7546,7772,null,null,"LS-8 neo","GP","Není v databázi"]
["Nuutti Luukkonen",null,null,"Finland",null,"JWGC 2021 - Std",{"$f":"VLOOKUP(F1349,Soutez!B:C,2,FALSE)","v":"LT"},{"$f":"VLOOKUP(F1349,Soutez!B:D,3,FALSE)","v":2021},10,3940,1.03,6949,7157,null,null,"LS-8","HY","Není v databázi"]
["Mark van den Ham",null,null,"Netherlands",null,"JWGC 2021 - Std",{"$f":"VLOOKUP(F1350,Soutez!B:C,2,FALSE)","v":"LT"},{"$f":"VLOOKUP(F1350,Soutez!B:D,3,FALSE)","v":2021},11,3803,1.03,6566,6763,null,null,"LS-8","XK","Není v databázi"]
["Mathias Valentin Christiansen",null,null,"Denmark",null,"JWGC 2021 - Std",{"$f":"VLOOKUP(F1351,Soutez!B:C,2,FALSE)","v":"LT"},{"$f":"VLOOKUP(F1351,Soutez!B:D,3,FALSE)","v":2021},12,3728,1.03,6271,6459,null,null,"LS-8","LS8","Není v databázi"]
["Wiktor Czubski",null,null,"Poland",null,"JWGC 2021 - Std",{"$f":"VLOOKUP(F1352,Soutez!B:C,2,FALSE)","v":"LT"},{"$f":"VLOOKUP(F1352,Soutez!B:D,3,FALSE)","v":2021},13,3664,1.03,5992,6172,null,null,"LS-8","LOT","Není v databázi"]
["Nick Faber",null,null,"Netherlands",null,"JWGC 2021 - Std",{"$f":"VLOOKUP(F1353,Soutez!B:C,2,FALSE)","v":"LT"},{"$f":"VLOOKUP(F1353,Soutez!B:D,3,FALSE)","v":2021},14,3297,1.03,5279,5437,null,null,"Discus 2b","D2","Není v databázi"]
["Ignas Bitinaitis",null,null,"Lithuania",null,"JWGC 2021 - Std",{"$f":"VLOOKUP(F1354,Soutez!B:C,2,FALSE)","v":"LT"},{"$f":"VLOOKUP(F1354,Soutez!B:D,3,FALSE)","v":2021},15,489,1.03,1075,1107,null,null,"Discus 2a","VM","Není v databázi"]
["Miles Chalk Kjaer",null,null,"Denmark",null,"JWGC 2021 - Std",{"$f":"VLOOKUP(F1355,Soutez!B:C,2,FALSE)","v":"LT"},{"$f":"VLOOKUP(F1355,Soutez!B:D,3,FALSE)","v":2021},16,209,1.03,486,501,null,null,"LS-8","SE","Není v databázi"]
["Laurynas supinys",null,null,"Lithuania",null,"JWGC 2021 - Std",{"$f":"VLOOKUP(F1356,Soutez!B:C,2,FALSE)","v":"LT"},{"$f":"VLOOKUP(F1356,Soutez!B:D,3,FALSE)","v":2021},17,0,1.03,0,0,null,null,"LS-8","H8","Není v databázi"]
["Sebastian Kawa",null,null,null,null,"WSGP Final 2021 - 18m GP",{"$f":"VLOOKUP(F1357,Soutez!B:C,2,FALSE)","v":"FR"},{"$f":"VLOOKUP(F1357,Soutez!B:D,3,FALSE)","v":2021},1,39,{"$f":"VLOOKUP(F1357,Soutez,12,0)","v":1.07},{"$f":"ROUND((MAX($I$1357:$I$1376)-I1357)/(MAX($I$1357:$I$1376)-1)*10000,0)","v":10000},{"$f":"ROUND(K1357*L1357,0)","v":10700},null,null,"AS33","OS","Není v databázi"]
["Mario Kiessling",null,null,null,null,"WSGP Final 2021 - 18m GP",{"$f":"VLOOKUP(F1358,Soutez!B:C,2,FALSE)","v":"FR"},{"$f":"VLOOKUP(F1358,Soutez!B:D,3,FALSE)","v":2021},2,38,1.07,{"$f":"ROUND((MAX($I$1357:$I$1376)-I1358)/(MAX($I$1357:$I$1376)-1)*10000,0)","v":9444},{"$f":"ROUND(K1358*L1358,0)","v":10105},null,null,"Ventus-3TS","I","Není v databázi"]
["Maximilian Seis",null,null,null,null,"WSGP Final 2021 - 18m GP",{"$f":"VLOOKUP(F1359,Soutez!B:C,2,FALSE)","v":"FR"},{"$f":"VLOOKUP(F1359,Soutez!B:D,3,FALSE)","v":2021},3,30,1.07,8889,9511,null,null,"JS 3","LB","Není v databázi"]
["Katrin Senne",null,null,null,null,"WSGP Final 2021 - 18m GP",{"$f":"VLOOKUP(F1360,Soutez!B:C,2,FALSE)","v":"FR"},{"$f":"VLOOKUP(F1360,Soutez!B:D,3,FALSE)","v":2021},4,24,1.07,8333,8916,null,null,"JS 3","BK","Není v databázi"]
["Tilo Holighaus",null,null,null,null,"WSGP Final 2021 - 18m GP",{"$f":"VLOOKUP(F1361,Soutez!B:C,2,FALSE)","v":"FR"},{"$f":"VLOOKUP(F1361,Soutez!B:D,3,FALSE)","v":2021},5,19,1.07,7778,8322,null,null,"Ventus-3TS","3V","Není v databázi"]
["Bostjan Pristavec",null,null,null,null,"WSGP Final 2021 - 18m GP",{"$f":"VLOOKUP(F1362,Soutez!B:C,2,FALSE)","v":"FR"},{"$f":"VLOOKUP(F1362,Soutez!B:D,3,FALSE)","v":2021},6,16,1.07,7222,7728,null,null,"JS 1 Revelation","DZ","Není v databázi"]
["Louis Bouderlique",null,null,null,null,"WSGP Final 2021 - 18m GP",{"$f":"VLOOKUP(F1363,Soutez!B:C,2,FALSE)","v":"FR"},{"$f":"VLOOKUP(F1363,Soutez!B:D,3,FALSE)","v":2021},6,16,1.07,7222,7728,null,null,"Ventus-3TS","TL","Není v databázi"]
["Gilles Navas",null,null,null,null,"WSGP Final 2021 - 18m GP",{"$f":"VLOOKUP(F1364,Soutez!B:C,2,FALSE)","v":"FR"},{"$f":"VLOOKUP(F1364,Soutez!B:D,3,FALSE)","v":2021},8,15,1.07,6111,6539,null,null,"JS 3","KW","Není v databázi"]
["Christophe Abadie",null,null,null,null,"WSGP Final 2021 - 18m GP",{"$f":"VLOOKUP(F1365,Soutez!B:C,2,FALSE)","v":"FR"},{"$f":"VLOOKUP(F1365,Soutez!B:D,3,FALSE)","v":2021},9,14,1.07,5556,5945,null,null,"JS 3","2L","Není v databázi"]
["Marius Pluscauskas",null,null,null,null,"WSGP Final 2021 - 18m GP",{"$f":"VLOOKUP(F1366,Soutez!B:C,2,FALSE)","v":"FR"},{"$f":"VLOOKUP(F1366,Soutez!B:D,3,FALSE)","v":2021},10,12,1.07,5000,5350,null,null,"Asg 29","M7","Není v databázi"]
["Thomas Gostner",null,null,null,null,"WSGP Final 2021 - 18m GP",{"$f":"VLOOKUP(F1367,Soutez!B:C,2,FALSE)","v":"FR"},{"$f":"VLOOKUP(F1367,Soutez!B:D,3,FALSE)","v":2021},11,11,1.07,4444,4755,null,null,"Ventus-3TS","GT","Není v databázi"]
["Philippe de Péchy",null,null,null,null,"WSGP Final 2021 - 18m GP",{"$f":"VLOOKUP(F1368,Soutez!B:C,2,FALSE)","v":"FR"},{"$f":"VLOOKUP(F1368,Soutez!B:D,3,FALSE)","v":2021},12,9,1.07,3889,4161,null,null,"JS 1 Revelation","EJ","Není v databázi"]
["Sylvain Gerbaud",null,null,null,null,"WSGP Final 2021 - 18m GP",{"$f":"VLOOKUP(F1369,Soutez!B:C,2,FALSE)","v":"FR"},{"$f":"VLOOKUP(F1369,Soutez!B:D,3,FALSE)","v":2021},13,7,1.07,3333,3566,null,null,"JS 1 Revelation",72,"Není v databázi"]
["Oscar Goudriaan",null,null,null,null,"WSGP Final 2021 - 18m GP",{"$f":"VLOOKUP(F1370,Soutez!B:C,2,FALSE)","v":"FR"},{"$f":"VLOOKUP(F1370,Soutez!B:D,3,FALSE)","v":2021},13,7,1.07,3333,3566,null,null,"JS3","LG","Není v databázi"]
["Gintas Zube",null,null,null,null,"WSGP Final 2021 - 18m GP",{"$f":"VLOOKUP(F1371,Soutez!B:C,2,FALSE)","v":"FR"},{"$f":"VLOOKUP(F1371,Soutez!B:D,3,FALSE)","v":2021},15,6,1.07,2222,2378,null,null,"Asg 29","AR","Není v databázi"]
["Uli Schwenk",null,null,null,null,"WSGP Final 2021 - 18m GP",{"$f":"VLOOKUP(F1372,Soutez!B:C,2,FALSE)","v":"FR"},{"$f":"VLOOKUP(F1372,Soutez!B:D,3,FALSE)","v":2021},15,6,1.07,2222,2378,null,null,"Ventus-3TS",25,"Není v databázi"]
["Werner Amann",null,null,null,null,"WSGP Final 2021 - 18m GP",{"$f":"VLOOKUP(F1373,Soutez!B:C,2,FALSE)","v":"FR"},{"$f":"VLOOKUP(F1373,Soutez!B:D,3,FALSE)","v":2021},15,6,1.07,2222,2378,null,null,"AS33","WG","Není v databázi"]
["René Vidal",null,null,null,null,"WSGP Final 2021 - 18m GP",{"$f":"VLOOKUP(F1374,Soutez!B:C,2,FALSE)","v":"FR"},{"$f":"VLOOKUP(F1374,Soutez!B:D,3,FALSE)","v":2021},18,2,1.07,556,595,null,null,"Ventus-3TS",120,"Není v databázi"]
["Petr Panek",{"$f":"VLOOKUP(A1375,Pilot,2,0)","v":1975},{"$f":"VLOOKUP(A1375,Pilot,5,0)","v":"M"},{"$f":"VLOOKUP(A1375,Pilot,3,0)","v":"Dvůr Králové"},{"$f":"VLOOKUP(A1375,Pilot,4,0)","v":"CZ/C2"},"WSGP Final 2021 - 18m GP",{"$f":"VLOOKUP(F1375,Soutez!B:C,2,FALSE)","v":"FR"},{"$f":"VLOOKUP(F1375,Soutez!B:D,3,FALSE)","v":2021},19,0,1.07,0,0,null,null,"JS 1 Revelation","IGC",""]
["Mélanie Gadoulet",null,null,null,null,"WSGP Final 2021 - 18m GP",{"$f":"VLOOKUP(F1376,Soutez!B:C,2,FALSE)","v":"FR"},{"$f":"VLOOKUP(F1376,Soutez!B:D,3,FALSE)","v":2021},19,0,1.07,0,0,null,null,"JS 1 Revelation","FD","Není v databázi"]
["Tomas Kulhavy",{"$f":"VLOOKUP(A1377,Pilot,2,0)","v":2001},{"$f":"VLOOKUP(A1377,Pilot,5,0)","v":"M"},{"$f":"VLOOKUP(A1377,Pilot,3,0)","v":"Liberec"},{"$f":"VLOOKUP(A1377,Pilot,4,0)","v":"CZ/C2"},"Safari 2021 - Klub",{"$f":"VLOOKUP(F1377,Soutez!B:C,2,FALSE)","v":"CZ"},{"$f":"VLOOKUP(F1377,Soutez!B:D,3,FALSE)","v":2021},1,2391,0.75,{"$f":"ROUND(J1377/MAX($J$1377:$J$1409)*10000*0.7+(MAX($I$1377:$I$1409)-I1377)/(MAX($I$1377:$I$1409)-1)*10000*0.3,0)","v":10000},{"$f":"ROUND(K1377*L1377,0)","v":7500},"x",null,"LS-3a /15m","R9",{"$f":"IF(ISERROR(VLOOKUP(A1377,Pilot,6,0)),\"Není v databázi\",VLOOKUP(A1377,Pilot,6,0))","v":"Junior v roce 2023"}]
["Milan Dvorak",1965,"M","Liberec","CZ/C2","Safari 2021 - Klub",{"$f":"VLOOKUP(F1378,Soutez!B:C,2,FALSE)","v":"CZ"},{"$f":"VLOOKUP(F1378,Soutez!B:D,3,FALSE)","v":2021},2,2264,0.75,{"$f":"ROUND(J1378/MAX($J$1377:$J$1409)*10000*0.7+(MAX($I$1377:$I$1409)-I1378)/(MAX($I$1377:$I$1409)-1)*10000*0.3,0)","v":9531},{"$f":"ROUND(K1378*L1378,0)","v":7148},"x",null,"HpH 304cz /15m","IH",""]
["Jiri Slemr",1979,"M","Vysoké Mýto","CZ/C2","Safari 2021 - Klub",{"$f":"VLOOKUP(F1379,Soutez!B:C,2,FALSE)","v":"CZ"},{"$f":"VLOOKUP(F1379,Soutez!B:D,3,FALSE)","v":2021},2,2264,0.75,9531,7148,"x",null,"Discus b",65,""]
["David Tejnora",1982,"M","Jaroměř","CZ/C2","Safari 2021 - Klub",{"$f":"VLOOKUP(F1380,Soutez!B:C,2,FALSE)","v":"CZ"},{"$f":"VLOOKUP(F1380,Soutez!B:D,3,FALSE)","v":2021},4,2165,0.75,9048,6786,"x",null,"Std.Cirrus",17,""]
["Tomas Hynek",{"$f":"VLOOKUP(A1381,Pilot,2,0)","v":2002},{"$f":"VLOOKUP(A1381,Pilot,5,0)","v":"M"},{"$f":"VLOOKUP(A1381,Pilot,3,0)","v":"Dvůr Králové"},{"$f":"VLOOKUP(A1381,Pilot,4,0)","v":"CZ/C2"},"Safari 2021 - Klub",{"$f":"VLOOKUP(F1381,Soutez!B:C,2,FALSE)","v":"CZ"},{"$f":"VLOOKUP(F1381,Soutez!B:D,3,FALSE)","v":2021},5,2134,0.75,8860,6645,null,null,"Std.Cirrus","HT","Junior v roce 2023"]
["Marek Kornec",1957,"M","Dvůr Králové","CZ/C2","Safari 2021 - Klub",{"$f":"VLOOKUP(F1382,Soutez!B:C,2,FALSE)","v":"CZ"},{"$f":"VLOOKUP(F1382,Soutez!B:D,3,FALSE)","v":2021},6,2121,0.75,8726,6545,"x",null,"Janus C (FG)","KSS",""]
["Vojtech Vach 76",1976,"M","Nové Město nad Metují","CZ/C2","Safari 2021 - Klub",{"$f":"VLOOKUP(F1383,Soutez!B:C,2,FALSE)","v":"CZ"},{"$f":"VLOOKUP(F1383,Soutez!B:D,3,FALSE)","v":2021},7,2053,0.75,8430,6323,"x",null,"Cirrus VTC","1W",""]
["Wolfgang Sluka",{"$f":"VLOOKUP(A1384,Pilot,2,0)","v":1942},{"$f":"VLOOKUP(A1384,Pilot,5,0)","v":"M"},{"$f":"VLOOKUP(A1384,Pilot,3,0)","v":"Liberec"},{"$f":"VLOOKUP(A1384,Pilot,4,0)","v":"CZ/C2"},"Safari 2021 - Klub",{"$f":"VLOOKUP(F1384,Soutez!B:C,2,FALSE)","v":"CZ"},{"$f":"VLOOKUP(F1384,Soutez!B:D,3,FALSE)","v":2021},8,1846,0.75,7727,5795,"x",null,"VSO-10",78,""]
["Tomas Ditrt",1969,"M","Podhořany","CZ/C2","Safari 2021 - Klub",{"$f":"VLOOKUP(F1385,Soutez!B:C,2,FALSE)","v":"CZ"},{"$f":"VLOOKUP(F1385,Soutez!B:D,3,FALSE)","v":2021},9,1774,0.75,7419,5564,"x",null,"ASW-20 (A)+L+F /15m","TDi",""]
["Daniel Ryba",1994,"M","Dvůr Králové","CZ/C2","Safari 2021 - Klub",{"$f":"VLOOKUP(F1386,Soutez!B:C,2,FALSE)","v":"CZ"},{"$f":"VLOOKUP(F1386,Soutez!B:D,3,FALSE)","v":2021},10,1753,0.75,7261,5446,"x",null,"Janus, Janus b dvojí","V1",""]
["Martin Cicvarek",1966,"M","Liberec","CZ/C2","Safari 2021 - Klub",{"$f":"VLOOKUP(F1387,Soutez!B:C,2,FALSE)","v":"CZ"},{"$f":"VLOOKUP(F1387,Soutez!B:D,3,FALSE)","v":2021},11,1563,0.75,6608,4956,"x",null,"DG-400 15m","AC",""]
["Petr Lonsky",1965,"M","Toužim","CZ/C1","Safari 2021 - Klub",{"$f":"VLOOKUP(F1388,Soutez!B:C,2,FALSE)","v":"CZ"},{"$f":"VLOOKUP(F1388,Soutez!B:D,3,FALSE)","v":2021},12,1526,0.75,6403,4802,null,null,"Cirrus VTC","PB",""]
["Lukas Volek",2004,"M","Hodkovice","CZ/C2","Safari 2021 - Klub",{"$f":"VLOOKUP(F1389,Soutez!B:C,2,FALSE)","v":"CZ"},{"$f":"VLOOKUP(F1389,Soutez!B:D,3,FALSE)","v":2021},13,1293,0.75,5624,4218,null,null,"ASW-15B","B","Junior v roce 2023"]
["Vojtech Kostejn",1974,"M","Česká Lípa","CZ/C2","Safari 2021 - Klub",{"$f":"VLOOKUP(F1390,Soutez!B:C,2,FALSE)","v":"CZ"},{"$f":"VLOOKUP(F1390,Soutez!B:D,3,FALSE)","v":2021},14,1170,0.75,5167,3875,"x",null,"ASW-15B","I",""]
["Filip Sirc",1993,"M","Letňany","CZ/C1","Safari 2021 - Klub",{"$f":"VLOOKUP(F1391,Soutez!B:C,2,FALSE)","v":"CZ"},{"$f":"VLOOKUP(F1391,Soutez!B:D,3,FALSE)","v":2021},15,1124,0.75,4936,3702,null,null,"ASW-19","WT",""]
["Pavel Derda",1952,"M","Dvůr Králové","CZ/C2","Safari 2021 - Klub",{"$f":"VLOOKUP(F1392,Soutez!B:C,2,FALSE)","v":"CZ"},{"$f":"VLOOKUP(F1392,Soutez!B:D,3,FALSE)","v":2021},16,1087,0.75,4731,3548,null,null,"Cirrus VTC","VE",""]
["Jaroslav Sima",1972,"M","Chomutov","CZ/C2","Safari 2021 - Klub",{"$f":"VLOOKUP(F1393,Soutez!B:C,2,FALSE)","v":"CZ"},{"$f":"VLOOKUP(F1393,Soutez!B:D,3,FALSE)","v":2021},17,1073,0.75,4593,3445,"x",null,"G-104 Speed Astir II","V2",""]
["Krzysztof Pienkowski",null,null,"Bielsko-Biala",null,"Safari 2021 - Klub",{"$f":"VLOOKUP(F1394,Soutez!B:C,2,FALSE)","v":"CZ"},{"$f":"VLOOKUP(F1394,Soutez!B:D,3,FALSE)","v":2021},18,1013,0.75,4321,3241,null,null,"LS-4","KP","Není v databázi"]
["Lukas Hykl",{"$f":"VLOOKUP(A1395,Pilot,2,0)","v":1985},{"$f":"VLOOKUP(A1395,Pilot,5,0)","v":"M"},{"$f":"VLOOKUP(A1395,Pilot,3,0)","v":"Kolín"},{"$f":"VLOOKUP(A1395,Pilot,4,0)","v":"CZ/C1"},"Safari 2021 - Klub",{"$f":"VLOOKUP(F1395,Soutez!B:C,2,FALSE)","v":"CZ"},{"$f":"VLOOKUP(F1395,Soutez!B:D,3,FALSE)","v":2021},19,993,0.75,4165,3124,"x",null,"Discus b","J2",""]
["Adam Hepal",{"$f":"VLOOKUP(A1396,Pilot,2,0)","v":2004},{"$f":"VLOOKUP(A1396,Pilot,5,0)","v":"M"},{"$f":"VLOOKUP(A1396,Pilot,3,0)","v":"Kolín"},{"$f":"VLOOKUP(A1396,Pilot,4,0)","v":"CZ/C1"},"Safari 2021 - Klub",{"$f":"VLOOKUP(F1396,Soutez!B:C,2,FALSE)","v":"CZ"},{"$f":"VLOOKUP(F1396,Soutez!B:D,3,FALSE)","v":2021},20,942,0.75,3919,2939,"x",null,"G-102 Astir Jeans","VI","Junior v roce 2023"]
["Leos Nosek",1958,"M","Křižanov","CZ/M","Safari 2021 - Klub",{"$f":"VLOOKUP(F1397,Soutez!B:C,2,FALSE)","v":"CZ"},{"$f":"VLOOKUP(F1397,Soutez!B:D,3,FALSE)","v":2021},21,808,0.75,3430,2573,"x",null,"G-104 Speed Astir II b","LE",""]
["Vojtech Flidr",{"$f":"VLOOKUP(A1398,Pilot,2,0)","v":2003},{"$f":"VLOOKUP(A1398,Pilot,5,0)","v":"M"},{"$f":"VLOOKUP(A1398,Pilot,3,0)","v":"Dvůr Králové"},{"$f":"VLOOKUP(A1398,Pilot,4,0)","v":"CZ/C2"},"Safari 2021 - Klub",{"$f":"VLOOKUP(F1398,Soutez!B:C,2,FALSE)","v":"CZ"},{"$f":"VLOOKUP(F1398,Soutez!B:D,3,FALSE)","v":2021},22,719,0.75,3073,2305,"x",null,"G-102 Astir cs 77",77,"Junior v roce 2023"]
["Vaclav Sehnal",{"$f":"VLOOKUP(A1399,Pilot,2,0)","v":1962},{"$f":"VLOOKUP(A1399,Pilot,5,0)","v":"M"},{"$f":"VLOOKUP(A1399,Pilot,3,0)","v":"Kolín"},{"$f":"VLOOKUP(A1399,Pilot,4,0)","v":"CZ/C1"},"Safari 2021 - Klub",{"$f":"VLOOKUP(F1399,Soutez!B:C,2,FALSE)","v":"CZ"},{"$f":"VLOOKUP(F1399,Soutez!B:D,3,FALSE)","v":2021},23,661,0.75,2806,2105,"x",null,"SZD-48 Jantar std. 2 (3) WL","VS",""]
["Artur Szlachta",null,null,"KSS/LSV Zellhausen",null,"Safari 2021 - Klub",{"$f":"VLOOKUP(F1400,Soutez!B:C,2,FALSE)","v":"CZ"},{"$f":"VLOOKUP(F1400,Soutez!B:D,3,FALSE)","v":2021},24,538,0.75,2349,1762,null,null,"LS-4","V4","Není v databázi"]
["Vojtech Sehnal",{"$f":"VLOOKUP(A1401,Pilot,2,0)","v":1994},{"$f":"VLOOKUP(A1401,Pilot,5,0)","v":"M"},{"$f":"VLOOKUP(A1401,Pilot,3,0)","v":"Kolín"},{"$f":"VLOOKUP(A1401,Pilot,4,0)","v":"CZ/C1"},"Safari 2021 - Klub",{"$f":"VLOOKUP(F1401,Soutez!B:C,2,FALSE)","v":"CZ"},{"$f":"VLOOKUP(F1401,Soutez!B:D,3,FALSE)","v":2021},25,525,0.75,2214,1661,"x",null,"G-104 Speed Astir II b","M2",""]
["Stanislav Vrabec",1975,"M","Česká Lípa","CZ/C2","Safari 2021 - Klub",{"$f":"VLOOKUP(F1402,Soutez!B:C,2,FALSE)","v":"CZ"},{"$f":"VLOOKUP(F1402,Soutez!B:D,3,FALSE)","v":2021},26,474,0.75,1968,1476,"x",null,"Std.Cirrus","CV",""]
["Karel Ertl",1939,"M","LK Břeclav","CZ/M","Safari 2021 - Klub",{"$f":"VLOOKUP(F1403,Soutez!B:C,2,FALSE)","v":"CZ"},{"$f":"VLOOKUP(F1403,Soutez!B:D,3,FALSE)","v":2021},27,439,0.75,1769,1327,null,null,"TST-10M Atlas","KE",""]
["Krzystof Kostka",null,null,"Jelenia Góra",null,"Safari 2021 - Klub",{"$f":"VLOOKUP(F1404,Soutez!B:C,2,FALSE)","v":"CZ"},{"$f":"VLOOKUP(F1404,Soutez!B:D,3,FALSE)","v":2021},28,414,0.75,1599,1199,null,null,"DG-300 WL","N5","Není v databázi"]
["Martin Benesovsky",{"$f":"VLOOKUP(A1405,Pilot,2,0)","v":1900},{"$f":"VLOOKUP(A1405,Pilot,5,0)","v":"M"},{"$f":"VLOOKUP(A1405,Pilot,3,0)","v":"Kolín"},{"$f":"VLOOKUP(A1405,Pilot,4,0)","v":"CZ/C1"},"Safari 2021 - Klub",{"$f":"VLOOKUP(F1405,Soutez!B:C,2,FALSE)","v":"CZ"},{"$f":"VLOOKUP(F1405,Soutez!B:D,3,FALSE)","v":2021},29,384,0.75,1415,1061,"x",null,"G-104 Speed Astir II b","M2",""]
["Ryszard Bendkowski",null,null,"Warszawa",null,"Safari 2021 - Klub",{"$f":"VLOOKUP(F1406,Soutez!B:C,2,FALSE)","v":"CZ"},{"$f":"VLOOKUP(F1406,Soutez!B:D,3,FALSE)","v":2021},30,221,0.75,841,631,null,null,"SZD-41A Jantar std.","Fili","Není v databázi"]
["Vladislav Cadsky",{"$f":"VLOOKUP(A1407,Pilot,2,0)","v":1975},{"$f":"VLOOKUP(A1407,Pilot,5,0)","v":"M"},{"$f":"VLOOKUP(A1407,Pilot,3,0)","v":"Kolín"},{"$f":"VLOOKUP(A1407,Pilot,4,0)","v":"CZ/C1"},"Safari 2021 - Klub",{"$f":"VLOOKUP(F1407,Soutez!B:C,2,FALSE)","v":"CZ"},{"$f":"VLOOKUP(F1407,Soutez!B:D,3,FALSE)","v":2021},31,89,0.75,357,268,"x",null,"SZS-48 Jantar std.2","VS",""]
["Romuald Dorofieczyk",null,null,"Jelenia Góra",null,"Safari 2021 - Klub",{"$f":"VLOOKUP(F1408,Soutez!B:C,2,FALSE)","v":"CZ"},{"$f":"VLOOKUP(F1408,Soutez!B:D,3,FALSE)","v":2021},32,0,0.75,0,0,null,null,"DG-300 WL","N5","Není v databázi"]
["Michal Vorlicek",{"$f":"VLOOKUP(A1409,Pilot,2,0)","v":1995},{"$f":"VLOOKUP(A1409,Pilot,5,0)","v":"M"},{"$f":"VLOOKUP(A1409,Pilot,3,0)","v":"Kolín"},{"$f":"VLOOKUP(A1409,Pilot,4,0)","v":"CZ/C1"},"Safari 2021 - Klub",{"$f":"VLOOKUP(F1409,Soutez!B:C,2,FALSE)","v":"CZ"},{"$f":"VLOOKUP(F1409,Soutez!B:D,3,FALSE)","v":2021},32,0,0.75,0,0,null,null,"SZD-48 Jantar std. 2 (3) WL","VS",{"$f":"IF(ISERROR(VLOOKUP(A1409,Pilot,6,0)),\"Není v databázi\",VLOOKUP(A1409,Pilot,6,0))","v":""}]
["Lukas Hynek",{"$f":"VLOOKUP(A1410,Pilot,2,0)","v":1979},{"$f":"VLOOKUP(A1410,Pilot,5,0)","v":"M"},{"$f":"VLOOKUP(A1410,Pilot,3,0)","v":"Dvůr Králové"},{"$f":"VLOOKUP(A1410,Pilot,4,0)","v":"CZ/C2"},"Safari 2021 - Kombi",{"$f":"VLOOKUP(F1410,Soutez!B:C,2,FALSE)","v":"CZ"},{"$f":"VLOOKUP(F1410,Soutez!B:D,3,FALSE)","v":2021},1,2796,0.755,{"$f":"ROUND(J1410/MAX($J$1410:$J$1422)*10000*0.7+(MAX($I$1410:$I$1422)-I1410)/(MAX($I$1410:$I$1422)-1)*10000*0.3,0)","v":10000},{"$f":"ROUND(K1410*L1410,0)","v":7550},"x",null,"DG-200 17m (voda)","HL",""]
["Milan Meisner",1961,"M","Dvůr Králové","CZ/C2","Safari 2021 - Kombi",{"$f":"VLOOKUP(F1411,Soutez!B:C,2,FALSE)","v":"CZ"},{"$f":"VLOOKUP(F1411,Soutez!B:D,3,FALSE)","v":2021},2,2683,0.755,9467,{"$f":"ROUND(K1411*L1411,0)","v":7148},"x",null,"Ventus c /17,6m (voda)","VV",""]
["Jan Pazour",1979,"M","Dvůr Králové","CZ/C2","Safari 2021 - Kombi",{"$f":"VLOOKUP(F1412,Soutez!B:C,2,FALSE)","v":"CZ"},{"$f":"VLOOKUP(F1412,Soutez!B:D,3,FALSE)","v":2021},3,2664,0.755,9170,6923,"x",null,"ASW-20L +FL /16,6m","JP",""]
["Petr Babak",1973,"M","Hořice","CZ/C2","Safari 2021 - Kombi",{"$f":"VLOOKUP(F1413,Soutez!B:C,2,FALSE)","v":"CZ"},{"$f":"VLOOKUP(F1413,Soutez!B:D,3,FALSE)","v":2021},4,2486,0.755,8474,6398,"x",null,"Ventus c /17,6m (voda)","LS",""]
["Karel Policky",{"$f":"VLOOKUP(A1414,Pilot,2,0)","v":1950},{"$f":"VLOOKUP(A1414,Pilot,5,0)","v":"M"},{"$f":"VLOOKUP(A1414,Pilot,3,0)","v":"Kolín"},{"$f":"VLOOKUP(A1414,Pilot,4,0)","v":"CZ/C1"},"Safari 2021 - Kombi",{"$f":"VLOOKUP(F1414,Soutez!B:C,2,FALSE)","v":"CZ"},{"$f":"VLOOKUP(F1414,Soutez!B:D,3,FALSE)","v":2021},5,2300,0.755,7758,5857,"x",null,"Duo Discus T (700 kg) (voda)",777,""]
["Jaroslav Buryan",1953,"M","Zábřeh","CZ/M","Safari 2021 - Kombi",{"$f":"VLOOKUP(F1415,Soutez!B:C,2,FALSE)","v":"CZ"},{"$f":"VLOOKUP(F1415,Soutez!B:D,3,FALSE)","v":2021},6,2276,0.755,7448,5623,null,null,"ASW-20 (A)+F /15m WL (voda)","NS",""]
["Ladislav Prokes",1954,"M","Vrchlabí","CZ/C2","Safari 2021 - Kombi",{"$f":"VLOOKUP(F1416,Soutez!B:C,2,FALSE)","v":"CZ"},{"$f":"VLOOKUP(F1416,Soutez!B:D,3,FALSE)","v":2021},7,2149,0.755,6880,5194,"x",null,"Discus b (voda)","VR",""]
["Zdenek Boruvka 54",1954,"M","Jičín","CZ/C2","Safari 2021 - Kombi",{"$f":"VLOOKUP(F1417,Soutez!B:C,2,FALSE)","v":"CZ"},{"$f":"VLOOKUP(F1417,Soutez!B:D,3,FALSE)","v":2021},8,2110,0.755,6533,{"$f":"ROUND(K1417*L1417,0)","v":4932},null,null,"LS 8-18 /15m (voda)","ZB",""]
["Jan Kohout",{"$f":"VLOOKUP(A1418,Pilot,2,0)","v":1970},{"$f":"VLOOKUP(A1418,Pilot,5,0)","v":"M"},{"$f":"VLOOKUP(A1418,Pilot,3,0)","v":"Žamberk"},{"$f":"VLOOKUP(A1418,Pilot,4,0)","v":"CZ/C2"},"Safari 2021 - Kombi",{"$f":"VLOOKUP(F1418,Soutez!B:C,2,FALSE)","v":"CZ"},{"$f":"VLOOKUP(F1418,Soutez!B:D,3,FALSE)","v":2021},9,1944,0.755,5867,4430,null,null,"LS 8 /15m (voda)","SK",""]
["Slavomir Tanglmajer",1966,"M","Chomutov","CZ/C2","Safari 2021 - Kombi",{"$f":"VLOOKUP(F1419,Soutez!B:C,2,FALSE)","v":"CZ"},{"$f":"VLOOKUP(F1419,Soutez!B:D,3,FALSE)","v":2021},10,1754,{"$f":"VLOOKUP(F1419,Soutez,12,0)","v":0.755},5141,3881,"x",null,"DG-400 17m","ST",""]
["Michal Hemrle",1974,"M","Česká Lípa","CZ/C2","Safari 2021 - Kombi",{"$f":"VLOOKUP(F1420,Soutez!B:C,2,FALSE)","v":"CZ"},{"$f":"VLOOKUP(F1420,Soutez!B:D,3,FALSE)","v":2021},11,1678,0.755,4701,3549,"x",null,"ASG-29E /18m 600kg (voda)","ET",""]
["Tomas Novak",1974,"M","Česká Lípa","CZ/C2","Safari 2021 - Kombi",{"$f":"VLOOKUP(F1421,Soutez!B:C,2,FALSE)","v":"CZ"},{"$f":"VLOOKUP(F1421,Soutez!B:D,3,FALSE)","v":2021},12,1675,0.755,4443,3354,"x",null,"Ventus c /17,6m (voda)","XE",""]
["Petr Omelka",1970,"M","Vyškov","CZ/M","Safari 2021 - Kombi",{"$f":"VLOOKUP(F1422,Soutez!B:C,2,FALSE)","v":"CZ"},{"$f":"VLOOKUP(F1422,Soutez!B:D,3,FALSE)","v":2021},13,856,0.755,2143,1618,"x",null,"DG 400 17m","MR",""]
["Vojtech Pivonka",{"$f":"VLOOKUP(A1423,Pilot,2,0)","v":1976},{"$f":"VLOOKUP(A1423,Pilot,5,0)","v":"M"},{"$f":"VLOOKUP(A1423,Pilot,3,0)","v":"Vrchlabí"},{"$f":"VLOOKUP(A1423,Pilot,4,0)","v":"CZ/C2"},"Safari 2021 - Duo Klub",{"$f":"VLOOKUP(F1423,Soutez!B:C,2,FALSE)","v":"CZ"},{"$f":"VLOOKUP(F1423,Soutez!B:D,3,FALSE)","v":2021},1,1058,0.73,{"$f":"ROUND(J1423/MAX($J$1423:$J$1433)*10000*0.7+(MAX($I$1423:$I$1433)-I1423)/(MAX($I$1423:$I$1433)-1)*10000*0.3,0)","v":10000},{"$f":"ROUND(K1423*L1423,0)","v":7300},"x",null,"L-13 Blaník","AY",""]
["Ondrej Teichman",{"$f":"VLOOKUP(A1424,Pilot,2,0)","v":1984},{"$f":"VLOOKUP(A1424,Pilot,5,0)","v":"M"},{"$f":"VLOOKUP(A1424,Pilot,3,0)","v":"Dvůr Králové"},{"$f":"VLOOKUP(A1424,Pilot,4,0)","v":"CZ/C2"},"Safari 2021 - Duo Klub",{"$f":"VLOOKUP(F1424,Soutez!B:C,2,FALSE)","v":"CZ"},{"$f":"VLOOKUP(F1424,Soutez!B:D,3,FALSE)","v":2021},2,894,0.73,8615,{"$f":"ROUND(K1424*L1424,0)","v":6289},"x",null,"L-23 Super Blaník","KM",""]
["Petr Masik",{"$f":"VLOOKUP(A1425,Pilot,2,0)","v":2001},{"$f":"VLOOKUP(A1425,Pilot,5,0)","v":"M"},{"$f":"VLOOKUP(A1425,Pilot,3,0)","v":"Zábřeh"},{"$f":"VLOOKUP(A1425,Pilot,4,0)","v":"CZ/M"},"Safari 2021 - Duo Klub",{"$f":"VLOOKUP(F1425,Soutez!B:C,2,FALSE)","v":"CZ"},{"$f":"VLOOKUP(F1425,Soutez!B:D,3,FALSE)","v":2021},3,887,0.73,8269,6036,"x",null,"L-23 Super Blaník","T","Junior v roce 2023"]
["Jiri Kratochvil",{"$f":"VLOOKUP(A1426,Pilot,2,0)","v":2003},{"$f":"VLOOKUP(A1426,Pilot,5,0)","v":"M"},{"$f":"VLOOKUP(A1426,Pilot,3,0)","v":"Podhořany"},{"$f":"VLOOKUP(A1426,Pilot,4,0)","v":"CZ/C2"},"Safari 2021 - Duo Klub",{"$f":"VLOOKUP(F1426,Soutez!B:C,2,FALSE)","v":"CZ"},{"$f":"VLOOKUP(F1426,Soutez!B:D,3,FALSE)","v":2021},4,825,0.73,7558,5517,"x",null,"L-23 Super Blaník","Y","Junior v roce 2023"]
["Vladimir Prihoda",{"$f":"VLOOKUP(A1427,Pilot,2,0)","v":1953},{"$f":"VLOOKUP(A1427,Pilot,5,0)","v":"M"},{"$f":"VLOOKUP(A1427,Pilot,3,0)","v":"Kralupy"},{"$f":"VLOOKUP(A1427,Pilot,4,0)","v":"CZ/C1"},"Safari 2021 - Duo Klub",{"$f":"VLOOKUP(F1427,Soutez!B:C,2,FALSE)","v":"CZ"},{"$f":"VLOOKUP(F1427,Soutez!B:D,3,FALSE)","v":2021},5,807,0.73,7139,5211,"x",null,"L-23 Super Blaník","X",""]
["Petr Traeger",{"$f":"VLOOKUP(A1428,Pilot,2,0)","v":1983},{"$f":"VLOOKUP(A1428,Pilot,5,0)","v":"M"},{"$f":"VLOOKUP(A1428,Pilot,3,0)","v":"Vrchlabí"},{"$f":"VLOOKUP(A1428,Pilot,4,0)","v":"CZ/C2"},"Safari 2021 - Duo Klub",{"$f":"VLOOKUP(F1428,Soutez!B:C,2,FALSE)","v":"CZ"},{"$f":"VLOOKUP(F1428,Soutez!B:D,3,FALSE)","v":2021},6,688,0.73,6052,4418,"x",null,"L-13 Blaník","V",""]
["Jan Hybner",1977,"M","Liberec","CZ/C2","Safari 2021 - Duo Klub",{"$f":"VLOOKUP(F1429,Soutez!B:C,2,FALSE)","v":"CZ"},{"$f":"VLOOKUP(F1429,Soutez!B:D,3,FALSE)","v":2021},7,633,0.73,5388,{"$f":"ROUND(K1429*L1429,0)","v":3933},"x",null,"L-23 Super Blaník",23,""]
["Jiri Tomicek",{"$f":"VLOOKUP(A1430,Pilot,2,0)","v":1947},{"$f":"VLOOKUP(A1430,Pilot,5,0)","v":"M"},{"$f":"VLOOKUP(A1430,Pilot,3,0)","v":"Dvůr Králové"},{"$f":"VLOOKUP(A1430,Pilot,4,0)","v":"CZ/C2"},"Safari 2021 - Duo Klub",{"$f":"VLOOKUP(F1430,Soutez!B:C,2,FALSE)","v":"CZ"},{"$f":"VLOOKUP(F1430,Soutez!B:D,3,FALSE)","v":2021},8,264,0.73,{"$f":"ROUND(J1430/MAX($J$1423:$J$1433)*10000*0.7+(MAX($I$1423:$I$1433)-I1430)/(MAX($I$1423:$I$1433)-1)*10000*0.3,0)","v":2647},1932,"x",null,"L-13 Blaník","VF",""]
["Martin Markl",1960,"M","Kolín","CZ/C1","Safari 2021 - Duo Klub",{"$f":"VLOOKUP(F1431,Soutez!B:C,2,FALSE)","v":"CZ"},{"$f":"VLOOKUP(F1431,Soutez!B:D,3,FALSE)","v":2021},9,242,{"$f":"VLOOKUP(F1431,Soutez,12,0)","v":0.73},2201,1607,"x",null,"L-13 Blaník","FI",""]
["Vladislav Cadsky",1975,"M","Kolín","CZ/C1","Safari 2021 - Duo Klub",{"$f":"VLOOKUP(F1432,Soutez!B:C,2,FALSE)","v":"CZ"},{"$f":"VLOOKUP(F1432,Soutez!B:D,3,FALSE)","v":2021},10,123,{"$f":"VLOOKUP(F1432,Soutez,12,0)","v":0.73},{"$f":"ROUND(J1432/MAX($J$1423:$J$1433)*10000*0.7+(MAX($I$1423:$I$1433)-I1432)/(MAX($I$1423:$I$1433)-1)*10000*0.3,0)","v":1114},{"$f":"ROUND(K1432*L1432,0)","v":813},"x",null,"L-13 Blaník","FL",""]
["A Hadacek",null,null,"Kolín",null,"Safari 2021 - Duo Klub",{"$f":"VLOOKUP(F1433,Soutez!B:C,2,FALSE)","v":"CZ"},{"$f":"VLOOKUP(F1433,Soutez!B:D,3,FALSE)","v":2021},11,0,0.73,0,0,null,null,"L-13 Blaník","FL","Není v databázi"]
["Michal Lesinger",{"$f":"VLOOKUP(A1434,Pilot,2,0)","v":1966},{"$f":"VLOOKUP(A1434,Pilot,5,0)","v":"M"},{"$f":"VLOOKUP(A1434,Pilot,3,0)","v":"Moravská Třebová"},{"$f":"VLOOKUP(A1434,Pilot,4,0)","v":"CZ/M"},"PMČR 2022 - Klub",{"$f":"VLOOKUP(F1434,Soutez!B:C,2,FALSE)","v":"CZ"},{"$f":"VLOOKUP(F1434,Soutez!B:D,3,FALSE)","v":2022},1,6305,{"$f":"VLOOKUP(F1434,Soutez,12,0)","v":1.0499999999999998},{"$f":"ROUND(J1434/MAX($J$1434:$J$1449)*10000*0.7+(MAX($I$1434:$I$1449)-I1434)/(MAX($I$1434:$I$1449)-1)*10000*0.3,0)","v":10000},{"$f":"ROUND(K1434*L1434,0)","v":10500},"x",null,"ASW20","LL",{"$f":"IF(ISERROR(VLOOKUP(A1434,Pilot,6,0)),\"Není v databázi\",VLOOKUP(A1434,Pilot,6,0))","v":""}]
["Tomas Suchanek",1964,"M","GAC Benešov","CZ/C1","PMČR 2022 - Klub",{"$f":"VLOOKUP(F1435,Soutez!B:C,2,FALSE)","v":"CZ"},{"$f":"VLOOKUP(F1435,Soutez!B:D,3,FALSE)","v":2022},2,6051,1.0499999999999998,9518,{"$f":"ROUND(K1435*L1435,0)","v":9994},"x",null,"ASW20","CX",""]
["Pavel Trybenekr",1990,"M","Hořice","CZ/C2","PMČR 2022 - Klub",{"$f":"VLOOKUP(F1436,Soutez!B:C,2,FALSE)","v":"CZ"},{"$f":"VLOOKUP(F1436,Soutez!B:D,3,FALSE)","v":2022},3,5758,1.0499999999999998,8993,9443,"x",null,"LS4","PF",""]
["Jiri Kusbach",1959,"M","Luhačovice","CZ/M","PMČR 2022 - Klub",{"$f":"VLOOKUP(F1437,Soutez!B:C,2,FALSE)","v":"CZ"},{"$f":"VLOOKUP(F1437,Soutez!B:D,3,FALSE)","v":2022},4,5754,1.0499999999999998,8788,9227,"x",null,"KKB15FES","B",""]
["David Darnady",1987,"M","Zbraslavice","CZ/C1","PMČR 2022 - Klub",{"$f":"VLOOKUP(F1438,Soutez!B:C,2,FALSE)","v":"CZ"},{"$f":"VLOOKUP(F1438,Soutez!B:D,3,FALSE)","v":2022},5,5734,1.0499999999999998,8566,8994,"x",null,"ASW20","EW",""]
["Ivan Novak",1962,"M","Mladá Boleslav","CZ/C1","PMČR 2022 - Klub",{"$f":"VLOOKUP(F1439,Soutez!B:C,2,FALSE)","v":"CZ"},{"$f":"VLOOKUP(F1439,Soutez!B:D,3,FALSE)","v":2022},6,5394,1.0499999999999998,7989,8388,null,null,"Std.Cirrus","DI",""]
["Jan Louda",1986,"M","Mladá Boleslav","CZ/C1","PMČR 2022 - Klub",{"$f":"VLOOKUP(F1440,Soutez!B:C,2,FALSE)","v":"CZ"},{"$f":"VLOOKUP(F1440,Soutez!B:D,3,FALSE)","v":2022},7,5158,1.0499999999999998,7527,{"$f":"ROUND(K1440*L1440,0)","v":7903},"x",null,"ASW19b","XS",""]
["Jan Vavrin",1987,"M","Vysoké Mýto","CZ/C2","PMČR 2022 - Klub",{"$f":"VLOOKUP(F1441,Soutez!B:C,2,FALSE)","v":"CZ"},{"$f":"VLOOKUP(F1441,Soutez!B:D,3,FALSE)","v":2022},8,5072,1.0499999999999998,7231,7593,"x",null,"ASW19b",56,""]
["Jan Stastny",2003,"M","Medlánky","CZ/M","PMČR 2022 - Klub",{"$f":"VLOOKUP(F1442,Soutez!B:C,2,FALSE)","v":"CZ"},{"$f":"VLOOKUP(F1442,Soutez!B:D,3,FALSE)","v":2022},9,5049,1.0499999999999998,7006,7356,"x",null,"LS4","IX","Junior v roce 2023"]
["Ivan Tvrdik",1997,"M","Letňany","CZ/C1","PMČR 2022 - Klub",{"$f":"VLOOKUP(F1443,Soutez!B:C,2,FALSE)","v":"CZ"},{"$f":"VLOOKUP(F1443,Soutez!B:D,3,FALSE)","v":2022},10,4729,1.0499999999999998,6450,6773,null,null,"ASW19b","KZ",""]
["Zdenek Balcarek",1967,"M","Kroměříž","CZ/M","PMČR 2022 - Klub",{"$f":"VLOOKUP(F1444,Soutez!B:C,2,FALSE)","v":"CZ"},{"$f":"VLOOKUP(F1444,Soutez!B:D,3,FALSE)","v":2022},11,4685,1.0499999999999998,6201,6511,null,null,"Discus b","OS",""]
["Slavomir Piskaty 84",1984,"M","Kunovice","CZ/M","PMČR 2022 - Klub",{"$f":"VLOOKUP(F1445,Soutez!B:C,2,FALSE)","v":"CZ"},{"$f":"VLOOKUP(F1445,Soutez!B:D,3,FALSE)","v":2022},12,4047,1.0499999999999998,5293,5558,"x",null,"Discus cs","KAL",""]
["Zdenek Boruvka 86",1986,"M","Jičín","CZ/C2","PMČR 2022 - Klub",{"$f":"VLOOKUP(F1446,Soutez!B:C,2,FALSE)","v":"CZ"},{"$f":"VLOOKUP(F1446,Soutez!B:D,3,FALSE)","v":2022},13,3810,1.0499999999999998,4830,5072,null,null,"Std.Cirrus","BJ",""]
["Martin Kriz",1968,"M","Přibyslav","CZ/C2","PMČR 2022 - Klub",{"$f":"VLOOKUP(F1447,Soutez!B:C,2,FALSE)","v":"CZ"},{"$f":"VLOOKUP(F1447,Soutez!B:D,3,FALSE)","v":2022},14,3583,1.0499999999999998,4378,{"$f":"ROUND(K1447*L1447,0)","v":4597},"x",null,"ASW20",67,""]
["Pavlina Horackova",1965,"F","Šumperk","CZ/M","PMČR 2022 - Klub",{"$f":"VLOOKUP(F1448,Soutez!B:C,2,FALSE)","v":"CZ"},{"$f":"VLOOKUP(F1448,Soutez!B:D,3,FALSE)","v":2022},15,3271,1.0499999999999998,3832,4024,null,null,"SZD48 Jantar Std2","SU",""]
["Daniel Ryba",1994,"M","Dvůr Králové","CZ/C2","PMČR 2022 - Klub",{"$f":"VLOOKUP(F1449,Soutez!B:C,2,FALSE)","v":"CZ"},{"$f":"VLOOKUP(F1449,Soutez!B:D,3,FALSE)","v":2022},16,2661,1.0499999999999998,2954,3102,"x",null,"ASW19b","L7",""]
["Miloslav Cink",1987,"M",{"$f":"VLOOKUP(A1450,Pilot,3,0)","v":"Letkov"},{"$f":"VLOOKUP(A1450,Pilot,4,0)","v":"CZ/C1"},"PMČR 2022 - Kombi 15m",{"$f":"VLOOKUP(F1450,Soutez!B:C,2,FALSE)","v":"CZ"},{"$f":"VLOOKUP(F1450,Soutez!B:D,3,FALSE)","v":2022},1,5461,1.06,{"$f":"ROUND(J1450/MAX($J$1450:$J$1462)*10000*0.7+(MAX($I$1450:$I$1462)-I1450)/(MAX($I$1450:$I$1462)-1)*10000*0.3,0)","v":10000},{"$f":"ROUND(K1450*L1450,0)","v":10600},"x",null,"LS8","JB",""]
["Pavel Louzecky",1957,"M","Přibyslav","CZ/C2","PMČR 2022 - Kombi 15m",{"$f":"VLOOKUP(F1451,Soutez!B:C,2,FALSE)","v":"CZ"},{"$f":"VLOOKUP(F1451,Soutez!B:D,3,FALSE)","v":2022},2,5261,1.06,9494,{"$f":"ROUND(K1451*L1451,0)","v":10064},"x",null,"LS8","FX",""]
["Jan Pavlik",1987,"M","Křižanov","CZ/M","PMČR 2022 - Kombi 15m",{"$f":"VLOOKUP(F1452,Soutez!B:C,2,FALSE)","v":"CZ"},{"$f":"VLOOKUP(F1452,Soutez!B:D,3,FALSE)","v":2022},3,5096,1.06,9032,9574,null,null,"LS8","JW",""]
["Barbora Moravcova",1994,"F","Zbraslavice","CZ/C1","PMČR 2022 - Kombi 15m",{"$f":"VLOOKUP(F1453,Soutez!B:C,2,FALSE)","v":"CZ"},{"$f":"VLOOKUP(F1453,Soutez!B:D,3,FALSE)","v":2022},4,5028,1.06,8695,9217,"x","x","LS8","EU",""]
["Jana Veprekova",1961,"F","Dvůr Králové","CZ/C2","PMČR 2022 - Kombi 15m",{"$f":"VLOOKUP(F1454,Soutez!B:C,2,FALSE)","v":"CZ"},{"$f":"VLOOKUP(F1454,Soutez!B:D,3,FALSE)","v":2022},5,4754,1.06,8094,8580,"x","x","LS8","W8",""]
["Lukas Kriz",2003,"M","Křižanov","CZ/M","PMČR 2022 - Kombi 15m",{"$f":"VLOOKUP(F1455,Soutez!B:C,2,FALSE)","v":"CZ"},{"$f":"VLOOKUP(F1455,Soutez!B:D,3,FALSE)","v":2022},6,4634,1.06,7690,8151,null,null,"LS8","SK","Junior v roce 2023"]
["Dana Novakova",1965,"F","Mladá Boleslav","CZ/C1","PMČR 2022 - Kombi 15m",{"$f":"VLOOKUP(F1456,Soutez!B:C,2,FALSE)","v":"CZ"},{"$f":"VLOOKUP(F1456,Soutez!B:D,3,FALSE)","v":2022},7,4525,1.06,7300,{"$f":"ROUND(K1456*L1456,0)","v":7738},null,null,"LS8","AU",""]
["Eduard Niko",1988,"M","Zbraslavice","CZ/C1","PMČR 2022 - Kombi 15m",{"$f":"VLOOKUP(F1457,Soutez!B:C,2,FALSE)","v":"CZ"},{"$f":"VLOOKUP(F1457,Soutez!B:D,3,FALSE)","v":2022},8,4496,1.06,7013,7434,"x",null,"DuoDiscus XLT","DUO",""]
["Jan Kotan",1982,"M","Letňany","CZ/C1","PMČR 2022 - Kombi 15m",{"$f":"VLOOKUP(F1458,Soutez!B:C,2,FALSE)","v":"CZ"},{"$f":"VLOOKUP(F1458,Soutez!B:D,3,FALSE)","v":2022},9,4230,1.06,6422,6807,null,null,"Ventus 2bx","YA",""]
["Hana Treslova",1991,"F","Raná","CZ/C2","PMČR 2022 - Kombi 15m",{"$f":"VLOOKUP(F1459,Soutez!B:C,2,FALSE)","v":"CZ"},{"$f":"VLOOKUP(F1459,Soutez!B:D,3,FALSE)","v":2022},10,4015,1.06,5896,6250,null,null,"Ventus 2ax","AX",""]
["Jan Zapletal",1997,"M","Břeclav","CZ/M","PMČR 2022 - Kombi 15m",{"$f":"VLOOKUP(F1460,Soutez!B:C,2,FALSE)","v":"CZ"},{"$f":"VLOOKUP(F1460,Soutez!B:D,3,FALSE)","v":2022},11,3833,1.06,5413,5738,null,null,"LS8","JS",""]
["Karel Novak",1993,"M","Mladá Boleslav","CZ/C1","PMČR 2022 - Kombi 15m",{"$f":"VLOOKUP(F1461,Soutez!B:C,2,FALSE)","v":"CZ"},{"$f":"VLOOKUP(F1461,Soutez!B:D,3,FALSE)","v":2022},12,3768,1.06,5080,5385,null,null,"JS3","ZE",""]
["Jana Treslova",1963,"F","Raná","CZ/C2","PMČR 2022 - Kombi 15m",{"$f":"VLOOKUP(F1462,Soutez!B:C,2,FALSE)","v":"CZ"},{"$f":"VLOOKUP(F1462,Soutez!B:D,3,FALSE)","v":2022},13,3421,1.06,4385,4648,null,null,"Discus 2a","GX",""]
["Radek Kucirek",1973,"M",{"$f":"VLOOKUP(A1463,Pilot,3,0)","v":"Havlíčkův Brod"},{"$f":"VLOOKUP(A1463,Pilot,4,0)","v":"CZ/C2"},"PMČR 2022 - Kombi Open",{"$f":"VLOOKUP(F1463,Soutez!B:C,2,FALSE)","v":"CZ"},{"$f":"VLOOKUP(F1463,Soutez!B:D,3,FALSE)","v":2022},1,5360,1.075,{"$f":"ROUND(J1463/MAX($J$1463:$J$1481)*10000*0.7+(MAX($I$1463:$I$1481)-I1463)/(MAX($I$1463:$I$1481)-1)*10000*0.3,0)","v":10000},{"$f":"ROUND(K1463*L1463,0)","v":10750},"x",null,"EB28 Edition","NA",""]
["Tomas Rendla",1973,"M","Zbraslavice","CZ/C1","PMČR 2022 - Kombi Open",{"$f":"VLOOKUP(F1464,Soutez!B:C,2,FALSE)","v":"CZ"},{"$f":"VLOOKUP(F1464,Soutez!B:D,3,FALSE)","v":2022},2,5341,1.075,9809,{"$f":"ROUND(K1464*L1464,0)","v":10545},"x",null,"EB29R","EX",""]
["Petr Hotovy",1958,"M","Česká Lípa","CZ/C2","PMČR 2022 - Kombi Open",{"$f":"VLOOKUP(F1465,Soutez!B:C,2,FALSE)","v":"CZ"},{"$f":"VLOOKUP(F1465,Soutez!B:D,3,FALSE)","v":2022},3,5163,1.075,9409,10115,"x",null,"JS1B","IGC",""]
["Alena Netusilova",1970,"F","Zbraslavice","CZ/C1","PMČR 2022 - Kombi Open",{"$f":"VLOOKUP(F1466,Soutez!B:C,2,FALSE)","v":"CZ"},{"$f":"VLOOKUP(F1466,Soutez!B:D,3,FALSE)","v":2022},4,5123,{"$f":"VLOOKUP(F1466,Soutez,12,0)","v":1.075},9190,9879,"x","x","JS1C 21m","JX",""]
["Radek Krejcirik",1991,"M","Hranice","CZ/M","PMČR 2022 - Kombi Open",{"$f":"VLOOKUP(F1467,Soutez!B:C,2,FALSE)","v":"CZ"},{"$f":"VLOOKUP(F1467,Soutez!B:D,3,FALSE)","v":2022},5,5093,1.075,8985,9659,null,null,"JS1C EVO","ZF",""]
["Petr Tichy",1973,"M","Zbraslavice","CZ/C1","PMČR 2022 - Kombi Open",{"$f":"VLOOKUP(F1468,Soutez!B:C,2,FALSE)","v":"CZ"},{"$f":"VLOOKUP(F1468,Soutez!B:D,3,FALSE)","v":2022},6,5083,1.075,8805,9465,"x",null,"ASG29E","AJ",""]
["Pavel Jiranek",1993,"M","Toužim","CZ/C1","PMČR 2022 - Kombi Open",{"$f":"VLOOKUP(F1469,Soutez!B:C,2,FALSE)","v":"CZ"},{"$f":"VLOOKUP(F1469,Soutez!B:D,3,FALSE)","v":2022},7,4963,1.075,8482,9118,"x",null,"Ventus c","CS",""]
["Vladimir Foltin",null,"M","Nitra","SK","PMČR 2022 - Kombi Open",{"$f":"VLOOKUP(F1470,Soutez!B:C,2,FALSE)","v":"CZ"},{"$f":"VLOOKUP(F1470,Soutez!B:D,3,FALSE)","v":2022},8,4841,1.075,8156,8768,null,null,"JS3",3,"Není v databázi"]
["Ondrej Bordovsky",1983,"M",{"$f":"VLOOKUP(A1471,Pilot,3,0)","v":"Krnov"},{"$f":"VLOOKUP(A1471,Pilot,4,0)","v":"CZ/M"},"PMČR 2022 - Kombi Open",{"$f":"VLOOKUP(F1471,Soutez!B:C,2,FALSE)","v":"CZ"},{"$f":"VLOOKUP(F1471,Soutez!B:D,3,FALSE)","v":2022},9,4650,1.075,7739,8319,"x",null,"Ventus c","AD",""]
["Marek Pechanec",1970,"M","Luhačovice","CZ/M","PMČR 2022 - Kombi Open",{"$f":"VLOOKUP(F1472,Soutez!B:C,2,FALSE)","v":"CZ"},{"$f":"VLOOKUP(F1472,Soutez!B:D,3,FALSE)","v":2022},10,4619,1.075,7532,8097,"x",null,"JS3","Q1",""]
["Jan Boruvka",1984,"M","Jičín","CZ/C2","PMČR 2022 - Kombi Open",{"$f":"VLOOKUP(F1473,Soutez!B:C,2,FALSE)","v":"CZ"},{"$f":"VLOOKUP(F1473,Soutez!B:D,3,FALSE)","v":2022},11,4567,1.075,7298,7845,null,null,"Ventus c","EG",""]
["Radek Zima 78",1978,"M","Hodkovice","CZ/C2","PMČR 2022 - Kombi Open",{"$f":"VLOOKUP(F1474,Soutez!B:C,2,FALSE)","v":"CZ"},{"$f":"VLOOKUP(F1474,Soutez!B:D,3,FALSE)","v":2022},12,4556,1.075,7117,7651,"x",null,"ASG29E","XZ",""]
["David Mach",1994,"M","Hronov","CZ/C2","PMČR 2022 - Kombi Open",{"$f":"VLOOKUP(F1475,Soutez!B:C,2,FALSE)","v":"CZ"},{"$f":"VLOOKUP(F1475,Soutez!B:D,3,FALSE)","v":2022},13,4188,1.075,6469,6954,null,null,"ASG29E","QZ",""]
["Ondrej Dupal",1966,"M","GAC Benešov","CZ/C1","PMČR 2022 - Kombi Open",{"$f":"VLOOKUP(F1476,Soutez!B:C,2,FALSE)","v":"CZ"},{"$f":"VLOOKUP(F1476,Soutez!B:D,3,FALSE)","v":2022},14,4080,1.075,6162,{"$f":"ROUND(K1476*L1476,0)","v":6624},null,null,"ASG29E","GO",""]
["Michaela Rendlova",2004,"F","Toužim","CZ/C1","PMČR 2022 - Kombi Open",{"$f":"VLOOKUP(F1477,Soutez!B:C,2,FALSE)","v":"CZ"},{"$f":"VLOOKUP(F1477,Soutez!B:D,3,FALSE)","v":2022},15,4050,1.075,5956,6403,null,null,"AS33ES","EA","Junior v roce 2023"]
["Petr Koutny",1971,"M","Křižanov","CZ/M","PMČR 2022 - Kombi Open",{"$f":"VLOOKUP(F1478,Soutez!B:C,2,FALSE)","v":"CZ"},{"$f":"VLOOKUP(F1478,Soutez!B:D,3,FALSE)","v":2022},16,3940,1.075,5646,6069,null,null,"JS3","XM",""]
["Martin Hrivna",1978,"M","Zbraslavice","CZ/C1","PMČR 2022 - Kombi Open",{"$f":"VLOOKUP(F1479,Soutez!B:C,2,FALSE)","v":"CZ"},{"$f":"VLOOKUP(F1479,Soutez!B:D,3,FALSE)","v":2022},17,3276,1.075,4612,4958,null,null,"ASG29E","NX",""]
["Petr Krejcirik",{"$f":"VLOOKUP(A1480,Pilot,2,0)","v":1960},{"$f":"VLOOKUP(A1480,Pilot,5,0)","v":"M"},"Hranice","CZ/M","PMČR 2022 - Kombi Open",{"$f":"VLOOKUP(F1480,Soutez!B:C,2,FALSE)","v":"CZ"},{"$f":"VLOOKUP(F1480,Soutez!B:D,3,FALSE)","v":2022},18,3100,1.075,4215,4531,null,null,"AS33ES",12,""]
["Takeshi Maruyama",null,"M","Japan Soaring Club","JP","PMČR 2022 - Kombi Open",{"$f":"VLOOKUP(F1481,Soutez!B:C,2,FALSE)","v":"CZ"},{"$f":"VLOOKUP(F1481,Soutez!B:D,3,FALSE)","v":2022},19,1373,1.075,1793,1927,null,null,"JS3","AXI","Není v databázi"]
["Josef Novotny",1983,"M",{"$f":"VLOOKUP(A1482,Pilot,3,0)","v":"Přibyslav"},{"$f":"VLOOKUP(A1482,Pilot,4,0)","v":"CZ/C2"},"JPJ 2022 - Klub",{"$f":"VLOOKUP(F1482,Soutez!B:C,2,FALSE)","v":"CZ"},{"$f":"VLOOKUP(F1482,Soutez!B:D,3,FALSE)","v":2022},1,3897,0.90500000000000003,{"$f":"ROUND(J1482/MAX($J$1482:$J$1520)*10000*0.7+(MAX($I$1482:$I$1520)-I1482)/(MAX($I$1482:$I$1520)-1)*10000*0.3,0)","v":10000},{"$f":"ROUND(K1482*L1482,0)","v":9050},"x",null,"Std. Cirrus","AW",""]
["Martin Ficnar",1971,"M","Šumperk","CZ/M","JPJ 2022 - Klub",{"$f":"VLOOKUP(F1483,Soutez!B:C,2,FALSE)","v":"CZ"},{"$f":"VLOOKUP(F1483,Soutez!B:D,3,FALSE)","v":2022},2,3838,0.90500000000000003,9815,{"$f":"ROUND(K1483*L1483,0)","v":8883},"x",null,"LS-3a","S20",{"$f":"IF(ISERROR(VLOOKUP(A1483,Pilot,6,0)),\"Není v databázi\",VLOOKUP(A1483,Pilot,6,0))","v":""}]
["Josef Novak",1981,"M","Kunovice","CZ/M","JPJ 2022 - Klub",{"$f":"VLOOKUP(F1484,Soutez!B:C,2,FALSE)","v":"CZ"},{"$f":"VLOOKUP(F1484,Soutez!B:D,3,FALSE)","v":2022},3,3745,0.90500000000000003,9569,8660,"x",null,"LS-1f","JT",""]
["Jan Podhrazsky",1976,"M","Šumperk","CZ/M","JPJ 2022 - Klub",{"$f":"VLOOKUP(F1485,Soutez!B:C,2,FALSE)","v":"CZ"},{"$f":"VLOOKUP(F1485,Soutez!B:D,3,FALSE)","v":2022},4,3657,0.90500000000000003,9332,8445,"x",null,"Discus b","SJ",""]
["Rene Hudak",1972,"M","Kunovice","CZ/M","JPJ 2022 - Klub",{"$f":"VLOOKUP(F1486,Soutez!B:C,2,FALSE)","v":"CZ"},{"$f":"VLOOKUP(F1486,Soutez!B:D,3,FALSE)","v":2022},5,3627,0.90500000000000003,9199,8325,"x",null,"Std. Cirrus WL","NK",""]
["Radim Sobek",1977,"M","Hranice","CZ/M","JPJ 2022 - Klub",{"$f":"VLOOKUP(F1487,Soutez!B:C,2,FALSE)","v":"CZ"},{"$f":"VLOOKUP(F1487,Soutez!B:D,3,FALSE)","v":2022},6,3620,0.90500000000000003,9108,8243,"x",null,"TST-10M Atlas",7,""]
["Jaroslav Buryan",1953,"M","Zábřeh","CZ/M","JPJ 2022 - Klub",{"$f":"VLOOKUP(F1488,Soutez!B:C,2,FALSE)","v":"CZ"},{"$f":"VLOOKUP(F1488,Soutez!B:D,3,FALSE)","v":2022},7,3579,0.90500000000000003,8955,8104,"x",null,"ASW-20 (A) WL","NS",""]
["Martin Urner",1974,"M","Letňany","CZ/C1","JPJ 2022 - Klub",{"$f":"VLOOKUP(F1489,Soutez!B:C,2,FALSE)","v":"CZ"},{"$f":"VLOOKUP(F1489,Soutez!B:D,3,FALSE)","v":2022},8,3575,0.90500000000000003,8869,8026,"x",null,"ASW-15B","JJ",""]
["Rostislav Stryk",1972,"M","Frýdlant","CZ/M","JPJ 2022 - Klub",{"$f":"VLOOKUP(F1490,Soutez!B:C,2,FALSE)","v":"CZ"},{"$f":"VLOOKUP(F1490,Soutez!B:D,3,FALSE)","v":2022},9,3412,0.90500000000000003,8497,7690,"x",null,"Std. Cirrus",22,""]
["Martin Kriz",1968,"M","Přibyslav","CZ/C2","JPJ 2022 - Klub",{"$f":"VLOOKUP(F1491,Soutez!B:C,2,FALSE)","v":"CZ"},{"$f":"VLOOKUP(F1491,Soutez!B:D,3,FALSE)","v":2022},10,3342,0.90500000000000003,8293,7505,"x",null,"ASW-20 (A) WL",67,""]
["Stepan Obrovsky",1990,"M","Frýdlant","CZ/M","JPJ 2022 - Klub",{"$f":"VLOOKUP(F1492,Soutez!B:C,2,FALSE)","v":"CZ"},{"$f":"VLOOKUP(F1492,Soutez!B:D,3,FALSE)","v":2022},11,3306,0.90500000000000003,8149,{"$f":"ROUND(K1492*L1492,0)","v":7375},"x",null,"LS-1f","EM",""]
["Martin Svarc",1981,"M","Olomouc","CZ/M","JPJ 2022 - Klub",{"$f":"VLOOKUP(F1493,Soutez!B:C,2,FALSE)","v":"CZ"},{"$f":"VLOOKUP(F1493,Soutez!B:D,3,FALSE)","v":2022},12,3089,0.90500000000000003,7680,6950,"x",null,"DG-101 G","IL",""]
["Petr Kolomaznik",1981,"M","Šumperk","CZ/M","JPJ 2022 - Klub",{"$f":"VLOOKUP(F1494,Soutez!B:C,2,FALSE)","v":"CZ"},{"$f":"VLOOKUP(F1494,Soutez!B:D,3,FALSE)","v":2022},13,3014,0.90500000000000003,7467,6758,"x",null,"Discus b","VE",""]
["Vojtech Novotny",1992,"M","Kralupy","CZ/C1","JPJ 2022 - Klub",{"$f":"VLOOKUP(F1495,Soutez!B:C,2,FALSE)","v":"CZ"},{"$f":"VLOOKUP(F1495,Soutez!B:D,3,FALSE)","v":2022},14,2991,0.90500000000000003,7346,6648,"x",null,"LS-1f","EF",""]
["Petr Havrlant",1965,"M","Šumperk","CZ/M","JPJ 2022 - Klub",{"$f":"VLOOKUP(F1496,Soutez!B:C,2,FALSE)","v":"CZ"},{"$f":"VLOOKUP(F1496,Soutez!B:D,3,FALSE)","v":2022},15,2942,0.90500000000000003,7179,6497,"x",null,"ASW-15B","Q1",""]
["David Vrchota",1976,"M","Jaroměř","CZ/C2","JPJ 2022 - Klub",{"$f":"VLOOKUP(F1497,Soutez!B:C,2,FALSE)","v":"CZ"},{"$f":"VLOOKUP(F1497,Soutez!B:D,3,FALSE)","v":2022},16,2904,0.90500000000000003,7032,6364,null,null,"Janus b","BV",""]
["Jiri Koudela",1974,"M","Vyškov","CZ/M","JPJ 2022 - Klub",{"$f":"VLOOKUP(F1498,Soutez!B:C,2,FALSE)","v":"CZ"},{"$f":"VLOOKUP(F1498,Soutez!B:D,3,FALSE)","v":2022},17,2799,{"$f":"VLOOKUP(F1498,Soutez,12,0)","v":0.90500000000000003},6765,6122,"x",null,"ASW-19B","JK",""]
["Petr Lonsky",1965,"M","Toužim","CZ/C1","JPJ 2022 - Klub",{"$f":"VLOOKUP(F1499,Soutez!B:C,2,FALSE)","v":"CZ"},{"$f":"VLOOKUP(F1499,Soutez!B:D,3,FALSE)","v":2022},18,2778,0.90500000000000003,6648,6016,"x",null,"Cirrus","JP",""]
["Karel Horalek",1976,"M","Olomouc","CZ/M","JPJ 2022 - Klub",{"$f":"VLOOKUP(F1500,Soutez!B:C,2,FALSE)","v":"CZ"},{"$f":"VLOOKUP(F1500,Soutez!B:D,3,FALSE)","v":2022},19,2758,0.90500000000000003,6533,5912,"x",null,"LS-3","Y1",""]
["Jiri Prochazka",1971,"M","Toužim","CZ/C1","JPJ 2022 - Klub",{"$f":"VLOOKUP(F1501,Soutez!B:C,2,FALSE)","v":"CZ"},{"$f":"VLOOKUP(F1501,Soutez!B:D,3,FALSE)","v":2022},20,2727,0.90500000000000003,6398,5790,"x",null,"Janus CM","J59",""]
["Jan Vozeh",1995,"M","Rakovník","CZ/C1","JPJ 2022 - Klub",{"$f":"VLOOKUP(F1502,Soutez!B:C,2,FALSE)","v":"CZ"},{"$f":"VLOOKUP(F1502,Soutez!B:D,3,FALSE)","v":2022},21,2714,0.90500000000000003,6296,5698,"x",null,"Std. Cirrus","OG",""]
["Roman Schotli",1970,"M","Hranice","CZ/M","JPJ 2022 - Klub",{"$f":"VLOOKUP(F1503,Soutez!B:C,2,FALSE)","v":"CZ"},{"$f":"VLOOKUP(F1503,Soutez!B:D,3,FALSE)","v":2022},22,2573,0.90500000000000003,5964,5397,"x",null,"ASW-19B",19,""]
["Jakub Kohn",1992,"M","Prostějov","CZ/M","JPJ 2022 - Klub",{"$f":"VLOOKUP(F1504,Soutez!B:C,2,FALSE)","v":"CZ"},{"$f":"VLOOKUP(F1504,Soutez!B:D,3,FALSE)","v":2022},23,2410,0.90500000000000003,5592,5061,"x",null,"ASW-15B","FK",""]
["Jan Zezula",1979,"M","Letňany","CZ/C1","JPJ 2022 - Klub",{"$f":"VLOOKUP(F1505,Soutez!B:C,2,FALSE)","v":"CZ"},{"$f":"VLOOKUP(F1505,Soutez!B:D,3,FALSE)","v":2022},24,2384,0.90500000000000003,5466,4947,"x",null,"ASW-19B","HD",""]
["Boris Bachraty",1974,"M",{"$f":"VLOOKUP(A1506,Pilot,3,0)","v":"Kyjov"},{"$f":"VLOOKUP(A1506,Pilot,4,0)","v":"CZ/M"},"JPJ 2022 - Klub",{"$f":"VLOOKUP(F1506,Soutez!B:C,2,FALSE)","v":"CZ"},{"$f":"VLOOKUP(F1506,Soutez!B:D,3,FALSE)","v":2022},25,2256,0.90500000000000003,5158,4668,"x",null,"Std. Cirrus",90,""]
["Radim Tomala",1972,"M","Prostějov","CZ/M","JPJ 2022 - Klub",{"$f":"VLOOKUP(F1507,Soutez!B:C,2,FALSE)","v":"CZ"},{"$f":"VLOOKUP(F1507,Soutez!B:D,3,FALSE)","v":2022},26,2106,0.90500000000000003,4809,4352,"x",null,"Std. Cirrus","RT",""]
["Peter Kaspar",1980,"M","Vyškov","CZ/M","JPJ 2022 - Klub",{"$f":"VLOOKUP(F1508,Soutez!B:C,2,FALSE)","v":"CZ"},{"$f":"VLOOKUP(F1508,Soutez!B:D,3,FALSE)","v":2022},27,2003,0.90500000000000003,4545,4113,"x",null,"G-102 Astir 77","AP",""]
["Lukas Petrzela",1987,"M","Olomouc","CZ/M","JPJ 2022 - Klub",{"$f":"VLOOKUP(F1509,Soutez!B:C,2,FALSE)","v":"CZ"},{"$f":"VLOOKUP(F1509,Soutez!B:D,3,FALSE)","v":2022},28,1740,0.90500000000000003,3994,3615,"x",null,"G-102 Astir CS","AL",""]
["Adam Sugl",1987,"M","Vyškov","CZ/M","JPJ 2022 - Klub",{"$f":"VLOOKUP(F1510,Soutez!B:C,2,FALSE)","v":"CZ"},{"$f":"VLOOKUP(F1510,Soutez!B:D,3,FALSE)","v":2022},29,1649,0.90500000000000003,3751,3395,"x",null,"Std. Cirrus","GT",""]
["Yvona Vyhnankova",1963,"F","Olomouc","CZ/M","JPJ 2022 - Klub",{"$f":"VLOOKUP(F1511,Soutez!B:C,2,FALSE)","v":"CZ"},{"$f":"VLOOKUP(F1511,Soutez!B:D,3,FALSE)","v":2022},30,1480,0.90500000000000003,3369,3049,"x","x","ASW-15","YZ",""]
["Michal Linhart",1982,"M","Vyškov","CZ/M","JPJ 2022 - Klub",{"$f":"VLOOKUP(F1512,Soutez!B:C,2,FALSE)","v":"CZ"},{"$f":"VLOOKUP(F1512,Soutez!B:D,3,FALSE)","v":2022},31,1429,0.90500000000000003,3198,2894,"x",null,"DG-1000S 18m",66,""]
["Jan Blaha",1983,"M","Kyjov","CZ/M","JPJ 2022 - Klub",{"$f":"VLOOKUP(F1513,Soutez!B:C,2,FALSE)","v":"CZ"},{"$f":"VLOOKUP(F1513,Soutez!B:D,3,FALSE)","v":2022},32,1384,0.90500000000000003,3039,2750,"x",null,"ASW-15B","E",""]
["Jiri Vavrina",1958,"M","Kyjov","CZ/M","JPJ 2022 - Klub",{"$f":"VLOOKUP(F1514,Soutez!B:C,2,FALSE)","v":"CZ"},{"$f":"VLOOKUP(F1514,Soutez!B:D,3,FALSE)","v":2022},33,1322,0.90500000000000003,2848,2577,"x",null,"LS-1f","BS",""]
["Ludek Mikl",1963,"M",{"$f":"VLOOKUP(A1515,Pilot,3,0)","v":"Šumperk"},{"$f":"VLOOKUP(A1515,Pilot,4,0)","v":"CZ/M"},"JPJ 2022 - Klub",{"$f":"VLOOKUP(F1515,Soutez!B:C,2,FALSE)","v":"CZ"},{"$f":"VLOOKUP(F1515,Soutez!B:D,3,FALSE)","v":2022},34,1292,0.90500000000000003,2715,2457,"x",null,"Std. Cirrus",16,""]
["Karel Ertl",1939,"M","LK Břeclav","CZ/M","JPJ 2022 - Klub",{"$f":"VLOOKUP(F1516,Soutez!B:C,2,FALSE)","v":"CZ"},{"$f":"VLOOKUP(F1516,Soutez!B:D,3,FALSE)","v":2022},35,1228,0.90500000000000003,2522,2282,"x",null,"TST-10M Atlas","KE",""]
["Miroslav Mancik",1976,"M","Kyjov","CZ/M","JPJ 2022 - Klub",{"$f":"VLOOKUP(F1517,Soutez!B:C,2,FALSE)","v":"CZ"},{"$f":"VLOOKUP(F1517,Soutez!B:D,3,FALSE)","v":2022},36,1014,0.90500000000000003,2058,1862,"x",null,"G-103 Twin Astir","KW",""]
["Lukas Zach",1987,"M","Vyškov","CZ/M","JPJ 2022 - Klub",{"$f":"VLOOKUP(F1518,Soutez!B:C,2,FALSE)","v":"CZ"},{"$f":"VLOOKUP(F1518,Soutez!B:D,3,FALSE)","v":2022},37,937,0.90500000000000003,1841,{"$f":"ROUND(K1518*L1518,0)","v":1666},"x",null,"G-102 Astir 77","AS",""]
["Josef Hlusek",1993,"M","Kunovice","CZ/M","JPJ 2022 - Klub",{"$f":"VLOOKUP(F1519,Soutez!B:C,2,FALSE)","v":"CZ"},{"$f":"VLOOKUP(F1519,Soutez!B:D,3,FALSE)","v":2022},38,806,0.90500000000000003,1527,1382,"x",null,"Std. Cirrus","WO",""]
["Jan Florian",1992,"M","Zbraslavice","CZ/C1","JPJ 2022 - Klub",{"$f":"VLOOKUP(F1520,Soutez!B:C,2,FALSE)","v":"CZ"},{"$f":"VLOOKUP(F1520,Soutez!B:D,3,FALSE)","v":2022},39,667,0.90500000000000003,1198,1084,null,null,"Std. Cirrus","C1",""]
["Radek Hybl",1980,"M",{"$f":"VLOOKUP(A1521,Pilot,3,0)","v":"Šumperk"},{"$f":"VLOOKUP(A1521,Pilot,4,0)","v":"CZ/M"},"JPJ 2022 - Kombi",{"$f":"VLOOKUP(F1521,Soutez!B:C,2,FALSE)","v":"CZ"},{"$f":"VLOOKUP(F1521,Soutez!B:D,3,FALSE)","v":2022},1,4147,0.91,{"$f":"ROUND(J1521/MAX($J$1521:$J$1540)*10000*0.7+(MAX($I$1521:$I$1540)-I1521)/(MAX($I$1521:$I$1540)-1)*10000*0.3,0)","v":10000},{"$f":"ROUND(K1521*L1521,0)","v":9100},"x",null,"Ventus cm 17,6m","IHH",""]
["Frantisek Vancura",1966,"M","Hranice","CZ/M","JPJ 2022 - Kombi",{"$f":"VLOOKUP(F1522,Soutez!B:C,2,FALSE)","v":"CZ"},{"$f":"VLOOKUP(F1522,Soutez!B:D,3,FALSE)","v":2022},2,4071,0.91,9714,{"$f":"ROUND(K1522*L1522,0)","v":8840},"x",null,"Nimbus 3T 24,5m WL 750kg","A1",""]
["Michal Cechmanek",1978,"M","Luhačovice","CZ/M","JPJ 2022 - Kombi",{"$f":"VLOOKUP(F1523,Soutez!B:C,2,FALSE)","v":"CZ"},{"$f":"VLOOKUP(F1523,Soutez!B:D,3,FALSE)","v":2022},3,4020,0.91,9470,8618,"x",null,"ASW-20 L+F 16,6m","MK",""]
["Jan Dersak 69",1969,"M","Kralupy","CZ/C1","JPJ 2022 - Kombi",{"$f":"VLOOKUP(F1524,Soutez!B:C,2,FALSE)","v":"CZ"},{"$f":"VLOOKUP(F1524,Soutez!B:D,3,FALSE)","v":2022},4,3962,0.91,9214,8385,"x",null,"HpH 304JS 18m 573kg","DJ",""]
["Marek Blatak",1969,"M","Šumperk","CZ/M","JPJ 2022 - Kombi",{"$f":"VLOOKUP(F1525,Soutez!B:C,2,FALSE)","v":"CZ"},{"$f":"VLOOKUP(F1525,Soutez!B:D,3,FALSE)","v":2022},5,3911,0.91,8970,8163,"x",null,"DG-808 S 18m WL","W",""]
["Jiri Steiger",1969,"M","Olomouc","CZ/M","JPJ 2022 - Kombi",{"$f":"VLOOKUP(F1526,Soutez!B:C,2,FALSE)","v":"CZ"},{"$f":"VLOOKUP(F1526,Soutez!B:D,3,FALSE)","v":2022},6,3887,0.91,8772,7983,"x",null,"Ventus 3M 18m","JS",""]
["Jan Simon",1970,"M","Kralupy","CZ/C1","JPJ 2022 - Kombi",{"$f":"VLOOKUP(F1527,Soutez!B:C,2,FALSE)","v":"CZ"},{"$f":"VLOOKUP(F1527,Soutez!B:D,3,FALSE)","v":2022},7,3440,0.91,7859,7152,"x",null,"Duo Discus T 700kg","ZS",""]
["Ladislav Jozsa",1981,"M","Medlánky","CZ/M","JPJ 2022 - Kombi",{"$f":"VLOOKUP(F1528,Soutez!B:C,2,FALSE)","v":"CZ"},{"$f":"VLOOKUP(F1528,Soutez!B:D,3,FALSE)","v":2022},8,3359,0.91,7565,6884,"x",null,"Ventus c 17,6m","WW",""]
["Zdenek Schenk",1972,"M","Hranice","CZ/M","JPJ 2022 - Kombi",{"$f":"VLOOKUP(F1529,Soutez!B:C,2,FALSE)","v":"CZ"},{"$f":"VLOOKUP(F1529,Soutez!B:D,3,FALSE)","v":2022},9,3304,0.91,7314,6656,"x",null,"Ventus cm 17,6m","ŠNeK",""]
["Miroslav Koci",1961,"M","Žamberk","CZ/C2","JPJ 2022 - Kombi",{"$f":"VLOOKUP(F1530,Soutez!B:C,2,FALSE)","v":"CZ"},{"$f":"VLOOKUP(F1530,Soutez!B:D,3,FALSE)","v":2022},10,3089,{"$f":"VLOOKUP(F1530,Soutez,12,0)","v":0.91},6793,6182,"x",null,"Ventus 2cxm 18m 565kg","E8",""]
["Tomas Prikryl",1973,"M","Vyškov","CZ/M","JPJ 2022 - Kombi",{"$f":"VLOOKUP(F1531,Soutez!B:C,2,FALSE)","v":"CZ"},{"$f":"VLOOKUP(F1531,Soutez!B:D,3,FALSE)","v":2022},11,2976,0.91,6444,5864,"x",null,"Ventus 2cm 18m 525kg","FN",""]
["Petr Babak",1973,"M","Hořice","CZ/C2","JPJ 2022 - Kombi",{"$f":"VLOOKUP(F1532,Soutez!B:C,2,FALSE)","v":"CZ"},{"$f":"VLOOKUP(F1532,Soutez!B:D,3,FALSE)","v":2022},12,2747,0.91,5900,5369,null,null,"Ventus c 17,6m","LS",""]
["Antonin Kutalek",1943,"M","Zábřeh","CZ/M","JPJ 2022 - Kombi",{"$f":"VLOOKUP(F1533,Soutez!B:C,2,FALSE)","v":"CZ"},{"$f":"VLOOKUP(F1533,Soutez!B:D,3,FALSE)","v":2022},13,2675,0.91,5621,{"$f":"ROUND(K1533*L1533,0)","v":5115},"x",null,"LAK-17AT 18m","GLK",""]
["Albrecht Beat",{"$f":"VLOOKUP(A1534,Pilot,2,0)","v":1953},{"$f":"VLOOKUP(A1534,Pilot,5,0)","v":"M"},"Šumperk","CZ/M","JPJ 2022 - Kombi",{"$f":"VLOOKUP(F1534,Soutez!B:C,2,FALSE)","v":"CZ"},{"$f":"VLOOKUP(F1534,Soutez!B:D,3,FALSE)","v":2022},14,2550,0.91,5252,4779,"x",null,"LS-8-18 18m","GL",""]
["Miroslav Sklenar",1964,"M","Žamberk","CZ/C2","JPJ 2022 - Kombi",{"$f":"VLOOKUP(F1535,Soutez!B:C,2,FALSE)","v":"CZ"},{"$f":"VLOOKUP(F1535,Soutez!B:D,3,FALSE)","v":2022},15,2475,0.91,4967,4520,"x",null,"Duo Discus 700kg","VP",""]
["Pavel Haluza",1966,"M","Prostějov","CZ/M","JPJ 2022 - Kombi",{"$f":"VLOOKUP(F1536,Soutez!B:C,2,FALSE)","v":"CZ"},{"$f":"VLOOKUP(F1536,Soutez!B:D,3,FALSE)","v":2022},16,2223,0.91,4384,3989,"x",null,"Nimbus 2b","HT",""]
["Vit Grossmann",1977,"M","Hranice","CZ/M","JPJ 2022 - Kombi",{"$f":"VLOOKUP(F1537,Soutez!B:C,2,FALSE)","v":"CZ"},{"$f":"VLOOKUP(F1537,Soutez!B:D,3,FALSE)","v":2022},17,2096,0.91,4012,3651,"x",null,"Duo Discus 700kg","OK",""]
["Michal Hemrle",1974,"M","Česká Lípa","CZ/C2","JPJ 2022 - Kombi",{"$f":"VLOOKUP(F1538,Soutez!B:C,2,FALSE)","v":"CZ"},{"$f":"VLOOKUP(F1538,Soutez!B:D,3,FALSE)","v":2022},18,1826,0.91,3398,3092,null,null,"ASG-29E 18m","ET",""]
["Olga Mokosova",1970,"F","Jihlava","CZ/M","JPJ 2022 - Kombi",{"$f":"VLOOKUP(F1539,Soutez!B:C,2,FALSE)","v":"CZ"},{"$f":"VLOOKUP(F1539,Soutez!B:D,3,FALSE)","v":2022},19,1736,0.91,3088,2810,"x","x","LS-6c 18m WL","MM",""]
["Pavel Handl",1971,"M","Kroměříž","CZ/M","JPJ 2022 - Kombi",{"$f":"VLOOKUP(F1540,Soutez!B:C,2,FALSE)","v":"CZ"},{"$f":"VLOOKUP(F1540,Soutez!B:D,3,FALSE)","v":2022},20,641,0.91,1082,985,"x",null,"Ventus 2cm 18m 525kg","VJ",""]
["Michal Lesinger",1966,"M",{"$f":"VLOOKUP(A1541,Pilot,3,0)","v":"Moravská Třebová"},{"$f":"VLOOKUP(A1541,Pilot,4,0)","v":"CZ/M"},"PMRg 2022 - Klub",{"$f":"VLOOKUP(F1541,Soutez!B:C,2,FALSE)","v":"CZ"},{"$f":"VLOOKUP(F1541,Soutez!B:D,3,FALSE)","v":2022},1,3948,0.91500000000000004,{"$f":"ROUND(J1541/MAX($J$1541:$J$1553)*10000*0.7+(MAX($I$1541:$I$1553)-I1541)/(MAX($I$1541:$I$1553)-1)*10000*0.3,0)","v":10000},{"$f":"ROUND(K1541*L1541,0)","v":9150},null,null,"ASW 20","LL",{"$f":"IF(ISERROR(VLOOKUP(A1541,Pilot,6,0)),\"Není v databázi\",VLOOKUP(A1541,Pilot,6,0))","v":""}]
["Jiri Kusbach",1959,"M","Luhačovice","CZ/M","PMRg 2022 - Klub",{"$f":"VLOOKUP(F1542,Soutez!B:C,2,FALSE)","v":"CZ"},{"$f":"VLOOKUP(F1542,Soutez!B:D,3,FALSE)","v":2022},2,3831,0.91500000000000004,9543,{"$f":"ROUND(K1542*L1542,0)","v":8732},null,null,"KKB-15E FES","B",""]
["Jan Smaha",1958,"M","Česká Lípa","CZ/C2","PMRg 2022 - Klub",{"$f":"VLOOKUP(F1543,Soutez!B:C,2,FALSE)","v":"CZ"},{"$f":"VLOOKUP(F1543,Soutez!B:D,3,FALSE)","v":2022},3,3458,0.91500000000000004,8631,7897,"x",null,"ASW 15 B","CW",""]
["Lukas Maly",1998,"M","Vysoké Mýto","CZ/C2","PMRg 2022 - Klub",{"$f":"VLOOKUP(F1544,Soutez!B:C,2,FALSE)","v":"CZ"},{"$f":"VLOOKUP(F1544,Soutez!B:D,3,FALSE)","v":2022},4,3447,0.91500000000000004,8362,7651,"x",null,"Discus b",65,"Junior v roce 2023"]
["Jiri Stepanek",1956,"M","Moravská Třebová","CZ/M","PMRg 2022 - Klub",{"$f":"VLOOKUP(F1545,Soutez!B:C,2,FALSE)","v":"CZ"},{"$f":"VLOOKUP(F1545,Soutez!B:D,3,FALSE)","v":2022},5,3387,0.91500000000000004,8005,7325,"x",null,"ASW 15 B","LE",""]
["Martin Stepanek",1987,"M","Moravská Třebová","CZ/M","PMRg 2022 - Klub",{"$f":"VLOOKUP(F1546,Soutez!B:C,2,FALSE)","v":"CZ"},{"$f":"VLOOKUP(F1546,Soutez!B:D,3,FALSE)","v":2022},6,3361,0.91500000000000004,7709,{"$f":"ROUND(K1546*L1546,0)","v":7054},"x",null,"ASW 19 B","AE",""]
["Tomas Hynek",2002,"M","Dvůr Králové","CZ/C2","PMRg 2022 - Klub",{"$f":"VLOOKUP(F1547,Soutez!B:C,2,FALSE)","v":"CZ"},{"$f":"VLOOKUP(F1547,Soutez!B:D,3,FALSE)","v":2022},7,3190,0.91500000000000004,7156,6548,null,null,"DG 200","HL","Junior v roce 2023"]
["Pavel Koudelka",1973,"M","Křižanov","CZ/M","PMRg 2022 - Klub",{"$f":"VLOOKUP(F1548,Soutez!B:C,2,FALSE)","v":"CZ"},{"$f":"VLOOKUP(F1548,Soutez!B:D,3,FALSE)","v":2022},8,3156,0.91500000000000004,6846,6264,"x",null,"Std. Cirrus","ZL",""]
["Michaela Krizova",2001,"F","Přibyslav","CZ/C2","PMRg 2022 - Klub",{"$f":"VLOOKUP(F1549,Soutez!B:C,2,FALSE)","v":"CZ"},{"$f":"VLOOKUP(F1549,Soutez!B:D,3,FALSE)","v":2022},9,2951,0.91500000000000004,6232,5702,null,null,"ASW 15 B","BE","Junior v roce 2023"]
["Pavlina Horackova",1965,"F","Šumperk","CZ/M","PMRg 2022 - Klub",{"$f":"VLOOKUP(F1550,Soutez!B:C,2,FALSE)","v":"CZ"},{"$f":"VLOOKUP(F1550,Soutez!B:D,3,FALSE)","v":2022},10,2618,0.91500000000000004,5392,4934,null,null,"SZD-48 Jantar Std. 2","SU",""]
["Katerina Vancurova",2002,"F","Hranice","CZ/M","PMRg 2022 - Klub",{"$f":"VLOOKUP(F1551,Soutez!B:C,2,FALSE)","v":"CZ"},{"$f":"VLOOKUP(F1551,Soutez!B:D,3,FALSE)","v":2022},11,2331,0.91500000000000004,4633,4239,"x","x","Discus b","HD","Junior v roce 2023"]
["Jan Florian",1992,"M","Zbraslavice","CZ/C1","PMRg 2022 - Klub",{"$f":"VLOOKUP(F1552,Soutez!B:C,2,FALSE)","v":"CZ"},{"$f":"VLOOKUP(F1552,Soutez!B:D,3,FALSE)","v":2022},12,2188,0.91500000000000004,4129,3778,null,null,"Std. Cirrus","C1",""]
["Jiri Krofta",1988,"M","Hosín","CZ/C1","PMRg 2022 - Klub",{"$f":"VLOOKUP(F1553,Soutez!B:C,2,FALSE)","v":"CZ"},{"$f":"VLOOKUP(F1553,Soutez!B:D,3,FALSE)","v":2022},13,1904,0.91500000000000004,3376,3089,"x",null,"Std. Cirrus","YU",""]
["Lukas Capek",1992,"M",{"$f":"VLOOKUP(A1554,Pilot,3,0)","v":"Letňany"},{"$f":"VLOOKUP(A1554,Pilot,4,0)","v":"CZ/C1"},"PMRg 2022 - Kombi",{"$f":"VLOOKUP(F1554,Soutez!B:C,2,FALSE)","v":"CZ"},{"$f":"VLOOKUP(F1554,Soutez!B:D,3,FALSE)","v":2022},1,3354,0.91,{"$f":"ROUND(J1554/MAX($J$1554:$J$1564)*10000*0.7+(MAX($I$1554:$I$1564)-I1554)/(MAX($I$1554:$I$1564)-1)*10000*0.3,0)","v":10000},{"$f":"ROUND(K1554*L1554,0)","v":9100},"x",null,"Mosquito","LC",""]
["Jaroslav Potmesil",1964,"M","Zbraslavice","CZ/C1","PMRg 2022 - Kombi",{"$f":"VLOOKUP(F1555,Soutez!B:C,2,FALSE)","v":"CZ"},{"$f":"VLOOKUP(F1555,Soutez!B:D,3,FALSE)","v":2022},2,2942,0.91,8807,{"$f":"ROUND(K1555*L1555,0)","v":8014},"x",null,"HpH 304 TS Twin Shark","TS",""]
["Petr Hora",1948,"M","Hodkovice","CZ/C2","PMRg 2022 - Kombi",{"$f":"VLOOKUP(F1556,Soutez!B:C,2,FALSE)","v":"CZ"},{"$f":"VLOOKUP(F1556,Soutez!B:D,3,FALSE)","v":2022},3,2515,0.91,7582,6900,"x",null,"HpH 304 MS Shark","B1",""]
["Tomas Kulhavy",2001,"M","Liberec","CZ/C2","PMRg 2022 - Kombi",{"$f":"VLOOKUP(F1557,Soutez!B:C,2,FALSE)","v":"CZ"},{"$f":"VLOOKUP(F1557,Soutez!B:D,3,FALSE)","v":2022},4,2500,0.91,7218,6568,"x",null,"HpH 304 CZ 17.4m","IH","Junior v roce 2023"]
["Antonin Kutalek",1943,"M","Zábřeh","CZ/M","PMRg 2022 - Kombi",{"$f":"VLOOKUP(F1558,Soutez!B:C,2,FALSE)","v":"CZ"},{"$f":"VLOOKUP(F1558,Soutez!B:D,3,FALSE)","v":2022},5,2340,0.91,6550,5961,"x",null,"LAK-17A T 18m","GL",""]
["Radek Zima 78",1978,"M","Hodkovice","CZ/C2","PMRg 2022 - Kombi",{"$f":"VLOOKUP(F1559,Soutez!B:C,2,FALSE)","v":"CZ"},{"$f":"VLOOKUP(F1559,Soutez!B:D,3,FALSE)","v":2022},6,1372,0.91,4197,3819,null,null,"ASG 29 E 18m","XZ",""]
["Jaromir Macoun",1999,"M","Jičín","CZ/C2","PMRg 2022 - Kombi",{"$f":"VLOOKUP(F1560,Soutez!B:C,2,FALSE)","v":"CZ"},{"$f":"VLOOKUP(F1560,Soutez!B:D,3,FALSE)","v":2022},7,225,0.91,1470,1338,null,null,"LS 8","EU","Junior v roce 2023"]
["Ivan Tvrdik",1997,"M","Letňany","CZ/C1","PMRg 2022 - Kombi",{"$f":"VLOOKUP(F1561,Soutez!B:C,2,FALSE)","v":"CZ"},{"$f":"VLOOKUP(F1561,Soutez!B:D,3,FALSE)","v":2022},8,221,0.91,1128,{"$f":"ROUND(K1561*L1561,0)","v":1026},null,null,"ASW 20 16.6m","NW",""]
["Jan Drbohlav",1999,"M","Hodkovice","CZ/C2","PMRg 2022 - Kombi",{"$f":"VLOOKUP(F1562,Soutez!B:C,2,FALSE)","v":"CZ"},{"$f":"VLOOKUP(F1562,Soutez!B:D,3,FALSE)","v":2022},9,1,{"$f":"VLOOKUP(F1562,Soutez,12,0)","v":0.91},335,305,"x",null,"G 103 Twin Astir","BL","Junior v roce 2023"]
["Vojtech Hajek",1987,"M","Mladá Boleslav","CZ/C1","PMRg 2022 - Kombi",{"$f":"VLOOKUP(F1563,Soutez!B:C,2,FALSE)","v":"CZ"},{"$f":"VLOOKUP(F1563,Soutez!B:D,3,FALSE)","v":2022},10,0,0.91,0,0,null,null,"Duo Discus",777,""]
["Karel Novak",1993,"M","Mladá Boleslav","CZ/C1","PMRg 2022 - Kombi",{"$f":"VLOOKUP(F1564,Soutez!B:C,2,FALSE)","v":"CZ"},{"$f":"VLOOKUP(F1564,Soutez!B:D,3,FALSE)","v":2022},10,0,0.91,0,0,null,null,"LS 8","ID",""]
["Lukas Kriz",2003,"M",{"$f":"VLOOKUP(A1565,Pilot,3,0)","v":"Křižanov"},{"$f":"VLOOKUP(A1565,Pilot,4,0)","v":"CZ/M"},"PMČRj 2022 - Klub",{"$f":"VLOOKUP(F1565,Soutez!B:C,2,FALSE)","v":"CZ"},{"$f":"VLOOKUP(F1565,Soutez!B:D,3,FALSE)","v":2022},1,4452,0.91500000000000004,{"$f":"ROUND(J1565/MAX($J$1565:$J$1593)*10000*0.7+(MAX($I$1565:$I$1593)-I1565)/(MAX($I$1565:$I$1593)-1)*10000*0.3,0)","v":10000},{"$f":"ROUND(K1565*L1565,0)","v":9150},"x",null,"LS 8a 15m","AU","Junior v roce 2023"]
["Vladimir Hammer",2000,"M","Letkov","CZ/C1","PMČRj 2022 - Klub",{"$f":"VLOOKUP(F1566,Soutez!B:C,2,FALSE)","v":"CZ"},{"$f":"VLOOKUP(F1566,Soutez!B:D,3,FALSE)","v":2022},2,4170,0.91500000000000004,9449,{"$f":"ROUND(K1566*L1566,0)","v":8646},"x",null,"Std. Cirrus","SB","Junior v roce 2023"]
["Jan Stastny",2003,"M","Medlánky","CZ/M","PMČRj 2022 - Klub",{"$f":"VLOOKUP(F1567,Soutez!B:C,2,FALSE)","v":"CZ"},{"$f":"VLOOKUP(F1567,Soutez!B:D,3,FALSE)","v":2022},3,4073,0.91500000000000004,9190,8409,"x",null,"Std. Cirrus","CX","Junior v roce 2023"]
["Vit Morkovsky",2000,"M","Polička","CZ/C2","PMČRj 2022 - Klub",{"$f":"VLOOKUP(F1568,Soutez!B:C,2,FALSE)","v":"CZ"},{"$f":"VLOOKUP(F1568,Soutez!B:D,3,FALSE)","v":2022},4,4051,0.91500000000000004,9048,8279,null,null,"ASW 24 A WL","SM","Junior v roce 2023"]
["Lukas Volek",2004,"M","Hodkovice","CZ/C2","PMČRj 2022 - Klub",{"$f":"VLOOKUP(F1569,Soutez!B:C,2,FALSE)","v":"CZ"},{"$f":"VLOOKUP(F1569,Soutez!B:D,3,FALSE)","v":2022},5,3982,0.91500000000000004,8832,8081,"x",null,"Std. Cirrus","UB","Junior v roce 2023"]
["Tomas Hynek",2002,"M","Dvůr Králové","CZ/C2","PMČRj 2022 - Klub",{"$f":"VLOOKUP(F1570,Soutez!B:C,2,FALSE)","v":"CZ"},{"$f":"VLOOKUP(F1570,Soutez!B:D,3,FALSE)","v":2022},6,3980,0.91500000000000004,8722,7981,"x",null,"Std. Cirrus","HT","Junior v roce 2023"]
["Ivan Tvrdik",1997,"M","Letňany","CZ/C1","PMČRj 2022 - Klub",{"$f":"VLOOKUP(F1571,Soutez!B:C,2,FALSE)","v":"CZ"},{"$f":"VLOOKUP(F1571,Soutez!B:D,3,FALSE)","v":2022},7,3976,0.91500000000000004,8609,7877,"x",null,"ASW 19B","KZ",""]
["Michaela Krizova",2001,"F","Přibyslav","CZ/C2","PMČRj 2022 - Klub",{"$f":"VLOOKUP(F1572,Soutez!B:C,2,FALSE)","v":"CZ"},{"$f":"VLOOKUP(F1572,Soutez!B:D,3,FALSE)","v":2022},8,3975,0.91500000000000004,8500,7778,"x","x","ASW 15B","BE","Junior v roce 2023"]
["Jan Beran",1999,"M","Kladno","CZ/C1","PMČRj 2022 - Klub",{"$f":"VLOOKUP(F1573,Soutez!B:C,2,FALSE)","v":"CZ"},{"$f":"VLOOKUP(F1573,Soutez!B:D,3,FALSE)","v":2022},9,3935,0.91500000000000004,8330,7622,"x",null,"ASW 19B","HB","Junior v roce 2023"]
["Petr Havelka",1997,"M","Zbraslavice","CZ/C1","PMČRj 2022 - Klub",{"$f":"VLOOKUP(F1574,Soutez!B:C,2,FALSE)","v":"CZ"},{"$f":"VLOOKUP(F1574,Soutez!B:D,3,FALSE)","v":2022},10,3908,0.91500000000000004,8180,7485,"x",null,"ASW 19B","PH",""]
["Jaromir Macoun",1999,"M","Jičín","CZ/C2","PMČRj 2022 - Klub",{"$f":"VLOOKUP(F1575,Soutez!B:C,2,FALSE)","v":"CZ"},{"$f":"VLOOKUP(F1575,Soutez!B:D,3,FALSE)","v":2022},11,3856,0.91500000000000004,7991,7312,null,null,"LS 8a 15m","EU","Junior v roce 2023"]
["Tereza Koubkova",1999,"F","Vysoké Mýto","CZ/C2","PMČRj 2022 - Klub",{"$f":"VLOOKUP(F1576,Soutez!B:C,2,FALSE)","v":"CZ"},{"$f":"VLOOKUP(F1576,Soutez!B:D,3,FALSE)","v":2022},12,3814,0.91500000000000004,7818,7153,null,null,"ASW 19 B","XP","Junior v roce 2023"]
["Tomas Kulhavy",2001,"M","Liberec","CZ/C2","PMČRj 2022 - Klub",{"$f":"VLOOKUP(F1577,Soutez!B:C,2,FALSE)","v":"CZ"},{"$f":"VLOOKUP(F1577,Soutez!B:D,3,FALSE)","v":2022},13,3053,0.91500000000000004,6515,{"$f":"ROUND(K1577*L1577,0)","v":5961},null,null,"LS 3 15m","R9","Junior v roce 2023"]
["Stepan Filakovsky",2005,"M","Medlánky","CZ/M","PMČRj 2022 - Klub",{"$f":"VLOOKUP(F1578,Soutez!B:C,2,FALSE)","v":"CZ"},{"$f":"VLOOKUP(F1578,Soutez!B:D,3,FALSE)","v":2022},14,2964,0.91500000000000004,6268,5735,"x",null,"LS 1 f","FD","Junior v roce 2023"]
["Jakub Malik",1999,"M","Letňany","CZ/C1","PMČRj 2022 - Klub",{"$f":"VLOOKUP(F1579,Soutez!B:C,2,FALSE)","v":"CZ"},{"$f":"VLOOKUP(F1579,Soutez!B:D,3,FALSE)","v":2022},15,2905,0.91500000000000004,6068,5552,"x",null,"Discus b WL","DP","Junior v roce 2023"]
["Jiri Maier 99",1999,"M","Raná","CZ/C2","PMČRj 2022 - Klub",{"$f":"VLOOKUP(F1580,Soutez!B:C,2,FALSE)","v":"CZ"},{"$f":"VLOOKUP(F1580,Soutez!B:D,3,FALSE)","v":2022},16,2746,0.91500000000000004,5710,5225,"x",null,"Discus bt WL","TAL","Junior v roce 2023"]
["Lukas Maly",1998,"M","Vysoké Mýto","CZ/C2","PMČRj 2022 - Klub",{"$f":"VLOOKUP(F1581,Soutez!B:C,2,FALSE)","v":"CZ"},{"$f":"VLOOKUP(F1581,Soutez!B:D,3,FALSE)","v":2022},17,2601,0.91500000000000004,5375,4918,null,null,"Discus b",65,"Junior v roce 2023"]
["Adam Hepal",2004,"M","Kolín","CZ/C1","PMČRj 2022 - Klub",{"$f":"VLOOKUP(F1582,Soutez!B:C,2,FALSE)","v":"CZ"},{"$f":"VLOOKUP(F1582,Soutez!B:D,3,FALSE)","v":2022},18,2570,0.91500000000000004,5219,4775,"x",null,"ASW 19B","AE","Junior v roce 2023"]
["Fabian Curda",{"$f":"VLOOKUP(A1583,Pilot,2,0)","v":2004},{"$f":"VLOOKUP(A1583,Pilot,5,0)","v":"M"},"Zábřeh","CZ/M","PMČRj 2022 - Klub",{"$f":"VLOOKUP(F1583,Soutez!B:C,2,FALSE)","v":"CZ"},{"$f":"VLOOKUP(F1583,Soutez!B:D,3,FALSE)","v":2022},19,2461,0.91500000000000004,4941,4521,"x",null,"DG 300","U7","Junior v roce 2023"]
["Martin Stastny",2005,"M","Medlánky","CZ/M","PMČRj 2022 - Klub",{"$f":"VLOOKUP(F1584,Soutez!B:C,2,FALSE)","v":"CZ"},{"$f":"VLOOKUP(F1584,Soutez!B:D,3,FALSE)","v":2022},20,2330,0.91500000000000004,4628,4235,"x",null,"ASW 15B","TW","Junior v roce 2023"]
["Katerina Vancurova",2002,"F","Hranice","CZ/M","PMČRj 2022 - Klub",{"$f":"VLOOKUP(F1585,Soutez!B:C,2,FALSE)","v":"CZ"},{"$f":"VLOOKUP(F1585,Soutez!B:D,3,FALSE)","v":2022},21,2190,0.91500000000000004,4301,3935,"x","x","Discus cs","HD","Junior v roce 2023"]
["Tibor Hezina",2002,"M","Křižanov","CZ/M","PMČRj 2022 - Klub",{"$f":"VLOOKUP(F1586,Soutez!B:C,2,FALSE)","v":"CZ"},{"$f":"VLOOKUP(F1586,Soutez!B:D,3,FALSE)","v":2022},22,2174,0.91500000000000004,4168,3814,"x",null,"Std. Cirrus","IJ","Junior v roce 2023"]
["Vojtech Vach 03",2003,"M","Nové Město nad Metují","CZ/C2","PMČRj 2022 - Klub",{"$f":"VLOOKUP(F1587,Soutez!B:C,2,FALSE)","v":"CZ"},{"$f":"VLOOKUP(F1587,Soutez!B:D,3,FALSE)","v":2022},23,2077,0.91500000000000004,3909,3577,"x",null,"Cirrus VTC","1W","Junior v roce 2023"]
["Petr Hosek",2001,"M","Beroun","CZ/C1","PMČRj 2022 - Klub",{"$f":"VLOOKUP(F1588,Soutez!B:C,2,FALSE)","v":"CZ"},{"$f":"VLOOKUP(F1588,Soutez!B:D,3,FALSE)","v":2022},24,2010,0.91500000000000004,3696,3382,"x",null,"VSO-10","B1","Junior v roce 2023"]
["Vit Pavelka",2004,"M","Moravská Třebová","CZ/M","PMČRj 2022 - Klub",{"$f":"VLOOKUP(F1589,Soutez!B:C,2,FALSE)","v":"CZ"},{"$f":"VLOOKUP(F1589,Soutez!B:D,3,FALSE)","v":2022},25,1924,0.91500000000000004,3454,3160,"x",null,"ASW 15B","LE","Junior v roce 2023"]
["Jan Svestka",2005,"M","Křižanov","CZ/M","PMČRj 2022 - Klub",{"$f":"VLOOKUP(F1590,Soutez!B:C,2,FALSE)","v":"CZ"},{"$f":"VLOOKUP(F1590,Soutez!B:D,3,FALSE)","v":2022},26,1811,0.91500000000000004,3169,2900,"x",null,"Std. Cirrus","EJ","Junior v roce 2023"]
["Petr Masik",2001,"M","Zábřeh","CZ/M","PMČRj 2022 - Klub",{"$f":"VLOOKUP(F1591,Soutez!B:C,2,FALSE)","v":"CZ"},{"$f":"VLOOKUP(F1591,Soutez!B:D,3,FALSE)","v":2022},27,1769,0.91500000000000004,2996,2741,"x",null,"ASW 15","ET",{"$f":"IF(ISERROR(VLOOKUP(A1591,Pilot,6,0)),\"Není v databázi\",VLOOKUP(A1591,Pilot,6,0))","v":"Junior v roce 2023"}]
["Vojtech Pavek",2000,"M","Medlánky","CZ/M","PMČRj 2022 - Klub",{"$f":"VLOOKUP(F1592,Soutez!B:C,2,FALSE)","v":"CZ"},{"$f":"VLOOKUP(F1592,Soutez!B:D,3,FALSE)","v":2022},28,1619,0.91500000000000004,2653,2427,"x",null,"Std. Cirrus","MP","Junior v roce 2023"]
["David Nenicka",2005,"M","Hranice","CZ/M","PMČRj 2022 - Klub",{"$f":"VLOOKUP(F1593,Soutez!B:C,2,FALSE)","v":"CZ"},{"$f":"VLOOKUP(F1593,Soutez!B:D,3,FALSE)","v":2022},29,919,0.91500000000000004,1445,1322,"x",null,"Std. Cirrus","HC","Junior v roce 2023"]
["Jaroslav Tomana",{"$f":"VLOOKUP(A1594,Pilot,2,0)","v":1975},{"$f":"VLOOKUP(A1594,Pilot,5,0)","v":"M"},{"$f":"VLOOKUP(A1594,Pilot,3,0)","v":"Zbraslavice"},{"$f":"VLOOKUP(A1594,Pilot,4,0)","v":"CZ/C1"},"GGP MB 2022 - Klub GP",{"$f":"VLOOKUP(F1594,Soutez!B:C,2,FALSE)","v":"CZ"},{"$f":"VLOOKUP(F1594,Soutez!B:D,3,FALSE)","v":2022},1,41,{"$f":"VLOOKUP(F1594,Soutez,12,0)","v":0.90500000000000003},{"$f":"ROUND((MAX($I$1594:$I$1608)-I1594)/(MAX($I$1594:$I$1608)-1)*10000,0)","v":10000},{"$f":"ROUND(K1594*L1594,0)","v":9050},"x",null,"Pegase Centair C-101BC+WL","RT",{"$f":"IF(ISERROR(VLOOKUP(A1594,Pilot,6,0)),\"Není v databázi\",VLOOKUP(A1594,Pilot,6,0))","v":""}]
["Jan Louda",1986,"M","Mladá Boleslav","CZ/C1","GGP MB 2022 - Klub GP",{"$f":"VLOOKUP(F1595,Soutez!B:C,2,FALSE)","v":"CZ"},{"$f":"VLOOKUP(F1595,Soutez!B:D,3,FALSE)","v":2022},2,30,0.90500000000000003,9231,{"$f":"ROUND(K1595*L1595,0)","v":8354},"x",null,"ASW15b","MB",""]
["David Vrchota",1976,"M","Jaroměř","CZ/C2","GGP MB 2022 - Klub GP",{"$f":"VLOOKUP(F1596,Soutez!B:C,2,FALSE)","v":"CZ"},{"$f":"VLOOKUP(F1596,Soutez!B:D,3,FALSE)","v":2022},3,29,0.90500000000000003,8462,7658,"x",null,"Std.Cirrus 16m","GO",""]
["David Sachl",1978,"M","Kralupy","CZ/C1","GGP MB 2022 - Klub GP",{"$f":"VLOOKUP(F1597,Soutez!B:C,2,FALSE)","v":"CZ"},{"$f":"VLOOKUP(F1597,Soutez!B:D,3,FALSE)","v":2022},4,24,0.90500000000000003,7692,6961,null,null,"DG 300 Klub Elan WL","BK",""]
["Michal Coufal",1999,"M","Jičín","CZ/C2","GGP MB 2022 - Klub GP",{"$f":"VLOOKUP(F1598,Soutez!B:C,2,FALSE)","v":"CZ"},{"$f":"VLOOKUP(F1598,Soutez!B:D,3,FALSE)","v":2022},5,23,0.90500000000000003,6923,6265,"x",null,"Janus B 18,2m","JC","Junior v roce 2023"]
["Jiri Hula",1973,"M","Slaný","CZ/C1","GGP MB 2022 - Klub GP",{"$f":"VLOOKUP(F1599,Soutez!B:C,2,FALSE)","v":"CZ"},{"$f":"VLOOKUP(F1599,Soutez!B:D,3,FALSE)","v":2022},6,20,0.90500000000000003,6154,5569,"x",null,"Std.Cirrus","IT",""]
["Matej Krestes",1986,"M","Slaný","CZ/C1","GGP MB 2022 - Klub GP",{"$f":"VLOOKUP(F1600,Soutez!B:C,2,FALSE)","v":"CZ"},{"$f":"VLOOKUP(F1600,Soutez!B:D,3,FALSE)","v":2022},7,18,0.90500000000000003,5385,4873,"x",null,"Std.Cirrus","CON",""]
["Lukas Plocek",1990,"M","Mladá Boleslav","CZ/C1","GGP MB 2022 - Klub GP",{"$f":"VLOOKUP(F1601,Soutez!B:C,2,FALSE)","v":"CZ"},{"$f":"VLOOKUP(F1601,Soutez!B:D,3,FALSE)","v":2022},8,12,0.90500000000000003,4615,{"$f":"ROUND(K1601*L1601,0)","v":4177},"x",null,"ASW19b","AH",""]
["Linda Vasatova",1990,"F","Mladá Boleslav","CZ/C1","GGP MB 2022 - Klub GP",{"$f":"VLOOKUP(F1602,Soutez!B:C,2,FALSE)","v":"CZ"},{"$f":"VLOOKUP(F1602,Soutez!B:D,3,FALSE)","v":2022},9,10,0.90500000000000003,3846,3481,null,null,"ASW19b","XS",""]
["Katerina Vojtova",1983,"F","Slaný","CZ/C1","GGP MB 2022 - Klub GP",{"$f":"VLOOKUP(F1603,Soutez!B:C,2,FALSE)","v":"CZ"},{"$f":"VLOOKUP(F1603,Soutez!B:D,3,FALSE)","v":2022},9,10,0.90500000000000003,3846,3481,"x","x","Std.Cirrus","KAC",""]
["Jan Hejret",1976,"M","Jaroměř","CZ/C2","GGP MB 2022 - Klub GP",{"$f":"VLOOKUP(F1604,Soutez!B:C,2,FALSE)","v":"CZ"},{"$f":"VLOOKUP(F1604,Soutez!B:D,3,FALSE)","v":2022},11,6,0.90500000000000003,2308,2089,"x",null,"Std.Cirrus","LW",""]
["Vojtech Vach 76",1976,"M","Nové Město nad Metují","CZ/C2","GGP MB 2022 - Klub GP",{"$f":"VLOOKUP(F1605,Soutez!B:C,2,FALSE)","v":"CZ"},{"$f":"VLOOKUP(F1605,Soutez!B:D,3,FALSE)","v":2022},11,6,0.90500000000000003,2308,2089,"x",null,"VSO10","I8",""]
["Martin Marek",1967,"M","Roudnice","CZ/C2","GGP MB 2022 - Klub GP",{"$f":"VLOOKUP(F1606,Soutez!B:C,2,FALSE)","v":"CZ"},{"$f":"VLOOKUP(F1606,Soutez!B:D,3,FALSE)","v":2022},13,1,0.90500000000000003,769,696,"x",null,"Std.Cirrus","2X",""]
["Libor Kovarik",1966,"M","Mladá Boleslav","CZ/C1","GGP MB 2022 - Klub GP",{"$f":"VLOOKUP(F1607,Soutez!B:C,2,FALSE)","v":"CZ"},{"$f":"VLOOKUP(F1607,Soutez!B:D,3,FALSE)","v":2022},14,0,0.90500000000000003,0,0,null,null,"VSO10","C3",""]
["Karel Policky",1950,"M","Kolín","CZ/C1","GGP MB 2022 - Klub GP",{"$f":"VLOOKUP(F1608,Soutez!B:C,2,FALSE)","v":"CZ"},{"$f":"VLOOKUP(F1608,Soutez!B:D,3,FALSE)","v":2022},14,0,0.90500000000000003,0,0,null,null,"VSO10",93,""]
["Jan Kotan",1982,"M",{"$f":"VLOOKUP(A1609,Pilot,3,0)","v":"Letňany"},{"$f":"VLOOKUP(A1609,Pilot,4,0)","v":"CZ/C1"},"GGP MB 2022 - Pohár MV - Kombi",{"$f":"VLOOKUP(F1609,Soutez!B:C,2,FALSE)","v":"CZ"},{"$f":"VLOOKUP(F1609,Soutez!B:D,3,FALSE)","v":2022},1,2886,0.91500000000000004,{"$f":"ROUND(J1609/MAX($J$1609:$J$1619)*10000*0.7+(MAX($I$1609:$I$1619)-I1609)/(MAX($I$1609:$I$1619)-1)*10000*0.3,0)","v":10000},{"$f":"ROUND(K1609*L1609,0)","v":9150},"x",null,"Ventus 2bx","YA",""]
["Dana Novakova",1965,"F","Mladá Boleslav","CZ/C1","GGP MB 2022 - Pohár MV - Kombi",{"$f":"VLOOKUP(F1610,Soutez!B:C,2,FALSE)","v":"CZ"},{"$f":"VLOOKUP(F1610,Soutez!B:D,3,FALSE)","v":2022},2,2878,0.91500000000000004,9681,{"$f":"ROUND(K1610*L1610,0)","v":8858},"x","x","LS8 /18m","FX",""]
["Michal Kratochvil",1984,"M","Slaný","CZ/C1","GGP MB 2022 - Pohár MV - Kombi",{"$f":"VLOOKUP(F1611,Soutez!B:C,2,FALSE)","v":"CZ"},{"$f":"VLOOKUP(F1611,Soutez!B:D,3,FALSE)","v":2022},3,2845,0.91500000000000004,9301,8510,"x",null,"Ventus b/16,6m","MK",""]
["Jan Dersak 69",1969,"M","Kralupy","CZ/C1","GGP MB 2022 - Pohár MV - Kombi",{"$f":"VLOOKUP(F1612,Soutez!B:C,2,FALSE)","v":"CZ"},{"$f":"VLOOKUP(F1612,Soutez!B:D,3,FALSE)","v":2022},4,2656,0.91500000000000004,8542,7816,"x",null,"HpH 304 Shark/18m","DJ",""]
["Karel Novak",1993,"M","Mladá Boleslav","CZ/C1","GGP MB 2022 - Pohár MV - Kombi",{"$f":"VLOOKUP(F1613,Soutez!B:C,2,FALSE)","v":"CZ"},{"$f":"VLOOKUP(F1613,Soutez!B:D,3,FALSE)","v":2022},5,2651,0.91500000000000004,8230,{"$f":"ROUND(K1613*L1613,0)","v":7530},null,null,"LS8 /18m","ID",""]
["Martin Soucek",1975,"M","Mladá Boleslav","CZ/C1","GGP MB 2022 - Pohár MV - Kombi",{"$f":"VLOOKUP(F1614,Soutez!B:C,2,FALSE)","v":"CZ"},{"$f":"VLOOKUP(F1614,Soutez!B:D,3,FALSE)","v":2022},6,2490,0.91500000000000004,7540,6899,"x",null,"DG-200/17m","MS",""]
["Radek Zima 78",1978,"M","Hodkovice","CZ/C2","GGP MB 2022 - Pohár MV - Kombi",{"$f":"VLOOKUP(F1615,Soutez!B:C,2,FALSE)","v":"CZ"},{"$f":"VLOOKUP(F1615,Soutez!B:D,3,FALSE)","v":2022},7,1897,0.91500000000000004,5801,5308,null,null,"ASG 29 E /18m","XZ",""]
["Antonin Bordovsky",1951,"M","Krnov","CZ/M","GGP MB 2022 - Pohár MV - Kombi",{"$f":"VLOOKUP(F1616,Soutez!B:C,2,FALSE)","v":"CZ"},{"$f":"VLOOKUP(F1616,Soutez!B:D,3,FALSE)","v":2022},8,1810,0.91500000000000004,5290,4840,"x",null,"Ventus c /17,6m","AD",""]
["Jan Horak",1971,"M","Zbraslavice","CZ/C1","GGP MB 2022 - Pohár MV - Kombi",{"$f":"VLOOKUP(F1617,Soutez!B:C,2,FALSE)","v":"CZ"},{"$f":"VLOOKUP(F1617,Soutez!B:D,3,FALSE)","v":2022},9,1463,0.91500000000000004,4149,3796,null,null,"ASW20a /15m","WX",""]
["Jan Smekal",1976,"M","Zbraslavice","CZ/C1","GGP MB 2022 - Pohár MV - Kombi",{"$f":"VLOOKUP(F1618,Soutez!B:C,2,FALSE)","v":"CZ"},{"$f":"VLOOKUP(F1618,Soutez!B:D,3,FALSE)","v":2022},10,1217,0.91500000000000004,3252,2976,"x",null,"Ventus 2a","AX",""]
["Zdenek Boruvka 86",1986,"M","Jičín","CZ/C2","GGP MB 2022 - Pohár MV - Kombi",{"$f":"VLOOKUP(F1619,Soutez!B:C,2,FALSE)","v":"CZ"},{"$f":"VLOOKUP(F1619,Soutez!B:D,3,FALSE)","v":2022},11,0,0.91500000000000004,0,0,null,null,"Ventus c /17,6m","VV",""]
["Viktor Tvrdik",1977,"M",{"$f":"VLOOKUP(A1620,Pilot,3,0)","v":"Rakovník"},{"$f":"VLOOKUP(A1620,Pilot,4,0)","v":"CZ/C1"},"Rakovnická Dlaždice 2022 - Klub",{"$f":"VLOOKUP(F1620,Soutez!B:C,2,FALSE)","v":"CZ"},{"$f":"VLOOKUP(F1620,Soutez!B:D,3,FALSE)","v":2022},1,4392,0,{"$f":"ROUND(J1620/MAX($J$1620:$J$1633)*10000*0.7+(MAX($I$1620:$I$1633)-I1620)/(MAX($I$1620:$I$1633)-1)*10000*0.3,0)","v":10000},{"$f":"ROUND(K1620*L1620,0)","v":0},null,null,"DG 800SW/18m","HF",""]
["Jaromir Simunek",1975,"M","Rakovník","CZ/C1","Rakovnická Dlaždice 2022 - Klub",{"$f":"VLOOKUP(F1621,Soutez!B:C,2,FALSE)","v":"CZ"},{"$f":"VLOOKUP(F1621,Soutez!B:D,3,FALSE)","v":2022},2,4049,0,9223,{"$f":"ROUND(K1621*L1621,0)","v":0},null,null,"DG 800SW/18m","HC",""]
["Jan Heroudek",1970,"M","Rakovník","CZ/C1","Rakovnická Dlaždice 2022 - Klub",{"$f":"VLOOKUP(F1622,Soutez!B:C,2,FALSE)","v":"CZ"},{"$f":"VLOOKUP(F1622,Soutez!B:D,3,FALSE)","v":2022},3,3780,0,8563,0,null,null,"dg 100",75,""]
["Jiri Vondracek",1989,"M","Kladno","CZ/C1","Rakovnická Dlaždice 2022 - Klub",{"$f":"VLOOKUP(F1623,Soutez!B:C,2,FALSE)","v":"CZ"},{"$f":"VLOOKUP(F1623,Soutez!B:D,3,FALSE)","v":2022},4,3575,0,8006,0,null,null,"ASW-15b","2P",""]
["Jan Konecny",1972,"M","Rakovník","CZ/C1","Rakovnická Dlaždice 2022 - Klub",{"$f":"VLOOKUP(F1624,Soutez!B:C,2,FALSE)","v":"CZ"},{"$f":"VLOOKUP(F1624,Soutez!B:D,3,FALSE)","v":2022},5,3550,0,7735,0,null,null,"LS 7",72,""]
["Jakub Kmosek",1978,"M","Zbraslavice","CZ/C1","Rakovnická Dlaždice 2022 - Klub",{"$f":"VLOOKUP(F1625,Soutez!B:C,2,FALSE)","v":"CZ"},{"$f":"VLOOKUP(F1625,Soutez!B:D,3,FALSE)","v":2022},6,3508,0,7437,0,null,null,"std. cirrus","ST",""]
["Jan Hlavacek",1965,"M","Rakovník","CZ/C1","Rakovnická Dlaždice 2022 - Klub",{"$f":"VLOOKUP(F1626,Soutez!B:C,2,FALSE)","v":"CZ"},{"$f":"VLOOKUP(F1626,Soutez!B:D,3,FALSE)","v":2022},7,3498,{"$f":"VLOOKUP(F1626,Soutez,12,0)","v":0},7191,0,null,null,"Discus","SJ",""]
["Jan Vozeh",1995,"M","Rakovník","CZ/C1","Rakovnická Dlaždice 2022 - Klub",{"$f":"VLOOKUP(F1627,Soutez!B:C,2,FALSE)","v":"CZ"},{"$f":"VLOOKUP(F1627,Soutez!B:D,3,FALSE)","v":2022},8,3495,0,6955,0,null,null,"Std. Cirrus","OG",""]
["Josef Hlusek",1993,"M","Kunovice","CZ/M","Rakovnická Dlaždice 2022 - Klub",{"$f":"VLOOKUP(F1628,Soutez!B:C,2,FALSE)","v":"CZ"},{"$f":"VLOOKUP(F1628,Soutez!B:D,3,FALSE)","v":2022},9,3010,0,5951,0,null,null,"std. cirrus","WO",""]
["Jiri Bulanek",1983,"M","Rakovník","CZ/C1","Rakovnická Dlaždice 2022 - Klub",{"$f":"VLOOKUP(F1629,Soutez!B:C,2,FALSE)","v":"CZ"},{"$f":"VLOOKUP(F1629,Soutez!B:D,3,FALSE)","v":2022},10,2899,0,5544,{"$f":"ROUND(K1629*L1629,0)","v":0},null,null,"DG-101 G","MK",""]
["Pavel Kuriscak",{"$f":"VLOOKUP(A1630,Pilot,2,0)","v":1987},{"$f":"VLOOKUP(A1630,Pilot,5,0)","v":"M"},"Beroun","CZ/C1","Rakovnická Dlaždice 2022 - Klub",{"$f":"VLOOKUP(F1630,Soutez!B:C,2,FALSE)","v":"CZ"},{"$f":"VLOOKUP(F1630,Soutez!B:D,3,FALSE)","v":2022},11,2584,0,4811,0,null,null,"Std. Cirrus 16m","BU",""]
["Petr Hosek",2001,"M","Beroun","CZ/C1","Rakovnická Dlaždice 2022 - Klub",{"$f":"VLOOKUP(F1631,Soutez!B:C,2,FALSE)","v":"CZ"},{"$f":"VLOOKUP(F1631,Soutez!B:D,3,FALSE)","v":2022},12,2359,0,4221,0,null,null,"VSO-10","B1","Junior v roce 2023"]
["Rostislav Konderla",1972,"M","Rakovník","CZ/C1","Rakovnická Dlaždice 2022 - Klub",{"$f":"VLOOKUP(F1632,Soutez!B:C,2,FALSE)","v":"CZ"},{"$f":"VLOOKUP(F1632,Soutez!B:D,3,FALSE)","v":2022},13,1997,0,3414,0,null,null,"LS 1-d","HV",""]
["Matej Dolejs",2004,"M","Beroun","CZ/C1","Rakovnická Dlaždice 2022 - Klub",{"$f":"VLOOKUP(F1633,Soutez!B:C,2,FALSE)","v":"CZ"},{"$f":"VLOOKUP(F1633,Soutez!B:D,3,FALSE)","v":2022},14,0,0,0,0,null,null,"solo L 33",11,"Junior v roce 2023"]
["Oldrich Slavicek",1959,"M",{"$f":"VLOOKUP(A1634,Pilot,3,0)","v":"Hronov"},{"$f":"VLOOKUP(A1634,Pilot,4,0)","v":"CZ/C2"},"HOP 2022 - Klub",{"$f":"VLOOKUP(F1634,Soutez!B:C,2,FALSE)","v":"CZ"},{"$f":"VLOOKUP(F1634,Soutez!B:D,3,FALSE)","v":2022},1,2256,{"$f":"VLOOKUP(F1634,Soutez,12,0)","v":0.755},{"$f":"ROUND(J1634/MAX($J$1634:$J$1656)*10000*0.7+(MAX($I$1634:$I$1656)-I1634)/(MAX($I$1634:$I$1656)-1)*10000*0.3,0)","v":10000},{"$f":"ROUND(K1634*L1634,0)","v":7550},"x",null,"VT-116 Orlik 2",4310,{"$f":"IF(ISERROR(VLOOKUP(A1634,Pilot,6,0)),\"Není v databázi\",VLOOKUP(A1634,Pilot,6,0))","v":""}]
["Ondrej Teichman",1984,"M","Dvůr Králové","CZ/C2","HOP 2022 - Klub",{"$f":"VLOOKUP(F1635,Soutez!B:C,2,FALSE)","v":"CZ"},{"$f":"VLOOKUP(F1635,Soutez!B:D,3,FALSE)","v":2022},2,2030,0.755,{"$f":"ROUND(J1635/MAX($J$1634:$J$1656)*10000*0.7+(MAX($I$1634:$I$1656)-I1635)/(MAX($I$1634:$I$1656)-1)*10000*0.3,0)","v":9162},{"$f":"ROUND(K1635*L1635,0)","v":6917},"x",null,"VT-116 Orlik 2",6445,""]
["Milan Svoboda 80",1980,"M","Havlíčkův Brod","CZ/C2","HOP 2022 - Klub",{"$f":"VLOOKUP(F1636,Soutez!B:C,2,FALSE)","v":"CZ"},{"$f":"VLOOKUP(F1636,Soutez!B:D,3,FALSE)","v":2022},3,2003,0.755,8942,6751,null,null,"VT-116 Orlik 2",6446,""]
["Miroslav Stepan",1955,"M","Žamberk","CZ/C2","HOP 2022 - Klub",{"$f":"VLOOKUP(F1637,Soutez!B:C,2,FALSE)","v":"CZ"},{"$f":"VLOOKUP(F1637,Soutez!B:D,3,FALSE)","v":2022},4,1871,0.755,8396,6339,"x",null,"VT-116 Orlik 2",8412,""]
["Ondrej Blaha",1976,"M","Letňany","CZ/C1","HOP 2022 - Klub",{"$f":"VLOOKUP(F1638,Soutez!B:C,2,FALSE)","v":"CZ"},{"$f":"VLOOKUP(F1638,Soutez!B:D,3,FALSE)","v":2022},5,1831,0.755,8136,6143,"x",null,"VT-116 Orlik 2",6444,""]
["Petr Seibrt",1974,"M","Náchod","CZ/C2","HOP 2022 - Klub",{"$f":"VLOOKUP(F1639,Soutez!B:C,2,FALSE)","v":"CZ"},{"$f":"VLOOKUP(F1639,Soutez!B:D,3,FALSE)","v":2022},6,1789,0.755,7869,5941,"x",null,"VT-16 Orlik",2412,""]
["Tomas Mezera",1973,"M","Raná","CZ/C2","HOP 2022 - Klub",{"$f":"VLOOKUP(F1640,Soutez!B:C,2,FALSE)","v":"CZ"},{"$f":"VLOOKUP(F1640,Soutez!B:D,3,FALSE)","v":2022},7,1736,0.755,7568,5714,"x",null,"VT-116 Orlik 2",8401,""]
["Oldrich Hlavacek",1973,"M","Medlánky","CZ/M","HOP 2022 - Klub",{"$f":"VLOOKUP(F1641,Soutez!B:C,2,FALSE)","v":"CZ"},{"$f":"VLOOKUP(F1641,Soutez!B:D,3,FALSE)","v":2022},8,1704,0.755,7333,5536,"x",null,"VT-116 Orlik 2",4307,""]
["Wolfgang Sluka",1942,"M","Liberec","CZ/C2","HOP 2022 - Klub",{"$f":"VLOOKUP(F1642,Soutez!B:C,2,FALSE)","v":"CZ"},{"$f":"VLOOKUP(F1642,Soutez!B:D,3,FALSE)","v":2022},9,1682,0.755,7128,5382,null,null,"VT-116 Orlik 2",8425,""]
["Matej Jelinek",1999,"M","Hronov","CZ/C2","HOP 2022 - Klub",{"$f":"VLOOKUP(F1643,Soutez!B:C,2,FALSE)","v":"CZ"},{"$f":"VLOOKUP(F1643,Soutez!B:D,3,FALSE)","v":2022},10,1651,0.755,6896,5206,"x",null,"VT-116 Orlik 2",6922,"Junior v roce 2023"]
["Ivan Kuzelka",1945,"M","Havlíčkův Brod","CZ/C2","HOP 2022 - Klub",{"$f":"VLOOKUP(F1644,Soutez!B:C,2,FALSE)","v":"CZ"},{"$f":"VLOOKUP(F1644,Soutez!B:D,3,FALSE)","v":2022},11,1550,0.755,6446,4867,"x",null,"VT-116 Orlik 2",4314,""]
["Petr Vezda",1974,"M","Medlánky","CZ/M","HOP 2022 - Klub",{"$f":"VLOOKUP(F1645,Soutez!B:C,2,FALSE)","v":"CZ"},{"$f":"VLOOKUP(F1645,Soutez!B:D,3,FALSE)","v":2022},12,1521,0.755,6219,4695,"x",null,"VT-116 Orlik 2",4321,""]
["Jaromir Vlk",1959,"M","Šumperk","CZ/M","HOP 2022 - Klub",{"$f":"VLOOKUP(F1646,Soutez!B:C,2,FALSE)","v":"CZ"},{"$f":"VLOOKUP(F1646,Soutez!B:D,3,FALSE)","v":2022},13,1503,0.755,6027,4550,"x",null,"VT-116 Orlik 2",8436,""]
["L.Vyhlid / J.Vojta",null,null,null,null,"HOP 2022 - Klub",{"$f":"VLOOKUP(F1647,Soutez!B:C,2,FALSE)","v":"CZ"},{"$f":"VLOOKUP(F1647,Soutez!B:D,3,FALSE)","v":2022},14,1432,0.755,5671,4282,null,null,"VT-116 Orlik 2",8431,"Není v databázi"]
["Jaromir Hendrych",1954,"M","Raná","CZ/C2","HOP 2022 - Klub",{"$f":"VLOOKUP(F1648,Soutez!B:C,2,FALSE)","v":"CZ"},{"$f":"VLOOKUP(F1648,Soutez!B:D,3,FALSE)","v":2022},15,1294,0.755,5106,3855,"x",null,"M-35",2403,""]
["Sarka Lochova",1966,"F","Šumperk","CZ/M","HOP 2022 - Klub",{"$f":"VLOOKUP(F1649,Soutez!B:C,2,FALSE)","v":"CZ"},{"$f":"VLOOKUP(F1649,Soutez!B:D,3,FALSE)","v":2022},16,1267,0.755,4886,3689,"x","x","VT-116 Orlik 2",7445,""]
["Jana Mezerova",1975,"F","Raná","CZ/C2","HOP 2022 - Klub",{"$f":"VLOOKUP(F1650,Soutez!B:C,2,FALSE)","v":"CZ"},{"$f":"VLOOKUP(F1650,Soutez!B:D,3,FALSE)","v":2022},17,1203,0.755,4551,3436,null,null,"VT-116 Orlik 2",7425,""]
["Michal Ondracek",1966,"M","Medlánky","CZ/M","HOP 2022 - Klub",{"$f":"VLOOKUP(F1651,Soutez!B:C,2,FALSE)","v":"CZ"},{"$f":"VLOOKUP(F1651,Soutez!B:D,3,FALSE)","v":2022},18,1069,0.755,3999,3019,"x",null,"Ka 6 E",9781,""]
["Tomas Holenda",1956,"M","Havlíčkův Brod","CZ/C2","HOP 2022 - Klub",{"$f":"VLOOKUP(F1652,Soutez!B:C,2,FALSE)","v":"CZ"},{"$f":"VLOOKUP(F1652,Soutez!B:D,3,FALSE)","v":2022},19,1063,0.755,3844,2902,"x",null,"VT-116 Orlik 2",7403,""]
["Michal Janda",1972,"M","Broumov","CZ/C2","HOP 2022 - Klub",{"$f":"VLOOKUP(F1653,Soutez!B:C,2,FALSE)","v":"CZ"},{"$f":"VLOOKUP(F1653,Soutez!B:D,3,FALSE)","v":2022},20,1029,0.755,3602,2720,"x",null,"VT-116 Orlik 2",7402,""]
["Miroslav Major",1968,"M","Kralupy","CZ/C1","HOP 2022 - Klub",{"$f":"VLOOKUP(F1654,Soutez!B:C,2,FALSE)","v":"CZ"},{"$f":"VLOOKUP(F1654,Soutez!B:D,3,FALSE)","v":2022},21,959,0.755,3248,2452,"x",null,"VT-116 Orlik 2",8430,""]
["Michal Nutil",1966,"M","Náchod","CZ/C2","HOP 2022 - Klub",{"$f":"VLOOKUP(F1655,Soutez!B:C,2,FALSE)","v":"CZ"},{"$f":"VLOOKUP(F1655,Soutez!B:D,3,FALSE)","v":2022},22,920,0.755,2991,2258,"x",null,"M-35",2901,""]
["Petr Vlasak",1974,"M","Medlánky","CZ/M","HOP 2022 - Klub",{"$f":"VLOOKUP(F1656,Soutez!B:C,2,FALSE)","v":"CZ"},{"$f":"VLOOKUP(F1656,Soutez!B:D,3,FALSE)","v":2022},23,570,0.755,1769,1336,"x",null,"VT-16 Orlik",2909,""]
["Zdenek Boruvka 54",1954,"M",{"$f":"VLOOKUP(A1657,Pilot,3,0)","v":"Jičín"},{"$f":"VLOOKUP(A1657,Pilot,4,0)","v":"CZ/C2"},"HOP 2022 - Kombi",{"$f":"VLOOKUP(F1657,Soutez!B:C,2,FALSE)","v":"CZ"},{"$f":"VLOOKUP(F1657,Soutez!B:D,3,FALSE)","v":2022},1,2638,0.75,{"$f":"ROUND(J1657/MAX($J$1657:$J$1675)*10000*0.7+(MAX($I$1657:$I$1675)-I1657)/(MAX($I$1657:$I$1675)-1)*10000*0.3,0)","v":10000},{"$f":"ROUND(K1657*L1657,0)","v":7500},"x",null,"LS 8 15 m (voda)","ZB",""]
["Vratislav Sram",1966,"M","Broumov","CZ/C2","HOP 2022 - Kombi",{"$f":"VLOOKUP(F1658,Soutez!B:C,2,FALSE)","v":"CZ"},{"$f":"VLOOKUP(F1658,Soutez!B:D,3,FALSE)","v":2022},2,2621,0.75,9788,{"$f":"ROUND(K1658*L1658,0)","v":7341},null,null,"Nimbus 4DM",7,""]
["Michal Maly",1982,"M","Broumov","CZ/C2","HOP 2022 - Kombi",{"$f":"VLOOKUP(F1659,Soutez!B:C,2,FALSE)","v":"CZ"},{"$f":"VLOOKUP(F1659,Soutez!B:D,3,FALSE)","v":2022},3,2489,0.75,9271,6953,"x",null,"Ventus c 17,6 (voda)","JN",""]
["Jan Kohout",1970,"M","Žamberk","CZ/C2","HOP 2022 - Kombi",{"$f":"VLOOKUP(F1660,Soutez!B:C,2,FALSE)","v":"CZ"},{"$f":"VLOOKUP(F1660,Soutez!B:D,3,FALSE)","v":2022},4,2486,0.75,9097,6823,"x",null,"JS1C EVO 18m (voda)","SK",""]
["Vaclav Kult",1973,"M","Broumov","CZ/C2","HOP 2022 - Kombi",{"$f":"VLOOKUP(F1661,Soutez!B:C,2,FALSE)","v":"CZ"},{"$f":"VLOOKUP(F1661,Soutez!B:D,3,FALSE)","v":2022},5,2454,0.75,8845,6634,"x",null,"Nimbus 2 b WL (voda)","VK",""]
["Zdenek Schenk",1972,"M","Hranice","CZ/M","HOP 2022 - Kombi",{"$f":"VLOOKUP(F1662,Soutez!B:C,2,FALSE)","v":"CZ"},{"$f":"VLOOKUP(F1662,Soutez!B:D,3,FALSE)","v":2022},6,2364,0.75,8440,6330,null,null,"Ventus cm 17,6m (bez vody)","SNeK",""]
["Petr Babak",1973,"M","Hořice","CZ/C2","HOP 2022 - Kombi",{"$f":"VLOOKUP(F1663,Soutez!B:C,2,FALSE)","v":"CZ"},{"$f":"VLOOKUP(F1663,Soutez!B:D,3,FALSE)","v":2022},7,2363,0.75,8270,6203,"x",null,"Ventus c 17,6 (voda)","LS",""]
["Jan Cerveny",1984,"M","Jaroměř","CZ/C2","HOP 2022 - Kombi",{"$f":"VLOOKUP(F1664,Soutez!B:C,2,FALSE)","v":"CZ"},{"$f":"VLOOKUP(F1664,Soutez!B:D,3,FALSE)","v":2022},8,2315,0.75,7976,5982,"x",null,"LS 3a (bez vody)","EI",""]
["Jan Rott",1962,"M","Hronov","CZ/C2","HOP 2022 - Kombi",{"$f":"VLOOKUP(F1665,Soutez!B:C,2,FALSE)","v":"CZ"},{"$f":"VLOOKUP(F1665,Soutez!B:D,3,FALSE)","v":2022},9,2244,0.75,7621,5716,"x",null,"HPH 304 cz 17,4 (bez vody)","Jou",""]
["Petr Fisar",1974,"M","Ústí nad Orlicí","CZ/C2","HOP 2022 - Kombi",{"$f":"VLOOKUP(F1666,Soutez!B:C,2,FALSE)","v":"CZ"},{"$f":"VLOOKUP(F1666,Soutez!B:D,3,FALSE)","v":2022},10,2178,0.75,7279,5459,"x",null,"Mosquito b (bez vody)","PF",""]
["David Mach",1994,"M","Hronov","CZ/C2","HOP 2022 - Kombi",{"$f":"VLOOKUP(F1667,Soutez!B:C,2,FALSE)","v":"CZ"},{"$f":"VLOOKUP(F1667,Soutez!B:D,3,FALSE)","v":2022},11,2064,0.75,6810,5108,null,null,"ASG 29 E 18m (bez vody)","QZ",""]
["M.Plechac / J.Plechac",null,null,null,null,"HOP 2022 - Kombi",{"$f":"VLOOKUP(F1668,Soutez!B:C,2,FALSE)","v":"CZ"},{"$f":"VLOOKUP(F1668,Soutez!B:D,3,FALSE)","v":2022},12,1961,0.75,6370,4778,null,null,"Nimbus 2 WL ( voda )","PM","Není v databázi"]
["Zdenek Mach",1976,"M","Broumov","CZ/C2","HOP 2022 - Kombi",{"$f":"VLOOKUP(F1669,Soutez!B:C,2,FALSE)","v":"CZ"},{"$f":"VLOOKUP(F1669,Soutez!B:D,3,FALSE)","v":2022},13,1876,0.75,5978,4484,"x",null,"LS 1-d (bez vody)","MZ",""]
["Tomas Talanda",1988,"M","Křižanov","CZ/M","HOP 2022 - Kombi",{"$f":"VLOOKUP(F1670,Soutez!B:C,2,FALSE)","v":"CZ"},{"$f":"VLOOKUP(F1670,Soutez!B:D,3,FALSE)","v":2022},14,1736,0.75,5440,4080,"x",null,"ASW 19 B (voda)","DS",""]
["Milos Nyvlt",{"$f":"VLOOKUP(A1671,Pilot,2,0)","v":1963},{"$f":"VLOOKUP(A1671,Pilot,5,0)","v":"M"},"Hronov","CZ/C2","HOP 2022 - Kombi",{"$f":"VLOOKUP(F1671,Soutez!B:C,2,FALSE)","v":"CZ"},{"$f":"VLOOKUP(F1671,Soutez!B:D,3,FALSE)","v":2022},15,1575,0.75,4846,3635,"x",null,"Arcus M","AR",""]
["Jiri Suchomel",{"$f":"VLOOKUP(A1672,Pilot,2,0)","v":1950},{"$f":"VLOOKUP(A1672,Pilot,5,0)","v":"M"},"Broumov","CZ/C2","HOP 2022 - Kombi",{"$f":"VLOOKUP(F1672,Soutez!B:C,2,FALSE)","v":"CZ"},{"$f":"VLOOKUP(F1672,Soutez!B:D,3,FALSE)","v":2022},16,1338,0.75,4050,3038,"x",null,"Janus 18.2m (bez vody)","V1",""]
["Milos Eichler",1964,"M","Dvůr Králové","CZ/C2","HOP 2022 - Kombi",{"$f":"VLOOKUP(F1673,Soutez!B:C,2,FALSE)","v":"CZ"},{"$f":"VLOOKUP(F1673,Soutez!B:D,3,FALSE)","v":2022},17,693,0.75,2172,1629,"x",null,"Cirrus VTC 17.74 m (bez vody)","G7",""]
["Pilotky UO / G.Jakl",null,null,null,null,"HOP 2022 - Kombi",{"$f":"VLOOKUP(F1674,Soutez!B:C,2,FALSE)","v":"CZ"},{"$f":"VLOOKUP(F1674,Soutez!B:D,3,FALSE)","v":2022},18,581,0.75,1708,{"$f":"ROUND(K1674*L1674,0)","v":1281},null,null,"Janus 18.2m ( bez vody)","GJ","Není v databázi"]
["Martin Koci",1975,"M","Ústí nad Orlicí","CZ/C2","HOP 2022 - Kombi",{"$f":"VLOOKUP(F1675,Soutez!B:C,2,FALSE)","v":"CZ"},{"$f":"VLOOKUP(F1675,Soutez!B:D,3,FALSE)","v":2022},19,283,0.75,751,563,"x",null,"Discus b (bez vody)","XE",""]
["Michal Coufal",1999,"M",{"$f":"VLOOKUP(A1676,Pilot,3,0)","v":"Jičín"},{"$f":"VLOOKUP(A1676,Pilot,4,0)","v":"CZ/C2"},"Pohár Českého Ráje 2022 - Klub",{"$f":"VLOOKUP(F1676,Soutez!B:C,2,FALSE)","v":"CZ"},{"$f":"VLOOKUP(F1676,Soutez!B:D,3,FALSE)","v":2022},1,1855,0,{"$f":"ROUND(J1676/MAX($J$1676:$J$1692)*10000*0.7+(MAX($I$1676:$I$1692)-I1676)/(MAX($I$1676:$I$1692)-1)*10000*0.3,0)","v":10000},{"$f":"ROUND(K1676*L1676,0)","v":0},null,null,"Janus","JC","Junior v roce 2023"]
["Petr Kyzivat",1970,"M","Jičín","CZ/C2","Pohár Českého Ráje 2022 - Klub",{"$f":"VLOOKUP(F1677,Soutez!B:C,2,FALSE)","v":"CZ"},{"$f":"VLOOKUP(F1677,Soutez!B:D,3,FALSE)","v":2022},2,1586,0,8785,{"$f":"ROUND(K1677*L1677,0)","v":0},null,null,"Ventus c 17,6 m","GE",""]
["Ales Holoubek",1966,"M","Jičín","CZ/C2","Pohár Českého Ráje 2022 - Klub",{"$f":"VLOOKUP(F1678,Soutez!B:C,2,FALSE)","v":"CZ"},{"$f":"VLOOKUP(F1678,Soutez!B:D,3,FALSE)","v":2022},3,1506,0,8283,0,null,null,"ASW-15b NG","T",""]
["Ilja Kopacek",1943,"M","Jičín","CZ/C2","Pohár Českého Ráje 2022 - Klub",{"$f":"VLOOKUP(F1679,Soutez!B:C,2,FALSE)","v":"CZ"},{"$f":"VLOOKUP(F1679,Soutez!B:D,3,FALSE)","v":2022},4,1478,0,7977,0,null,null,"Std. Cirrus","SC",""]
["Petr Rygl",{"$f":"VLOOKUP(A1680,Pilot,2,0)","v":1966},{"$f":"VLOOKUP(A1680,Pilot,5,0)","v":"M"},"Jičín","CZ/C2","Pohár Českého Ráje 2022 - Klub",{"$f":"VLOOKUP(F1680,Soutez!B:C,2,FALSE)","v":"CZ"},{"$f":"VLOOKUP(F1680,Soutez!B:D,3,FALSE)","v":2022},5,1401,0,7487,0,null,null,"ASW-15","A18",""]
["Kamil Hejda",1973,"M","Jičín","CZ/C2","Pohár Českého Ráje 2022 - Klub",{"$f":"VLOOKUP(F1681,Soutez!B:C,2,FALSE)","v":"CZ"},{"$f":"VLOOKUP(F1681,Soutez!B:D,3,FALSE)","v":2022},6,1293,0,6879,0,null,null,"Std. Cirrus","FS",""]
["Miroslav Trybucek",1965,"M","Jičín","CZ/C2","Pohár Českého Ráje 2022 - Klub",{"$f":"VLOOKUP(F1682,Soutez!B:C,2,FALSE)","v":"CZ"},{"$f":"VLOOKUP(F1682,Soutez!B:D,3,FALSE)","v":2022},7,1213,0,6377,0,null,null,"Ventus 2 cm /18 m (600kg)","OZ",""]
["Zbynek Fuksa",1956,"M","Jičín","CZ/C2","Pohár Českého Ráje 2022 - Klub",{"$f":"VLOOKUP(F1683,Soutez!B:C,2,FALSE)","v":"CZ"},{"$f":"VLOOKUP(F1683,Soutez!B:D,3,FALSE)","v":2022},8,1086,0,5698,0,null,null,"Duo Discus XLT",88,""]
["Jan Plechac",1966,"M","Slaný","CZ/C1","Pohár Českého Ráje 2022 - Klub",{"$f":"VLOOKUP(F1684,Soutez!B:C,2,FALSE)","v":"CZ"},{"$f":"VLOOKUP(F1684,Soutez!B:D,3,FALSE)","v":2022},9,1067,0,5426,0,null,null,"Std. Cirrus","TI",""]
["Stepan Capek",1960,"M","Jičín","CZ/C2","Pohár Českého Ráje 2022 - Klub",{"$f":"VLOOKUP(F1685,Soutez!B:C,2,FALSE)","v":"CZ"},{"$f":"VLOOKUP(F1685,Soutez!B:D,3,FALSE)","v":2022},10,951,0,4789,0,null,null,"Banjo","ZF",""]
["Lukas Jezek",1975,"M","Jičín","CZ/C2","Pohár Českého Ráje 2022 - Klub",{"$f":"VLOOKUP(F1686,Soutez!B:C,2,FALSE)","v":"CZ"},{"$f":"VLOOKUP(F1686,Soutez!B:D,3,FALSE)","v":2022},11,901,0,4400,0,null,null,"L-13 Blanik",13,""]
["Radek Tobolka",1977,"M","Jičín","CZ/C2","Pohár Českého Ráje 2022 - Klub",{"$f":"VLOOKUP(F1687,Soutez!B:C,2,FALSE)","v":"CZ"},{"$f":"VLOOKUP(F1687,Soutez!B:D,3,FALSE)","v":2022},12,691,0,3408,{"$f":"ROUND(K1687*L1687,0)","v":0},null,null,"TST-10 Atlas M",10,""]
["Petr Tax",1968,"M","Jičín","CZ/C2","Pohár Českého Ráje 2022 - Klub",{"$f":"VLOOKUP(F1688,Soutez!B:C,2,FALSE)","v":"CZ"},{"$f":"VLOOKUP(F1688,Soutez!B:D,3,FALSE)","v":2022},13,596,0,2849,0,null,null,"Terej","TB",{"$f":"IF(ISERROR(VLOOKUP(A1688,Pilot,6,0)),\"Není v databázi\",VLOOKUP(A1688,Pilot,6,0))","v":""}]
["Dusan Patocka",1972,"M","Vrchlabí","CZ/C2","Pohár Českého Ráje 2022 - Klub",{"$f":"VLOOKUP(F1689,Soutez!B:C,2,FALSE)","v":"CZ"},{"$f":"VLOOKUP(F1689,Soutez!B:D,3,FALSE)","v":2022},14,118,0,845,0,null,null,"VT-116 Orlik 2",116,""]
["Jiri Pixa",1968,"M","Slaný","CZ/C1","Pohár Českého Ráje 2022 - Klub",{"$f":"VLOOKUP(F1690,Soutez!B:C,2,FALSE)","v":"CZ"},{"$f":"VLOOKUP(F1690,Soutez!B:D,3,FALSE)","v":2022},15,45,0,370,0,null,null,"VSO-10","G9",""]
["Pavel Kyzivat",1973,"M","Zbraslavice","CZ/C1","Pohár Českého Ráje 2022 - Klub",{"$f":"VLOOKUP(F1691,Soutez!B:C,2,FALSE)","v":"CZ"},{"$f":"VLOOKUP(F1691,Soutez!B:D,3,FALSE)","v":2022},16,0,0,0,0,null,null,"ASW-19","PM",""]
["Radek Bartos",1971,"M","Kolín","CZ/C1","Pohár Českého Ráje 2022 - Klub",{"$f":"VLOOKUP(F1692,Soutez!B:C,2,FALSE)","v":"CZ"},{"$f":"VLOOKUP(F1692,Soutez!B:D,3,FALSE)","v":2022},16,0,0,0,0,null,null,"DG-300 -525 kg","DG",""]
["David Riha",1983,"M",{"$f":"VLOOKUP(A1693,Pilot,3,0)","v":"Vlašim"},{"$f":"VLOOKUP(A1693,Pilot,4,0)","v":"CZ/C1"},"Ranský pohár 2022 - Klub",{"$f":"VLOOKUP(F1693,Soutez!B:C,2,FALSE)","v":"CZ"},{"$f":"VLOOKUP(F1693,Soutez!B:D,3,FALSE)","v":2022},1,3996,0,{"$f":"ROUND(J1693/MAX($J$1693:$J$1713)*10000*0.7+(MAX($I$1693:$I$1713)-I1693)/(MAX($I$1693:$I$1713)-1)*10000*0.3,0)","v":10000},{"$f":"ROUND(K1693*L1693,0)","v":0},null,null,"ASW 15 B","XE",""]
["Petr Benes",1980,"M","Raná","CZ/C2","Ranský pohár 2022 - Klub",{"$f":"VLOOKUP(F1694,Soutez!B:C,2,FALSE)","v":"CZ"},{"$f":"VLOOKUP(F1694,Soutez!B:D,3,FALSE)","v":2022},2,3882,0,9650,{"$f":"ROUND(K1694*L1694,0)","v":0},null,null,"Std. Cirrus","EX",""]
["David Sachl",1978,"M","Kralupy","CZ/C1","Ranský pohár 2022 - Klub",{"$f":"VLOOKUP(F1695,Soutez!B:C,2,FALSE)","v":"CZ"},{"$f":"VLOOKUP(F1695,Soutez!B:D,3,FALSE)","v":2022},3,3838,0,9423,0,null,null,"DG 300 WL","BK",""]
["Marek Svancara",1976,"M","GAC Benešov","CZ/C1","Ranský pohár 2022 - Klub",{"$f":"VLOOKUP(F1696,Soutez!B:C,2,FALSE)","v":"CZ"},{"$f":"VLOOKUP(F1696,Soutez!B:D,3,FALSE)","v":2022},4,3493,0,8669,0,null,null,"Std. Cirrus","GT",""]
["Daniel Devecka",1981,"M","Vlašim","CZ/C1","Ranský pohár 2022 - Klub",{"$f":"VLOOKUP(F1697,Soutez!B:C,2,FALSE)","v":"CZ"},{"$f":"VLOOKUP(F1697,Soutez!B:D,3,FALSE)","v":2022},5,3446,0,8437,0,null,null,"LS 3a","2G",""]
["Jan Sustr 76",1976,"M","Raná","CZ/C2","Ranský pohár 2022 - Klub",{"$f":"VLOOKUP(F1698,Soutez!B:C,2,FALSE)","v":"CZ"},{"$f":"VLOOKUP(F1698,Soutez!B:D,3,FALSE)","v":2022},6,3343,{"$f":"VLOOKUP(F1698,Soutez,12,0)","v":0},8106,0,null,null,"DG 300","WL",""]
["Jan Smaha",1958,"M","Česká Lípa","CZ/C2","Ranský pohár 2022 - Klub",{"$f":"VLOOKUP(F1699,Soutez!B:C,2,FALSE)","v":"CZ"},{"$f":"VLOOKUP(F1699,Soutez!B:D,3,FALSE)","v":2022},7,3302,0,7884,0,null,null,"ASW 15 B","CW",""]
["Pavel Derda",1952,"M","Dvůr Králové","CZ/C2","Ranský pohár 2022 - Klub",{"$f":"VLOOKUP(F1700,Soutez!B:C,2,FALSE)","v":"CZ"},{"$f":"VLOOKUP(F1700,Soutez!B:D,3,FALSE)","v":2022},8,2994,0,7195,0,null,null,"Cirrus/Cirrus VTC 17.74","VE",""]
["Dalibor Pek",1968,"M","Raná","CZ/C2","Ranský pohár 2022 - Klub",{"$f":"VLOOKUP(F1701,Soutez!B:C,2,FALSE)","v":"CZ"},{"$f":"VLOOKUP(F1701,Soutez!B:D,3,FALSE)","v":2022},9,2890,0,6863,0,null,null,"Std. Cirrus","GP",""]
["Krystof Mimra",1992,"M","Most","CZ/C2","Ranský pohár 2022 - Klub",{"$f":"VLOOKUP(F1702,Soutez!B:C,2,FALSE)","v":"CZ"},{"$f":"VLOOKUP(F1702,Soutez!B:D,3,FALSE)","v":2022},10,2879,0,6693,0,null,null,"VSO-10",51,""]
["Martin Fric",1967,"M","Raná","CZ/C2","Ranský pohár 2022 - Klub",{"$f":"VLOOKUP(F1703,Soutez!B:C,2,FALSE)","v":"CZ"},{"$f":"VLOOKUP(F1703,Soutez!B:D,3,FALSE)","v":2022},11,2763,0,6340,0,null,null,"DG 100","E2",""]
["Jaromir Hendrych",1954,"M","Raná","CZ/C2","Ranský pohár 2022 - Klub",{"$f":"VLOOKUP(F1704,Soutez!B:C,2,FALSE)","v":"CZ"},{"$f":"VLOOKUP(F1704,Soutez!B:D,3,FALSE)","v":2022},12,2714,0,6104,0,null,null,"M-35",36,""]
["Tomas Mezera",1973,"M","Raná","CZ/C2","Ranský pohár 2022 - Klub",{"$f":"VLOOKUP(F1705,Soutez!B:C,2,FALSE)","v":"CZ"},{"$f":"VLOOKUP(F1705,Soutez!B:D,3,FALSE)","v":2022},13,2558,0,5681,{"$f":"ROUND(K1705*L1705,0)","v":0},null,null,"VSO-10",59,""]
["Jaromir Vlk",1959,"M","Šumperk","CZ/M","Ranský pohár 2022 - Klub",{"$f":"VLOOKUP(F1706,Soutez!B:C,2,FALSE)","v":"CZ"},{"$f":"VLOOKUP(F1706,Soutez!B:D,3,FALSE)","v":2022},14,2451,0,5344,0,null,null,"ASW 15 B","R5",""]
["Vojtech Kostejn",1974,"M","Česká Lípa","CZ/C2","Ranský pohár 2022 - Klub",{"$f":"VLOOKUP(F1707,Soutez!B:C,2,FALSE)","v":"CZ"},{"$f":"VLOOKUP(F1707,Soutez!B:D,3,FALSE)","v":2022},15,2353,0,5022,0,null,null,"ASW 15 B","I",""]
["Petr Herold",1970,"M","Vlašim","CZ/C1","Ranský pohár 2022 - Klub",{"$f":"VLOOKUP(F1708,Soutez!B:C,2,FALSE)","v":"CZ"},{"$f":"VLOOKUP(F1708,Soutez!B:D,3,FALSE)","v":2022},16,2294,0,4769,0,null,null,"VSO-10",77,""]
["Sarka Lochova",1966,"F","Šumperk","CZ/M","Ranský pohár 2022 - Klub",{"$f":"VLOOKUP(F1709,Soutez!B:C,2,FALSE)","v":"CZ"},{"$f":"VLOOKUP(F1709,Soutez!B:D,3,FALSE)","v":2022},17,2085,0,4252,0,null,null,"M-35",35,""]
["Eva Klapkova",1993,"F","Raná","CZ/C2","Ranský pohár 2022 - Klub",{"$f":"VLOOKUP(F1710,Soutez!B:C,2,FALSE)","v":"CZ"},{"$f":"VLOOKUP(F1710,Soutez!B:D,3,FALSE)","v":2022},18,1801,0,3605,0,null,null,"ASW 15","TZ",""]
["Jana Mezerova",1975,"F","Raná","CZ/C2","Ranský pohár 2022 - Klub",{"$f":"VLOOKUP(F1711,Soutez!B:C,2,FALSE)","v":"CZ"},{"$f":"VLOOKUP(F1711,Soutez!B:D,3,FALSE)","v":2022},19,1555,0,3024,0,null,null,"LS 1-0","AL",""]
["Stanislav Vrabec",1975,"M","Česká Lípa","CZ/C2","Ranský pohár 2022 - Klub",{"$f":"VLOOKUP(F1712,Soutez!B:C,2,FALSE)","v":"CZ"},{"$f":"VLOOKUP(F1712,Soutez!B:D,3,FALSE)","v":2022},20,1204,0,2259,0,null,null,"Std. Cirrus","CV",""]
["Petr Gryc",1949,"M","Medlánky","CZ/M","Ranský pohár 2022 - Klub",{"$f":"VLOOKUP(F1713,Soutez!B:C,2,FALSE)","v":"CZ"},{"$f":"VLOOKUP(F1713,Soutez!B:D,3,FALSE)","v":2022},21,74,0,130,0,null,null,"Std. Cirrus",11,""]
["Jiri Maier 99",1999,"M",{"$f":"VLOOKUP(A1714,Pilot,3,0)","v":"Raná"},{"$f":"VLOOKUP(A1714,Pilot,4,0)","v":"CZ/C2"},"Ranský pohár 2022 - Kombi",{"$f":"VLOOKUP(F1714,Soutez!B:C,2,FALSE)","v":"CZ"},{"$f":"VLOOKUP(F1714,Soutez!B:D,3,FALSE)","v":2022},1,4558,0,{"$f":"ROUND(J1714/MAX($J$1714:$J$1720)*10000*0.7+(MAX($I$1714:$I$1720)-I1714)/(MAX($I$1714:$I$1720)-1)*10000*0.3,0)","v":10000},{"$f":"ROUND(K1714*L1714,0)","v":0},null,null,"Discus bT WL","TAL","Junior v roce 2023"]
["Jiri Maier 66",1966,"M","Raná","CZ/C2","Ranský pohár 2022 - Kombi",{"$f":"VLOOKUP(F1715,Soutez!B:C,2,FALSE)","v":"CZ"},{"$f":"VLOOKUP(F1715,Soutez!B:D,3,FALSE)","v":2022},2,4487,0,9391,{"$f":"ROUND(K1715*L1715,0)","v":0},null,null,"ASW 24E WL","JM",""]
["Jaroslav Vancata",1985,"M","Raná","CZ/C2","Ranský pohár 2022 - Kombi",{"$f":"VLOOKUP(F1716,Soutez!B:C,2,FALSE)","v":"CZ"},{"$f":"VLOOKUP(F1716,Soutez!B:D,3,FALSE)","v":2022},3,3870,0,7943,0,null,null,"LS 7 WL","2B",""]
["Radovan Otto",1968,"M","Ústí nad Labem","CZ/C2","Ranský pohár 2022 - Kombi",{"$f":"VLOOKUP(F1717,Soutez!B:C,2,FALSE)","v":"CZ"},{"$f":"VLOOKUP(F1717,Soutez!B:D,3,FALSE)","v":2022},4,3635,0,7082,0,null,null,"HPH 304MS Shark 18m","XX",""]
["Petr Lonsky",1965,"M","Toužim","CZ/C1","Ranský pohár 2022 - Kombi",{"$f":"VLOOKUP(F1718,Soutez!B:C,2,FALSE)","v":"CZ"},{"$f":"VLOOKUP(F1718,Soutez!B:D,3,FALSE)","v":2022},5,3344,0,6136,{"$f":"ROUND(K1718*L1718,0)","v":0},null,null,"Cirrus/Cirrus VTC 17.74","JP",""]
["Michal Hemrle",1974,"M","Česká Lípa","CZ/C2","Ranský pohár 2022 - Kombi",{"$f":"VLOOKUP(F1719,Soutez!B:C,2,FALSE)","v":"CZ"},{"$f":"VLOOKUP(F1719,Soutez!B:D,3,FALSE)","v":2022},6,2953,0,5035,0,null,null,"ASG 29Es 18m","ET",""]
["Tomas Novak",1974,"M","Česká Lípa","CZ/C2","Ranský pohár 2022 - Kombi",{"$f":"VLOOKUP(F1720,Soutez!B:C,2,FALSE)","v":"CZ"},{"$f":"VLOOKUP(F1720,Soutez!B:D,3,FALSE)","v":2022},7,360,0,553,0,null,null,"Ventus c 17.6m","XF",""]
["Wolfgang Sluka",1942,"M",{"$f":"VLOOKUP(A1721,Pilot,3,0)","v":"Liberec"},{"$f":"VLOOKUP(A1721,Pilot,4,0)","v":"CZ/C2"},"Safari 2022 - Duo",{"$f":"VLOOKUP(F1721,Soutez!B:C,2,FALSE)","v":"CZ"},{"$f":"VLOOKUP(F1721,Soutez!B:D,3,FALSE)","v":2022},1,1460,0,{"$f":"ROUND(J1721/MAX($J$1721:$J$1729)*10000*0.7+(MAX($I$1721:$I$1729)-I1721)/(MAX($I$1721:$I$1729)-1)*10000*0.3,0)","v":10000},{"$f":"ROUND(K1721*L1721,0)","v":0},null,null,"L-13 Blanik dvoji",13,""]
["Jan Sindelar",1946,"M","Kunovice","CZ/M","Safari 2022 - Duo",{"$f":"VLOOKUP(F1722,Soutez!B:C,2,FALSE)","v":"CZ"},{"$f":"VLOOKUP(F1722,Soutez!B:D,3,FALSE)","v":2022},2,1271,0,8719,{"$f":"ROUND(K1722*L1722,0)","v":0},null,null,"L-13 Blanik dvoji",4,""]
["Jiri Obst",1964,"M","Vrchlabí","CZ/C2","Safari 2022 - Duo",{"$f":"VLOOKUP(F1723,Soutez!B:C,2,FALSE)","v":"CZ"},{"$f":"VLOOKUP(F1723,Soutez!B:D,3,FALSE)","v":2022},3,1171,0,7864,0,null,null,"L-13 Blanik dvoji","AY",""]
["Vladimir Prihoda",1953,"M","Kralupy","CZ/C1","Safari 2022 - Duo",{"$f":"VLOOKUP(F1724,Soutez!B:C,2,FALSE)","v":"CZ"},{"$f":"VLOOKUP(F1724,Soutez!B:D,3,FALSE)","v":2022},4,1034,0,6833,0,null,null,"L-23 Super Blanik dvoji","I",""]
["Petr Hybner",1951,"M","Liberec","CZ/C2","Safari 2022 - Duo",{"$f":"VLOOKUP(F1725,Soutez!B:C,2,FALSE)","v":"CZ"},{"$f":"VLOOKUP(F1725,Soutez!B:D,3,FALSE)","v":2022},5,822,0,5441,0,null,null,"L-23 Super Blanik dvoji",23,""]
["Michal Richter",1983,"M","Kolín","CZ/C1","Safari 2022 - Duo",{"$f":"VLOOKUP(F1726,Soutez!B:C,2,FALSE)","v":"CZ"},{"$f":"VLOOKUP(F1726,Soutez!B:D,3,FALSE)","v":2022},6,569,0,3853,0,null,null,"L-13 Blaník dvoji","FI",""]
["Martin Sehnoutka",1970,"M","Dvůr Králové","CZ/C2","Safari 2022 - Duo",{"$f":"VLOOKUP(F1727,Soutez!B:C,2,FALSE)","v":"CZ"},{"$f":"VLOOKUP(F1727,Soutez!B:D,3,FALSE)","v":2022},7,563,0,3449,0,null,null,"L-13 Blanik dvoji","ET",""]
["Jiri Tomicek",1947,"M","Dvůr Králové","CZ/C2","Safari 2022 - Duo",{"$f":"VLOOKUP(F1728,Soutez!B:C,2,FALSE)","v":"CZ"},{"$f":"VLOOKUP(F1728,Soutez!B:D,3,FALSE)","v":2022},8,545,0,2988,{"$f":"ROUND(K1728*L1728,0)","v":0},null,null,"L-23 Super Blanik dvoji","T",""]
["Josef Andrasovsky",{"$f":"VLOOKUP(A1729,Pilot,2,0)","v":1954},{"$f":"VLOOKUP(A1729,Pilot,5,0)","v":"M"},"Jaroměř","CZ/C2","Safari 2022 - Duo",{"$f":"VLOOKUP(F1729,Soutez!B:C,2,FALSE)","v":"CZ"},{"$f":"VLOOKUP(F1729,Soutez!B:D,3,FALSE)","v":2022},9,73,0,350,0,null,null,"L-13 Blanik dvoji","SG1",""]
["Milan Dvorak",1965,"M",{"$f":"VLOOKUP(A1730,Pilot,3,0)","v":"Liberec"},{"$f":"VLOOKUP(A1730,Pilot,4,0)","v":"CZ/C2"},"Safari 2022 - Klub",{"$f":"VLOOKUP(F1730,Soutez!B:C,2,FALSE)","v":"CZ"},{"$f":"VLOOKUP(F1730,Soutez!B:D,3,FALSE)","v":2022},1,2996,0.755,{"$f":"ROUND(J1730/MAX($J$1730:$J$1755)*10000*0.7+(MAX($I$1730:$I$1755)-I1730)/(MAX($I$1730:$I$1755)-1)*10000*0.3,0)","v":10000},{"$f":"ROUND(K1730*L1730,0)","v":7550},"x",null,"HpH 304cz 15m","IH",""]
["Ondrej Teichman",1984,"M","Dvůr Králové","CZ/C2","Safari 2022 - Klub",{"$f":"VLOOKUP(F1731,Soutez!B:C,2,FALSE)","v":"CZ"},{"$f":"VLOOKUP(F1731,Soutez!B:D,3,FALSE)","v":2022},2,2837,0.755,9509,{"$f":"ROUND(K1731*L1731,0)","v":7179},"x",null,"Cirrus VTC","VTC",""]
["Jaroslav Sima",1972,"M","Chomutov","CZ/C2","Safari 2022 - Klub",{"$f":"VLOOKUP(F1732,Soutez!B:C,2,FALSE)","v":"CZ"},{"$f":"VLOOKUP(F1732,Soutez!B:D,3,FALSE)","v":2022},3,2665,0.755,8987,6785,"x",null,"G-104 Speed Astir II","V2",""]
["Martin Cicvarek",1966,"M","Liberec","CZ/C2","Safari 2022 - Klub",{"$f":"VLOOKUP(F1733,Soutez!B:C,2,FALSE)","v":"CZ"},{"$f":"VLOOKUP(F1733,Soutez!B:D,3,FALSE)","v":2022},4,2589,0.755,8689,6560,"x",null,"DG-400 15m","AC",{"$f":"IF(ISERROR(VLOOKUP(A1733,Pilot,6,0)),\"Není v databázi\",VLOOKUP(A1733,Pilot,6,0))","v":""}]
["Marek Kornec",1957,"M","Dvůr Králové","CZ/C2","Safari 2022 - Klub",{"$f":"VLOOKUP(F1734,Soutez!B:C,2,FALSE)","v":"CZ"},{"$f":"VLOOKUP(F1734,Soutez!B:D,3,FALSE)","v":2022},5,2537,0.755,8448,6378,"x",null,"Janus C (FG)","KSS",""]
["Petr Lonsky",1965,"M","Toužim","CZ/C1","Safari 2022 - Klub",{"$f":"VLOOKUP(F1735,Soutez!B:C,2,FALSE)","v":"CZ"},{"$f":"VLOOKUP(F1735,Soutez!B:D,3,FALSE)","v":2022},6,2432,0.755,8082,6102,"x",null,"Cirrus VTC","JP2",""]
["Jan Hybner",1977,"M","Liberec","CZ/C2","Safari 2022 - Klub",{"$f":"VLOOKUP(F1736,Soutez!B:C,2,FALSE)","v":"CZ"},{"$f":"VLOOKUP(F1736,Soutez!B:D,3,FALSE)","v":2022},7,2418,0.755,7930,5987,"x",null,"HpH 304cz 15m","LB",""]
["Pavel Derda",1952,"M","Dvůr Králové","CZ/C2","Safari 2022 - Klub",{"$f":"VLOOKUP(F1737,Soutez!B:C,2,FALSE)","v":"CZ"},{"$f":"VLOOKUP(F1737,Soutez!B:D,3,FALSE)","v":2022},8,2203,0.755,7307,5517,"x",null,"Cirrus VTC","VE",""]
["Renata Dabrowska",null,null,"Czestochowa / KSS",null,"Safari 2022 - Klub",{"$f":"VLOOKUP(F1738,Soutez!B:C,2,FALSE)","v":"CZ"},{"$f":"VLOOKUP(F1738,Soutez!B:D,3,FALSE)","v":2022},9,2191,0.755,7159,5405,null,null,"LS-4","V4","Není v databázi"]
["Szlachta & kopiloti",null,null,"KSS",null,"Safari 2022 - Klub",{"$f":"VLOOKUP(F1739,Soutez!B:C,2,FALSE)","v":"CZ"},{"$f":"VLOOKUP(F1739,Soutez!B:D,3,FALSE)","v":2022},10,1595,0.755,5647,4263,null,null,"SZD-54-2 Perkoz 20m dvojí","SZD","Není v databázi"]
["Lukas Hykl",1985,"M",{"$f":"VLOOKUP(A1740,Pilot,3,0)","v":"Kolín"},{"$f":"VLOOKUP(A1740,Pilot,4,0)","v":"CZ/C1"},"Safari 2022 - Klub",{"$f":"VLOOKUP(F1740,Soutez!B:C,2,FALSE)","v":"CZ"},{"$f":"VLOOKUP(F1740,Soutez!B:D,3,FALSE)","v":2022},11,1510,0.755,5328,4023,"x",null,"Discus b","LD",""]
["Karel Policky",1950,"M","Kolín","CZ/C1","Safari 2022 - Klub",{"$f":"VLOOKUP(F1741,Soutez!B:C,2,FALSE)","v":"CZ"},{"$f":"VLOOKUP(F1741,Soutez!B:D,3,FALSE)","v":2022},12,1437,0.755,5037,3803,"x",null,"VSO-10",3,""]
["Franciszek Mazur",null,null,"AZL",null,"Safari 2022 - Klub",{"$f":"VLOOKUP(F1742,Soutez!B:C,2,FALSE)","v":"CZ"},{"$f":"VLOOKUP(F1742,Soutez!B:D,3,FALSE)","v":2022},13,1432,0.755,4906,3704,null,null,"Pik-20B","TT","Není v databázi"]
["Martin Markl",1960,"M",{"$f":"VLOOKUP(A1743,Pilot,3,0)","v":"Kolín"},{"$f":"VLOOKUP(A1743,Pilot,4,0)","v":"CZ/C1"},"Safari 2022 - Klub",{"$f":"VLOOKUP(F1743,Soutez!B:C,2,FALSE)","v":"CZ"},{"$f":"VLOOKUP(F1743,Soutez!B:D,3,FALSE)","v":2022},14,1370,0.755,4641,3504,"x",null,"ASK-21 dvoji","AK",""]
["Vojtech Sehnal",1994,"M","Kolín","CZ/C1","Safari 2022 - Klub",{"$f":"VLOOKUP(F1744,Soutez!B:C,2,FALSE)","v":"CZ"},{"$f":"VLOOKUP(F1744,Soutez!B:D,3,FALSE)","v":2022},15,1363,0.755,4505,{"$f":"ROUND(K1744*L1744,0)","v":3401},"x",null,"DG-300","DG",""]
["Krzysztof Pienkowski",null,null,null,null,"Safari 2022 - Klub",{"$f":"VLOOKUP(F1745,Soutez!B:C,2,FALSE)","v":"CZ"},{"$f":"VLOOKUP(F1745,Soutez!B:D,3,FALSE)","v":2022},16,1120,0.755,3817,2882,null,null,"LS-4","KP","Není v databázi"]
["Karel Ertl",1939,"M",{"$f":"VLOOKUP(A1746,Pilot,3,0)","v":"LK Břeclav"},{"$f":"VLOOKUP(A1746,Pilot,4,0)","v":"CZ/M"},"Safari 2022 - Klub",{"$f":"VLOOKUP(F1746,Soutez!B:C,2,FALSE)","v":"CZ"},{"$f":"VLOOKUP(F1746,Soutez!B:D,3,FALSE)","v":2022},17,1074,0.755,3589,2710,"x",null,"TST-10M Atlas","KE",""]
["Martin Benesovsky",1900,"M","Kolín","CZ/C1","Safari 2022 - Klub",{"$f":"VLOOKUP(F1747,Soutez!B:C,2,FALSE)","v":"CZ"},{"$f":"VLOOKUP(F1747,Soutez!B:D,3,FALSE)","v":2022},18,786,0.755,2796,2111,"x",null,"G-104 Speed Astir IIb","M2",""]
["Leos Nosek",1958,"M","Křižanov","CZ/M","Safari 2022 - Klub",{"$f":"VLOOKUP(F1748,Soutez!B:C,2,FALSE)","v":"CZ"},{"$f":"VLOOKUP(F1748,Soutez!B:D,3,FALSE)","v":2022},19,778,0.755,2658,2007,"x",null,"G-104 Speed Astir IIb","LE",""]
["Jerzy Mikolajczyk",null,null,"AZM / KSS",null,"Safari 2022 - Klub",{"$f":"VLOOKUP(F1749,Soutez!B:C,2,FALSE)","v":"CZ"},{"$f":"VLOOKUP(F1749,Soutez!B:D,3,FALSE)","v":2022},20,493,0.755,1872,1413,null,null,"LS-4","YL","Není v databázi"]
["Ryszard Bendkowski",null,null,"Warszava",null,"Safari 2022 - Klub",{"$f":"VLOOKUP(F1750,Soutez!B:C,2,FALSE)","v":"CZ"},{"$f":"VLOOKUP(F1750,Soutez!B:D,3,FALSE)","v":2022},21,485,0.755,1733,1308,null,null,"SZD-41A Jantar Std.","Fili","Není v databázi"]
["Romuald Dorofiejczyk",null,null,"AJ / KSS",null,"Safari 2022 - Klub",{"$f":"VLOOKUP(F1751,Soutez!B:C,2,FALSE)","v":"CZ"},{"$f":"VLOOKUP(F1751,Soutez!B:D,3,FALSE)","v":2022},22,368,0.755,1340,1012,null,null,"DG-300","N5","Není v databázi"]
["Radek Bartos",1971,"M",{"$f":"VLOOKUP(A1752,Pilot,3,0)","v":"Kolín"},{"$f":"VLOOKUP(A1752,Pilot,4,0)","v":"CZ/C1"},"Safari 2022 - Klub",{"$f":"VLOOKUP(F1752,Soutez!B:C,2,FALSE)","v":"CZ"},{"$f":"VLOOKUP(F1752,Soutez!B:D,3,FALSE)","v":2022},23,218,0.755,869,656,"x",null,"DG-300","DG",""]
["Vaclav Sehnal",1962,"M","Kolín","CZ/C1","Safari 2022 - Klub",{"$f":"VLOOKUP(F1753,Soutez!B:C,2,FALSE)","v":"CZ"},{"$f":"VLOOKUP(F1753,Soutez!B:D,3,FALSE)","v":2022},24,72,0.755,408,308,null,null,"ASK-21 dvoji","AK",""]
["Milan Bado",1975,"M","Kolín","CZ/C1","Safari 2022 - Klub",{"$f":"VLOOKUP(F1754,Soutez!B:C,2,FALSE)","v":"CZ"},{"$f":"VLOOKUP(F1754,Soutez!B:D,3,FALSE)","v":2022},25,57,0.755,253,191,"x",null,"SZD-48 Jantar std. 2 WL","VS",""]
["Vladislav Cadsky",1975,"M","Kolín","CZ/C1","Safari 2022 - Klub",{"$f":"VLOOKUP(F1755,Soutez!B:C,2,FALSE)","v":"CZ"},{"$f":"VLOOKUP(F1755,Soutez!B:D,3,FALSE)","v":2022},26,0,0.755,0,0,null,null,"G-102 Astir Jeans","VI",""]
["Jan Pazour",1979,"M",{"$f":"VLOOKUP(A1756,Pilot,3,0)","v":"Dvůr Králové"},{"$f":"VLOOKUP(A1756,Pilot,4,0)","v":"CZ/C2"},"Safari 2022 - Kombi",{"$f":"VLOOKUP(F1756,Soutez!B:C,2,FALSE)","v":"CZ"},{"$f":"VLOOKUP(F1756,Soutez!B:D,3,FALSE)","v":2022},1,3414,0.755,{"$f":"ROUND(J1756/MAX($J$1756:$J$1765)*10000*0.7+(MAX($I$1756:$I$1765)-I1756)/(MAX($I$1756:$I$1765)-1)*10000*0.3,0)","v":10000},{"$f":"ROUND(K1756*L1756,0)","v":7550},"x",null,"ASW-20 L +FL 16,6m","JP",""]
["Tomas Ditrt",1969,"M","Podhořany","CZ/C2","Safari 2022 - Kombi",{"$f":"VLOOKUP(F1757,Soutez!B:C,2,FALSE)","v":"CZ"},{"$f":"VLOOKUP(F1757,Soutez!B:D,3,FALSE)","v":2022},2,3310,0.755,9453,{"$f":"ROUND(K1757*L1757,0)","v":7137},"x",null,"HpH 304MS SHARK 18m","TDi",""]
["Ladislav Prokes",1954,"M","Vrchlabí","CZ/C2","Safari 2022 - Kombi",{"$f":"VLOOKUP(F1758,Soutez!B:C,2,FALSE)","v":"CZ"},{"$f":"VLOOKUP(F1758,Soutez!B:D,3,FALSE)","v":2022},3,3245,0.755,8987,6785,"x",null,"Discus b (voda)","VR",""]
["Jana Veprekova",1961,"F","Dvůr Králové","CZ/C2","Safari 2022 - Kombi",{"$f":"VLOOKUP(F1759,Soutez!B:C,2,FALSE)","v":"CZ"},{"$f":"VLOOKUP(F1759,Soutez!B:D,3,FALSE)","v":2022},4,3117,0.755,8391,6335,null,null,"LS-8-18 15m (voda)","W8",""]
["Zdenek Boruvka 54",1954,"M","Jičín","CZ/C2","Safari 2022 - Kombi",{"$f":"VLOOKUP(F1760,Soutez!B:C,2,FALSE)","v":"CZ"},{"$f":"VLOOKUP(F1760,Soutez!B:D,3,FALSE)","v":2022},5,2876,0.755,7564,{"$f":"ROUND(K1760*L1760,0)","v":5711},null,null,"LS 8-18 15m (voda)","ZB",""]
["Peter Janoska",null,null,null,null,"Safari 2022 - Kombi",{"$f":"VLOOKUP(F1761,Soutez!B:C,2,FALSE)","v":"CZ"},{"$f":"VLOOKUP(F1761,Soutez!B:D,3,FALSE)","v":2022},6,2769,0.755,7011,5293,null,null,"LS-6c 17,5m (voda)","N6","Není v databázi"]
["Milan Meisner",1961,"M",{"$f":"VLOOKUP(A1762,Pilot,3,0)","v":"Dvůr Králové"},{"$f":"VLOOKUP(A1762,Pilot,4,0)","v":"CZ/C2"},"Safari 2022 - Kombi",{"$f":"VLOOKUP(F1762,Soutez!B:C,2,FALSE)","v":"CZ"},{"$f":"VLOOKUP(F1762,Soutez!B:D,3,FALSE)","v":2022},7,2293,{"$f":"VLOOKUP(F1762,Soutez,12,0)","v":0.755},5702,4305,"x",null,"Ventus c 17,6m (voda)","VV",""]
["Slavomir Tanglmajer",1966,"M","Chomutov","CZ/C2","Safari 2022 - Kombi",{"$f":"VLOOKUP(F1763,Soutez!B:C,2,FALSE)","v":"CZ"},{"$f":"VLOOKUP(F1763,Soutez!B:D,3,FALSE)","v":2022},8,2292,0.755,5366,4051,"x",null,"DG 400 17m","ST",""]
["Petr Omelka",1970,"M","Vyškov","CZ/M","Safari 2022 - Kombi",{"$f":"VLOOKUP(F1764,Soutez!B:C,2,FALSE)","v":"CZ"},{"$f":"VLOOKUP(F1764,Soutez!B:D,3,FALSE)","v":2022},9,906,0.755,2191,1654,"x",null,"DG-400 17m","MR",""]
["Jiri Veprek",1959,"M","Dvůr Králové","CZ/C2","Safari 2022 - Kombi",{"$f":"VLOOKUP(F1765,Soutez!B:C,2,FALSE)","v":"CZ"},{"$f":"VLOOKUP(F1765,Soutez!B:D,3,FALSE)","v":2022},10,860,0.755,1763,1331,"x",null,"HpH 304cz 17,4m (voda)","KN",""]
["Jaroslav Tomana",1975,"M",{"$f":"VLOOKUP(A1766,Pilot,3,0)","v":"Zbraslavice"},{"$f":"VLOOKUP(A1766,Pilot,4,0)","v":"CZ/C1"},"Toužim Cup 2022 - Klub",{"$f":"VLOOKUP(F1766,Soutez!B:C,2,FALSE)","v":"CZ"},{"$f":"VLOOKUP(F1766,Soutez!B:D,3,FALSE)","v":2022},1,3652,0.91500000000000004,{"$f":"ROUND(J1766/MAX($J$1766:$J$1791)*10000*0.7+(MAX($I$1766:$I$1791)-I1766)/(MAX($I$1766:$I$1791)-1)*10000*0.3,0)","v":10000},{"$f":"ROUND(K1766*L1766,0)","v":9150},"x",null,"Centrair C-101BC Pegase","RT",""]
["Jan Viskot",1995,"M",{"$f":"VLOOKUP(A1767,Pilot,3,0)","v":"Břeclav"},{"$f":"VLOOKUP(A1767,Pilot,4,0)","v":"CZ/M"},"Toužim Cup 2022 - Klub",{"$f":"VLOOKUP(F1767,Soutez!B:C,2,FALSE)","v":"CZ"},{"$f":"VLOOKUP(F1767,Soutez!B:D,3,FALSE)","v":2022},2,3315,0.91500000000000004,9234,{"$f":"ROUND(K1767*L1767,0)","v":8449},"x",null,"Std. Cirrus","W",""]
["Roman Jokl",1979,"M","Letkov","CZ/C1","Toužim Cup 2022 - Klub",{"$f":"VLOOKUP(F1768,Soutez!B:C,2,FALSE)","v":"CZ"},{"$f":"VLOOKUP(F1768,Soutez!B:D,3,FALSE)","v":2022},3,3254,0.91500000000000004,8997,8232,"x",null,"ASW-19","JL",""]
["Hana Treslova",1991,"F","Raná","CZ/C2","Toužim Cup 2022 - Klub",{"$f":"VLOOKUP(F1769,Soutez!B:C,2,FALSE)","v":"CZ"},{"$f":"VLOOKUP(F1769,Soutez!B:D,3,FALSE)","v":2022},4,3251,0.91500000000000004,8871,8117,null,null,"Std. Cirrus","WY",""]
["Martin Zahalka",1987,"M","Staňkov","CZ/C1","Toužim Cup 2022 - Klub",{"$f":"VLOOKUP(F1770,Soutez!B:C,2,FALSE)","v":"CZ"},{"$f":"VLOOKUP(F1770,Soutez!B:D,3,FALSE)","v":2022},5,3147,0.91500000000000004,8552,7825,"x",null,"DG-100","8B",""]
["Vit Prokop",1987,"M","Medlánky","CZ/M","Toužim Cup 2022 - Klub",{"$f":"VLOOKUP(F1771,Soutez!B:C,2,FALSE)","v":"CZ"},{"$f":"VLOOKUP(F1771,Soutez!B:D,3,FALSE)","v":2022},6,3104,0.91500000000000004,8350,7640,"x",null,"Std. Cirrus","MF",""]
["Tomas Talanda",1988,"M","Křižanov","CZ/M","Toužim Cup 2022 - Klub",{"$f":"VLOOKUP(F1772,Soutez!B:C,2,FALSE)","v":"CZ"},{"$f":"VLOOKUP(F1772,Soutez!B:D,3,FALSE)","v":2022},7,3078,0.91500000000000004,8180,7485,"x",null,"ASW-19B","DS",""]
["Jiri Vondracek",1989,"M","Kladno","CZ/C1","Toužim Cup 2022 - Klub",{"$f":"VLOOKUP(F1773,Soutez!B:C,2,FALSE)","v":"CZ"},{"$f":"VLOOKUP(F1773,Soutez!B:D,3,FALSE)","v":2022},8,3000,0.91500000000000004,7910,7238,"x",null,"ASW-15B","2P",""]
["Daniel Dvorak",1980,"M","Letkov","CZ/C1","Toužim Cup 2022 - Klub",{"$f":"VLOOKUP(F1774,Soutez!B:C,2,FALSE)","v":"CZ"},{"$f":"VLOOKUP(F1774,Soutez!B:D,3,FALSE)","v":2022},9,2933,0.91500000000000004,7662,7011,"x",null,"Std. Cirrus","LD",""]
["Jiri Prochazka",1971,"M","Toužim","CZ/C1","Toužim Cup 2022 - Klub",{"$f":"VLOOKUP(F1775,Soutez!B:C,2,FALSE)","v":"CZ"},{"$f":"VLOOKUP(F1775,Soutez!B:D,3,FALSE)","v":2022},10,2903,0.91500000000000004,7484,{"$f":"ROUND(K1775*L1775,0)","v":6848},"x",null,"Janus CM","J59",""]
["Ivan Harasta 65",1965,"M","Toužim","CZ/C1","Toužim Cup 2022 - Klub",{"$f":"VLOOKUP(F1776,Soutez!B:C,2,FALSE)","v":"CZ"},{"$f":"VLOOKUP(F1776,Soutez!B:D,3,FALSE)","v":2022},11,2801,0.91500000000000004,7169,6560,"x",null,"LS-1d","CL",""]
["Martin Fric",1967,"M","Raná","CZ/C2","Toužim Cup 2022 - Klub",{"$f":"VLOOKUP(F1777,Soutez!B:C,2,FALSE)","v":"CZ"},{"$f":"VLOOKUP(F1777,Soutez!B:D,3,FALSE)","v":2022},12,2694,0.91500000000000004,6844,6262,"x",null,"DG-100","E2",""]
["Jiri Fousek",1990,"M","Raná","CZ/C2","Toužim Cup 2022 - Klub",{"$f":"VLOOKUP(F1778,Soutez!B:C,2,FALSE)","v":"CZ"},{"$f":"VLOOKUP(F1778,Soutez!B:D,3,FALSE)","v":2022},13,2651,0.91500000000000004,6641,6077,"x",null,"Std. Cirrus","LW",""]
["Michal Drab",1969,"M","Letkov","CZ/C1","Toužim Cup 2022 - Klub",{"$f":"VLOOKUP(F1779,Soutez!B:C,2,FALSE)","v":"CZ"},{"$f":"VLOOKUP(F1779,Soutez!B:D,3,FALSE)","v":2022},14,2387,0.91500000000000004,6015,5504,"x",null,"LS-1c","S3",""]
["Michal Cupak",{"$f":"VLOOKUP(A1780,Pilot,2,0)","v":1991},{"$f":"VLOOKUP(A1780,Pilot,5,0)","v":"M"},"Medlánky","CZ/M","Toužim Cup 2022 - Klub",{"$f":"VLOOKUP(F1780,Soutez!B:C,2,FALSE)","v":"CZ"},{"$f":"VLOOKUP(F1780,Soutez!B:D,3,FALSE)","v":2022},15,2229,0.91500000000000004,5592,5117,"x",null,"Std. Cirrus","A7",""]
["Josef Kreutzer",1992,"M","Letkov","CZ/C1","Toužim Cup 2022 - Klub",{"$f":"VLOOKUP(F1781,Soutez!B:C,2,FALSE)","v":"CZ"},{"$f":"VLOOKUP(F1781,Soutez!B:D,3,FALSE)","v":2022},16,2044,0.91500000000000004,5118,4683,"x",null,"Std. Cirrus","AL",""]
["Jan Sustr 76",1976,"M","Raná","CZ/C2","Toužim Cup 2022 - Klub",{"$f":"VLOOKUP(F1782,Soutez!B:C,2,FALSE)","v":"CZ"},{"$f":"VLOOKUP(F1782,Soutez!B:D,3,FALSE)","v":2022},17,1937,0.91500000000000004,4793,4386,"x",null,"DG-300 WL","WL",""]
["Jiri Cincera",1966,"M","Toužim","CZ/C1","Toužim Cup 2022 - Klub",{"$f":"VLOOKUP(F1783,Soutez!B:C,2,FALSE)","v":"CZ"},{"$f":"VLOOKUP(F1783,Soutez!B:D,3,FALSE)","v":2022},18,1780,0.91500000000000004,4372,4000,"x",null,"ASW-15B","TT",""]
["Tomas Seifert",1972,"M","Raná","CZ/C2","Toužim Cup 2022 - Klub",{"$f":"VLOOKUP(F1784,Soutez!B:C,2,FALSE)","v":"CZ"},{"$f":"VLOOKUP(F1784,Soutez!B:D,3,FALSE)","v":2022},19,1749,0.91500000000000004,4192,3836,"x",null,"ASW-15B","MC",""]
["Martin Valenta",1969,"M","Toužim","CZ/C1","Toužim Cup 2022 - Klub",{"$f":"VLOOKUP(F1785,Soutez!B:C,2,FALSE)","v":"CZ"},{"$f":"VLOOKUP(F1785,Soutez!B:D,3,FALSE)","v":2022},20,1405,0.91500000000000004,3413,3123,"x",null,"LS-1c","P2",""]
["Tomas Jung",1950,"M","Zbraslavice","CZ/C1","Toužim Cup 2022 - Klub",{"$f":"VLOOKUP(F1786,Soutez!B:C,2,FALSE)","v":"CZ"},{"$f":"VLOOKUP(F1786,Soutez!B:D,3,FALSE)","v":2022},21,1064,0.91500000000000004,2639,2415,"x",null,"ASW-19B","O2",""]
["Jaroslav Hot",1965,"M","Toužim","CZ/C1","Toužim Cup 2022 - Klub",{"$f":"VLOOKUP(F1787,Soutez!B:C,2,FALSE)","v":"CZ"},{"$f":"VLOOKUP(F1787,Soutez!B:D,3,FALSE)","v":2022},22,1009,0.91500000000000004,2414,2209,"x",null,"Pik-20D","HJ",""]
["Petr Cernicky",1974,"M","Toužim","CZ/C1","Toužim Cup 2022 - Klub",{"$f":"VLOOKUP(F1788,Soutez!B:C,2,FALSE)","v":"CZ"},{"$f":"VLOOKUP(F1788,Soutez!B:D,3,FALSE)","v":2022},23,760,0.91500000000000004,1817,1663,"x",null,"G-102 Astir cs","LS",{"$f":"IF(ISERROR(VLOOKUP(A1788,Pilot,6,0)),\"Není v databázi\",VLOOKUP(A1788,Pilot,6,0))","v":""}]
["Rudolf Jung",1954,"M","Zbraslavice","CZ/C1","Toužim Cup 2022 - Klub",{"$f":"VLOOKUP(F1789,Soutez!B:C,2,FALSE)","v":"CZ"},{"$f":"VLOOKUP(F1789,Soutez!B:D,3,FALSE)","v":2022},24,480,0.91500000000000004,1160,1061,"x",null,"G-103 Twin III dvojí (pevný podvozek)","TO",""]
["Frantisek Brozman",1960,"M","Tachov","CZ/C1","Toužim Cup 2022 - Klub",{"$f":"VLOOKUP(F1790,Soutez!B:C,2,FALSE)","v":"CZ"},{"$f":"VLOOKUP(F1790,Soutez!B:D,3,FALSE)","v":2022},25,402,0.91500000000000004,891,815,"x",null,"L-13 Blaník","L13",""]
["Vaclav Halek",1966,"M","Toužim","CZ/C1","Toužim Cup 2022 - Klub",{"$f":"VLOOKUP(F1791,Soutez!B:C,2,FALSE)","v":"CZ"},{"$f":"VLOOKUP(F1791,Soutez!B:D,3,FALSE)","v":2022},26,170,0.91500000000000004,326,298,"x",null,"Std. Cirrus","IYD",""]
["Michaela Rendlova",2004,"F",{"$f":"VLOOKUP(A1792,Pilot,3,0)","v":"Toužim"},{"$f":"VLOOKUP(A1792,Pilot,4,0)","v":"CZ/C1"},"Toužim Cup 2022 - Kombi",{"$f":"VLOOKUP(F1792,Soutez!B:C,2,FALSE)","v":"CZ"},{"$f":"VLOOKUP(F1792,Soutez!B:D,3,FALSE)","v":2022},1,3194,0.91,{"$f":"ROUND(J1792/MAX($J$1792:$J$1817)*10000*0.7+(MAX($I$1792:$I$1817)-I1792)/(MAX($I$1792:$I$1817)-1)*10000*0.3,0)","v":10000},{"$f":"ROUND(K1792*L1792,0)","v":9100},"x","x","AS 33 Es /18m","EA","Junior v roce 2023"]
["Pavel Jiranek",1993,"M","Toužim","CZ/C1","Toužim Cup 2022 - Kombi",{"$f":"VLOOKUP(F1793,Soutez!B:C,2,FALSE)","v":"CZ"},{"$f":"VLOOKUP(F1793,Soutez!B:D,3,FALSE)","v":2022},2,3126,0.91,9731,{"$f":"ROUND(K1793*L1793,0)","v":8855},"x",null,"Ventus c /17,6m","CS",""]
["Petr Tichy",1973,"M","Zbraslavice","CZ/C1","Toužim Cup 2022 - Kombi",{"$f":"VLOOKUP(F1794,Soutez!B:C,2,FALSE)","v":"CZ"},{"$f":"VLOOKUP(F1794,Soutez!B:D,3,FALSE)","v":2022},3,3012,0.91,9361,8519,null,null,"ASG-29E /18m","AJ",""]
["Karel Benisek 76",1976,"M","Toužim","CZ/C1","Toužim Cup 2022 - Kombi",{"$f":"VLOOKUP(F1795,Soutez!B:C,2,FALSE)","v":"CZ"},{"$f":"VLOOKUP(F1795,Soutez!B:D,3,FALSE)","v":2022},3,3012,0.91,9361,8519,"x",null,"Ventus ct /17,6m","KB",""]
["Petr Hotovy",1958,"M","Česká Lípa","CZ/C2","Toužim Cup 2022 - Kombi",{"$f":"VLOOKUP(F1796,Soutez!B:C,2,FALSE)","v":"CZ"},{"$f":"VLOOKUP(F1796,Soutez!B:D,3,FALSE)","v":2022},5,2931,0.91,8944,8139,"x",null,"JS1-BTJ 18","IGC",""]
["Vratislav Sram",1966,"M","Broumov","CZ/C2","Toužim Cup 2022 - Kombi",{"$f":"VLOOKUP(F1797,Soutez!B:C,2,FALSE)","v":"CZ"},{"$f":"VLOOKUP(F1797,Soutez!B:D,3,FALSE)","v":2022},6,2806,0.91,8550,7781,"x",null,"Nimbus 2M WL","NB",""]
["Tomas Rendla",1973,"M","Zbraslavice","CZ/C1","Toužim Cup 2022 - Kombi",{"$f":"VLOOKUP(F1798,Soutez!B:C,2,FALSE)","v":"CZ"},{"$f":"VLOOKUP(F1798,Soutez!B:D,3,FALSE)","v":2022},7,2600,0.91,7978,7260,null,null,"Arcus M","EY",""]
["Roman Lanzendorf",1964,"M","Letkov","CZ/C1","Toužim Cup 2022 - Kombi",{"$f":"VLOOKUP(F1799,Soutez!B:C,2,FALSE)","v":"CZ"},{"$f":"VLOOKUP(F1799,Soutez!B:D,3,FALSE)","v":2022},8,2555,0.91,7760,7062,"x",null,"Duo Discus T (700kg)","ZS",""]
["Lubomir Motl",1959,"M","Kyjov","CZ/M","Toužim Cup 2022 - Kombi",{"$f":"VLOOKUP(F1800,Soutez!B:C,2,FALSE)","v":"CZ"},{"$f":"VLOOKUP(F1800,Soutez!B:D,3,FALSE)","v":2022},9,2523,0.91,7569,6888,"x",null,"Nimbus 4DM","AM",""]
["Michal Cechmanek",1978,"M","Luhačovice","CZ/M","Toužim Cup 2022 - Kombi",{"$f":"VLOOKUP(F1801,Soutez!B:C,2,FALSE)","v":"CZ"},{"$f":"VLOOKUP(F1801,Soutez!B:D,3,FALSE)","v":2022},10,2492,0.91,7381,6717,null,null,"ASW-20 L +FL /16,6m","MK",""]
["Frantisek Myska",1968,"M","Most","CZ/C2","Toužim Cup 2022 - Kombi",{"$f":"VLOOKUP(F1802,Soutez!B:C,2,FALSE)","v":"CZ"},{"$f":"VLOOKUP(F1802,Soutez!B:D,3,FALSE)","v":2022},11,2475,0.91,7224,6574,"x",null,"Ventus bt /16,6m","SK",""]
["Radim Hahn",1972,"M","Zábřeh","CZ/M","Toužim Cup 2022 - Kombi",{"$f":"VLOOKUP(F1803,Soutez!B:C,2,FALSE)","v":"CZ"},{"$f":"VLOOKUP(F1803,Soutez!B:D,3,FALSE)","v":2022},12,2224,0.91,6554,5964,"x",null,"Ventus 3M - 18m","I3",""]
["Tomas Profeld",1964,"M","Jičín","CZ/C2","Toužim Cup 2022 - Kombi",{"$f":"VLOOKUP(F1804,Soutez!B:C,2,FALSE)","v":"CZ"},{"$f":"VLOOKUP(F1804,Soutez!B:D,3,FALSE)","v":2022},13,2220,0.91,6425,5847,"x",null,"Ventus 2cm /18m 525 kg","OZ",""]
["Ondrej Dupal",1966,"M","GAC Benešov","CZ/C1","Toužim Cup 2022 - Kombi",{"$f":"VLOOKUP(F1805,Soutez!B:C,2,FALSE)","v":"CZ"},{"$f":"VLOOKUP(F1805,Soutez!B:D,3,FALSE)","v":2022},14,2217,0.91,6299,5732,null,null,"ASG-29E /18m","GO",""]
["Zdenek Schenk",1972,"M","Hranice","CZ/M","Toužim Cup 2022 - Kombi",{"$f":"VLOOKUP(F1806,Soutez!B:C,2,FALSE)","v":"CZ"},{"$f":"VLOOKUP(F1806,Soutez!B:D,3,FALSE)","v":2022},15,2171,0.91,6078,{"$f":"ROUND(K1806*L1806,0)","v":5531},null,null,"Ventus cm /17,6m","SNK",""]
["Karl Schiffleithner",null,null,"SFC Tulln","AT","Toužim Cup 2022 - Kombi",{"$f":"VLOOKUP(F1807,Soutez!B:C,2,FALSE)","v":"CZ"},{"$f":"VLOOKUP(F1807,Soutez!B:D,3,FALSE)","v":2022},16,2102,0.91,5807,5284,null,null,"Ventus 2cxt /18m -600 kg","IX","Není v databázi"]
["Jana Treslova",1963,"F",{"$f":"VLOOKUP(A1808,Pilot,3,0)","v":"Raná"},{"$f":"VLOOKUP(A1808,Pilot,4,0)","v":"CZ/C2"},"Toužim Cup 2022 - Kombi",{"$f":"VLOOKUP(F1808,Soutez!B:C,2,FALSE)","v":"CZ"},{"$f":"VLOOKUP(F1808,Soutez!B:D,3,FALSE)","v":2022},17,2031,0.91,5531,5033,null,null,"Discus 2a /15m","GX",""]
["Petr Jiranek 63",1962,"M","Toužim","CZ/C1","Toužim Cup 2022 - Kombi",{"$f":"VLOOKUP(F1809,Soutez!B:C,2,FALSE)","v":"CZ"},{"$f":"VLOOKUP(F1809,Soutez!B:D,3,FALSE)","v":2022},18,1928,0.91,5185,4718,"x",null,"Ventus ct /17,6m","EB",""]
["Olga Mokosova",1970,"F","Jihlava","CZ/M","Toužim Cup 2022 - Kombi",{"$f":"VLOOKUP(F1810,Soutez!B:C,2,FALSE)","v":"CZ"},{"$f":"VLOOKUP(F1810,Soutez!B:D,3,FALSE)","v":2022},19,1879,0.91,4958,4512,"x","x","LS-6c /18m WL","MM",""]
["David Zapletal",1970,"M","Mladá Boleslav","CZ/C1","Toužim Cup 2022 - Kombi",{"$f":"VLOOKUP(F1811,Soutez!B:C,2,FALSE)","v":"CZ"},{"$f":"VLOOKUP(F1811,Soutez!B:D,3,FALSE)","v":2022},20,1842,0.91,4757,4329,"x",null,"Ventus c /17,6m","PUP",""]
["Vaclav Svoboda",1970,"M","Letkov","CZ/C1","Toužim Cup 2022 - Kombi",{"$f":"VLOOKUP(F1812,Soutez!B:C,2,FALSE)","v":"CZ"},{"$f":"VLOOKUP(F1812,Soutez!B:D,3,FALSE)","v":2022},21,1587,0.91,4078,3711,"x",null,"LS-8-18 /18m",301,""]
["Jan Zanda",1983,"M","Letkov","CZ/C1","Toužim Cup 2022 - Kombi",{"$f":"VLOOKUP(F1813,Soutez!B:C,2,FALSE)","v":"CZ"},{"$f":"VLOOKUP(F1813,Soutez!B:D,3,FALSE)","v":2022},22,1527,0.91,3827,3483,"x",null,"Duo Discus (700 kg)","DL",""]
["Karel Krobath",null,null,"FRA","AT","Toužim Cup 2022 - Kombi",{"$f":"VLOOKUP(F1814,Soutez!B:C,2,FALSE)","v":"CZ"},{"$f":"VLOOKUP(F1814,Soutez!B:D,3,FALSE)","v":2022},23,1494,0.91,3634,3307,null,null,"HpH 304 TS Twin Shark S","Q","Není v databázi"]
["Roman Michalek",1974,"M",{"$f":"VLOOKUP(A1815,Pilot,3,0)","v":"Toužim"},{"$f":"VLOOKUP(A1815,Pilot,4,0)","v":"CZ/C1"},"Toužim Cup 2022 - Kombi",{"$f":"VLOOKUP(F1815,Soutez!B:C,2,FALSE)","v":"CZ"},{"$f":"VLOOKUP(F1815,Soutez!B:D,3,FALSE)","v":2022},24,1395,0.91,3297,3000,"x",null,"DG-400 17m","TK",""]
["Ludek Kluger",1963,"M","Tábor","CZ/C1","Toužim Cup 2022 - Kombi",{"$f":"VLOOKUP(F1816,Soutez!B:C,2,FALSE)","v":"CZ"},{"$f":"VLOOKUP(F1816,Soutez!B:D,3,FALSE)","v":2022},25,630,0.91,1501,1366,"x",null,"HpH 304 TS Twin Shark S","LK",""]
["Frantisek Kriz",1961,"M","Toužim","CZ/C1","Toužim Cup 2022 - Kombi",{"$f":"VLOOKUP(F1817,Soutez!B:C,2,FALSE)","v":"CZ"},{"$f":"VLOOKUP(F1817,Soutez!B:D,3,FALSE)","v":2022},26,590,0.91,1293,1177,"x",null,"DG-400 17m","FK",""]
["Frantisek Vancura",1966,"M",{"$f":"VLOOKUP(A1818,Pilot,3,0)","v":"Hranice"},{"$f":"VLOOKUP(A1818,Pilot,4,0)","v":"CZ/M"},"FL 2022 - Kombi",{"$f":"VLOOKUP(F1818,Soutez!B:C,2,FALSE)","v":"CZ"},{"$f":"VLOOKUP(F1818,Soutez!B:D,3,FALSE)","v":2022},1,1283,0.73499999999999999,{"$f":"ROUND(J1818/MAX($J$1818:$J$1832)*10000*0.7+(MAX($I$1818:$I$1832)-I1818)/(MAX($I$1818:$I$1832)-1)*10000*0.3,0)","v":10000},{"$f":"ROUND(K1818*L1818,0)","v":7350},null,null,"Nimbus 3T 24.5m","A1",""]
["Martin Suchy",1969,"M","Hranice","CZ/M","FL 2022 - Kombi",{"$f":"VLOOKUP(F1819,Soutez!B:C,2,FALSE)","v":"CZ"},{"$f":"VLOOKUP(F1819,Soutez!B:D,3,FALSE)","v":2022},2,1232,0.73499999999999999,9507,{"$f":"ROUND(K1819*L1819,0)","v":6988},"x",null,"DG 500M 22m","T1",""]
["Michal Buryan",1977,"M","Vysoké Mýto","CZ/C2","FL 2022 - Kombi",{"$f":"VLOOKUP(F1820,Soutez!B:C,2,FALSE)","v":"CZ"},{"$f":"VLOOKUP(F1820,Soutez!B:D,3,FALSE)","v":2022},3,1098,0.73499999999999999,8562,6293,"x",null,"duo discus",777,""]
["Milos Matejka",1956,"M","Beroun","CZ/C1","FL 2022 - Kombi",{"$f":"VLOOKUP(F1821,Soutez!B:C,2,FALSE)","v":"CZ"},{"$f":"VLOOKUP(F1821,Soutez!B:D,3,FALSE)","v":2022},4,1095,0.73499999999999999,8331,6123,"x",null,"Discus b WL","SH",""]
["Lumir Motyka",1955,"M","Frýdlant","CZ/M","FL 2022 - Kombi",{"$f":"VLOOKUP(F1822,Soutez!B:C,2,FALSE)","v":"CZ"},{"$f":"VLOOKUP(F1822,Soutez!B:D,3,FALSE)","v":2022},5,1068,0.73499999999999999,7970,5858,"x",null,"LAK-12","DE",""]
["Lukas Benedikt",null,null,"AK Trnava","SK","FL 2022 - Kombi",{"$f":"VLOOKUP(F1823,Soutez!B:C,2,FALSE)","v":"CZ"},{"$f":"VLOOKUP(F1823,Soutez!B:D,3,FALSE)","v":2022},6,863,0.73499999999999999,6637,4878,null,null,"Ventus 3F 18m","LB","Není v databázi"]
["Jaroslav Buryan",1953,"M",{"$f":"VLOOKUP(A1824,Pilot,3,0)","v":"Zábřeh"},{"$f":"VLOOKUP(A1824,Pilot,4,0)","v":"CZ/M"},"FL 2022 - Kombi",{"$f":"VLOOKUP(F1824,Soutez!B:C,2,FALSE)","v":"CZ"},{"$f":"VLOOKUP(F1824,Soutez!B:D,3,FALSE)","v":2022},7,800,0.73499999999999999,6079,4468,null,null,"ASW 20 WL","NS",""]
["Vladimir Jirka",1965,"M","Zábřeh","CZ/M","FL 2022 - Kombi",{"$f":"VLOOKUP(F1825,Soutez!B:C,2,FALSE)","v":"CZ"},{"$f":"VLOOKUP(F1825,Soutez!B:D,3,FALSE)","v":2022},8,715,0.73499999999999999,5401,3970,"x",null,"HpH 304 TS Twin Shark",11,""]
["Antonin Kutalek",1943,"M","Zábřeh","CZ/M","FL 2022 - Kombi",{"$f":"VLOOKUP(F1826,Soutez!B:C,2,FALSE)","v":"CZ"},{"$f":"VLOOKUP(F1826,Soutez!B:D,3,FALSE)","v":2022},9,689,{"$f":"VLOOKUP(F1826,Soutez,12,0)","v":0.73499999999999999},5045,{"$f":"ROUND(K1826*L1826,0)","v":3708},null,null,"LAK-17A T 18m","GL",""]
["Roman Cerny",1971,"M","Hranice","CZ/M","FL 2022 - Kombi",{"$f":"VLOOKUP(F1827,Soutez!B:C,2,FALSE)","v":"CZ"},{"$f":"VLOOKUP(F1827,Soutez!B:D,3,FALSE)","v":2022},9,689,0.73499999999999999,5045,3708,"x",null,"Nimbus 3 25.5m","RF",""]
["Martin Urban",1971,"M","Frýdlant","CZ/M","FL 2022 - Kombi",{"$f":"VLOOKUP(F1828,Soutez!B:C,2,FALSE)","v":"CZ"},{"$f":"VLOOKUP(F1828,Soutez!B:D,3,FALSE)","v":2022},11,687,0.73499999999999999,4605,3385,"x",null,"LS 3a","SJ",""]
["Jan Kristof",1962,"M","Frýdlant","CZ/M","FL 2022 - Kombi",{"$f":"VLOOKUP(F1829,Soutez!B:C,2,FALSE)","v":"CZ"},{"$f":"VLOOKUP(F1829,Soutez!B:D,3,FALSE)","v":2022},12,617,0.73499999999999999,4009,2947,"x",null,"LS 3","TX",""]
["Petr Brezina",1963,"M","Frýdlant","CZ/M","FL 2022 - Kombi",{"$f":"VLOOKUP(F1830,Soutez!B:C,2,FALSE)","v":"CZ"},{"$f":"VLOOKUP(F1830,Soutez!B:D,3,FALSE)","v":2022},13,553,0.73499999999999999,3446,2533,"x",null,"DG 200","AK",""]
["Radim Hahn",1972,"M","Zábřeh","CZ/M","FL 2022 - Kombi",{"$f":"VLOOKUP(F1831,Soutez!B:C,2,FALSE)","v":"CZ"},{"$f":"VLOOKUP(F1831,Soutez!B:D,3,FALSE)","v":2022},14,519,0.73499999999999999,3046,2239,"x",null,"Ventus 3M 18m","I3",""]
["Zdenek Schenk",1972,"M","Hranice","CZ/M","FL 2022 - Kombi",{"$f":"VLOOKUP(F1832,Soutez!B:C,2,FALSE)","v":"CZ"},{"$f":"VLOOKUP(F1832,Soutez!B:D,3,FALSE)","v":2022},15,424,0.73499999999999999,2313,1700,null,null,"Ventus cM 17.6m","ŠNeK",""]
["David Sachl",{"$f":"VLOOKUP(A1833,Pilot,2,0)","v":1978},{"$f":"VLOOKUP(A1833,Pilot,5,0)","v":"M"},{"$f":"VLOOKUP(A1833,Pilot,3,0)","v":"Kralupy"},{"$f":"VLOOKUP(A1833,Pilot,4,0)","v":"CZ/C1"},"Adrenalin GP 2022 - Klub GP",{"$f":"VLOOKUP(F1833,Soutez!B:C,2,FALSE)","v":"CZ"},{"$f":"VLOOKUP(F1833,Soutez!B:D,3,FALSE)","v":2022},1,26,0.9,{"$f":"ROUND((MAX($I$1833:$I$1844)-I1833)/(MAX($I$1833:$I$1844)-1)*10000,0)","v":10000},{"$f":"ROUND(K1833*L1833,0)","v":9000},"x",null,"DG-300 Club ELAN WL (450kg)","BK",""]
["Jan Mareth",1979,"M","Frýdlant","CZ/M","Adrenalin GP 2022 - Klub GP",{"$f":"VLOOKUP(F1834,Soutez!B:C,2,FALSE)","v":"CZ"},{"$f":"VLOOKUP(F1834,Soutez!B:D,3,FALSE)","v":2022},2,25,0.9,9091,{"$f":"ROUND(K1834*L1834,0)","v":8182},"x",null,"ASW 15 B","PA",""]
["Jan Sponer",1988,"M","Medlánky","CZ/M","Adrenalin GP 2022 - Klub GP",{"$f":"VLOOKUP(F1835,Soutez!B:C,2,FALSE)","v":"CZ"},{"$f":"VLOOKUP(F1835,Soutez!B:D,3,FALSE)","v":2022},3,13,0.9,8182,7364,"x",null,"Std. Cirrus","EX",""]
["Stepan Obrovsky",1990,"M","Frýdlant","CZ/M","Adrenalin GP 2022 - Klub GP",{"$f":"VLOOKUP(F1836,Soutez!B:C,2,FALSE)","v":"CZ"},{"$f":"VLOOKUP(F1836,Soutez!B:D,3,FALSE)","v":2022},4,11,0.9,7273,6546,"x",null,"LS 1-f","JT",""]
["Pavel Foldyna",1976,"M","Frýdlant","CZ/M","Adrenalin GP 2022 - Klub GP",{"$f":"VLOOKUP(F1837,Soutez!B:C,2,FALSE)","v":"CZ"},{"$f":"VLOOKUP(F1837,Soutez!B:D,3,FALSE)","v":2022},5,8,0.9,6364,{"$f":"ROUND(K1837*L1837,0)","v":5728},"x",null,"g 102 Astir CS","BH",""]
["Rostislav Stryk",1972,"M","Frýdlant","CZ/M","Adrenalin GP 2022 - Klub GP",{"$f":"VLOOKUP(F1838,Soutez!B:C,2,FALSE)","v":"CZ"},{"$f":"VLOOKUP(F1838,Soutez!B:D,3,FALSE)","v":2022},6,7,0.9,5455,4910,"x",null,"Std. Cirrus",22,""]
["Daniel Suchy",1995,"M","Hranice","CZ/M","Adrenalin GP 2022 - Klub GP",{"$f":"VLOOKUP(F1839,Soutez!B:C,2,FALSE)","v":"CZ"},{"$f":"VLOOKUP(F1839,Soutez!B:D,3,FALSE)","v":2022},7,6,0.9,4545,4091,"x",null,"g 102 Astir CS","W7",{"$f":"IF(ISERROR(VLOOKUP(A1839,Pilot,6,0)),\"Není v databázi\",VLOOKUP(A1839,Pilot,6,0))","v":""}]
["Radim Zielinski",1969,"M","Frýdlant","CZ/M","Adrenalin GP 2022 - Klub GP",{"$f":"VLOOKUP(F1840,Soutez!B:C,2,FALSE)","v":"CZ"},{"$f":"VLOOKUP(F1840,Soutez!B:D,3,FALSE)","v":2022},8,5,0.9,3636,3272,"x",null,"LS 1-f","EM",""]
["Jan Matejovsky",1972,"M","Hranice","CZ/M","Adrenalin GP 2022 - Klub GP",{"$f":"VLOOKUP(F1841,Soutez!B:C,2,FALSE)","v":"CZ"},{"$f":"VLOOKUP(F1841,Soutez!B:D,3,FALSE)","v":2022},9,4,0.9,2727,2454,"x",null,"Std. Cirrus","BY",""]
["Martin Svacina",1965,"M","Frýdlant","CZ/M","Adrenalin GP 2022 - Klub GP",{"$f":"VLOOKUP(F1842,Soutez!B:C,2,FALSE)","v":"CZ"},{"$f":"VLOOKUP(F1842,Soutez!B:D,3,FALSE)","v":2022},10,3,0.9,1818,1636,"x",null,"Std. Cirrus","E",""]
["Stanislav Doskocil",1978,"M","Medlánky","CZ/M","Adrenalin GP 2022 - Klub GP",{"$f":"VLOOKUP(F1843,Soutez!B:C,2,FALSE)","v":"CZ"},{"$f":"VLOOKUP(F1843,Soutez!B:D,3,FALSE)","v":2022},11,2,0.9,909,818,"x",null,"Std. Cirrus","SD",""]
["Lukas Kotek",1994,"M","Frýdlant","CZ/M","Adrenalin GP 2022 - Klub GP",{"$f":"VLOOKUP(F1844,Soutez!B:C,2,FALSE)","v":"CZ"},{"$f":"VLOOKUP(F1844,Soutez!B:D,3,FALSE)","v":2022},12,0,0.9,0,0,null,null,"vso-10","B6",""]
["Miroslav Mitrus",1972,"M",{"$f":"VLOOKUP(A1845,Pilot,3,0)","v":"GAC Benešov"},{"$f":"VLOOKUP(A1845,Pilot,4,0)","v":"CZ/C1"},"Ulfův memoriál",{"$f":"VLOOKUP(F1845,Soutez!B:C,2,FALSE)","v":"CZ"},{"$f":"VLOOKUP(F1845,Soutez!B:D,3,FALSE)","v":2022},1,436,0,{"$f":"ROUND(J1845/MAX($J$1845:$J$1854)*10000*0.7+(MAX($I$1845:$I$1854)-I1845)/(MAX($I$1845:$I$1854)-1)*10000*0.3,0)","v":10000},{"$f":"ROUND(K1845*L1845,0)","v":0},null,null,"VT-125 Sohaj",68,""]
["Michal Ondracek",1966,"M","Medlánky","CZ/M","Ulfův memoriál",{"$f":"VLOOKUP(F1846,Soutez!B:C,2,FALSE)","v":"CZ"},{"$f":"VLOOKUP(F1846,Soutez!B:D,3,FALSE)","v":2022},2,360,0,8446,{"$f":"ROUND(K1846*L1846,0)","v":0},null,null,"Ka 6 E","2W",""]
["piloti AK Nachod",null,null,null,null,"Ulfův memoriál",{"$f":"VLOOKUP(F1847,Soutez!B:C,2,FALSE)","v":"CZ"},{"$f":"VLOOKUP(F1847,Soutez!B:D,3,FALSE)","v":2022},3,343,0,7840,0,null,null,"Bergfalke IV","RZ2","Není v databázi"]
["Tomas Mezera",1973,"M","Raná","CZ/C2","Ulfův memoriál",{"$f":"VLOOKUP(F1848,Soutez!B:C,2,FALSE)","v":"CZ"},{"$f":"VLOOKUP(F1848,Soutez!B:D,3,FALSE)","v":2022},4,256,0,6110,0,null,null,"VT-425 Sohaj","T",""]
["Jiri Lenik",1947,"M","Raná","CZ/C2","Ulfův memoriál",{"$f":"VLOOKUP(F1849,Soutez!B:C,2,FALSE)","v":"CZ"},{"$f":"VLOOKUP(F1849,Soutez!B:D,3,FALSE)","v":2022},5,243,0,5568,0,null,null,"Skylark 2b","CRX",""]
["Jaromir Hendrych",1954,"M","Raná","CZ/C2","Ulfův memoriál",{"$f":"VLOOKUP(F1850,Soutez!B:C,2,FALSE)","v":"CZ"},{"$f":"VLOOKUP(F1850,Soutez!B:D,3,FALSE)","v":2022},6,235,0,5106,{"$f":"ROUND(K1850*L1850,0)","v":0},null,null,"VT-125 Sohaj",37,""]
["Vladimir Abraham",1962,"M","Raná","CZ/C2","Ulfův memoriál",{"$f":"VLOOKUP(F1851,Soutez!B:C,2,FALSE)","v":"CZ"},{"$f":"VLOOKUP(F1851,Soutez!B:D,3,FALSE)","v":2022},7,234,0,4757,0,null,null,"Ka 6","Y7",""]
["Sarka Lochova",1966,"F","Šumperk","CZ/M","Ulfův memoriál",{"$f":"VLOOKUP(F1852,Soutez!B:C,2,FALSE)","v":"CZ"},{"$f":"VLOOKUP(F1852,Soutez!B:D,3,FALSE)","v":2022},8,217,0,4151,0,null,null,"Ka 6",22,""]
["Zbynek Bican",1961,"M","Raná","CZ/C2","Ulfův memoriál",{"$f":"VLOOKUP(F1853,Soutez!B:C,2,FALSE)","v":"CZ"},{"$f":"VLOOKUP(F1853,Soutez!B:D,3,FALSE)","v":2022},9,157,0,2854,0,null,null,"LG-130","K",""]
["piloti AK Rana",null,null,null,null,"Ulfův memoriál",{"$f":"VLOOKUP(F1854,Soutez!B:C,2,FALSE)","v":"CZ"},{"$f":"VLOOKUP(F1854,Soutez!B:D,3,FALSE)","v":2022},10,104,0,1670,0,null,null,"Ka 8",78,"Není v databázi"]
["Michal Drab",1969,"M",{"$f":"VLOOKUP(A1855,Pilot,3,0)","v":"Letkov"},{"$f":"VLOOKUP(A1855,Pilot,4,0)","v":"CZ/C1"},"Podbrdský pohár",{"$f":"VLOOKUP(F1855,Soutez!B:C,2,FALSE)","v":"CZ"},{"$f":"VLOOKUP(F1855,Soutez!B:D,3,FALSE)","v":2022},1,2517,0,{"$f":"ROUND(J1855/MAX($J$1855:$J$1874)*10000*0.7+(MAX($I$1855:$I$1874)-I1855)/(MAX($I$1855:$I$1874)-1)*10000*0.3,0)","v":10000},{"$f":"ROUND(K1855*L1855,0)","v":0},null,null,"LS 1c","S3",""]
["Lubomir Svoboda",1959,"M","Letkov","CZ/C1","Podbrdský pohár",{"$f":"VLOOKUP(F1856,Soutez!B:C,2,FALSE)","v":"CZ"},{"$f":"VLOOKUP(F1856,Soutez!B:D,3,FALSE)","v":2022},2,1811,0,7860,{"$f":"ROUND(K1856*L1856,0)","v":0},null,null,"LAK 19,T 18m WL (voda)","LT",""]
["Vratislav Sram",1966,"M","Broumov","CZ/C2","Podbrdský pohár",{"$f":"VLOOKUP(F1857,Soutez!B:C,2,FALSE)","v":"CZ"},{"$f":"VLOOKUP(F1857,Soutez!B:D,3,FALSE)","v":2022},3,1778,0,7592,0,null,null,"Nimbus 4DM (voda)",7,""]
["Robin Stichenwirth",1984,"M","Letkov","CZ/C1","Podbrdský pohár",{"$f":"VLOOKUP(F1858,Soutez!B:C,2,FALSE)","v":"CZ"},{"$f":"VLOOKUP(F1858,Soutez!B:D,3,FALSE)","v":2022},4,1744,0,7321,0,null,null,"LS 1c","VY",""]
["Vaclav Svoboda",1970,"M","Letkov","CZ/C1","Podbrdský pohár",{"$f":"VLOOKUP(F1859,Soutez!B:C,2,FALSE)","v":"CZ"},{"$f":"VLOOKUP(F1859,Soutez!B:D,3,FALSE)","v":2022},5,1664,0,6922,0,null,null,"LS 8b,18 18m (voda)",301,""]
["Miroslav Koci",1961,"M","Žamberk","CZ/C2","Podbrdský pohár",{"$f":"VLOOKUP(F1860,Soutez!B:C,2,FALSE)","v":"CZ"},{"$f":"VLOOKUP(F1860,Soutez!B:D,3,FALSE)","v":2022},6,1525,0,6359,0,null,null,"Ventus 2cxm 18m 565kg (voda)","E8",""]
["Jan Muknsnabl",1992,"M","Letkov","CZ/C1","Podbrdský pohár",{"$f":"VLOOKUP(F1861,Soutez!B:C,2,FALSE)","v":"CZ"},{"$f":"VLOOKUP(F1861,Soutez!B:D,3,FALSE)","v":2022},7,1474,0,6041,0,null,null,"Std. Cirrus","SB",""]
["Roman Jokl",1979,"M","Letkov","CZ/C1","Podbrdský pohár",{"$f":"VLOOKUP(F1862,Soutez!B:C,2,FALSE)","v":"CZ"},{"$f":"VLOOKUP(F1862,Soutez!B:D,3,FALSE)","v":2022},8,1344,0,5502,0,null,null,"ASW-19B (voda)","JL",""]
["Milos Matejka",1956,"M","Beroun","CZ/C1","Podbrdský pohár",{"$f":"VLOOKUP(F1863,Soutez!B:C,2,FALSE)","v":"CZ"},{"$f":"VLOOKUP(F1863,Soutez!B:D,3,FALSE)","v":2022},9,1335,0,5301,0,null,null,"Discus b +W(voda)","SH",""]
["Daniel Dvorak",1980,"M","Letkov","CZ/C1","Podbrdský pohár",{"$f":"VLOOKUP(F1864,Soutez!B:C,2,FALSE)","v":"CZ"},{"$f":"VLOOKUP(F1864,Soutez!B:D,3,FALSE)","v":2022},10,1277,0,4963,0,null,null,"Std. Cirrus","LD",""]
["Petr Setka",1971,"M","Letkov","CZ/C1","Podbrdský pohár",{"$f":"VLOOKUP(F1865,Soutez!B:C,2,FALSE)","v":"CZ"},{"$f":"VLOOKUP(F1865,Soutez!B:D,3,FALSE)","v":2022},11,717,0,3229,{"$f":"ROUND(K1865*L1865,0)","v":0},null,null,"Ventus 2cxm 18m 565kg (voda)","RS",""]
["Marek Blatak",1969,"M","Šumperk","CZ/M","Podbrdský pohár",{"$f":"VLOOKUP(F1866,Soutez!B:C,2,FALSE)","v":"CZ"},{"$f":"VLOOKUP(F1866,Soutez!B:D,3,FALSE)","v":2022},12,378,0,2110,0,null,null,"DG-808 S Competition 18m+W (voda)","MS",""]
["Vaclav Hrdina",1984,"M","Letkov","CZ/C1","Podbrdský pohár",{"$f":"VLOOKUP(F1867,Soutez!B:C,2,FALSE)","v":"CZ"},{"$f":"VLOOKUP(F1867,Soutez!B:D,3,FALSE)","v":2022},13,309,0,1742,0,null,null,"LS 1c","AN",""]
["Lukas Nalos",1976,"M","Letkov","CZ/C1","Podbrdský pohár",{"$f":"VLOOKUP(F1868,Soutez!B:C,2,FALSE)","v":"CZ"},{"$f":"VLOOKUP(F1868,Soutez!B:D,3,FALSE)","v":2022},14,253,0,1409,0,null,null,"DG-300 (450 kg) (voda)","LN",""]
["Jan Zanda",1983,"M","Letkov","CZ/C1","Podbrdský pohár",{"$f":"VLOOKUP(F1869,Soutez!B:C,2,FALSE)","v":"CZ"},{"$f":"VLOOKUP(F1869,Soutez!B:D,3,FALSE)","v":2022},15,250,0,1225,0,null,null,"Std. Cirrus","AL",""]
["Petr Kolomaznik",1981,"M","Šumperk","CZ/M","Podbrdský pohár",{"$f":"VLOOKUP(F1870,Soutez!B:C,2,FALSE)","v":"CZ"},{"$f":"VLOOKUP(F1870,Soutez!B:D,3,FALSE)","v":2022},16,226,0,981,0,null,null,"Discus b +W(voda)","VE",""]
["Jiri Bartak",1978,"M","Letkov","CZ/C1","Podbrdský pohár",{"$f":"VLOOKUP(F1871,Soutez!B:C,2,FALSE)","v":"CZ"},{"$f":"VLOOKUP(F1871,Soutez!B:D,3,FALSE)","v":2022},17,19,0,229,0,null,null,"Std. Cirrus","SR",""]
["Lukas Koukal",1991,"M","Letkov","CZ/C1","Podbrdský pohár",{"$f":"VLOOKUP(F1872,Soutez!B:C,2,FALSE)","v":"CZ"},{"$f":"VLOOKUP(F1872,Soutez!B:D,3,FALSE)","v":2022},18,0,0,0,0,null,null,"ASW-15B","T1",""]
["Petr Bartak",1984,"M","Letkov","CZ/C1","Podbrdský pohár",{"$f":"VLOOKUP(F1873,Soutez!B:C,2,FALSE)","v":"CZ"},{"$f":"VLOOKUP(F1873,Soutez!B:D,3,FALSE)","v":2022},18,0,0,0,0,null,null,"LS 6c 18m+W (voda)","BL",""]
["Roman Lanzendorf",1964,"M","Letkov","CZ/C1","Podbrdský pohár",{"$f":"VLOOKUP(F1874,Soutez!B:C,2,FALSE)","v":"CZ"},{"$f":"VLOOKUP(F1874,Soutez!B:D,3,FALSE)","v":2022},18,0,0,0,0,null,null,"Ventus ct 17,6m (voda)","AW",""]
["Zdenek Boruvka 86",1986,"M",{"$f":"VLOOKUP(A1875,Pilot,3,0)","v":"Jičín"},{"$f":"VLOOKUP(A1875,Pilot,4,0)","v":"CZ/C2"},"AZ Cup 2022 - Klub",{"$f":"VLOOKUP(F1875,Soutez!B:C,2,FALSE)","v":"CZ"},{"$f":"VLOOKUP(F1875,Soutez!B:D,3,FALSE)","v":2022},1,4700,0.91500000000000004,{"$f":"ROUND(J1875/MAX($J$1875:$J$1896)*10000*0.7+(MAX($I$1875:$I$1896)-I1875)/(MAX($I$1875:$I$1896)-1)*10000*0.3,0)","v":10000},{"$f":"ROUND(K1875*L1875,0)","v":9150},"x",null,"STD. Cirrus","BJ",""]
["Eduard Niko",1988,"M","Zbraslavice","CZ/C1","AZ Cup 2022 - Klub",{"$f":"VLOOKUP(F1876,Soutez!B:C,2,FALSE)","v":"CZ"},{"$f":"VLOOKUP(F1876,Soutez!B:D,3,FALSE)","v":2022},2,4631,0.91500000000000004,9754,{"$f":"ROUND(K1876*L1876,0)","v":8925},"x",null,"ASW 20","EW",""]
["David Popovsky",1976,"M","Rakovník","CZ/C1","AZ Cup 2022 - Klub",{"$f":"VLOOKUP(F1877,Soutez!B:C,2,FALSE)","v":"CZ"},{"$f":"VLOOKUP(F1877,Soutez!B:D,3,FALSE)","v":2022},3,4440,0.91500000000000004,9327,8534,"x",null,"ASW 24",76,""]
["Jan Horak",1971,"M","Zbraslavice","CZ/C1","AZ Cup 2022 - Klub",{"$f":"VLOOKUP(F1878,Soutez!B:C,2,FALSE)","v":"CZ"},{"$f":"VLOOKUP(F1878,Soutez!B:D,3,FALSE)","v":2022},4,4374,0.91500000000000004,9086,8314,"x",null,"ASW 20 W","WX",""]
["Martin Urban",1971,"M","Frýdlant","CZ/M","AZ Cup 2022 - Klub",{"$f":"VLOOKUP(F1879,Soutez!B:C,2,FALSE)","v":"CZ"},{"$f":"VLOOKUP(F1879,Soutez!B:D,3,FALSE)","v":2022},5,4369,0.91500000000000004,8936,8176,"x",null,"LS-3a","SJ",""]
["Jakub Kmosek",{"$f":"VLOOKUP(A1880,Pilot,2,0)","v":1978},{"$f":"VLOOKUP(A1880,Pilot,5,0)","v":"M"},"Zbraslavice","CZ/C1","AZ Cup 2022 - Klub",{"$f":"VLOOKUP(F1880,Soutez!B:C,2,FALSE)","v":"CZ"},{"$f":"VLOOKUP(F1880,Soutez!B:D,3,FALSE)","v":2022},6,4029,0.91500000000000004,8286,7582,"x",null,"STD. Cirrus","ST",""]
["Petr Havelka",1997,"M","Zbraslavice","CZ/C1","AZ Cup 2022 - Klub",{"$f":"VLOOKUP(F1881,Soutez!B:C,2,FALSE)","v":"CZ"},{"$f":"VLOOKUP(F1881,Soutez!B:D,3,FALSE)","v":2022},7,3895,0.91500000000000004,7944,7269,"x",null,"ASW 19","PH",""]
["Jakub Malik",1999,"M","Letňany","CZ/C1","AZ Cup 2022 - Klub",{"$f":"VLOOKUP(F1882,Soutez!B:C,2,FALSE)","v":"CZ"},{"$f":"VLOOKUP(F1882,Soutez!B:D,3,FALSE)","v":2022},8,3648,0.91500000000000004,7433,6801,"x",null,"Discus BW","DP","Junior v roce 2023"]
["Tomas Malik",1972,"M","Letňany","CZ/C1","AZ Cup 2022 - Klub",{"$f":"VLOOKUP(F1883,Soutez!B:C,2,FALSE)","v":"CZ"},{"$f":"VLOOKUP(F1883,Soutez!B:D,3,FALSE)","v":2022},9,3570,0.91500000000000004,7174,6564,"x",null,"Discus B","LH",""]
["Jan Smekal",1976,"M","Zbraslavice","CZ/C1","AZ Cup 2022 - Klub",{"$f":"VLOOKUP(F1884,Soutez!B:C,2,FALSE)","v":"CZ"},{"$f":"VLOOKUP(F1884,Soutez!B:D,3,FALSE)","v":2022},10,3434,0.91500000000000004,6829,6249,"x",null,"ASW 20","NW",""]
["Jan Florian",1992,"M","Zbraslavice","CZ/C1","AZ Cup 2022 - Klub",{"$f":"VLOOKUP(F1885,Soutez!B:C,2,FALSE)","v":"CZ"},{"$f":"VLOOKUP(F1885,Soutez!B:D,3,FALSE)","v":2022},11,3413,0.91500000000000004,6655,6089,"x",null,"Std. cirrus","C1",""]
["Vaclav Sehnal",1962,"M","Kolín","CZ/C1","AZ Cup 2022 - Klub",{"$f":"VLOOKUP(F1886,Soutez!B:C,2,FALSE)","v":"CZ"},{"$f":"VLOOKUP(F1886,Soutez!B:D,3,FALSE)","v":2022},12,2942,0.91500000000000004,5810,5316,"x",null,"Jantar STD 2","VS",""]
["Jan Zahradka",1981,"M","Hodkovice","CZ/C2","AZ Cup 2022 - Klub",{"$f":"VLOOKUP(F1887,Soutez!B:C,2,FALSE)","v":"CZ"},{"$f":"VLOOKUP(F1887,Soutez!B:D,3,FALSE)","v":2022},13,2900,0.91500000000000004,5605,{"$f":"ROUND(K1887*L1887,0)","v":5129},"x",null,"STD. Cirrus","AR",""]
["Linda Vasatova",1990,"F","Mladá Boleslav","CZ/C1","AZ Cup 2022 - Klub",{"$f":"VLOOKUP(F1888,Soutez!B:C,2,FALSE)","v":"CZ"},{"$f":"VLOOKUP(F1888,Soutez!B:D,3,FALSE)","v":2022},14,2866,0.91500000000000004,5411,4951,"x","x","ASW 19","XS",{"$f":"IF(ISERROR(VLOOKUP(A1888,Pilot,6,0)),\"Není v databázi\",VLOOKUP(A1888,Pilot,6,0))","v":""}]
["David Sachl",1978,"M","Kralupy","CZ/C1","AZ Cup 2022 - Klub",{"$f":"VLOOKUP(F1889,Soutez!B:C,2,FALSE)","v":"CZ"},{"$f":"VLOOKUP(F1889,Soutez!B:D,3,FALSE)","v":2022},15,2627,0.91500000000000004,4913,4495,null,null,"DG-300 WL","BK",""]
["Ales Holoubek",1966,"M","Jičín","CZ/C2","AZ Cup 2022 - Klub",{"$f":"VLOOKUP(F1890,Soutez!B:C,2,FALSE)","v":"CZ"},{"$f":"VLOOKUP(F1890,Soutez!B:D,3,FALSE)","v":2022},16,2609,{"$f":"VLOOKUP(F1890,Soutez,12,0)","v":0.91500000000000004},4743,4340,"x",null,"ASW 15B NG","T",""]
["Frantisek Pycha",1972,"M","Chrudim","CZ/C2","AZ Cup 2022 - Klub",{"$f":"VLOOKUP(F1891,Soutez!B:C,2,FALSE)","v":"CZ"},{"$f":"VLOOKUP(F1891,Soutez!B:D,3,FALSE)","v":2022},17,2331,0.91500000000000004,4186,3830,"x",null,"STD.Cirrus","JE",""]
["Frantisek Komarek",1985,"M","Zbraslavice","CZ/C1","AZ Cup 2022 - Klub",{"$f":"VLOOKUP(F1892,Soutez!B:C,2,FALSE)","v":"CZ"},{"$f":"VLOOKUP(F1892,Soutez!B:D,3,FALSE)","v":2022},18,2308,0.91500000000000004,4009,3668,"x",null,"ASW 19 B","PM",""]
["Petr Brezina",1963,"M","Frýdlant","CZ/M","AZ Cup 2022 - Klub",{"$f":"VLOOKUP(F1893,Soutez!B:C,2,FALSE)","v":"CZ"},{"$f":"VLOOKUP(F1893,Soutez!B:D,3,FALSE)","v":2022},19,2113,0.91500000000000004,3576,3272,"x",null,"DG 200","AK",""]
["Matous Schmidt",1981,"M","Letňany","CZ/C1","AZ Cup 2022 - Klub",{"$f":"VLOOKUP(F1894,Soutez!B:C,2,FALSE)","v":"CZ"},{"$f":"VLOOKUP(F1894,Soutez!B:D,3,FALSE)","v":2022},20,1927,0.91500000000000004,3156,2888,"x",null,"STD. Cirrus","IMI",""]
["Jiri Hodan",1959,"M","Zbraslavice","CZ/C1","AZ Cup 2022 - Klub",{"$f":"VLOOKUP(F1895,Soutez!B:C,2,FALSE)","v":"CZ"},{"$f":"VLOOKUP(F1895,Soutez!B:D,3,FALSE)","v":2022},21,1897,0.91500000000000004,2968,2716,"x",null,"G 103 dvojí","RB",""]
["Tomas Jung",1950,"M","Zbraslavice","CZ/C1","AZ Cup 2022 - Klub",{"$f":"VLOOKUP(F1896,Soutez!B:C,2,FALSE)","v":"CZ"},{"$f":"VLOOKUP(F1896,Soutez!B:D,3,FALSE)","v":2022},22,1299,0.91500000000000004,1935,1771,"x",null,"ASW 19","O2",""]
["Martin Hrivna",1978,"M",{"$f":"VLOOKUP(A1897,Pilot,3,0)","v":"Zbraslavice"},{"$f":"VLOOKUP(A1897,Pilot,4,0)","v":"CZ/C1"},"AZ Cup 2022 - Kombi ",{"$f":"VLOOKUP(F1897,Soutez!B:C,2,FALSE)","v":"CZ"},{"$f":"VLOOKUP(F1897,Soutez!B:D,3,FALSE)","v":2022},1,4537,0.95500000000000007,{"$f":"ROUND(J1897/MAX($J$1897:$J$1920)*10000*0.7+(MAX($I$1897:$I$1920)-I1897)/(MAX($I$1897:$I$1920)-1)*10000*0.3,0)","v":10000},{"$f":"ROUND(K1897*L1897,0)","v":9550},"x",null,"ASG 29E-18M","NX",""]
["Petr Tichy",1973,"M","Zbraslavice","CZ/C1","AZ Cup 2022 - Kombi ",{"$f":"VLOOKUP(F1898,Soutez!B:C,2,FALSE)","v":"CZ"},{"$f":"VLOOKUP(F1898,Soutez!B:D,3,FALSE)","v":2022},2,4530,0.95500000000000007,9859,{"$f":"ROUND(K1898*L1898,0)","v":9415},"x",null,"ASG 29 E 18m","AJ",""]
["Tomas Suchanek",1964,"M","GAC Benešov","CZ/C1","AZ Cup 2022 - Kombi ",{"$f":"VLOOKUP(F1899,Soutez!B:C,2,FALSE)","v":"CZ"},{"$f":"VLOOKUP(F1899,Soutez!B:D,3,FALSE)","v":2022},3,4493,0.95500000000000007,9671,9236,null,null,"Ventus C 17,6m","UP",""]
["Jan Kotan",1982,"M","Letňany","CZ/C1","AZ Cup 2022 - Kombi ",{"$f":"VLOOKUP(F1900,Soutez!B:C,2,FALSE)","v":"CZ"},{"$f":"VLOOKUP(F1900,Soutez!B:D,3,FALSE)","v":2022},4,4423,0.95500000000000007,9433,9009,"x",null,"Ventus 2bx 15m","YA",""]
["Tomas Rendla",1973,"M","Zbraslavice","CZ/C1","AZ Cup 2022 - Kombi ",{"$f":"VLOOKUP(F1901,Soutez!B:C,2,FALSE)","v":"CZ"},{"$f":"VLOOKUP(F1901,Soutez!B:D,3,FALSE)","v":2022},5,4416,0.95500000000000007,9292,8874,"x",null,"EB29R","EX",""]
["Radek Kucirek",1973,"M","Havlíčkův Brod","CZ/C2","AZ Cup 2022 - Kombi ",{"$f":"VLOOKUP(F1902,Soutez!B:C,2,FALSE)","v":"CZ"},{"$f":"VLOOKUP(F1902,Soutez!B:D,3,FALSE)","v":2022},6,4408,0.95500000000000007,9149,8737,null,null,"EB 28 Edition 28m","NA",""]
["Alena Netusilova",1970,"F","Zbraslavice","CZ/C1","AZ Cup 2022 - Kombi ",{"$f":"VLOOKUP(F1903,Soutez!B:C,2,FALSE)","v":"CZ"},{"$f":"VLOOKUP(F1903,Soutez!B:D,3,FALSE)","v":2022},7,4374,0.95500000000000007,8966,8563,"x",null,"JS1 18","JX",""]
["Michaela Rendlova",2004,"F","Toužim","CZ/C1","AZ Cup 2022 - Kombi ",{"$f":"VLOOKUP(F1904,Soutez!B:C,2,FALSE)","v":"CZ"},{"$f":"VLOOKUP(F1904,Soutez!B:D,3,FALSE)","v":2022},8,4367,0.95500000000000007,8825,8428,"x","x","AS33 18m","EA","Junior v roce 2023"]
["Jan Dersak 69",1969,"M","Kralupy","CZ/C1","AZ Cup 2022 - Kombi ",{"$f":"VLOOKUP(F1905,Soutez!B:C,2,FALSE)","v":"CZ"},{"$f":"VLOOKUP(F1905,Soutez!B:D,3,FALSE)","v":2022},9,4014,0.95500000000000007,8150,7783,null,null,"HPH 304SJ","DJ",""]
["Karel Krobath",null,null,"FRA","AT","AZ Cup 2022 - Kombi ",{"$f":"VLOOKUP(F1906,Soutez!B:C,2,FALSE)","v":"CZ"},{"$f":"VLOOKUP(F1906,Soutez!B:D,3,FALSE)","v":2022},10,3893,0.95500000000000007,7832,7480,null,null,"HPH TWINSHARK","Q","Není v databázi"]
["Vratislav Sram",1966,"M",{"$f":"VLOOKUP(A1907,Pilot,3,0)","v":"Broumov"},{"$f":"VLOOKUP(A1907,Pilot,4,0)","v":"CZ/C2"},"AZ Cup 2022 - Kombi ",{"$f":"VLOOKUP(F1907,Soutez!B:C,2,FALSE)","v":"CZ"},{"$f":"VLOOKUP(F1907,Soutez!B:D,3,FALSE)","v":2022},11,3842,0.95500000000000007,7623,7280,null,null,"Nimbus 4DM",7,""]
["Ondrej Dupal",1966,"M","GAC Benešov","CZ/C1","AZ Cup 2022 - Kombi ",{"$f":"VLOOKUP(F1908,Soutez!B:C,2,FALSE)","v":"CZ"},{"$f":"VLOOKUP(F1908,Soutez!B:D,3,FALSE)","v":2022},12,3790,0.95500000000000007,7413,7079,null,null,"ASG 29 E 18m","GO",""]
["Karel Benisek 76",1976,"M","Toužim","CZ/C1","AZ Cup 2022 - Kombi ",{"$f":"VLOOKUP(F1909,Soutez!B:C,2,FALSE)","v":"CZ"},{"$f":"VLOOKUP(F1909,Soutez!B:D,3,FALSE)","v":2022},13,3683,0.95500000000000007,7117,6797,"x",null,"VENTUS CT 17,6","KB",""]
["Pavel Jiranek",1993,"M","Toužim","CZ/C1","AZ Cup 2022 - Kombi ",{"$f":"VLOOKUP(F1910,Soutez!B:C,2,FALSE)","v":"CZ"},{"$f":"VLOOKUP(F1910,Soutez!B:D,3,FALSE)","v":2022},14,3566,0.95500000000000007,6806,6500,null,null,"VENTUS C 17,6m","CS",""]
["Petr Starek",1974,"M","Zbraslavice","CZ/C1","AZ Cup 2022 - Kombi ",{"$f":"VLOOKUP(F1911,Soutez!B:C,2,FALSE)","v":"CZ"},{"$f":"VLOOKUP(F1911,Soutez!B:D,3,FALSE)","v":2022},15,3495,0.95500000000000007,6566,6271,"x",null,"HPH 304 JS 18m",66,""]
["Danes Grula",1961,"M","Medlánky","CZ/M","AZ Cup 2022 - Kombi ",{"$f":"VLOOKUP(F1912,Soutez!B:C,2,FALSE)","v":"CZ"},{"$f":"VLOOKUP(F1912,Soutez!B:D,3,FALSE)","v":2022},16,3021,0.95500000000000007,5704,5447,"x",null,"ASG32MI","DX",""]
["Dusan Bernat",null,null,"Martin","SK","AZ Cup 2022 - Kombi ",{"$f":"VLOOKUP(F1913,Soutez!B:C,2,FALSE)","v":"CZ"},{"$f":"VLOOKUP(F1913,Soutez!B:D,3,FALSE)","v":2022},17,2987,0.95500000000000007,5522,{"$f":"ROUND(K1913*L1913,0)","v":5274},null,null,"DG-808B","JD","Není v databázi"]
["Petr Malcek",1965,"M",{"$f":"VLOOKUP(A1914,Pilot,3,0)","v":"Letňany"},{"$f":"VLOOKUP(A1914,Pilot,4,0)","v":"CZ/C1"},"AZ Cup 2022 - Kombi ",{"$f":"VLOOKUP(F1914,Soutez!B:C,2,FALSE)","v":"CZ"},{"$f":"VLOOKUP(F1914,Soutez!B:D,3,FALSE)","v":2022},18,2984,0.95500000000000007,5387,5145,"x",null,"LS6C 18m","F5",""]
["Petr Jiranek 63",1962,"M","Toužim","CZ/C1","AZ Cup 2022 - Kombi ",{"$f":"VLOOKUP(F1915,Soutez!B:C,2,FALSE)","v":"CZ"},{"$f":"VLOOKUP(F1915,Soutez!B:D,3,FALSE)","v":2022},19,2902,0.95500000000000007,5130,4899,"x",null,"VENTUS CT 17.6m","EB",""]
["Zdenek Schenk",1972,"M","Hranice","CZ/M","AZ Cup 2022 - Kombi ",{"$f":"VLOOKUP(F1916,Soutez!B:C,2,FALSE)","v":"CZ"},{"$f":"VLOOKUP(F1916,Soutez!B:D,3,FALSE)","v":2022},20,2694,0.95500000000000007,4678,4467,null,null,"Ventus CM 17,6m","ŠNEK",""]
["Jaromir Jedlicka",1972,"M","Letňany","CZ/C1","AZ Cup 2022 - Kombi ",{"$f":"VLOOKUP(F1917,Soutez!B:C,2,FALSE)","v":"CZ"},{"$f":"VLOOKUP(F1917,Soutez!B:D,3,FALSE)","v":2022},21,2634,0.95500000000000007,4455,4255,"x",null,"SHARK 304MS","TJ",""]
["Ivo Burda",1962,"M","Zbraslavice","CZ/C1","AZ Cup 2022 - Kombi ",{"$f":"VLOOKUP(F1918,Soutez!B:C,2,FALSE)","v":"CZ"},{"$f":"VLOOKUP(F1918,Soutez!B:D,3,FALSE)","v":2022},22,2316,0.95500000000000007,3834,3661,"x",null,"VENTUS 2CXM","IB",""]
["Karl Schiffleithner",null,null,"SFC Tulin","AT","AZ Cup 2022 - Kombi ",{"$f":"VLOOKUP(F1919,Soutez!B:C,2,FALSE)","v":"CZ"},{"$f":"VLOOKUP(F1919,Soutez!B:D,3,FALSE)","v":2022},23,2002,0.95500000000000007,3219,3074,null,null,"Ventus 2CXT 18m","IX","Není v databázi"]
["Ivan Harasta 65",1965,"M",{"$f":"VLOOKUP(A1920,Pilot,3,0)","v":"Toužim"},{"$f":"VLOOKUP(A1920,Pilot,4,0)","v":"CZ/C1"},"AZ Cup 2022 - Kombi ",{"$f":"VLOOKUP(F1920,Soutez!B:C,2,FALSE)","v":"CZ"},{"$f":"VLOOKUP(F1920,Soutez!B:D,3,FALSE)","v":2022},24,1311,0.95500000000000007,2023,1932,null,null,"NIMBUS 2M","NB",""]
["Jindrich Svorc",1978,"M",{"$f":"VLOOKUP(A1921,Pilot,3,0)","v":"Letňany"},{"$f":"VLOOKUP(A1921,Pilot,4,0)","v":"CZ/C1"},"PPV 2022 - Klub",{"$f":"VLOOKUP(F1921,Soutez!B:C,2,FALSE)","v":"CZ"},{"$f":"VLOOKUP(F1921,Soutez!B:D,3,FALSE)","v":2022},1,2210,0.88500000000000001,{"$f":"ROUND(J1921/MAX($J$1921:$J$1957)*10000*0.7+(MAX($I$1921:$I$1957)-I1921)/(MAX($I$1921:$I$1957)-1)*10000*0.3,0)","v":10000},{"$f":"ROUND(K1921*L1921,0)","v":8850},"x",null,"std. cirrus","IMI",""]
["Petr Hofman",1984,"M","Letňany","CZ/C1","PPV 2022 - Klub",{"$f":"VLOOKUP(F1922,Soutez!B:C,2,FALSE)","v":"CZ"},{"$f":"VLOOKUP(F1922,Soutez!B:D,3,FALSE)","v":2022},2,2129,0.88500000000000001,9660,{"$f":"ROUND(K1922*L1922,0)","v":8549},"x",null,"asw 15 B","MA",""]
["Vaclav Marel",1974,"M","Jaroměř","CZ/C2","PPV 2022 - Klub",{"$f":"VLOOKUP(F1923,Soutez!B:C,2,FALSE)","v":"CZ"},{"$f":"VLOOKUP(F1923,Soutez!B:D,3,FALSE)","v":2022},3,1984,0.88500000000000001,9117,8069,"x",null,"Std. Cirrus","IF",""]
["Vojtech Hajek",1987,"M","Mladá Boleslav","CZ/C1","PPV 2022 - Klub",{"$f":"VLOOKUP(F1924,Soutez!B:C,2,FALSE)","v":"CZ"},{"$f":"VLOOKUP(F1924,Soutez!B:D,3,FALSE)","v":2022},4,1931,0.88500000000000001,8866,7846,"x",null,"Std. Cirrus","BB",""]
["Josef Kolman",1983,"M","Letňany","CZ/C1","PPV 2022 - Klub",{"$f":"VLOOKUP(F1925,Soutez!B:C,2,FALSE)","v":"CZ"},{"$f":"VLOOKUP(F1925,Soutez!B:D,3,FALSE)","v":2022},5,1930,0.88500000000000001,8780,7770,"x",null,"ASW 15 B","BA4",""]
["Radek Zima 75",1975,"M","Břeclav","CZ/M","PPV 2022 - Klub",{"$f":"VLOOKUP(F1926,Soutez!B:C,2,FALSE)","v":"CZ"},{"$f":"VLOOKUP(F1926,Soutez!B:D,3,FALSE)","v":2022},6,1922,0.88500000000000001,8671,7674,"x",null,"DG 100","M",""]
["Milan Svoboda 80",1980,"M","Havlíčkův Brod","CZ/C2","PPV 2022 - Klub",{"$f":"VLOOKUP(F1927,Soutez!B:C,2,FALSE)","v":"CZ"},{"$f":"VLOOKUP(F1927,Soutez!B:D,3,FALSE)","v":2022},7,1880,0.88500000000000001,8455,7483,"x",null,"VT-116 Orlik 2",46,""]
["Tomas Ptacovsky",1981,"M","Letňany","CZ/C1","PPV 2022 - Klub",{"$f":"VLOOKUP(F1928,Soutez!B:C,2,FALSE)","v":"CZ"},{"$f":"VLOOKUP(F1928,Soutez!B:D,3,FALSE)","v":2022},7,1880,0.88500000000000001,8455,7483,"x",null,"ASW 19 B","BU",""]
["Jiri Koudela",1974,"M","Vyškov","CZ/M","PPV 2022 - Klub",{"$f":"VLOOKUP(F1929,Soutez!B:C,2,FALSE)","v":"CZ"},{"$f":"VLOOKUP(F1929,Soutez!B:D,3,FALSE)","v":2022},9,1849,0.88500000000000001,8190,7248,"x",null,"ASW 19 B","JK",""]
["Martin Urner",1974,"M","Letňany","CZ/C1","PPV 2022 - Klub",{"$f":"VLOOKUP(F1930,Soutez!B:C,2,FALSE)","v":"CZ"},{"$f":"VLOOKUP(F1930,Soutez!B:D,3,FALSE)","v":2022},10,1840,0.88500000000000001,8078,7149,null,null,"ASW 15 B","JJ",""]
["David Vrchota",1976,"M","Jaroměř","CZ/C2","PPV 2022 - Klub",{"$f":"VLOOKUP(F1931,Soutez!B:C,2,FALSE)","v":"CZ"},{"$f":"VLOOKUP(F1931,Soutez!B:D,3,FALSE)","v":2022},11,1828,0.88500000000000001,7957,7042,"x",null,"Std. Cirrus","GO",""]
["Miloslav Hulmak",1963,"M","Hosín","CZ/C1","PPV 2022 - Klub",{"$f":"VLOOKUP(F1932,Soutez!B:C,2,FALSE)","v":"CZ"},{"$f":"VLOOKUP(F1932,Soutez!B:D,3,FALSE)","v":2022},12,1792,0.88500000000000001,7759,6867,"x",null,"ASW 15 B","HH",""]
["Petr Rozhon",1972,"M","Hosín","CZ/C1","PPV 2022 - Klub",{"$f":"VLOOKUP(F1933,Soutez!B:C,2,FALSE)","v":"CZ"},{"$f":"VLOOKUP(F1933,Soutez!B:D,3,FALSE)","v":2022},13,1770,0.88500000000000001,7606,6731,"x",null,"VSO-10",9,""]
["Jakub Malik",1999,"M","Letňany","CZ/C1","PPV 2022 - Klub",{"$f":"VLOOKUP(F1934,Soutez!B:C,2,FALSE)","v":"CZ"},{"$f":"VLOOKUP(F1934,Soutez!B:D,3,FALSE)","v":2022},14,1673,0.88500000000000001,7216,6386,"x",null,"Discus b WL","DP","Junior v roce 2023"]
["David Tejnora",{"$f":"VLOOKUP(A1935,Pilot,2,0)","v":1982},{"$f":"VLOOKUP(A1935,Pilot,5,0)","v":"M"},"Jaroměř","CZ/C2","PPV 2022 - Klub",{"$f":"VLOOKUP(F1935,Soutez!B:C,2,FALSE)","v":"CZ"},{"$f":"VLOOKUP(F1935,Soutez!B:D,3,FALSE)","v":2022},15,1614,0.88500000000000001,6946,6147,"x",null,"Std. Cirrus",17,""]
["Frantisek Suna",1983,"M","Hosín","CZ/C1","PPV 2022 - Klub",{"$f":"VLOOKUP(F1936,Soutez!B:C,2,FALSE)","v":"CZ"},{"$f":"VLOOKUP(F1936,Soutez!B:D,3,FALSE)","v":2022},16,1608,0.88500000000000001,6843,6056,"x",null,"DG 100",78,""]
["Tomas Hulmak",1999,"M","Hosín","CZ/C1","PPV 2022 - Klub",{"$f":"VLOOKUP(F1937,Soutez!B:C,2,FALSE)","v":"CZ"},{"$f":"VLOOKUP(F1937,Soutez!B:D,3,FALSE)","v":2022},17,1560,0.88500000000000001,6608,5848,"x",null,"ASW 15 B","XI","Junior v roce 2023"]
["Zdenek Boruvka 86",1986,"M","Jičín","CZ/C2","PPV 2022 - Klub",{"$f":"VLOOKUP(F1938,Soutez!B:C,2,FALSE)","v":"CZ"},{"$f":"VLOOKUP(F1938,Soutez!B:D,3,FALSE)","v":2022},18,1490,0.88500000000000001,6303,5578,null,null,"Std. Cirrus","BJ",""]
["Radoslav Pur",1973,"M","Hosín","CZ/C1","PPV 2022 - Klub",{"$f":"VLOOKUP(F1939,Soutez!B:C,2,FALSE)","v":"CZ"},{"$f":"VLOOKUP(F1939,Soutez!B:D,3,FALSE)","v":2022},19,1489,0.88500000000000001,6216,5501,"x",null,"DG 200","EK",""]
["Petr Malcek",1965,"M","Letňany","CZ/C1","PPV 2022 - Klub",{"$f":"VLOOKUP(F1940,Soutez!B:C,2,FALSE)","v":"CZ"},{"$f":"VLOOKUP(F1940,Soutez!B:D,3,FALSE)","v":2022},20,1468,0.88500000000000001,6066,5368,"x",null,"Discus b","LH",""]
["Michal Vranek",1993,"M","Hosín","CZ/C1","PPV 2022 - Klub",{"$f":"VLOOKUP(F1941,Soutez!B:C,2,FALSE)","v":"CZ"},{"$f":"VLOOKUP(F1941,Soutez!B:D,3,FALSE)","v":2022},21,1461,0.88500000000000001,5961,5275,"x",null,"DG 100","8W",""]
["Martin Piskacek",1991,"M","Křižanov","CZ/M","PPV 2022 - Klub",{"$f":"VLOOKUP(F1942,Soutez!B:C,2,FALSE)","v":"CZ"},{"$f":"VLOOKUP(F1942,Soutez!B:D,3,FALSE)","v":2022},22,1380,0.88500000000000001,5621,4975,"x",null,"Std. Cirrus",75,""]
["Pavel Liska",1965,"M","Roudnice","CZ/C2","PPV 2022 - Klub",{"$f":"VLOOKUP(F1943,Soutez!B:C,2,FALSE)","v":"CZ"},{"$f":"VLOOKUP(F1943,Soutez!B:D,3,FALSE)","v":2022},23,1360,0.88500000000000001,5474,{"$f":"ROUND(K1943*L1943,0)","v":4844},"x",null,"ASW 19 B","RCE",{"$f":"IF(ISERROR(VLOOKUP(A1943,Pilot,6,0)),\"Není v databázi\",VLOOKUP(A1943,Pilot,6,0))","v":""}]
["Filip Malik",2001,"M","Letňany","CZ/C1","PPV 2022 - Klub",{"$f":"VLOOKUP(F1944,Soutez!B:C,2,FALSE)","v":"CZ"},{"$f":"VLOOKUP(F1944,Soutez!B:D,3,FALSE)","v":2022},24,1268,0.88500000000000001,5100,4514,"x",null,"vso-10","L5","Junior v roce 2023"]
["Jan Zezula",1979,"M","Letňany","CZ/C1","PPV 2022 - Klub",{"$f":"VLOOKUP(F1945,Soutez!B:C,2,FALSE)","v":"CZ"},{"$f":"VLOOKUP(F1945,Soutez!B:D,3,FALSE)","v":2022},25,1234,0.88500000000000001,4909,4344,null,null,"ASW 19 B","HD",""]
["Petr Valenta 76",1976,"M","Jaroměř","CZ/C2","PPV 2022 - Klub",{"$f":"VLOOKUP(F1946,Soutez!B:C,2,FALSE)","v":"CZ"},{"$f":"VLOOKUP(F1946,Soutez!B:D,3,FALSE)","v":2022},26,1134,0.88500000000000001,4509,3990,"x",null,"Discus b","JA",""]
["Jiri Donat",1983,"M","Chrudim","CZ/C2","PPV 2022 - Klub",{"$f":"VLOOKUP(F1947,Soutez!B:C,2,FALSE)","v":"CZ"},{"$f":"VLOOKUP(F1947,Soutez!B:D,3,FALSE)","v":2022},27,1028,0.88500000000000001,4089,3619,"x",null,"Std. Cirrus WL","JE",""]
["Jiri Janda",1966,"M","Letňany","CZ/C1","PPV 2022 - Klub",{"$f":"VLOOKUP(F1948,Soutez!B:C,2,FALSE)","v":"CZ"},{"$f":"VLOOKUP(F1948,Soutez!B:D,3,FALSE)","v":2022},28,925,0.88500000000000001,3680,3257,"x",null,"Std. Cirrus","ZT",""]
["Petr Sochor",1986,"M","Hosín","CZ/C1","PPV 2022 - Klub",{"$f":"VLOOKUP(F1949,Soutez!B:C,2,FALSE)","v":"CZ"},{"$f":"VLOOKUP(F1949,Soutez!B:D,3,FALSE)","v":2022},29,901,0.88500000000000001,3521,3116,"x",null,"ASW 15 B","6Y",""]
["Ivan Kuzelka",1945,"M","Havlíčkův Brod","CZ/C2","PPV 2022 - Klub",{"$f":"VLOOKUP(F1950,Soutez!B:C,2,FALSE)","v":"CZ"},{"$f":"VLOOKUP(F1950,Soutez!B:D,3,FALSE)","v":2022},30,899,0.88500000000000001,3431,3036,"x",null,"VT-116 Orlik 2",43,""]
["Ondrej Hart",1990,"M","Letňany","CZ/C1","PPV 2022 - Klub",{"$f":"VLOOKUP(F1951,Soutez!B:C,2,FALSE)","v":"CZ"},{"$f":"VLOOKUP(F1951,Soutez!B:D,3,FALSE)","v":2022},31,896,0.88500000000000001,3338,2954,"x",null,"G 102 Astir CS","PJ",""]
["Tereza Novakova",1993,"F","Chrudim","CZ/C2","PPV 2022 - Klub",{"$f":"VLOOKUP(F1952,Soutez!B:C,2,FALSE)","v":"CZ"},{"$f":"VLOOKUP(F1952,Soutez!B:D,3,FALSE)","v":2022},32,870,0.88500000000000001,3172,2807,"x","x","Std. Cirrus","FF",""]
["Tomas Holenda",1956,"M","Havlíčkův Brod","CZ/C2","PPV 2022 - Klub",{"$f":"VLOOKUP(F1953,Soutez!B:C,2,FALSE)","v":"CZ"},{"$f":"VLOOKUP(F1953,Soutez!B:D,3,FALSE)","v":2022},33,757,0.88500000000000001,2731,2417,"x",null,"VT-116 Orlik 2","I",""]
["Jiri Dockal",1982,"M","Letňany","CZ/C1","PPV 2022 - Klub",{"$f":"VLOOKUP(F1954,Soutez!B:C,2,FALSE)","v":"CZ"},{"$f":"VLOOKUP(F1954,Soutez!B:D,3,FALSE)","v":2022},34,706,{"$f":"VLOOKUP(F1954,Soutez,12,0)","v":0.88500000000000001},2486,2200,"x",null,"vso-10","L9",""]
["Vaclav Petru",1974,"M","Letňany","CZ/C1","PPV 2022 - Klub",{"$f":"VLOOKUP(F1955,Soutez!B:C,2,FALSE)","v":"CZ"},{"$f":"VLOOKUP(F1955,Soutez!B:D,3,FALSE)","v":2022},35,699,0.88500000000000001,2381,2107,"x",null,"Alpin T","AI",""]
["Milos Hrabe",1979,"M","Letňany","CZ/C1","PPV 2022 - Klub",{"$f":"VLOOKUP(F1956,Soutez!B:C,2,FALSE)","v":"CZ"},{"$f":"VLOOKUP(F1956,Soutez!B:D,3,FALSE)","v":2022},36,265,0.88500000000000001,923,817,"x",null,"VT-116 Orlik 2",44,""]
["Petr Lonsky",1965,"M","Toužim","CZ/C1","PPV 2022 - Klub",{"$f":"VLOOKUP(F1957,Soutez!B:C,2,FALSE)","v":"CZ"},{"$f":"VLOOKUP(F1957,Soutez!B:D,3,FALSE)","v":2022},37,0,0.88500000000000001,0,0,null,null,"Std. Cirrus","JP",""]
["Ondrej Bordovsky",1983,"M",{"$f":"VLOOKUP(A1958,Pilot,3,0)","v":"Krnov"},{"$f":"VLOOKUP(A1958,Pilot,4,0)","v":"CZ/M"},"PPV 2022 - Kombi",{"$f":"VLOOKUP(F1958,Soutez!B:C,2,FALSE)","v":"CZ"},{"$f":"VLOOKUP(F1958,Soutez!B:D,3,FALSE)","v":2022},1,2993,0.92,{"$f":"ROUND(J1958/MAX($J$1958:$J$1982)*10000*0.7+(MAX($I$1958:$I$1982)-I1958)/(MAX($I$1958:$I$1982)-1)*10000*0.3,0)","v":10000},{"$f":"ROUND(K1958*L1958,0)","v":9200},"x",null,"Ventus c 17.6m","SeX",""]
["Jan Boruvka",1984,"M","Jičín","CZ/C2","PPV 2022 - Kombi",{"$f":"VLOOKUP(F1959,Soutez!B:C,2,FALSE)","v":"CZ"},{"$f":"VLOOKUP(F1959,Soutez!B:D,3,FALSE)","v":2022},2,2938,0.92,9746,{"$f":"ROUND(K1959*L1959,0)","v":8966},"x",null,"Ventus C 17.6m","EG",""]
["Pavel Zima",1979,"M","Břeclav","CZ/M","PPV 2022 - Kombi",{"$f":"VLOOKUP(F1960,Soutez!B:C,2,FALSE)","v":"CZ"},{"$f":"VLOOKUP(F1960,Soutez!B:D,3,FALSE)","v":2022},3,2906,0.92,9547,8783,"x",null,"Ventus cM 17.6m","RK",""]
["Jan Kotan",1982,"M","Letňany","CZ/C1","PPV 2022 - Kombi",{"$f":"VLOOKUP(F1961,Soutez!B:C,2,FALSE)","v":"CZ"},{"$f":"VLOOKUP(F1961,Soutez!B:D,3,FALSE)","v":2022},4,2862,0.92,9319,8573,null,null,"Ventus 2bx","YA",""]
["Hana Treslova",1991,"F","Raná","CZ/C2","PPV 2022 - Kombi",{"$f":"VLOOKUP(F1962,Soutez!B:C,2,FALSE)","v":"CZ"},{"$f":"VLOOKUP(F1962,Soutez!B:D,3,FALSE)","v":2022},5,2774,0.92,8988,8269,"x",null,"Ventus 2ax","AX",""]
["David Zapletal",1970,"M","Mladá Boleslav","CZ/C1","PPV 2022 - Kombi",{"$f":"VLOOKUP(F1963,Soutez!B:C,2,FALSE)","v":"CZ"},{"$f":"VLOOKUP(F1963,Soutez!B:D,3,FALSE)","v":2022},6,2665,0.92,8608,7919,"x",null,"Ventus C 17.6m","PUP",""]
["Marek Blatak",1969,"M","Šumperk","CZ/M","PPV 2022 - Kombi",{"$f":"VLOOKUP(F1964,Soutez!B:C,2,FALSE)","v":"CZ"},{"$f":"VLOOKUP(F1964,Soutez!B:D,3,FALSE)","v":2022},7,2628,0.92,8396,7724,null,null,"DG 808C Competition 18m WL","W",""]
["Josef Busek",1967,"M","Hosín","CZ/C1","PPV 2022 - Kombi",{"$f":"VLOOKUP(F1965,Soutez!B:C,2,FALSE)","v":"CZ"},{"$f":"VLOOKUP(F1965,Soutez!B:D,3,FALSE)","v":2022},8,2624,0.92,8262,7601,"x",null,"Duo Discus X","BB",""]
["Antonin Konicek",1973,"M","Kunovice","CZ/M","PPV 2022 - Kombi",{"$f":"VLOOKUP(F1966,Soutez!B:C,2,FALSE)","v":"CZ"},{"$f":"VLOOKUP(F1966,Soutez!B:D,3,FALSE)","v":2022},9,2619,0.92,8125,7475,"x",null,"HpH 304 MS Shark","KK",""]
["Anna Bordovska",1989,"F","Mladá Boleslav","CZ/C1","PPV 2022 - Kombi",{"$f":"VLOOKUP(F1967,Soutez!B:C,2,FALSE)","v":"CZ"},{"$f":"VLOOKUP(F1967,Soutez!B:D,3,FALSE)","v":2022},10,2602,0.92,7961,7324,"x","x","Ventus c 17.6m","AD",""]
["Radek Kucirek",1973,"M","Havlíčkův Brod","CZ/C2","PPV 2022 - Kombi",{"$f":"VLOOKUP(F1968,Soutez!B:C,2,FALSE)","v":"CZ"},{"$f":"VLOOKUP(F1968,Soutez!B:D,3,FALSE)","v":2022},11,2565,0.92,7749,7129,null,null,"EB 28 edition","NA",""]
["Jan Dersak 69",1969,"M","Kralupy","CZ/C1","PPV 2022 - Kombi",{"$f":"VLOOKUP(F1969,Soutez!B:C,2,FALSE)","v":"CZ"},{"$f":"VLOOKUP(F1969,Soutez!B:D,3,FALSE)","v":2022},12,2490,0.92,7449,6853,null,null,"HpH 304 SJ Shark","DJ",""]
["Vaclav Hruza",1965,"M","Břeclav","CZ/M","PPV 2022 - Kombi",{"$f":"VLOOKUP(F1970,Soutez!B:C,2,FALSE)","v":"CZ"},{"$f":"VLOOKUP(F1970,Soutez!B:D,3,FALSE)","v":2022},13,2469,0.92,7274,6692,"x",null,"HpH 304 MS Shark","TH",""]
["Martin Jurovic",null,null,"Bratislava","SK","PPV 2022 - Kombi",{"$f":"VLOOKUP(F1971,Soutez!B:C,2,FALSE)","v":"CZ"},{"$f":"VLOOKUP(F1971,Soutez!B:D,3,FALSE)","v":2022},14,2350,0.92,6871,6321,null,null,"Ventus c 17.6m","JQ","Není v databázi"]
["Zdenek Boruvka 54",1954,"M",{"$f":"VLOOKUP(A1972,Pilot,3,0)","v":"Jičín"},{"$f":"VLOOKUP(A1972,Pilot,4,0)","v":"CZ/C2"},"PPV 2022 - Kombi",{"$f":"VLOOKUP(F1972,Soutez!B:C,2,FALSE)","v":"CZ"},{"$f":"VLOOKUP(F1972,Soutez!B:D,3,FALSE)","v":2022},15,2309,0.92,6650,{"$f":"ROUND(K1972*L1972,0)","v":6118},"x",null,"LS 8","ZB",""]
["Jan Simon",1970,"M","Kralupy","CZ/C1","PPV 2022 - Kombi",{"$f":"VLOOKUP(F1973,Soutez!B:C,2,FALSE)","v":"CZ"},{"$f":"VLOOKUP(F1973,Soutez!B:D,3,FALSE)","v":2022},16,2306,0.92,6518,5997,null,null,"Ventus cT 17.6m","KR",""]
["Ladislav Jozsa",1981,"M","Medlánky","CZ/M","PPV 2022 - Kombi",{"$f":"VLOOKUP(F1974,Soutez!B:C,2,FALSE)","v":"CZ"},{"$f":"VLOOKUP(F1974,Soutez!B:D,3,FALSE)","v":2022},17,2300,0.92,6379,5869,null,null,"Ventus c 17.6m","WW",""]
["Petr Babak",1973,"M","Hořice","CZ/C2","PPV 2022 - Kombi",{"$f":"VLOOKUP(F1975,Soutez!B:C,2,FALSE)","v":"CZ"},{"$f":"VLOOKUP(F1975,Soutez!B:D,3,FALSE)","v":2022},18,2296,0.92,6245,5745,"x",null,"Ventus c 17.6m","LS",""]
["Lukas Capek",1992,"M","Letňany","CZ/C1","PPV 2022 - Kombi",{"$f":"VLOOKUP(F1976,Soutez!B:C,2,FALSE)","v":"CZ"},{"$f":"VLOOKUP(F1976,Soutez!B:D,3,FALSE)","v":2022},19,2263,0.92,6043,5560,"x",null,"Mosquito","LC",""]
["Jaromir Pauer",1974,"M","Hosín","CZ/C1","PPV 2022 - Kombi",{"$f":"VLOOKUP(F1977,Soutez!B:C,2,FALSE)","v":"CZ"},{"$f":"VLOOKUP(F1977,Soutez!B:D,3,FALSE)","v":2022},20,2260,0.92,5911,5438,"x",null,"Ventus b 16.6m WL","7F",""]
["Martin Vnoucek",1972,"M","Vlašim","CZ/C1","PPV 2022 - Kombi",{"$f":"VLOOKUP(F1978,Soutez!B:C,2,FALSE)","v":"CZ"},{"$f":"VLOOKUP(F1978,Soutez!B:D,3,FALSE)","v":2022},21,2204,0.92,5655,5203,"x",null,"ASG 29 E 18m","QX",""]
["Ales Vyhnal",1989,"M","Kralupy","CZ/C1","PPV 2022 - Kombi",{"$f":"VLOOKUP(F1979,Soutez!B:C,2,FALSE)","v":"CZ"},{"$f":"VLOOKUP(F1979,Soutez!B:D,3,FALSE)","v":2022},22,1983,0.92,5013,4612,"x",null,"Nimbus 3 22.9m","HS",""]
["Zdenek Schenk",1972,"M","Hranice","CZ/M","PPV 2022 - Kombi",{"$f":"VLOOKUP(F1980,Soutez!B:C,2,FALSE)","v":"CZ"},{"$f":"VLOOKUP(F1980,Soutez!B:D,3,FALSE)","v":2022},23,1967,0.92,4850,4462,null,null,"Ventus cM 17.6m","ŠNeK",""]
["Martin Holik",1959,"M","Letňany","CZ/C1","PPV 2022 - Kombi",{"$f":"VLOOKUP(F1981,Soutez!B:C,2,FALSE)","v":"CZ"},{"$f":"VLOOKUP(F1981,Soutez!B:D,3,FALSE)","v":2022},24,1719,0.92,4145,3813,"x",null,"LS 6 18m","F5",""]
["Michal Hemrle",1974,"M","Česká Lípa","CZ/C2","PPV 2022 - Kombi",{"$f":"VLOOKUP(F1982,Soutez!B:C,2,FALSE)","v":"CZ"},{"$f":"VLOOKUP(F1982,Soutez!B:D,3,FALSE)","v":2022},25,1378,0.92,3223,2965,null,null,"ASG 29 Es 18m","ET",""]
["Christophe Abadie",null,null,null,null,"WGC 2022 - 18m",{"$f":"VLOOKUP(F1983,Soutez!B:C,2,FALSE)","v":"HU"},{"$f":"VLOOKUP(F1983,Soutez!B:D,3,FALSE)","v":2022},1,8957,1.0900000000000001,{"$f":"ROUND(J1983/MAX($J$1983:$J$2024)*10000*0.7+(MAX($I$1983:$I$2024)-I1983)/(MAX($I$1983:$I$2024)-1)*10000*0.3,0)","v":10000},{"$f":"ROUND(K1983*L1983,0)","v":10900},null,null,"Jonker JS3","2L","Není v databázi"]
["Riccardo Brigliadori",null,null,null,null,"WGC 2022 - 18m",{"$f":"VLOOKUP(F1984,Soutez!B:C,2,FALSE)","v":"HU"},{"$f":"VLOOKUP(F1984,Soutez!B:D,3,FALSE)","v":2022},2,8865,1.0900000000000001,9855,{"$f":"ROUND(K1984*L1984,0)","v":10742},null,null,"Jonker JS3","LEO","Není v databázi"]
["Davide Schiavotto",null,null,null,null,"WGC 2022 - 18m",{"$f":"VLOOKUP(F1985,Soutez!B:C,2,FALSE)","v":"HU"},{"$f":"VLOOKUP(F1985,Soutez!B:D,3,FALSE)","v":2022},3,8843,1.0900000000000001,9765,10644,null,null,"Jonker JS3","8D","Není v databázi"]
["Jeroen Verkuijl",null,null,null,null,"WGC 2022 - 18m",{"$f":"VLOOKUP(F1986,Soutez!B:C,2,FALSE)","v":"HU"},{"$f":"VLOOKUP(F1986,Soutez!B:D,3,FALSE)","v":2022},4,8788,1.0900000000000001,9648,10516,null,null,"MD JS3 RES","JV","Není v databázi"]
["Uys Jonker",null,null,null,null,"WGC 2022 - 18m",{"$f":"VLOOKUP(F1987,Soutez!B:C,2,FALSE)","v":"HU"},{"$f":"VLOOKUP(F1987,Soutez!B:D,3,FALSE)","v":2022},5,8784,1.0900000000000001,9572,10433,null,null,"Jonker JS3","BK","Není v databázi"]
["Adrien Henry",null,null,null,null,"WGC 2022 - 18m",{"$f":"VLOOKUP(F1988,Soutez!B:C,2,FALSE)","v":"HU"},{"$f":"VLOOKUP(F1988,Soutez!B:D,3,FALSE)","v":2022},6,8775,1.0900000000000001,9492,10346,null,null,"Jonker JS3","LB","Není v databázi"]
["Wolfgang Janowitsch",null,null,null,null,"WGC 2022 - 18m",{"$f":"VLOOKUP(F1989,Soutez!B:C,2,FALSE)","v":"HU"},{"$f":"VLOOKUP(F1989,Soutez!B:D,3,FALSE)","v":2022},7,8718,1.0900000000000001,9374,10218,null,null,"Ventus 3TS","WO","Není v databázi"]
["Arne J. Boye-Møller",null,null,null,null,"WGC 2022 - 18m",{"$f":"VLOOKUP(F1990,Soutez!B:C,2,FALSE)","v":"HU"},{"$f":"VLOOKUP(F1990,Soutez!B:D,3,FALSE)","v":2022},8,8711,1.0900000000000001,9296,10133,null,null,"Jonker JS3 Jet","AB","Není v databázi"]
["Tomasz Rubaj",null,null,null,null,"WGC 2022 - 18m",{"$f":"VLOOKUP(F1991,Soutez!B:C,2,FALSE)","v":"HU"},{"$f":"VLOOKUP(F1991,Soutez!B:D,3,FALSE)","v":2022},9,8600,1.0900000000000001,9136,9958,null,null,"Schleicher AS 33 ES",12,"Není v databázi"]
["Bert Schmelzer",null,null,null,null,"WGC 2022 - 18m",{"$f":"VLOOKUP(F1992,Soutez!B:C,2,FALSE)","v":"HU"},{"$f":"VLOOKUP(F1992,Soutez!B:D,3,FALSE)","v":2022},10,8595,1.0900000000000001,9059,9874,null,null,"Ventus 3T",21,"Není v databázi"]
["Roman Mracek",{"$f":"VLOOKUP(A1993,Pilot,2,0)","v":1980},{"$f":"VLOOKUP(A1993,Pilot,5,0)","v":"M"},{"$f":"VLOOKUP(A1993,Pilot,3,0)","v":"Letkov"},{"$f":"VLOOKUP(A1993,Pilot,4,0)","v":"CZ/C1"},"WGC 2022 - 18m",{"$f":"VLOOKUP(F1993,Soutez!B:C,2,FALSE)","v":"HU"},{"$f":"VLOOKUP(F1993,Soutez!B:D,3,FALSE)","v":2022},11,8575,1.0900000000000001,8970,9777,"x",null,"Jonker JS3","ZE",""]
["Attie Jonker",null,null,null,null,"WGC 2022 - 18m",{"$f":"VLOOKUP(F1994,Soutez!B:C,2,FALSE)","v":"HU"},{"$f":"VLOOKUP(F1994,Soutez!B:D,3,FALSE)","v":2022},12,8537,1.0900000000000001,8867,9665,null,null,"Jonker JS3","FA","Není v databázi"]
["Holger Karow",null,null,null,null,"WGC 2022 - 18m",{"$f":"VLOOKUP(F1995,Soutez!B:C,2,FALSE)","v":"HU"},{"$f":"VLOOKUP(F1995,Soutez!B:D,3,FALSE)","v":2022},13,8465,1.0900000000000001,8737,9523,null,null,"Jonker JS3","JS3","Není v databázi"]
["Mélanie Gadoulet",null,null,null,null,"WGC 2022 - 18m",{"$f":"VLOOKUP(F1996,Soutez!B:C,2,FALSE)","v":"HU"},{"$f":"VLOOKUP(F1996,Soutez!B:D,3,FALSE)","v":2022},14,8460,1.0900000000000001,8660,9439,null,null,"Jonker JS3","KW","Není v databázi"]
["György Gulyas",null,null,null,null,"WGC 2022 - 18m",{"$f":"VLOOKUP(F1997,Soutez!B:C,2,FALSE)","v":"HU"},{"$f":"VLOOKUP(F1997,Soutez!B:D,3,FALSE)","v":2022},15,8445,1.0900000000000001,8575,9347,null,null,"Jonker JS3","7A","Není v databázi"]
["Rasmus Ørskov",null,null,null,null,"WGC 2022 - 18m",{"$f":"VLOOKUP(F1998,Soutez!B:C,2,FALSE)","v":"HU"},{"$f":"VLOOKUP(F1998,Soutez!B:D,3,FALSE)","v":2022},16,8413,1.0900000000000001,8477,9240,null,null,"Ventus 3T","EK",{"$f":"IF(ISERROR(VLOOKUP(A1998,Pilot,6,0)),\"Není v databázi\",VLOOKUP(A1998,Pilot,6,0))","v":"Není v databázi"}]
["Michael Rass",null,null,null,null,"WGC 2022 - 18m",{"$f":"VLOOKUP(F1999,Soutez!B:C,2,FALSE)","v":"HU"},{"$f":"VLOOKUP(F1999,Soutez!B:D,3,FALSE)","v":2022},17,8365,1.0900000000000001,8367,9120,null,null,"Schleicher AS 33 ES","MR","Není v databázi"]
["Thomas Melde",null,null,null,null,"WGC 2022 - 18m",{"$f":"VLOOKUP(F2000,Soutez!B:C,2,FALSE)","v":"HU"},{"$f":"VLOOKUP(F2000,Soutez!B:D,3,FALSE)","v":2022},18,8217,1.0900000000000001,8178,8914,null,null,"Jonker JS1 BTJ","ZP","Není v databázi"]
["Péter Szabó",null,null,null,null,"WGC 2022 - 18m",{"$f":"VLOOKUP(F2001,Soutez!B:C,2,FALSE)","v":"HU"},{"$f":"VLOOKUP(F2001,Soutez!B:D,3,FALSE)","v":2022},19,8027,1.0900000000000001,7956,8672,null,null,"Jonker JS3","BX","Není v databázi"]
["Petri Sucksdorff",null,null,null,null,"WGC 2022 - 18m",{"$f":"VLOOKUP(F2002,Soutez!B:C,2,FALSE)","v":"HU"},{"$f":"VLOOKUP(F2002,Soutez!B:D,3,FALSE)","v":2022},20,7979,1.0900000000000001,7845,8551,null,null,"Schleicher AS 33 ES","WS","Není v databázi"]
["Zoran Frenc",null,null,null,null,"WGC 2022 - 18m",{"$f":"VLOOKUP(F2003,Soutez!B:C,2,FALSE)","v":"HU"},{"$f":"VLOOKUP(F2003,Soutez!B:D,3,FALSE)","v":2022},21,7929,1.0900000000000001,7733,8429,null,null,"Jonker JS3","ZF","Není v databázi"]
["Hadriaan van Nes",null,null,null,null,"WGC 2022 - 18m",{"$f":"VLOOKUP(F2004,Soutez!B:C,2,FALSE)","v":"HU"},{"$f":"VLOOKUP(F2004,Soutez!B:D,3,FALSE)","v":2022},22,7905,1.0900000000000001,7641,8329,null,null,"Jonker JS1 BTJ","JS","Není v databázi"]
["Teet Jagomägi",null,null,null,null,"WGC 2022 - 18m",{"$f":"VLOOKUP(F2005,Soutez!B:C,2,FALSE)","v":"HU"},{"$f":"VLOOKUP(F2005,Soutez!B:D,3,FALSE)","v":2022},23,7904,1.0900000000000001,7567,8248,null,null,"Jonker JS1 C",56,"Není v databázi"]
["Markus Ganev",null,null,null,null,"WGC 2022 - 18m",{"$f":"VLOOKUP(F2006,Soutez!B:C,2,FALSE)","v":"HU"},{"$f":"VLOOKUP(F2006,Soutez!B:D,3,FALSE)","v":2022},24,7840,1.0900000000000001,7444,8114,null,null,"Ventus 3T","7X","Není v databázi"]
["Joris Vainius",null,null,null,null,"WGC 2022 - 18m",{"$f":"VLOOKUP(F2007,Soutez!B:C,2,FALSE)","v":"HU"},{"$f":"VLOOKUP(F2007,Soutez!B:D,3,FALSE)","v":2022},25,7770,1.0900000000000001,7316,7974,null,null,"ASG-29","M7","Není v databázi"]
["Vladimir Foltin",null,null,null,null,"WGC 2022 - 18m",{"$f":"VLOOKUP(F2008,Soutez!B:C,2,FALSE)","v":"HU"},{"$f":"VLOOKUP(F2008,Soutez!B:D,3,FALSE)","v":2022},26,7726,1.0900000000000001,7209,7858,null,null,"Jonker JS3",3,"Není v databázi"]
["Tijl Schmelzer",null,null,null,null,"WGC 2022 - 18m",{"$f":"VLOOKUP(F2009,Soutez!B:C,2,FALSE)","v":"HU"},{"$f":"VLOOKUP(F2009,Soutez!B:D,3,FALSE)","v":2022},27,7676,1.0900000000000001,7096,7735,null,null,"Ventus 3T","2X","Není v databázi"]
["Luka Znidarsic",null,null,null,null,"WGC 2022 - 18m",{"$f":"VLOOKUP(F2010,Soutez!B:C,2,FALSE)","v":"HU"},{"$f":"VLOOKUP(F2010,Soutez!B:D,3,FALSE)","v":2022},28,7599,1.0900000000000001,6963,7590,null,null,"Ventus 3 FES","LZ","Není v databázi"]
["Zdzislaw Bednarczuk",null,null,null,null,"WGC 2022 - 18m",{"$f":"VLOOKUP(F2011,Soutez!B:C,2,FALSE)","v":"HU"},{"$f":"VLOOKUP(F2011,Soutez!B:D,3,FALSE)","v":2022},29,7570,1.0900000000000001,6867,7485,null,null,"Jonker JS3","ZB","Není v databázi"]
["Derren Francis",null,null,null,null,"WGC 2022 - 18m",{"$f":"VLOOKUP(F2012,Soutez!B:C,2,FALSE)","v":"HU"},{"$f":"VLOOKUP(F2012,Soutez!B:D,3,FALSE)","v":2022},30,7531,1.0900000000000001,6764,7373,null,null,"Ventus 3TS","F2","Není v databázi"]
["Hannu Halonen",null,null,null,null,"WGC 2022 - 18m",{"$f":"VLOOKUP(F2013,Soutez!B:C,2,FALSE)","v":"HU"},{"$f":"VLOOKUP(F2013,Soutez!B:D,3,FALSE)","v":2022},31,7477,1.0900000000000001,6648,7246,null,null,"Ventus 3TS","W","Není v databázi"]
["Takeshi Maruyama",null,null,null,null,"WGC 2022 - 18m",{"$f":"VLOOKUP(F2014,Soutez!B:C,2,FALSE)","v":"HU"},{"$f":"VLOOKUP(F2014,Soutez!B:D,3,FALSE)","v":2022},32,7366,1.0900000000000001,6488,{"$f":"ROUND(K2014*L2014,0)","v":7072},null,null,"Jonker JS3","AX","Není v databázi"]
["Andreas Spielmann",null,null,null,null,"WGC 2022 - 18m",{"$f":"VLOOKUP(F2015,Soutez!B:C,2,FALSE)","v":"HU"},{"$f":"VLOOKUP(F2015,Soutez!B:D,3,FALSE)","v":2022},33,7301,1.0900000000000001,6364,6937,null,null,"Jonker JS3","AS","Není v databázi"]
["Petr Koutny",{"$f":"VLOOKUP(A2016,Pilot,2,0)","v":1971},{"$f":"VLOOKUP(A2016,Pilot,5,0)","v":"M"},{"$f":"VLOOKUP(A2016,Pilot,3,0)","v":"Křižanov"},{"$f":"VLOOKUP(A2016,Pilot,4,0)","v":"CZ/M"},"WGC 2022 - 18m",{"$f":"VLOOKUP(F2016,Soutez!B:C,2,FALSE)","v":"HU"},{"$f":"VLOOKUP(F2016,Soutez!B:D,3,FALSE)","v":2022},34,7211,1.0900000000000001,6221,6781,"x",null,"Jonker JS3","XM",""]
["Philip Jones",null,null,null,null,"WGC 2022 - 18m",{"$f":"VLOOKUP(F2017,Soutez!B:C,2,FALSE)","v":"HU"},{"$f":"VLOOKUP(F2017,Soutez!B:D,3,FALSE)","v":2022},35,7110,1.0900000000000001,6069,6615,null,null,"Ventus 3TS",210,"Není v databázi"]
["Peter Johansson",null,null,null,null,"WGC 2022 - 18m",{"$f":"VLOOKUP(F2018,Soutez!B:C,2,FALSE)","v":"HU"},{"$f":"VLOOKUP(F2018,Soutez!B:D,3,FALSE)","v":2022},36,7101,{"$f":"VLOOKUP(F2018,Soutez,12,0)","v":1.0900000000000001},5989,6528,null,null,"ASG-29","2T","Není v databázi"]
["Makoto Ichikawa",null,null,null,null,"WGC 2022 - 18m",{"$f":"VLOOKUP(F2019,Soutez!B:C,2,FALSE)","v":"HU"},{"$f":"VLOOKUP(F2019,Soutez!B:D,3,FALSE)","v":2022},37,6673,1.0900000000000001,5581,6083,null,null,"Schleicher AS 33 ES","JL","Není v databázi"]
["Branko Blagojevic",null,null,null,null,"WGC 2022 - 18m",{"$f":"VLOOKUP(F2020,Soutez!B:C,2,FALSE)","v":"HU"},{"$f":"VLOOKUP(F2020,Soutez!B:D,3,FALSE)","v":2022},38,6415,1.0900000000000001,5306,5784,null,null,"Jonker JS3","AI","Není v databázi"]
["Viktoras Kukcikaitis",null,null,null,null,"WGC 2022 - 18m",{"$f":"VLOOKUP(F2021,Soutez!B:C,2,FALSE)","v":"HU"},{"$f":"VLOOKUP(F2021,Soutez!B:D,3,FALSE)","v":2022},39,6282,1.0900000000000001,5129,5591,null,null,"Jonker JS1 B","LR","Není v databázi"]
["Bruno Herencic",null,null,null,null,"WGC 2022 - 18m",{"$f":"VLOOKUP(F2022,Soutez!B:C,2,FALSE)","v":"HU"},{"$f":"VLOOKUP(F2022,Soutez!B:D,3,FALSE)","v":2022},40,6261,1.0900000000000001,5039,5493,null,null,"Ventus 3M","EM","Není v databázi"]
["Mark Käppeli",null,null,null,null,"WGC 2022 - 18m",{"$f":"VLOOKUP(F2023,Soutez!B:C,2,FALSE)","v":"HU"},{"$f":"VLOOKUP(F2023,Soutez!B:D,3,FALSE)","v":2022},41,5656,1.0900000000000001,4493,4897,null,null,"Jonker JS3","MK","Není v databázi"]
["Rune Hovda",null,null,null,null,"WGC 2022 - 18m",{"$f":"VLOOKUP(F2024,Soutez!B:C,2,FALSE)","v":"HU"},{"$f":"VLOOKUP(F2024,Soutez!B:D,3,FALSE)","v":2022},42,4817,1.0900000000000001,3765,4104,null,null,"Ventus 3M","RH","Není v databázi"]
["Felipe Levin",null,null,null,null,"WGC 2022 - Open",{"$f":"VLOOKUP(F2025,Soutez!B:C,2,FALSE)","v":"HU"},{"$f":"VLOOKUP(F2025,Soutez!B:D,3,FALSE)","v":2022},1,9088,1.1000000000000001,{"$f":"ROUND(J2025/MAX($J$2025:$J$2046)*10000*0.7+(MAX($I$2025:$I$2046)-I2025)/(MAX($I$2025:$I$2046)-1)*10000*0.3,0)","v":10000},{"$f":"ROUND(K2025*L2025,0)","v":11000},null,null,"EB-29 R","FL","Není v databázi"]
["Oscar Goudriaan",null,null,null,null,"WGC 2022 - Open",{"$f":"VLOOKUP(F2026,Soutez!B:C,2,FALSE)","v":"HU"},{"$f":"VLOOKUP(F2026,Soutez!B:D,3,FALSE)","v":2022},2,9016,1.1000000000000001,9802,{"$f":"ROUND(K2026*L2026,0)","v":10782},null,null,"EB-29 DR","AC","Není v databázi"]
["Radek Krejcirik",{"$f":"VLOOKUP(A2027,Pilot,2,0)","v":1991},{"$f":"VLOOKUP(A2027,Pilot,5,0)","v":"M"},{"$f":"VLOOKUP(A2027,Pilot,3,0)","v":"Hranice"},{"$f":"VLOOKUP(A2027,Pilot,4,0)","v":"CZ/M"},"WGC 2022 - Open",{"$f":"VLOOKUP(F2027,Soutez!B:C,2,FALSE)","v":"HU"},{"$f":"VLOOKUP(F2027,Soutez!B:D,3,FALSE)","v":2022},3,8646,1.1000000000000001,9374,10311,"x",null,"Jonker JS1 C 21m","Z",""]
["Sylvain Gerbaud",null,null,null,null,"WGC 2022 - Open",{"$f":"VLOOKUP(F2028,Soutez!B:C,2,FALSE)","v":"HU"},{"$f":"VLOOKUP(F2028,Soutez!B:D,3,FALSE)","v":2022},4,8626,1.1000000000000001,9216,10138,null,null,"EB-29 R",72,"Není v databázi"]
["Andrew John Davis",null,null,null,null,"WGC 2022 - Open",{"$f":"VLOOKUP(F2029,Soutez!B:C,2,FALSE)","v":"HU"},{"$f":"VLOOKUP(F2029,Soutez!B:D,3,FALSE)","v":2022},5,8600,1.1000000000000001,9053,9958,null,null,"MD JS1 C 21m",80,"Není v databázi"]
["Alberto Sironi",null,null,null,null,"WGC 2022 - Open",{"$f":"VLOOKUP(F2030,Soutez!B:C,2,FALSE)","v":"HU"},{"$f":"VLOOKUP(F2030,Soutez!B:D,3,FALSE)","v":2022},6,8521,1.1000000000000001,8849,9734,null,null,"EB-29 R","FJ","Není v databázi"]
["Yves Gerster",null,null,null,null,"WGC 2022 - Open",{"$f":"VLOOKUP(F2031,Soutez!B:C,2,FALSE)","v":"HU"},{"$f":"VLOOKUP(F2031,Soutez!B:D,3,FALSE)","v":2022},7,8478,1.1000000000000001,8673,9540,null,null,"Jonker JS1 C 21m","EVO","Není v databázi"]
["Daan Spruyt",null,null,null,null,"WGC 2022 - Open",{"$f":"VLOOKUP(F2032,Soutez!B:C,2,FALSE)","v":"HU"},{"$f":"VLOOKUP(F2032,Soutez!B:D,3,FALSE)","v":2022},8,8456,1.1000000000000001,8513,9364,null,null,"EB-29 DR","IP","Není v databázi"]
["Russell Cheetham",null,null,null,null,"WGC 2022 - Open",{"$f":"VLOOKUP(F2033,Soutez!B:C,2,FALSE)","v":"HU"},{"$f":"VLOOKUP(F2033,Soutez!B:D,3,FALSE)","v":2022},9,8328,1.1000000000000001,8272,{"$f":"ROUND(K2033*L2033,0)","v":9099},null,null,"Jonker JS1 C 21m","XS","Není v databázi"]
["Łukasz Wójcik",null,null,null,null,"WGC 2022 - Open",{"$f":"VLOOKUP(F2034,Soutez!B:C,2,FALSE)","v":"HU"},{"$f":"VLOOKUP(F2034,Soutez!B:D,3,FALSE)","v":2022},10,8288,1.1000000000000001,8098,8908,null,null,"EB-29 R","XR","Není v databázi"]
["Michael Sommer",null,null,null,null,"WGC 2022 - Open",{"$f":"VLOOKUP(F2035,Soutez!B:C,2,FALSE)","v":"HU"},{"$f":"VLOOKUP(F2035,Soutez!B:D,3,FALSE)","v":2022},11,8270,1.1000000000000001,7941,8735,null,null,"EB-29 R","FE","Není v databázi"]
["Bas Seijffert",null,null,null,null,"WGC 2022 - Open",{"$f":"VLOOKUP(F2036,Soutez!B:C,2,FALSE)","v":"HU"},{"$f":"VLOOKUP(F2036,Soutez!B:D,3,FALSE)","v":2022},12,8201,1.1000000000000001,7745,8520,null,null,"Jonker JS1 C 21m","BJ","Není v databázi"]
["Philippe de Péchy",null,null,null,null,"WGC 2022 - Open",{"$f":"VLOOKUP(F2037,Soutez!B:C,2,FALSE)","v":"HU"},{"$f":"VLOOKUP(F2037,Soutez!B:D,3,FALSE)","v":2022},13,8035,1.1000000000000001,7475,8223,null,null,"Jonker JS1 C 21m","EJ","Není v databázi"]
["Alena Netusilova",{"$f":"VLOOKUP(A2038,Pilot,2,0)","v":1970},{"$f":"VLOOKUP(A2038,Pilot,5,0)","v":"F"},{"$f":"VLOOKUP(A2038,Pilot,3,0)","v":"Zbraslavice"},{"$f":"VLOOKUP(A2038,Pilot,4,0)","v":"CZ/C1"},"WGC 2022 - Open",{"$f":"VLOOKUP(F2038,Soutez!B:C,2,FALSE)","v":"HU"},{"$f":"VLOOKUP(F2038,Soutez!B:D,3,FALSE)","v":2022},14,7952,1.1000000000000001,7268,7995,null,null,"Jonker JS1 C 21m","JX",""]
["Harri Hirvola",null,null,null,null,"WGC 2022 - Open",{"$f":"VLOOKUP(F2039,Soutez!B:C,2,FALSE)","v":"HU"},{"$f":"VLOOKUP(F2039,Soutez!B:D,3,FALSE)","v":2022},15,7657,1.1000000000000001,6898,7588,null,null,"EB-28 Evolution","EX","Není v databázi"]
["Alberto Pozzi",null,null,null,null,"WGC 2022 - Open",{"$f":"VLOOKUP(F2040,Soutez!B:C,2,FALSE)","v":"HU"},{"$f":"VLOOKUP(F2040,Soutez!B:D,3,FALSE)","v":2022},16,7487,1.1000000000000001,6624,7286,null,null,"Jonker JS1 21mT","IEO","Není v databázi"]
["Christian Hynek",null,null,null,null,"WGC 2022 - Open",{"$f":"VLOOKUP(F2041,Soutez!B:C,2,FALSE)","v":"HU"},{"$f":"VLOOKUP(F2041,Soutez!B:D,3,FALSE)","v":2022},17,7323,1.1000000000000001,6355,6991,null,null,"EB-29 DR","DD","Není v databázi"]
["Peter Eriksen",null,null,null,null,"WGC 2022 - Open",{"$f":"VLOOKUP(F2042,Soutez!B:C,2,FALSE)","v":"HU"},{"$f":"VLOOKUP(F2042,Soutez!B:D,3,FALSE)","v":2022},18,7029,1.1000000000000001,5985,6584,null,null,"EB-29 R","A","Není v databázi"]
["Zoltan Kóré",null,null,null,null,"WGC 2022 - Open",{"$f":"VLOOKUP(F2043,Soutez!B:C,2,FALSE)","v":"HU"},{"$f":"VLOOKUP(F2043,Soutez!B:D,3,FALSE)","v":2022},19,6955,1.1000000000000001,5786,6365,null,null,"Jonker JS1 21m","JB","Není v databázi"]
["Poul Kim Larsen",null,null,null,null,"WGC 2022 - Open",{"$f":"VLOOKUP(F2044,Soutez!B:C,2,FALSE)","v":"HU"},{"$f":"VLOOKUP(F2044,Soutez!B:D,3,FALSE)","v":2022},20,6879,1.1000000000000001,5584,6142,null,null,"ASH 31MI","CE","Není v databázi"]
["René Schönmann",null,null,null,null,"WGC 2022 - Open",{"$f":"VLOOKUP(F2045,Soutez!B:C,2,FALSE)","v":"HU"},{"$f":"VLOOKUP(F2045,Soutez!B:D,3,FALSE)","v":2022},21,6506,1.1000000000000001,5154,5669,null,null,"Jonker JS1 C 21m","LI","Není v databázi"]
["Zoltan Hamar",null,null,null,null,"WGC 2022 - Open",{"$f":"VLOOKUP(F2046,Soutez!B:C,2,FALSE)","v":"HU"},{"$f":"VLOOKUP(F2046,Soutez!B:D,3,FALSE)","v":2022},22,6472,1.1000000000000001,4985,5484,null,null,"Jonker JS1 21m","AAD","Není v databázi"]
["Ivan Novak",{"$f":"VLOOKUP(A2047,Pilot,2,0)","v":1962},{"$f":"VLOOKUP(A2047,Pilot,5,0)","v":"M"},{"$f":"VLOOKUP(A2047,Pilot,3,0)","v":"Mladá Boleslav"},{"$f":"VLOOKUP(A2047,Pilot,4,0)","v":"CZ/C1"},"WGC 2022 - Duo 20m",{"$f":"VLOOKUP(F2047,Soutez!B:C,2,FALSE)","v":"HU"},{"$f":"VLOOKUP(F2047,Soutez!B:D,3,FALSE)","v":2022},1,8898,1.0900000000000001,{"$f":"ROUND(J2047/MAX($J$2047:$J$2065)*10000*0.7+(MAX($I$2047:$I$2065)-I2047)/(MAX($I$2047:$I$2065)-1)*10000*0.3,0)","v":10000},{"$f":"ROUND(K2047*L2047,0)","v":10900},"x",null,"Arcus M","CAR",""]
["Jakub Barszcz / Lukasz Kornacki",null,null,null,null,"WGC 2022 - Duo 20m",{"$f":"VLOOKUP(F2048,Soutez!B:C,2,FALSE)","v":"HU"},{"$f":"VLOOKUP(F2048,Soutez!B:D,3,FALSE)","v":2022},2,8783,1.0900000000000001,9743,{"$f":"ROUND(K2048*L2048,0)","v":10620},null,null,"HpH 304 TS Twin Shark","FNC","Není v databázi"]
["Steve Jones / Garry Coppin",null,null,null,null,"WGC 2022 - Duo 20m",{"$f":"VLOOKUP(F2049,Soutez!B:C,2,FALSE)","v":"HU"},{"$f":"VLOOKUP(F2049,Soutez!B:D,3,FALSE)","v":2022},3,8666,1.0900000000000001,9484,10338,null,null,"Arcus 20T",66,"Není v databázi"]
["Erik Borgmann / Joost Wolff",null,null,null,null,"WGC 2022 - Duo 20m",{"$f":"VLOOKUP(F2050,Soutez!B:C,2,FALSE)","v":"HU"},{"$f":"VLOOKUP(F2050,Soutez!B:D,3,FALSE)","v":2022},4,8663,1.0900000000000001,9315,10153,null,null,"Arcus T","DX","Není v databázi"]
["Louis Bouderlique / Ulysse Merlin",null,null,null,null,"WGC 2022 - Duo 20m",{"$f":"VLOOKUP(F2051,Soutez!B:C,2,FALSE)","v":"HU"},{"$f":"VLOOKUP(F2051,Soutez!B:D,3,FALSE)","v":2022},5,8630,1.0900000000000001,9122,9943,null,null,"Arcus 20T","MG","Není v databázi"]
["Aku Jaakkola / Juha Sorri",null,null,null,null,"WGC 2022 - Duo 20m",{"$f":"VLOOKUP(F2052,Soutez!B:C,2,FALSE)","v":"HU"},{"$f":"VLOOKUP(F2052,Soutez!B:D,3,FALSE)","v":2022},6,8613,1.0900000000000001,8942,9747,null,null,"Arcus M","AM",{"$f":"IF(ISERROR(VLOOKUP(A2052,Pilot,6,0)),\"Není v databázi\",VLOOKUP(A2052,Pilot,6,0))","v":"Není v databázi"}]
["Stefano Ghiorzo / Federico Mangano",null,null,null,null,"WGC 2022 - Duo 20m",{"$f":"VLOOKUP(F2053,Soutez!B:C,2,FALSE)","v":"HU"},{"$f":"VLOOKUP(F2053,Soutez!B:D,3,FALSE)","v":2022},7,8472,1.0900000000000001,8665,9445,null,null,"Arcus T","BRA","Není v databázi"]
["Peter Hartmann / Karel Krobath",null,null,null,null,"WGC 2022 - Duo 20m",{"$f":"VLOOKUP(F2054,Soutez!B:C,2,FALSE)","v":"HU"},{"$f":"VLOOKUP(F2054,Soutez!B:D,3,FALSE)","v":2022},8,8316,1.0900000000000001,8375,9129,null,null,"HpH 304 TS Twin Shark","Q","Není v databázi"]
["Sarah Arnold / Karl Striedieck",null,null,null,null,"WGC 2022 - Duo 20m",{"$f":"VLOOKUP(F2055,Soutez!B:C,2,FALSE)","v":"HU"},{"$f":"VLOOKUP(F2055,Soutez!B:D,3,FALSE)","v":2022},9,8300,1.0900000000000001,8196,8934,null,null,"Arcus T","N1","Není v databázi"]
["Ferenc Tamas / Attila Korom",null,null,null,null,"WGC 2022 - Duo 20m",{"$f":"VLOOKUP(F2056,Soutez!B:C,2,FALSE)","v":"HU"},{"$f":"VLOOKUP(F2056,Soutez!B:D,3,FALSE)","v":2022},10,8157,1.0900000000000001,7917,8630,null,null,"Arcus T","HUX","Není v databázi"]
["Anton Šibanc / Sandi Kavalič",null,null,null,null,"WGC 2022 - Duo 20m",{"$f":"VLOOKUP(F2057,Soutez!B:C,2,FALSE)","v":"HU"},{"$f":"VLOOKUP(F2057,Soutez!B:D,3,FALSE)","v":2022},11,7993,1.0900000000000001,7621,{"$f":"ROUND(K2057*L2057,0)","v":8307},null,null,"Arcus M","ET","Není v databázi"]
["Tom Jorgensen / Henning K. Nielsen",null,null,null,null,"WGC 2022 - Duo 20m",{"$f":"VLOOKUP(F2058,Soutez!B:C,2,FALSE)","v":"HU"},{"$f":"VLOOKUP(F2058,Soutez!B:D,3,FALSE)","v":2022},12,7851,1.0900000000000001,7343,8004,null,null,"Arcus T","JT","Není v databázi"]
["Rainer Cronjäger / Guido Halter",null,null,null,null,"WGC 2022 - Duo 20m",{"$f":"VLOOKUP(F2059,Soutez!B:C,2,FALSE)","v":"HU"},{"$f":"VLOOKUP(F2059,Soutez!B:D,3,FALSE)","v":2022},13,7823,1.0900000000000001,7154,7798,null,null,"Arcus T","KA","Není v databázi"]
["Dawid Pretorius / Nico le Roux",null,null,null,null,"WGC 2022 - Duo 20m",{"$f":"VLOOKUP(F2060,Soutez!B:C,2,FALSE)","v":"HU"},{"$f":"VLOOKUP(F2060,Soutez!B:D,3,FALSE)","v":2022},14,7607,1.0900000000000001,6818,7432,null,null,"Arcus M","4Y","Není v databázi"]
["Markus Geisen / Michael Pfennig",null,null,null,null,"WGC 2022 - Duo 20m",{"$f":"VLOOKUP(F2061,Soutez!B:C,2,FALSE)","v":"HU"},{"$f":"VLOOKUP(F2061,Soutez!B:D,3,FALSE)","v":2022},15,7534,1.0900000000000001,6594,7187,null,null,"Arcus M","WK","Není v databázi"]
["Igor Volkov / Vladas Motuza",null,null,null,null,"WGC 2022 - Duo 20m",{"$f":"VLOOKUP(F2062,Soutez!B:C,2,FALSE)","v":"HU"},{"$f":"VLOOKUP(F2062,Soutez!B:D,3,FALSE)","v":2022},16,7430,1.0900000000000001,6345,6916,null,null,"ASG 32 MI","IV","Není v databázi"]
["Jan Kovalcik / Miroslav Beliansky",null,null,null,null,"WGC 2022 - Duo 20m",{"$f":"VLOOKUP(F2063,Soutez!B:C,2,FALSE)","v":"HU"},{"$f":"VLOOKUP(F2063,Soutez!B:D,3,FALSE)","v":2022},17,6953,1.0900000000000001,5803,6325,null,null,"HpH 304 TS Twin Shark","TS","Není v databázi"]
["Allan Barnes / Harry Medlicott",null,null,null,null,"WGC 2022 - Duo 20m",{"$f":"VLOOKUP(F2064,Soutez!B:C,2,FALSE)","v":"HU"},{"$f":"VLOOKUP(F2064,Soutez!B:D,3,FALSE)","v":2022},18,6508,1.0900000000000001,5286,5762,null,null,"Arcus M",13,"Není v databázi"]
["Pierre de Broqueville / Arnaud de Broqueville",null,null,null,null,"WGC 2022 - Duo 20m",{"$f":"VLOOKUP(F2065,Soutez!B:C,2,FALSE)","v":"HU"},{"$f":"VLOOKUP(F2065,Soutez!B:D,3,FALSE)","v":2022},19,5241,1.0900000000000001,4123,4494,null,null,"Arcus 2T","2AS","Není v databázi"]
["Tomas Suchanek",{"$f":"VLOOKUP(A2066,Pilot,2,0)","v":1964},{"$f":"VLOOKUP(A2066,Pilot,5,0)","v":"M"},{"$f":"VLOOKUP(A2066,Pilot,3,0)","v":"GAC Benešov"},{"$f":"VLOOKUP(A2066,Pilot,4,0)","v":"CZ/C1"},"EGC 2022 - Klub",{"$f":"VLOOKUP(F2066,Soutez!B:C,2,FALSE)","v":"LT"},{"$f":"VLOOKUP(F2066,Soutez!B:D,3,FALSE)","v":2022},1,3816,{"$f":"VLOOKUP(F2066,Soutez,12,0)","v":1.075},{"$f":"ROUND(J2066/MAX($J$2066:$J$2093)*10000*0.7+(MAX($I$2066:$I$2093)-I2066)/(MAX($I$2066:$I$2093)-1)*10000*0.3,0)","v":10000},{"$f":"ROUND(K2066*L2066,0)","v":10750},"x",null,"ASW 20","CX",""]
["Thies Bruins",null,null,"Netherlands",null,"EGC 2022 - Klub",{"$f":"VLOOKUP(F2067,Soutez!B:C,2,FALSE)","v":"LT"},{"$f":"VLOOKUP(F2067,Soutez!B:D,3,FALSE)","v":2022},2,3508,{"$f":"VLOOKUP(F2067,Soutez,12,0)","v":1.075},9324,{"$f":"ROUND(K2067*L2067,0)","v":10023},null,null,"ASW 20","IV","Není v databázi"]
["Tom Arscott",null,null,"United Kingdom",null,"EGC 2022 - Klub",{"$f":"VLOOKUP(F2068,Soutez!B:C,2,FALSE)","v":"LT"},{"$f":"VLOOKUP(F2068,Soutez!B:D,3,FALSE)","v":2022},3,3434,1.075,9077,9758,null,null,"LS 7",768,"Není v databázi"]
["Tapio Tourula",null,null,"Finland",null,"EGC 2022 - Klub",{"$f":"VLOOKUP(F2069,Soutez!B:C,2,FALSE)","v":"LT"},{"$f":"VLOOKUP(F2069,Soutez!B:D,3,FALSE)","v":2022},4,3380,1.075,8867,9532,null,null,"LS 7 WL",70,"Není v databázi"]
["Michael Mix",null,null,"Denmark",null,"EGC 2022 - Klub",{"$f":"VLOOKUP(F2070,Soutez!B:C,2,FALSE)","v":"LT"},{"$f":"VLOOKUP(F2070,Soutez!B:D,3,FALSE)","v":2022},5,3347,1.075,8695,9347,null,null,"LS 3 a","TM","Není v databázi"]
["Lukas Blattmann",null,null,"Germany",null,"EGC 2022 - Klub",{"$f":"VLOOKUP(F2071,Soutez!B:C,2,FALSE)","v":"LT"},{"$f":"VLOOKUP(F2071,Soutez!B:D,3,FALSE)","v":2022},6,3272,1.075,8447,9081,null,null,"LS 4 b","ED","Není v databázi"]
["Jake Brattle",null,null,"United Kingdom",null,"EGC 2022 - Klub",{"$f":"VLOOKUP(F2072,Soutez!B:C,2,FALSE)","v":"LT"},{"$f":"VLOOKUP(F2072,Soutez!B:D,3,FALSE)","v":2022},7,3242,1.075,8280,8901,null,null,"LS 7",25,"Není v databázi"]
["Hugo Corbille",null,null,"France",null,"EGC 2022 - Klub",{"$f":"VLOOKUP(F2073,Soutez!B:C,2,FALSE)","v":"LT"},{"$f":"VLOOKUP(F2073,Soutez!B:D,3,FALSE)","v":2022},8,3181,1.075,8057,8661,null,null,"LS 4",79,"Není v databázi"]
["Andrej Lebedev",null,null,"Lithuania",null,"EGC 2022 - Klub",{"$f":"VLOOKUP(F2074,Soutez!B:C,2,FALSE)","v":"LT"},{"$f":"VLOOKUP(F2074,Soutez!B:D,3,FALSE)","v":2022},9,3164,1.075,7915,8509,null,null,"ASW 20","WU","Není v databázi"]
["Uwe Melzer",null,null,"Germany",null,"EGC 2022 - Klub",{"$f":"VLOOKUP(F2075,Soutez!B:C,2,FALSE)","v":"LT"},{"$f":"VLOOKUP(F2075,Soutez!B:D,3,FALSE)","v":2022},10,3149,1.075,7776,8359,null,null,"LS 4","UWE","Není v databázi"]
["Jan Ratz",{"$f":"VLOOKUP(A2076,Pilot,2,0)","v":1987},{"$f":"VLOOKUP(A2076,Pilot,5,0)","v":"M"},{"$f":"VLOOKUP(A2076,Pilot,3,0)","v":"Zbraslavice"},{"$f":"VLOOKUP(A2076,Pilot,4,0)","v":"CZ/C1"},"EGC 2022 - Klub",{"$f":"VLOOKUP(F2076,Soutez!B:C,2,FALSE)","v":"LT"},{"$f":"VLOOKUP(F2076,Soutez!B:D,3,FALSE)","v":2022},11,3148,1.075,7664,8239,"x",null,"ASW 20","NW",""]
["Arturas Pilvinis",null,null,"Lithuania",null,"EGC 2022 - Klub",{"$f":"VLOOKUP(F2077,Soutez!B:C,2,FALSE)","v":"LT"},{"$f":"VLOOKUP(F2077,Soutez!B:D,3,FALSE)","v":2022},12,3129,1.075,7518,8082,null,null,"ASW 20 F","VJ","Není v databázi"]
["Roelof Corporaal",null,null,"Netherlands",null,"EGC 2022 - Klub",{"$f":"VLOOKUP(F2078,Soutez!B:C,2,FALSE)","v":"LT"},{"$f":"VLOOKUP(F2078,Soutez!B:D,3,FALSE)","v":2022},13,3127,1.075,7403,7958,null,null,"LS 7 neo","LK","Není v databázi"]
["Lasse Edslev",null,null,"Denmark",null,"EGC 2022 - Klub",{"$f":"VLOOKUP(F2079,Soutez!B:C,2,FALSE)","v":"LT"},{"$f":"VLOOKUP(F2079,Soutez!B:D,3,FALSE)","v":2022},14,3107,{"$f":"VLOOKUP(F2079,Soutez,12,0)","v":1.075},7255,7799,null,null,"LS 4 a","LE","Není v databázi"]
["Miroslaw Izydorczak",null,null,"Poland",null,"EGC 2022 - Klub",{"$f":"VLOOKUP(F2080,Soutez!B:C,2,FALSE)","v":"LT"},{"$f":"VLOOKUP(F2080,Soutez!B:D,3,FALSE)","v":2022},15,3068,1.075,7072,7602,null,null,"ASW 20 F","SB","Není v databázi"]
["Zbigniew Górecki",null,null,"Poland",null,"EGC 2022 - Klub",{"$f":"VLOOKUP(F2081,Soutez!B:C,2,FALSE)","v":"LT"},{"$f":"VLOOKUP(F2081,Soutez!B:D,3,FALSE)","v":2022},16,3008,1.075,6851,{"$f":"ROUND(K2081*L2081,0)","v":7365},null,null,"Mini Nimbus B","CHI","Není v databázi"]
["Ionut Tudor",null,null,"Romania",null,"EGC 2022 - Klub",{"$f":"VLOOKUP(F2082,Soutez!B:C,2,FALSE)","v":"LT"},{"$f":"VLOOKUP(F2082,Soutez!B:D,3,FALSE)","v":2022},17,2894,1.075,6531,7021,null,null,"LS 4 WL","8M","Není v databázi"]
["Robert Alin Simion",null,null,"Romania",null,"EGC 2022 - Klub",{"$f":"VLOOKUP(F2083,Soutez!B:C,2,FALSE)","v":"LT"},{"$f":"VLOOKUP(F2083,Soutez!B:D,3,FALSE)","v":2022},18,2837,1.075,6315,6789,null,null,"LS 4 a","Y2","Není v databázi"]
["Sakari Pyorre",null,null,"Finland",null,"EGC 2022 - Klub",{"$f":"VLOOKUP(F2084,Soutez!B:C,2,FALSE)","v":"LT"},{"$f":"VLOOKUP(F2084,Soutez!B:D,3,FALSE)","v":2022},19,2836,1.075,6202,6667,null,null,"LS 7","PF","Není v databázi"]
["Zoltan Meszaros",null,null,"Hungary",null,"EGC 2022 - Klub",{"$f":"VLOOKUP(F2085,Soutez!B:C,2,FALSE)","v":"LT"},{"$f":"VLOOKUP(F2085,Soutez!B:D,3,FALSE)","v":2022},20,2778,1.075,5985,6434,null,null,"ASW 20","BA","Není v databázi"]
["Szabolcs Veigli",null,null,"Hungary",null,"EGC 2022 - Klub",{"$f":"VLOOKUP(F2086,Soutez!B:C,2,FALSE)","v":"LT"},{"$f":"VLOOKUP(F2086,Soutez!B:D,3,FALSE)","v":2022},21,2776,1.075,5870,6310,null,null,"ASW 20 L","AC","Není v databázi"]
["Claudia Hill",null,null,"United Kingdom",null,"EGC 2022 - Klub",{"$f":"VLOOKUP(F2087,Soutez!B:C,2,FALSE)","v":"LT"},{"$f":"VLOOKUP(F2087,Soutez!B:D,3,FALSE)","v":2022},22,2752,1.075,5715,6144,null,null,"LS 1-f neo","CH","Není v databázi"]
["Martin Sabla",null,null,"Slovakia",null,"EGC 2022 - Klub",{"$f":"VLOOKUP(F2088,Soutez!B:C,2,FALSE)","v":"LT"},{"$f":"VLOOKUP(F2088,Soutez!B:D,3,FALSE)","v":2022},23,2669,1.075,5452,5861,null,null,"Discus b","70I","Není v databázi"]
["Oleg Bondarchuk",null,null,"Ukraine",null,"EGC 2022 - Klub",{"$f":"VLOOKUP(F2089,Soutez!B:C,2,FALSE)","v":"LT"},{"$f":"VLOOKUP(F2089,Soutez!B:D,3,FALSE)","v":2022},24,2477,1.075,4988,5362,null,null,"Pegase 101A","PL","Není v databázi"]
["Maxence Stawski",null,null,"France",null,"EGC 2022 - Klub",{"$f":"VLOOKUP(F2090,Soutez!B:C,2,FALSE)","v":"LT"},{"$f":"VLOOKUP(F2090,Soutez!B:D,3,FALSE)","v":2022},25,2457,1.075,4840,5203,null,null,"LS 4","V78","Není v databázi"]
["Robin Selfslagh",null,null,"Belgium",null,"EGC 2022 - Klub",{"$f":"VLOOKUP(F2091,Soutez!B:C,2,FALSE)","v":"LT"},{"$f":"VLOOKUP(F2091,Soutez!B:D,3,FALSE)","v":2022},26,2372,1.075,4573,4916,null,null,"LS 1-f","1T","Není v databázi"]
["Frane Franic",null,null,"Croatia",null,"EGC 2022 - Klub",{"$f":"VLOOKUP(F2092,Soutez!B:C,2,FALSE)","v":"LT"},{"$f":"VLOOKUP(F2092,Soutez!B:D,3,FALSE)","v":2022},27,1846,1.075,3497,3759,null,null,"ASW 24","HR3","Není v databázi"]
["Luca Urbani",null,null,"Italy",null,"EGC 2022 - Klub",{"$f":"VLOOKUP(F2093,Soutez!B:C,2,FALSE)","v":"LT"},{"$f":"VLOOKUP(F2093,Soutez!B:D,3,FALSE)","v":2022},28,1404,1.075,2575,2768,null,null,"LS 3 a","CE","Není v databázi"]
["Jan-Ola Nordh",null,null,"Sweden",null,"EGC 2022 - Std",{"$f":"VLOOKUP(F2094,Soutez!B:C,2,FALSE)","v":"LT"},{"$f":"VLOOKUP(F2094,Soutez!B:D,3,FALSE)","v":2022},1,3611,{"$f":"VLOOKUP(F2094,Soutez,12,0)","v":1.0899999999999999},{"$f":"ROUND(J2094/MAX($J$2094:$J$2121)*10000*0.7+(MAX($I$2094:$I$2121)-I2094)/(MAX($I$2094:$I$2121)-1)*10000*0.3,0)","v":10000},{"$f":"ROUND(K2094*L2094,0)","v":10900},null,null,"Discus 2 T","TA","Není v databázi"]
["Lukasz Blaszczyk",null,null,"Poland",null,"EGC 2022 - Std",{"$f":"VLOOKUP(F2095,Soutez!B:C,2,FALSE)","v":"LT"},{"$f":"VLOOKUP(F2095,Soutez!B:D,3,FALSE)","v":2022},2,3578,{"$f":"VLOOKUP(F2095,Soutez,12,0)","v":1.0899999999999999},9825,{"$f":"ROUND(K2095*L2095,0)","v":10709},null,null,"Discus 2a","I","Není v databázi"]
["Dennis Huybreckx",null,null,"Belgium",null,"EGC 2022 - Std",{"$f":"VLOOKUP(F2096,Soutez!B:C,2,FALSE)","v":"LT"},{"$f":"VLOOKUP(F2096,Soutez!B:D,3,FALSE)","v":2022},3,3575,1.0899999999999999,9708,10582,null,null,"LS 8","CM","Není v databázi"]
["Sami Rissanen",null,null,"Finland",null,"EGC 2022 - Std",{"$f":"VLOOKUP(F2097,Soutez!B:C,2,FALSE)","v":"LT"},{"$f":"VLOOKUP(F2097,Soutez!B:D,3,FALSE)","v":2022},4,3491,1.0899999999999999,9434,10283,null,null,"LS 8","ES","Není v databázi"]
["Jeroen Jennen",null,null,"Belgium",null,"EGC 2022 - Std",{"$f":"VLOOKUP(F2098,Soutez!B:C,2,FALSE)","v":"LT"},{"$f":"VLOOKUP(F2098,Soutez!B:D,3,FALSE)","v":2022},5,3483,1.0899999999999999,9307,10145,null,null,"LS 8","LT","Není v databázi"]
["Gvidas Sabeckis",null,null,"Lithuania",null,"EGC 2022 - Std",{"$f":"VLOOKUP(F2099,Soutez!B:C,2,FALSE)","v":"LT"},{"$f":"VLOOKUP(F2099,Soutez!B:D,3,FALSE)","v":2022},5,3483,1.0899999999999999,9307,10145,null,null,"LS 8","H8","Není v databázi"]
["Miloslav Cink",{"$f":"VLOOKUP(A2100,Pilot,2,0)","v":1987},{"$f":"VLOOKUP(A2100,Pilot,5,0)","v":"M"},{"$f":"VLOOKUP(A2100,Pilot,3,0)","v":"Letkov"},{"$f":"VLOOKUP(A2100,Pilot,4,0)","v":"CZ/C1"},"EGC 2022 - Std",{"$f":"VLOOKUP(F2100,Soutez!B:C,2,FALSE)","v":"LT"},{"$f":"VLOOKUP(F2100,Soutez!B:D,3,FALSE)","v":2022},7,3433,1.0899999999999999,8988,9797,"x",null,"LS 8 b","J3",""]
["Jan Pavlik",1987,"M","Křižanov","CZ/M","EGC 2022 - Std",{"$f":"VLOOKUP(F2101,Soutez!B:C,2,FALSE)","v":"LT"},{"$f":"VLOOKUP(F2101,Soutez!B:D,3,FALSE)","v":2022},8,3420,1.0899999999999999,8852,9649,"x",null,"LS 8","JW",""]
["Enrique Levin",null,null,"Germany",null,"EGC 2022 - Std",{"$f":"VLOOKUP(F2102,Soutez!B:C,2,FALSE)","v":"LT"},{"$f":"VLOOKUP(F2102,Soutez!B:D,3,FALSE)","v":2022},9,3360,1.0899999999999999,8625,9401,null,null,"Discus 2a","FL","Není v databázi"]
["Norbert-Alin Scarlat",null,null,"Romania",null,"EGC 2022 - Std",{"$f":"VLOOKUP(F2103,Soutez!B:C,2,FALSE)","v":"LT"},{"$f":"VLOOKUP(F2103,Soutez!B:D,3,FALSE)","v":2022},10,3305,1.0899999999999999,8407,9164,null,null,"Discus 2a","Y1","Není v databázi"]
["Mario Kiessling",null,null,"Germany",null,"EGC 2022 - Std",{"$f":"VLOOKUP(F2104,Soutez!B:C,2,FALSE)","v":"LT"},{"$f":"VLOOKUP(F2104,Soutez!B:D,3,FALSE)","v":2022},11,3286,1.0899999999999999,8259,9002,null,null,"Discus 2a","XN","Není v databázi"]
["Valentin Leleu-Lambour",null,null,"France",null,"EGC 2022 - Std",{"$f":"VLOOKUP(F2105,Soutez!B:C,2,FALSE)","v":"LT"},{"$f":"VLOOKUP(F2105,Soutez!B:D,3,FALSE)","v":2022},12,3281,{"$f":"VLOOKUP(F2105,Soutez,12,0)","v":1.0899999999999999},8138,8870,null,null,"LS 8","ZT","Není v databázi"]
["Pavel Louzecky",{"$f":"VLOOKUP(A2106,Pilot,2,0)","v":1957},{"$f":"VLOOKUP(A2106,Pilot,5,0)","v":"M"},{"$f":"VLOOKUP(A2106,Pilot,3,0)","v":"Přibyslav"},{"$f":"VLOOKUP(A2106,Pilot,4,0)","v":"CZ/C2"},"EGC 2022 - Std",{"$f":"VLOOKUP(F2106,Soutez!B:C,2,FALSE)","v":"LT"},{"$f":"VLOOKUP(F2106,Soutez!B:D,3,FALSE)","v":2022},13,3271,1.0899999999999999,8008,8729,null,null,"LS 8 b","FX",{"$f":"IF(ISERROR(VLOOKUP(A2106,Pilot,6,0)),\"Není v databázi\",VLOOKUP(A2106,Pilot,6,0))","v":""}]
["Davide Giovanelli",null,null,"Switzerland",null,"EGC 2022 - Std",{"$f":"VLOOKUP(F2107,Soutez!B:C,2,FALSE)","v":"LT"},{"$f":"VLOOKUP(F2107,Soutez!B:D,3,FALSE)","v":2022},14,3220,1.0899999999999999,7798,{"$f":"ROUND(K2107*L2107,0)","v":8500},null,null,"Discus 2b","TS","Není v databázi"]
["Wiktor Lacinski",null,null,"Poland",null,"EGC 2022 - Std",{"$f":"VLOOKUP(F2108,Soutez!B:C,2,FALSE)","v":"LT"},{"$f":"VLOOKUP(F2108,Soutez!B:D,3,FALSE)","v":2022},15,3161,1.0899999999999999,7572,8253,null,null,"Discus 2a","Y","Není v databázi"]
["Victor-Alex Pop",null,null,"Romania",null,"EGC 2022 - Std",{"$f":"VLOOKUP(F2109,Soutez!B:C,2,FALSE)","v":"LT"},{"$f":"VLOOKUP(F2109,Soutez!B:D,3,FALSE)","v":2022},16,3147,1.0899999999999999,7434,8103,null,null,"Discus 2a","YB","Není v databázi"]
["Stephan Grunder",null,null,"Netherlands",null,"EGC 2022 - Std",{"$f":"VLOOKUP(F2110,Soutez!B:C,2,FALSE)","v":"LT"},{"$f":"VLOOKUP(F2110,Soutez!B:D,3,FALSE)","v":2022},17,3079,1.0899999999999999,7191,7838,null,null,"LS 8 a","XK","Není v databázi"]
["Paul Fritche",null,null,"United Kingdom",null,"EGC 2022 - Std",{"$f":"VLOOKUP(F2111,Soutez!B:C,2,FALSE)","v":"LT"},{"$f":"VLOOKUP(F2111,Soutez!B:D,3,FALSE)","v":2022},18,3004,1.0899999999999999,6934,7558,null,null,"LS 8","L4","Není v databázi"]
["Tamas Vamosi",null,null,"Hungary",null,"EGC 2022 - Std",{"$f":"VLOOKUP(F2112,Soutez!B:C,2,FALSE)","v":"LT"},{"$f":"VLOOKUP(F2112,Soutez!B:D,3,FALSE)","v":2022},19,2845,1.0899999999999999,6515,7101,null,null,"Discus 2a","HAL","Není v databázi"]
["Jan Brandt Jorgensen",null,null,"Denmark",null,"EGC 2022 - Std",{"$f":"VLOOKUP(F2113,Soutez!B:C,2,FALSE)","v":"LT"},{"$f":"VLOOKUP(F2113,Soutez!B:D,3,FALSE)","v":2022},20,2825,1.0899999999999999,6365,6938,null,null,"LS 8 neo","JB","Není v databázi"]
["Ringaudas Kikalas",null,null,"Lithuania",null,"EGC 2022 - Std",{"$f":"VLOOKUP(F2114,Soutez!B:C,2,FALSE)","v":"LT"},{"$f":"VLOOKUP(F2114,Soutez!B:D,3,FALSE)","v":2022},21,2719,1.0899999999999999,6049,6593,null,null,"LS 8","SI","Není v databázi"]
["Péter Banki",null,null,"Hungary",null,"EGC 2022 - Std",{"$f":"VLOOKUP(F2115,Soutez!B:C,2,FALSE)","v":"LT"},{"$f":"VLOOKUP(F2115,Soutez!B:D,3,FALSE)","v":2022},22,2683,1.0899999999999999,5868,6396,null,null,"Discus 2a","HUN","Není v databázi"]
["Remy Hirt",null,null,"Switzerland",null,"EGC 2022 - Std",{"$f":"VLOOKUP(F2116,Soutez!B:C,2,FALSE)","v":"LT"},{"$f":"VLOOKUP(F2116,Soutez!B:D,3,FALSE)","v":2022},23,2579,1.0899999999999999,5555,6055,null,null,"LS 8","AB","Není v databázi"]
["Peter Marius Jensen",null,null,"Denmark",null,"EGC 2022 - Std",{"$f":"VLOOKUP(F2117,Soutez!B:C,2,FALSE)","v":"LT"},{"$f":"VLOOKUP(F2117,Soutez!B:D,3,FALSE)","v":2022},24,2578,1.0899999999999999,5442,5932,null,null,"Discus 2c","PU","Není v databázi"]
["Aude Untersee",null,null,"France",null,"EGC 2022 - Std",{"$f":"VLOOKUP(F2118,Soutez!B:C,2,FALSE)","v":"LT"},{"$f":"VLOOKUP(F2118,Soutez!B:D,3,FALSE)","v":2022},25,2498,1.0899999999999999,5176,5642,null,null,"Discus 2a","JPA","Není v databázi"]
["Nigel Mallender",null,null,"United Kingdom",null,"EGC 2022 - Std",{"$f":"VLOOKUP(F2119,Soutez!B:C,2,FALSE)","v":"LT"},{"$f":"VLOOKUP(F2119,Soutez!B:D,3,FALSE)","v":2022},26,2430,1.0899999999999999,4933,5377,null,null,"LS 8",946,"Není v databázi"]
["Antti Koskiniemi",null,null,"Finland",null,"EGC 2022 - Std",{"$f":"VLOOKUP(F2120,Soutez!B:C,2,FALSE)","v":"LT"},{"$f":"VLOOKUP(F2120,Soutez!B:D,3,FALSE)","v":2022},27,2159,1.0899999999999999,4296,4683,null,null,"Discus 2b","JS","Není v databázi"]
["Anna Piotrowska",null,null,"Croatia",null,"EGC 2022 - Std",{"$f":"VLOOKUP(F2121,Soutez!B:C,2,FALSE)","v":"LT"},{"$f":"VLOOKUP(F2121,Soutez!B:D,3,FALSE)","v":2022},28,1809,1.0899999999999999,3507,3823,null,null,"LS 8","GM","Není v databázi"]
["Sebastian Kawa",null,null,"Poland",null,"EGC 2022 - 15m",{"$f":"VLOOKUP(F2122,Soutez!B:C,2,FALSE)","v":"LT"},{"$f":"VLOOKUP(F2122,Soutez!B:D,3,FALSE)","v":2022},1,4452,{"$f":"VLOOKUP(F2122,Soutez,12,0)","v":1.06},{"$f":"ROUND(J2122/MAX($J$2122:$J$2147)*10000*0.7+(MAX($I$2122:$I$2147)-I2122)/(MAX($I$2122:$I$2147)-1)*10000*0.3,0)","v":10000},{"$f":"ROUND(K2122*L2122,0)","v":10600},null,null,"Diana 2 FES V","ZJ","Není v databázi"]
["Lukasz Grabowski",null,null,"Poland",null,"EGC 2022 - 15m",{"$f":"VLOOKUP(F2123,Soutez!B:C,2,FALSE)","v":"LT"},{"$f":"VLOOKUP(F2123,Soutez!B:D,3,FALSE)","v":2022},2,4328,{"$f":"VLOOKUP(F2123,Soutez,12,0)","v":1.06},9685,{"$f":"ROUND(K2123*L2123,0)","v":10266},null,null,"Diana 2","RP","Není v databázi"]
["Oliver Springer",null,null,"Germany",null,"EGC 2022 - 15m",{"$f":"VLOOKUP(F2124,Soutez!B:C,2,FALSE)","v":"LT"},{"$f":"VLOOKUP(F2124,Soutez!B:D,3,FALSE)","v":2022},3,4027,1.06,9092,9638,null,null,"AS 33 Es","OS","Není v databázi"]
["Karel Novak",{"$f":"VLOOKUP(A2125,Pilot,2,0)","v":1993},{"$f":"VLOOKUP(A2125,Pilot,5,0)","v":"M"},{"$f":"VLOOKUP(A2125,Pilot,3,0)","v":"Mladá Boleslav"},{"$f":"VLOOKUP(A2125,Pilot,4,0)","v":"CZ/C1"},"EGC 2022 - 15m",{"$f":"VLOOKUP(F2125,Soutez!B:C,2,FALSE)","v":"LT"},{"$f":"VLOOKUP(F2125,Soutez!B:D,3,FALSE)","v":2022},4,4001,{"$f":"VLOOKUP(F2125,Soutez,12,0)","v":1.06},8931,9467,"x",null,"JS3 15m","ZE",""]
["Harri Hirvola",null,null,"Finland",null,"EGC 2022 - 15m",{"$f":"VLOOKUP(F2126,Soutez!B:C,2,FALSE)","v":"LT"},{"$f":"VLOOKUP(F2126,Soutez!B:D,3,FALSE)","v":2022},5,3972,1.06,8765,9291,null,null,"Ventus 2a","EH","Není v databázi"]
["Yves Gerster",null,null,"Switzerland",null,"EGC 2022 - 15m",{"$f":"VLOOKUP(F2127,Soutez!B:C,2,FALSE)","v":"LT"},{"$f":"VLOOKUP(F2127,Soutez!B:D,3,FALSE)","v":2022},6,3851,1.06,8455,{"$f":"ROUND(K2127*L2127,0)","v":8962},null,null,"JS3",73,"Není v databázi"]
["Julien Duboc",null,null,"France",null,"EGC 2022 - 15m",{"$f":"VLOOKUP(F2128,Soutez!B:C,2,FALSE)","v":"LT"},{"$f":"VLOOKUP(F2128,Soutez!B:D,3,FALSE)","v":2022},7,3830,1.06,8302,8800,null,null,"Ventus 2ax","EQ","Není v databázi"]
["Werner Amann",null,null,"Austria",null,"EGC 2022 - 15m",{"$f":"VLOOKUP(F2129,Soutez!B:C,2,FALSE)","v":"LT"},{"$f":"VLOOKUP(F2129,Soutez!B:D,3,FALSE)","v":2022},8,3825,1.06,8174,8664,null,null,"AS 33","WG","Není v databázi"]
["Kévin Faur",null,null,"France",null,"EGC 2022 - 15m",{"$f":"VLOOKUP(F2130,Soutez!B:C,2,FALSE)","v":"LT"},{"$f":"VLOOKUP(F2130,Soutez!B:D,3,FALSE)","v":2022},9,3808,1.06,8027,8509,null,null,"Ventus 2a","IR","Není v databázi"]
["Tim Scott",null,null,"United Kingdom",null,"EGC 2022 - 15m",{"$f":"VLOOKUP(F2131,Soutez!B:C,2,FALSE)","v":"LT"},{"$f":"VLOOKUP(F2131,Soutez!B:D,3,FALSE)","v":2022},10,3743,1.06,7805,8273,null,null,"ASG 29","Z3","Není v databázi"]
["Andreas Lutz",null,null,"Austria",null,"EGC 2022 - 15m",{"$f":"VLOOKUP(F2132,Soutez!B:C,2,FALSE)","v":"LT"},{"$f":"VLOOKUP(F2132,Soutez!B:D,3,FALSE)","v":2022},11,3712,1.06,7636,8094,null,null,"Ventus 3 T","A","Není v databázi"]
["Marius Pluscauskas",null,null,"Lithuania",null,"EGC 2022 - 15m",{"$f":"VLOOKUP(F2133,Soutez!B:C,2,FALSE)","v":"LT"},{"$f":"VLOOKUP(F2133,Soutez!B:D,3,FALSE)","v":2022},12,3542,1.06,7249,7684,null,null,"Ventus 2ax","XY","Není v databázi"]
["David Mach",1994,"M",{"$f":"VLOOKUP(A2134,Pilot,3,0)","v":"Hronov"},{"$f":"VLOOKUP(A2134,Pilot,4,0)","v":"CZ/C2"},"EGC 2022 - 15m",{"$f":"VLOOKUP(F2134,Soutez!B:C,2,FALSE)","v":"LT"},{"$f":"VLOOKUP(F2134,Soutez!B:D,3,FALSE)","v":2022},13,3533,1.06,7115,7542,null,null,"JS3 15m","XM",""]
["Henrik A. Breidahl",null,null,"Denmark",null,"EGC 2022 - 15m",{"$f":"VLOOKUP(F2135,Soutez!B:C,2,FALSE)","v":"LT"},{"$f":"VLOOKUP(F2135,Soutez!B:D,3,FALSE)","v":2022},14,3518,1.06,6971,7389,null,null,"JS MD 3",14,"Není v databázi"]
["Nick Tillett",null,null,"United Kingdom",null,"EGC 2022 - 15m",{"$f":"VLOOKUP(F2136,Soutez!B:C,2,FALSE)","v":"LT"},{"$f":"VLOOKUP(F2136,Soutez!B:D,3,FALSE)","v":2022},15,3391,1.06,6652,7051,null,null,"ASG 29 Es","NT","Není v databázi"]
["Gintaras Drevinskas",null,null,"Lithuania",null,"EGC 2022 - 15m",{"$f":"VLOOKUP(F2137,Soutez!B:C,2,FALSE)","v":"LT"},{"$f":"VLOOKUP(F2137,Soutez!B:D,3,FALSE)","v":2022},16,3350,1.06,6467,6855,null,null,"ASG 29","M7","Není v databázi"]
["Thomas Wettemann",null,null,"Germany",null,"EGC 2022 - 15m",{"$f":"VLOOKUP(F2138,Soutez!B:C,2,FALSE)","v":"LT"},{"$f":"VLOOKUP(F2138,Soutez!B:D,3,FALSE)","v":2022},17,3136,1.06,6011,6372,null,null,"JS MD 3","EA","Není v databázi"]
["Gabor Gangl",null,null,"Hungary",null,"EGC 2022 - 15m",{"$f":"VLOOKUP(F2139,Soutez!B:C,2,FALSE)","v":"LT"},{"$f":"VLOOKUP(F2139,Soutez!B:D,3,FALSE)","v":2022},18,3061,1.06,5773,6119,null,null,"Ventus 2a","V8","Není v databázi"]
["Lars Groot",null,null,"Netherlands",null,"EGC 2022 - 15m",{"$f":"VLOOKUP(F2140,Soutez!B:C,2,FALSE)","v":"LT"},{"$f":"VLOOKUP(F2140,Soutez!B:D,3,FALSE)","v":2022},19,2977,1.06,5521,5852,null,null,"ASG 29 E","GR","Není v databázi"]
["Mark Käppeli",null,null,"Switzerland",null,"EGC 2022 - 15m",{"$f":"VLOOKUP(F2141,Soutez!B:C,2,FALSE)","v":"LT"},{"$f":"VLOOKUP(F2141,Soutez!B:D,3,FALSE)","v":2022},20,2738,1.06,5025,5327,null,null,"JS3","MK","Není v databázi"]
["Felipe Cvitanich",null,null,"Denmark",null,"EGC 2022 - 15m",{"$f":"VLOOKUP(F2142,Soutez!B:C,2,FALSE)","v":"LT"},{"$f":"VLOOKUP(F2142,Soutez!B:D,3,FALSE)","v":2022},21,2629,1.06,4734,5018,null,null,"Ventus 2 ct","RJ","Není v databázi"]
["Nuutti Kankare",null,null,"Finland",null,"EGC 2022 - 15m",{"$f":"VLOOKUP(F2143,Soutez!B:C,2,FALSE)","v":"LT"},{"$f":"VLOOKUP(F2143,Soutez!B:D,3,FALSE)","v":2022},22,2586,1.06,4546,4819,null,null,"Ventus 2bx","KX","Není v databázi"]
["Thomas De Bruyn",null,null,"Belgium",null,"EGC 2022 - 15m",{"$f":"VLOOKUP(F2144,Soutez!B:C,2,FALSE)","v":"LT"},{"$f":"VLOOKUP(F2144,Soutez!B:D,3,FALSE)","v":2022},23,2293,1.06,3965,4203,null,null,"Ventus 2ax","FS","Není v databázi"]
["Bruno Herencic",null,null,"Croatia",null,"EGC 2022 - 15m",{"$f":"VLOOKUP(F2145,Soutez!B:C,2,FALSE)","v":"LT"},{"$f":"VLOOKUP(F2145,Soutez!B:D,3,FALSE)","v":2022},24,2123,1.06,3578,3793,null,null,"Diana 2 FES","BH","Není v databázi"]
["Laszlo Bano",null,null,"Hungary",null,"EGC 2022 - 15m",{"$f":"VLOOKUP(F2146,Soutez!B:C,2,FALSE)","v":"LT"},{"$f":"VLOOKUP(F2146,Soutez!B:D,3,FALSE)","v":2022},25,1318,1.06,2192,2324,null,null,"JS MD 3","AX","Není v databázi"]
["Lorenzo Fornari",null,null,"Italy",null,"EGC 2022 - 15m",{"$f":"VLOOKUP(F2147,Soutez!B:C,2,FALSE)","v":"LT"},{"$f":"VLOOKUP(F2147,Soutez!B:D,3,FALSE)","v":2022},26,104,1.06,164,174,null,null,"Ventus 2ax","LD","Není v databázi"]
["Finn Sleigh",null,null,null,null,"JWGC 2022 - Klub",{"$f":"VLOOKUP(F2148,Soutez!B:C,2,FALSE)","v":"CZ"},{"$f":"VLOOKUP(F2148,Soutez!B:D,3,FALSE)","v":2022},1,8132,{"$f":"VLOOKUP(F2148,Soutez,12,0)","v":1.075},{"$f":"ROUND(J2148/MAX($J$2148:$J$2192)*10000*0.7+(MAX($I$2148:$I$2192)-I2148)/(MAX($I$2148:$I$2192)-1)*10000*0.3,0)","v":10000},{"$f":"ROUND(K2148*L2148,0)","v":10750},null,null,"ASW 20",5,"Není v databázi"]
["Toby Freeland",null,null,null,null,"JWGC 2022 - Klub",{"$f":"VLOOKUP(F2149,Soutez!B:C,2,FALSE)","v":"CZ"},{"$f":"VLOOKUP(F2149,Soutez!B:D,3,FALSE)","v":2022},2,7874,{"$f":"VLOOKUP(F2149,Soutez,12,0)","v":1.075},9710,{"$f":"ROUND(K2149*L2149,0)","v":10438},null,null,"ASW 20 l",212,"Není v databázi"]
["Nils Fecker",null,null,null,null,"JWGC 2022 - Klub",{"$f":"VLOOKUP(F2150,Soutez!B:C,2,FALSE)","v":"CZ"},{"$f":"VLOOKUP(F2150,Soutez!B:D,3,FALSE)","v":2022},3,7852,1.075,9623,10345,null,null,"LS4 a","FT","Není v databázi"]
["Lars Van Breemen",null,null,null,null,"JWGC 2022 - Klub",{"$f":"VLOOKUP(F2151,Soutez!B:C,2,FALSE)","v":"CZ"},{"$f":"VLOOKUP(F2151,Soutez!B:D,3,FALSE)","v":2022},4,7781,1.075,9493,10205,null,null,"LS4 b Neo","S4","Není v databázi"]
["Alexandre Fierain",null,null,null,null,"JWGC 2022 - Klub",{"$f":"VLOOKUP(F2152,Soutez!B:C,2,FALSE)","v":"CZ"},{"$f":"VLOOKUP(F2152,Soutez!B:D,3,FALSE)","v":2022},5,7738,1.075,9388,10092,null,null,"ASW 20","WE","Není v databázi"]
["Toni Kittler",null,null,null,null,"JWGC 2022 - Klub",{"$f":"VLOOKUP(F2153,Soutez!B:C,2,FALSE)","v":"CZ"},{"$f":"VLOOKUP(F2153,Soutez!B:D,3,FALSE)","v":2022},6,7641,1.075,9236,9929,null,null,"LS4 a","BV","Není v databázi"]
["Miles Kjær",null,null,null,null,"JWGC 2022 - Klub",{"$f":"VLOOKUP(F2154,Soutez!B:C,2,FALSE)","v":"CZ"},{"$f":"VLOOKUP(F2154,Soutez!B:D,3,FALSE)","v":2022},7,7592,1.075,9126,9810,null,null,"ASW 20","CB","Není v databázi"]
["Kim Toppari",null,null,null,null,"JWGC 2022 - Klub",{"$f":"VLOOKUP(F2155,Soutez!B:C,2,FALSE)","v":"CZ"},{"$f":"VLOOKUP(F2155,Soutez!B:D,3,FALSE)","v":2022},8,7558,1.075,9029,9706,null,null,"LS7 wl","FK","Není v databázi"]
["Jelmer Vis",null,null,null,null,"JWGC 2022 - Klub",{"$f":"VLOOKUP(F2156,Soutez!B:C,2,FALSE)","v":"CZ"},{"$f":"VLOOKUP(F2156,Soutez!B:D,3,FALSE)","v":2022},9,7553,1.075,8956,9628,null,null,"LS4 a","VIS","Není v databázi"]
["Philip Jonker",null,null,null,null,"JWGC 2022 - Klub",{"$f":"VLOOKUP(F2157,Soutez!B:C,2,FALSE)","v":"CZ"},{"$f":"VLOOKUP(F2157,Soutez!B:D,3,FALSE)","v":2022},10,7544,1.075,8880,9546,null,null,"LS3","SF","Není v databázi"]
["Eric Schneider",null,null,null,null,"JWGC 2022 - Klub",{"$f":"VLOOKUP(F2158,Soutez!B:C,2,FALSE)","v":"CZ"},{"$f":"VLOOKUP(F2158,Soutez!B:D,3,FALSE)","v":2022},11,7530,1.075,8800,9460,null,null,"LS4 b","MH","Není v databázi"]
["Mark Travner",null,null,null,null,"JWGC 2022 - Klub",{"$f":"VLOOKUP(F2159,Soutez!B:C,2,FALSE)","v":"CZ"},{"$f":"VLOOKUP(F2159,Soutez!B:D,3,FALSE)","v":2022},12,7519,1.075,8722,9376,null,null,"ASW 20","SH","Není v databázi"]
["Simon van den Eijkel",null,null,null,null,"JWGC 2022 - Klub",{"$f":"VLOOKUP(F2160,Soutez!B:C,2,FALSE)","v":"CZ"},{"$f":"VLOOKUP(F2160,Soutez!B:D,3,FALSE)","v":2022},13,7503,1.075,8640,9288,null,null,"LS4","Aa",{"$f":"IF(ISERROR(VLOOKUP(A2160,Pilot,6,0)),\"Není v databázi\",VLOOKUP(A2160,Pilot,6,0))","v":"Není v databázi"}]
["Jens Andersen",null,null,null,null,"JWGC 2022 - Klub",{"$f":"VLOOKUP(F2161,Soutez!B:C,2,FALSE)","v":"CZ"},{"$f":"VLOOKUP(F2161,Soutez!B:D,3,FALSE)","v":2022},14,7398,1.075,8482,9118,null,null,"Mosquito","N8","Není v databázi"]
["Vit Morkovsky",{"$f":"VLOOKUP(A2162,Pilot,2,0)","v":2000},{"$f":"VLOOKUP(A2162,Pilot,5,0)","v":"M"},{"$f":"VLOOKUP(A2162,Pilot,3,0)","v":"Polička"},{"$f":"VLOOKUP(A2162,Pilot,4,0)","v":"CZ/C2"},"JWGC 2022 - Klub",{"$f":"VLOOKUP(F2162,Soutez!B:C,2,FALSE)","v":"CZ"},{"$f":"VLOOKUP(F2162,Soutez!B:D,3,FALSE)","v":2022},15,7348,1.075,8371,8999,"x",null,"ASW 20","CX","Junior v roce 2023"]
["Zsombor Wéber",null,null,null,null,"JWGC 2022 - Klub",{"$f":"VLOOKUP(F2163,Soutez!B:C,2,FALSE)","v":"CZ"},{"$f":"VLOOKUP(F2163,Soutez!B:D,3,FALSE)","v":2022},16,7310,1.075,8270,8890,null,null,"ASW 20 c",18,"Není v databázi"]
["Théo Manfredi",null,null,null,null,"JWGC 2022 - Klub",{"$f":"VLOOKUP(F2164,Soutez!B:C,2,FALSE)","v":"CZ"},{"$f":"VLOOKUP(F2164,Soutez!B:D,3,FALSE)","v":2022},17,7241,1.075,8142,8753,null,null,"LS7","VX","Není v databázi"]
["Tereza Koubkova",1999,"F",{"$f":"VLOOKUP(A2165,Pilot,3,0)","v":"Vysoké Mýto"},{"$f":"VLOOKUP(A2165,Pilot,4,0)","v":"CZ/C2"},"JWGC 2022 - Klub",{"$f":"VLOOKUP(F2165,Soutez!B:C,2,FALSE)","v":"CZ"},{"$f":"VLOOKUP(F2165,Soutez!B:D,3,FALSE)","v":2022},18,7217,{"$f":"VLOOKUP(F2165,Soutez,12,0)","v":1.075},8053,8657,"x","x","ASW 20","MP","Junior v roce 2023"]
["Lasse Edslev",null,null,null,null,"JWGC 2022 - Klub",{"$f":"VLOOKUP(F2166,Soutez!B:C,2,FALSE)","v":"CZ"},{"$f":"VLOOKUP(F2166,Soutez!B:D,3,FALSE)","v":2022},19,7201,1.075,7971,8569,null,null,"LS4","LE","Není v databázi"]
["Milan Surovcik Jr.",null,null,null,null,"JWGC 2022 - Klub",{"$f":"VLOOKUP(F2167,Soutez!B:C,2,FALSE)","v":"CZ"},{"$f":"VLOOKUP(F2167,Soutez!B:D,3,FALSE)","v":2022},20,7148,1.075,7858,{"$f":"ROUND(K2167*L2167,0)","v":8447},null,null,"ASW 20","S","Není v databázi"]
["Barnabas Tóth",null,null,null,null,"JWGC 2022 - Klub",{"$f":"VLOOKUP(F2168,Soutez!B:C,2,FALSE)","v":"CZ"},{"$f":"VLOOKUP(F2168,Soutez!B:D,3,FALSE)","v":2022},21,7138,1.075,7781,8365,null,null,"ASW 20","IF","Není v databázi"]
["Edgar Lagorio",null,null,null,null,"JWGC 2022 - Klub",{"$f":"VLOOKUP(F2169,Soutez!B:C,2,FALSE)","v":"CZ"},{"$f":"VLOOKUP(F2169,Soutez!B:D,3,FALSE)","v":2022},22,7039,1.075,7627,8199,null,null,"Discus b","3G","Není v databázi"]
["Maciej Kowalski",null,null,null,null,"JWGC 2022 - Klub",{"$f":"VLOOKUP(F2170,Soutez!B:C,2,FALSE)","v":"CZ"},{"$f":"VLOOKUP(F2170,Soutez!B:D,3,FALSE)","v":2022},23,6978,1.075,7507,8070,null,null,"Jantar std. 3","SO","Není v databázi"]
["Samuel Posluch",null,null,null,null,"JWGC 2022 - Klub",{"$f":"VLOOKUP(F2171,Soutez!B:C,2,FALSE)","v":"CZ"},{"$f":"VLOOKUP(F2171,Soutez!B:D,3,FALSE)","v":2022},24,6975,1.075,7436,7994,null,null,"ASW 20 cj","VG","Není v databázi"]
["Robert Alin Simion",null,null,null,null,"JWGC 2022 - Klub",{"$f":"VLOOKUP(F2172,Soutez!B:C,2,FALSE)","v":"CZ"},{"$f":"VLOOKUP(F2172,Soutez!B:D,3,FALSE)","v":2022},25,6781,1.075,7201,7741,null,null,"LS4 a","Y2","Není v databázi"]
["David McMaster",null,null,null,null,"JWGC 2022 - Klub",{"$f":"VLOOKUP(F2173,Soutez!B:C,2,FALSE)","v":"CZ"},{"$f":"VLOOKUP(F2173,Soutez!B:D,3,FALSE)","v":2022},26,6645,1.075,7015,7541,null,null,"ASW 20",11,"Není v databázi"]
["Simon Siska",null,null,null,null,"JWGC 2022 - Klub",{"$f":"VLOOKUP(F2174,Soutez!B:C,2,FALSE)","v":"CZ"},{"$f":"VLOOKUP(F2174,Soutez!B:D,3,FALSE)","v":2022},27,6605,1.075,6913,7431,null,null,"ASW 24 wl","CK","Není v databázi"]
["Pascal Zollikofer",null,null,null,null,"JWGC 2022 - Klub",{"$f":"VLOOKUP(F2175,Soutez!B:C,2,FALSE)","v":"CZ"},{"$f":"VLOOKUP(F2175,Soutez!B:D,3,FALSE)","v":2022},28,6593,1.075,6834,7347,null,null,"LS4","FC","Není v databázi"]
["Ionut Tudor",null,null,null,null,"JWGC 2022 - Klub",{"$f":"VLOOKUP(F2176,Soutez!B:C,2,FALSE)","v":"CZ"},{"$f":"VLOOKUP(F2176,Soutez!B:D,3,FALSE)","v":2022},29,6568,1.075,6745,7251,null,null,"LS4 wl","8M","Není v databázi"]
["Ivan Tvrdik",1997,"M",{"$f":"VLOOKUP(A2177,Pilot,3,0)","v":"Letňany"},{"$f":"VLOOKUP(A2177,Pilot,4,0)","v":"CZ/C1"},"JWGC 2022 - Klub",{"$f":"VLOOKUP(F2177,Soutez!B:C,2,FALSE)","v":"CZ"},{"$f":"VLOOKUP(F2177,Soutez!B:D,3,FALSE)","v":2022},30,6407,1.075,6538,7028,null,null,"ASW 20","NW",""]
["Henry Richard Daly",null,null,null,null,"JWGC 2022 - Klub",{"$f":"VLOOKUP(F2178,Soutez!B:C,2,FALSE)","v":"CZ"},{"$f":"VLOOKUP(F2178,Soutez!B:D,3,FALSE)","v":2022},31,6390,1.075,6455,6939,null,null,"ASW 20 l","DK","Není v databázi"]
["Alessandro Bassalti",null,null,null,null,"JWGC 2022 - Klub",{"$f":"VLOOKUP(F2179,Soutez!B:C,2,FALSE)","v":"CZ"},{"$f":"VLOOKUP(F2179,Soutez!B:D,3,FALSE)","v":2022},32,6387,1.075,6384,6863,null,null,"Discus b","5I","Není v databázi"]
["Tomasz Kurowski",null,null,null,null,"JWGC 2022 - Klub",{"$f":"VLOOKUP(F2180,Soutez!B:C,2,FALSE)","v":"CZ"},{"$f":"VLOOKUP(F2180,Soutez!B:D,3,FALSE)","v":2022},33,6371,1.075,6302,6775,null,null,"SZD-48-3M Brawo","BZ","Není v databázi"]
["Dylan Osolian",null,null,null,null,"JWGC 2022 - Klub",{"$f":"VLOOKUP(F2181,Soutez!B:C,2,FALSE)","v":"CZ"},{"$f":"VLOOKUP(F2181,Soutez!B:D,3,FALSE)","v":2022},34,6273,1.075,6150,6611,null,null,"LS3","CP","Není v databázi"]
["Mikko Ylihärsilä",null,null,null,null,"JWGC 2022 - Klub",{"$f":"VLOOKUP(F2182,Soutez!B:C,2,FALSE)","v":"CZ"},{"$f":"VLOOKUP(F2182,Soutez!B:D,3,FALSE)","v":2022},35,6265,1.075,6075,6531,null,null,"LS7","GE","Není v databázi"]
["Michael Tiffin",null,null,null,null,"JWGC 2022 - Klub",{"$f":"VLOOKUP(F2183,Soutez!B:C,2,FALSE)","v":"CZ"},{"$f":"VLOOKUP(F2183,Soutez!B:D,3,FALSE)","v":2022},36,6243,1.075,5988,6437,null,null,"ASW 20","WX","Není v databázi"]
["Samuel Richardson",null,null,null,null,"JWGC 2022 - Klub",{"$f":"VLOOKUP(F2184,Soutez!B:C,2,FALSE)","v":"CZ"},{"$f":"VLOOKUP(F2184,Soutez!B:D,3,FALSE)","v":2022},37,6189,1.075,5873,6313,null,null,"Mosquito","TI","Není v databázi"]
["Emilien Montulet",null,null,null,null,"JWGC 2022 - Klub",{"$f":"VLOOKUP(F2185,Soutez!B:C,2,FALSE)","v":"CZ"},{"$f":"VLOOKUP(F2185,Soutez!B:D,3,FALSE)","v":2022},38,6188,1.075,5804,6239,null,null,"LS4","BZI","Není v databázi"]
["Sondre Bjørø",null,null,null,null,"JWGC 2022 - Klub",{"$f":"VLOOKUP(F2186,Soutez!B:C,2,FALSE)","v":"CZ"},{"$f":"VLOOKUP(F2186,Soutez!B:D,3,FALSE)","v":2022},39,6132,1.075,5687,6114,null,null,"ASW 20","TE","Není v databázi"]
["Jakub Kaczorowski",null,null,null,null,"JWGC 2022 - Klub",{"$f":"VLOOKUP(F2187,Soutez!B:C,2,FALSE)","v":"CZ"},{"$f":"VLOOKUP(F2187,Soutez!B:D,3,FALSE)","v":2022},40,6053,1.075,5551,5967,null,null,"SZD-48-3 Jantar Std. 3","BI","Není v databázi"]
["Sarunas Stanevicius",null,null,null,null,"JWGC 2022 - Klub",{"$f":"VLOOKUP(F2188,Soutez!B:C,2,FALSE)","v":"CZ"},{"$f":"VLOOKUP(F2188,Soutez!B:D,3,FALSE)","v":2022},41,5518,1.075,5023,5400,null,null,"ASW 20","BA","Není v databázi"]
["Sara Salonen",null,null,null,null,"JWGC 2022 - Klub",{"$f":"VLOOKUP(F2189,Soutez!B:C,2,FALSE)","v":"CZ"},{"$f":"VLOOKUP(F2189,Soutez!B:D,3,FALSE)","v":2022},42,5455,1.075,4900,5268,null,null,"Discus a","AT","Není v databázi"]
["Jokubas Motuza",null,null,null,null,"JWGC 2022 - Klub",{"$f":"VLOOKUP(F2190,Soutez!B:C,2,FALSE)","v":"CZ"},{"$f":"VLOOKUP(F2190,Soutez!B:D,3,FALSE)","v":2022},43,5316,1.075,4712,5065,null,null,"ASW 20","VJ","Není v databázi"]
["Lilla Szamosujvari",null,null,null,null,"JWGC 2022 - Klub",{"$f":"VLOOKUP(F2191,Soutez!B:C,2,FALSE)","v":"CZ"},{"$f":"VLOOKUP(F2191,Soutez!B:D,3,FALSE)","v":2022},44,5176,1.075,4524,4863,null,null,"Glasflügel 304","JM","Není v databázi"]
["David Roth",null,null,null,null,"JWGC 2022 - Klub",{"$f":"VLOOKUP(F2192,Soutez!B:C,2,FALSE)","v":"CZ"},{"$f":"VLOOKUP(F2192,Soutez!B:D,3,FALSE)","v":2022},45,3738,1.075,3218,3459,null,null,"LS4","CR","Není v databázi"]
["Simon Briel",null,null,null,null,"JWGC 2022 - Std",{"$f":"VLOOKUP(F2193,Soutez!B:C,2,FALSE)","v":"CZ"},{"$f":"VLOOKUP(F2193,Soutez!B:D,3,FALSE)","v":2022},1,8068,{"$f":"VLOOKUP(F2193,Soutez,12,0)","v":1.075},{"$f":"ROUND(J2193/MAX($J$2193:$J$2221)*10000*0.7+(MAX($I$2193:$I$2221)-I2193)/(MAX($I$2193:$I$2221)-1)*10000*0.3,0)","v":10000},{"$f":"ROUND(K2193*L2193,0)","v":10750},null,null,"Discus 2a","SB","Není v databázi"]
["Lukas Kriz",{"$f":"VLOOKUP(A2194,Pilot,2,0)","v":2003},{"$f":"VLOOKUP(A2194,Pilot,5,0)","v":"M"},{"$f":"VLOOKUP(A2194,Pilot,3,0)","v":"Křižanov"},{"$f":"VLOOKUP(A2194,Pilot,4,0)","v":"CZ/M"},"JWGC 2022 - Std",{"$f":"VLOOKUP(F2194,Soutez!B:C,2,FALSE)","v":"CZ"},{"$f":"VLOOKUP(F2194,Soutez!B:D,3,FALSE)","v":2022},2,7660,{"$f":"VLOOKUP(F2194,Soutez,12,0)","v":1.075},9539,{"$f":"ROUND(K2194*L2194,0)","v":10254},"x",null,"LS8","AU","Junior v roce 2023"]
["Jaromir Macoun",1999,"M","Jičín","CZ/C2","JWGC 2022 - Std",{"$f":"VLOOKUP(F2195,Soutez!B:C,2,FALSE)","v":"CZ"},{"$f":"VLOOKUP(F2195,Soutez!B:D,3,FALSE)","v":2022},3,7633,1.075,9408,10114,"x",null,"LS8","EU","Junior v roce 2023"]
["Ignas Bitinaitis",null,null,null,null,"JWGC 2022 - Std",{"$f":"VLOOKUP(F2196,Soutez!B:C,2,FALSE)","v":"CZ"},{"$f":"VLOOKUP(F2196,Soutez!B:D,3,FALSE)","v":2022},4,7586,1.075,9260,9955,null,null,"LS8","H8","Není v databázi"]
["Enguerrand Virol",null,null,null,null,"JWGC 2022 - Std",{"$f":"VLOOKUP(F2197,Soutez!B:C,2,FALSE)","v":"CZ"},{"$f":"VLOOKUP(F2197,Soutez!B:D,3,FALSE)","v":2022},5,7577,1.075,9145,9831,null,null,"LS8","V92","Není v databázi"]
["Florian Labatut",null,null,null,null,"JWGC 2022 - Std",{"$f":"VLOOKUP(F2198,Soutez!B:C,2,FALSE)","v":"CZ"},{"$f":"VLOOKUP(F2198,Soutez!B:D,3,FALSE)","v":2022},6,7539,1.075,9005,9680,null,null,"LS8","X15","Není v databázi"]
["Wiktor Lacinski",null,null,null,null,"JWGC 2022 - Std",{"$f":"VLOOKUP(F2199,Soutez!B:C,2,FALSE)","v":"CZ"},{"$f":"VLOOKUP(F2199,Soutez!B:D,3,FALSE)","v":2022},7,7514,1.075,8876,9542,null,null,"Discus 2a","I","Není v databázi"]
["Kévin Faur",null,null,null,null,"JWGC 2022 - Std",{"$f":"VLOOKUP(F2200,Soutez!B:C,2,FALSE)","v":"CZ"},{"$f":"VLOOKUP(F2200,Soutez!B:D,3,FALSE)","v":2022},8,7509,1.075,8765,9422,null,null,"Discus 2a",21,"Není v databázi"]
["Maurits Hebels",null,null,null,null,"JWGC 2022 - Std",{"$f":"VLOOKUP(F2201,Soutez!B:C,2,FALSE)","v":"CZ"},{"$f":"VLOOKUP(F2201,Soutez!B:D,3,FALSE)","v":2022},9,7489,1.075,8641,9289,null,null,"LS8 Neo FES",71,"Není v databázi"]
["Nico Jaegli",null,null,null,null,"JWGC 2022 - Std",{"$f":"VLOOKUP(F2202,Soutez!B:C,2,FALSE)","v":"CZ"},{"$f":"VLOOKUP(F2202,Soutez!B:D,3,FALSE)","v":2022},10,7280,1.075,8352,8978,null,null,"Discus 2b","2S","Není v databázi"]
["Nick Faber",null,null,null,null,"JWGC 2022 - Std",{"$f":"VLOOKUP(F2203,Soutez!B:C,2,FALSE)","v":"CZ"},{"$f":"VLOOKUP(F2203,Soutez!B:D,3,FALSE)","v":2022},11,7270,{"$f":"VLOOKUP(F2203,Soutez,12,0)","v":1.075},8236,8854,null,null,"Discus 2b","D2","Není v databázi"]
["Jacob Bøgelund Lassen",null,null,null,null,"JWGC 2022 - Std",{"$f":"VLOOKUP(F2204,Soutez!B:C,2,FALSE)","v":"CZ"},{"$f":"VLOOKUP(F2204,Soutez!B:D,3,FALSE)","v":2022},12,7180,1.075,8051,8655,null,null,"Discus 2a","MK","Není v databázi"]
["Jan Knischewski",null,null,null,null,"JWGC 2022 - Std",{"$f":"VLOOKUP(F2205,Soutez!B:C,2,FALSE)","v":"CZ"},{"$f":"VLOOKUP(F2205,Soutez!B:D,3,FALSE)","v":2022},13,7151,1.075,7919,{"$f":"ROUND(K2205*L2205,0)","v":8513},null,null,"LS8 Neo","OK","Není v databázi"]
["Johannes Dibbern",null,null,null,null,"JWGC 2022 - Std",{"$f":"VLOOKUP(F2206,Soutez!B:C,2,FALSE)","v":"CZ"},{"$f":"VLOOKUP(F2206,Soutez!B:D,3,FALSE)","v":2022},14,7129,1.075,7792,8376,null,null,"LS8 neo","S1","Není v databázi"]
["James Nugent",null,null,null,null,"JWGC 2022 - Std",{"$f":"VLOOKUP(F2207,Soutez!B:C,2,FALSE)","v":"CZ"},{"$f":"VLOOKUP(F2207,Soutez!B:D,3,FALSE)","v":2022},15,7102,1.075,7662,8237,null,null,"LS8","JW","Není v databázi"]
["Emil Dalboe-Pedersen",null,null,null,null,"JWGC 2022 - Std",{"$f":"VLOOKUP(F2208,Soutez!B:C,2,FALSE)","v":"CZ"},{"$f":"VLOOKUP(F2208,Soutez!B:D,3,FALSE)","v":2022},16,6904,1.075,7383,7937,null,null,"LS8","SE","Není v databázi"]
["Jonas Pitschen",null,null,null,null,"JWGC 2022 - Std",{"$f":"VLOOKUP(F2209,Soutez!B:C,2,FALSE)","v":"CZ"},{"$f":"VLOOKUP(F2209,Soutez!B:D,3,FALSE)","v":2022},17,6826,1.075,7208,7749,null,null,"Discus 2b","UB","Není v databázi"]
["Áron Érseki",null,null,null,null,"JWGC 2022 - Std",{"$f":"VLOOKUP(F2210,Soutez!B:C,2,FALSE)","v":"CZ"},{"$f":"VLOOKUP(F2210,Soutez!B:D,3,FALSE)","v":2022},18,6583,1.075,6890,7407,null,null,"Discus 2a","HAL","Není v databázi"]
["Mathias Valentin",null,null,null,null,"JWGC 2022 - Std",{"$f":"VLOOKUP(F2211,Soutez!B:C,2,FALSE)","v":"CZ"},{"$f":"VLOOKUP(F2211,Soutez!B:D,3,FALSE)","v":2022},19,6534,1.075,6740,7246,null,null,"LS8","KE","Není v databázi"]
["Henry Inigo-Jones",null,null,null,null,"JWGC 2022 - Std",{"$f":"VLOOKUP(F2212,Soutez!B:C,2,FALSE)","v":"CZ"},{"$f":"VLOOKUP(F2212,Soutez!B:D,3,FALSE)","v":2022},20,6336,1.075,6462,6947,null,null,"LS8",95,"Není v databázi"]
["Karol Snapko",null,null,null,null,"JWGC 2022 - Std",{"$f":"VLOOKUP(F2213,Soutez!B:C,2,FALSE)","v":"CZ"},{"$f":"VLOOKUP(F2213,Soutez!B:D,3,FALSE)","v":2022},21,6049,1.075,6105,6563,null,null,"Discus 2a","Y","Není v databázi"]
["Henri Philippe",null,null,null,null,"JWGC 2022 - Std",{"$f":"VLOOKUP(F2214,Soutez!B:C,2,FALSE)","v":"CZ"},{"$f":"VLOOKUP(F2214,Soutez!B:D,3,FALSE)","v":2022},22,5756,1.075,5744,6175,null,null,"LS8","5F","Není v databázi"]
["Mark van den Ham",null,null,null,null,"JWGC 2022 - Std",{"$f":"VLOOKUP(F2215,Soutez!B:C,2,FALSE)","v":"CZ"},{"$f":"VLOOKUP(F2215,Soutez!B:D,3,FALSE)","v":2022},23,5731,1.075,5615,6036,null,null,"ASW 24",44,"Není v databázi"]
["Claudio Etterli",null,null,null,null,"JWGC 2022 - Std",{"$f":"VLOOKUP(F2216,Soutez!B:C,2,FALSE)","v":"CZ"},{"$f":"VLOOKUP(F2216,Soutez!B:D,3,FALSE)","v":2022},24,5681,1.075,5465,5875,null,null,"Discus 2b","Z1","Není v databázi"]
["Ivan Bajana",null,null,null,null,"JWGC 2022 - Std",{"$f":"VLOOKUP(F2217,Soutez!B:C,2,FALSE)","v":"CZ"},{"$f":"VLOOKUP(F2217,Soutez!B:D,3,FALSE)","v":2022},25,5550,1.075,5244,5637,null,null,"Discus 2b","DI","Není v databázi"]
["Viktoria Divokova",null,null,null,null,"JWGC 2022 - Std",{"$f":"VLOOKUP(F2218,Soutez!B:C,2,FALSE)","v":"CZ"},{"$f":"VLOOKUP(F2218,Soutez!B:D,3,FALSE)","v":2022},26,5171,1.075,4808,5169,null,null,"LS8","SI","Není v databázi"]
["Thomas Pavis",null,null,null,null,"JWGC 2022 - Std",{"$f":"VLOOKUP(F2219,Soutez!B:C,2,FALSE)","v":"CZ"},{"$f":"VLOOKUP(F2219,Soutez!B:D,3,FALSE)","v":2022},27,4542,1.075,4155,4467,null,null,"Discus 2a",235,{"$f":"IF(ISERROR(VLOOKUP(A2219,Pilot,6,0)),\"Není v databázi\",VLOOKUP(A2219,Pilot,6,0))","v":"Není v databázi"}]
["Jan Zapletal",{"$f":"VLOOKUP(A2220,Pilot,2,0)","v":1997},{"$f":"VLOOKUP(A2220,Pilot,5,0)","v":"M"},{"$f":"VLOOKUP(A2220,Pilot,3,0)","v":"Břeclav"},{"$f":"VLOOKUP(A2220,Pilot,4,0)","v":"CZ/M"},"JWGC 2022 - Std",{"$f":"VLOOKUP(F2220,Soutez!B:C,2,FALSE)","v":"CZ"},{"$f":"VLOOKUP(F2220,Soutez!B:D,3,FALSE)","v":2022},28,4313,1.075,3849,4138,null,null,"LS8 18","JS",""]
["Ryan Driscoll",null,null,null,null,"JWGC 2022 - Std",{"$f":"VLOOKUP(F2221,Soutez!B:C,2,FALSE)","v":"CZ"},{"$f":"VLOOKUP(F2221,Soutez!B:D,3,FALSE)","v":2022},29,4020,1.075,3488,3750,null,null,"LS8","1X","Není v databázi"]
["Petra Piskata",{"$f":"VLOOKUP(A2222,Pilot,2,0)","v":1989},{"$f":"VLOOKUP(A2222,Pilot,5,0)","v":"F"},{"$f":"VLOOKUP(A2222,Pilot,3,0)","v":"Luhačovice"},{"$f":"VLOOKUP(A2222,Pilot,4,0)","v":"CZ/M"},"WWGC 2022 - Klub",{"$f":"VLOOKUP(F2222,Soutez!B:C,2,FALSE)","v":"UK"},{"$f":"VLOOKUP(F2222,Soutez!B:D,3,FALSE)","v":2022},1,4282,{"$f":"VLOOKUP(F2222,Soutez,12,0)","v":1.04},{"$f":"ROUND(J2222/MAX($J$2222:$J$2239)*10000*0.7+(MAX($I$2222:$I$2239)-I2222)/(MAX($I$2222:$I$2239)-1)*10000*0.3,0)","v":10000},{"$f":"ROUND(K2222*L2222,0)","v":10400},null,"x","LS 4","6L",""]
["Claudia Hill",null,null,"Great Britain",null,"WWGC 2022 - Klub",{"$f":"VLOOKUP(F2223,Soutez!B:C,2,FALSE)","v":"UK"},{"$f":"VLOOKUP(F2223,Soutez!B:D,3,FALSE)","v":2022},2,4182,{"$f":"VLOOKUP(F2223,Soutez,12,0)","v":1.04},9660,{"$f":"ROUND(K2223*L2223,0)","v":10046},null,null,"LS 1 f neo","CH","Není v databázi"]
["Ines Engelhardt",null,null,"Germany",null,"WWGC 2022 - Klub",{"$f":"VLOOKUP(F2224,Soutez!B:C,2,FALSE)","v":"UK"},{"$f":"VLOOKUP(F2224,Soutez!B:D,3,FALSE)","v":2022},3,4181,1.04,9482,9861,null,null,"LS 1 f","EF","Není v databázi"]
["Elena Fergnani",null,null,"Italy",null,"WWGC 2022 - Klub",{"$f":"VLOOKUP(F2225,Soutez!B:C,2,FALSE)","v":"UK"},{"$f":"VLOOKUP(F2225,Soutez!B:D,3,FALSE)","v":2022},4,4104,1.04,9180,9547,null,null,"Discus",40,"Není v databázi"]
["Aude Grangeray",null,null,"France",null,"WWGC 2022 - Klub",{"$f":"VLOOKUP(F2226,Soutez!B:C,2,FALSE)","v":"UK"},{"$f":"VLOOKUP(F2226,Soutez!B:D,3,FALSE)","v":2022},5,4061,1.04,8933,9290,null,null,"LS 7","AG","Není v databázi"]
["Louise Rodriguez",null,null,"France",null,"WWGC 2022 - Klub",{"$f":"VLOOKUP(F2227,Soutez!B:C,2,FALSE)","v":"UK"},{"$f":"VLOOKUP(F2227,Soutez!B:D,3,FALSE)","v":2022},6,3893,1.04,8482,8821,null,null,"LS 7","HG","Není v databázi"]
["Ulrike Teichmann",null,null,"Germany",null,"WWGC 2022 - Klub",{"$f":"VLOOKUP(F2228,Soutez!B:C,2,FALSE)","v":"UK"},{"$f":"VLOOKUP(F2228,Soutez!B:D,3,FALSE)","v":2022},7,3862,1.04,8255,8585,null,null,"LS 4",99,"Není v databázi"]
["Alizée Petit",null,null,"France",null,"WWGC 2022 - Klub",{"$f":"VLOOKUP(F2229,Soutez!B:C,2,FALSE)","v":"UK"},{"$f":"VLOOKUP(F2229,Soutez!B:D,3,FALSE)","v":2022},8,3711,1.04,7831,8144,null,null,"LS 4","YG","Není v databázi"]
["Klara Teichmannova",{"$f":"VLOOKUP(A2230,Pilot,2,0)","v":1993},{"$f":"VLOOKUP(A2230,Pilot,5,0)","v":"F"},{"$f":"VLOOKUP(A2230,Pilot,3,0)","v":"Hronov"},{"$f":"VLOOKUP(A2230,Pilot,4,0)","v":"CZ/C2"},"WWGC 2022 - Klub",{"$f":"VLOOKUP(F2230,Soutez!B:C,2,FALSE)","v":"UK"},{"$f":"VLOOKUP(F2230,Soutez!B:D,3,FALSE)","v":2022},9,3646,{"$f":"VLOOKUP(F2230,Soutez,12,0)","v":1.04},7549,7851,null,"x","LS 4","IX",""]
["Alison Mulder",null,null,"Great Britain",null,"WWGC 2022 - Klub",{"$f":"VLOOKUP(F2231,Soutez!B:C,2,FALSE)","v":"UK"},{"$f":"VLOOKUP(F2231,Soutez!B:D,3,FALSE)","v":2022},10,3466,1.04,7078,7361,null,null,"LS 4a","LS4","Není v databázi"]
["Edita Skalskiene",null,null,"Lithuania",null,"WWGC 2022 - Klub",{"$f":"VLOOKUP(F2232,Soutez!B:C,2,FALSE)","v":"UK"},{"$f":"VLOOKUP(F2232,Soutez!B:D,3,FALSE)","v":2022},11,3284,1.04,6604,{"$f":"ROUND(K2232*L2232,0)","v":6868},null,null,"ASW 20","FL","Není v databázi"]
["Paula Drazul",null,null,"Argentina",null,"WWGC 2022 - Klub",{"$f":"VLOOKUP(F2233,Soutez!B:C,2,FALSE)","v":"UK"},{"$f":"VLOOKUP(F2233,Soutez!B:D,3,FALSE)","v":2022},12,3232,1.04,6342,6596,null,null,"ASW19","J34","Není v databázi"]
["Lilian de Bruijn",null,null,"Netherlands",null,"WWGC 2022 - Klub",{"$f":"VLOOKUP(F2234,Soutez!B:C,2,FALSE)","v":"UK"},{"$f":"VLOOKUP(F2234,Soutez!B:D,3,FALSE)","v":2022},13,3167,1.04,6060,6302,null,null,"DG 300","YY","Není v databázi"]
["Valentina Toporova",null,null,"Ukraine",null,"WWGC 2022 - Klub",{"$f":"VLOOKUP(F2235,Soutez!B:C,2,FALSE)","v":"UK"},{"$f":"VLOOKUP(F2235,Soutez!B:D,3,FALSE)","v":2022},14,3018,1.04,5640,5866,null,null,"ASW 20","PM","Není v databázi"]
["Christina Solberg Hansen",null,null,"Denmark",null,"WWGC 2022 - Klub",{"$f":"VLOOKUP(F2236,Soutez!B:C,2,FALSE)","v":"UK"},{"$f":"VLOOKUP(F2236,Soutez!B:D,3,FALSE)","v":2022},15,2947,1.04,5347,5561,null,null,"LS 1 f","SH","Není v databázi"]
["Olena Yakymchuk",null,null,"Ukraine",null,"WWGC 2022 - Klub",{"$f":"VLOOKUP(F2237,Soutez!B:C,2,FALSE)","v":"UK"},{"$f":"VLOOKUP(F2237,Soutez!B:D,3,FALSE)","v":2022},16,2457,1.04,4370,4545,null,null,"ASW 20","LD","Není v databázi"]
["Julia Dresler Nørtoft",null,null,"Denmark",null,"WWGC 2022 - Klub",{"$f":"VLOOKUP(F2238,Soutez!B:C,2,FALSE)","v":"UK"},{"$f":"VLOOKUP(F2238,Soutez!B:D,3,FALSE)","v":2022},17,1979,1.04,3412,3548,null,null,"Std. Cirrus","YM","Není v databázi"]
["Carol Marshall",null,null,"Great Britain",null,"WWGC 2022 - Klub",{"$f":"VLOOKUP(F2239,Soutez!B:C,2,FALSE)","v":"UK"},{"$f":"VLOOKUP(F2239,Soutez!B:D,3,FALSE)","v":2022},18,1870,1.04,3057,3179,null,null,"LS 7",246,"Není v databázi"]
["Cornelia Schaich",null,null,"Germany",null,"WWGC 2022 - Std",{"$f":"VLOOKUP(F2240,Soutez!B:C,2,FALSE)","v":"UK"},{"$f":"VLOOKUP(F2240,Soutez!B:D,3,FALSE)","v":2022},1,4692,{"$f":"VLOOKUP(F2240,Soutez,12,0)","v":1.0349999999999999},{"$f":"ROUND(J2240/MAX($J$2240:$J$2252)*10000*0.7+(MAX($I$2240:$I$2252)-I2240)/(MAX($I$2240:$I$2252)-1)*10000*0.3,0)","v":10000},{"$f":"ROUND(K2240*L2240,0)","v":10350},null,null,"LS 8","3S","Není v databázi"]
["Sabrina Vogt",null,null,"Germany",null,"WWGC 2022 - Std",{"$f":"VLOOKUP(F2241,Soutez!B:C,2,FALSE)","v":"UK"},{"$f":"VLOOKUP(F2241,Soutez!B:D,3,FALSE)","v":2022},2,4509,1.0349999999999999,9477,{"$f":"ROUND(K2241*L2241,0)","v":9809},null,null,"Discus 2a","HZ","Není v databázi"]
["Jana Veprekova",{"$f":"VLOOKUP(A2242,Pilot,2,0)","v":1961},{"$f":"VLOOKUP(A2242,Pilot,5,0)","v":"F"},{"$f":"VLOOKUP(A2242,Pilot,3,0)","v":"Dvůr Králové"},{"$f":"VLOOKUP(A2242,Pilot,4,0)","v":"CZ/C2"},"WWGC 2022 - Std",{"$f":"VLOOKUP(F2242,Soutez!B:C,2,FALSE)","v":"UK"},{"$f":"VLOOKUP(F2242,Soutez!B:D,3,FALSE)","v":2022},3,4356,1.0349999999999999,8999,9314,null,"x","LS 8","W8",""]
["Barbora Moravcova",1994,"F","Zbraslavice","CZ/C1","WWGC 2022 - Std",{"$f":"VLOOKUP(F2243,Soutez!B:C,2,FALSE)","v":"UK"},{"$f":"VLOOKUP(F2243,Soutez!B:D,3,FALSE)","v":2022},4,4355,1.0349999999999999,8747,9053,null,"x","LS 8b","JB",""]
["Aude Untersee",null,null,"France",null,"WWGC 2022 - Std",{"$f":"VLOOKUP(F2244,Soutez!B:C,2,FALSE)","v":"UK"},{"$f":"VLOOKUP(F2244,Soutez!B:D,3,FALSE)","v":2022},5,4351,1.0349999999999999,8491,8788,null,null,"Discus 2a","JPA","Není v databázi"]
["Anaïs Gaubert",null,null,"France",null,"WWGC 2022 - Std",{"$f":"VLOOKUP(F2245,Soutez!B:C,2,FALSE)","v":"UK"},{"$f":"VLOOKUP(F2245,Soutez!B:D,3,FALSE)","v":2022},6,4214,1.0349999999999999,8037,8318,null,null,"Discus 2a","ET","Není v databázi"]
["Christine Grote",null,null,"Germany",null,"WWGC 2022 - Std",{"$f":"VLOOKUP(F2246,Soutez!B:C,2,FALSE)","v":"UK"},{"$f":"VLOOKUP(F2246,Soutez!B:D,3,FALSE)","v":2022},7,4158,1.0349999999999999,7703,7973,null,null,"Discus 2a","V7","Není v databázi"]
["Francesca Roberts",null,null,"Great Britain",null,"WWGC 2022 - Std",{"$f":"VLOOKUP(F2247,Soutez!B:C,2,FALSE)","v":"UK"},{"$f":"VLOOKUP(F2247,Soutez!B:D,3,FALSE)","v":2022},8,4033,1.0349999999999999,7267,{"$f":"ROUND(K2247*L2247,0)","v":7521},null,null,"LS 8","IT","Není v databázi"]
["Dana Novakova",{"$f":"VLOOKUP(A2248,Pilot,2,0)","v":1965},{"$f":"VLOOKUP(A2248,Pilot,5,0)","v":"F"},{"$f":"VLOOKUP(A2248,Pilot,3,0)","v":"Mladá Boleslav"},{"$f":"VLOOKUP(A2248,Pilot,4,0)","v":"CZ/C1"},"WWGC 2022 - Std",{"$f":"VLOOKUP(F2248,Soutez!B:C,2,FALSE)","v":"UK"},{"$f":"VLOOKUP(F2248,Soutez!B:D,3,FALSE)","v":2022},9,4014,1.0349999999999999,6988,7233,null,null,"LS 8","FX",""]
["Kinga Tchorz",null,null,"Poland",null,"WWGC 2022 - Std",{"$f":"VLOOKUP(F2249,Soutez!B:C,2,FALSE)","v":"UK"},{"$f":"VLOOKUP(F2249,Soutez!B:D,3,FALSE)","v":2022},10,3675,1.0349999999999999,6233,6451,null,null,"LS 8","LOT","Není v databázi"]
["Judyta Czyz",null,null,"Poland",null,"WWGC 2022 - Std",{"$f":"VLOOKUP(F2250,Soutez!B:C,2,FALSE)","v":"UK"},{"$f":"VLOOKUP(F2250,Soutez!B:D,3,FALSE)","v":2022},11,3621,1.0349999999999999,5902,6109,null,null,"LS 8","MP","Není v databázi"]
["Ayala Truelove",null,null,"Great Britain",null,"WWGC 2022 - Std",{"$f":"VLOOKUP(F2251,Soutez!B:C,2,FALSE)","v":"UK"},{"$f":"VLOOKUP(F2251,Soutez!B:D,3,FALSE)","v":2022},12,3254,1.0349999999999999,5105,5284,null,null,"LS 8","L7","Není v databázi"]
["Sally Walker",null,null,"Great Britain",null,"WWGC 2022 - Std",{"$f":"VLOOKUP(F2252,Soutez!B:C,2,FALSE)","v":"UK"},{"$f":"VLOOKUP(F2252,Soutez!B:D,3,FALSE)","v":2022},13,2101,1.0349999999999999,3134,3244,null,null,"LS 8","D7","Není v databázi"]
["Anne Ducarouge",null,null,"France",null,"WWGC 2022 - 18m",{"$f":"VLOOKUP(F2253,Soutez!B:C,2,FALSE)","v":"UK"},{"$f":"VLOOKUP(F2253,Soutez!B:D,3,FALSE)","v":2022},1,4411,1.0549999999999999,{"$f":"ROUND(J2253/MAX($J$2253:$J$2264)*10000*0.7+(MAX($I$2253:$I$2264)-I2253)/(MAX($I$2253:$I$2264)-1)*10000*0.3,0)","v":10000},{"$f":"ROUND(K2253*L2253,0)","v":10550},null,null,"JS 3","AY","Není v databázi"]
["Mélanie Gadoulet",null,null,"France",null,"WWGC 2022 - 18m",{"$f":"VLOOKUP(F2254,Soutez!B:C,2,FALSE)","v":"UK"},{"$f":"VLOOKUP(F2254,Soutez!B:D,3,FALSE)","v":2022},2,4400,1.0549999999999999,9710,{"$f":"ROUND(K2254*L2254,0)","v":10244},null,null,"JS 3","KW","Není v databázi"]
["Alena Netusilova",{"$f":"VLOOKUP(A2255,Pilot,2,0)","v":1970},{"$f":"VLOOKUP(A2255,Pilot,5,0)","v":"F"},{"$f":"VLOOKUP(A2255,Pilot,3,0)","v":"Zbraslavice"},{"$f":"VLOOKUP(A2255,Pilot,4,0)","v":"CZ/C1"},"WWGC 2022 - 18m",{"$f":"VLOOKUP(F2255,Soutez!B:C,2,FALSE)","v":"UK"},{"$f":"VLOOKUP(F2255,Soutez!B:D,3,FALSE)","v":2022},3,4369,1.0549999999999999,9388,9904,null,"x","ASG 33 Es",12,""]
["Stefanie Mühl",null,null,"Germany",null,"WWGC 2022 - 18m",{"$f":"VLOOKUP(F2256,Soutez!B:C,2,FALSE)","v":"UK"},{"$f":"VLOOKUP(F2256,Soutez!B:D,3,FALSE)","v":2022},4,4129,1.0549999999999999,8734,9214,null,null,"Ventus 3T 18m","Y4","Není v databázi"]
["Katrin Senne",null,null,"Germany",null,"WWGC 2022 - 18m",{"$f":"VLOOKUP(F2257,Soutez!B:C,2,FALSE)","v":"UK"},{"$f":"VLOOKUP(F2257,Soutez!B:D,3,FALSE)","v":2022},5,3993,1.0549999999999999,8246,8700,null,null,"JS 3","BK","Není v databázi"]
["Hana Treslova",{"$f":"VLOOKUP(A2258,Pilot,2,0)","v":1991},{"$f":"VLOOKUP(A2258,Pilot,5,0)","v":"F"},{"$f":"VLOOKUP(A2258,Pilot,3,0)","v":"Raná"},{"$f":"VLOOKUP(A2258,Pilot,4,0)","v":"CZ/C2"},"WWGC 2022 - 18m",{"$f":"VLOOKUP(F2258,Soutez!B:C,2,FALSE)","v":"UK"},{"$f":"VLOOKUP(F2258,Soutez!B:D,3,FALSE)","v":2022},6,3927,1.0549999999999999,7868,8301,null,"x","JS-MD 3","XM",""]
["Jana Treslova",1963,"F","Raná","CZ/C2","WWGC 2022 - 18m",{"$f":"VLOOKUP(F2259,Soutez!B:C,2,FALSE)","v":"UK"},{"$f":"VLOOKUP(F2259,Soutez!B:D,3,FALSE)","v":2022},7,3802,1.0549999999999999,7397,7804,null,"x","JS 3","ZE",""]
["Astrid Galaret",null,null,"France",null,"WWGC 2022 - 18m",{"$f":"VLOOKUP(F2260,Soutez!B:C,2,FALSE)","v":"UK"},{"$f":"VLOOKUP(F2260,Soutez!B:D,3,FALSE)","v":2022},8,3682,1.0549999999999999,6934,{"$f":"ROUND(K2260*L2260,0)","v":7315},null,null,"JS 3","FM","Není v databázi"]
["Sandra Malzacher",null,null,"Germany",null,"WWGC 2022 - 18m",{"$f":"VLOOKUP(F2261,Soutez!B:C,2,FALSE)","v":"UK"},{"$f":"VLOOKUP(F2261,Soutez!B:D,3,FALSE)","v":2022},9,3340,1.0549999999999999,6119,6456,null,null,"ASG 29","LEO","Není v databázi"]
["Jane Nash",null,null,"Great Britain",null,"WWGC 2022 - 18m",{"$f":"VLOOKUP(F2262,Soutez!B:C,2,FALSE)","v":"UK"},{"$f":"VLOOKUP(F2262,Soutez!B:D,3,FALSE)","v":2022},10,2605,1.0549999999999999,4679,4936,null,null,"JS-MD 3",802,"Není v databázi"]
["Patrizia Roilo",null,null,"Italy",null,"WWGC 2022 - 18m",{"$f":"VLOOKUP(F2263,Soutez!B:C,2,FALSE)","v":"UK"},{"$f":"VLOOKUP(F2263,Soutez!B:D,3,FALSE)","v":2022},11,1823,1.0549999999999999,3166,3340,null,null,"ASG 29 E","K","Není v databázi"]
["Diana Schuit",null,null,"Luxembourg",null,"WWGC 2022 - 18m",{"$f":"VLOOKUP(F2264,Soutez!B:C,2,FALSE)","v":"UK"},{"$f":"VLOOKUP(F2264,Soutez!B:D,3,FALSE)","v":2022},12,1789,1.0549999999999999,2839,2995,null,null,"JS 3","MM","Není v databázi"]
["Maros Divok",null,null,"AK Spišská Nová Ves",null,"PMSR 2022 - Klub",{"$f":"VLOOKUP(F2265,Soutez!B:C,2,FALSE)","v":"SK"},{"$f":"VLOOKUP(F2265,Soutez!B:D,3,FALSE)","v":2022},1,8577,0.93500000000000005,{"$f":"ROUND(J2265/MAX($J$2265:$J$2280)*10000*0.7+(MAX($I$2265:$I$2280)-I2265)/(MAX($I$2265:$I$2280)-1)*10000*0.3,0)","v":10000},{"$f":"ROUND(K2265*L2265,0)","v":9350},null,null,"Discus b","D3",{"$f":"IF(ISERROR(VLOOKUP(A2265,Pilot,6,0)),\"Není v databázi\",VLOOKUP(A2265,Pilot,6,0))","v":"Není v databázi"}]
["Josef Kozar",null,null,"AK Martin",null,"PMSR 2022 - Klub",{"$f":"VLOOKUP(F2266,Soutez!B:C,2,FALSE)","v":"SK"},{"$f":"VLOOKUP(F2266,Soutez!B:D,3,FALSE)","v":2022},2,8418,0.93500000000000005,{"$f":"ROUND(J2266/MAX($J$2265:$J$2280)*10000*0.7+(MAX($I$2265:$I$2280)-I2266)/(MAX($I$2265:$I$2280)-1)*10000*0.3,0)","v":9670},{"$f":"ROUND(K2266*L2266,0)","v":9041},null,null,"LS 1 f","MF","Není v databázi"]
["Milan Surovcik Jr.",null,null,"Žilina",null,"PMSR 2022 - Klub",{"$f":"VLOOKUP(F2267,Soutez!B:C,2,FALSE)","v":"SK"},{"$f":"VLOOKUP(F2267,Soutez!B:D,3,FALSE)","v":2022},3,8233,0.93500000000000005,9319,8713,null,null,"ASW 20","S","Není v databázi"]
["Samuel Posluch",null,null,"AK Martin",null,"PMSR 2022 - Klub",{"$f":"VLOOKUP(F2268,Soutez!B:C,2,FALSE)","v":"SK"},{"$f":"VLOOKUP(F2268,Soutez!B:D,3,FALSE)","v":2022},4,8054,0.93500000000000005,8973,8390,null,null,"ASW 20","II","Není v databázi"]
["Marek Straka",null,null,"AK Dubnica",null,"PMSR 2022 - Klub",{"$f":"VLOOKUP(F2269,Soutez!B:C,2,FALSE)","v":"SK"},{"$f":"VLOOKUP(F2269,Soutez!B:D,3,FALSE)","v":2022},5,7636,0.93500000000000005,8432,7884,null,null,"LS 3","AI","Není v databázi"]
["Tibor Noga",null,null,"SGC Martin",null,"PMSR 2022 - Klub",{"$f":"VLOOKUP(F2270,Soutez!B:C,2,FALSE)","v":"SK"},{"$f":"VLOOKUP(F2270,Soutez!B:D,3,FALSE)","v":2022},6,7601,0.93500000000000005,8203,7670,null,null,"ASW 19B","A4","Není v databázi"]
["Miroslav Beliansky",null,null,"AK Bratislava",null,"PMSR 2022 - Klub",{"$f":"VLOOKUP(F2271,Soutez!B:C,2,FALSE)","v":"SK"},{"$f":"VLOOKUP(F2271,Soutez!B:D,3,FALSE)","v":2022},7,7482,0.93500000000000005,7906,7392,null,null,"Pegase","OT","Není v databázi"]
["Edmund Schuller",null,null,"AK Lučenec",null,"PMSR 2022 - Klub",{"$f":"VLOOKUP(F2272,Soutez!B:C,2,FALSE)","v":"SK"},{"$f":"VLOOKUP(F2272,Soutez!B:D,3,FALSE)","v":2022},8,7072,{"$f":"VLOOKUP(F2272,Soutez,12,0)","v":0.93500000000000005},7372,6893,null,null,"ASW 24 W","ZS","Není v databázi"]
["Simon Siska",null,null,"SGC Martin",null,"PMSR 2022 - Klub",{"$f":"VLOOKUP(F2273,Soutez!B:C,2,FALSE)","v":"SK"},{"$f":"VLOOKUP(F2273,Soutez!B:D,3,FALSE)","v":2022},9,6911,0.93500000000000005,7040,6582,null,null,"ASW 24","CK","Není v databázi"]
["Martin Sabla",null,null,"AK Sp. Nova Ves",null,"PMSR 2022 - Klub",{"$f":"VLOOKUP(F2274,Soutez!B:C,2,FALSE)","v":"SK"},{"$f":"VLOOKUP(F2274,Soutez!B:D,3,FALSE)","v":2022},10,6479,0.93500000000000005,6488,6066,null,null,"Discus B",70,"Není v databázi"]
["Daniel Smolka",null,null,"AK Prievidza",null,"PMSR 2022 - Klub",{"$f":"VLOOKUP(F2275,Soutez!B:C,2,FALSE)","v":"SK"},{"$f":"VLOOKUP(F2275,Soutez!B:D,3,FALSE)","v":2022},11,6369,0.93500000000000005,6198,5795,null,null,"ASW20","MP","Není v databázi"]
["Tibor Fratrik",null,null,"SGC Martin",null,"PMSR 2022 - Klub",{"$f":"VLOOKUP(F2276,Soutez!B:C,2,FALSE)","v":"SK"},{"$f":"VLOOKUP(F2276,Soutez!B:D,3,FALSE)","v":2022},12,5993,0.93500000000000005,5691,5321,null,null,"ASW 20 CJ","VG","Není v databázi"]
["Jan Florian",{"$f":"VLOOKUP(A2277,Pilot,2,0)","v":1992},{"$f":"VLOOKUP(A2277,Pilot,5,0)","v":"M"},{"$f":"VLOOKUP(A2277,Pilot,3,0)","v":"Zbraslavice"},{"$f":"VLOOKUP(A2277,Pilot,4,0)","v":"CZ/C1"},"PMSR 2022 - Klub",{"$f":"VLOOKUP(F2277,Soutez!B:C,2,FALSE)","v":"SK"},{"$f":"VLOOKUP(F2277,Soutez!B:D,3,FALSE)","v":2022},13,5847,0.93500000000000005,5372,5023,null,null,"Std. Cirrus","C1",""]
["Juraj Sidor",null,null,"AK Holic",null,"PMSR 2022 - Klub",{"$f":"VLOOKUP(F2278,Soutez!B:C,2,FALSE)","v":"SK"},{"$f":"VLOOKUP(F2278,Soutez!B:D,3,FALSE)","v":2022},14,5831,0.93500000000000005,5159,4824,null,null,"Std. Cirrus","NM","Není v databázi"]
["Jan Hlinka",null,null,"AK Martin",null,"PMSR 2022 - Klub",{"$f":"VLOOKUP(F2279,Soutez!B:C,2,FALSE)","v":"SK"},{"$f":"VLOOKUP(F2279,Soutez!B:D,3,FALSE)","v":2022},15,5692,0.93500000000000005,4845,4530,null,null,"LS 4","MA","Není v databázi"]
["Igor Berko",null,null,"AK SNV",null,"PMSR 2022 - Klub",{"$f":"VLOOKUP(F2280,Soutez!B:C,2,FALSE)","v":"SK"},{"$f":"VLOOKUP(F2280,Soutez!B:D,3,FALSE)","v":2022},16,1422,0.93500000000000005,1161,1086,null,null,"Std. Cirrus","SA","Není v databázi"]
["Barbora Moravcova",{"$f":"VLOOKUP(A2281,Pilot,2,0)","v":1994},{"$f":"VLOOKUP(A2281,Pilot,5,0)","v":"F"},{"$f":"VLOOKUP(A2281,Pilot,3,0)","v":"Zbraslavice"},{"$f":"VLOOKUP(A2281,Pilot,4,0)","v":"CZ/C1"},"PMSR 2022 - Kombi A+B",{"$f":"VLOOKUP(F2281,Soutez!B:C,2,FALSE)","v":"SK"},{"$f":"VLOOKUP(F2281,Soutez!B:D,3,FALSE)","v":2022},1,7535,0.93500000000000005,{"$f":"ROUND(J2281/MAX($J$2281:$J$2304)*10000*0.7+(MAX($I$2281:$I$2304)-I2281)/(MAX($I$2281:$I$2304)-1)*10000*0.3,0)","v":10000},{"$f":"ROUND(K2281*L2281,0)","v":9350},"x","x","Ls 8a-15m","EU",""]
["Viliam Kubovcik",null,null,"AK Poprad",null,"PMSR 2022 - Kombi A+B",{"$f":"VLOOKUP(F2282,Soutez!B:C,2,FALSE)","v":"SK"},{"$f":"VLOOKUP(F2282,Soutez!B:D,3,FALSE)","v":2022},2,7262,0.93500000000000005,9616,{"$f":"ROUND(K2282*L2282,0)","v":8991},null,null,"Ventus 2cxt","VV","Není v databázi"]
["Martin Fürjes",null,null,"SGC Martin",null,"PMSR 2022 - Kombi A+B",{"$f":"VLOOKUP(F2283,Soutez!B:C,2,FALSE)","v":"SK"},{"$f":"VLOOKUP(F2283,Soutez!B:D,3,FALSE)","v":2022},3,7156,0.93500000000000005,9387,8777,null,null,"JS 3/ 18",3,"Není v databázi"]
["Dana Novakova",{"$f":"VLOOKUP(A2284,Pilot,2,0)","v":1965},{"$f":"VLOOKUP(A2284,Pilot,5,0)","v":"F"},{"$f":"VLOOKUP(A2284,Pilot,3,0)","v":"Mladá Boleslav"},{"$f":"VLOOKUP(A2284,Pilot,4,0)","v":"CZ/C1"},"PMSR 2022 - Kombi A+B",{"$f":"VLOOKUP(F2284,Soutez!B:C,2,FALSE)","v":"SK"},{"$f":"VLOOKUP(F2284,Soutez!B:D,3,FALSE)","v":2022},4,7009,0.93500000000000005,9120,8527,"x","x","LS 8a-15m","AU",""]
["Dominik Jancik",null,null,"AK Nitra",null,"PMSR 2022 - Kombi A+B",{"$f":"VLOOKUP(F2285,Soutez!B:C,2,FALSE)","v":"SK"},{"$f":"VLOOKUP(F2285,Soutez!B:D,3,FALSE)","v":2022},5,6946,0.93500000000000005,8931,8350,null,null,"LS6a","GI","Není v databázi"]
["Petro & Snirc",null,null,"AK Nitra",null,"PMSR 2022 - Kombi A+B",{"$f":"VLOOKUP(F2286,Soutez!B:C,2,FALSE)","v":"SK"},{"$f":"VLOOKUP(F2286,Soutez!B:D,3,FALSE)","v":2022},6,6916,0.93500000000000005,8773,8203,null,null,"DG 1000T","NIT","Není v databázi"]
["Marek Pechanec",{"$f":"VLOOKUP(A2287,Pilot,2,0)","v":1970},{"$f":"VLOOKUP(A2287,Pilot,5,0)","v":"M"},{"$f":"VLOOKUP(A2287,Pilot,3,0)","v":"Luhačovice"},{"$f":"VLOOKUP(A2287,Pilot,4,0)","v":"CZ/M"},"PMSR 2022 - Kombi A+B",{"$f":"VLOOKUP(F2287,Soutez!B:C,2,FALSE)","v":"SK"},{"$f":"VLOOKUP(F2287,Soutez!B:D,3,FALSE)","v":2022},7,6850,0.93500000000000005,8581,8023,"x",null,"JS 3","Q1",""]
["Peter Pokorny",null,null,"AK Bratislava",null,"PMSR 2022 - Kombi A+B",{"$f":"VLOOKUP(F2288,Soutez!B:C,2,FALSE)","v":"SK"},{"$f":"VLOOKUP(F2288,Soutez!B:D,3,FALSE)","v":2022},8,6726,0.93500000000000005,8335,7793,null,null,"AG 39E","9E","Není v databázi"]
["Tomas Bobok",null,null,"AK Prievidza",null,"PMSR 2022 - Kombi A+B",{"$f":"VLOOKUP(F2289,Soutez!B:C,2,FALSE)","v":"SK"},{"$f":"VLOOKUP(F2289,Soutez!B:D,3,FALSE)","v":2022},9,6708,0.93500000000000005,8188,7656,null,null,"Discus 2ct","AL","Není v databázi"]
["Jan Kovalcik",null,null,"AK Bratislava",null,"PMSR 2022 - Kombi A+B",{"$f":"VLOOKUP(F2290,Soutez!B:C,2,FALSE)","v":"SK"},{"$f":"VLOOKUP(F2290,Soutez!B:D,3,FALSE)","v":2022},10,6645,0.93500000000000005,7999,7479,null,null,"Discus 2C FES","ZI","Není v databázi"]
["Petr Krejcirik",{"$f":"VLOOKUP(A2291,Pilot,2,0)","v":1960},{"$f":"VLOOKUP(A2291,Pilot,5,0)","v":"M"},{"$f":"VLOOKUP(A2291,Pilot,3,0)","v":"Hranice"},{"$f":"VLOOKUP(A2291,Pilot,4,0)","v":"CZ/M"},"PMSR 2022 - Kombi A+B",{"$f":"VLOOKUP(F2291,Soutez!B:C,2,FALSE)","v":"SK"},{"$f":"VLOOKUP(F2291,Soutez!B:D,3,FALSE)","v":2022},11,6550,0.93500000000000005,7781,{"$f":"ROUND(K2291*L2291,0)","v":7275},null,null,"JS MD-3","VB",""]
["Eduard Niko",1988,"M","Zbraslavice","CZ/C1","PMSR 2022 - Kombi A+B",{"$f":"VLOOKUP(F2292,Soutez!B:C,2,FALSE)","v":"SK"},{"$f":"VLOOKUP(F2292,Soutez!B:D,3,FALSE)","v":2022},12,6298,0.93500000000000005,7416,6934,null,null,"Duo Discus","DP",""]
["Ivan Novak",1962,"M","Mladá Boleslav","CZ/C1","PMSR 2022 - Kombi A+B",{"$f":"VLOOKUP(F2293,Soutez!B:C,2,FALSE)","v":"SK"},{"$f":"VLOOKUP(F2293,Soutez!B:D,3,FALSE)","v":2022},13,6189,0.93500000000000005,7184,6717,null,null,"ASG-29 18m","QZ",""]
["Martin Jurovic",null,null,"AK Bratislava",null,"PMSR 2022 - Kombi A+B",{"$f":"VLOOKUP(F2294,Soutez!B:C,2,FALSE)","v":"SK"},{"$f":"VLOOKUP(F2294,Soutez!B:D,3,FALSE)","v":2022},14,5970,0.93500000000000005,6850,6405,null,null,"Ventus cT 17.6m","JQ","Není v databázi"]
["Ivan Bajana",null,null,"SGC Martin",null,"PMSR 2022 - Kombi A+B",{"$f":"VLOOKUP(F2295,Soutez!B:C,2,FALSE)","v":"SK"},{"$f":"VLOOKUP(F2295,Soutez!B:D,3,FALSE)","v":2022},15,5556,0.93500000000000005,6335,5923,null,null,"Discus 2","DI","Není v databázi"]
["Jan Divok",null,null,"AK Spišská Nová Ves",null,"PMSR 2022 - Kombi A+B",{"$f":"VLOOKUP(F2296,Soutez!B:C,2,FALSE)","v":"SK"},{"$f":"VLOOKUP(F2296,Soutez!B:D,3,FALSE)","v":2022},16,5228,0.93500000000000005,5900,5517,null,null,"Discus 2cT","DJ","Není v databázi"]
["Milos Srank",null,null,"AK Nové Zámky",null,"PMSR 2022 - Kombi A+B",{"$f":"VLOOKUP(F2297,Soutez!B:C,2,FALSE)","v":"SK"},{"$f":"VLOOKUP(F2297,Soutez!B:D,3,FALSE)","v":2022},17,5224,0.93500000000000005,5766,5391,null,null,"ASG 29E","LK","Není v databázi"]
["Gabriela Belakova",null,null,"AK Prievidza",null,"PMSR 2022 - Kombi A+B",{"$f":"VLOOKUP(F2298,Soutez!B:C,2,FALSE)","v":"SK"},{"$f":"VLOOKUP(F2298,Soutez!B:D,3,FALSE)","v":2022},18,5168,0.93500000000000005,5584,5221,null,null,"Ventus 3M","CAT","Není v databázi"]
["Milan Lojdl",null,null,"AK Martin",null,"PMSR 2022 - Kombi A+B",{"$f":"VLOOKUP(F2299,Soutez!B:C,2,FALSE)","v":"SK"},{"$f":"VLOOKUP(F2299,Soutez!B:D,3,FALSE)","v":2022},19,5116,0.93500000000000005,5405,5054,null,null,"Ventus 2cxt","MJ1","Není v databázi"]
["Kollar & Kromka",null,null,"AK Poprad",null,"PMSR 2022 - Kombi A+B",{"$f":"VLOOKUP(F2300,Soutez!B:C,2,FALSE)","v":"SK"},{"$f":"VLOOKUP(F2300,Soutez!B:D,3,FALSE)","v":2022},20,5075,0.93500000000000005,5236,4896,null,null,"Arcus M","TA3","Není v databázi"]
["Peter Abonyi",null,null,"AK Ružomberok",null,"PMSR 2022 - Kombi A+B",{"$f":"VLOOKUP(F2301,Soutez!B:C,2,FALSE)","v":"SK"},{"$f":"VLOOKUP(F2301,Soutez!B:D,3,FALSE)","v":2022},21,4874,0.93500000000000005,4919,4599,null,null,"Ventus C","PA","Není v databázi"]
["Lubomir Doupal",{"$f":"VLOOKUP(A2302,Pilot,2,0)","v":1975},{"$f":"VLOOKUP(A2302,Pilot,5,0)","v":"M"},{"$f":"VLOOKUP(A2302,Pilot,3,0)","v":"Kroměříž"},{"$f":"VLOOKUP(A2302,Pilot,4,0)","v":"CZ/M"},"PMSR 2022 - Kombi A+B",{"$f":"VLOOKUP(F2302,Soutez!B:C,2,FALSE)","v":"SK"},{"$f":"VLOOKUP(F2302,Soutez!B:D,3,FALSE)","v":2022},22,4531,0.93500000000000005,4470,4179,"x",null,"Ventus 2cxM","LD",""]
["Viktoria Divokova",null,null,"Spišska Nová Ves",null,"PMSR 2022 - Kombi A+B",{"$f":"VLOOKUP(F2303,Soutez!B:C,2,FALSE)","v":"SK"},{"$f":"VLOOKUP(F2303,Soutez!B:D,3,FALSE)","v":2022},23,2226,0.93500000000000005,2198,2055,null,null,"LS 8 neo","SI","Není v databázi"]
["Lukas Benedikt",null,null,"AK Trnava",null,"PMSR 2022 - Kombi A+B",{"$f":"VLOOKUP(F2304,Soutez!B:C,2,FALSE)","v":"SK"},{"$f":"VLOOKUP(F2304,Soutez!B:D,3,FALSE)","v":2022},24,710,0.93500000000000005,660,617,null,null,"Ventus 3f","LB","Není v databázi"]
["Viktor Romancik",null,null,"AK Bratislava",null,"Oldtimer Pribina Star 2022 - Klub",{"$f":"VLOOKUP(F2305,Soutez!B:C,2,FALSE)","v":"SK"},{"$f":"VLOOKUP(F2305,Soutez!B:D,3,FALSE)","v":2022},1,1944,{"$f":"VLOOKUP(F2305,Soutez,12,0)","v":0.75},{"$f":"ROUND(J2305/MAX($J$2305:$J$2320)*10000*0.7+(MAX($I$2305:$I$2320)-I2305)/(MAX($I$2305:$I$2320)-1)*10000*0.3,0)","v":10000},{"$f":"ROUND(K2305*L2305,0)","v":7500},null,null,"H-201b Std. Libelle","RR",{"$f":"IF(ISERROR(VLOOKUP(A2305,Pilot,6,0)),\"Není v databázi\",VLOOKUP(A2305,Pilot,6,0))","v":"Není v databázi"}]
["Sadovsky & Cmar",null,null,"AK Nitra",null,"Oldtimer Pribina Star 2022 - Klub",{"$f":"VLOOKUP(F2306,Soutez!B:C,2,FALSE)","v":"SK"},{"$f":"VLOOKUP(F2306,Soutez!B:D,3,FALSE)","v":2022},2,1933,{"$f":"VLOOKUP(F2306,Soutez,12,0)","v":0.75},9746,{"$f":"ROUND(K2306*L2306,0)","v":7310},null,null,"L-13 Blaník",13,"Není v databázi"]
["Marian Szabó",null,null,"Air Sympatia Trenčín",null,"Oldtimer Pribina Star 2022 - Klub",{"$f":"VLOOKUP(F2307,Soutez!B:C,2,FALSE)","v":"SK"},{"$f":"VLOOKUP(F2307,Soutez!B:D,3,FALSE)","v":2022},3,1789,0.75,9013,6760,null,null,"VT-116 Orlík II",84,"Není v databázi"]
["Vladimir Abraham",{"$f":"VLOOKUP(A2308,Pilot,2,0)","v":1962},{"$f":"VLOOKUP(A2308,Pilot,5,0)","v":"M"},{"$f":"VLOOKUP(A2308,Pilot,3,0)","v":"Raná"},{"$f":"VLOOKUP(A2308,Pilot,4,0)","v":"CZ/C2"},"Oldtimer Pribina Star 2022 - Klub",{"$f":"VLOOKUP(F2308,Soutez!B:C,2,FALSE)","v":"SK"},{"$f":"VLOOKUP(F2308,Soutez!B:D,3,FALSE)","v":2022},4,1757,0.75,8684,6513,"x",null,"KA-6CR","Y7",""]
["Peter Ille",null,null,"AK Žilina",null,"Oldtimer Pribina Star 2022 - Klub",{"$f":"VLOOKUP(F2309,Soutez!B:C,2,FALSE)","v":"SK"},{"$f":"VLOOKUP(F2309,Soutez!B:D,3,FALSE)","v":2022},5,1647,0.75,8073,6055,null,null,"VSO-10","D5","Není v databázi"]
["Norbert Karolyi",null,null,"AK Bratislava",null,"Oldtimer Pribina Star 2022 - Klub",{"$f":"VLOOKUP(F2310,Soutez!B:C,2,FALSE)","v":"SK"},{"$f":"VLOOKUP(F2310,Soutez!B:D,3,FALSE)","v":2022},6,1573,0.75,7593,5695,null,null,"SZD-36 Cobra 15","NK","Není v databázi"]
["Ille & Homola",null,null,"AK Senica",null,"Oldtimer Pribina Star 2022 - Klub",{"$f":"VLOOKUP(F2311,Soutez!B:C,2,FALSE)","v":"SK"},{"$f":"VLOOKUP(F2311,Soutez!B:D,3,FALSE)","v":2022},7,1537,0.75,7249,5437,null,null,"G-103 Twin Astir",13,"Není v databázi"]
["Radovan Uhelsky",null,null,"AK Nové Zámky",null,"Oldtimer Pribina Star 2022 - Klub",{"$f":"VLOOKUP(F2312,Soutez!B:C,2,FALSE)","v":"SK"},{"$f":"VLOOKUP(F2312,Soutez!B:D,3,FALSE)","v":2022},8,1485,0.75,6847,5135,null,null,"H-201b Std. Libelle","SB","Není v databázi"]
["Holak & Lajda",null,null,"AK Nitra",null,"Oldtimer Pribina Star 2022 - Klub",{"$f":"VLOOKUP(F2313,Soutez!B:C,2,FALSE)","v":"SK"},{"$f":"VLOOKUP(F2313,Soutez!B:D,3,FALSE)","v":2022},9,1455,{"$f":"VLOOKUP(F2313,Soutez,12,0)","v":0.75},6525,4894,null,null,"L-23 Super Blaník",23,"Není v databázi"]
["Ivana Jurovicova",null,null,"AK Bratislava",null,"Oldtimer Pribina Star 2022 - Klub",{"$f":"VLOOKUP(F2314,Soutez!B:C,2,FALSE)","v":"SK"},{"$f":"VLOOKUP(F2314,Soutez!B:D,3,FALSE)","v":2022},10,1333,0.75,5871,4403,null,null,"H-201 Std. Libelle","J2","Není v databázi"]
["Lucia Uhelska",null,null,"AK Nové Zámky",null,"Oldtimer Pribina Star 2022 - Klub",{"$f":"VLOOKUP(F2315,Soutez!B:C,2,FALSE)","v":"SK"},{"$f":"VLOOKUP(F2315,Soutez!B:D,3,FALSE)","v":2022},11,950,0.75,4278,{"$f":"ROUND(K2315*L2315,0)","v":3209},null,null,"VT-116 Orlík II","LU","Není v databázi"]
["Jaroslav Kares",1962,"M",{"$f":"VLOOKUP(A2316,Pilot,3,0)","v":"Olomouc"},{"$f":"VLOOKUP(A2316,Pilot,4,0)","v":"CZ/M"},"Oldtimer Pribina Star 2022 - Klub",{"$f":"VLOOKUP(F2316,Soutez!B:C,2,FALSE)","v":"SK"},{"$f":"VLOOKUP(F2316,Soutez!B:D,3,FALSE)","v":2022},12,628,0.75,2904,2178,"x",null,"SF 27A",26,""]
["Peter Pätoprsty",null,null,null,null,"Oldtimer Pribina Star 2022 - Klub",{"$f":"VLOOKUP(F2317,Soutez!B:C,2,FALSE)","v":"SK"},{"$f":"VLOOKUP(F2317,Soutez!B:D,3,FALSE)","v":2022},13,434,0.75,1991,1493,null,null,"ASW-15B","RM","Není v databázi"]
["Frantisek Ehn",null,null,"AK Nitra",null,"Oldtimer Pribina Star 2022 - Klub",{"$f":"VLOOKUP(F2318,Soutez!B:C,2,FALSE)","v":"SK"},{"$f":"VLOOKUP(F2318,Soutez!B:D,3,FALSE)","v":2022},14,129,0.75,679,509,null,null,"Pegase",101,"Není v databázi"]
["Igor Ott",null,null,"AK Nitra",null,"Oldtimer Pribina Star 2022 - Klub",{"$f":"VLOOKUP(F2319,Soutez!B:C,2,FALSE)","v":"SK"},{"$f":"VLOOKUP(F2319,Soutez!B:D,3,FALSE)","v":2022},15,0,0.75,0,0,null,null,"LG-425 Šohaj","N","Není v databázi"]
["Jozef Ott",null,null,"AK Nitra",null,"Oldtimer Pribina Star 2022 - Klub",{"$f":"VLOOKUP(F2320,Soutez!B:C,2,FALSE)","v":"SK"},{"$f":"VLOOKUP(F2320,Soutez!B:D,3,FALSE)","v":2022},15,0,0.75,0,0,null,null,"Z-23 Honza",null,"Není v databázi"]
["Kollar & Kromka",null,null,"Poprad",null,"Top Gun 2022 - Kombi",{"$f":"VLOOKUP(F2321,Soutez!B:C,2,FALSE)","v":"SK"},{"$f":"VLOOKUP(F2321,Soutez!B:D,3,FALSE)","v":2022},1,3549,{"$f":"VLOOKUP(F2321,Soutez,12,0)","v":0},{"$f":"ROUND(J2321/MAX($J$2321:$J$2328)*10000*0.7+(MAX($I$2321:$I$2328)-I2321)/(MAX($I$2321:$I$2328)-1)*10000*0.3,0)","v":10000},{"$f":"ROUND(K2321*L2321,0)","v":0},null,null,"Arcus M","TA3","Není v databázi"]
["Drahos Sitar",null,null,"Aeroklub Prievidza",null,"Top Gun 2022 - Kombi",{"$f":"VLOOKUP(F2322,Soutez!B:C,2,FALSE)","v":"SK"},{"$f":"VLOOKUP(F2322,Soutez!B:D,3,FALSE)","v":2022},2,3282,{"$f":"VLOOKUP(F2322,Soutez,12,0)","v":0},9045,{"$f":"ROUND(K2322*L2322,0)","v":0},null,null,"Duo Discus - 700 kg","DP","Není v databázi"]
["Jakubcak & Sulirova",null,null,null,null,"Top Gun 2022 - Kombi",{"$f":"VLOOKUP(F2323,Soutez!B:C,2,FALSE)","v":"SK"},{"$f":"VLOOKUP(F2323,Soutez!B:D,3,FALSE)","v":2022},3,3054,0,8167,0,null,null,"Arcus M","CAR","Není v databázi"]
["Pavel Trojan",1960,"M",{"$f":"VLOOKUP(A2324,Pilot,3,0)","v":"Chrudim"},{"$f":"VLOOKUP(A2324,Pilot,4,0)","v":"CZ/C2"},"Top Gun 2022 - Kombi",{"$f":"VLOOKUP(F2324,Soutez!B:C,2,FALSE)","v":"SK"},{"$f":"VLOOKUP(F2324,Soutez!B:D,3,FALSE)","v":2022},4,2841,{"$f":"VLOOKUP(F2324,Soutez,12,0)","v":0},7318,0,null,null,"DG-808 C Competition 18m WL","W",""]
["Lubomir Doupal",1975,"M","Kroměříž","CZ/M","Top Gun 2022 - Kombi",{"$f":"VLOOKUP(F2325,Soutez!B:C,2,FALSE)","v":"SK"},{"$f":"VLOOKUP(F2325,Soutez!B:D,3,FALSE)","v":2022},5,2578,0,6371,0,null,null,"Ventus 2cxm 18m-565 kg","LD",""]
["Lukas Benedikt",null,null,"Trnava",null,"Top Gun 2022 - Kombi",{"$f":"VLOOKUP(F2326,Soutez!B:C,2,FALSE)","v":"SK"},{"$f":"VLOOKUP(F2326,Soutez!B:D,3,FALSE)","v":2022},6,2424,0,5638,{"$f":"ROUND(K2326*L2326,0)","v":0},null,null,"Ventus 3F - 18m","LB","Není v databázi"]
["Jan Keher",null,null,"Prievidza",null,"Top Gun 2022 - Kombi",{"$f":"VLOOKUP(F2327,Soutez!B:C,2,FALSE)","v":"SK"},{"$f":"VLOOKUP(F2327,Soutez!B:D,3,FALSE)","v":2022},7,2302,0,4969,0,null,null,"Discus 2cT /18m","EF","Není v databázi"]
["Jirka & Hornak",null,null,null,null,"Top Gun 2022 - Kombi",{"$f":"VLOOKUP(F2328,Soutez!B:C,2,FALSE)","v":"SK"},{"$f":"VLOOKUP(F2328,Soutez!B:D,3,FALSE)","v":2022},8,2038,0,4020,0,null,null,"HPH 304 TS Twin Shark S",11,"Není v databázi"]
["Milan SUROVCIK Jr.",null,null,"Žilina",null,"Fatraglide 2022 - Klub",{"$f":"VLOOKUP(F2329,Soutez!B:C,2,FALSE)","v":"SK"},{"$f":"VLOOKUP(F2329,Soutez!B:D,3,FALSE)","v":2022},1,3905,{"$f":"VLOOKUP(F2329,Soutez,12,0)","v":0.76},{"$f":"ROUND(J2329/MAX($J$2329:$J$2344)*10000*0.7+(MAX($I$2329:$I$2344)-I2329)/(MAX($I$2329:$I$2344)-1)*10000*0.3,0)","v":10000},{"$f":"ROUND(K2329*L2329,0)","v":7600},null,null,"ASW 20","S","Není v databázi"]
["Simon SISKA",null,null,"AK MARTIN",null,"Fatraglide 2022 - Klub",{"$f":"VLOOKUP(F2330,Soutez!B:C,2,FALSE)","v":"SK"},{"$f":"VLOOKUP(F2330,Soutez!B:D,3,FALSE)","v":2022},2,3731,{"$f":"VLOOKUP(F2330,Soutez,12,0)","v":0.76},9488,{"$f":"ROUND(K2330*L2330,0)","v":7211},null,null,"ASW 24 WL","CK","Není v databázi"]
["Samuel POSLUCH",null,null,"AK MARTIN",null,"Fatraglide 2022 - Klub",{"$f":"VLOOKUP(F2331,Soutez!B:C,2,FALSE)","v":"SK"},{"$f":"VLOOKUP(F2331,Soutez!B:D,3,FALSE)","v":2022},3,3678,0.76,9193,6987,null,null,"ASW 20","II","Není v databázi"]
["Tibor NOGA",null,null,"SGC Martin",null,"Fatraglide 2022 - Klub",{"$f":"VLOOKUP(F2332,Soutez!B:C,2,FALSE)","v":"SK"},{"$f":"VLOOKUP(F2332,Soutez!B:D,3,FALSE)","v":2022},4,3358,{"$f":"VLOOKUP(F2332,Soutez,12,0)","v":0.76},8419,6398,null,null,"ASW 19 B","A4","Není v databázi"]
["Michal CUPAK",{"$f":"VLOOKUP(A2333,Pilot,2,0)","v":1991},{"$f":"VLOOKUP(A2333,Pilot,5,0)","v":"M"},{"$f":"VLOOKUP(A2333,Pilot,3,0)","v":"Medlánky"},{"$f":"VLOOKUP(A2333,Pilot,4,0)","v":"CZ/M"},"Fatraglide 2022 - Klub",{"$f":"VLOOKUP(F2333,Soutez!B:C,2,FALSE)","v":"SK"},{"$f":"VLOOKUP(F2333,Soutez!B:D,3,FALSE)","v":2022},5,2915,0.76,7425,5643,null,null,"Std. Cirrus","A7",""]
["Marek STRAKA",null,null,"AK DUBNICA N.VAHOM",null,"Fatraglide 2022 - Klub",{"$f":"VLOOKUP(F2334,Soutez!B:C,2,FALSE)","v":"SK"},{"$f":"VLOOKUP(F2334,Soutez!B:D,3,FALSE)","v":2022},6,2856,0.76,7120,{"$f":"ROUND(K2334*L2334,0)","v":5411},null,null,"LS 3","AI","Není v databázi"]
["Jan SPONER",{"$f":"VLOOKUP(A2335,Pilot,2,0)","v":1988},{"$f":"VLOOKUP(A2335,Pilot,5,0)","v":"M"},{"$f":"VLOOKUP(A2335,Pilot,3,0)","v":"Medlánky"},{"$f":"VLOOKUP(A2335,Pilot,4,0)","v":"CZ/M"},"Fatraglide 2022 - Klub",{"$f":"VLOOKUP(F2335,Soutez!B:C,2,FALSE)","v":"SK"},{"$f":"VLOOKUP(F2335,Soutez!B:D,3,FALSE)","v":2022},7,2757,0.76,6742,5124,null,null,"Std. Cirrus","EX",""]
["Peter SEDMAK",null,null,"AK MARTIN",null,"Fatraglide 2022 - Klub",{"$f":"VLOOKUP(F2336,Soutez!B:C,2,FALSE)","v":"SK"},{"$f":"VLOOKUP(F2336,Soutez!B:D,3,FALSE)","v":2022},8,2129,0.76,5416,4116,null,null,"LS 4","MA","Není v databázi"]
["Lubomir Belusko",null,null,"AK PRESOV",null,"Fatraglide 2022 - Klub",{"$f":"VLOOKUP(F2337,Soutez!B:C,2,FALSE)","v":"SK"},{"$f":"VLOOKUP(F2337,Soutez!B:D,3,FALSE)","v":2022},9,2083,0.76,5134,3902,null,null,"Pegase 101D","HS","Není v databázi"]
["Peter GOSSANYI",null,null,"AK NOVE ZAMKY",null,"Fatraglide 2022 - Klub",{"$f":"VLOOKUP(F2338,Soutez!B:C,2,FALSE)","v":"SK"},{"$f":"VLOOKUP(F2338,Soutez!B:D,3,FALSE)","v":2022},10,2047,0.76,4869,3700,null,null,"Discus CS","VP","Není v databázi"]
["Peter GASPAROVIC",null,null,"SGC MARTIN",null,"Fatraglide 2022 - Klub",{"$f":"VLOOKUP(F2339,Soutez!B:C,2,FALSE)","v":"SK"},{"$f":"VLOOKUP(F2339,Soutez!B:D,3,FALSE)","v":2022},11,1844,0.76,4306,3273,null,null,"Std. Cirrus WL","LX","Není v databázi"]
["Martin MARINCAK",null,null,"AK PRESOV",null,"Fatraglide 2022 - Klub",{"$f":"VLOOKUP(F2340,Soutez!B:C,2,FALSE)","v":"SK"},{"$f":"VLOOKUP(F2340,Soutez!B:D,3,FALSE)","v":2022},12,1829,0.76,4079,3100,null,null,"Std. Cirrus","CV","Není v databázi"]
["Miroslav BELIANSKY",null,null,"AK BRATISLAVA",null,"Fatraglide 2022 - Klub",{"$f":"VLOOKUP(F2341,Soutez!B:C,2,FALSE)","v":"SK"},{"$f":"VLOOKUP(F2341,Soutez!B:D,3,FALSE)","v":2022},13,1428,0.76,3160,2402,null,null,"Pegase 101A","OT","Není v databázi"]
["Peter USIAK",null,null,"AK BANSKA BYSTRICA",null,"Fatraglide 2022 - Klub",{"$f":"VLOOKUP(F2342,Soutez!B:C,2,FALSE)","v":"SK"},{"$f":"VLOOKUP(F2342,Soutez!B:D,3,FALSE)","v":2022},14,1249,0.76,2639,2006,null,null,"Astir CS 77","WW","Není v databázi"]
["GABOR BORS",null,null,"OPITZ",null,"Fatraglide 2022 - Klub",{"$f":"VLOOKUP(F2343,Soutez!B:C,2,FALSE)","v":"SK"},{"$f":"VLOOKUP(F2343,Soutez!B:D,3,FALSE)","v":2022},15,675,0.76,1410,1072,null,null,"Mini Nimbus","SU","Není v databázi"]
["ALBERT HACKL",null,null,"OPITZ",null,"Fatraglide 2022 - Klub",{"$f":"VLOOKUP(F2344,Soutez!B:C,2,FALSE)","v":"SK"},{"$f":"VLOOKUP(F2344,Soutez!B:D,3,FALSE)","v":2022},16,367,0.76,658,500,null,null,"Astir CS Top","PC","Není v databázi"]
["Viliam KUBOVCIK",null,null,"AK POPRAD",null,"Fatraglide 2022 - Kombi",{"$f":"VLOOKUP(F2345,Soutez!B:C,2,FALSE)","v":"SK"},{"$f":"VLOOKUP(F2345,Soutez!B:D,3,FALSE)","v":2022},1,3375,{"$f":"VLOOKUP(F2345,Soutez,12,0)","v":0.76500000000000001},{"$f":"ROUND(J2345/MAX($J$2345:$J$2354)*10000*0.7+(MAX($I$2345:$I$2354)-I2345)/(MAX($I$2345:$I$2354)-1)*10000*0.3,0)","v":10000},{"$f":"ROUND(K2345*L2345,0)","v":7650},null,null,"Ventus 2 cxT","VV","Není v databázi"]
["Ivan BAJANA",null,null,"SGC MARTIN",null,"Fatraglide 2022 - Kombi",{"$f":"VLOOKUP(F2346,Soutez!B:C,2,FALSE)","v":"SK"},{"$f":"VLOOKUP(F2346,Soutez!B:D,3,FALSE)","v":2022},2,2560,{"$f":"VLOOKUP(F2346,Soutez,12,0)","v":0.76500000000000001},7976,{"$f":"ROUND(K2346*L2346,0)","v":6102},null,null,"Discus 2","DI","Není v databázi"]
["Peter ABONYI",null,null,"AK RUZOMBEROK",null,"Fatraglide 2022 - Kombi",{"$f":"VLOOKUP(F2347,Soutez!B:C,2,FALSE)","v":"SK"},{"$f":"VLOOKUP(F2347,Soutez!B:D,3,FALSE)","v":2022},3,2050,{"$f":"VLOOKUP(F2347,Soutez,12,0)","v":0.76500000000000001},6585,5038,null,null,"Ventus C","PA","Není v databázi"]
["Milos SRANK",null,null,"AK NOVE ZAMKY",null,"Fatraglide 2022 - Kombi",{"$f":"VLOOKUP(F2348,Soutez!B:C,2,FALSE)","v":"SK"},{"$f":"VLOOKUP(F2348,Soutez!B:D,3,FALSE)","v":2022},4,1821,0.76500000000000001,5777,4419,null,null,"ASG 29","LK","Není v databázi"]
["Milan LOJDL",null,null,"AK MARTIN",null,"Fatraglide 2022 - Kombi",{"$f":"VLOOKUP(F2349,Soutez!B:C,2,FALSE)","v":"SK"},{"$f":"VLOOKUP(F2349,Soutez!B:D,3,FALSE)","v":2022},5,1712,0.76500000000000001,5217,{"$f":"ROUND(K2349*L2349,0)","v":3991},null,null,"Ventus 2cxT/18m","MJ1","Není v databázi"]
["Martin JUROVIC",null,null,"AK BRATISLAVA",null,"Fatraglide 2022 - Kombi",{"$f":"VLOOKUP(F2350,Soutez!B:C,2,FALSE)","v":"SK"},{"$f":"VLOOKUP(F2350,Soutez!B:D,3,FALSE)","v":2022},6,1554,0.76500000000000001,4556,3485,null,null,"Ventus cT 17.6m","JQ","Není v databázi"]
["Lukas BENEDIKT",null,null,"AK Trnava",null,"Fatraglide 2022 - Kombi",{"$f":"VLOOKUP(F2351,Soutez!B:C,2,FALSE)","v":"SK"},{"$f":"VLOOKUP(F2351,Soutez!B:D,3,FALSE)","v":2022},7,1226,0.76500000000000001,3543,2710,null,null,"Ventus 3 F","LB","Není v databázi"]
["Vaclav Hruza",{"$f":"VLOOKUP(A2352,Pilot,2,0)","v":1965},{"$f":"VLOOKUP(A2352,Pilot,5,0)","v":"M"},{"$f":"VLOOKUP(A2352,Pilot,3,0)","v":"Břeclav"},{"$f":"VLOOKUP(A2352,Pilot,4,0)","v":"CZ/M"},"Fatraglide 2022 - Kombi",{"$f":"VLOOKUP(F2352,Soutez!B:C,2,FALSE)","v":"SK"},{"$f":"VLOOKUP(F2352,Soutez!B:D,3,FALSE)","v":2022},8,1082,0.76500000000000001,2911,2227,"x",null,"HPH 304 Shark","TH",""]
["Daniel KRONEK",null,null,"SGC MARTIN",null,"Fatraglide 2022 - Kombi",{"$f":"VLOOKUP(F2353,Soutez!B:C,2,FALSE)","v":"SK"},{"$f":"VLOOKUP(F2353,Soutez!B:D,3,FALSE)","v":2022},9,1054,0.76500000000000001,2519,1927,null,null,"Ventus bT/15m","DK",{"$f":"IF(ISERROR(VLOOKUP(A2353,Pilot,6,0)),\"Není v databázi\",VLOOKUP(A2353,Pilot,6,0))","v":"Není v databázi"}]
["Ivan CHABADA",null,null,"AK BANSKA BYSTRICA",null,"Fatraglide 2022 - Kombi",{"$f":"VLOOKUP(F2354,Soutez!B:C,2,FALSE)","v":"SK"},{"$f":"VLOOKUP(F2354,Soutez!B:D,3,FALSE)","v":2022},10,268,0.76500000000000001,556,425,null,null,"NIMBUS 2B","VY","Není v databázi"]
["Uwe Wahlig",null,null,"Segelfluggruppe Bensheim e.V.",null,"FCC 2022 - Klub",{"$f":"VLOOKUP(F2355,Soutez!B:C,2,FALSE)","v":"SK"},{"$f":"VLOOKUP(F2355,Soutez!B:D,3,FALSE)","v":2022},1,5543,{"$f":"VLOOKUP(F2355,Soutez,12,0)","v":0.94000000000000006},{"$f":"ROUND(J2355/MAX($J$2355:$J$2397)*10000*0.7+(MAX($I$2355:$I$2397)-I2355)/(MAX($I$2355:$I$2397)-1)*10000*0.3,0)","v":10000},{"$f":"ROUND(K2355*L2355,0)","v":9400},null,null,"LS-3 /15m WL","SN","Není v databázi"]
["Jacek Flis",null,null,"Ziemi Zamojskiej / KKGT",null,"FCC 2022 - Klub",{"$f":"VLOOKUP(F2356,Soutez!B:C,2,FALSE)","v":"SK"},{"$f":"VLOOKUP(F2356,Soutez!B:D,3,FALSE)","v":2022},2,5437,{"$f":"VLOOKUP(F2356,Soutez,12,0)","v":0.94000000000000006},9789,{"$f":"ROUND(K2356*L2356,0)","v":9202},null,null,"LS-3 /15m","FLS","Není v databázi"]
["Mikolaj Zdun",null,null,"Aeroklub Leszno",null,"FCC 2022 - Klub",{"$f":"VLOOKUP(F2357,Soutez!B:C,2,FALSE)","v":"SK"},{"$f":"VLOOKUP(F2357,Soutez!B:D,3,FALSE)","v":2022},3,5409,0.94000000000000006,9677,9096,null,null,"LS 3 15m","PP","Není v databázi"]
["Tim Milner",null,null,"Wolds gliding Club",null,"FCC 2022 - Klub",{"$f":"VLOOKUP(F2358,Soutez!B:C,2,FALSE)","v":"SK"},{"$f":"VLOOKUP(F2358,Soutez!B:D,3,FALSE)","v":2022},4,5261,0.94000000000000006,9413,8848,null,null,"LS-3 /15m","LS5","Není v databázi"]
["Jiri Kusbach",{"$f":"VLOOKUP(A2359,Pilot,2,0)","v":1959},{"$f":"VLOOKUP(A2359,Pilot,5,0)","v":"M"},{"$f":"VLOOKUP(A2359,Pilot,3,0)","v":"Luhačovice"},{"$f":"VLOOKUP(A2359,Pilot,4,0)","v":"CZ/M"},"FCC 2022 - Klub",{"$f":"VLOOKUP(F2359,Soutez!B:C,2,FALSE)","v":"SK"},{"$f":"VLOOKUP(F2359,Soutez!B:D,3,FALSE)","v":2022},5,5006,0.94000000000000006,9014,8473,null,null,"KKB-15 E-FES","B",""]
["Kamil Wojcik",null,null,"Wroclawek",null,"FCC 2022 - Klub",{"$f":"VLOOKUP(F2360,Soutez!B:C,2,FALSE)","v":"SK"},{"$f":"VLOOKUP(F2360,Soutez!B:D,3,FALSE)","v":2022},6,4933,0.94000000000000006,8845,8314,null,null,"LS-4","WWI","Není v databázi"]
["Robert Alin Simion",null,null,"Romania Romania",null,"FCC 2022 - Klub",{"$f":"VLOOKUP(F2361,Soutez!B:C,2,FALSE)","v":"SK"},{"$f":"VLOOKUP(F2361,Soutez!B:D,3,FALSE)","v":2022},7,4918,0.94000000000000006,8749,8224,null,null,"LS 4A WL","Y2","Není v databázi"]
["Bernard Dobre",null,null,"Postojna",null,"FCC 2022 - Klub",{"$f":"VLOOKUP(F2362,Soutez!B:C,2,FALSE)","v":"SK"},{"$f":"VLOOKUP(F2362,Soutez!B:D,3,FALSE)","v":2022},8,4746,0.94000000000000006,8455,7948,null,null,"DG 300 ELAN","PJ","Není v databázi"]
["Peter Kassai",null,null,"MALEV",null,"FCC 2022 - Klub",{"$f":"VLOOKUP(F2363,Soutez!B:C,2,FALSE)","v":"SK"},{"$f":"VLOOKUP(F2363,Soutez!B:D,3,FALSE)","v":2022},9,4732,0.94000000000000006,8360,7858,null,null,"Discus b wl","7W","Není v databázi"]
["Zdenek Balcarek",{"$f":"VLOOKUP(A2364,Pilot,2,0)","v":1967},{"$f":"VLOOKUP(A2364,Pilot,5,0)","v":"M"},{"$f":"VLOOKUP(A2364,Pilot,3,0)","v":"Kroměříž"},{"$f":"VLOOKUP(A2364,Pilot,4,0)","v":"CZ/M"},"FCC 2022 - Klub",{"$f":"VLOOKUP(F2364,Soutez!B:C,2,FALSE)","v":"SK"},{"$f":"VLOOKUP(F2364,Soutez!B:D,3,FALSE)","v":2022},10,4552,0.94000000000000006,8056,7573,"x",null,"Discus b","OS",""]
["Ionut Tudor",null,null,"Romanian Airclub",null,"FCC 2022 - Klub",{"$f":"VLOOKUP(F2365,Soutez!B:C,2,FALSE)","v":"SK"},{"$f":"VLOOKUP(F2365,Soutez!B:D,3,FALSE)","v":2022},11,4526,0.94000000000000006,7946,7469,null,null,"LS 4A WL","8M","Není v databázi"]
["Wojciech Kubiak",null,null,"Aeroklub Krakowski",null,"FCC 2022 - Klub",{"$f":"VLOOKUP(F2366,Soutez!B:C,2,FALSE)","v":"SK"},{"$f":"VLOOKUP(F2366,Soutez!B:D,3,FALSE)","v":2022},12,4450,0.94000000000000006,7774,7308,null,null,"SZD-55","W07","Není v databázi"]
["Joanna Biedermann",null,null,"Aeroclub Nadwislanski",null,"FCC 2022 - Klub",{"$f":"VLOOKUP(F2367,Soutez!B:C,2,FALSE)","v":"SK"},{"$f":"VLOOKUP(F2367,Soutez!B:D,3,FALSE)","v":2022},13,4339,0.94000000000000006,7556,7103,null,null,"LS 4","OG","Není v databázi"]
["Lukasz Florkowski",null,null,"Ostrowski",null,"FCC 2022 - Klub",{"$f":"VLOOKUP(F2368,Soutez!B:C,2,FALSE)","v":"SK"},{"$f":"VLOOKUP(F2368,Soutez!B:D,3,FALSE)","v":2022},14,4271,0.94000000000000006,7394,6950,null,null,"SZD-41A Jantar std.","ZSI","Není v databázi"]
["Stanislaw Wujczak",null,null,"Leszczyński",null,"FCC 2022 - Klub",{"$f":"VLOOKUP(F2369,Soutez!B:C,2,FALSE)","v":"SK"},{"$f":"VLOOKUP(F2369,Soutez!B:D,3,FALSE)","v":2022},15,4228,0.94000000000000006,7262,6826,null,null,"Mini-Nimbus b","KP","Není v databázi"]
["Rafal Siankowski",null,null,"Radomski",null,"FCC 2022 - Klub",{"$f":"VLOOKUP(F2370,Soutez!B:C,2,FALSE)","v":"SK"},{"$f":"VLOOKUP(F2370,Soutez!B:D,3,FALSE)","v":2022},16,4189,{"$f":"VLOOKUP(F2370,Soutez,12,0)","v":0.94000000000000006},7136,6708,null,null,"SZD-48 Jantar std. 3","AA","Není v databázi"]
["Marek Herbreder",null,null,"Warszawa",null,"FCC 2022 - Klub",{"$f":"VLOOKUP(F2371,Soutez!B:C,2,FALSE)","v":"SK"},{"$f":"VLOOKUP(F2371,Soutez!B:D,3,FALSE)","v":2022},17,4185,0.94000000000000006,7054,6631,null,null,"SZD-55 Promyk","TK","Není v databázi"]
["Daniel Arday",null,null,"Malév",null,"FCC 2022 - Klub",{"$f":"VLOOKUP(F2372,Soutez!B:C,2,FALSE)","v":"SK"},{"$f":"VLOOKUP(F2372,Soutez!B:D,3,FALSE)","v":2022},17,4185,0.94000000000000006,7054,{"$f":"ROUND(K2372*L2372,0)","v":6631},null,null,"ASW 20 C 15m WL","RZI","Není v databázi"]
["Karol Pawlicki",null,null,"Stalowowolski",null,"FCC 2022 - Klub",{"$f":"VLOOKUP(F2373,Soutez!B:C,2,FALSE)","v":"SK"},{"$f":"VLOOKUP(F2373,Soutez!B:D,3,FALSE)","v":2022},19,3999,0.94000000000000006,6666,6266,null,null,"SZD-48 Jantar std. 3","BK","Není v databázi"]
["Lumir Motyka",{"$f":"VLOOKUP(A2374,Pilot,2,0)","v":1955},{"$f":"VLOOKUP(A2374,Pilot,5,0)","v":"M"},{"$f":"VLOOKUP(A2374,Pilot,3,0)","v":"Frýdlant"},{"$f":"VLOOKUP(A2374,Pilot,4,0)","v":"CZ/M"},"FCC 2022 - Klub",{"$f":"VLOOKUP(F2374,Soutez!B:C,2,FALSE)","v":"SK"},{"$f":"VLOOKUP(F2374,Soutez!B:D,3,FALSE)","v":2022},20,3869,0.94000000000000006,6424,6039,"x",null,"LS-1f","EM",""]
["Benedikt Sindermann",null,null,"Stőelln-Rhinow",null,"FCC 2022 - Klub",{"$f":"VLOOKUP(F2375,Soutez!B:C,2,FALSE)","v":"SK"},{"$f":"VLOOKUP(F2375,Soutez!B:D,3,FALSE)","v":2022},21,3809,0.94000000000000006,6272,5896,null,null,"LS-1f","1F","Není v databázi"]
["Arkadiusz Bajura",null,null,"Aeroklub Opole",null,"FCC 2022 - Klub",{"$f":"VLOOKUP(F2376,Soutez!B:C,2,FALSE)","v":"SK"},{"$f":"VLOOKUP(F2376,Soutez!B:D,3,FALSE)","v":2022},22,3791,0.94000000000000006,6172,5802,null,null,"Mini-Nimbus c","CC","Není v databázi"]
["Oliver Sven",null,null,"Cape Gliding Club",null,"FCC 2022 - Klub",{"$f":"VLOOKUP(F2377,Soutez!B:C,2,FALSE)","v":"SK"},{"$f":"VLOOKUP(F2377,Soutez!B:D,3,FALSE)","v":2022},23,3778,0.94000000000000006,6079,5714,null,null,"Std. Cirrus","UY","Není v databázi"]
["Wojciech Domanski",null,null,"Nowy Targ",null,"FCC 2022 - Klub",{"$f":"VLOOKUP(F2378,Soutez!B:C,2,FALSE)","v":"SK"},{"$f":"VLOOKUP(F2378,Soutez!B:D,3,FALSE)","v":2022},24,3743,0.94000000000000006,5958,5601,null,null,"LS-4","WW","Není v databázi"]
["Jozsef Tornyai",null,null,"Malev",null,"FCC 2022 - Klub",{"$f":"VLOOKUP(F2379,Soutez!B:C,2,FALSE)","v":"SK"},{"$f":"VLOOKUP(F2379,Soutez!B:D,3,FALSE)","v":2022},25,3719,0.94000000000000006,5850,5499,null,null,"LS-3 /15m","BYI","Není v databázi"]
["Wojciech Izdebski",null,null,"Gdansk",null,"FCC 2022 - Klub",{"$f":"VLOOKUP(F2380,Soutez!B:C,2,FALSE)","v":"SK"},{"$f":"VLOOKUP(F2380,Soutez!B:D,3,FALSE)","v":2022},26,3664,0.94000000000000006,5704,5362,null,null,"DG 101G","G1","Není v databázi"]
["Ryszard Pachla",null,null,"Czestochowski",null,"FCC 2022 - Klub",{"$f":"VLOOKUP(F2381,Soutez!B:C,2,FALSE)","v":"SK"},{"$f":"VLOOKUP(F2381,Soutez!B:D,3,FALSE)","v":2022},27,3542,0.94000000000000006,5473,5145,null,null,"SZD-48 Jantar std. 2","L","Není v databázi"]
["Krzysztof Kotarski",null,null,"Aeroklub Nadwiślańsk",null,"FCC 2022 - Klub",{"$f":"VLOOKUP(F2382,Soutez!B:C,2,FALSE)","v":"SK"},{"$f":"VLOOKUP(F2382,Soutez!B:D,3,FALSE)","v":2022},28,3467,0.94000000000000006,5301,4983,null,null,"ASW-19B","J1","Není v databázi"]
["Peter Gonczi",null,null,"Malév",null,"FCC 2022 - Klub",{"$f":"VLOOKUP(F2383,Soutez!B:C,2,FALSE)","v":"SK"},{"$f":"VLOOKUP(F2383,Soutez!B:D,3,FALSE)","v":2022},29,3095,0.94000000000000006,4755,4470,null,null,"Janus C (FG)","DD","Není v databázi"]
["Juraj Sidor",null,null,"AK Holic",null,"FCC 2022 - Klub",{"$f":"VLOOKUP(F2384,Soutez!B:C,2,FALSE)","v":"SK"},{"$f":"VLOOKUP(F2384,Soutez!B:D,3,FALSE)","v":2022},29,3095,0.94000000000000006,4755,4470,null,null,"Std. Cirrus","NM","Není v databázi"]
["Martin Sabla",null,null,"SNV",null,"FCC 2022 - Klub",{"$f":"VLOOKUP(F2385,Soutez!B:C,2,FALSE)","v":"SK"},{"$f":"VLOOKUP(F2385,Soutez!B:D,3,FALSE)","v":2022},31,2972,0.94000000000000006,4446,4179,null,null,"Discus 2b",70,"Není v databázi"]
["Aleksandar Diklic",null,null,"Zrenjanin",null,"FCC 2022 - Klub",{"$f":"VLOOKUP(F2386,Soutez!B:C,2,FALSE)","v":"SK"},{"$f":"VLOOKUP(F2386,Soutez!B:D,3,FALSE)","v":2022},32,2430,0.94000000000000006,3684,3463,null,null,"DG 100",30,"Není v databázi"]
["Jerzy Mikolajczyk",null,null,"AZM Plock",null,"FCC 2022 - Klub",{"$f":"VLOOKUP(F2387,Soutez!B:C,2,FALSE)","v":"SK"},{"$f":"VLOOKUP(F2387,Soutez!B:D,3,FALSE)","v":2022},33,2388,0.94000000000000006,3554,3341,null,null,"LS-4","YL","Není v databázi"]
["Stefan Schneider",null,null,"Bensheim",null,"FCC 2022 - Klub",{"$f":"VLOOKUP(F2388,Soutez!B:C,2,FALSE)","v":"SK"},{"$f":"VLOOKUP(F2388,Soutez!B:D,3,FALSE)","v":2022},34,2298,0.94000000000000006,3364,3162,null,null,"Std. Cirrus","KT","Není v databázi"]
["Piotr Ligwinski",null,null,"Lodz",null,"FCC 2022 - Klub",{"$f":"VLOOKUP(F2389,Soutez!B:C,2,FALSE)","v":"SK"},{"$f":"VLOOKUP(F2389,Soutez!B:D,3,FALSE)","v":2022},35,2061,0.94000000000000006,2987,2808,null,null,"ASW 24 WL","PL","Není v databázi"]
["Dariusz Pietraszkiewicz",null,null,"Szczecin",null,"FCC 2022 - Klub",{"$f":"VLOOKUP(F2390,Soutez!B:C,2,FALSE)","v":"SK"},{"$f":"VLOOKUP(F2390,Soutez!B:D,3,FALSE)","v":2022},36,1643,0.94000000000000006,2383,2240,null,null,"SZD-55 Promyk","SD","Není v databázi"]
["Agata Kaszczuk",null,null,"Wroc3aw",null,"FCC 2022 - Klub",{"$f":"VLOOKUP(F2391,Soutez!B:C,2,FALSE)","v":"SK"},{"$f":"VLOOKUP(F2391,Soutez!B:D,3,FALSE)","v":2022},37,876,0.94000000000000006,1337,1257,null,null,"LS-1f","MR","Není v databázi"]
["Krzysztof Owsiany",null,null,"AZM Lubin",null,"FCC 2022 - Klub",{"$f":"VLOOKUP(F2392,Soutez!B:C,2,FALSE)","v":"SK"},{"$f":"VLOOKUP(F2392,Soutez!B:D,3,FALSE)","v":2022},38,358,0.94000000000000006,606,570,null,null,"SZD-48 Jantar std. 3","CU","Není v databázi"]
["Ryszard Bendkowski",null,null,"Warszawa",null,"FCC 2022 - Klub",{"$f":"VLOOKUP(F2393,Soutez!B:C,2,FALSE)","v":"SK"},{"$f":"VLOOKUP(F2393,Soutez!B:D,3,FALSE)","v":2022},39,322,0.94000000000000006,484,455,null,null,"SZD-48 Jantar Std. 2","Filip","Není v databázi"]
["Pawel Wojciechowski",null,null,"Leszno",null,"FCC 2022 - Klub",{"$f":"VLOOKUP(F2394,Soutez!B:C,2,FALSE)","v":"SK"},{"$f":"VLOOKUP(F2394,Soutez!B:D,3,FALSE)","v":2022},40,0,0.94000000000000006,0,0,null,null,"SZD-55","RAW","Není v databázi"]
["Domas Zostautas",null,null,"Vilniaus",null,"FCC 2022 - Klub",{"$f":"VLOOKUP(F2395,Soutez!B:C,2,FALSE)","v":"SK"},{"$f":"VLOOKUP(F2395,Soutez!B:D,3,FALSE)","v":2022},40,0,0.94000000000000006,0,0,null,null,"SZD-48 Jantar std. 3","B","Není v databázi"]
["Stas Stankovic",null,null,"Aeroklub Novo mesto",null,"FCC 2022 - Klub",{"$f":"VLOOKUP(F2396,Soutez!B:C,2,FALSE)","v":"SK"},{"$f":"VLOOKUP(F2396,Soutez!B:D,3,FALSE)","v":2022},40,0,0.94000000000000006,0,0,null,null,"DG-100","GO","Není v databázi"]
["Jaroslaw Michaluk",null,null,"KSS",null,"FCC 2022 - Klub",{"$f":"VLOOKUP(F2397,Soutez!B:C,2,FALSE)","v":"SK"},{"$f":"VLOOKUP(F2397,Soutez!B:D,3,FALSE)","v":2022},40,0,0.94000000000000006,0,0,null,null,"SZD-48 Jantar std. 2","LK","Není v databázi"]
["Miloslav Cink",{"$f":"VLOOKUP(A2398,Pilot,2,0)","v":1987},{"$f":"VLOOKUP(A2398,Pilot,5,0)","v":"M"},{"$f":"VLOOKUP(A2398,Pilot,3,0)","v":"Letkov"},{"$f":"VLOOKUP(A2398,Pilot,4,0)","v":"CZ/C1"},"FCC 2022 - Kombi 15m",{"$f":"VLOOKUP(F2398,Soutez!B:C,2,FALSE)","v":"SK"},{"$f":"VLOOKUP(F2398,Soutez!B:D,3,FALSE)","v":2022},1,5374,{"$f":"VLOOKUP(F2398,Soutez,12,0)","v":0.96000000000000008},{"$f":"ROUND(J2398/MAX($J$2398:$J$2425)*10000*0.7+(MAX($I$2398:$I$2425)-I2398)/(MAX($I$2398:$I$2425)-1)*10000*0.3,0)","v":10000},{"$f":"ROUND(K2398*L2398,0)","v":9600},null,null,"LS-8b /15 m","JB",""]
["Pavel Louzecky",1957,"M","Přibyslav","CZ/C2","FCC 2022 - Kombi 15m",{"$f":"VLOOKUP(F2399,Soutez!B:C,2,FALSE)","v":"SK"},{"$f":"VLOOKUP(F2399,Soutez!B:D,3,FALSE)","v":2022},2,5354,{"$f":"VLOOKUP(F2399,Soutez,12,0)","v":0.96000000000000008},9863,{"$f":"ROUND(K2399*L2399,0)","v":9468},null,null,"LS-8 /15 m","FX",""]
["Jan Pavlik",1987,"M","Křižanov","CZ/M","FCC 2022 - Kombi 15m",{"$f":"VLOOKUP(F2400,Soutez!B:C,2,FALSE)","v":"SK"},{"$f":"VLOOKUP(F2400,Soutez!B:D,3,FALSE)","v":2022},3,5313,0.96000000000000008,9698,9310,null,null,"LS-8 /15 m","JW",""]
["Lukasz Blaszczyk",null,null,"Ostrow",null,"FCC 2022 - Kombi 15m",{"$f":"VLOOKUP(F2401,Soutez!B:C,2,FALSE)","v":"SK"},{"$f":"VLOOKUP(F2401,Soutez!B:D,3,FALSE)","v":2022},4,5146,0.96000000000000008,9370,8995,null,null,"Diana 2","RP","Není v databázi"]
["Norbert Scarlat",null,null,"Romanian Airclub",null,"FCC 2022 - Kombi 15m",{"$f":"VLOOKUP(F2402,Soutez!B:C,2,FALSE)","v":"SK"},{"$f":"VLOOKUP(F2402,Soutez!B:D,3,FALSE)","v":2022},5,5133,0.96000000000000008,9242,8872,null,null,"Discus 2a /15m","Y1","Není v databázi"]
["David Mach",{"$f":"VLOOKUP(A2403,Pilot,2,0)","v":1994},{"$f":"VLOOKUP(A2403,Pilot,5,0)","v":"M"},{"$f":"VLOOKUP(A2403,Pilot,3,0)","v":"Hronov"},{"$f":"VLOOKUP(A2403,Pilot,4,0)","v":"CZ/C2"},"FCC 2022 - Kombi 15m",{"$f":"VLOOKUP(F2403,Soutez!B:C,2,FALSE)","v":"SK"},{"$f":"VLOOKUP(F2403,Soutez!B:D,3,FALSE)","v":2022},6,5121,0.96000000000000008,9115,8750,"x",null,"JS3 15m","ZE",""]
["Lukasz Grabowski",null,null,"Aeroklub Wloclawski",null,"FCC 2022 - Kombi 15m",{"$f":"VLOOKUP(F2404,Soutez!B:C,2,FALSE)","v":"SK"},{"$f":"VLOOKUP(F2404,Soutez!B:D,3,FALSE)","v":2022},7,4913,0.96000000000000008,8733,8384,null,null,"Discus 2A","I","Není v databázi"]
["Stanislaw Biela",null,null,"Nowy Targ",null,"FCC 2022 - Kombi 15m",{"$f":"VLOOKUP(F2405,Soutez!B:C,2,FALSE)","v":"SK"},{"$f":"VLOOKUP(F2405,Soutez!B:D,3,FALSE)","v":2022},8,4772,0.96000000000000008,8438,8100,null,null,"SZD 56-2 DIANA FES","AV","Není v databázi"]
["Czeladzki & Marchelewski",null,null,"KKGT",null,"FCC 2022 - Kombi 15m",{"$f":"VLOOKUP(F2406,Soutez!B:C,2,FALSE)","v":"SK"},{"$f":"VLOOKUP(F2406,Soutez!B:D,3,FALSE)","v":2022},9,4660,0.96000000000000008,8181,7854,null,null,"Duo Discus XLT","POL","Není v databázi"]
["Judyta Czyż",null,null,"Bielsko Bialski",null,"FCC 2022 - Kombi 15m",{"$f":"VLOOKUP(F2407,Soutez!B:C,2,FALSE)","v":"SK"},{"$f":"VLOOKUP(F2407,Soutez!B:D,3,FALSE)","v":2022},10,4623,0.96000000000000008,8022,7701,null,null,"LS-8 /15 m","LOT",{"$f":"IF(ISERROR(VLOOKUP(A2407,Pilot,6,0)),\"Není v databázi\",VLOOKUP(A2407,Pilot,6,0))","v":"Není v databázi"}]
["Alex Pop",null,null,"Romanian Airclub",null,"FCC 2022 - Kombi 15m",{"$f":"VLOOKUP(F2408,Soutez!B:C,2,FALSE)","v":"SK"},{"$f":"VLOOKUP(F2408,Soutez!B:D,3,FALSE)","v":2022},11,4615,0.96000000000000008,7900,7584,null,null,"Discus 2a /15m","YB","Není v databázi"]
["Trojan & Blatak",null,null,"Chrudim",null,"FCC 2022 - Kombi 15m",{"$f":"VLOOKUP(F2409,Soutez!B:C,2,FALSE)","v":"SK"},{"$f":"VLOOKUP(F2409,Soutez!B:D,3,FALSE)","v":2022},12,4466,0.96000000000000008,7595,7291,null,null,"Duo Discus T (700kg)","ZS","Není v databázi"]
["Arturas Klimasauskas",null,null,"Pociunai (Kaunas Gliding Club)",null,"FCC 2022 - Kombi 15m",{"$f":"VLOOKUP(F2410,Soutez!B:C,2,FALSE)","v":"SK"},{"$f":"VLOOKUP(F2410,Soutez!B:D,3,FALSE)","v":2022},13,4423,0.96000000000000008,7428,7131,null,null,"Ventus 2b/15m","BX","Není v databázi"]
["Dawid Pretorius",null,null,"Cape Gliding Club",null,"FCC 2022 - Kombi 15m",{"$f":"VLOOKUP(F2411,Soutez!B:C,2,FALSE)","v":"SK"},{"$f":"VLOOKUP(F2411,Soutez!B:D,3,FALSE)","v":2022},14,4191,{"$f":"VLOOKUP(F2411,Soutez,12,0)","v":0.96000000000000008},7015,6734,null,null,"LS-8 /15 m","1Z","Není v databázi"]
["Jana Treslova",1963,"F",{"$f":"VLOOKUP(A2412,Pilot,3,0)","v":"Raná"},{"$f":"VLOOKUP(A2412,Pilot,4,0)","v":"CZ/C2"},"FCC 2022 - Kombi 15m",{"$f":"VLOOKUP(F2412,Soutez!B:C,2,FALSE)","v":"SK"},{"$f":"VLOOKUP(F2412,Soutez!B:D,3,FALSE)","v":2022},15,4188,0.96000000000000008,6900,6624,"x",null,"Discus 2a /15m","GX",""]
["Dana Novakova",1965,"F","Mladá Boleslav","CZ/C1","FCC 2022 - Kombi 15m",{"$f":"VLOOKUP(F2413,Soutez!B:C,2,FALSE)","v":"SK"},{"$f":"VLOOKUP(F2413,Soutez!B:D,3,FALSE)","v":2022},16,4186,0.96000000000000008,6786,{"$f":"ROUND(K2413*L2413,0)","v":6515},null,null,"LS-8 /15 m","AU",""]
["Barbora Moravcova",1994,"F","Zbraslavice","CZ/C1","FCC 2022 - Kombi 15m",{"$f":"VLOOKUP(F2414,Soutez!B:C,2,FALSE)","v":"SK"},{"$f":"VLOOKUP(F2414,Soutez!B:D,3,FALSE)","v":2022},17,4175,0.96000000000000008,6660,6394,null,null,"LS-8 /15 m","EU",""]
["Pawel Frackowiak",null,null,"Aeroklub Poznanski",null,"FCC 2022 - Kombi 15m",{"$f":"VLOOKUP(F2415,Soutez!B:C,2,FALSE)","v":"SK"},{"$f":"VLOOKUP(F2415,Soutez!B:D,3,FALSE)","v":2022},18,4149,0.96000000000000008,6515,6254,null,null,"LAK 17B FES /15m 525kg",77,"Není v databázi"]
["Karol Snapko",null,null,"Nadwislanski",null,"FCC 2022 - Kombi 15m",{"$f":"VLOOKUP(F2416,Soutez!B:C,2,FALSE)","v":"SK"},{"$f":"VLOOKUP(F2416,Soutez!B:D,3,FALSE)","v":2022},19,3866,0.96000000000000008,6036,5795,null,null,"Discus 2a /15m","Y","Není v databázi"]
["Robert Toth",null,null,"Pelikan RE",null,"FCC 2022 - Kombi 15m",{"$f":"VLOOKUP(F2417,Soutez!B:C,2,FALSE)","v":"SK"},{"$f":"VLOOKUP(F2417,Soutez!B:D,3,FALSE)","v":2022},20,3635,0.96000000000000008,5624,5399,null,null,"LS-6 b","4L","Není v databázi"]
["Maciej Walasek",null,null,"Aeroklub Krakowski",null,"FCC 2022 - Kombi 15m",{"$f":"VLOOKUP(F2418,Soutez!B:C,2,FALSE)","v":"SK"},{"$f":"VLOOKUP(F2418,Soutez!B:D,3,FALSE)","v":2022},21,3598,0.96000000000000008,5464,5245,null,null,"LS-6","KK","Není v databázi"]
["Dariusz Czech",null,null,"Stalowowolski",null,"FCC 2022 - Kombi 15m",{"$f":"VLOOKUP(F2419,Soutez!B:C,2,FALSE)","v":"SK"},{"$f":"VLOOKUP(F2419,Soutez!B:D,3,FALSE)","v":2022},22,2915,0.96000000000000008,4464,4285,null,null,"LAK 19 15m WL","DC","Není v databázi"]
["Slavomir Valecko",1960,"M",{"$f":"VLOOKUP(A2420,Pilot,3,0)","v":"Hranice"},{"$f":"VLOOKUP(A2420,Pilot,4,0)","v":"CZ/M"},"FCC 2022 - Kombi 15m",{"$f":"VLOOKUP(F2420,Soutez!B:C,2,FALSE)","v":"SK"},{"$f":"VLOOKUP(F2420,Soutez!B:D,3,FALSE)","v":2022},23,2887,0.96000000000000008,4316,4143,"x",null,"Discus b WL","IYB",""]
["Andrzej Szczerba",null,null,"Warszawa",null,"FCC 2022 - Kombi 15m",{"$f":"VLOOKUP(F2421,Soutez!B:C,2,FALSE)","v":"SK"},{"$f":"VLOOKUP(F2421,Soutez!B:D,3,FALSE)","v":2022},24,2171,0.96000000000000008,3272,3141,null,null,"SZD-56-2 Diana-2 FES","AI","Není v databázi"]
["Konrad Jaczkowski",null,null,"Czźstochowski",null,"FCC 2022 - Kombi 15m",{"$f":"VLOOKUP(F2422,Soutez!B:C,2,FALSE)","v":"SK"},{"$f":"VLOOKUP(F2422,Soutez!B:D,3,FALSE)","v":2022},25,1397,0.96000000000000008,2153,2067,null,null,"Ventus 2B","V2","Není v databázi"]
["Benedikt Laho",null,null,"Trnava",null,"FCC 2022 - Kombi 15m",{"$f":"VLOOKUP(F2423,Soutez!B:C,2,FALSE)","v":"SK"},{"$f":"VLOOKUP(F2423,Soutez!B:D,3,FALSE)","v":2022},26,763,0.96000000000000008,1216,1167,null,null,"Discus 2T /15m","JH","Není v databázi"]
["Istvan Reti",null,null,"Alfoldi Repülőklub",null,"FCC 2022 - Kombi 15m",{"$f":"VLOOKUP(F2424,Soutez!B:C,2,FALSE)","v":"SK"},{"$f":"VLOOKUP(F2424,Soutez!B:D,3,FALSE)","v":2022},27,454,0.96000000000000008,702,674,null,null,"Ventus 2b 15m","G6","Není v databázi"]
["Jana Veprekova",1961,"F",{"$f":"VLOOKUP(A2425,Pilot,3,0)","v":"Dvůr Králové"},{"$f":"VLOOKUP(A2425,Pilot,4,0)","v":"CZ/C2"},"FCC 2022 - Kombi 15m",{"$f":"VLOOKUP(F2425,Soutez!B:C,2,FALSE)","v":"SK"},{"$f":"VLOOKUP(F2425,Soutez!B:D,3,FALSE)","v":2022},28,0,0.96000000000000008,0,0,null,null,"LS-8 /15 m","W8",""]
["Gintas Zube",null,null,"Kartena gliding club",null,"FCC 2022 - Kombi Open",{"$f":"VLOOKUP(F2426,Soutez!B:C,2,FALSE)","v":"SK"},{"$f":"VLOOKUP(F2426,Soutez!B:D,3,FALSE)","v":2022},1,5418,{"$f":"VLOOKUP(F2426,Soutez,12,0)","v":0.96500000000000008},{"$f":"ROUND(J2426/MAX($J$2426:$J$2470)*10000*0.7+(MAX($I$2426:$I$2470)-I2426)/(MAX($I$2426:$I$2470)-1)*10000*0.3,0)","v":10000},{"$f":"ROUND(K2426*L2426,0)","v":9650},null,null,"ASG-29E /18m","AR","Není v databázi"]
["Wolfgang Janowitsch",null,null,"FRA Wr. Neustadt",null,"FCC 2022 - Kombi Open",{"$f":"VLOOKUP(F2427,Soutez!B:C,2,FALSE)","v":"SK"},{"$f":"VLOOKUP(F2427,Soutez!B:D,3,FALSE)","v":2022},2,5415,{"$f":"VLOOKUP(F2427,Soutez,12,0)","v":0.96500000000000008},9921,{"$f":"ROUND(K2427*L2427,0)","v":9574},null,null,"Ventus 3T - 18m","WO","Není v databázi"]
["Radek Krejcirik",{"$f":"VLOOKUP(A2428,Pilot,2,0)","v":1991},{"$f":"VLOOKUP(A2428,Pilot,5,0)","v":"M"},{"$f":"VLOOKUP(A2428,Pilot,3,0)","v":"Hranice"},{"$f":"VLOOKUP(A2428,Pilot,4,0)","v":"CZ/M"},"FCC 2022 - Kombi Open",{"$f":"VLOOKUP(F2428,Soutez!B:C,2,FALSE)","v":"SK"},{"$f":"VLOOKUP(F2428,Soutez!B:D,3,FALSE)","v":2022},3,5383,0.96500000000000008,9805,9462,null,null,"JS-1C EVO 18m","ZF",""]
["Karol Staryszak",null,null,"Nadwislamski",null,"FCC 2022 - Kombi Open",{"$f":"VLOOKUP(F2429,Soutez!B:C,2,FALSE)","v":"SK"},{"$f":"VLOOKUP(F2429,Soutez!B:D,3,FALSE)","v":2022},4,5336,0.96500000000000008,9669,9331,null,null,"ASG-29E /18m","PES","Není v databázi"]
["Zoltan Hamar",null,null,"Vario SE",null,"FCC 2022 - Kombi Open",{"$f":"VLOOKUP(F2430,Soutez!B:C,2,FALSE)","v":"SK"},{"$f":"VLOOKUP(F2430,Soutez!B:D,3,FALSE)","v":2022},5,5201,0.96500000000000008,9420,9090,null,null,"JS3 /18m","7A","Není v databázi"]
["Sebastian Kawa",null,null,"Aeroclub Bielsko Biala",null,"FCC 2022 - Kombi Open",{"$f":"VLOOKUP(F2431,Soutez!B:C,2,FALSE)","v":"SK"},{"$f":"VLOOKUP(F2431,Soutez!B:D,3,FALSE)","v":2022},6,5112,0.96500000000000008,9230,8907,null,null,"Diana 3 FES","GSS","Není v databázi"]
["Andrzej Smielkiewicz",null,null,"Leszno",null,"FCC 2022 - Kombi Open",{"$f":"VLOOKUP(F2432,Soutez!B:C,2,FALSE)","v":"SK"},{"$f":"VLOOKUP(F2432,Soutez!B:D,3,FALSE)","v":2022},7,5048,0.96500000000000008,9072,8754,null,null,"ASG-29E /18m","A2","Není v databázi"]
["Zdislaw Bednarczuk",null,null,"Bielsko-Biala",null,"FCC 2022 - Kombi Open",{"$f":"VLOOKUP(F2433,Soutez!B:C,2,FALSE)","v":"SK"},{"$f":"VLOOKUP(F2433,Soutez!B:D,3,FALSE)","v":2022},8,5003,0.96500000000000008,8939,8626,null,null,"Js3 MD","ZB","Není v databázi"]
["Leszek Staryszak",null,null,"Warsawski",null,"FCC 2022 - Kombi Open",{"$f":"VLOOKUP(F2434,Soutez!B:C,2,FALSE)","v":"SK"},{"$f":"VLOOKUP(F2434,Soutez!B:D,3,FALSE)","v":2022},9,5000,0.96500000000000008,8860,8550,null,null,"ASG-29E /18m","BG","Není v databázi"]
["Bernd Goretzki",null,null,"LSV Rinteln",null,"FCC 2022 - Kombi Open",{"$f":"VLOOKUP(F2435,Soutez!B:C,2,FALSE)","v":"SK"},{"$f":"VLOOKUP(F2435,Soutez!B:D,3,FALSE)","v":2022},10,4914,0.96500000000000008,8674,8370,null,null,"Ventus 3M","C8","Není v databázi"]
["Andre Weidlich",null,null,"LSV Ruhr-Lenne Iserlohn",null,"FCC 2022 - Kombi Open",{"$f":"VLOOKUP(F2436,Soutez!B:C,2,FALSE)","v":"SK"},{"$f":"VLOOKUP(F2436,Soutez!B:D,3,FALSE)","v":2022},11,4897,0.96500000000000008,8577,8277,null,null,"Ventus 3M - 18m","TE","Není v databázi"]
["Arkadiusz Downar",null,null,"Warmińsko-Mazurski",null,"FCC 2022 - Kombi Open",{"$f":"VLOOKUP(F2437,Soutez!B:C,2,FALSE)","v":"SK"},{"$f":"VLOOKUP(F2437,Soutez!B:D,3,FALSE)","v":2022},12,4889,0.96500000000000008,8492,8195,null,null,"ASG-29E /18m","29L","Není v databázi"]
["Kessler & Chisu-Muresan",null,null,"Romanian Airclub",null,"FCC 2022 - Kombi Open",{"$f":"VLOOKUP(F2438,Soutez!B:C,2,FALSE)","v":"SK"},{"$f":"VLOOKUP(F2438,Soutez!B:D,3,FALSE)","v":2022},13,4868,0.96500000000000008,8389,8095,null,null,"ASG-32 Mi-850 kg","AK","Není v databázi"]
["Tomasz Dul",null,null,"LSV Dinslaken",null,"FCC 2022 - Kombi Open",{"$f":"VLOOKUP(F2439,Soutez!B:C,2,FALSE)","v":"SK"},{"$f":"VLOOKUP(F2439,Soutez!B:D,3,FALSE)","v":2022},14,4847,0.96500000000000008,8287,7997,null,null,"JS3 MD","TO","Není v databázi"]
["Martin Fürjes",null,null,"SGC Martin",null,"FCC 2022 - Kombi Open",{"$f":"VLOOKUP(F2440,Soutez!B:C,2,FALSE)","v":"SK"},{"$f":"VLOOKUP(F2440,Soutez!B:D,3,FALSE)","v":2022},15,4745,0.96500000000000008,8080,7797,null,null,"JS3 /18m",3,"Není v databázi"]
["Joze Verdev",null,null,"Šaleški Aeroklub",null,"FCC 2022 - Kombi Open",{"$f":"VLOOKUP(F2441,Soutez!B:C,2,FALSE)","v":"SK"},{"$f":"VLOOKUP(F2441,Soutez!B:D,3,FALSE)","v":2022},16,4609,0.96500000000000008,7830,7556,null,null,"JS1-CTJ 18 EVO","DZ","Není v databázi"]
["Lukasz Kornacki",null,null,"Aeroklub Ziemi Mazowieckiej",null,"FCC 2022 - Kombi Open",{"$f":"VLOOKUP(F2442,Soutez!B:C,2,FALSE)","v":"SK"},{"$f":"VLOOKUP(F2442,Soutez!B:D,3,FALSE)","v":2022},17,4591,0.96500000000000008,7732,7461,null,null,"ASG-29E /18m","PLI","Není v databázi"]
["Petr Krejcirik",{"$f":"VLOOKUP(A2443,Pilot,2,0)","v":1960},{"$f":"VLOOKUP(A2443,Pilot,5,0)","v":"M"},{"$f":"VLOOKUP(A2443,Pilot,3,0)","v":"Hranice"},{"$f":"VLOOKUP(A2443,Pilot,4,0)","v":"CZ/M"},"FCC 2022 - Kombi Open",{"$f":"VLOOKUP(F2443,Soutez!B:C,2,FALSE)","v":"SK"},{"$f":"VLOOKUP(F2443,Soutez!B:D,3,FALSE)","v":2022},18,4547,0.96500000000000008,7600,7334,null,null,"AS 33 Es",12,""]
["Lubomir Motl",1959,"M","Kyjov","CZ/M","FCC 2022 - Kombi Open",{"$f":"VLOOKUP(F2444,Soutez!B:C,2,FALSE)","v":"SK"},{"$f":"VLOOKUP(F2444,Soutez!B:D,3,FALSE)","v":2022},19,4497,0.96500000000000008,7460,7199,"x",null,"Nimbus 4DM","AM",""]
["Arkadiusz Stefańczyk",null,null,null,null,"FCC 2022 - Kombi Open",{"$f":"VLOOKUP(F2445,Soutez!B:C,2,FALSE)","v":"SK"},{"$f":"VLOOKUP(F2445,Soutez!B:D,3,FALSE)","v":2022},20,4472,{"$f":"VLOOKUP(F2445,Soutez,12,0)","v":0.96500000000000008},7353,7096,null,null,"ASG 32 Mi","MD","Není v databázi"]
["Janos Sindely",null,null,"Alfoldi Repülőklub",null,"FCC 2022 - Kombi Open",{"$f":"VLOOKUP(F2446,Soutez!B:C,2,FALSE)","v":"SK"},{"$f":"VLOOKUP(F2446,Soutez!B:D,3,FALSE)","v":2022},21,4448,0.96500000000000008,7247,6993,null,null,"JS1-1C 21","RZ","Není v databázi"]
["Jerzey Kolasinski",null,null,"Aeroklub Poznanski/KKGT",null,"FCC 2022 - Kombi Open",{"$f":"VLOOKUP(F2447,Soutez!B:C,2,FALSE)","v":"SK"},{"$f":"VLOOKUP(F2447,Soutez!B:D,3,FALSE)","v":2022},22,4443,0.96500000000000008,7165,6914,null,null,"ASG 29 18m","EMI","Není v databázi"]
["Paul Altrichter",null,null,"Fliegergrrupe waldviertel",null,"FCC 2022 - Kombi Open",{"$f":"VLOOKUP(F2448,Soutez!B:C,2,FALSE)","v":"SK"},{"$f":"VLOOKUP(F2448,Soutez!B:D,3,FALSE)","v":2022},23,4442,0.96500000000000008,7089,{"$f":"ROUND(K2448*L2448,0)","v":6841},null,null,"Ventus 2 cxa 18m-600 kg","AX","Není v databázi"]
["Kapuy & Reti",null,null,null,null,"FCC 2022 - Kombi Open",{"$f":"VLOOKUP(F2449,Soutez!B:C,2,FALSE)","v":"SK"},{"$f":"VLOOKUP(F2449,Soutez!B:D,3,FALSE)","v":2022},24,4437,0.96500000000000008,7008,6763,null,null,"-29,3m","HB","Není v databázi"]
["Teet Jagomagi",null,null,"Ridali",null,"FCC 2022 - Kombi Open",{"$f":"VLOOKUP(F2450,Soutez!B:C,2,FALSE)","v":"SK"},{"$f":"VLOOKUP(F2450,Soutez!B:D,3,FALSE)","v":2022},25,4409,0.96500000000000008,6896,6655,null,null,"JS1-1C 18 EVO",56,"Není v databázi"]
["Petr Panek",{"$f":"VLOOKUP(A2451,Pilot,2,0)","v":1975},{"$f":"VLOOKUP(A2451,Pilot,5,0)","v":"M"},{"$f":"VLOOKUP(A2451,Pilot,3,0)","v":"Dvůr Králové"},{"$f":"VLOOKUP(A2451,Pilot,4,0)","v":"CZ/C2"},"FCC 2022 - Kombi Open",{"$f":"VLOOKUP(F2451,Soutez!B:C,2,FALSE)","v":"SK"},{"$f":"VLOOKUP(F2451,Soutez!B:D,3,FALSE)","v":2022},26,4402,0.96500000000000008,6812,6574,"x",null,"JS-1b JET","IGC",""]
["Ivan Novak",1962,"M","Mladá Boleslav","CZ/C1","FCC 2022 - Kombi Open",{"$f":"VLOOKUP(F2452,Soutez!B:C,2,FALSE)","v":"SK"},{"$f":"VLOOKUP(F2452,Soutez!B:D,3,FALSE)","v":2022},27,4388,0.96500000000000008,6719,6484,null,null,"ASG 29 /18m","QZ",""]
["Hana Treslova",1991,"F","Raná","CZ/C2","FCC 2022 - Kombi Open",{"$f":"VLOOKUP(F2453,Soutez!B:C,2,FALSE)","v":"SK"},{"$f":"VLOOKUP(F2453,Soutez!B:D,3,FALSE)","v":2022},28,4329,0.96500000000000008,6568,6338,null,null,"JS3 /18m","XM",""]
["Pirker & Pirker",null,null,"FAS-Wien (Vienna)",null,"FCC 2022 - Kombi Open",{"$f":"VLOOKUP(F2454,Soutez!B:C,2,FALSE)","v":"SK"},{"$f":"VLOOKUP(F2454,Soutez!B:D,3,FALSE)","v":2022},29,4140,0.96500000000000008,6249,6030,null,null,"Arcus M","PV","Není v databázi"]
["Tamas & Korom",null,null,"HUN Team",null,"FCC 2022 - Kombi Open",{"$f":"VLOOKUP(F2455,Soutez!B:C,2,FALSE)","v":"SK"},{"$f":"VLOOKUP(F2455,Soutez!B:D,3,FALSE)","v":2022},30,4066,0.96500000000000008,6078,5865,null,null,"Arcus T","HUX","Není v databázi"]
["Oldrich Bartonik",{"$f":"VLOOKUP(A2456,Pilot,2,0)","v":1961},{"$f":"VLOOKUP(A2456,Pilot,5,0)","v":"M"},{"$f":"VLOOKUP(A2456,Pilot,3,0)","v":"Luhačovice"},{"$f":"VLOOKUP(A2456,Pilot,4,0)","v":"CZ/M"},"FCC 2022 - Kombi Open",{"$f":"VLOOKUP(F2456,Soutez!B:C,2,FALSE)","v":"SK"},{"$f":"VLOOKUP(F2456,Soutez!B:D,3,FALSE)","v":2022},31,3918,0.96500000000000008,5812,5609,"x",null,"Diana 3 FES","D3",""]
["Jakubcak & Sulirova",null,null,null,null,"FCC 2022 - Kombi Open",{"$f":"VLOOKUP(F2457,Soutez!B:C,2,FALSE)","v":"SK"},{"$f":"VLOOKUP(F2457,Soutez!B:D,3,FALSE)","v":2022},32,3838,0.96500000000000008,5634,5437,null,null,"Arcus M","CAR","Není v databázi"]
["Jan Divok",null,null,"Aeroklub SNV",null,"FCC 2022 - Kombi Open",{"$f":"VLOOKUP(F2458,Soutez!B:C,2,FALSE)","v":"SK"},{"$f":"VLOOKUP(F2458,Soutez!B:D,3,FALSE)","v":2022},33,3718,0.96500000000000008,5404,5215,null,null,"Discus 2cT /18m","DJ","Není v databázi"]
["Miguel Schwan",null,null,"SFC Tulin",null,"FCC 2022 - Kombi Open",{"$f":"VLOOKUP(F2459,Soutez!B:C,2,FALSE)","v":"SK"},{"$f":"VLOOKUP(F2459,Soutez!B:D,3,FALSE)","v":2022},34,3695,0.96500000000000008,5299,5114,null,null,"ASG-29Es /18m","AY","Není v databázi"]
["Lukas Benedikt",null,null,"Trnava",null,"FCC 2022 - Kombi Open",{"$f":"VLOOKUP(F2460,Soutez!B:C,2,FALSE)","v":"SK"},{"$f":"VLOOKUP(F2460,Soutez!B:D,3,FALSE)","v":2022},35,3310,0.96500000000000008,4726,4561,null,null,"Ventus 3F - 18m","LB","Není v databázi"]
["Lubomir Doupal",{"$f":"VLOOKUP(A2461,Pilot,2,0)","v":1975},{"$f":"VLOOKUP(A2461,Pilot,5,0)","v":"M"},{"$f":"VLOOKUP(A2461,Pilot,3,0)","v":"Kroměříž"},{"$f":"VLOOKUP(A2461,Pilot,4,0)","v":"CZ/M"},"FCC 2022 - Kombi Open",{"$f":"VLOOKUP(F2461,Soutez!B:C,2,FALSE)","v":"SK"},{"$f":"VLOOKUP(F2461,Soutez!B:D,3,FALSE)","v":2022},36,3234,0.96500000000000008,4553,4394,"x",null,"Ventus 2cxm 18m-565 kg","LD",""]
["Kollar & Kromka",null,null,"Poprad",null,"FCC 2022 - Kombi Open",{"$f":"VLOOKUP(F2462,Soutez!B:C,2,FALSE)","v":"SK"},{"$f":"VLOOKUP(F2462,Soutez!B:D,3,FALSE)","v":2022},37,2837,0.96500000000000008,3965,3826,null,null,"Arcus M","TA3","Není v databázi"]
["Gabriela Belakova",null,null,"Prievidza",null,"FCC 2022 - Kombi Open",{"$f":"VLOOKUP(F2463,Soutez!B:C,2,FALSE)","v":"SK"},{"$f":"VLOOKUP(F2463,Soutez!B:D,3,FALSE)","v":2022},38,2813,0.96500000000000008,3859,3724,null,null,"Ventus 3M 18m","CAT","Není v databázi"]
["Aldo Cernezzi",null,null,"Acao Varese",null,"FCC 2022 - Kombi Open",{"$f":"VLOOKUP(F2464,Soutez!B:C,2,FALSE)","v":"SK"},{"$f":"VLOOKUP(F2464,Soutez!B:D,3,FALSE)","v":2022},39,2782,0.96500000000000008,3744,3613,null,null,"DG 800b/18m","TI","Není v databázi"]
["Jan Keher",null,null,"Prievidza",null,"FCC 2022 - Kombi Open",{"$f":"VLOOKUP(F2465,Soutez!B:C,2,FALSE)","v":"SK"},{"$f":"VLOOKUP(F2465,Soutez!B:D,3,FALSE)","v":2022},40,2074,0.96500000000000008,2755,2659,null,null,"Discus 2cT /18m","EF","Není v databázi"]
["Wolfgang Zimmermann",null,null,"FRA Wr. Neustadt",null,"FCC 2022 - Kombi Open",{"$f":"VLOOKUP(F2466,Soutez!B:C,2,FALSE)","v":"SK"},{"$f":"VLOOKUP(F2466,Soutez!B:D,3,FALSE)","v":2022},41,0,0.96500000000000008,0,0,null,null,"Ventus 3M - 18m","WZ",{"$f":"IF(ISERROR(VLOOKUP(A2466,Pilot,6,0)),\"Není v databázi\",VLOOKUP(A2466,Pilot,6,0))","v":"Není v databázi"}]
["Andrej Majewski",null,null,"Warminsko-Mazurski",null,"FCC 2022 - Kombi Open",{"$f":"VLOOKUP(F2467,Soutez!B:C,2,FALSE)","v":"SK"},{"$f":"VLOOKUP(F2467,Soutez!B:D,3,FALSE)","v":2022},41,0,0.96500000000000008,0,0,null,null,"ASG-29E /18m",29,"Není v databázi"]
["Zsolt Osi",null,null,"G6AX,ACFH",null,"FCC 2022 - Kombi Open",{"$f":"VLOOKUP(F2468,Soutez!B:C,2,FALSE)","v":"SK"},{"$f":"VLOOKUP(F2468,Soutez!B:D,3,FALSE)","v":2022},41,0,0.96500000000000008,0,0,null,null,"ASW-22BLE /26,58m (850 kg)","BY","Není v databázi"]
["Heimo Demmerer",null,null,"SFC Mariazell",null,"FCC 2022 - Kombi Open",{"$f":"VLOOKUP(F2469,Soutez!B:C,2,FALSE)","v":"SK"},{"$f":"VLOOKUP(F2469,Soutez!B:D,3,FALSE)","v":2022},41,0,0.96500000000000008,0,0,null,null,"Ventus 3M - 18m","OD","Není v databázi"]
["Botond Szabadfi",null,null,"Alfoldi AK",null,"FCC 2022 - Kombi Open",{"$f":"VLOOKUP(F2470,Soutez!B:C,2,FALSE)","v":"SK"},{"$f":"VLOOKUP(F2470,Soutez!B:D,3,FALSE)","v":2022},41,0,0.96500000000000008,0,0,null,null,"Nimbus 4DM","XXL","Není v databázi"]
["Michal Lesinger",{"$f":"VLOOKUP(A2471,Pilot,2,0)","v":1966},{"$f":"VLOOKUP(A2471,Pilot,5,0)","v":"M"},{"$f":"VLOOKUP(A2471,Pilot,3,0)","v":"Moravská Třebová"},{"$f":"VLOOKUP(A2471,Pilot,4,0)","v":"CZ/M"},"Pribina Cup 2022 - Klub",{"$f":"VLOOKUP(F2471,Soutez!B:C,2,FALSE)","v":"SK"},{"$f":"VLOOKUP(F2471,Soutez!B:D,3,FALSE)","v":2022},1,3186,{"$f":"VLOOKUP(F2471,Soutez,12,0)","v":0.94000000000000006},{"$f":"ROUND(J2471/MAX($J$2471:$J$2498)*10000*0.7+(MAX($I$2471:$I$2498)-I2471)/(MAX($I$2471:$I$2498)-1)*10000*0.3,0)","v":10000},{"$f":"ROUND(K2471*L2471,0)","v":9400},"x",null,"ASW 20","LL",""]
["Roelof Corporaal",null,null,"Gelderse Zweefvliegclub",null,"Pribina Cup 2022 - Klub",{"$f":"VLOOKUP(F2472,Soutez!B:C,2,FALSE)","v":"SK"},{"$f":"VLOOKUP(F2472,Soutez!B:D,3,FALSE)","v":2022},2,3179,{"$f":"VLOOKUP(F2472,Soutez,12,0)","v":0.94000000000000006},9874,{"$f":"ROUND(K2472*L2472,0)","v":9282},null,null,"LS 7 WL","LK","Není v databázi"]
["Mark Travner",null,null,"Aeroklub Celje",null,"Pribina Cup 2022 - Klub",{"$f":"VLOOKUP(F2473,Soutez!B:C,2,FALSE)","v":"SK"},{"$f":"VLOOKUP(F2473,Soutez!B:D,3,FALSE)","v":2022},3,3169,0.94000000000000006,9740,9156,null,null,"ASW 20 W","SH","Není v databázi"]
["Jiri Kusbach",{"$f":"VLOOKUP(A2474,Pilot,2,0)","v":1959},{"$f":"VLOOKUP(A2474,Pilot,5,0)","v":"M"},{"$f":"VLOOKUP(A2474,Pilot,3,0)","v":"Luhačovice"},{"$f":"VLOOKUP(A2474,Pilot,4,0)","v":"CZ/M"},"Pribina Cup 2022 - Klub",{"$f":"VLOOKUP(F2474,Soutez!B:C,2,FALSE)","v":"SK"},{"$f":"VLOOKUP(F2474,Soutez!B:D,3,FALSE)","v":2022},4,3164,0.94000000000000006,9618,9041,"x",null,"KKB-15E FES","B",""]
["Edmund Schuller",null,null,null,null,"Pribina Cup 2022 - Klub",{"$f":"VLOOKUP(F2475,Soutez!B:C,2,FALSE)","v":"SK"},{"$f":"VLOOKUP(F2475,Soutez!B:D,3,FALSE)","v":2022},5,3114,0.94000000000000006,9397,8833,null,null,"ASW 24 WL","ZS","Není v databázi"]
["Tibor Fratrik",null,null,"SGC Martin",null,"Pribina Cup 2022 - Klub",{"$f":"VLOOKUP(F2476,Soutez!B:C,2,FALSE)","v":"SK"},{"$f":"VLOOKUP(F2476,Soutez!B:D,3,FALSE)","v":2022},6,3037,0.94000000000000006,9117,8570,null,null,"ASW 20 C","VG","Není v databázi"]
["Uwe Wahlig",null,null,"Segelfluggruppe Bensheim e.V.",null,"Pribina Cup 2022 - Klub",{"$f":"VLOOKUP(F2477,Soutez!B:C,2,FALSE)","v":"SK"},{"$f":"VLOOKUP(F2477,Soutez!B:D,3,FALSE)","v":2022},7,3011,0.94000000000000006,8949,8412,null,null,"LS 3 WL","SN","Není v databázi"]
["Juliusz Pieniazek",null,null,"Aeroklub Podhalanski",null,"Pribina Cup 2022 - Klub",{"$f":"VLOOKUP(F2478,Soutez!B:C,2,FALSE)","v":"SK"},{"$f":"VLOOKUP(F2478,Soutez!B:D,3,FALSE)","v":2022},8,2878,0.94000000000000006,8546,8033,null,null,"ASW 19B",11,"Není v databázi"]
["Boris Zorz",null,null,null,null,"Pribina Cup 2022 - Klub",{"$f":"VLOOKUP(F2479,Soutez!B:C,2,FALSE)","v":"SK"},{"$f":"VLOOKUP(F2479,Soutez!B:D,3,FALSE)","v":2022},9,2863,0.94000000000000006,8401,7897,null,null,"Std. Cirrus WL","IPF","Není v databázi"]
["Artur Lonczuk",null,null,null,null,"Pribina Cup 2022 - Klub",{"$f":"VLOOKUP(F2480,Soutez!B:C,2,FALSE)","v":"SK"},{"$f":"VLOOKUP(F2480,Soutez!B:D,3,FALSE)","v":2022},10,2810,0.94000000000000006,8174,7684,null,null,"Jantar 2","KM","Není v databázi"]
["Zbigniew Górecki",null,null,"Lódz",null,"Pribina Cup 2022 - Klub",{"$f":"VLOOKUP(F2481,Soutez!B:C,2,FALSE)","v":"SK"},{"$f":"VLOOKUP(F2481,Soutez!B:D,3,FALSE)","v":2022},11,2755,0.94000000000000006,7942,7465,null,null,"Mini Nimbus","CH","Není v databázi"]
["Wojciech Domanski",null,null,null,null,"Pribina Cup 2022 - Klub",{"$f":"VLOOKUP(F2482,Soutez!B:C,2,FALSE)","v":"SK"},{"$f":"VLOOKUP(F2482,Soutez!B:D,3,FALSE)","v":2022},12,2742,0.94000000000000006,7802,7334,null,null,"LS 4","WW","Není v databázi"]
["Jakub Kaczorowski",null,null,"Wloclawek",null,"Pribina Cup 2022 - Klub",{"$f":"VLOOKUP(F2483,Soutez!B:C,2,FALSE)","v":"SK"},{"$f":"VLOOKUP(F2483,Soutez!B:D,3,FALSE)","v":2022},13,2716,{"$f":"VLOOKUP(F2483,Soutez,12,0)","v":0.94000000000000006},7634,7176,null,null,"Jantar 2","BI","Není v databázi"]
["Tomasz Kurowski",null,null,"Aeroklub Krakowski",null,"Pribina Cup 2022 - Klub",{"$f":"VLOOKUP(F2484,Soutez!B:C,2,FALSE)","v":"SK"},{"$f":"VLOOKUP(F2484,Soutez!B:D,3,FALSE)","v":2022},14,2703,0.94000000000000006,7494,7044,null,null,"SZD-48-3M","BZ","Není v databázi"]
["Maciej Kowalski",null,null,"Aeroklub Kielecki",null,"Pribina Cup 2022 - Klub",{"$f":"VLOOKUP(F2485,Soutez!B:C,2,FALSE)","v":"SK"},{"$f":"VLOOKUP(F2485,Soutez!B:D,3,FALSE)","v":2022},15,2698,0.94000000000000006,7372,{"$f":"ROUND(K2485*L2485,0)","v":6930},null,null,"Jantar 2","SO","Není v databázi"]
["Pawel Glowacki",null,null,null,null,"Pribina Cup 2022 - Klub",{"$f":"VLOOKUP(F2486,Soutez!B:C,2,FALSE)","v":"SK"},{"$f":"VLOOKUP(F2486,Soutez!B:D,3,FALSE)","v":2022},16,2627,0.94000000000000006,7105,6679,null,null,"Pegase C-101A","J7","Není v databázi"]
["Benjamin Josuttis",null,null,"LSV Kreis Osterode e.V.",null,"Pribina Cup 2022 - Klub",{"$f":"VLOOKUP(F2487,Soutez!B:C,2,FALSE)","v":"SK"},{"$f":"VLOOKUP(F2487,Soutez!B:D,3,FALSE)","v":2022},17,2624,0.94000000000000006,6987,6568,null,null,"LS 4","RF","Není v databázi"]
["Filip Durda",null,null,"Aeroklub Kielecki",null,"Pribina Cup 2022 - Klub",{"$f":"VLOOKUP(F2488,Soutez!B:C,2,FALSE)","v":"SK"},{"$f":"VLOOKUP(F2488,Soutez!B:D,3,FALSE)","v":2022},18,2568,0.94000000000000006,6753,6348,null,null,"Jantar 2","Y3","Není v databázi"]
["Jakub Kos",null,null,null,null,"Pribina Cup 2022 - Klub",{"$f":"VLOOKUP(F2489,Soutez!B:C,2,FALSE)","v":"SK"},{"$f":"VLOOKUP(F2489,Soutez!B:D,3,FALSE)","v":2022},19,2370,0.94000000000000006,6207,5835,null,null,"Jantar 2","Z4R","Není v databázi"]
["Stas Stankovic",null,null,"Aeroklub Novo mesto",null,"Pribina Cup 2022 - Klub",{"$f":"VLOOKUP(F2490,Soutez!B:C,2,FALSE)","v":"SK"},{"$f":"VLOOKUP(F2490,Soutez!B:D,3,FALSE)","v":2022},20,2352,0.94000000000000006,6056,5693,null,null,"DG 101 G","GO","Není v databázi"]
["Markus Uhlig",null,null,"FC Grossrückerswalde",null,"Pribina Cup 2022 - Klub",{"$f":"VLOOKUP(F2491,Soutez!B:C,2,FALSE)","v":"SK"},{"$f":"VLOOKUP(F2491,Soutez!B:D,3,FALSE)","v":2022},21,2294,0.94000000000000006,5818,5469,null,null,"Jantar 2 WL","M4","Není v databázi"]
["Ulrich Luta",null,null,"Luftsportverein Aachen e.V.",null,"Pribina Cup 2022 - Klub",{"$f":"VLOOKUP(F2492,Soutez!B:C,2,FALSE)","v":"SK"},{"$f":"VLOOKUP(F2492,Soutez!B:D,3,FALSE)","v":2022},22,2247,0.94000000000000006,5604,5268,null,null,"LS 7 WL","PR","Není v databázi"]
["Richard Vajda",null,null,null,null,"Pribina Cup 2022 - Klub",{"$f":"VLOOKUP(F2493,Soutez!B:C,2,FALSE)","v":"SK"},{"$f":"VLOOKUP(F2493,Soutez!B:D,3,FALSE)","v":2022},23,1820,0.94000000000000006,4554,4281,null,null,"ASW 20 W","BAS","Není v databázi"]
["Michael Wilden",null,null,"Luftsportverein Aachen e.V.",null,"Pribina Cup 2022 - Klub",{"$f":"VLOOKUP(F2494,Soutez!B:C,2,FALSE)","v":"SK"},{"$f":"VLOOKUP(F2494,Soutez!B:D,3,FALSE)","v":2022},24,1585,0.94000000000000006,3927,3691,null,null,"LS 7 WL","FOX","Není v databázi"]
["Kornel Negro",null,null,null,null,"Pribina Cup 2022 - Klub",{"$f":"VLOOKUP(F2495,Soutez!B:C,2,FALSE)","v":"SK"},{"$f":"VLOOKUP(F2495,Soutez!B:D,3,FALSE)","v":2022},25,1468,0.94000000000000006,3559,3345,null,null,"DG 202/15m","DK","Není v databázi"]
["Benedikt Sindermann",null,null,"Stölln/Rhinow e.V.",null,"Pribina Cup 2022 - Klub",{"$f":"VLOOKUP(F2496,Soutez!B:C,2,FALSE)","v":"SK"},{"$f":"VLOOKUP(F2496,Soutez!B:D,3,FALSE)","v":2022},26,1265,0.94000000000000006,3002,2822,null,null,"LS 1 f","1F","Není v databázi"]
["Stefan Schneider",null,null,"SFG Bensheim",null,"Pribina Cup 2022 - Klub",{"$f":"VLOOKUP(F2497,Soutez!B:C,2,FALSE)","v":"SK"},{"$f":"VLOOKUP(F2497,Soutez!B:D,3,FALSE)","v":2022},27,1199,0.94000000000000006,2745,2580,null,null,"Std. Cirrus","KT","Není v databázi"]
["Milos Horvat",null,null,null,null,"Pribina Cup 2022 - Klub",{"$f":"VLOOKUP(F2498,Soutez!B:C,2,FALSE)","v":"SK"},{"$f":"VLOOKUP(F2498,Soutez!B:D,3,FALSE)","v":2022},28,724,0.94000000000000006,1591,1496,null,null,"ASW 20 B","II","Není v databázi"]
["David Mach",{"$f":"VLOOKUP(A2499,Pilot,2,0)","v":1994},{"$f":"VLOOKUP(A2499,Pilot,5,0)","v":"M"},{"$f":"VLOOKUP(A2499,Pilot,3,0)","v":"Hronov"},{"$f":"VLOOKUP(A2499,Pilot,4,0)","v":"CZ/C2"},"Pribina Cup 2022 - Kombi 15m",{"$f":"VLOOKUP(F2499,Soutez!B:C,2,FALSE)","v":"SK"},{"$f":"VLOOKUP(F2499,Soutez!B:D,3,FALSE)","v":2022},1,3942,{"$f":"VLOOKUP(F2499,Soutez,12,0)","v":0.93},{"$f":"ROUND(J2499/MAX($J$2499:$J$2524)*10000*0.7+(MAX($I$2499:$I$2524)-I2499)/(MAX($I$2499:$I$2524)-1)*10000*0.3,0)","v":10000},{"$f":"ROUND(K2499*L2499,0)","v":9300},"x",null,"Ventus 2a/15m","AX",""]
["Max Maslak",null,null,null,null,"Pribina Cup 2022 - Kombi 15m",{"$f":"VLOOKUP(F2500,Soutez!B:C,2,FALSE)","v":"SK"},{"$f":"VLOOKUP(F2500,Soutez!B:D,3,FALSE)","v":2022},2,3866,{"$f":"VLOOKUP(F2500,Soutez,12,0)","v":0.93},9745,{"$f":"ROUND(K2500*L2500,0)","v":9063},null,null,"Discus 2T","OLC","Není v databázi"]
["Jan Schulz",null,null,null,null,"Pribina Cup 2022 - Kombi 15m",{"$f":"VLOOKUP(F2501,Soutez!B:C,2,FALSE)","v":"SK"},{"$f":"VLOOKUP(F2501,Soutez!B:D,3,FALSE)","v":2022},3,3623,0.93,9194,8550,null,null,"Discus 2T","BW3","Není v databázi"]
["Sebastian Nagel",null,null,null,null,"Pribina Cup 2022 - Kombi 15m",{"$f":"VLOOKUP(F2502,Soutez!B:C,2,FALSE)","v":"SK"},{"$f":"VLOOKUP(F2502,Soutez!B:D,3,FALSE)","v":2022},4,3564,0.93,8969,8341,null,null,"Discus 2a","XN","Není v databázi"]
["Tomasz Hornik",null,null,"Aeroklub Nadwislanski",null,"Pribina Cup 2022 - Kombi 15m",{"$f":"VLOOKUP(F2503,Soutez!B:C,2,FALSE)","v":"SK"},{"$f":"VLOOKUP(F2503,Soutez!B:D,3,FALSE)","v":2022},5,3530,0.93,8788,8173,null,null,"ASG 29/15m","PL","Není v databázi"]
["Lukasz Grabowski",null,null,null,null,"Pribina Cup 2022 - Kombi 15m",{"$f":"VLOOKUP(F2504,Soutez!B:C,2,FALSE)","v":"SK"},{"$f":"VLOOKUP(F2504,Soutez!B:D,3,FALSE)","v":2022},6,3526,0.93,8661,8055,null,null,"SZD 56 Diana2","RP","Není v databázi"]
["Patrick Benoist",null,null,null,null,"Pribina Cup 2022 - Kombi 15m",{"$f":"VLOOKUP(F2505,Soutez!B:C,2,FALSE)","v":"SK"},{"$f":"VLOOKUP(F2505,Soutez!B:D,3,FALSE)","v":2022},7,3478,0.93,8456,7864,null,null,"LS 8s","PB","Není v databázi"]
["Jan Kretzschmar",null,null,"Aero Club Lichtenfels",null,"Pribina Cup 2022 - Kombi 15m",{"$f":"VLOOKUP(F2506,Soutez!B:C,2,FALSE)","v":"SK"},{"$f":"VLOOKUP(F2506,Soutez!B:D,3,FALSE)","v":2022},8,3338,{"$f":"VLOOKUP(F2506,Soutez,12,0)","v":0.93},8087,7521,null,null,"LS 8a","JK","Není v databázi"]
["Daniel Bernhardt",null,null,null,null,"Pribina Cup 2022 - Kombi 15m",{"$f":"VLOOKUP(F2507,Soutez!B:C,2,FALSE)","v":"SK"},{"$f":"VLOOKUP(F2507,Soutez!B:D,3,FALSE)","v":2022},9,3278,0.93,7861,7311,null,null,"Discus 2T","BW2","Není v databázi"]
["Hannes Friederritzi",null,null,null,null,"Pribina Cup 2022 - Kombi 15m",{"$f":"VLOOKUP(F2508,Soutez!B:C,2,FALSE)","v":"SK"},{"$f":"VLOOKUP(F2508,Soutez!B:D,3,FALSE)","v":2022},10,3267,0.93,7721,{"$f":"ROUND(K2508*L2508,0)","v":7181},null,null,"Discus 2T","NW2","Není v databázi"]
["Ambrus Vancso",null,null,"Dunaferr",null,"Pribina Cup 2022 - Kombi 15m",{"$f":"VLOOKUP(F2509,Soutez!B:C,2,FALSE)","v":"SK"},{"$f":"VLOOKUP(F2509,Soutez!B:D,3,FALSE)","v":2022},11,3242,0.93,7557,7028,null,null,"Ventus bT/15m","RB","Není v databázi"]
["Clemens Berger",null,null,null,null,"Pribina Cup 2022 - Kombi 15m",{"$f":"VLOOKUP(F2510,Soutez!B:C,2,FALSE)","v":"SK"},{"$f":"VLOOKUP(F2510,Soutez!B:D,3,FALSE)","v":2022},12,3240,0.93,7433,6913,null,null,"LS 6a","8A","Není v databázi"]
["Wiktor Lacinski",null,null,"Aeroklub Ostrowski",null,"Pribina Cup 2022 - Kombi 15m",{"$f":"VLOOKUP(F2511,Soutez!B:C,2,FALSE)","v":"SK"},{"$f":"VLOOKUP(F2511,Soutez!B:D,3,FALSE)","v":2022},13,3196,0.93,7235,6729,null,null,"Discus 2a","L","Není v databázi"]
["Karol Snapko",null,null,"Aeroklub Nadwislanski",null,"Pribina Cup 2022 - Kombi 15m",{"$f":"VLOOKUP(F2512,Soutez!B:C,2,FALSE)","v":"SK"},{"$f":"VLOOKUP(F2512,Soutez!B:D,3,FALSE)","v":2022},14,3193,0.93,7110,6612,null,null,"Discus 2a","Y","Není v databázi"]
["Henrik Bieler",null,null,"Aeroclub Landau",null,"Pribina Cup 2022 - Kombi 15m",{"$f":"VLOOKUP(F2513,Soutez!B:C,2,FALSE)","v":"SK"},{"$f":"VLOOKUP(F2513,Soutez!B:D,3,FALSE)","v":2022},15,3173,0.93,6954,6467,null,null,"Ventus 2b","1G","Není v databázi"]
["Judyta Czyz",null,null,null,null,"Pribina Cup 2022 - Kombi 15m",{"$f":"VLOOKUP(F2514,Soutez!B:C,2,FALSE)","v":"SK"},{"$f":"VLOOKUP(F2514,Soutez!B:D,3,FALSE)","v":2022},16,2937,0.93,6415,5966,null,null,"LS 8a","MP","Není v databázi"]
["Kinga Tchorz",null,null,null,null,"Pribina Cup 2022 - Kombi 15m",{"$f":"VLOOKUP(F2515,Soutez!B:C,2,FALSE)","v":"SK"},{"$f":"VLOOKUP(F2515,Soutez!B:D,3,FALSE)","v":2022},17,2915,0.93,6256,5818,null,null,"LS 8","LOT","Není v databázi"]
["Dana Novakova",{"$f":"VLOOKUP(A2516,Pilot,2,0)","v":1965},{"$f":"VLOOKUP(A2516,Pilot,5,0)","v":"F"},{"$f":"VLOOKUP(A2516,Pilot,3,0)","v":"Mladá Boleslav"},{"$f":"VLOOKUP(A2516,Pilot,4,0)","v":"CZ/C1"},"Pribina Cup 2022 - Kombi 15m",{"$f":"VLOOKUP(F2516,Soutez!B:C,2,FALSE)","v":"SK"},{"$f":"VLOOKUP(F2516,Soutez!B:D,3,FALSE)","v":2022},18,2907,0.93,6122,5693,null,null,"LS 8a","AU",""]
["Jana Treslova",1963,"F","Raná","CZ/C2","Pribina Cup 2022 - Kombi 15m",{"$f":"VLOOKUP(F2517,Soutez!B:C,2,FALSE)","v":"SK"},{"$f":"VLOOKUP(F2517,Soutez!B:D,3,FALSE)","v":2022},19,2855,0.93,5910,5496,null,null,"Discus 2a","GX",""]
["Karel Novak",1993,"M","Mladá Boleslav","CZ/C1","Pribina Cup 2022 - Kombi 15m",{"$f":"VLOOKUP(F2518,Soutez!B:C,2,FALSE)","v":"SK"},{"$f":"VLOOKUP(F2518,Soutez!B:D,3,FALSE)","v":2022},20,2721,0.93,5552,5163,null,null,"JS 3/15m","ZE",""]
["Piotr Jarysz",null,null,"Aeroklub Leszczynski",null,"Pribina Cup 2022 - Kombi 15m",{"$f":"VLOOKUP(F2519,Soutez!B:C,2,FALSE)","v":"SK"},{"$f":"VLOOKUP(F2519,Soutez!B:D,3,FALSE)","v":2022},21,2325,0.93,4729,4398,null,null,"LS 6","BB","Není v databázi"]
["Aurélien Doriat",null,null,"ACP Poitiers",null,"Pribina Cup 2022 - Kombi 15m",{"$f":"VLOOKUP(F2520,Soutez!B:C,2,FALSE)","v":"SK"},{"$f":"VLOOKUP(F2520,Soutez!B:D,3,FALSE)","v":2022},22,2307,0.93,4577,4257,null,null,"LS 8","P1",{"$f":"IF(ISERROR(VLOOKUP(A2520,Pilot,6,0)),\"Není v databázi\",VLOOKUP(A2520,Pilot,6,0))","v":"Není v databázi"}]
["Maciej Walasek",null,null,"Aeroklub Krakowski",null,"Pribina Cup 2022 - Kombi 15m",{"$f":"VLOOKUP(F2521,Soutez!B:C,2,FALSE)","v":"SK"},{"$f":"VLOOKUP(F2521,Soutez!B:D,3,FALSE)","v":2022},23,2085,0.93,4062,3778,null,null,"LS 6c/15m","KK","Není v databázi"]
["Tomasz Królik",null,null,null,null,"Pribina Cup 2022 - Kombi 15m",{"$f":"VLOOKUP(F2522,Soutez!B:C,2,FALSE)","v":"SK"},{"$f":"VLOOKUP(F2522,Soutez!B:D,3,FALSE)","v":2022},24,1811,0.93,3456,3214,null,null,"Ventus a WL","TT","Není v databázi"]
["Philip Joens",null,null,null,null,"Pribina Cup 2022 - Kombi 15m",{"$f":"VLOOKUP(F2523,Soutez!B:C,2,FALSE)","v":"SK"},{"$f":"VLOOKUP(F2523,Soutez!B:D,3,FALSE)","v":2022},25,1777,0.93,3276,3047,null,null,"LS 7 WL","AP","Není v databázi"]
["Istvan Reti",null,null,null,null,"Pribina Cup 2022 - Kombi 15m",{"$f":"VLOOKUP(F2524,Soutez!B:C,2,FALSE)","v":"SK"},{"$f":"VLOOKUP(F2524,Soutez!B:D,3,FALSE)","v":2022},26,1687,0.93,2996,2786,null,null,"Ventus b/15m","G6","Není v databázi"]
["Wim Akkermans",null,null,null,null,"Pribina Cup 2022 - Kombi Open",{"$f":"VLOOKUP(F2525,Soutez!B:C,2,FALSE)","v":"SK"},{"$f":"VLOOKUP(F2525,Soutez!B:D,3,FALSE)","v":2022},1,3844,{"$f":"VLOOKUP(F2525,Soutez,12,0)","v":0.95000000000000007},{"$f":"ROUND(J2525/MAX($J$2525:$J$2570)*10000*0.7+(MAX($I$2525:$I$2570)-I2525)/(MAX($I$2525:$I$2570)-1)*10000*0.3,0)","v":10000},{"$f":"ROUND(K2525*L2525,0)","v":9500},null,null,"Ventus 3F/18m","LC","Není v databázi"]
["Radek Krejcirik",{"$f":"VLOOKUP(A2526,Pilot,2,0)","v":1991},{"$f":"VLOOKUP(A2526,Pilot,5,0)","v":"M"},{"$f":"VLOOKUP(A2526,Pilot,3,0)","v":"Hranice"},{"$f":"VLOOKUP(A2526,Pilot,4,0)","v":"CZ/M"},"Pribina Cup 2022 - Kombi Open",{"$f":"VLOOKUP(F2526,Soutez!B:C,2,FALSE)","v":"SK"},{"$f":"VLOOKUP(F2526,Soutez!B:D,3,FALSE)","v":2022},2,3844,{"$f":"VLOOKUP(F2526,Soutez,12,0)","v":0.95000000000000007},9933,{"$f":"ROUND(K2526*L2526,0)","v":9436},null,null,"JS 1-C 21","ZF",""]
["Matthias Sturm",null,null,"LSV Schwarzwald",null,"Pribina Cup 2022 - Kombi Open",{"$f":"VLOOKUP(F2527,Soutez!B:C,2,FALSE)","v":"SK"},{"$f":"VLOOKUP(F2527,Soutez!B:D,3,FALSE)","v":2022},3,3753,0.95000000000000007,9701,9216,null,null,"JS 3/18m","M9","Není v databázi"]
["Leszek Staryszak",null,null,"Warsaw",null,"Pribina Cup 2022 - Kombi Open",{"$f":"VLOOKUP(F2528,Soutez!B:C,2,FALSE)","v":"SK"},{"$f":"VLOOKUP(F2528,Soutez!B:D,3,FALSE)","v":2022},4,3673,0.95000000000000007,9489,9015,null,null,"ASG 29/18m","BGI","Není v databázi"]
["Enrique Levin",null,null,"LSV Homberg/Ohm",null,"Pribina Cup 2022 - Kombi Open",{"$f":"VLOOKUP(F2529,Soutez!B:C,2,FALSE)","v":"SK"},{"$f":"VLOOKUP(F2529,Soutez!B:D,3,FALSE)","v":2022},5,3636,0.95000000000000007,9355,8887,null,null,"EB 29R","EL","Není v databázi"]
["Zdislaw Bednarczuk",null,null,null,null,"Pribina Cup 2022 - Kombi Open",{"$f":"VLOOKUP(F2530,Soutez!B:C,2,FALSE)","v":"SK"},{"$f":"VLOOKUP(F2530,Soutez!B:D,3,FALSE)","v":2022},6,3600,0.95000000000000007,9222,8761,null,null,"JS 3/18m","ZB","Není v databázi"]
["Zoltan Hamar",null,null,null,null,"Pribina Cup 2022 - Kombi Open",{"$f":"VLOOKUP(F2531,Soutez!B:C,2,FALSE)","v":"SK"},{"$f":"VLOOKUP(F2531,Soutez!B:D,3,FALSE)","v":2022},7,3580,0.95000000000000007,9119,8663,null,null,"JS 3/18m","7A","Není v databázi"]
["Toni Kittler",null,null,"FSV Mössingen",null,"Pribina Cup 2022 - Kombi Open",{"$f":"VLOOKUP(F2532,Soutez!B:C,2,FALSE)","v":"SK"},{"$f":"VLOOKUP(F2532,Soutez!B:D,3,FALSE)","v":2022},8,3562,0.95000000000000007,9020,8569,null,null,"Ventus 3/18m","IYB","Není v databázi"]
["Thomas Wettemann",null,null,"Fliegergruppe Neckartal-Koengen e.V.",null,"Pribina Cup 2022 - Kombi Open",{"$f":"VLOOKUP(F2533,Soutez!B:C,2,FALSE)","v":"SK"},{"$f":"VLOOKUP(F2533,Soutez!B:D,3,FALSE)","v":2022},9,3530,0.95000000000000007,8895,8450,null,null,"JS 3/18m","EA","Není v databázi"]
["Simon Briel",null,null,null,null,"Pribina Cup 2022 - Kombi Open",{"$f":"VLOOKUP(F2534,Soutez!B:C,2,FALSE)","v":"SK"},{"$f":"VLOOKUP(F2534,Soutez!B:D,3,FALSE)","v":2022},10,3504,0.95000000000000007,8781,8342,null,null,"EB 28/28,3m","IGO","Není v databázi"]
["Jernej Lokovsek",null,null,"Aeroklub ALC Lesce",null,"Pribina Cup 2022 - Kombi Open",{"$f":"VLOOKUP(F2535,Soutez!B:C,2,FALSE)","v":"SK"},{"$f":"VLOOKUP(F2535,Soutez!B:D,3,FALSE)","v":2022},11,3491,0.95000000000000007,8691,8256,null,null,"JS 3/18m","NL","Není v databázi"]
["Andreas Lutz",null,null,"SFC-Ried; Akaflieg Muenchen; FG Wolf Hirth",null,"Pribina Cup 2022 - Kombi Open",{"$f":"VLOOKUP(F2536,Soutez!B:C,2,FALSE)","v":"SK"},{"$f":"VLOOKUP(F2536,Soutez!B:D,3,FALSE)","v":2022},11,3491,0.95000000000000007,8691,8256,null,null,"Ventus 3/18m","A","Není v databázi"]
["Petr Krejcirik",{"$f":"VLOOKUP(A2537,Pilot,2,0)","v":1960},{"$f":"VLOOKUP(A2537,Pilot,5,0)","v":"M"},{"$f":"VLOOKUP(A2537,Pilot,3,0)","v":"Hranice"},{"$f":"VLOOKUP(A2537,Pilot,4,0)","v":"CZ/M"},"Pribina Cup 2022 - Kombi Open",{"$f":"VLOOKUP(F2537,Soutez!B:C,2,FALSE)","v":"SK"},{"$f":"VLOOKUP(F2537,Soutez!B:D,3,FALSE)","v":2022},13,3473,{"$f":"VLOOKUP(F2537,Soutez,12,0)","v":0.95000000000000007},8524,8098,"x",null,"AS 33 Es/18m",12,""]
["Luka Znidarsic",null,null,"Ak Postojna",null,"Pribina Cup 2022 - Kombi Open",{"$f":"VLOOKUP(F2538,Soutez!B:C,2,FALSE)","v":"SK"},{"$f":"VLOOKUP(F2538,Soutez!B:D,3,FALSE)","v":2022},13,3473,0.95000000000000007,8524,8098,null,null,"Ventus 3F/18m","LZ","Není v databázi"]
["Nils Fecker",null,null,"Luftsportgruppe Erbslöh Langenfeld e.V.",null,"Pribina Cup 2022 - Kombi Open",{"$f":"VLOOKUP(F2539,Soutez!B:C,2,FALSE)","v":"SK"},{"$f":"VLOOKUP(F2539,Soutez!B:D,3,FALSE)","v":2022},15,3471,0.95000000000000007,8387,{"$f":"ROUND(K2539*L2539,0)","v":7968},null,null,"Ventus 3/18m","3V","Není v databázi"]
["Ivan Novak",{"$f":"VLOOKUP(A2540,Pilot,2,0)","v":1962},{"$f":"VLOOKUP(A2540,Pilot,5,0)","v":"M"},{"$f":"VLOOKUP(A2540,Pilot,3,0)","v":"Mladá Boleslav"},{"$f":"VLOOKUP(A2540,Pilot,4,0)","v":"CZ/C1"},"Pribina Cup 2022 - Kombi Open",{"$f":"VLOOKUP(F2540,Soutez!B:C,2,FALSE)","v":"SK"},{"$f":"VLOOKUP(F2540,Soutez!B:D,3,FALSE)","v":2022},16,3433,0.95000000000000007,8252,7839,null,null,"ASG 29/18m","QZ",""]
["Marius Stelzer",null,null,null,null,"Pribina Cup 2022 - Kombi Open",{"$f":"VLOOKUP(F2541,Soutez!B:C,2,FALSE)","v":"SK"},{"$f":"VLOOKUP(F2541,Soutez!B:D,3,FALSE)","v":2022},17,3316,0.95000000000000007,7972,7573,null,null,"Discus 2c FES/18m","FES","Není v databázi"]
["Marek Sawczuk",null,null,"Aeroklub Warszawski",null,"Pribina Cup 2022 - Kombi Open",{"$f":"VLOOKUP(F2542,Soutez!B:C,2,FALSE)","v":"SK"},{"$f":"VLOOKUP(F2542,Soutez!B:D,3,FALSE)","v":2022},18,3295,0.95000000000000007,7867,7474,null,null,"ASG 29/18m","MS","Není v databázi"]
["Nik Salej",null,null,"Aeroklub Celje",null,"Pribina Cup 2022 - Kombi Open",{"$f":"VLOOKUP(F2543,Soutez!B:C,2,FALSE)","v":"SK"},{"$f":"VLOOKUP(F2543,Soutez!B:D,3,FALSE)","v":2022},19,3170,0.95000000000000007,7573,7194,null,null,"JS 3/18m","XD","Není v databázi"]
["Ondrej Dupal",{"$f":"VLOOKUP(A2544,Pilot,2,0)","v":1966},{"$f":"VLOOKUP(A2544,Pilot,5,0)","v":"M"},{"$f":"VLOOKUP(A2544,Pilot,3,0)","v":"GAC Benešov"},{"$f":"VLOOKUP(A2544,Pilot,4,0)","v":"CZ/C1"},"Pribina Cup 2022 - Kombi Open",{"$f":"VLOOKUP(F2544,Soutez!B:C,2,FALSE)","v":"SK"},{"$f":"VLOOKUP(F2544,Soutez!B:D,3,FALSE)","v":2022},20,3162,0.95000000000000007,7491,7116,"x",null,"ASG 29/18m","GOL",""]
["Andreas Sandhöfner",null,null,"FSK Sturmvogel",null,"Pribina Cup 2022 - Kombi Open",{"$f":"VLOOKUP(F2545,Soutez!B:C,2,FALSE)","v":"SK"},{"$f":"VLOOKUP(F2545,Soutez!B:D,3,FALSE)","v":2022},21,3133,0.95000000000000007,7372,7003,null,null,"ASG 29/18m","AY","Není v databázi"]
["Erazem Polutnik",null,null,"Aeroclub Celje",null,"Pribina Cup 2022 - Kombi Open",{"$f":"VLOOKUP(F2546,Soutez!B:C,2,FALSE)","v":"SK"},{"$f":"VLOOKUP(F2546,Soutez!B:D,3,FALSE)","v":2022},22,3123,0.95000000000000007,7287,6923,null,null,"Ventus 3/18m","EM","Není v databázi"]
["Viliam Kubovcik",null,null,"AK Poprad",null,"Pribina Cup 2022 - Kombi Open",{"$f":"VLOOKUP(F2547,Soutez!B:C,2,FALSE)","v":"SK"},{"$f":"VLOOKUP(F2547,Soutez!B:D,3,FALSE)","v":2022},22,3123,0.95000000000000007,7287,6923,null,null,"Ventus 2cx/18m","VV","Není v databázi"]
["Christian Hynek",null,null,"ASKÖ Flugsport Wien",null,"Pribina Cup 2022 - Kombi Open",{"$f":"VLOOKUP(F2548,Soutez!B:C,2,FALSE)","v":"SK"},{"$f":"VLOOKUP(F2548,Soutez!B:D,3,FALSE)","v":2022},24,3106,0.95000000000000007,7123,6767,null,null,"EB 29DR-28m","DD","Není v databázi"]
["Jan Kovalcik",null,null,null,null,"Pribina Cup 2022 - Kombi Open",{"$f":"VLOOKUP(F2549,Soutez!B:C,2,FALSE)","v":"SK"},{"$f":"VLOOKUP(F2549,Soutez!B:D,3,FALSE)","v":2022},25,3088,0.95000000000000007,7023,6672,null,null,"Discus 2c FES/18m","ZI","Není v databázi"]
["Jan Umlauf",null,null,"HAC Boberg",null,"Pribina Cup 2022 - Kombi Open",{"$f":"VLOOKUP(F2550,Soutez!B:C,2,FALSE)","v":"SK"},{"$f":"VLOOKUP(F2550,Soutez!B:D,3,FALSE)","v":2022},26,3078,0.95000000000000007,6938,6591,null,null,"JS 3/18m","XC","Není v databázi"]
["Sebastian Huhmann",null,null,"HAC Boberg",null,"Pribina Cup 2022 - Kombi Open",{"$f":"VLOOKUP(F2551,Soutez!B:C,2,FALSE)","v":"SK"},{"$f":"VLOOKUP(F2551,Soutez!B:D,3,FALSE)","v":2022},27,3067,0.95000000000000007,6852,6509,null,null,"AS 33 Es/18m","2U","Není v databázi"]
["Miha Berginc",null,null,"Aeroklub Celje",null,"Pribina Cup 2022 - Kombi Open",{"$f":"VLOOKUP(F2552,Soutez!B:C,2,FALSE)","v":"SK"},{"$f":"VLOOKUP(F2552,Soutez!B:D,3,FALSE)","v":2022},28,3045,0.95000000000000007,6745,6408,null,null,"ASG 29/18m","BER","Není v databázi"]
["Werner Danz",null,null,null,null,"Pribina Cup 2022 - Kombi Open",{"$f":"VLOOKUP(F2553,Soutez!B:C,2,FALSE)","v":"SK"},{"$f":"VLOOKUP(F2553,Soutez!B:D,3,FALSE)","v":2022},29,2988,0.95000000000000007,6575,6246,null,null,"Antares 18T","BT","Není v databázi"]
["Renè Schënmann",null,null,null,null,"Pribina Cup 2022 - Kombi Open",{"$f":"VLOOKUP(F2554,Soutez!B:C,2,FALSE)","v":"SK"},{"$f":"VLOOKUP(F2554,Soutez!B:D,3,FALSE)","v":2022},30,2971,0.95000000000000007,6477,6153,null,null,"JS 1-C 21","LI","Není v databázi"]
["Svend Andersen",null,null,null,null,"Pribina Cup 2022 - Kombi Open",{"$f":"VLOOKUP(F2555,Soutez!B:C,2,FALSE)","v":"SK"},{"$f":"VLOOKUP(F2555,Soutez!B:D,3,FALSE)","v":2022},31,2967,0.95000000000000007,6403,6083,null,null,"AS 33 Es/18m","2C","Není v databázi"]
["Hana Treslova",{"$f":"VLOOKUP(A2556,Pilot,2,0)","v":1991},{"$f":"VLOOKUP(A2556,Pilot,5,0)","v":"F"},{"$f":"VLOOKUP(A2556,Pilot,3,0)","v":"Raná"},{"$f":"VLOOKUP(A2556,Pilot,4,0)","v":"CZ/C2"},"Pribina Cup 2022 - Kombi Open",{"$f":"VLOOKUP(F2556,Soutez!B:C,2,FALSE)","v":"SK"},{"$f":"VLOOKUP(F2556,Soutez!B:D,3,FALSE)","v":2022},32,2859,0.95000000000000007,6140,5833,null,null,"JS 3/18m","XM",""]
["Nils Heck",null,null,null,null,"Pribina Cup 2022 - Kombi Open",{"$f":"VLOOKUP(F2557,Soutez!B:C,2,FALSE)","v":"SK"},{"$f":"VLOOKUP(F2557,Soutez!B:D,3,FALSE)","v":2022},33,2815,0.95000000000000007,5993,5693,null,null,"Nimbus 4","EP","Není v databázi"]
["Miguel Schwan",null,null,null,null,"Pribina Cup 2022 - Kombi Open",{"$f":"VLOOKUP(F2558,Soutez!B:C,2,FALSE)","v":"SK"},{"$f":"VLOOKUP(F2558,Soutez!B:D,3,FALSE)","v":2022},34,2788,{"$f":"VLOOKUP(F2558,Soutez,12,0)","v":0.95000000000000007},5877,5583,null,null,"Ventus 2cx/18m","CX","Není v databázi"]
["Petr Setka",{"$f":"VLOOKUP(A2559,Pilot,2,0)","v":1971},{"$f":"VLOOKUP(A2559,Pilot,5,0)","v":"M"},{"$f":"VLOOKUP(A2559,Pilot,3,0)","v":"Letkov"},{"$f":"VLOOKUP(A2559,Pilot,4,0)","v":"CZ/C1"},"Pribina Cup 2022 - Kombi Open",{"$f":"VLOOKUP(F2559,Soutez!B:C,2,FALSE)","v":"SK"},{"$f":"VLOOKUP(F2559,Soutez!B:D,3,FALSE)","v":2022},35,2776,0.95000000000000007,5788,5499,"x",null,"Ventus 2cx/18m","RS",""]
["Henning Kjersgaard Nielsen",null,null,"Midtsjaellands Svaeveflyveklub",null,"Pribina Cup 2022 - Kombi Open",{"$f":"VLOOKUP(F2560,Soutez!B:C,2,FALSE)","v":"SK"},{"$f":"VLOOKUP(F2560,Soutez!B:D,3,FALSE)","v":2022},36,2591,{"$f":"VLOOKUP(F2560,Soutez,12,0)","v":0.95000000000000007},5385,5116,null,null,"Ventus 3/18m","I","Není v databázi"]
["Marek Pechanec",{"$f":"VLOOKUP(A2561,Pilot,2,0)","v":1970},{"$f":"VLOOKUP(A2561,Pilot,5,0)","v":"M"},{"$f":"VLOOKUP(A2561,Pilot,3,0)","v":"Luhačovice"},{"$f":"VLOOKUP(A2561,Pilot,4,0)","v":"CZ/M"},"Pribina Cup 2022 - Kombi Open",{"$f":"VLOOKUP(F2561,Soutez!B:C,2,FALSE)","v":"SK"},{"$f":"VLOOKUP(F2561,Soutez!B:D,3,FALSE)","v":2022},37,2495,0.95000000000000007,5143,4886,"x",null,"JS 3/18m","Q1",""]
["Peter Pokorny",null,null,"Bratislava",null,"Pribina Cup 2022 - Kombi Open",{"$f":"VLOOKUP(F2562,Soutez!B:C,2,FALSE)","v":"SK"},{"$f":"VLOOKUP(F2562,Soutez!B:D,3,FALSE)","v":2022},38,2400,0.95000000000000007,4904,{"$f":"ROUND(K2562*L2562,0)","v":4659},null,null,"ASG 29/18m","9E","Není v databázi"]
["Thomas Hynek",null,null,"Flugschule ASKÖ Wien",null,"Pribina Cup 2022 - Kombi Open",{"$f":"VLOOKUP(F2563,Soutez!B:C,2,FALSE)","v":"SK"},{"$f":"VLOOKUP(F2563,Soutez!B:D,3,FALSE)","v":2022},39,2327,0.95000000000000007,4704,4469,null,null,"Ventus 2cM/18m","CC","Není v databázi"]
["Sorin Lingureanu",null,null,"Tampereen Ilmailuyhdistys",null,"Pribina Cup 2022 - Kombi Open",{"$f":"VLOOKUP(F2564,Soutez!B:C,2,FALSE)","v":"SK"},{"$f":"VLOOKUP(F2564,Soutez!B:D,3,FALSE)","v":2022},40,2293,0.95000000000000007,4576,4347,null,null,"Ventus 2c/18m","TD","Není v databázi"]
["Nicolas Bernhard",null,null,"AAPCA Fayence",null,"Pribina Cup 2022 - Kombi Open",{"$f":"VLOOKUP(F2565,Soutez!B:C,2,FALSE)","v":"SK"},{"$f":"VLOOKUP(F2565,Soutez!B:D,3,FALSE)","v":2022},41,2254,0.95000000000000007,4438,4216,null,null,"JS 1 18m","JD","Není v databázi"]
["Mathias Muench",null,null,"Alpenflugzentrum Unterwossen",null,"Pribina Cup 2022 - Kombi Open",{"$f":"VLOOKUP(F2566,Soutez!B:C,2,FALSE)","v":"SK"},{"$f":"VLOOKUP(F2566,Soutez!B:D,3,FALSE)","v":2022},42,2113,0.95000000000000007,4114,3908,null,null,"DG 800/18m","MU","Není v databázi"]
["Lukas Benedikt",null,null,"AK Trnava",null,"Pribina Cup 2022 - Kombi Open",{"$f":"VLOOKUP(F2567,Soutez!B:C,2,FALSE)","v":"SK"},{"$f":"VLOOKUP(F2567,Soutez!B:D,3,FALSE)","v":2022},43,1867,0.95000000000000007,3600,3420,null,null,"Ventus 3F/18m","LB","Není v databázi"]
["Hansen & Gevad",null,null,null,null,"Pribina Cup 2022 - Kombi Open",{"$f":"VLOOKUP(F2568,Soutez!B:C,2,FALSE)","v":"SK"},{"$f":"VLOOKUP(F2568,Soutez!B:D,3,FALSE)","v":2022},44,844,0.95000000000000007,1670,1587,null,null,"Nimbus 4DM","UFO","Není v databázi"]
["Martin Picka",{"$f":"VLOOKUP(A2569,Pilot,2,0)","v":1974},{"$f":"VLOOKUP(A2569,Pilot,5,0)","v":"M"},{"$f":"VLOOKUP(A2569,Pilot,3,0)","v":"Tábor"},{"$f":"VLOOKUP(A2569,Pilot,4,0)","v":"CZ/C1"},"Pribina Cup 2022 - Kombi Open",{"$f":"VLOOKUP(F2569,Soutez!B:C,2,FALSE)","v":"SK"},{"$f":"VLOOKUP(F2569,Soutez!B:D,3,FALSE)","v":2022},45,508,0.95000000000000007,992,942,"x",null,"Ventus 2c/18m","CXI",""]
["Botond Szabadfi",null,null,"Malev Aeroclub LHDK",null,"Pribina Cup 2022 - Kombi Open",{"$f":"VLOOKUP(F2570,Soutez!B:C,2,FALSE)","v":"SK"},{"$f":"VLOOKUP(F2570,Soutez!B:D,3,FALSE)","v":2022},46,84,0.95000000000000007,153,145,null,null,"Nimbus 4DM","XXL","Není v databázi"]
["Istvan Balog",null,null,"HOSESZ",null,"Flatland Cup 2022 - Klub",{"$f":"VLOOKUP(F2571,Soutez!B:C,2,FALSE)","v":"SK"},{"$f":"VLOOKUP(F2571,Soutez!B:D,3,FALSE)","v":2022},1,5129,{"$f":"VLOOKUP(F2571,Soutez,12,0)","v":0.94000000000000006},{"$f":"ROUND(J2571/MAX($J$2571:$J$2603)*10000*0.7+(MAX($I$2571:$I$2603)-I2571)/(MAX($I$2571:$I$2603)-1)*10000*0.3,0)","v":10000},{"$f":"ROUND(K2571*L2571,0)","v":9400},null,null,"LS 3a","TP",{"$f":"IF(ISERROR(VLOOKUP(A2571,Pilot,6,0)),\"Není v databázi\",VLOOKUP(A2571,Pilot,6,0))","v":"Není v databázi"}]
["Krisztian Kovacs",null,null,"HOSESZ",null,"Flatland Cup 2022 - Klub",{"$f":"VLOOKUP(F2572,Soutez!B:C,2,FALSE)","v":"SK"},{"$f":"VLOOKUP(F2572,Soutez!B:D,3,FALSE)","v":2022},2,5117,{"$f":"VLOOKUP(F2572,Soutez,12,0)","v":0.94000000000000006},9890,{"$f":"ROUND(K2572*L2572,0)","v":9297},null,null,"LS 3a","EC","Není v databázi"]
["Peter Kassai",null,null,"MALÉV RK",null,"Flatland Cup 2022 - Klub",{"$f":"VLOOKUP(F2573,Soutez!B:C,2,FALSE)","v":"SK"},{"$f":"VLOOKUP(F2573,Soutez!B:D,3,FALSE)","v":2022},3,4857,0.94000000000000006,9441,8875,null,null,"Discus","7W","Není v databázi"]
["Tamas Mayer",null,null,"MALÉV RK",null,"Flatland Cup 2022 - Klub",{"$f":"VLOOKUP(F2574,Soutez!B:C,2,FALSE)","v":"SK"},{"$f":"VLOOKUP(F2574,Soutez!B:D,3,FALSE)","v":2022},4,4739,0.94000000000000006,9186,8635,null,null,"ASW 20","RZi","Není v databázi"]
["Balazs Endrodi",null,null,"MÁV SE",null,"Flatland Cup 2022 - Klub",{"$f":"VLOOKUP(F2575,Soutez!B:C,2,FALSE)","v":"SK"},{"$f":"VLOOKUP(F2575,Soutez!B:D,3,FALSE)","v":2022},5,4707,0.94000000000000006,9049,8506,null,null,"ASW 20","M6","Není v databázi"]
["Attila Keczan",null,null,"Aero Klub Debrecen",null,"Flatland Cup 2022 - Klub",{"$f":"VLOOKUP(F2576,Soutez!B:C,2,FALSE)","v":"SK"},{"$f":"VLOOKUP(F2576,Soutez!B:D,3,FALSE)","v":2022},6,4691,0.94000000000000006,8933,8397,null,null,"Mini Nimbus, C","MI","Není v databázi"]
["Zoltan Foldi",null,null,"ARK",null,"Flatland Cup 2022 - Klub",{"$f":"VLOOKUP(F2577,Soutez!B:C,2,FALSE)","v":"SK"},{"$f":"VLOOKUP(F2577,Soutez!B:D,3,FALSE)","v":2022},7,4685,0.94000000000000006,8832,8302,null,null,"Jantar Std. 2","ZP","Není v databázi"]
["Michal Lesinger",{"$f":"VLOOKUP(A2578,Pilot,2,0)","v":1966},{"$f":"VLOOKUP(A2578,Pilot,5,0)","v":"M"},{"$f":"VLOOKUP(A2578,Pilot,3,0)","v":"Moravská Třebová"},{"$f":"VLOOKUP(A2578,Pilot,4,0)","v":"CZ/M"},"Flatland Cup 2022 - Klub",{"$f":"VLOOKUP(F2578,Soutez!B:C,2,FALSE)","v":"SK"},{"$f":"VLOOKUP(F2578,Soutez!B:D,3,FALSE)","v":2022},8,4675,0.94000000000000006,8724,8201,null,null,"ASW 20","LL",""]
["Jeno Vörös",null,null,"Délvidéki Aero Club 1930.",null,"Flatland Cup 2022 - Klub",{"$f":"VLOOKUP(F2579,Soutez!B:C,2,FALSE)","v":"SK"},{"$f":"VLOOKUP(F2579,Soutez!B:D,3,FALSE)","v":2022},9,4673,0.94000000000000006,8628,8110,null,null,"LS 1-f","VR","Není v databázi"]
["Barnabas Tóth",null,null,"SZRK",null,"Flatland Cup 2022 - Klub",{"$f":"VLOOKUP(F2580,Soutez!B:C,2,FALSE)","v":"SK"},{"$f":"VLOOKUP(F2580,Soutez!B:D,3,FALSE)","v":2022},10,4660,0.94000000000000006,8516,8005,null,null,"ASW 20","NY","Není v databázi"]
["Balazs Laktis",null,null,"MÁV SE",null,"Flatland Cup 2022 - Klub",{"$f":"VLOOKUP(F2581,Soutez!B:C,2,FALSE)","v":"SK"},{"$f":"VLOOKUP(F2581,Soutez!B:D,3,FALSE)","v":2022},11,4656,0.94000000000000006,8417,7912,null,null,"Discus","M5","Není v databázi"]
["Sandor Laurinyecz",null,null,"Kvasz András RE",null,"Flatland Cup 2022 - Klub",{"$f":"VLOOKUP(F2582,Soutez!B:C,2,FALSE)","v":"SK"},{"$f":"VLOOKUP(F2582,Soutez!B:D,3,FALSE)","v":2022},12,4651,0.94000000000000006,8316,7817,null,null,"Jantar Std. 2",91,"Není v databázi"]
["Zsombor Wéber",null,null,"ARK",null,"Flatland Cup 2022 - Klub",{"$f":"VLOOKUP(F2583,Soutez!B:C,2,FALSE)","v":"SK"},{"$f":"VLOOKUP(F2583,Soutez!B:D,3,FALSE)","v":2022},13,4648,0.94000000000000006,8219,7726,null,null,"ASW 20",18,"Není v databázi"]
["Adam Kapuy",null,null,"MSE",null,"Flatland Cup 2022 - Klub",{"$f":"VLOOKUP(F2584,Soutez!B:C,2,FALSE)","v":"SK"},{"$f":"VLOOKUP(F2584,Soutez!B:D,3,FALSE)","v":2022},14,4632,0.94000000000000006,8103,7617,null,null,"LS 4","GJ","Není v databázi"]
["Tibor Fratrik",null,null,"SGC Martin",null,"Flatland Cup 2022 - Klub",{"$f":"VLOOKUP(F2585,Soutez!B:C,2,FALSE)","v":"SK"},{"$f":"VLOOKUP(F2585,Soutez!B:D,3,FALSE)","v":2022},15,4577,0.94000000000000006,7934,7458,null,null,"ASW 20","VG","Není v databázi"]
["Dylan Osolian",null,null,"Skövde Flygklubb",null,"Flatland Cup 2022 - Klub",{"$f":"VLOOKUP(F2586,Soutez!B:C,2,FALSE)","v":"SK"},{"$f":"VLOOKUP(F2586,Soutez!B:D,3,FALSE)","v":2022},16,4421,{"$f":"VLOOKUP(F2586,Soutez,12,0)","v":0.94000000000000006},7627,7169,null,null,"LS 3a","CP","Není v databázi"]
["Andras Schieber",null,null,"Aeroklub Farkashegy",null,"Flatland Cup 2022 - Klub",{"$f":"VLOOKUP(F2587,Soutez!B:C,2,FALSE)","v":"SK"},{"$f":"VLOOKUP(F2587,Soutez!B:D,3,FALSE)","v":2022},17,4412,0.94000000000000006,7521,7070,null,null,"ASW 20","BAS","Není v databázi"]
["Edmund Schuller",null,null,null,null,"Flatland Cup 2022 - Klub",{"$f":"VLOOKUP(F2588,Soutez!B:C,2,FALSE)","v":"SK"},{"$f":"VLOOKUP(F2588,Soutez!B:D,3,FALSE)","v":2022},18,4339,0.94000000000000006,7328,{"$f":"ROUND(K2588*L2588,0)","v":6888},null,null,"ASW 24","ZS","Není v databázi"]
["Géza Molnar",null,null,"ARK",null,"Flatland Cup 2022 - Klub",{"$f":"VLOOKUP(F2589,Soutez!B:C,2,FALSE)","v":"SK"},{"$f":"VLOOKUP(F2589,Soutez!B:D,3,FALSE)","v":2022},19,4305,0.94000000000000006,7188,6757,null,null,"LS 3a","7T","Není v databázi"]
["Zoltan Suranyi",null,null,"HOSESZ",null,"Flatland Cup 2022 - Klub",{"$f":"VLOOKUP(F2590,Soutez!B:C,2,FALSE)","v":"SK"},{"$f":"VLOOKUP(F2590,Soutez!B:D,3,FALSE)","v":2022},20,4251,0.94000000000000006,7020,6599,null,null,"ASW 20","X34","Není v databázi"]
["Karoly Borosnyay",null,null,"MALÉV RK",null,"Flatland Cup 2022 - Klub",{"$f":"VLOOKUP(F2591,Soutez!B:C,2,FALSE)","v":"SK"},{"$f":"VLOOKUP(F2591,Soutez!B:D,3,FALSE)","v":2022},21,4095,0.94000000000000006,6714,6311,null,null,"Janus C FG","DDi","Není v databázi"]
["Maté Mészaros",null,null,"Dunaferr RK",null,"Flatland Cup 2022 - Klub",{"$f":"VLOOKUP(F2592,Soutez!B:C,2,FALSE)","v":"SK"},{"$f":"VLOOKUP(F2592,Soutez!B:D,3,FALSE)","v":2022},22,4066,0.94000000000000006,6580,6185,null,null,"ASW 19","DB","Není v databázi"]
["Zsolt Balogh",null,null,"Albatrosz VE",null,"Flatland Cup 2022 - Klub",{"$f":"VLOOKUP(F2593,Soutez!B:C,2,FALSE)","v":"SK"},{"$f":"VLOOKUP(F2593,Soutez!B:D,3,FALSE)","v":2022},23,4062,0.94000000000000006,6481,6092,null,null,"ASW 20","NB","Není v databázi"]
["Istvan Vig",null,null,"Aeroclub Hajdúszoboszló",null,"Flatland Cup 2022 - Klub",{"$f":"VLOOKUP(F2594,Soutez!B:C,2,FALSE)","v":"SK"},{"$f":"VLOOKUP(F2594,Soutez!B:D,3,FALSE)","v":2022},24,4054,0.94000000000000006,6377,5994,null,null,"ASW 20","AD","Není v databázi"]
["Csaba Oltvai",null,null,"Délvidéki Aero Club 1930.",null,"Flatland Cup 2022 - Klub",{"$f":"VLOOKUP(F2595,Soutez!B:C,2,FALSE)","v":"SK"},{"$f":"VLOOKUP(F2595,Soutez!B:D,3,FALSE)","v":2022},25,3786,0.94000000000000006,5917,5562,null,null,"Std. Cirrus",52,"Není v databázi"]
["Andras Oswald",null,null,"Szentesi Repülőklub",null,"Flatland Cup 2022 - Klub",{"$f":"VLOOKUP(F2596,Soutez!B:C,2,FALSE)","v":"SK"},{"$f":"VLOOKUP(F2596,Soutez!B:D,3,FALSE)","v":2022},26,3579,0.94000000000000006,5541,5209,null,null,"LS 3a","CH","Není v databázi"]
["Jozsef Tornyai",null,null,"MALÉV RK",null,"Flatland Cup 2022 - Klub",{"$f":"VLOOKUP(F2597,Soutez!B:C,2,FALSE)","v":"SK"},{"$f":"VLOOKUP(F2597,Soutez!B:D,3,FALSE)","v":2022},27,3527,0.94000000000000006,5376,5053,null,null,"LS 3a","BY","Není v databázi"]
["Lilla Szamosujvari",null,null,"Aeroclub Hajdúszoboszló",null,"Flatland Cup 2022 - Klub",{"$f":"VLOOKUP(F2598,Soutez!B:C,2,FALSE)","v":"SK"},{"$f":"VLOOKUP(F2598,Soutez!B:D,3,FALSE)","v":2022},28,3479,0.94000000000000006,5217,4904,null,null,"ASW 15","FA","Není v databázi"]
["Tibor Nagy",null,null,"MALÉV RK",null,"Flatland Cup 2022 - Klub",{"$f":"VLOOKUP(F2599,Soutez!B:C,2,FALSE)","v":"SK"},{"$f":"VLOOKUP(F2599,Soutez!B:D,3,FALSE)","v":2022},29,3443,0.94000000000000006,5074,4770,null,null,"Jantar Std. 3",33,"Není v databázi"]
["Farkas & Mazan",null,null,"Délvidéki Aero Club 1930.",null,"Flatland Cup 2022 - Klub",{"$f":"VLOOKUP(F2600,Soutez!B:C,2,FALSE)","v":"SK"},{"$f":"VLOOKUP(F2600,Soutez!B:D,3,FALSE)","v":2022},30,3347,0.94000000000000006,4849,4558,null,null,"Janus C FG","GR","Není v databázi"]
["Peter Ronai",null,null,"Opitz RK",null,"Flatland Cup 2022 - Klub",{"$f":"VLOOKUP(F2601,Soutez!B:C,2,FALSE)","v":"SK"},{"$f":"VLOOKUP(F2601,Soutez!B:D,3,FALSE)","v":2022},31,3198,0.94000000000000006,4552,4279,null,null,"ASW 20","TE","Není v databázi"]
["Jozsef Szabo",null,null,"ARK",null,"Flatland Cup 2022 - Klub",{"$f":"VLOOKUP(F2602,Soutez!B:C,2,FALSE)","v":"SK"},{"$f":"VLOOKUP(F2602,Soutez!B:D,3,FALSE)","v":2022},32,2472,0.94000000000000006,3468,3260,null,null,"ASW 20","FS","Není v databázi"]
["Gabor Érseki",null,null,"Opitz RK",null,"Flatland Cup 2022 - Klub",{"$f":"VLOOKUP(F2603,Soutez!B:C,2,FALSE)","v":"SK"},{"$f":"VLOOKUP(F2603,Soutez!B:D,3,FALSE)","v":2022},33,2446,0.94000000000000006,3338,3138,null,null,"ASW 15","NK","Není v databázi"]
["Peter Szabo",null,null,"ARK",null,"Flatland Cup 2022 - Kombi Open",{"$f":"VLOOKUP(F2604,Soutez!B:C,2,FALSE)","v":"SK"},{"$f":"VLOOKUP(F2604,Soutez!B:D,3,FALSE)","v":2022},1,5778,{"$f":"VLOOKUP(F2604,Soutez,12,0)","v":0.94500000000000006},{"$f":"ROUND(J2604/MAX($J$2604:$J$2625)*10000*0.7+(MAX($I$2604:$I$2625)-I2604)/(MAX($I$2604:$I$2625)-1)*10000*0.3,0)","v":10000},{"$f":"ROUND(K2604*L2604,0)","v":9450},null,null,"JS3","BX","Není v databázi"]
["Zoltan Verebelyi",null,null,"ARK",null,"Flatland Cup 2022 - Kombi Open",{"$f":"VLOOKUP(F2605,Soutez!B:C,2,FALSE)","v":"SK"},{"$f":"VLOOKUP(F2605,Soutez!B:D,3,FALSE)","v":2022},2,5744,{"$f":"VLOOKUP(F2605,Soutez,12,0)","v":0.94500000000000006},9816,{"$f":"ROUND(K2605*L2605,0)","v":9276},null,null,"JS3","HI","Není v databázi"]
["Petr Krejcirik",{"$f":"VLOOKUP(A2606,Pilot,2,0)","v":1960},{"$f":"VLOOKUP(A2606,Pilot,5,0)","v":"M"},{"$f":"VLOOKUP(A2606,Pilot,3,0)","v":"Hranice"},{"$f":"VLOOKUP(A2606,Pilot,4,0)","v":"CZ/M"},"Flatland Cup 2022 - Kombi Open",{"$f":"VLOOKUP(F2606,Soutez!B:C,2,FALSE)","v":"SK"},{"$f":"VLOOKUP(F2606,Soutez!B:D,3,FALSE)","v":2022},3,5741,0.94500000000000006,9669,9137,"x",null,"JS3 18m","VB",""]
["Richard Bartolf",null,null,"ARK",null,"Flatland Cup 2022 - Kombi Open",{"$f":"VLOOKUP(F2607,Soutez!B:C,2,FALSE)","v":"SK"},{"$f":"VLOOKUP(F2607,Soutez!B:D,3,FALSE)","v":2022},4,5707,0.94500000000000006,9485,8963,null,null,"JS3","HAB",{"$f":"IF(ISERROR(VLOOKUP(A2607,Pilot,6,0)),\"Není v databázi\",VLOOKUP(A2607,Pilot,6,0))","v":"Není v databázi"}]
["Radek Krejcirik",1991,"M",{"$f":"VLOOKUP(A2608,Pilot,3,0)","v":"Hranice"},{"$f":"VLOOKUP(A2608,Pilot,4,0)","v":"CZ/M"},"Flatland Cup 2022 - Kombi Open",{"$f":"VLOOKUP(F2608,Soutez!B:C,2,FALSE)","v":"SK"},{"$f":"VLOOKUP(F2608,Soutez!B:D,3,FALSE)","v":2022},5,5698,0.94500000000000006,9332,8819,null,null,"JS1C 21m","ZF",""]
["Zoltan Hamar",null,null,"VARIO SE",null,"Flatland Cup 2022 - Kombi Open",{"$f":"VLOOKUP(F2609,Soutez!B:C,2,FALSE)","v":"SK"},{"$f":"VLOOKUP(F2609,Soutez!B:D,3,FALSE)","v":2022},6,5645,0.94500000000000006,9125,8623,null,null,"JS3","7A","Není v databázi"]
["Kiss & Buki",null,null,"Aeroklub Farkashegy",null,"Flatland Cup 2022 - Kombi Open",{"$f":"VLOOKUP(F2610,Soutez!B:C,2,FALSE)","v":"SK"},{"$f":"VLOOKUP(F2610,Soutez!B:D,3,FALSE)","v":2022},7,5609,{"$f":"VLOOKUP(F2610,Soutez,12,0)","v":0.94500000000000006},8938,8446,null,null,"Arcus T","SQ","Není v databázi"]
["Tamas & Korom",null,null,"Délvidéki Aero Club 1930",null,"Flatland Cup 2022 - Kombi Open",{"$f":"VLOOKUP(F2611,Soutez!B:C,2,FALSE)","v":"SK"},{"$f":"VLOOKUP(F2611,Soutez!B:D,3,FALSE)","v":2022},8,5606,0.94500000000000006,8792,8308,null,null,"Arcus T","HUX","Není v databázi"]
["Richard Basa",null,null,"ARK",null,"Flatland Cup 2022 - Kombi Open",{"$f":"VLOOKUP(F2612,Soutez!B:C,2,FALSE)","v":"SK"},{"$f":"VLOOKUP(F2612,Soutez!B:D,3,FALSE)","v":2022},9,5552,0.94500000000000006,8583,{"$f":"ROUND(K2612*L2612,0)","v":8111},null,null,"JS3","RI","Není v databázi"]
["Halasz & Kerekréti",null,null,"ARK",null,"Flatland Cup 2022 - Kombi Open",{"$f":"VLOOKUP(F2613,Soutez!B:C,2,FALSE)","v":"SK"},{"$f":"VLOOKUP(F2613,Soutez!B:D,3,FALSE)","v":2022},10,5232,0.94500000000000006,8053,7610,null,null,"Twin shark","HPX","Není v databázi"]
["Janos Sindely",null,null,"ARK",null,"Flatland Cup 2022 - Kombi Open",{"$f":"VLOOKUP(F2614,Soutez!B:C,2,FALSE)","v":"SK"},{"$f":"VLOOKUP(F2614,Soutez!B:D,3,FALSE)","v":2022},11,5170,0.94500000000000006,7835,7404,null,null,"JS1","RZ","Není v databázi"]
["Laszlo Kapuy",null,null,"MSE",null,"Flatland Cup 2022 - Kombi Open",{"$f":"VLOOKUP(F2615,Soutez!B:C,2,FALSE)","v":"SK"},{"$f":"VLOOKUP(F2615,Soutez!B:D,3,FALSE)","v":2022},12,5145,0.94500000000000006,7662,7241,null,null,"EB 29D","HB","Není v databázi"]
["Zoltan Kore",null,null,"ARK",null,"Flatland Cup 2022 - Kombi Open",{"$f":"VLOOKUP(F2616,Soutez!B:C,2,FALSE)","v":"SK"},{"$f":"VLOOKUP(F2616,Soutez!B:D,3,FALSE)","v":2022},13,4990,0.94500000000000006,7331,6928,null,null,"JS3","AI","Není v databázi"]
["Christian Hynek",null,null,"ASKÖ Flugsport Wien",null,"Flatland Cup 2022 - Kombi Open",{"$f":"VLOOKUP(F2617,Soutez!B:C,2,FALSE)","v":"SK"},{"$f":"VLOOKUP(F2617,Soutez!B:D,3,FALSE)","v":2022},14,4920,0.94500000000000006,7103,6712,null,null,"EB 29D","DD","Není v databázi"]
["Ivan Novak",1962,"M",{"$f":"VLOOKUP(A2618,Pilot,3,0)","v":"Mladá Boleslav"},{"$f":"VLOOKUP(A2618,Pilot,4,0)","v":"CZ/C1"},"Flatland Cup 2022 - Kombi Open",{"$f":"VLOOKUP(F2618,Soutez!B:C,2,FALSE)","v":"SK"},{"$f":"VLOOKUP(F2618,Soutez!B:D,3,FALSE)","v":2022},15,4767,0.94500000000000006,6775,6402,null,null,"ASG 29 18m","QZ",""]
["Robert Toth",null,null,"HOSESZ",null,"Flatland Cup 2022 - Kombi Open",{"$f":"VLOOKUP(F2619,Soutez!B:C,2,FALSE)","v":"SK"},{"$f":"VLOOKUP(F2619,Soutez!B:D,3,FALSE)","v":2022},16,4238,0.94500000000000006,5991,5661,null,null,"LS 6","4L","Není v databázi"]
["Kornel Negro",null,null,"ARK",null,"Flatland Cup 2022 - Kombi Open",{"$f":"VLOOKUP(F2620,Soutez!B:C,2,FALSE)","v":"SK"},{"$f":"VLOOKUP(F2620,Soutez!B:D,3,FALSE)","v":2022},17,4004,0.94500000000000006,5565,5259,null,null,"Arcus T",13,"Není v databázi"]
["Csaba Tóth",null,null,"Dunaferr RK",null,"Flatland Cup 2022 - Kombi Open",{"$f":"VLOOKUP(F2621,Soutez!B:C,2,FALSE)","v":"SK"},{"$f":"VLOOKUP(F2621,Soutez!B:D,3,FALSE)","v":2022},18,4002,0.94500000000000006,5420,5122,null,null,"Ventus 2b","V7","Není v databázi"]
["Peter Harsfalvi",null,null,"Albatrosz VE",null,"Flatland Cup 2022 - Kombi Open",{"$f":"VLOOKUP(F2622,Soutez!B:C,2,FALSE)","v":"SK"},{"$f":"VLOOKUP(F2622,Soutez!B:D,3,FALSE)","v":2022},19,3943,0.94500000000000006,5205,4919,null,null,"JS1","AAD","Není v databázi"]
["Jan Kovalcik",null,null,"AK Bratislava",null,"Flatland Cup 2022 - Kombi Open",{"$f":"VLOOKUP(F2623,Soutez!B:C,2,FALSE)","v":"SK"},{"$f":"VLOOKUP(F2623,Soutez!B:D,3,FALSE)","v":2022},20,3850,0.94500000000000006,4950,4678,null,null,"Twin Shark","TS","Není v databázi"]
["Laszlo Loskay",null,null,"Dunaferr RK",null,"Flatland Cup 2022 - Kombi Open",{"$f":"VLOOKUP(F2624,Soutez!B:C,2,FALSE)","v":"SK"},{"$f":"VLOOKUP(F2624,Soutez!B:D,3,FALSE)","v":2022},21,3767,0.94500000000000006,4707,4448,null,null,"Ventus","LY","Není v databázi"]
["Miklos Taglieber",null,null,"ARK",null,"Flatland Cup 2022 - Kombi Open",{"$f":"VLOOKUP(F2625,Soutez!B:C,2,FALSE)","v":"SK"},{"$f":"VLOOKUP(F2625,Soutez!B:D,3,FALSE)","v":2022},22,2547,0.94500000000000006,3086,2916,null,null,"Ventus 2","GE","Není v databázi"]
["Stefan Langer",null,null,null,null,"SGP Sweden 2022 - 18m GP",{"$f":"VLOOKUP(F2626,Soutez!B:C,2,FALSE)","v":"SE"},{"$f":"VLOOKUP(F2626,Soutez!B:D,3,FALSE)","v":2022},1,21,{"$f":"VLOOKUP(F2626,Soutez,12,0)","v":0.88500000000000001},{"$f":"ROUND((MAX($I$2626:$I$2640)-I2626)/(MAX($I$2626:$I$2640)-1)*10000,0)","v":10000},{"$f":"ROUND(K2626*L2626,0)","v":8850},null,null,"ASG29","SL","Není v databázi"]
["Klaus Kalmbach",null,null,null,null,"SGP Sweden 2022 - 18m GP",{"$f":"VLOOKUP(F2627,Soutez!B:C,2,FALSE)","v":"SE"},{"$f":"VLOOKUP(F2627,Soutez!B:D,3,FALSE)","v":2022},2,18,{"$f":"VLOOKUP(F2627,Soutez,12,0)","v":0.88500000000000001},9286,{"$f":"ROUND(K2627*L2627,0)","v":8218},null,null,"JS3-18m Jet","CT","Není v databázi"]
["Hermann Leucker",null,null,null,null,"SGP Sweden 2022 - 18m GP",{"$f":"VLOOKUP(F2628,Soutez!B:C,2,FALSE)","v":"SE"},{"$f":"VLOOKUP(F2628,Soutez!B:D,3,FALSE)","v":2022},3,18,0.88500000000000001,8571,7585,null,null,"JS 3 TJ 18m","HL","Není v databázi"]
["Michael Pfennig",null,null,null,null,"SGP Sweden 2022 - 18m GP",{"$f":"VLOOKUP(F2629,Soutez!B:C,2,FALSE)","v":"SE"},{"$f":"VLOOKUP(F2629,Soutez!B:D,3,FALSE)","v":2022},4,16,0.88500000000000001,7857,6953,null,null,"JS3 TJ","S","Není v databázi"]
["Jochen Schulte",null,null,null,null,"SGP Sweden 2022 - 18m GP",{"$f":"VLOOKUP(F2630,Soutez!B:C,2,FALSE)","v":"SE"},{"$f":"VLOOKUP(F2630,Soutez!B:D,3,FALSE)","v":2022},5,15,0.88500000000000001,7143,6322,null,null,"JS-MD3","KS",{"$f":"IF(ISERROR(VLOOKUP(A2630,Pilot,6,0)),\"Není v databázi\",VLOOKUP(A2630,Pilot,6,0))","v":"Není v databázi"}]
["Patrick Benoist",null,null,null,null,"SGP Sweden 2022 - 18m GP",{"$f":"VLOOKUP(F2631,Soutez!B:C,2,FALSE)","v":"SE"},{"$f":"VLOOKUP(F2631,Soutez!B:D,3,FALSE)","v":2022},6,10,0.88500000000000001,6429,5690,null,null,"AS33 Es",33,"Není v databázi"]
["Börje Eriksson",null,null,null,null,"SGP Sweden 2022 - 18m GP",{"$f":"VLOOKUP(F2632,Soutez!B:C,2,FALSE)","v":"SE"},{"$f":"VLOOKUP(F2632,Soutez!B:D,3,FALSE)","v":2022},7,10,{"$f":"VLOOKUP(F2632,Soutez,12,0)","v":0.88500000000000001},5714,5057,null,null,"Ventus 3","7X","Není v databázi"]
["Clemens Berger",null,null,null,null,"SGP Sweden 2022 - 18m GP",{"$f":"VLOOKUP(F2633,Soutez!B:C,2,FALSE)","v":"SE"},{"$f":"VLOOKUP(F2633,Soutez!B:D,3,FALSE)","v":2022},8,9,0.88500000000000001,5000,4425,null,null,"Ventus 3T","IYB","Není v databázi"]
["Björn Regnström",null,null,null,null,"SGP Sweden 2022 - 18m GP",{"$f":"VLOOKUP(F2634,Soutez!B:C,2,FALSE)","v":"SE"},{"$f":"VLOOKUP(F2634,Soutez!B:D,3,FALSE)","v":2022},9,9,0.88500000000000001,4286,{"$f":"ROUND(K2634*L2634,0)","v":3793},null,null,"JS3","BR","Není v databázi"]
["Jon Gatfield",null,null,null,null,"SGP Sweden 2022 - 18m GP",{"$f":"VLOOKUP(F2635,Soutez!B:C,2,FALSE)","v":"SE"},{"$f":"VLOOKUP(F2635,Soutez!B:D,3,FALSE)","v":2022},10,6,0.88500000000000001,3571,3160,null,null,"AS33","YO","Není v databázi"]
["Petr Krejcirik",{"$f":"VLOOKUP(A2636,Pilot,2,0)","v":1960},{"$f":"VLOOKUP(A2636,Pilot,5,0)","v":"M"},{"$f":"VLOOKUP(A2636,Pilot,3,0)","v":"Hranice"},{"$f":"VLOOKUP(A2636,Pilot,4,0)","v":"CZ/M"},"SGP Sweden 2022 - 18m GP",{"$f":"VLOOKUP(F2636,Soutez!B:C,2,FALSE)","v":"SE"},{"$f":"VLOOKUP(F2636,Soutez!B:D,3,FALSE)","v":2022},11,3,0.88500000000000001,2857,2528,null,null,"AS-33 Es",12,""]
["Max Maslak",null,null,null,null,"SGP Sweden 2022 - 18m GP",{"$f":"VLOOKUP(F2637,Soutez!B:C,2,FALSE)","v":"SE"},{"$f":"VLOOKUP(F2637,Soutez!B:D,3,FALSE)","v":2022},12,3,0.88500000000000001,2143,1897,null,null,"Discus 2cT","OLC","Není v databázi"]
["Erik Rudsmark",null,null,null,null,"SGP Sweden 2022 - 18m GP",{"$f":"VLOOKUP(F2638,Soutez!B:C,2,FALSE)","v":"SE"},{"$f":"VLOOKUP(F2638,Soutez!B:D,3,FALSE)","v":2022},13,1,0.88500000000000001,1429,1265,null,null,"DG 808 S","VG","Není v databázi"]
["Wolfgang Zeyen",null,null,null,null,"SGP Sweden 2022 - 18m GP",{"$f":"VLOOKUP(F2639,Soutez!B:C,2,FALSE)","v":"SE"},{"$f":"VLOOKUP(F2639,Soutez!B:D,3,FALSE)","v":2022},14,0,0.88500000000000001,714,632,null,null,"Discus 2c FES","FES","Není v databázi"]
["Mikael Widén",null,null,null,null,"SGP Sweden 2022 - 18m GP",{"$f":"VLOOKUP(F2640,Soutez!B:C,2,FALSE)","v":"SE"},{"$f":"VLOOKUP(F2640,Soutez!B:D,3,FALSE)","v":2022},15,0,0.88500000000000001,0,0,null,null,"DG808C","2Y","Není v databázi"]

{"sheet":"Zebrik G","index":7,"n_rows":447,"n_cols":14,"rows_kept":447,"cut":false,"hidden":false,"merged":[]}
[null,{"$f":"\"Všeobecný Žebřík pilotů plachtařů PK AeČR \"&A6","v":"Všeobecný Žebřík pilotů plachtařů PK AeČR 2022"},null,null,null,null,null,null,{"$f":"Zmeny!A4","v":"2023-01-08"},"Rev.",{"$f":"Zmeny!B4","v":"01"},{"$f":"Zmeny!C4","v":"Aktualizovány koeficienty soutěží dle rozhodnutí PK AeČR"}]
[]
[null,"G","x",null,null,null,null,null,"Junior v roce:","Junior v roce:",{"$f":"\"Repre družstvo \"&I4","v":"Repre družstvo 2023"},{"$f":"\"Repre výběr \"&I4","v":"Repre výběr 2023"},{"$f":"\"W \"&L3","v":"W Repre výběr 2023"},"Poznámka"]
[null,null,null,null,null,null,null,null,{"$f":"A6+1","v":2023},{"$f":"I4+1","v":2024},"(RD)","(RV)","(WRV)"]
["Pořadí",null,null,null,null,null,"Data",null,{"$f":"COUNTIF(I7:I949,\"Junior v roce \"&$I$4)","v":50},{"$f":"COUNTIF(J7:J949,\"Junior v roce \"&$J$4)","v":46},{"$f":"COUNTIF(K7:K949,\"RD \"&$I$4)","v":0},{"$f":"COUNTIF(L7:L949,\"RV \"&$I$4)","v":31},{"$f":"COUNTIF(M7:M949,\"WRV \"&$I$4)","v":9},{"$f":"COUNTIF(N7:N949,\"<>\")","v":0}]
[2022,"Jméno","Rok narození","M/F","Aeroklub","Region","Součet z Bi×Kinp","Počet G"]
[{"$f":"RANK(G7,G:G)","v":1},"Tomas Suchanek",1964,"M","GAC Benešov","CZ/C1",31165,3,{"$f":"IF(C7=\"(prázdné)\",\"\",IF(($I$4-C7)>25,\"\",\"Junior v roce \"&$I$4))","v":""},{"$f":"IF(C7=\"(prázdné)\",\"\",IF(($J$4-C7)>25,\"\",\"Junior v roce \"&$J$4))","v":""},null,"RV 2023",{"$f":"IF(ISERROR(VLOOKUP(B7,'Zebrik W'!$B$7:$L$992,11,0)),\"\",IF(VLOOKUP(B7,'Zebrik W'!$B$7:$L$992,11,0)=0,\"--\",VLOOKUP(B7,'Zebrik W'!$B$7:$L$992,11,0)))","v":""}]
[2,"Radek Krejcirik",1991,"M","Hranice","CZ/M",30540,3,{"$f":"IF(C8=\"(prázdné)\",\"\",IF(($I$4-C8)>25,\"\",\"Junior v roce \"&$I$4))","v":""},{"$f":"IF(C8=\"(prázdné)\",\"\",IF(($J$4-C8)>25,\"\",\"Junior v roce \"&$J$4))","v":""},null,"RV 2023",{"$f":"IF(ISERROR(VLOOKUP(B8,'Zebrik W'!$B$7:$L$992,11,0)),\"\",IF(VLOOKUP(B8,'Zebrik W'!$B$7:$L$992,11,0)=0,\"--\",VLOOKUP(B8,'Zebrik W'!$B$7:$L$992,11,0)))","v":""}]
[3,"Miloslav Cink",1987,"M","Letkov","CZ/C1",30458,3,{"$f":"IF(C9=\"(prázdné)\",\"\",IF(($I$4-C9)>25,\"\",\"Junior v roce \"&$I$4))","v":""},"",null,"RV 2023",{"$f":"IF(ISERROR(VLOOKUP(B9,'Zebrik W'!$B$7:$L$992,11,0)),\"\",IF(VLOOKUP(B9,'Zebrik W'!$B$7:$L$992,11,0)=0,\"--\",VLOOKUP(B9,'Zebrik W'!$B$7:$L$992,11,0)))","v":""}]
[4,"Jan Pavlik",1987,"M","Křižanov","CZ/M",30388,3,"","",null,"RV 2023",{"$f":"IF(ISERROR(VLOOKUP(B10,'Zebrik W'!$B$7:$L$992,11,0)),\"\",IF(VLOOKUP(B10,'Zebrik W'!$B$7:$L$992,11,0)=0,\"--\",VLOOKUP(B10,'Zebrik W'!$B$7:$L$992,11,0)))","v":""}]
[5,"Roman Mracek",1980,"M","Letkov","CZ/C1",30059,3,"","",null,"RV 2023",{"$f":"IF(ISERROR(VLOOKUP(B11,'Zebrik W'!$B$7:$L$992,11,0)),\"\",IF(VLOOKUP(B11,'Zebrik W'!$B$7:$L$992,11,0)=0,\"--\",VLOOKUP(B11,'Zebrik W'!$B$7:$L$992,11,0)))","v":""}]
[6,"Ivan Novak",1962,"M","Mladá Boleslav","CZ/C1",29600,3,"","",null,"RV 2023",{"$f":"IF(ISERROR(VLOOKUP(B12,'Zebrik W'!$B$7:$L$992,11,0)),\"\",IF(VLOOKUP(B12,'Zebrik W'!$B$7:$L$992,11,0)=0,\"--\",VLOOKUP(B12,'Zebrik W'!$B$7:$L$992,11,0)))","v":""}]
[7,"Michal Lesinger",1966,"M","Moravská Třebová","CZ/M",29597,3,"","",null,"RV 2023",{"$f":"IF(ISERROR(VLOOKUP(B13,'Zebrik W'!$B$7:$L$992,11,0)),\"\",IF(VLOOKUP(B13,'Zebrik W'!$B$7:$L$992,11,0)=0,\"--\",VLOOKUP(B13,'Zebrik W'!$B$7:$L$992,11,0)))","v":""}]
[8,"Pavel Louzecky",1957,"M","Přibyslav","CZ/C2",29550,3,"","",null,"RV 2023",{"$f":"IF(ISERROR(VLOOKUP(B14,'Zebrik W'!$B$7:$L$992,11,0)),\"\",IF(VLOOKUP(B14,'Zebrik W'!$B$7:$L$992,11,0)=0,\"--\",VLOOKUP(B14,'Zebrik W'!$B$7:$L$992,11,0)))","v":""}]
[9,"Radek Kucirek",1973,"M","Havlíčkův Brod","CZ/C2",29408,3,"","",null,"RV 2023",{"$f":"IF(ISERROR(VLOOKUP(B15,'Zebrik W'!$B$7:$L$992,11,0)),\"\",IF(VLOOKUP(B15,'Zebrik W'!$B$7:$L$992,11,0)=0,\"--\",VLOOKUP(B15,'Zebrik W'!$B$7:$L$992,11,0)))","v":""}]
[10,"David Mach",1994,"M","Hronov","CZ/C2",28750,3,"","",null,"RV 2023",{"$f":"IF(ISERROR(VLOOKUP(B16,'Zebrik W'!$B$7:$L$992,11,0)),\"\",IF(VLOOKUP(B16,'Zebrik W'!$B$7:$L$992,11,0)=0,\"--\",VLOOKUP(B16,'Zebrik W'!$B$7:$L$992,11,0)))","v":""}]
[11,"Tomas Rendla",1973,"M","Zbraslavice","CZ/C1",28719,3,"","",null,"RV 2023",{"$f":"IF(ISERROR(VLOOKUP(B17,'Zebrik W'!$B$7:$L$992,11,0)),\"\",IF(VLOOKUP(B17,'Zebrik W'!$B$7:$L$992,11,0)=0,\"--\",VLOOKUP(B17,'Zebrik W'!$B$7:$L$992,11,0)))","v":""}]
[12,"Jan Ratz",1987,"M","Zbraslavice","CZ/C1",28485,3,"","",null,"RV 2023",{"$f":"IF(ISERROR(VLOOKUP(B18,'Zebrik W'!$B$7:$L$992,11,0)),\"\",IF(VLOOKUP(B18,'Zebrik W'!$B$7:$L$992,11,0)=0,\"--\",VLOOKUP(B18,'Zebrik W'!$B$7:$L$992,11,0)))","v":""}]
[13,"Lukas Kriz",2003,"M","Křižanov","CZ/M",28454,3,"Junior v roce 2023","Junior v roce 2024",null,"RV 2023",{"$f":"IF(ISERROR(VLOOKUP(B19,'Zebrik W'!$B$7:$L$992,11,0)),\"\",IF(VLOOKUP(B19,'Zebrik W'!$B$7:$L$992,11,0)=0,\"--\",VLOOKUP(B19,'Zebrik W'!$B$7:$L$992,11,0)))","v":""}]
[14,"Jan Zapletal",1997,"M","Břeclav","CZ/M",28447,3,"","",null,"RV 2023",{"$f":"IF(ISERROR(VLOOKUP(B20,'Zebrik W'!$B$7:$L$992,11,0)),\"\",IF(VLOOKUP(B20,'Zebrik W'!$B$7:$L$992,11,0)=0,\"--\",VLOOKUP(B20,'Zebrik W'!$B$7:$L$992,11,0)))","v":""}]
[15,"Karel Novak",1993,"M","Mladá Boleslav","CZ/C1",28417,3,"","",null,"RV 2023",{"$f":"IF(ISERROR(VLOOKUP(B21,'Zebrik W'!$B$7:$L$992,11,0)),\"\",IF(VLOOKUP(B21,'Zebrik W'!$B$7:$L$992,11,0)=0,\"--\",VLOOKUP(B21,'Zebrik W'!$B$7:$L$992,11,0)))","v":""}]
[16,"Ondrej Bordovsky",1983,"M","Krnov","CZ/M",28369,3,"","",null,"RV 2023",{"$f":"IF(ISERROR(VLOOKUP(B22,'Zebrik W'!$B$7:$L$992,11,0)),\"\",IF(VLOOKUP(B22,'Zebrik W'!$B$7:$L$992,11,0)=0,\"--\",VLOOKUP(B22,'Zebrik W'!$B$7:$L$992,11,0)))","v":""}]
[17,"Petr Koutny",1971,"M","Křižanov","CZ/M",28281,3,"","",null,"RV 2023",{"$f":"IF(ISERROR(VLOOKUP(B23,'Zebrik W'!$B$7:$L$992,11,0)),\"\",IF(VLOOKUP(B23,'Zebrik W'!$B$7:$L$992,11,0)=0,\"--\",VLOOKUP(B23,'Zebrik W'!$B$7:$L$992,11,0)))","v":""}]
[18,"Jaromir Macoun",1999,"M","Jičín","CZ/C2",28257,3,"Junior v roce 2023","Junior v roce 2024",null,"RV 2023",{"$f":"IF(ISERROR(VLOOKUP(B24,'Zebrik W'!$B$7:$L$992,11,0)),\"\",IF(VLOOKUP(B24,'Zebrik W'!$B$7:$L$992,11,0)=0,\"--\",VLOOKUP(B24,'Zebrik W'!$B$7:$L$992,11,0)))","v":""}]
[19,"Jaroslav Tomana",1975,"M","Zbraslavice","CZ/C1",28164,3,"","",null,"RV 2023",{"$f":"IF(ISERROR(VLOOKUP(B25,'Zebrik W'!$B$7:$L$992,11,0)),\"\",IF(VLOOKUP(B25,'Zebrik W'!$B$7:$L$992,11,0)=0,\"--\",VLOOKUP(B25,'Zebrik W'!$B$7:$L$992,11,0)))","v":""}]
[20,"Pavel Trybenekr",1990,"M","Hořice","CZ/C2",28085,3,{"$f":"IF(C26=\"(prázdné)\",\"\",IF(($I$4-C26)>25,\"\",\"Junior v roce \"&$I$4))","v":""},"",null,"RV 2023",{"$f":"IF(ISERROR(VLOOKUP(B26,'Zebrik W'!$B$7:$L$992,11,0)),\"\",IF(VLOOKUP(B26,'Zebrik W'!$B$7:$L$992,11,0)=0,\"--\",VLOOKUP(B26,'Zebrik W'!$B$7:$L$992,11,0)))","v":""}]
[21,"Petr Tichy",1973,"M","Zbraslavice","CZ/C1",27822,3,"","",null,null,{"$f":"IF(ISERROR(VLOOKUP(B27,'Zebrik W'!$B$7:$L$992,11,0)),\"\",IF(VLOOKUP(B27,'Zebrik W'!$B$7:$L$992,11,0)=0,\"--\",VLOOKUP(B27,'Zebrik W'!$B$7:$L$992,11,0)))","v":""}]
[22,"Jan Kotan",1982,"M","Letňany","CZ/C1",27609,3,"","",null,null,{"$f":"IF(ISERROR(VLOOKUP(B28,'Zebrik W'!$B$7:$L$992,11,0)),\"\",IF(VLOOKUP(B28,'Zebrik W'!$B$7:$L$992,11,0)=0,\"--\",VLOOKUP(B28,'Zebrik W'!$B$7:$L$992,11,0)))","v":""}]
[23,"Zdenek Boruvka 86",1986,"M","Jičín","CZ/C2",27453,3,"","",null,null,{"$f":"IF(ISERROR(VLOOKUP(B29,'Zebrik W'!$B$7:$L$992,11,0)),\"\",IF(VLOOKUP(B29,'Zebrik W'!$B$7:$L$992,11,0)=0,\"--\",VLOOKUP(B29,'Zebrik W'!$B$7:$L$992,11,0)))","v":""}]
[24,"Jiri Kusbach",1959,"M","Luhačovice","CZ/M",27451,3,"","",null,null,{"$f":"IF(ISERROR(VLOOKUP(B30,'Zebrik W'!$B$7:$L$992,11,0)),\"\",IF(VLOOKUP(B30,'Zebrik W'!$B$7:$L$992,11,0)=0,\"--\",VLOOKUP(B30,'Zebrik W'!$B$7:$L$992,11,0)))","v":""}]
[25,"Alena Netusilova",1970,"F","Zbraslavice","CZ/C1",27429,3,"","",null,"RV 2023",{"$f":"IF(ISERROR(VLOOKUP(B31,'Zebrik W'!$B$7:$L$992,11,0)),\"\",IF(VLOOKUP(B31,'Zebrik W'!$B$7:$L$992,11,0)=0,\"--\",VLOOKUP(B31,'Zebrik W'!$B$7:$L$992,11,0)))","v":"WRV 2023"}]
[26,"Pavel Jiranek",1993,"M","Toužim","CZ/C1",27228,3,"","",null,null,{"$f":"IF(ISERROR(VLOOKUP(B32,'Zebrik W'!$B$7:$L$992,11,0)),\"\",IF(VLOOKUP(B32,'Zebrik W'!$B$7:$L$992,11,0)=0,\"--\",VLOOKUP(B32,'Zebrik W'!$B$7:$L$992,11,0)))","v":""}]
[27,"Petr Hotovy",1958,"M","Česká Lípa","CZ/C2",26995,3,"","",null,null,{"$f":"IF(ISERROR(VLOOKUP(B33,'Zebrik W'!$B$7:$L$992,11,0)),\"\",IF(VLOOKUP(B33,'Zebrik W'!$B$7:$L$992,11,0)=0,\"--\",VLOOKUP(B33,'Zebrik W'!$B$7:$L$992,11,0)))","v":""}]
[28,"Jan Boruvka",1984,"M","Jičín","CZ/C2",26966,3,"","",null,null,{"$f":"IF(ISERROR(VLOOKUP(B34,'Zebrik W'!$B$7:$L$992,11,0)),\"\",IF(VLOOKUP(B34,'Zebrik W'!$B$7:$L$992,11,0)=0,\"--\",VLOOKUP(B34,'Zebrik W'!$B$7:$L$992,11,0)))","v":""}]
[29,"Josef Novotny",1983,"M","Přibyslav","CZ/C2",26841,3,"","",null,null,{"$f":"IF(ISERROR(VLOOKUP(B35,'Zebrik W'!$B$7:$L$992,11,0)),\"\",IF(VLOOKUP(B35,'Zebrik W'!$B$7:$L$992,11,0)=0,\"--\",VLOOKUP(B35,'Zebrik W'!$B$7:$L$992,11,0)))","v":""}]
[30,"Vit Morkovsky",2000,"M","Polička","CZ/C2",26425,3,"Junior v roce 2023","Junior v roce 2024",null,"RV 2023",{"$f":"IF(ISERROR(VLOOKUP(B36,'Zebrik W'!$B$7:$L$992,11,0)),\"\",IF(VLOOKUP(B36,'Zebrik W'!$B$7:$L$992,11,0)=0,\"--\",VLOOKUP(B36,'Zebrik W'!$B$7:$L$992,11,0)))","v":""}]
[31,"Dana Novakova",1965,"F","Mladá Boleslav","CZ/C1",26395,3,"","",null,"RV 2023",{"$f":"IF(ISERROR(VLOOKUP(B37,'Zebrik W'!$B$7:$L$992,11,0)),\"\",IF(VLOOKUP(B37,'Zebrik W'!$B$7:$L$992,11,0)=0,\"--\",VLOOKUP(B37,'Zebrik W'!$B$7:$L$992,11,0)))","v":"WRV 2023"}]
[32,"Barbora Moravcova",1994,"F","Zbraslavice","CZ/C1",26372,3,"","",null,"RV 2023",{"$f":"IF(ISERROR(VLOOKUP(B38,'Zebrik W'!$B$7:$L$992,11,0)),\"\",IF(VLOOKUP(B38,'Zebrik W'!$B$7:$L$992,11,0)=0,\"--\",VLOOKUP(B38,'Zebrik W'!$B$7:$L$992,11,0)))","v":"WRV 2023"}]
[33,"Frantisek Vancura",1966,"M","Hranice","CZ/M",26029,3,"","",null,null,{"$f":"IF(ISERROR(VLOOKUP(B39,'Zebrik W'!$B$7:$L$992,11,0)),\"\",IF(VLOOKUP(B39,'Zebrik W'!$B$7:$L$992,11,0)=0,\"--\",VLOOKUP(B39,'Zebrik W'!$B$7:$L$992,11,0)))","v":""}]
[34,"Martin Ficnar",1971,"M","Šumperk","CZ/M",25821,3,"","",null,null,{"$f":"IF(ISERROR(VLOOKUP(B40,'Zebrik W'!$B$7:$L$992,11,0)),\"\",IF(VLOOKUP(B40,'Zebrik W'!$B$7:$L$992,11,0)=0,\"--\",VLOOKUP(B40,'Zebrik W'!$B$7:$L$992,11,0)))","v":""}]
[35,"Petr Krejcirik",1960,"M","Hranice","CZ/M",25805,3,"","",null,null,{"$f":"IF(ISERROR(VLOOKUP(B41,'Zebrik W'!$B$7:$L$992,11,0)),\"\",IF(VLOOKUP(B41,'Zebrik W'!$B$7:$L$992,11,0)=0,\"--\",VLOOKUP(B41,'Zebrik W'!$B$7:$L$992,11,0)))","v":""}]
[36,"Marek Blatak",1969,"M","Šumperk","CZ/M",25737,3,"","",null,null,{"$f":"IF(ISERROR(VLOOKUP(B42,'Zebrik W'!$B$7:$L$992,11,0)),\"\",IF(VLOOKUP(B42,'Zebrik W'!$B$7:$L$992,11,0)=0,\"--\",VLOOKUP(B42,'Zebrik W'!$B$7:$L$992,11,0)))","v":""}]
[37,"Tereza Koubkova",1999,"F","Vysoké Mýto","CZ/C2",25693,3,"Junior v roce 2023","Junior v roce 2024",null,"RV 2023",{"$f":"IF(ISERROR(VLOOKUP(B43,'Zebrik W'!$B$7:$L$992,11,0)),\"\",IF(VLOOKUP(B43,'Zebrik W'!$B$7:$L$992,11,0)=0,\"--\",VLOOKUP(B43,'Zebrik W'!$B$7:$L$992,11,0)))","v":"WRV 2023"}]
[38,"Jindrich Svorc",1978,"M","Letňany","CZ/C1",25681,3,{"$f":"IF(C44=\"(prázdné)\",\"\",IF(($I$4-C44)>25,\"\",\"Junior v roce \"&$I$4))","v":""},{"$f":"IF(C44=\"(prázdné)\",\"\",IF(($J$4-C44)>25,\"\",\"Junior v roce \"&$J$4))","v":""},null,null,{"$f":"IF(ISERROR(VLOOKUP(B44,'Zebrik W'!$B$7:$L$992,11,0)),\"\",IF(VLOOKUP(B44,'Zebrik W'!$B$7:$L$992,11,0)=0,\"--\",VLOOKUP(B44,'Zebrik W'!$B$7:$L$992,11,0)))","v":""}]
[39,"Jan Louda",1986,"M","Mladá Boleslav","CZ/C1",25657,3,"","",null,null,{"$f":"IF(ISERROR(VLOOKUP(B45,'Zebrik W'!$B$7:$L$992,11,0)),\"\",IF(VLOOKUP(B45,'Zebrik W'!$B$7:$L$992,11,0)=0,\"--\",VLOOKUP(B45,'Zebrik W'!$B$7:$L$992,11,0)))","v":""}]
[40,"Michaela Rendlova",2004,"F","Toužim","CZ/C1",25365,3,"Junior v roce 2023","Junior v roce 2024",null,"RV 2023",{"$f":"IF(ISERROR(VLOOKUP(B46,'Zebrik W'!$B$7:$L$992,11,0)),\"\",IF(VLOOKUP(B46,'Zebrik W'!$B$7:$L$992,11,0)=0,\"--\",VLOOKUP(B46,'Zebrik W'!$B$7:$L$992,11,0)))","v":"WRV 2023"}]
[41,"Hana Treslova",1991,"F","Raná","CZ/C2",25304,3,"","",null,"RV 2023",{"$f":"IF(ISERROR(VLOOKUP(B47,'Zebrik W'!$B$7:$L$992,11,0)),\"\",IF(VLOOKUP(B47,'Zebrik W'!$B$7:$L$992,11,0)=0,\"--\",VLOOKUP(B47,'Zebrik W'!$B$7:$L$992,11,0)))","v":"WRV 2023"}]
[42,"Martin Hrivna",1978,"M","Zbraslavice","CZ/C1",25235,3,"","",null,null,{"$f":"IF(ISERROR(VLOOKUP(B48,'Zebrik W'!$B$7:$L$992,11,0)),\"\",IF(VLOOKUP(B48,'Zebrik W'!$B$7:$L$992,11,0)=0,\"--\",VLOOKUP(B48,'Zebrik W'!$B$7:$L$992,11,0)))","v":""}]
[43,"Jan Stastny",2003,"M","Medlánky","CZ/M",24915,3,"Junior v roce 2023","Junior v roce 2024",null,"RV 2023",{"$f":"IF(ISERROR(VLOOKUP(B49,'Zebrik W'!$B$7:$L$992,11,0)),\"\",IF(VLOOKUP(B49,'Zebrik W'!$B$7:$L$992,11,0)=0,\"--\",VLOOKUP(B49,'Zebrik W'!$B$7:$L$992,11,0)))","v":""}]
[44,"Radek Zima 78",1978,"M","Hodkovice","CZ/C2",24882,3,"","",null,null,{"$f":"IF(ISERROR(VLOOKUP(B50,'Zebrik W'!$B$7:$L$992,11,0)),\"\",IF(VLOOKUP(B50,'Zebrik W'!$B$7:$L$992,11,0)=0,\"--\",VLOOKUP(B50,'Zebrik W'!$B$7:$L$992,11,0)))","v":""}]
[45,"David Sachl",1978,"M","Kralupy","CZ/C1",24820,3,"","",null,null,{"$f":"IF(ISERROR(VLOOKUP(B51,'Zebrik W'!$B$7:$L$992,11,0)),\"\",IF(VLOOKUP(B51,'Zebrik W'!$B$7:$L$992,11,0)=0,\"--\",VLOOKUP(B51,'Zebrik W'!$B$7:$L$992,11,0)))","v":""}]
[46,"Ivan Tvrdik",1997,"M","Letňany","CZ/C1",24706,3,"","",null,null,{"$f":"IF(ISERROR(VLOOKUP(B52,'Zebrik W'!$B$7:$L$992,11,0)),\"\",IF(VLOOKUP(B52,'Zebrik W'!$B$7:$L$992,11,0)=0,\"--\",VLOOKUP(B52,'Zebrik W'!$B$7:$L$992,11,0)))","v":""}]
[47,"Ondrej Dupal",1966,"M","GAC Benešov","CZ/C1",24626,3,"","",null,null,{"$f":"IF(ISERROR(VLOOKUP(B53,'Zebrik W'!$B$7:$L$992,11,0)),\"\",IF(VLOOKUP(B53,'Zebrik W'!$B$7:$L$992,11,0)=0,\"--\",VLOOKUP(B53,'Zebrik W'!$B$7:$L$992,11,0)))","v":""}]
[48,"Michal Cechmanek",1978,"M","Luhačovice","CZ/M",24420,3,"","",null,null,{"$f":"IF(ISERROR(VLOOKUP(B54,'Zebrik W'!$B$7:$L$992,11,0)),\"\",IF(VLOOKUP(B54,'Zebrik W'!$B$7:$L$992,11,0)=0,\"--\",VLOOKUP(B54,'Zebrik W'!$B$7:$L$992,11,0)))","v":""}]
[49,"Jan Dersak 69",1969,"M","Kralupy","CZ/C1",24288,3,"","",null,null,{"$f":"IF(ISERROR(VLOOKUP(B55,'Zebrik W'!$B$7:$L$992,11,0)),\"\",IF(VLOOKUP(B55,'Zebrik W'!$B$7:$L$992,11,0)=0,\"--\",VLOOKUP(B55,'Zebrik W'!$B$7:$L$992,11,0)))","v":""}]
[50,"Martin Urner",1974,"M","Letňany","CZ/C1",24269,3,"","",null,null,{"$f":"IF(ISERROR(VLOOKUP(B56,'Zebrik W'!$B$7:$L$992,11,0)),\"\",IF(VLOOKUP(B56,'Zebrik W'!$B$7:$L$992,11,0)=0,\"--\",VLOOKUP(B56,'Zebrik W'!$B$7:$L$992,11,0)))","v":""}]
[51,"Jan Horak",1971,"M","Zbraslavice","CZ/C1",24091,3,"","",null,null,{"$f":"IF(ISERROR(VLOOKUP(B57,'Zebrik W'!$B$7:$L$992,11,0)),\"\",IF(VLOOKUP(B57,'Zebrik W'!$B$7:$L$992,11,0)=0,\"--\",VLOOKUP(B57,'Zebrik W'!$B$7:$L$992,11,0)))","v":""}]
[52,"Michaela Krizova",2001,"F","Přibyslav","CZ/C2",23794,3,"Junior v roce 2023","Junior v roce 2024",null,"RV 2023",{"$f":"IF(ISERROR(VLOOKUP(B58,'Zebrik W'!$B$7:$L$992,11,0)),\"\",IF(VLOOKUP(B58,'Zebrik W'!$B$7:$L$992,11,0)=0,\"--\",VLOOKUP(B58,'Zebrik W'!$B$7:$L$992,11,0)))","v":"WRV 2023"}]
[53,"Vratislav Sram",1966,"M","Broumov","CZ/C2",23769,3,"","",null,null,{"$f":"IF(ISERROR(VLOOKUP(B59,'Zebrik W'!$B$7:$L$992,11,0)),\"\",IF(VLOOKUP(B59,'Zebrik W'!$B$7:$L$992,11,0)=0,\"--\",VLOOKUP(B59,'Zebrik W'!$B$7:$L$992,11,0)))","v":""}]
[54,"Josef Novak",1981,"M","Kunovice","CZ/M",23661,3,"","",null,null,{"$f":"IF(ISERROR(VLOOKUP(B60,'Zebrik W'!$B$7:$L$992,11,0)),\"\",IF(VLOOKUP(B60,'Zebrik W'!$B$7:$L$992,11,0)=0,\"--\",VLOOKUP(B60,'Zebrik W'!$B$7:$L$992,11,0)))","v":""}]
[55,"Jana Veprekova",1961,"F","Dvůr Králové","CZ/C2",23564,3,"","",null,"RV 2023",{"$f":"IF(ISERROR(VLOOKUP(B61,'Zebrik W'!$B$7:$L$992,11,0)),\"\",IF(VLOOKUP(B61,'Zebrik W'!$B$7:$L$992,11,0)=0,\"--\",VLOOKUP(B61,'Zebrik W'!$B$7:$L$992,11,0)))","v":"WRV 2023"}]
[56,"Vladimir Hammer",2000,"M","Letkov","CZ/C1",23512,3,"Junior v roce 2023","Junior v roce 2024",null,null,{"$f":"IF(ISERROR(VLOOKUP(B62,'Zebrik W'!$B$7:$L$992,11,0)),\"\",IF(VLOOKUP(B62,'Zebrik W'!$B$7:$L$992,11,0)=0,\"--\",VLOOKUP(B62,'Zebrik W'!$B$7:$L$992,11,0)))","v":""}]
[57,"Eduard Niko",1988,"M","Zbraslavice","CZ/C1",23380,3,"","",null,null,{"$f":"IF(ISERROR(VLOOKUP(B63,'Zebrik W'!$B$7:$L$992,11,0)),\"\",IF(VLOOKUP(B63,'Zebrik W'!$B$7:$L$992,11,0)=0,\"--\",VLOOKUP(B63,'Zebrik W'!$B$7:$L$992,11,0)))","v":""}]
[58,"Lubomir Motl",1959,"M","Kyjov","CZ/M",23337,3,"","",null,null,{"$f":"IF(ISERROR(VLOOKUP(B64,'Zebrik W'!$B$7:$L$992,11,0)),\"\",IF(VLOOKUP(B64,'Zebrik W'!$B$7:$L$992,11,0)=0,\"--\",VLOOKUP(B64,'Zebrik W'!$B$7:$L$992,11,0)))","v":""}]
[59,"Tomas Hynek",2002,"M","Dvůr Králové","CZ/C2",23172,3,"Junior v roce 2023","Junior v roce 2024",null,null,{"$f":"IF(ISERROR(VLOOKUP(B65,'Zebrik W'!$B$7:$L$992,11,0)),\"\",IF(VLOOKUP(B65,'Zebrik W'!$B$7:$L$992,11,0)=0,\"--\",VLOOKUP(B65,'Zebrik W'!$B$7:$L$992,11,0)))","v":""}]
[60,"Karel Benisek 76",1976,"M","Toužim","CZ/C1",23166,3,"","",null,null,{"$f":"IF(ISERROR(VLOOKUP(B66,'Zebrik W'!$B$7:$L$992,11,0)),\"\",IF(VLOOKUP(B66,'Zebrik W'!$B$7:$L$992,11,0)=0,\"--\",VLOOKUP(B66,'Zebrik W'!$B$7:$L$992,11,0)))","v":""}]
[61,"Jiri Steiger",1969,"M","Olomouc","CZ/M",23003,3,"","",null,null,{"$f":"IF(ISERROR(VLOOKUP(B67,'Zebrik W'!$B$7:$L$992,11,0)),\"\",IF(VLOOKUP(B67,'Zebrik W'!$B$7:$L$992,11,0)=0,\"--\",VLOOKUP(B67,'Zebrik W'!$B$7:$L$992,11,0)))","v":""}]
[62,"Rene Hudak",1972,"M","Kunovice","CZ/M",22612,3,"","",null,null,{"$f":"IF(ISERROR(VLOOKUP(B68,'Zebrik W'!$B$7:$L$992,11,0)),\"\",IF(VLOOKUP(B68,'Zebrik W'!$B$7:$L$992,11,0)=0,\"--\",VLOOKUP(B68,'Zebrik W'!$B$7:$L$992,11,0)))","v":""}]
[63,"Jiri Stepanek",1956,"M","Moravská Třebová","CZ/M",22438,3,"","",null,null,{"$f":"IF(ISERROR(VLOOKUP(B69,'Zebrik W'!$B$7:$L$992,11,0)),\"\",IF(VLOOKUP(B69,'Zebrik W'!$B$7:$L$992,11,0)=0,\"--\",VLOOKUP(B69,'Zebrik W'!$B$7:$L$992,11,0)))","v":""}]
[64,"Miroslav Koci",1961,"M","Žamberk","CZ/C2",22290,3,"","",null,null,{"$f":"IF(ISERROR(VLOOKUP(B70,'Zebrik W'!$B$7:$L$992,11,0)),\"\",IF(VLOOKUP(B70,'Zebrik W'!$B$7:$L$992,11,0)=0,\"--\",VLOOKUP(B70,'Zebrik W'!$B$7:$L$992,11,0)))","v":""}]
[{"$f":"RANK(G71,G:G)","v":65},"Vojtech Novotny",1992,"M","Kralupy","CZ/C1",22249,3,"","",null,null,{"$f":"IF(ISERROR(VLOOKUP(B71,'Zebrik W'!$B$7:$L$992,11,0)),\"\",IF(VLOOKUP(B71,'Zebrik W'!$B$7:$L$992,11,0)=0,\"--\",VLOOKUP(B71,'Zebrik W'!$B$7:$L$992,11,0)))","v":""}]
[66,"Oldrich Slavicek",1959,"M","Hronov","CZ/C2",22164,3,"","",null,null,{"$f":"IF(ISERROR(VLOOKUP(B72,'Zebrik W'!$B$7:$L$992,11,0)),\"\",IF(VLOOKUP(B72,'Zebrik W'!$B$7:$L$992,11,0)=0,\"--\",VLOOKUP(B72,'Zebrik W'!$B$7:$L$992,11,0)))","v":""}]
[67,"Jaroslav Buryan",1953,"M","Zábřeh","CZ/M",22054,3,"","",null,null,{"$f":"IF(ISERROR(VLOOKUP(B73,'Zebrik W'!$B$7:$L$992,11,0)),\"\",IF(VLOOKUP(B73,'Zebrik W'!$B$7:$L$992,11,0)=0,\"--\",VLOOKUP(B73,'Zebrik W'!$B$7:$L$992,11,0)))","v":""}]
[68,"Jana Treslova",1963,"F","Raná","CZ/C2",22042,3,"","",null,null,{"$f":"IF(ISERROR(VLOOKUP(B74,'Zebrik W'!$B$7:$L$992,11,0)),\"\",IF(VLOOKUP(B74,'Zebrik W'!$B$7:$L$992,11,0)=0,\"--\",VLOOKUP(B74,'Zebrik W'!$B$7:$L$992,11,0)))","v":"--"}]
[69,"Zdenek Balcarek",1967,"M","Kroměříž","CZ/M",21998,3,"","",null,null,{"$f":"IF(ISERROR(VLOOKUP(B75,'Zebrik W'!$B$7:$L$992,11,0)),\"\",IF(VLOOKUP(B75,'Zebrik W'!$B$7:$L$992,11,0)=0,\"--\",VLOOKUP(B75,'Zebrik W'!$B$7:$L$992,11,0)))","v":""}]
[70,"Petr Kolomaznik",1981,"M","Šumperk","CZ/M",21972,3,"","",null,null,{"$f":"IF(ISERROR(VLOOKUP(B76,'Zebrik W'!$B$7:$L$992,11,0)),\"\",IF(VLOOKUP(B76,'Zebrik W'!$B$7:$L$992,11,0)=0,\"--\",VLOOKUP(B76,'Zebrik W'!$B$7:$L$992,11,0)))","v":""}]
[71,"David Vrchota",1976,"M","Jaroměř","CZ/C2",21735,3,"","",null,null,{"$f":"IF(ISERROR(VLOOKUP(B77,'Zebrik W'!$B$7:$L$992,11,0)),\"\",IF(VLOOKUP(B77,'Zebrik W'!$B$7:$L$992,11,0)=0,\"--\",VLOOKUP(B77,'Zebrik W'!$B$7:$L$992,11,0)))","v":""}]
[72,"Martin Stepanek",1987,"M","Moravská Třebová","CZ/M",21703,3,"","",null,null,{"$f":"IF(ISERROR(VLOOKUP(B78,'Zebrik W'!$B$7:$L$992,11,0)),\"\",IF(VLOOKUP(B78,'Zebrik W'!$B$7:$L$992,11,0)=0,\"--\",VLOOKUP(B78,'Zebrik W'!$B$7:$L$992,11,0)))","v":""}]
[73,"Petra Piskata",1989,"F","Luhačovice","CZ/M",21611,3,"","",null,"RV 2023",{"$f":"IF(ISERROR(VLOOKUP(B79,'Zebrik W'!$B$7:$L$992,11,0)),\"\",IF(VLOOKUP(B79,'Zebrik W'!$B$7:$L$992,11,0)=0,\"--\",VLOOKUP(B79,'Zebrik W'!$B$7:$L$992,11,0)))","v":"WRV 2023"}]
[74,"Ivan Harasta 65",1965,"M","Toužim","CZ/C1",21559,3,"","",null,null,{"$f":"IF(ISERROR(VLOOKUP(B80,'Zebrik W'!$B$7:$L$992,11,0)),\"\",IF(VLOOKUP(B80,'Zebrik W'!$B$7:$L$992,11,0)=0,\"--\",VLOOKUP(B80,'Zebrik W'!$B$7:$L$992,11,0)))","v":""}]
[75,"Petr Havelka",1997,"M","Zbraslavice","CZ/C1",21557,3,"","",null,null,{"$f":"IF(ISERROR(VLOOKUP(B81,'Zebrik W'!$B$7:$L$992,11,0)),\"\",IF(VLOOKUP(B81,'Zebrik W'!$B$7:$L$992,11,0)=0,\"--\",VLOOKUP(B81,'Zebrik W'!$B$7:$L$992,11,0)))","v":""}]
[76,"Lukas Volek",2004,"M","Hodkovice","CZ/C2",21464,3,"Junior v roce 2023","Junior v roce 2024",null,null,{"$f":"IF(ISERROR(VLOOKUP(B82,'Zebrik W'!$B$7:$L$992,11,0)),\"\",IF(VLOOKUP(B82,'Zebrik W'!$B$7:$L$992,11,0)=0,\"--\",VLOOKUP(B82,'Zebrik W'!$B$7:$L$992,11,0)))","v":""}]
[77,"Jan Smaha",1958,"M","Česká Lípa","CZ/C2",21343,3,"","",null,null,{"$f":"IF(ISERROR(VLOOKUP(B83,'Zebrik W'!$B$7:$L$992,11,0)),\"\",IF(VLOOKUP(B83,'Zebrik W'!$B$7:$L$992,11,0)=0,\"--\",VLOOKUP(B83,'Zebrik W'!$B$7:$L$992,11,0)))","v":""}]
[78,"Milan Svoboda 80",1980,"M","Havlíčkův Brod","CZ/C2",21337,3,"","",null,null,{"$f":"IF(ISERROR(VLOOKUP(B84,'Zebrik W'!$B$7:$L$992,11,0)),\"\",IF(VLOOKUP(B84,'Zebrik W'!$B$7:$L$992,11,0)=0,\"--\",VLOOKUP(B84,'Zebrik W'!$B$7:$L$992,11,0)))","v":""}]
[79,"Zdenek Boruvka 54",1954,"M","Jičín","CZ/C2",21238,3,"","",null,null,{"$f":"IF(ISERROR(VLOOKUP(B85,'Zebrik W'!$B$7:$L$992,11,0)),\"\",IF(VLOOKUP(B85,'Zebrik W'!$B$7:$L$992,11,0)=0,\"--\",VLOOKUP(B85,'Zebrik W'!$B$7:$L$992,11,0)))","v":""}]
[80,"Milan Dvorak",1965,"M","Liberec","CZ/C2",21081,3,"","",null,null,{"$f":"IF(ISERROR(VLOOKUP(B86,'Zebrik W'!$B$7:$L$992,11,0)),\"\",IF(VLOOKUP(B86,'Zebrik W'!$B$7:$L$992,11,0)=0,\"--\",VLOOKUP(B86,'Zebrik W'!$B$7:$L$992,11,0)))","v":""}]
[81,"Marek Pechanec",1970,"M","Luhačovice","CZ/M",21006,3,"","",null,null,{"$f":"IF(ISERROR(VLOOKUP(B87,'Zebrik W'!$B$7:$L$992,11,0)),\"\",IF(VLOOKUP(B87,'Zebrik W'!$B$7:$L$992,11,0)=0,\"--\",VLOOKUP(B87,'Zebrik W'!$B$7:$L$992,11,0)))","v":""}]
[82,"Vojtech Hajek",1987,"M","Mladá Boleslav","CZ/C1",20866,3,"","",null,null,{"$f":"IF(ISERROR(VLOOKUP(B88,'Zebrik W'!$B$7:$L$992,11,0)),\"\",IF(VLOOKUP(B88,'Zebrik W'!$B$7:$L$992,11,0)=0,\"--\",VLOOKUP(B88,'Zebrik W'!$B$7:$L$992,11,0)))","v":""}]
[83,"Tomas Kulhavy",2001,"M","Liberec","CZ/C2",20854,3,"Junior v roce 2023","Junior v roce 2024",null,null,{"$f":"IF(ISERROR(VLOOKUP(B89,'Zebrik W'!$B$7:$L$992,11,0)),\"\",IF(VLOOKUP(B89,'Zebrik W'!$B$7:$L$992,11,0)=0,\"--\",VLOOKUP(B89,'Zebrik W'!$B$7:$L$992,11,0)))","v":""}]
[84,"Lukas Maly",1998,"M","Vysoké Mýto","CZ/C2",20784,3,"Junior v roce 2023","",null,null,{"$f":"IF(ISERROR(VLOOKUP(B90,'Zebrik W'!$B$7:$L$992,11,0)),\"\",IF(VLOOKUP(B90,'Zebrik W'!$B$7:$L$992,11,0)=0,\"--\",VLOOKUP(B90,'Zebrik W'!$B$7:$L$992,11,0)))","v":""}]
[85,"Jiri Vondracek",1989,"M","Kladno","CZ/C1",20495,3,"","",null,null,{"$f":"IF(ISERROR(VLOOKUP(B91,'Zebrik W'!$B$7:$L$992,11,0)),\"\",IF(VLOOKUP(B91,'Zebrik W'!$B$7:$L$992,11,0)=0,\"--\",VLOOKUP(B91,'Zebrik W'!$B$7:$L$992,11,0)))","v":""}]
[86,"Lumir Motyka",1955,"M","Frýdlant","CZ/M",20442,3,"","",null,null,{"$f":"IF(ISERROR(VLOOKUP(B92,'Zebrik W'!$B$7:$L$992,11,0)),\"\",IF(VLOOKUP(B92,'Zebrik W'!$B$7:$L$992,11,0)=0,\"--\",VLOOKUP(B92,'Zebrik W'!$B$7:$L$992,11,0)))","v":""}]
[87,"Jan Simon",1970,"M","Kralupy","CZ/C1",20386,3,"","",null,null,{"$f":"IF(ISERROR(VLOOKUP(B93,'Zebrik W'!$B$7:$L$992,11,0)),\"\",IF(VLOOKUP(B93,'Zebrik W'!$B$7:$L$992,11,0)=0,\"--\",VLOOKUP(B93,'Zebrik W'!$B$7:$L$992,11,0)))","v":""}]
[88,"Ondrej Teichman",1984,"M","Dvůr Králové","CZ/C2",20385,3,"","",null,null,{"$f":"IF(ISERROR(VLOOKUP(B94,'Zebrik W'!$B$7:$L$992,11,0)),\"\",IF(VLOOKUP(B94,'Zebrik W'!$B$7:$L$992,11,0)=0,\"--\",VLOOKUP(B94,'Zebrik W'!$B$7:$L$992,11,0)))","v":""}]
[89,"Zdenek Schenk",1972,"M","Hranice","CZ/M",20381,3,"","",null,null,{"$f":"IF(ISERROR(VLOOKUP(B95,'Zebrik W'!$B$7:$L$992,11,0)),\"\",IF(VLOOKUP(B95,'Zebrik W'!$B$7:$L$992,11,0)=0,\"--\",VLOOKUP(B95,'Zebrik W'!$B$7:$L$992,11,0)))","v":""}]
[90,"Marek Kornec",1957,"M","Dvůr Králové","CZ/C2",20311,3,"","",null,null,{"$f":"IF(ISERROR(VLOOKUP(B96,'Zebrik W'!$B$7:$L$992,11,0)),\"\",IF(VLOOKUP(B96,'Zebrik W'!$B$7:$L$992,11,0)=0,\"--\",VLOOKUP(B96,'Zebrik W'!$B$7:$L$992,11,0)))","v":""}]
[91,"Lukas Hynek",1979,"M","Dvůr Králové","CZ/C2",20291,3,"","",null,null,{"$f":"IF(ISERROR(VLOOKUP(B97,'Zebrik W'!$B$7:$L$992,11,0)),\"\",IF(VLOOKUP(B97,'Zebrik W'!$B$7:$L$992,11,0)=0,\"--\",VLOOKUP(B97,'Zebrik W'!$B$7:$L$992,11,0)))","v":""}]
[92,"Tomas Hulmak",1999,"M","Hosín","CZ/C1",20286,3,"Junior v roce 2023","Junior v roce 2024",null,null,{"$f":"IF(ISERROR(VLOOKUP(B98,'Zebrik W'!$B$7:$L$992,11,0)),\"\",IF(VLOOKUP(B98,'Zebrik W'!$B$7:$L$992,11,0)=0,\"--\",VLOOKUP(B98,'Zebrik W'!$B$7:$L$992,11,0)))","v":""}]
[93,"Vladimir Abraham",1962,"M","Raná","CZ/C2",20231,3,"","",null,null,{"$f":"IF(ISERROR(VLOOKUP(B99,'Zebrik W'!$B$7:$L$992,11,0)),\"\",IF(VLOOKUP(B99,'Zebrik W'!$B$7:$L$992,11,0)=0,\"--\",VLOOKUP(B99,'Zebrik W'!$B$7:$L$992,11,0)))","v":""}]
[94,"David Tejnora",1982,"M","Jaroměř","CZ/C2",20212,3,"","",null,null,{"$f":"IF(ISERROR(VLOOKUP(B100,'Zebrik W'!$B$7:$L$992,11,0)),\"\",IF(VLOOKUP(B100,'Zebrik W'!$B$7:$L$992,11,0)=0,\"--\",VLOOKUP(B100,'Zebrik W'!$B$7:$L$992,11,0)))","v":""}]
[95,"Pavlina Horackova",1965,"F","Šumperk","CZ/M",19839,3,"","",null,null,{"$f":"IF(ISERROR(VLOOKUP(B101,'Zebrik W'!$B$7:$L$992,11,0)),\"\",IF(VLOOKUP(B101,'Zebrik W'!$B$7:$L$992,11,0)=0,\"--\",VLOOKUP(B101,'Zebrik W'!$B$7:$L$992,11,0)))","v":"--"}]
[96,"Jiri Koudela",1974,"M","Vyškov","CZ/M",19754,3,"","",null,null,{"$f":"IF(ISERROR(VLOOKUP(B102,'Zebrik W'!$B$7:$L$992,11,0)),\"\",IF(VLOOKUP(B102,'Zebrik W'!$B$7:$L$992,11,0)=0,\"--\",VLOOKUP(B102,'Zebrik W'!$B$7:$L$992,11,0)))","v":""}]
[97,"Petr Lonsky",1965,"M","Toužim","CZ/C1",19618,3,"","",null,null,{"$f":"IF(ISERROR(VLOOKUP(B103,'Zebrik W'!$B$7:$L$992,11,0)),\"\",IF(VLOOKUP(B103,'Zebrik W'!$B$7:$L$992,11,0)=0,\"--\",VLOOKUP(B103,'Zebrik W'!$B$7:$L$992,11,0)))","v":""}]
[98,"Martin Svarc",1981,"M","Olomouc","CZ/M",19202,3,"","",null,null,{"$f":"IF(ISERROR(VLOOKUP(B104,'Zebrik W'!$B$7:$L$992,11,0)),\"\",IF(VLOOKUP(B104,'Zebrik W'!$B$7:$L$992,11,0)=0,\"--\",VLOOKUP(B104,'Zebrik W'!$B$7:$L$992,11,0)))","v":""}]
[99,"Jan Pazour",1979,"M","Dvůr Králové","CZ/C2",19086,3,"","",null,null,{"$f":"IF(ISERROR(VLOOKUP(B105,'Zebrik W'!$B$7:$L$992,11,0)),\"\",IF(VLOOKUP(B105,'Zebrik W'!$B$7:$L$992,11,0)=0,\"--\",VLOOKUP(B105,'Zebrik W'!$B$7:$L$992,11,0)))","v":""}]
[100,"Jiri Prochazka",1971,"M","Toužim","CZ/C1",19082,3,"","",null,null,{"$f":"IF(ISERROR(VLOOKUP(B106,'Zebrik W'!$B$7:$L$992,11,0)),\"\",IF(VLOOKUP(B106,'Zebrik W'!$B$7:$L$992,11,0)=0,\"--\",VLOOKUP(B106,'Zebrik W'!$B$7:$L$992,11,0)))","v":""}]
[101,"Ladislav Jozsa",1981,"M","Medlánky","CZ/M",19062,3,"","",null,null,{"$f":"IF(ISERROR(VLOOKUP(B107,'Zebrik W'!$B$7:$L$992,11,0)),\"\",IF(VLOOKUP(B107,'Zebrik W'!$B$7:$L$992,11,0)=0,\"--\",VLOOKUP(B107,'Zebrik W'!$B$7:$L$992,11,0)))","v":""}]
[102,"Stepan Obrovsky",1990,"M","Frýdlant","CZ/M",19026,3,{"$f":"IF(C108=\"(prázdné)\",\"\",IF(($I$4-C108)>25,\"\",\"Junior v roce \"&$I$4))","v":""},{"$f":"IF(C108=\"(prázdné)\",\"\",IF(($J$4-C108)>25,\"\",\"Junior v roce \"&$J$4))","v":""},null,null,{"$f":"IF(ISERROR(VLOOKUP(B108,'Zebrik W'!$B$7:$L$992,11,0)),\"\",IF(VLOOKUP(B108,'Zebrik W'!$B$7:$L$992,11,0)=0,\"--\",VLOOKUP(B108,'Zebrik W'!$B$7:$L$992,11,0)))","v":""}]
[103,"Miroslav Stepan",1955,"M","Žamberk","CZ/C2",18985,3,"","",null,null,{"$f":"IF(ISERROR(VLOOKUP(B109,'Zebrik W'!$B$7:$L$992,11,0)),\"\",IF(VLOOKUP(B109,'Zebrik W'!$B$7:$L$992,11,0)=0,\"--\",VLOOKUP(B109,'Zebrik W'!$B$7:$L$992,11,0)))","v":""}]
[104,"Jan Zahradka",1981,"M","Hodkovice","CZ/C2",18945,3,"","",null,null,{"$f":"IF(ISERROR(VLOOKUP(B110,'Zebrik W'!$B$7:$L$992,11,0)),\"\",IF(VLOOKUP(B110,'Zebrik W'!$B$7:$L$992,11,0)=0,\"--\",VLOOKUP(B110,'Zebrik W'!$B$7:$L$992,11,0)))","v":""}]
[105,"Martin Soucek",1975,"M","Mladá Boleslav","CZ/C1",18838,3,"","",null,null,{"$f":"IF(ISERROR(VLOOKUP(B111,'Zebrik W'!$B$7:$L$992,11,0)),\"\",IF(VLOOKUP(B111,'Zebrik W'!$B$7:$L$992,11,0)=0,\"--\",VLOOKUP(B111,'Zebrik W'!$B$7:$L$992,11,0)))","v":""}]
[106,"Tomas Prikryl",1973,"M","Vyškov","CZ/M",18834,3,"","",null,null,{"$f":"IF(ISERROR(VLOOKUP(B112,'Zebrik W'!$B$7:$L$992,11,0)),\"\",IF(VLOOKUP(B112,'Zebrik W'!$B$7:$L$992,11,0)=0,\"--\",VLOOKUP(B112,'Zebrik W'!$B$7:$L$992,11,0)))","v":""}]
[107,"Jakub Malik",1999,"M","Letňany","CZ/C1",18739,3,"Junior v roce 2023","Junior v roce 2024",null,null,{"$f":"IF(ISERROR(VLOOKUP(B113,'Zebrik W'!$B$7:$L$992,11,0)),\"\",IF(VLOOKUP(B113,'Zebrik W'!$B$7:$L$992,11,0)=0,\"--\",VLOOKUP(B113,'Zebrik W'!$B$7:$L$992,11,0)))","v":""}]
[108,"Daniel Ryba",1994,"M","Dvůr Králové","CZ/C2",18662,3,"","",null,null,{"$f":"IF(ISERROR(VLOOKUP(B114,'Zebrik W'!$B$7:$L$992,11,0)),\"\",IF(VLOOKUP(B114,'Zebrik W'!$B$7:$L$992,11,0)=0,\"--\",VLOOKUP(B114,'Zebrik W'!$B$7:$L$992,11,0)))","v":""}]
[109,"Jiri Maier 99",1999,"M","Raná","CZ/C2",18519,3,"Junior v roce 2023","Junior v roce 2024",null,null,{"$f":"IF(ISERROR(VLOOKUP(B115,'Zebrik W'!$B$7:$L$992,11,0)),\"\",IF(VLOOKUP(B115,'Zebrik W'!$B$7:$L$992,11,0)=0,\"--\",VLOOKUP(B115,'Zebrik W'!$B$7:$L$992,11,0)))","v":""}]
[110,"Jan Kohout",1970,"M","Žamberk","CZ/C2",18489,3,"","",null,null,{"$f":"IF(ISERROR(VLOOKUP(B116,'Zebrik W'!$B$7:$L$992,11,0)),\"\",IF(VLOOKUP(B116,'Zebrik W'!$B$7:$L$992,11,0)=0,\"--\",VLOOKUP(B116,'Zebrik W'!$B$7:$L$992,11,0)))","v":""}]
[111,"Wolfgang Sluka",1942,"M","Liberec","CZ/C2",18479,3,"","",null,null,{"$f":"IF(ISERROR(VLOOKUP(B117,'Zebrik W'!$B$7:$L$992,11,0)),\"\",IF(VLOOKUP(B117,'Zebrik W'!$B$7:$L$992,11,0)=0,\"--\",VLOOKUP(B117,'Zebrik W'!$B$7:$L$992,11,0)))","v":""}]
[112,"Petr Havrlant",1965,"M","Šumperk","CZ/M",18448,3,"","",null,null,{"$f":"IF(ISERROR(VLOOKUP(B118,'Zebrik W'!$B$7:$L$992,11,0)),\"\",IF(VLOOKUP(B118,'Zebrik W'!$B$7:$L$992,11,0)=0,\"--\",VLOOKUP(B118,'Zebrik W'!$B$7:$L$992,11,0)))","v":""}]
[113,"Milan Meisner",1961,"M","Dvůr Králové","CZ/C2",18437,3,"","",null,null,{"$f":"IF(ISERROR(VLOOKUP(B119,'Zebrik W'!$B$7:$L$992,11,0)),\"\",IF(VLOOKUP(B119,'Zebrik W'!$B$7:$L$992,11,0)=0,\"--\",VLOOKUP(B119,'Zebrik W'!$B$7:$L$992,11,0)))","v":""}]
[114,"Petr Babak",1973,"M","Hořice","CZ/C2",18346,3,"","",null,null,{"$f":"IF(ISERROR(VLOOKUP(B120,'Zebrik W'!$B$7:$L$992,11,0)),\"\",IF(VLOOKUP(B120,'Zebrik W'!$B$7:$L$992,11,0)=0,\"--\",VLOOKUP(B120,'Zebrik W'!$B$7:$L$992,11,0)))","v":""}]
[115,"Martin Kriz",1968,"M","Přibyslav","CZ/C2",18286,3,"","",null,null,{"$f":"IF(ISERROR(VLOOKUP(B121,'Zebrik W'!$B$7:$L$992,11,0)),\"\",IF(VLOOKUP(B121,'Zebrik W'!$B$7:$L$992,11,0)=0,\"--\",VLOOKUP(B121,'Zebrik W'!$B$7:$L$992,11,0)))","v":""}]
[116,"Martin Urban",1971,"M","Frýdlant","CZ/M",18271,3,"","",null,null,{"$f":"IF(ISERROR(VLOOKUP(B122,'Zebrik W'!$B$7:$L$992,11,0)),\"\",IF(VLOOKUP(B122,'Zebrik W'!$B$7:$L$992,11,0)=0,\"--\",VLOOKUP(B122,'Zebrik W'!$B$7:$L$992,11,0)))","v":""}]
[117,"Jiri Maier 66",1966,"M","Raná","CZ/C2",18194,3,"","",null,null,{"$f":"IF(ISERROR(VLOOKUP(B123,'Zebrik W'!$B$7:$L$992,11,0)),\"\",IF(VLOOKUP(B123,'Zebrik W'!$B$7:$L$992,11,0)=0,\"--\",VLOOKUP(B123,'Zebrik W'!$B$7:$L$992,11,0)))","v":""}]
[118,"Tomas Talanda",1988,"M","Křižanov","CZ/M",18178,3,"","",null,null,{"$f":"IF(ISERROR(VLOOKUP(B124,'Zebrik W'!$B$7:$L$992,11,0)),\"\",IF(VLOOKUP(B124,'Zebrik W'!$B$7:$L$992,11,0)=0,\"--\",VLOOKUP(B124,'Zebrik W'!$B$7:$L$992,11,0)))","v":""}]
[119,"Radek Hybl",1980,"M","Šumperk","CZ/M",18150,2,"","",null,null,{"$f":"IF(ISERROR(VLOOKUP(B125,'Zebrik W'!$B$7:$L$992,11,0)),\"\",IF(VLOOKUP(B125,'Zebrik W'!$B$7:$L$992,11,0)=0,\"--\",VLOOKUP(B125,'Zebrik W'!$B$7:$L$992,11,0)))","v":""}]
[120,"Ondrej Dvorak 98",1998,"M","Mladá Boleslav","CZ/C1",17991,3,"Junior v roce 2023","",null,null,{"$f":"IF(ISERROR(VLOOKUP(B126,'Zebrik W'!$B$7:$L$992,11,0)),\"\",IF(VLOOKUP(B126,'Zebrik W'!$B$7:$L$992,11,0)=0,\"--\",VLOOKUP(B126,'Zebrik W'!$B$7:$L$992,11,0)))","v":""}]
[121,"Jakub Hlavacek",1991,"M","Letkov","CZ/C1",17849,2,"","",null,null,{"$f":"IF(ISERROR(VLOOKUP(B127,'Zebrik W'!$B$7:$L$992,11,0)),\"\",IF(VLOOKUP(B127,'Zebrik W'!$B$7:$L$992,11,0)=0,\"--\",VLOOKUP(B127,'Zebrik W'!$B$7:$L$992,11,0)))","v":""}]
[122,"Michal Maly",1982,"M","Broumov","CZ/C2",17848,3,"","",null,null,{"$f":"IF(ISERROR(VLOOKUP(B128,'Zebrik W'!$B$7:$L$992,11,0)),\"\",IF(VLOOKUP(B128,'Zebrik W'!$B$7:$L$992,11,0)=0,\"--\",VLOOKUP(B128,'Zebrik W'!$B$7:$L$992,11,0)))","v":""}]
[123,"Ladislav Prokes",1954,"M","Vrchlabí","CZ/C2",17838,3,"","",null,null,{"$f":"IF(ISERROR(VLOOKUP(B129,'Zebrik W'!$B$7:$L$992,11,0)),\"\",IF(VLOOKUP(B129,'Zebrik W'!$B$7:$L$992,11,0)=0,\"--\",VLOOKUP(B129,'Zebrik W'!$B$7:$L$992,11,0)))","v":""}]
[124,"Tomas Profeld",1964,"M","Jičín","CZ/C2",17777,3,"","",null,null,{"$f":"IF(ISERROR(VLOOKUP(B130,'Zebrik W'!$B$7:$L$992,11,0)),\"\",IF(VLOOKUP(B130,'Zebrik W'!$B$7:$L$992,11,0)=0,\"--\",VLOOKUP(B130,'Zebrik W'!$B$7:$L$992,11,0)))","v":""}]
[125,"Jan Beran",1999,"M","Kladno","CZ/C1",17756,3,"Junior v roce 2023","Junior v roce 2024",null,null,{"$f":"IF(ISERROR(VLOOKUP(B131,'Zebrik W'!$B$7:$L$992,11,0)),\"\",IF(VLOOKUP(B131,'Zebrik W'!$B$7:$L$992,11,0)=0,\"--\",VLOOKUP(B131,'Zebrik W'!$B$7:$L$992,11,0)))","v":""}]
[126,"Jan Viskot",1995,"M","Břeclav","CZ/M",17749,2,"","",null,null,{"$f":"IF(ISERROR(VLOOKUP(B132,'Zebrik W'!$B$7:$L$992,11,0)),\"\",IF(VLOOKUP(B132,'Zebrik W'!$B$7:$L$992,11,0)=0,\"--\",VLOOKUP(B132,'Zebrik W'!$B$7:$L$992,11,0)))","v":""}]
[127,"Petr Fisar",1974,"M","Ústí nad Orlicí","CZ/C2",17633,3,"","",null,null,{"$f":"IF(ISERROR(VLOOKUP(B133,'Zebrik W'!$B$7:$L$992,11,0)),\"\",IF(VLOOKUP(B133,'Zebrik W'!$B$7:$L$992,11,0)=0,\"--\",VLOOKUP(B133,'Zebrik W'!$B$7:$L$992,11,0)))","v":""}]
[128,"Michal Kratochvil",1984,"M","Slaný","CZ/C1",17510,2,"","",null,null,{"$f":"IF(ISERROR(VLOOKUP(B134,'Zebrik W'!$B$7:$L$992,11,0)),\"\",IF(VLOOKUP(B134,'Zebrik W'!$B$7:$L$992,11,0)=0,\"--\",VLOOKUP(B134,'Zebrik W'!$B$7:$L$992,11,0)))","v":""}]
[{"$f":"RANK(G135,G:G)","v":129},"Jan Florian",1992,"M","Zbraslavice","CZ/C1",17421,3,"","",null,null,{"$f":"IF(ISERROR(VLOOKUP(B135,'Zebrik W'!$B$7:$L$992,11,0)),\"\",IF(VLOOKUP(B135,'Zebrik W'!$B$7:$L$992,11,0)=0,\"--\",VLOOKUP(B135,'Zebrik W'!$B$7:$L$992,11,0)))","v":""}]
[130,"Vaclav Kult",1973,"M","Broumov","CZ/C2",17403,3,"","",null,null,{"$f":"IF(ISERROR(VLOOKUP(B136,'Zebrik W'!$B$7:$L$992,11,0)),\"\",IF(VLOOKUP(B136,'Zebrik W'!$B$7:$L$992,11,0)=0,\"--\",VLOOKUP(B136,'Zebrik W'!$B$7:$L$992,11,0)))","v":""}]
[131,"Martin Cicvarek",1966,"M","Liberec","CZ/C2",17149,3,"","",null,null,{"$f":"IF(ISERROR(VLOOKUP(B137,'Zebrik W'!$B$7:$L$992,11,0)),\"\",IF(VLOOKUP(B137,'Zebrik W'!$B$7:$L$992,11,0)=0,\"--\",VLOOKUP(B137,'Zebrik W'!$B$7:$L$992,11,0)))","v":""}]
[132,"Jan Cerveny",1984,"M","Jaroměř","CZ/C2",17014,3,"","",null,null,{"$f":"IF(ISERROR(VLOOKUP(B138,'Zebrik W'!$B$7:$L$992,11,0)),\"\",IF(VLOOKUP(B138,'Zebrik W'!$B$7:$L$992,11,0)=0,\"--\",VLOOKUP(B138,'Zebrik W'!$B$7:$L$992,11,0)))","v":""}]
[133,"Jan Hybner",1977,"M","Liberec","CZ/C2",17011,3,"","",null,null,{"$f":"IF(ISERROR(VLOOKUP(B139,'Zebrik W'!$B$7:$L$992,11,0)),\"\",IF(VLOOKUP(B139,'Zebrik W'!$B$7:$L$992,11,0)=0,\"--\",VLOOKUP(B139,'Zebrik W'!$B$7:$L$992,11,0)))","v":""}]
[134,"Petr Malcek",1965,"M","Letňany","CZ/C1",16998,3,"","",null,null,{"$f":"IF(ISERROR(VLOOKUP(B140,'Zebrik W'!$B$7:$L$992,11,0)),\"\",IF(VLOOKUP(B140,'Zebrik W'!$B$7:$L$992,11,0)=0,\"--\",VLOOKUP(B140,'Zebrik W'!$B$7:$L$992,11,0)))","v":""}]
[135,"Tomas Ditrt",1969,"M","Podhořany","CZ/C2",16974,3,"","",null,null,{"$f":"IF(ISERROR(VLOOKUP(B141,'Zebrik W'!$B$7:$L$992,11,0)),\"\",IF(VLOOKUP(B141,'Zebrik W'!$B$7:$L$992,11,0)=0,\"--\",VLOOKUP(B141,'Zebrik W'!$B$7:$L$992,11,0)))","v":""}]
[136,"Pavel Derda",1952,"M","Dvůr Králové","CZ/C2",16680,3,"","",null,null,{"$f":"IF(ISERROR(VLOOKUP(B142,'Zebrik W'!$B$7:$L$992,11,0)),\"\",IF(VLOOKUP(B142,'Zebrik W'!$B$7:$L$992,11,0)=0,\"--\",VLOOKUP(B142,'Zebrik W'!$B$7:$L$992,11,0)))","v":""}]
[137,"Jan Smekal",1976,"M","Zbraslavice","CZ/C1",16503,3,"","",null,null,{"$f":"IF(ISERROR(VLOOKUP(B143,'Zebrik W'!$B$7:$L$992,11,0)),\"\",IF(VLOOKUP(B143,'Zebrik W'!$B$7:$L$992,11,0)=0,\"--\",VLOOKUP(B143,'Zebrik W'!$B$7:$L$992,11,0)))","v":""}]
[138,"Slavomir Valecko",1960,"M","Hranice","CZ/M",16483,3,"","",null,null,{"$f":"IF(ISERROR(VLOOKUP(B144,'Zebrik W'!$B$7:$L$992,11,0)),\"\",IF(VLOOKUP(B144,'Zebrik W'!$B$7:$L$992,11,0)=0,\"--\",VLOOKUP(B144,'Zebrik W'!$B$7:$L$992,11,0)))","v":""}]
[139,"Tomas Mezera",1973,"M","Raná","CZ/C2",16434,3,"","",null,null,{"$f":"IF(ISERROR(VLOOKUP(B145,'Zebrik W'!$B$7:$L$992,11,0)),\"\",IF(VLOOKUP(B145,'Zebrik W'!$B$7:$L$992,11,0)=0,\"--\",VLOOKUP(B145,'Zebrik W'!$B$7:$L$992,11,0)))","v":""}]
[140,"Michal Janda",1972,"M","Broumov","CZ/C2",16421,3,"","",null,null,{"$f":"IF(ISERROR(VLOOKUP(B146,'Zebrik W'!$B$7:$L$992,11,0)),\"\",IF(VLOOKUP(B146,'Zebrik W'!$B$7:$L$992,11,0)=0,\"--\",VLOOKUP(B146,'Zebrik W'!$B$7:$L$992,11,0)))","v":""}]
[141,"Pavel Rericha",1967,"M","Moravská Třebová","CZ/M",16344,2,"","",null,null,{"$f":"IF(ISERROR(VLOOKUP(B147,'Zebrik W'!$B$7:$L$992,11,0)),\"\",IF(VLOOKUP(B147,'Zebrik W'!$B$7:$L$992,11,0)=0,\"--\",VLOOKUP(B147,'Zebrik W'!$B$7:$L$992,11,0)))","v":""}]
[142,"Roman Schotli",1970,"M","Hranice","CZ/M",16329,3,"","",null,null,{"$f":"IF(ISERROR(VLOOKUP(B148,'Zebrik W'!$B$7:$L$992,11,0)),\"\",IF(VLOOKUP(B148,'Zebrik W'!$B$7:$L$992,11,0)=0,\"--\",VLOOKUP(B148,'Zebrik W'!$B$7:$L$992,11,0)))","v":""}]
[143,"Martin Zahalka",1987,"M","Staňkov","CZ/C1",16309,2,"","",null,null,{"$f":"IF(ISERROR(VLOOKUP(B149,'Zebrik W'!$B$7:$L$992,11,0)),\"\",IF(VLOOKUP(B149,'Zebrik W'!$B$7:$L$992,11,0)=0,\"--\",VLOOKUP(B149,'Zebrik W'!$B$7:$L$992,11,0)))","v":""}]
[144,"Tomas Novak",1974,"M","Česká Lípa","CZ/C2",16297,3,"","",null,null,{"$f":"IF(ISERROR(VLOOKUP(B150,'Zebrik W'!$B$7:$L$992,11,0)),\"\",IF(VLOOKUP(B150,'Zebrik W'!$B$7:$L$992,11,0)=0,\"--\",VLOOKUP(B150,'Zebrik W'!$B$7:$L$992,11,0)))","v":""}]
[145,"Jan Mareth",1979,"M","Frýdlant","CZ/M",16163,2,"","",null,null,{"$f":"IF(ISERROR(VLOOKUP(B151,'Zebrik W'!$B$7:$L$992,11,0)),\"\",IF(VLOOKUP(B151,'Zebrik W'!$B$7:$L$992,11,0)=0,\"--\",VLOOKUP(B151,'Zebrik W'!$B$7:$L$992,11,0)))","v":""}]
[146,"Tibor Hezina",2002,"M","Křižanov","CZ/M",16091,3,"Junior v roce 2023","Junior v roce 2024",null,null,{"$f":"IF(ISERROR(VLOOKUP(B152,'Zebrik W'!$B$7:$L$992,11,0)),\"\",IF(VLOOKUP(B152,'Zebrik W'!$B$7:$L$992,11,0)=0,\"--\",VLOOKUP(B152,'Zebrik W'!$B$7:$L$992,11,0)))","v":""}]
[147,"Matej Krestes",1986,"M","Slaný","CZ/C1",16012,3,"","",null,null,{"$f":"IF(ISERROR(VLOOKUP(B153,'Zebrik W'!$B$7:$L$992,11,0)),\"\",IF(VLOOKUP(B153,'Zebrik W'!$B$7:$L$992,11,0)=0,\"--\",VLOOKUP(B153,'Zebrik W'!$B$7:$L$992,11,0)))","v":""}]
[148,"Karel Horalek",1976,"M","Olomouc","CZ/M",15864,3,"","",null,null,{"$f":"IF(ISERROR(VLOOKUP(B154,'Zebrik W'!$B$7:$L$992,11,0)),\"\",IF(VLOOKUP(B154,'Zebrik W'!$B$7:$L$992,11,0)=0,\"--\",VLOOKUP(B154,'Zebrik W'!$B$7:$L$992,11,0)))","v":""}]
[149,"Radim Hahn",1972,"M","Zábřeh","CZ/M",15795,3,"","",null,null,{"$f":"IF(ISERROR(VLOOKUP(B155,'Zebrik W'!$B$7:$L$992,11,0)),\"\",IF(VLOOKUP(B155,'Zebrik W'!$B$7:$L$992,11,0)=0,\"--\",VLOOKUP(B155,'Zebrik W'!$B$7:$L$992,11,0)))","v":""}]
[150,"Lenka Kuthanova",1960,"F","Tábor","CZ/C1",15788,2,"","",null,null,{"$f":"IF(ISERROR(VLOOKUP(B156,'Zebrik W'!$B$7:$L$992,11,0)),\"\",IF(VLOOKUP(B156,'Zebrik W'!$B$7:$L$992,11,0)=0,\"--\",VLOOKUP(B156,'Zebrik W'!$B$7:$L$992,11,0)))","v":"--"}]
[151,"Josef Busek",1967,"M","Hosín","CZ/C1",15779,2,"","",null,null,{"$f":"IF(ISERROR(VLOOKUP(B157,'Zebrik W'!$B$7:$L$992,11,0)),\"\",IF(VLOOKUP(B157,'Zebrik W'!$B$7:$L$992,11,0)=0,\"--\",VLOOKUP(B157,'Zebrik W'!$B$7:$L$992,11,0)))","v":""}]
[152,"Pavel Koudelka",1973,"M","Křižanov","CZ/M",15705,3,"","",null,null,{"$f":"IF(ISERROR(VLOOKUP(B158,'Zebrik W'!$B$7:$L$992,11,0)),\"\",IF(VLOOKUP(B158,'Zebrik W'!$B$7:$L$992,11,0)=0,\"--\",VLOOKUP(B158,'Zebrik W'!$B$7:$L$992,11,0)))","v":""}]
[153,"Miroslav Sklenar",1964,"M","Žamberk","CZ/C2",15654,3,"","",null,null,{"$f":"IF(ISERROR(VLOOKUP(B159,'Zebrik W'!$B$7:$L$992,11,0)),\"\",IF(VLOOKUP(B159,'Zebrik W'!$B$7:$L$992,11,0)=0,\"--\",VLOOKUP(B159,'Zebrik W'!$B$7:$L$992,11,0)))","v":""}]
[154,"Jan Vavrin",1987,"M","Vysoké Mýto","CZ/C2",15612,2,"","",null,null,{"$f":"IF(ISERROR(VLOOKUP(B160,'Zebrik W'!$B$7:$L$992,11,0)),\"\",IF(VLOOKUP(B160,'Zebrik W'!$B$7:$L$992,11,0)=0,\"--\",VLOOKUP(B160,'Zebrik W'!$B$7:$L$992,11,0)))","v":""}]
[155,"Antonin Kutalek",1943,"M","Zábřeh","CZ/M",15382,3,"","",null,null,{"$f":"IF(ISERROR(VLOOKUP(B161,'Zebrik W'!$B$7:$L$992,11,0)),\"\",IF(VLOOKUP(B161,'Zebrik W'!$B$7:$L$992,11,0)=0,\"--\",VLOOKUP(B161,'Zebrik W'!$B$7:$L$992,11,0)))","v":""}]
[156,"Roman Jokl",1979,"M","Letkov","CZ/C1",15313,2,"","",null,null,{"$f":"IF(ISERROR(VLOOKUP(B162,'Zebrik W'!$B$7:$L$992,11,0)),\"\",IF(VLOOKUP(B162,'Zebrik W'!$B$7:$L$992,11,0)=0,\"--\",VLOOKUP(B162,'Zebrik W'!$B$7:$L$992,11,0)))","v":""}]
[157,"Petr Jiranek 63",1962,"M","Toužim","CZ/C1",15283,3,"","",null,null,{"$f":"IF(ISERROR(VLOOKUP(B163,'Zebrik W'!$B$7:$L$992,11,0)),\"\",IF(VLOOKUP(B163,'Zebrik W'!$B$7:$L$992,11,0)=0,\"--\",VLOOKUP(B163,'Zebrik W'!$B$7:$L$992,11,0)))","v":""}]
[158,"Jaromir Vlk",1959,"M","Šumperk","CZ/M",15217,3,"","",null,null,{"$f":"IF(ISERROR(VLOOKUP(B164,'Zebrik W'!$B$7:$L$992,11,0)),\"\",IF(VLOOKUP(B164,'Zebrik W'!$B$7:$L$992,11,0)=0,\"--\",VLOOKUP(B164,'Zebrik W'!$B$7:$L$992,11,0)))","v":""}]
[159,"Jan Cibulka",2002,"M","Letňany","CZ/C1",15208,3,"Junior v roce 2023","Junior v roce 2024",null,null,{"$f":"IF(ISERROR(VLOOKUP(B165,'Zebrik W'!$B$7:$L$992,11,0)),\"\",IF(VLOOKUP(B165,'Zebrik W'!$B$7:$L$992,11,0)=0,\"--\",VLOOKUP(B165,'Zebrik W'!$B$7:$L$992,11,0)))","v":""}]
[160,"Antonin Bordovsky",1951,"M","Krnov","CZ/M",15200,3,"","",null,null,{"$f":"IF(ISERROR(VLOOKUP(B166,'Zebrik W'!$B$7:$L$992,11,0)),\"\",IF(VLOOKUP(B166,'Zebrik W'!$B$7:$L$992,11,0)=0,\"--\",VLOOKUP(B166,'Zebrik W'!$B$7:$L$992,11,0)))","v":""}]
[161,"Jan Vozeh",1995,"M","Rakovník","CZ/C1",15139,3,"","",null,null,{"$f":"IF(ISERROR(VLOOKUP(B167,'Zebrik W'!$B$7:$L$992,11,0)),\"\",IF(VLOOKUP(B167,'Zebrik W'!$B$7:$L$992,11,0)=0,\"--\",VLOOKUP(B167,'Zebrik W'!$B$7:$L$992,11,0)))","v":""}]
[162,"Peter Kaspar",1980,"M","Vyškov","CZ/M",15124,3,"","",null,null,{"$f":"IF(ISERROR(VLOOKUP(B168,'Zebrik W'!$B$7:$L$992,11,0)),\"\",IF(VLOOKUP(B168,'Zebrik W'!$B$7:$L$992,11,0)=0,\"--\",VLOOKUP(B168,'Zebrik W'!$B$7:$L$992,11,0)))","v":""}]
[163,"David Popovsky",1976,"M","Rakovník","CZ/C1",15123,2,"","",null,null,{"$f":"IF(ISERROR(VLOOKUP(B169,'Zebrik W'!$B$7:$L$992,11,0)),\"\",IF(VLOOKUP(B169,'Zebrik W'!$B$7:$L$992,11,0)=0,\"--\",VLOOKUP(B169,'Zebrik W'!$B$7:$L$992,11,0)))","v":""}]
[164,"Oldrich Bartonik",1961,"M","Luhačovice","CZ/M",14943,3,"","",null,null,{"$f":"IF(ISERROR(VLOOKUP(B170,'Zebrik W'!$B$7:$L$992,11,0)),\"\",IF(VLOOKUP(B170,'Zebrik W'!$B$7:$L$992,11,0)=0,\"--\",VLOOKUP(B170,'Zebrik W'!$B$7:$L$992,11,0)))","v":""}]
[165,"Vaclav Marel",1974,"M","Jaroměř","CZ/C2",14904,2,"","",null,null,{"$f":"IF(ISERROR(VLOOKUP(B171,'Zebrik W'!$B$7:$L$992,11,0)),\"\",IF(VLOOKUP(B171,'Zebrik W'!$B$7:$L$992,11,0)=0,\"--\",VLOOKUP(B171,'Zebrik W'!$B$7:$L$992,11,0)))","v":""}]
[166,"Matej Jelinek",1999,"M","Hronov","CZ/C2",14704,3,{"$f":"IF(C172=\"(prázdné)\",\"\",IF(($I$4-C172)>25,\"\",\"Junior v roce \"&$I$4))","v":"Junior v roce 2023"},{"$f":"IF(C172=\"(prázdné)\",\"\",IF(($J$4-C172)>25,\"\",\"Junior v roce \"&$J$4))","v":"Junior v roce 2024"},null,null,{"$f":"IF(ISERROR(VLOOKUP(B172,'Zebrik W'!$B$7:$L$992,11,0)),\"\",IF(VLOOKUP(B172,'Zebrik W'!$B$7:$L$992,11,0)=0,\"--\",VLOOKUP(B172,'Zebrik W'!$B$7:$L$992,11,0)))","v":""}]
[167,"Petr Panek",1975,"M","Dvůr Králové","CZ/C2",14681,3,"","",null,null,{"$f":"IF(ISERROR(VLOOKUP(B173,'Zebrik W'!$B$7:$L$992,11,0)),\"\",IF(VLOOKUP(B173,'Zebrik W'!$B$7:$L$992,11,0)=0,\"--\",VLOOKUP(B173,'Zebrik W'!$B$7:$L$992,11,0)))","v":""}]
[168,"Lukas Capek",1992,"M","Letňany","CZ/C1",14660,2,"","",null,null,{"$f":"IF(ISERROR(VLOOKUP(B174,'Zebrik W'!$B$7:$L$992,11,0)),\"\",IF(VLOOKUP(B174,'Zebrik W'!$B$7:$L$992,11,0)=0,\"--\",VLOOKUP(B174,'Zebrik W'!$B$7:$L$992,11,0)))","v":""}]
[169,"Danes Grula",1961,"M","Medlánky","CZ/M",14647,2,"","",null,null,{"$f":"IF(ISERROR(VLOOKUP(B175,'Zebrik W'!$B$7:$L$992,11,0)),\"\",IF(VLOOKUP(B175,'Zebrik W'!$B$7:$L$992,11,0)=0,\"--\",VLOOKUP(B175,'Zebrik W'!$B$7:$L$992,11,0)))","v":""}]
[170,"Petr Valenta 94",1994,"M","Kunovice","CZ/M",14415,2,"","",null,null,{"$f":"IF(ISERROR(VLOOKUP(B176,'Zebrik W'!$B$7:$L$992,11,0)),\"\",IF(VLOOKUP(B176,'Zebrik W'!$B$7:$L$992,11,0)=0,\"--\",VLOOKUP(B176,'Zebrik W'!$B$7:$L$992,11,0)))","v":""}]
[171,"Jakub Kmosek",1978,"M","Zbraslavice","CZ/C1",14409,2,"","",null,null,{"$f":"IF(ISERROR(VLOOKUP(B177,'Zebrik W'!$B$7:$L$992,11,0)),\"\",IF(VLOOKUP(B177,'Zebrik W'!$B$7:$L$992,11,0)=0,\"--\",VLOOKUP(B177,'Zebrik W'!$B$7:$L$992,11,0)))","v":""}]
[172,"Michal Coufal",1999,"M","Jičín","CZ/C2",14305,3,"Junior v roce 2023","Junior v roce 2024",null,null,{"$f":"IF(ISERROR(VLOOKUP(B178,'Zebrik W'!$B$7:$L$992,11,0)),\"\",IF(VLOOKUP(B178,'Zebrik W'!$B$7:$L$992,11,0)=0,\"--\",VLOOKUP(B178,'Zebrik W'!$B$7:$L$992,11,0)))","v":""}]
[173,"Albrecht Beat",1953,"M","Šumperk","CZ/M",14162,3,"","",null,null,{"$f":"IF(ISERROR(VLOOKUP(B179,'Zebrik W'!$B$7:$L$992,11,0)),\"\",IF(VLOOKUP(B179,'Zebrik W'!$B$7:$L$992,11,0)=0,\"--\",VLOOKUP(B179,'Zebrik W'!$B$7:$L$992,11,0)))","v":""}]
[174,"Petr Stepanek",1989,"M","Moravská Třebová","CZ/M",14134,2,"","",null,null,{"$f":"IF(ISERROR(VLOOKUP(B180,'Zebrik W'!$B$7:$L$992,11,0)),\"\",IF(VLOOKUP(B180,'Zebrik W'!$B$7:$L$992,11,0)=0,\"--\",VLOOKUP(B180,'Zebrik W'!$B$7:$L$992,11,0)))","v":""}]
[175,"David Zapletal",1970,"M","Mladá Boleslav","CZ/C1",14040,3,"","",null,null,{"$f":"IF(ISERROR(VLOOKUP(B181,'Zebrik W'!$B$7:$L$992,11,0)),\"\",IF(VLOOKUP(B181,'Zebrik W'!$B$7:$L$992,11,0)=0,\"--\",VLOOKUP(B181,'Zebrik W'!$B$7:$L$992,11,0)))","v":""}]
[176,"Petr Seibrt",1974,"M","Náchod","CZ/C2",13996,3,"","",null,null,{"$f":"IF(ISERROR(VLOOKUP(B182,'Zebrik W'!$B$7:$L$992,11,0)),\"\",IF(VLOOKUP(B182,'Zebrik W'!$B$7:$L$992,11,0)=0,\"--\",VLOOKUP(B182,'Zebrik W'!$B$7:$L$992,11,0)))","v":""}]
[177,"Jan Zezula",1979,"M","Letňany","CZ/C1",13993,3,"","",null,null,{"$f":"IF(ISERROR(VLOOKUP(B183,'Zebrik W'!$B$7:$L$992,11,0)),\"\",IF(VLOOKUP(B183,'Zebrik W'!$B$7:$L$992,11,0)=0,\"--\",VLOOKUP(B183,'Zebrik W'!$B$7:$L$992,11,0)))","v":""}]
[178,"Daniel Dvorak",1980,"M","Letkov","CZ/C1",13987,2,"","",null,null,{"$f":"IF(ISERROR(VLOOKUP(B184,'Zebrik W'!$B$7:$L$992,11,0)),\"\",IF(VLOOKUP(B184,'Zebrik W'!$B$7:$L$992,11,0)=0,\"--\",VLOOKUP(B184,'Zebrik W'!$B$7:$L$992,11,0)))","v":""}]
[179,"Jaroslav Sima",1972,"M","Chomutov","CZ/C2",13729,3,"","",null,null,{"$f":"IF(ISERROR(VLOOKUP(B185,'Zebrik W'!$B$7:$L$992,11,0)),\"\",IF(VLOOKUP(B185,'Zebrik W'!$B$7:$L$992,11,0)=0,\"--\",VLOOKUP(B185,'Zebrik W'!$B$7:$L$992,11,0)))","v":""}]
[180,"Klara Teichmannova",1993,"F","Hronov","CZ/C2",13675,2,"","",null,null,{"$f":"IF(ISERROR(VLOOKUP(B186,'Zebrik W'!$B$7:$L$992,11,0)),\"\",IF(VLOOKUP(B186,'Zebrik W'!$B$7:$L$992,11,0)=0,\"--\",VLOOKUP(B186,'Zebrik W'!$B$7:$L$992,11,0)))","v":"--"}]
[181,"Martin Koci",1975,"M","Ústí nad Orlicí","CZ/C2",13585,3,"","",null,null,{"$f":"IF(ISERROR(VLOOKUP(B187,'Zebrik W'!$B$7:$L$992,11,0)),\"\",IF(VLOOKUP(B187,'Zebrik W'!$B$7:$L$992,11,0)=0,\"--\",VLOOKUP(B187,'Zebrik W'!$B$7:$L$992,11,0)))","v":""}]
[182,"Pavel Haluza",1966,"M","Prostějov","CZ/M",13577,3,"","",null,null,{"$f":"IF(ISERROR(VLOOKUP(B188,'Zebrik W'!$B$7:$L$992,11,0)),\"\",IF(VLOOKUP(B188,'Zebrik W'!$B$7:$L$992,11,0)=0,\"--\",VLOOKUP(B188,'Zebrik W'!$B$7:$L$992,11,0)))","v":""}]
[183,"Vit Grossmann",1977,"M","Hranice","CZ/M",13546,3,"","",null,null,{"$f":"IF(ISERROR(VLOOKUP(B189,'Zebrik W'!$B$7:$L$992,11,0)),\"\",IF(VLOOKUP(B189,'Zebrik W'!$B$7:$L$992,11,0)=0,\"--\",VLOOKUP(B189,'Zebrik W'!$B$7:$L$992,11,0)))","v":""}]
[184,"Linda Vasatova",1990,"F","Mladá Boleslav","CZ/C1",13532,3,"","",null,null,{"$f":"IF(ISERROR(VLOOKUP(B190,'Zebrik W'!$B$7:$L$992,11,0)),\"\",IF(VLOOKUP(B190,'Zebrik W'!$B$7:$L$992,11,0)=0,\"--\",VLOOKUP(B190,'Zebrik W'!$B$7:$L$992,11,0)))","v":"--"}]
[185,"Frantisek Myska",1968,"M","Most","CZ/C2",13460,2,"","",null,null,{"$f":"IF(ISERROR(VLOOKUP(B191,'Zebrik W'!$B$7:$L$992,11,0)),\"\",IF(VLOOKUP(B191,'Zebrik W'!$B$7:$L$992,11,0)=0,\"--\",VLOOKUP(B191,'Zebrik W'!$B$7:$L$992,11,0)))","v":""}]
[186,"Roman Cerny",1971,"M","Hranice","CZ/M",13266,3,"","",null,null,{"$f":"IF(ISERROR(VLOOKUP(B192,'Zebrik W'!$B$7:$L$992,11,0)),\"\",IF(VLOOKUP(B192,'Zebrik W'!$B$7:$L$992,11,0)=0,\"--\",VLOOKUP(B192,'Zebrik W'!$B$7:$L$992,11,0)))","v":""}]
[187,"Martin Fric",1967,"M","Raná","CZ/C2",13249,3,"","",null,null,{"$f":"IF(ISERROR(VLOOKUP(B193,'Zebrik W'!$B$7:$L$992,11,0)),\"\",IF(VLOOKUP(B193,'Zebrik W'!$B$7:$L$992,11,0)=0,\"--\",VLOOKUP(B193,'Zebrik W'!$B$7:$L$992,11,0)))","v":""}]
[188,"Miloslav Hulmak",1963,"M","Hosín","CZ/C1",13231,2,"","",null,null,{"$f":"IF(ISERROR(VLOOKUP(B194,'Zebrik W'!$B$7:$L$992,11,0)),\"\",IF(VLOOKUP(B194,'Zebrik W'!$B$7:$L$992,11,0)=0,\"--\",VLOOKUP(B194,'Zebrik W'!$B$7:$L$992,11,0)))","v":""}]
[189,"Michal Drab",1969,"M","Letkov","CZ/C1",12950,2,"","",null,null,{"$f":"IF(ISERROR(VLOOKUP(B195,'Zebrik W'!$B$7:$L$992,11,0)),\"\",IF(VLOOKUP(B195,'Zebrik W'!$B$7:$L$992,11,0)=0,\"--\",VLOOKUP(B195,'Zebrik W'!$B$7:$L$992,11,0)))","v":""}]
[190,"Jan Hruska",1988,"M","Tábor","CZ/C1",12909,2,"","",null,null,{"$f":"IF(ISERROR(VLOOKUP(B196,'Zebrik W'!$B$7:$L$992,11,0)),\"\",IF(VLOOKUP(B196,'Zebrik W'!$B$7:$L$992,11,0)=0,\"--\",VLOOKUP(B196,'Zebrik W'!$B$7:$L$992,11,0)))","v":""}]
[191,"Ivan Kuzelka",1945,"M","Havlíčkův Brod","CZ/C2",12880,3,"","",null,null,{"$f":"IF(ISERROR(VLOOKUP(B197,'Zebrik W'!$B$7:$L$992,11,0)),\"\",IF(VLOOKUP(B197,'Zebrik W'!$B$7:$L$992,11,0)=0,\"--\",VLOOKUP(B197,'Zebrik W'!$B$7:$L$992,11,0)))","v":""}]
[192,"Jaromir Hendrych",1954,"M","Raná","CZ/C2",12821,3,"","",null,null,{"$f":"IF(ISERROR(VLOOKUP(B198,'Zebrik W'!$B$7:$L$992,11,0)),\"\",IF(VLOOKUP(B198,'Zebrik W'!$B$7:$L$992,11,0)=0,\"--\",VLOOKUP(B198,'Zebrik W'!$B$7:$L$992,11,0)))","v":""}]
[{"$f":"RANK(G199,G:G)","v":193},"Kamil Sohr",1973,"M","Šumperk","CZ/M",12780,2,"","",null,null,{"$f":"IF(ISERROR(VLOOKUP(B199,'Zebrik W'!$B$7:$L$992,11,0)),\"\",IF(VLOOKUP(B199,'Zebrik W'!$B$7:$L$992,11,0)=0,\"--\",VLOOKUP(B199,'Zebrik W'!$B$7:$L$992,11,0)))","v":""}]
[194,"Rostislav Stryk",1972,"M","Frýdlant","CZ/M",12600,2,"","",null,null,{"$f":"IF(ISERROR(VLOOKUP(B200,'Zebrik W'!$B$7:$L$992,11,0)),\"\",IF(VLOOKUP(B200,'Zebrik W'!$B$7:$L$992,11,0)=0,\"--\",VLOOKUP(B200,'Zebrik W'!$B$7:$L$992,11,0)))","v":""}]
[195,"Martin Zvonicek",1972,"M","Raná","CZ/C2",12559,2,"","",null,null,{"$f":"IF(ISERROR(VLOOKUP(B201,'Zebrik W'!$B$7:$L$992,11,0)),\"\",IF(VLOOKUP(B201,'Zebrik W'!$B$7:$L$992,11,0)=0,\"--\",VLOOKUP(B201,'Zebrik W'!$B$7:$L$992,11,0)))","v":""}]
[196,"Vaclav Hruza",1965,"M","Břeclav","CZ/M",12543,3,"","",null,null,{"$f":"IF(ISERROR(VLOOKUP(B202,'Zebrik W'!$B$7:$L$992,11,0)),\"\",IF(VLOOKUP(B202,'Zebrik W'!$B$7:$L$992,11,0)=0,\"--\",VLOOKUP(B202,'Zebrik W'!$B$7:$L$992,11,0)))","v":""}]
[197,"Martin Picka",1974,"M","Tábor","CZ/C1",12459,3,"","",null,null,{"$f":"IF(ISERROR(VLOOKUP(B203,'Zebrik W'!$B$7:$L$992,11,0)),\"\",IF(VLOOKUP(B203,'Zebrik W'!$B$7:$L$992,11,0)=0,\"--\",VLOOKUP(B203,'Zebrik W'!$B$7:$L$992,11,0)))","v":""}]
[198,"Michal Nutil",1966,"M","Náchod","CZ/C2",12450,3,"","",null,null,{"$f":"IF(ISERROR(VLOOKUP(B204,'Zebrik W'!$B$7:$L$992,11,0)),\"\",IF(VLOOKUP(B204,'Zebrik W'!$B$7:$L$992,11,0)=0,\"--\",VLOOKUP(B204,'Zebrik W'!$B$7:$L$992,11,0)))","v":""}]
[199,"Michal Cupak",1991,"M","Medlánky","CZ/M",12417,2,"","",null,null,{"$f":"IF(ISERROR(VLOOKUP(B205,'Zebrik W'!$B$7:$L$992,11,0)),\"\",IF(VLOOKUP(B205,'Zebrik W'!$B$7:$L$992,11,0)=0,\"--\",VLOOKUP(B205,'Zebrik W'!$B$7:$L$992,11,0)))","v":""}]
[200,"Vojtech Kostejn",1974,"M","Česká Lípa","CZ/C2",12370,3,"","",null,null,{"$f":"IF(ISERROR(VLOOKUP(B206,'Zebrik W'!$B$7:$L$992,11,0)),\"\",IF(VLOOKUP(B206,'Zebrik W'!$B$7:$L$992,11,0)=0,\"--\",VLOOKUP(B206,'Zebrik W'!$B$7:$L$992,11,0)))","v":""}]
[201,"Petr Kolacek",1965,"M","Šumperk","CZ/M",12354,2,"","",null,null,{"$f":"IF(ISERROR(VLOOKUP(B207,'Zebrik W'!$B$7:$L$992,11,0)),\"\",IF(VLOOKUP(B207,'Zebrik W'!$B$7:$L$992,11,0)=0,\"--\",VLOOKUP(B207,'Zebrik W'!$B$7:$L$992,11,0)))","v":""}]
[202,"Jiri Slemr",1979,"M","Vysoké Mýto","CZ/C2",12326,2,"","",null,null,{"$f":"IF(ISERROR(VLOOKUP(B208,'Zebrik W'!$B$7:$L$992,11,0)),\"\",IF(VLOOKUP(B208,'Zebrik W'!$B$7:$L$992,11,0)=0,\"--\",VLOOKUP(B208,'Zebrik W'!$B$7:$L$992,11,0)))","v":""}]
[203,"Michal Hemrle",1974,"M","Česká Lípa","CZ/C2",12295,3,"","",null,null,{"$f":"IF(ISERROR(VLOOKUP(B209,'Zebrik W'!$B$7:$L$992,11,0)),\"\",IF(VLOOKUP(B209,'Zebrik W'!$B$7:$L$992,11,0)=0,\"--\",VLOOKUP(B209,'Zebrik W'!$B$7:$L$992,11,0)))","v":""}]
[204,"Jaroslav Potmesil",1964,"M","Zbraslavice","CZ/C1",12217,2,"","",null,null,{"$f":"IF(ISERROR(VLOOKUP(B210,'Zebrik W'!$B$7:$L$992,11,0)),\"\",IF(VLOOKUP(B210,'Zebrik W'!$B$7:$L$992,11,0)=0,\"--\",VLOOKUP(B210,'Zebrik W'!$B$7:$L$992,11,0)))","v":""}]
[205,"Katerina Vancurova",2002,"F","Hranice","CZ/M",12086,3,"Junior v roce 2023","Junior v roce 2024",null,null,{"$f":"IF(ISERROR(VLOOKUP(B211,'Zebrik W'!$B$7:$L$992,11,0)),\"\",IF(VLOOKUP(B211,'Zebrik W'!$B$7:$L$992,11,0)=0,\"--\",VLOOKUP(B211,'Zebrik W'!$B$7:$L$992,11,0)))","v":"--"}]
[206,"Tomas Moravec",2000,"M","Žamberk","CZ/C2",12073,2,"Junior v roce 2023","Junior v roce 2024",null,null,{"$f":"IF(ISERROR(VLOOKUP(B212,'Zebrik W'!$B$7:$L$992,11,0)),\"\",IF(VLOOKUP(B212,'Zebrik W'!$B$7:$L$992,11,0)=0,\"--\",VLOOKUP(B212,'Zebrik W'!$B$7:$L$992,11,0)))","v":""}]
[207,"Petr Vezda",1974,"M","Medlánky","CZ/M",12070,3,"","",null,null,{"$f":"IF(ISERROR(VLOOKUP(B213,'Zebrik W'!$B$7:$L$992,11,0)),\"\",IF(VLOOKUP(B213,'Zebrik W'!$B$7:$L$992,11,0)=0,\"--\",VLOOKUP(B213,'Zebrik W'!$B$7:$L$992,11,0)))","v":""}]
[208,"Lubomir Doupal",1975,"M","Kroměříž","CZ/M",12031,3,"","",null,null,{"$f":"IF(ISERROR(VLOOKUP(B214,'Zebrik W'!$B$7:$L$992,11,0)),\"\",IF(VLOOKUP(B214,'Zebrik W'!$B$7:$L$992,11,0)=0,\"--\",VLOOKUP(B214,'Zebrik W'!$B$7:$L$992,11,0)))","v":""}]
[209,"Olga Mokosova",1970,"F","Jihlava","CZ/M",11907,3,"","",null,null,{"$f":"IF(ISERROR(VLOOKUP(B215,'Zebrik W'!$B$7:$L$992,11,0)),\"\",IF(VLOOKUP(B215,'Zebrik W'!$B$7:$L$992,11,0)=0,\"--\",VLOOKUP(B215,'Zebrik W'!$B$7:$L$992,11,0)))","v":"--"}]
[210,"Petr Rozhon",1972,"M","Hosín","CZ/C1",11866,2,"","",null,null,{"$f":"IF(ISERROR(VLOOKUP(B216,'Zebrik W'!$B$7:$L$992,11,0)),\"\",IF(VLOOKUP(B216,'Zebrik W'!$B$7:$L$992,11,0)=0,\"--\",VLOOKUP(B216,'Zebrik W'!$B$7:$L$992,11,0)))","v":""}]
[211,"Petr Bartak",1984,"M","Letkov","CZ/C1",11845,2,"","",null,null,{"$f":"IF(ISERROR(VLOOKUP(B217,'Zebrik W'!$B$7:$L$992,11,0)),\"\",IF(VLOOKUP(B217,'Zebrik W'!$B$7:$L$992,11,0)=0,\"--\",VLOOKUP(B217,'Zebrik W'!$B$7:$L$992,11,0)))","v":""}]
[212,"Roman Lanzendorf",1964,"M","Letkov","CZ/C1",11832,2,"","",null,null,{"$f":"IF(ISERROR(VLOOKUP(B218,'Zebrik W'!$B$7:$L$992,11,0)),\"\",IF(VLOOKUP(B218,'Zebrik W'!$B$7:$L$992,11,0)=0,\"--\",VLOOKUP(B218,'Zebrik W'!$B$7:$L$992,11,0)))","v":""}]
[213,"Lukas Plocek",1990,"M","Mladá Boleslav","CZ/C1",11736,3,"","",null,null,{"$f":"IF(ISERROR(VLOOKUP(B219,'Zebrik W'!$B$7:$L$992,11,0)),\"\",IF(VLOOKUP(B219,'Zebrik W'!$B$7:$L$992,11,0)=0,\"--\",VLOOKUP(B219,'Zebrik W'!$B$7:$L$992,11,0)))","v":""}]
[214,"Jaromir Pauer",1974,"M","Hosín","CZ/C1",11690,2,"","",null,null,{"$f":"IF(ISERROR(VLOOKUP(B220,'Zebrik W'!$B$7:$L$992,11,0)),\"\",IF(VLOOKUP(B220,'Zebrik W'!$B$7:$L$992,11,0)=0,\"--\",VLOOKUP(B220,'Zebrik W'!$B$7:$L$992,11,0)))","v":""}]
[215,"Karel Policky",1950,"M","Kolín","CZ/C1",11660,3,"","",null,null,{"$f":"IF(ISERROR(VLOOKUP(B221,'Zebrik W'!$B$7:$L$992,11,0)),\"\",IF(VLOOKUP(B221,'Zebrik W'!$B$7:$L$992,11,0)=0,\"--\",VLOOKUP(B221,'Zebrik W'!$B$7:$L$992,11,0)))","v":""}]
[216,"Sarka Lochova",1966,"F","Šumperk","CZ/M",11641,3,"","",null,null,{"$f":"IF(ISERROR(VLOOKUP(B222,'Zebrik W'!$B$7:$L$992,11,0)),\"\",IF(VLOOKUP(B222,'Zebrik W'!$B$7:$L$992,11,0)=0,\"--\",VLOOKUP(B222,'Zebrik W'!$B$7:$L$992,11,0)))","v":"--"}]
[217,"Slavomir Piskaty 84",1984,"M","Kunovice","CZ/M",11524,2,"","",null,null,{"$f":"IF(ISERROR(VLOOKUP(B223,'Zebrik W'!$B$7:$L$992,11,0)),\"\",IF(VLOOKUP(B223,'Zebrik W'!$B$7:$L$992,11,0)=0,\"--\",VLOOKUP(B223,'Zebrik W'!$B$7:$L$992,11,0)))","v":""}]
[218,"Katerina Vojtova",1983,"F","Slaný","CZ/C1",11433,3,"","",null,null,{"$f":"IF(ISERROR(VLOOKUP(B224,'Zebrik W'!$B$7:$L$992,11,0)),\"\",IF(VLOOKUP(B224,'Zebrik W'!$B$7:$L$992,11,0)=0,\"--\",VLOOKUP(B224,'Zebrik W'!$B$7:$L$992,11,0)))","v":"--"}]
[219,"Ondrej Blaha",1976,"M","Letňany","CZ/C1",11261,2,"","",null,null,{"$f":"IF(ISERROR(VLOOKUP(B225,'Zebrik W'!$B$7:$L$992,11,0)),\"\",IF(VLOOKUP(B225,'Zebrik W'!$B$7:$L$992,11,0)=0,\"--\",VLOOKUP(B225,'Zebrik W'!$B$7:$L$992,11,0)))","v":""}]
[220,"Daniel Suchy",1995,"M","Hranice","CZ/M",11235,2,"","",null,null,{"$f":"IF(ISERROR(VLOOKUP(B226,'Zebrik W'!$B$7:$L$992,11,0)),\"\",IF(VLOOKUP(B226,'Zebrik W'!$B$7:$L$992,11,0)=0,\"--\",VLOOKUP(B226,'Zebrik W'!$B$7:$L$992,11,0)))","v":""}]
[221,"Lukas Petrzela",1987,"M","Olomouc","CZ/M",11207,3,"","",null,null,{"$f":"IF(ISERROR(VLOOKUP(B227,'Zebrik W'!$B$7:$L$992,11,0)),\"\",IF(VLOOKUP(B227,'Zebrik W'!$B$7:$L$992,11,0)=0,\"--\",VLOOKUP(B227,'Zebrik W'!$B$7:$L$992,11,0)))","v":""}]
[222,"Vit Prokop",1987,"M","Medlánky","CZ/M",11181,2,"","",null,null,{"$f":"IF(ISERROR(VLOOKUP(B228,'Zebrik W'!$B$7:$L$992,11,0)),\"\",IF(VLOOKUP(B228,'Zebrik W'!$B$7:$L$992,11,0)=0,\"--\",VLOOKUP(B228,'Zebrik W'!$B$7:$L$992,11,0)))","v":""}]
[223,"Vaclav Sehnal",1962,"M","Kolín","CZ/C1",11152,3,"","",null,null,{"$f":"IF(ISERROR(VLOOKUP(B229,'Zebrik W'!$B$7:$L$992,11,0)),\"\",IF(VLOOKUP(B229,'Zebrik W'!$B$7:$L$992,11,0)=0,\"--\",VLOOKUP(B229,'Zebrik W'!$B$7:$L$992,11,0)))","v":""}]
[224,"Jana Mezerova",1975,"F","Raná","CZ/C2",11092,3,"","",null,null,{"$f":"IF(ISERROR(VLOOKUP(B230,'Zebrik W'!$B$7:$L$992,11,0)),\"\",IF(VLOOKUP(B230,'Zebrik W'!$B$7:$L$992,11,0)=0,\"--\",VLOOKUP(B230,'Zebrik W'!$B$7:$L$992,11,0)))","v":"--"}]
[225,"Jan Rott",1962,"M","Hronov","CZ/C2",10858,3,"","",null,null,{"$f":"IF(ISERROR(VLOOKUP(B231,'Zebrik W'!$B$7:$L$992,11,0)),\"\",IF(VLOOKUP(B231,'Zebrik W'!$B$7:$L$992,11,0)=0,\"--\",VLOOKUP(B231,'Zebrik W'!$B$7:$L$992,11,0)))","v":""}]
[226,"Slavomir Tanglmajer",1966,"M","Chomutov","CZ/C2",10851,3,"","",null,null,{"$f":"IF(ISERROR(VLOOKUP(B232,'Zebrik W'!$B$7:$L$992,11,0)),\"\",IF(VLOOKUP(B232,'Zebrik W'!$B$7:$L$992,11,0)=0,\"--\",VLOOKUP(B232,'Zebrik W'!$B$7:$L$992,11,0)))","v":""}]
[227,"Krystof Mimra",1992,"M","Most","CZ/C2",10830,2,"","",null,null,{"$f":"IF(ISERROR(VLOOKUP(B233,'Zebrik W'!$B$7:$L$992,11,0)),\"\",IF(VLOOKUP(B233,'Zebrik W'!$B$7:$L$992,11,0)=0,\"--\",VLOOKUP(B233,'Zebrik W'!$B$7:$L$992,11,0)))","v":""}]
[228,"Dalibor Pek",1968,"M","Raná","CZ/C2",10761,2,"","",null,null,{"$f":"IF(ISERROR(VLOOKUP(B234,'Zebrik W'!$B$7:$L$992,11,0)),\"\",IF(VLOOKUP(B234,'Zebrik W'!$B$7:$L$992,11,0)=0,\"--\",VLOOKUP(B234,'Zebrik W'!$B$7:$L$992,11,0)))","v":""}]
[229,"Pavel Liska",1965,"M","Roudnice","CZ/C2",10351,2,"","",null,null,{"$f":"IF(ISERROR(VLOOKUP(B235,'Zebrik W'!$B$7:$L$992,11,0)),\"\",IF(VLOOKUP(B235,'Zebrik W'!$B$7:$L$992,11,0)=0,\"--\",VLOOKUP(B235,'Zebrik W'!$B$7:$L$992,11,0)))","v":""}]
[230,"Jan Hejret",1976,"M","Jaroměř","CZ/C2",10089,2,{"$f":"IF(C236=\"(prázdné)\",\"\",IF(($I$4-C236)>25,\"\",\"Junior v roce \"&$I$4))","v":""},{"$f":"IF(C236=\"(prázdné)\",\"\",IF(($J$4-C236)>25,\"\",\"Junior v roce \"&$J$4))","v":""},null,null,{"$f":"IF(ISERROR(VLOOKUP(B236,'Zebrik W'!$B$7:$L$992,11,0)),\"\",IF(VLOOKUP(B236,'Zebrik W'!$B$7:$L$992,11,0)=0,\"--\",VLOOKUP(B236,'Zebrik W'!$B$7:$L$992,11,0)))","v":""}]
[231,"Michal Vranek",1993,"M","Hosín","CZ/C1",9913,2,"","",null,null,{"$f":"IF(ISERROR(VLOOKUP(B237,'Zebrik W'!$B$7:$L$992,11,0)),\"\",IF(VLOOKUP(B237,'Zebrik W'!$B$7:$L$992,11,0)=0,\"--\",VLOOKUP(B237,'Zebrik W'!$B$7:$L$992,11,0)))","v":""}]
[232,"Oldrich Hlavacek",1973,"M","Medlánky","CZ/M",9675,2,"","",null,null,{"$f":"IF(ISERROR(VLOOKUP(B238,'Zebrik W'!$B$7:$L$992,11,0)),\"\",IF(VLOOKUP(B238,'Zebrik W'!$B$7:$L$992,11,0)=0,\"--\",VLOOKUP(B238,'Zebrik W'!$B$7:$L$992,11,0)))","v":""}]
[233,"Josef Hlusek",1993,"M","Kunovice","CZ/M",9607,3,"","",null,null,{"$f":"IF(ISERROR(VLOOKUP(B239,'Zebrik W'!$B$7:$L$992,11,0)),\"\",IF(VLOOKUP(B239,'Zebrik W'!$B$7:$L$992,11,0)=0,\"--\",VLOOKUP(B239,'Zebrik W'!$B$7:$L$992,11,0)))","v":""}]
[234,"Jan Podhrazsky",1976,"M","Šumperk","CZ/M",9565,2,"","",null,null,{"$f":"IF(ISERROR(VLOOKUP(B240,'Zebrik W'!$B$7:$L$992,11,0)),\"\",IF(VLOOKUP(B240,'Zebrik W'!$B$7:$L$992,11,0)=0,\"--\",VLOOKUP(B240,'Zebrik W'!$B$7:$L$992,11,0)))","v":""}]
[235,"Jaroslav Vancata",1985,"M","Raná","CZ/C2",9548,2,"","",null,null,{"$f":"IF(ISERROR(VLOOKUP(B241,'Zebrik W'!$B$7:$L$992,11,0)),\"\",IF(VLOOKUP(B241,'Zebrik W'!$B$7:$L$992,11,0)=0,\"--\",VLOOKUP(B241,'Zebrik W'!$B$7:$L$992,11,0)))","v":""}]
[236,"Vaclav Svoboda",1970,"M","Letkov","CZ/C1",9520,2,"","",null,null,{"$f":"IF(ISERROR(VLOOKUP(B242,'Zebrik W'!$B$7:$L$992,11,0)),\"\",IF(VLOOKUP(B242,'Zebrik W'!$B$7:$L$992,11,0)=0,\"--\",VLOOKUP(B242,'Zebrik W'!$B$7:$L$992,11,0)))","v":""}]
[237,"Vaclav Kysilka",1979,"M","GAC Benešov","CZ/C1",9484,2,"","",null,null,{"$f":"IF(ISERROR(VLOOKUP(B243,'Zebrik W'!$B$7:$L$992,11,0)),\"\",IF(VLOOKUP(B243,'Zebrik W'!$B$7:$L$992,11,0)=0,\"--\",VLOOKUP(B243,'Zebrik W'!$B$7:$L$992,11,0)))","v":""}]
[238,"Lukas Hykl",1985,"M","Kolín","CZ/C1",9438,3,"","",null,null,{"$f":"IF(ISERROR(VLOOKUP(B244,'Zebrik W'!$B$7:$L$992,11,0)),\"\",IF(VLOOKUP(B244,'Zebrik W'!$B$7:$L$992,11,0)=0,\"--\",VLOOKUP(B244,'Zebrik W'!$B$7:$L$992,11,0)))","v":""}]
[239,"Ales Holoubek",1966,"M","Jičín","CZ/C2",9309,2,"","",null,null,{"$f":"IF(ISERROR(VLOOKUP(B245,'Zebrik W'!$B$7:$L$992,11,0)),\"\",IF(VLOOKUP(B245,'Zebrik W'!$B$7:$L$992,11,0)=0,\"--\",VLOOKUP(B245,'Zebrik W'!$B$7:$L$992,11,0)))","v":""}]
[240,"Tomas Jung",1950,"M","Zbraslavice","CZ/C1",9296,3,"","",null,null,{"$f":"IF(ISERROR(VLOOKUP(B246,'Zebrik W'!$B$7:$L$992,11,0)),\"\",IF(VLOOKUP(B246,'Zebrik W'!$B$7:$L$992,11,0)=0,\"--\",VLOOKUP(B246,'Zebrik W'!$B$7:$L$992,11,0)))","v":""}]
[241,"Miroslav Major",1968,"M","Kralupy","CZ/C1",9270,3,"","",null,null,{"$f":"IF(ISERROR(VLOOKUP(B247,'Zebrik W'!$B$7:$L$992,11,0)),\"\",IF(VLOOKUP(B247,'Zebrik W'!$B$7:$L$992,11,0)=0,\"--\",VLOOKUP(B247,'Zebrik W'!$B$7:$L$992,11,0)))","v":""}]
[242,"Petr Hosek",2001,"M","Beroun","CZ/C1",9190,2,"Junior v roce 2023","Junior v roce 2024",null,null,{"$f":"IF(ISERROR(VLOOKUP(B248,'Zebrik W'!$B$7:$L$992,11,0)),\"\",IF(VLOOKUP(B248,'Zebrik W'!$B$7:$L$992,11,0)=0,\"--\",VLOOKUP(B248,'Zebrik W'!$B$7:$L$992,11,0)))","v":""}]
[243,"Petr Starek",1974,"M","Zbraslavice","CZ/C1",9047,2,"","",null,null,{"$f":"IF(ISERROR(VLOOKUP(B249,'Zebrik W'!$B$7:$L$992,11,0)),\"\",IF(VLOOKUP(B249,'Zebrik W'!$B$7:$L$992,11,0)=0,\"--\",VLOOKUP(B249,'Zebrik W'!$B$7:$L$992,11,0)))","v":""}]
[244,"David Darnady",1987,"M","Zbraslavice","CZ/C1",8994,1,"","",null,null,{"$f":"IF(ISERROR(VLOOKUP(B250,'Zebrik W'!$B$7:$L$992,11,0)),\"\",IF(VLOOKUP(B250,'Zebrik W'!$B$7:$L$992,11,0)=0,\"--\",VLOOKUP(B250,'Zebrik W'!$B$7:$L$992,11,0)))","v":""}]
[245,"Jakub Kohn",1992,"M","Prostějov","CZ/M",8975,2,"","",null,null,{"$f":"IF(ISERROR(VLOOKUP(B251,'Zebrik W'!$B$7:$L$992,11,0)),\"\",IF(VLOOKUP(B251,'Zebrik W'!$B$7:$L$992,11,0)=0,\"--\",VLOOKUP(B251,'Zebrik W'!$B$7:$L$992,11,0)))","v":""}]
[246,"Jan Adam",2002,"M","Podhořany","CZ/C2",8956,2,"Junior v roce 2023","Junior v roce 2024",null,null,{"$f":"IF(ISERROR(VLOOKUP(B252,'Zebrik W'!$B$7:$L$992,11,0)),\"\",IF(VLOOKUP(B252,'Zebrik W'!$B$7:$L$992,11,0)=0,\"--\",VLOOKUP(B252,'Zebrik W'!$B$7:$L$992,11,0)))","v":""}]
[247,"Josef Kreutzer",1992,"M","Letkov","CZ/C1",8918,2,"","",null,null,{"$f":"IF(ISERROR(VLOOKUP(B253,'Zebrik W'!$B$7:$L$992,11,0)),\"\",IF(VLOOKUP(B253,'Zebrik W'!$B$7:$L$992,11,0)=0,\"--\",VLOOKUP(B253,'Zebrik W'!$B$7:$L$992,11,0)))","v":""}]
[248,"Jiri Cincera",1966,"M","Toužim","CZ/C1",8890,2,"","",null,null,{"$f":"IF(ISERROR(VLOOKUP(B254,'Zebrik W'!$B$7:$L$992,11,0)),\"\",IF(VLOOKUP(B254,'Zebrik W'!$B$7:$L$992,11,0)=0,\"--\",VLOOKUP(B254,'Zebrik W'!$B$7:$L$992,11,0)))","v":""}]
[249,"Jan Zanda",1983,"M","Letkov","CZ/C1",8857,2,"","",null,null,{"$f":"IF(ISERROR(VLOOKUP(B255,'Zebrik W'!$B$7:$L$992,11,0)),\"\",IF(VLOOKUP(B255,'Zebrik W'!$B$7:$L$992,11,0)=0,\"--\",VLOOKUP(B255,'Zebrik W'!$B$7:$L$992,11,0)))","v":""}]
[250,"Pavel Zima",1979,"M","Břeclav","CZ/M",8783,1,"","",null,null,{"$f":"IF(ISERROR(VLOOKUP(B256,'Zebrik W'!$B$7:$L$992,11,0)),\"\",IF(VLOOKUP(B256,'Zebrik W'!$B$7:$L$992,11,0)=0,\"--\",VLOOKUP(B256,'Zebrik W'!$B$7:$L$992,11,0)))","v":""}]
[251,"Petr Masik",2001,"M","Zábřeh","CZ/M",8777,2,"Junior v roce 2023","Junior v roce 2024",null,null,{"$f":"IF(ISERROR(VLOOKUP(B257,'Zebrik W'!$B$7:$L$992,11,0)),\"\",IF(VLOOKUP(B257,'Zebrik W'!$B$7:$L$992,11,0)=0,\"--\",VLOOKUP(B257,'Zebrik W'!$B$7:$L$992,11,0)))","v":""}]
[252,"Yvona Vyhnankova",1963,"F","Olomouc","CZ/M",8708,3,"","",null,null,{"$f":"IF(ISERROR(VLOOKUP(B258,'Zebrik W'!$B$7:$L$992,11,0)),\"\",IF(VLOOKUP(B258,'Zebrik W'!$B$7:$L$992,11,0)=0,\"--\",VLOOKUP(B258,'Zebrik W'!$B$7:$L$992,11,0)))","v":"--"}]
[253,"Adam Sugl",1987,"M","Vyškov","CZ/M",8707,2,"","",null,null,{"$f":"IF(ISERROR(VLOOKUP(B259,'Zebrik W'!$B$7:$L$992,11,0)),\"\",IF(VLOOKUP(B259,'Zebrik W'!$B$7:$L$992,11,0)=0,\"--\",VLOOKUP(B259,'Zebrik W'!$B$7:$L$992,11,0)))","v":""}]
[254,"Lukas Koukal",1991,"M","Letkov","CZ/C1",8653,1,"","",null,null,{"$f":"IF(ISERROR(VLOOKUP(B260,'Zebrik W'!$B$7:$L$992,11,0)),\"\",IF(VLOOKUP(B260,'Zebrik W'!$B$7:$L$992,11,0)=0,\"--\",VLOOKUP(B260,'Zebrik W'!$B$7:$L$992,11,0)))","v":""}]
[255,"Petr Hofman",1984,"M","Letňany","CZ/C1",8549,1,"","",null,null,{"$f":"IF(ISERROR(VLOOKUP(B261,'Zebrik W'!$B$7:$L$992,11,0)),\"\",IF(VLOOKUP(B261,'Zebrik W'!$B$7:$L$992,11,0)=0,\"--\",VLOOKUP(B261,'Zebrik W'!$B$7:$L$992,11,0)))","v":""}]
[256,"Ondrej Dvorak 87",1987,"M","Raná","CZ/C2",8547,1,"","",null,null,{"$f":"IF(ISERROR(VLOOKUP(B262,'Zebrik W'!$B$7:$L$992,11,0)),\"\",IF(VLOOKUP(B262,'Zebrik W'!$B$7:$L$992,11,0)=0,\"--\",VLOOKUP(B262,'Zebrik W'!$B$7:$L$992,11,0)))","v":""}]
[{"$f":"RANK(G263,G:G)","v":257},"Ivo Burda",1962,"M","Zbraslavice","CZ/C1",8432,2,"","",null,null,{"$f":"IF(ISERROR(VLOOKUP(B263,'Zebrik W'!$B$7:$L$992,11,0)),\"\",IF(VLOOKUP(B263,'Zebrik W'!$B$7:$L$992,11,0)=0,\"--\",VLOOKUP(B263,'Zebrik W'!$B$7:$L$992,11,0)))","v":""}]
[258,"Vojtech Vach 76",1976,"M","Nové Město nad Metují","CZ/C2",8412,2,"","",null,null,{"$f":"IF(ISERROR(VLOOKUP(B264,'Zebrik W'!$B$7:$L$992,11,0)),\"\",IF(VLOOKUP(B264,'Zebrik W'!$B$7:$L$992,11,0)=0,\"--\",VLOOKUP(B264,'Zebrik W'!$B$7:$L$992,11,0)))","v":""}]
[259,"Frantisek Suna",1983,"M","Hosín","CZ/C1",8381,2,"","",null,null,{"$f":"IF(ISERROR(VLOOKUP(B265,'Zebrik W'!$B$7:$L$992,11,0)),\"\",IF(VLOOKUP(B265,'Zebrik W'!$B$7:$L$992,11,0)=0,\"--\",VLOOKUP(B265,'Zebrik W'!$B$7:$L$992,11,0)))","v":""}]
[260,"Jan Pubec",1979,"M","Plzeň Bory","CZ/C1",8331,1,"","",null,null,{"$f":"IF(ISERROR(VLOOKUP(B266,'Zebrik W'!$B$7:$L$992,11,0)),\"\",IF(VLOOKUP(B266,'Zebrik W'!$B$7:$L$992,11,0)=0,\"--\",VLOOKUP(B266,'Zebrik W'!$B$7:$L$992,11,0)))","v":""}]
[261,"Radim Sobek",1977,"M","Hranice","CZ/M",8243,1,"","",null,null,{"$f":"IF(ISERROR(VLOOKUP(B267,'Zebrik W'!$B$7:$L$992,11,0)),\"\",IF(VLOOKUP(B267,'Zebrik W'!$B$7:$L$992,11,0)=0,\"--\",VLOOKUP(B267,'Zebrik W'!$B$7:$L$992,11,0)))","v":""}]
[262,"Jaroslav Hot",1965,"M","Toužim","CZ/C1",8194,2,"","",null,null,{"$f":"IF(ISERROR(VLOOKUP(B268,'Zebrik W'!$B$7:$L$992,11,0)),\"\",IF(VLOOKUP(B268,'Zebrik W'!$B$7:$L$992,11,0)=0,\"--\",VLOOKUP(B268,'Zebrik W'!$B$7:$L$992,11,0)))","v":""}]
[263,"Jan Sustr 76",1976,"M","Raná","CZ/C2",8149,2,"","",null,null,{"$f":"IF(ISERROR(VLOOKUP(B269,'Zebrik W'!$B$7:$L$992,11,0)),\"\",IF(VLOOKUP(B269,'Zebrik W'!$B$7:$L$992,11,0)=0,\"--\",VLOOKUP(B269,'Zebrik W'!$B$7:$L$992,11,0)))","v":""}]
[264,"Jaroslav Kares",1962,"M","Olomouc","CZ/M",8138,3,"","",null,null,{"$f":"IF(ISERROR(VLOOKUP(B270,'Zebrik W'!$B$7:$L$992,11,0)),\"\",IF(VLOOKUP(B270,'Zebrik W'!$B$7:$L$992,11,0)=0,\"--\",VLOOKUP(B270,'Zebrik W'!$B$7:$L$992,11,0)))","v":""}]
[265,"Tomas Holenda",1956,"M","Havlíčkův Brod","CZ/C2",8071,3,"","",null,null,{"$f":"IF(ISERROR(VLOOKUP(B271,'Zebrik W'!$B$7:$L$992,11,0)),\"\",IF(VLOOKUP(B271,'Zebrik W'!$B$7:$L$992,11,0)=0,\"--\",VLOOKUP(B271,'Zebrik W'!$B$7:$L$992,11,0)))","v":""}]
[266,"Jiri Hodan",1959,"M","Zbraslavice","CZ/C1",7951,2,"","",null,null,{"$f":"IF(ISERROR(VLOOKUP(B272,'Zebrik W'!$B$7:$L$992,11,0)),\"\",IF(VLOOKUP(B272,'Zebrik W'!$B$7:$L$992,11,0)=0,\"--\",VLOOKUP(B272,'Zebrik W'!$B$7:$L$992,11,0)))","v":""}]
[267,"Matous Schmidt",1981,"M","Letňany","CZ/C1",7943,2,"","",null,null,{"$f":"IF(ISERROR(VLOOKUP(B273,'Zebrik W'!$B$7:$L$992,11,0)),\"\",IF(VLOOKUP(B273,'Zebrik W'!$B$7:$L$992,11,0)=0,\"--\",VLOOKUP(B273,'Zebrik W'!$B$7:$L$992,11,0)))","v":""}]
[268,"Petr Jiranek 91",1991,"M","Toužim","CZ/C1",7929,1,"","",null,null,{"$f":"IF(ISERROR(VLOOKUP(B274,'Zebrik W'!$B$7:$L$992,11,0)),\"\",IF(VLOOKUP(B274,'Zebrik W'!$B$7:$L$992,11,0)=0,\"--\",VLOOKUP(B274,'Zebrik W'!$B$7:$L$992,11,0)))","v":""}]
[269,"Martin Valenta",1969,"M","Toužim","CZ/C1",7857,2,"","",null,null,{"$f":"IF(ISERROR(VLOOKUP(B275,'Zebrik W'!$B$7:$L$992,11,0)),\"\",IF(VLOOKUP(B275,'Zebrik W'!$B$7:$L$992,11,0)=0,\"--\",VLOOKUP(B275,'Zebrik W'!$B$7:$L$992,11,0)))","v":""}]
[270,"Tomas Seifert",1972,"M","Raná","CZ/C2",7797,2,"","",null,null,{"$f":"IF(ISERROR(VLOOKUP(B276,'Zebrik W'!$B$7:$L$992,11,0)),\"\",IF(VLOOKUP(B276,'Zebrik W'!$B$7:$L$992,11,0)=0,\"--\",VLOOKUP(B276,'Zebrik W'!$B$7:$L$992,11,0)))","v":""}]
[271,"Jiri Krofta",1988,"M","Hosín","CZ/C1",7789,3,"","",null,null,{"$f":"IF(ISERROR(VLOOKUP(B277,'Zebrik W'!$B$7:$L$992,11,0)),\"\",IF(VLOOKUP(B277,'Zebrik W'!$B$7:$L$992,11,0)=0,\"--\",VLOOKUP(B277,'Zebrik W'!$B$7:$L$992,11,0)))","v":""}]
[272,"Josef Kolman",1983,"M","Letňany","CZ/C1",7770,1,"","",null,null,{"$f":"IF(ISERROR(VLOOKUP(B278,'Zebrik W'!$B$7:$L$992,11,0)),\"\",IF(VLOOKUP(B278,'Zebrik W'!$B$7:$L$992,11,0)=0,\"--\",VLOOKUP(B278,'Zebrik W'!$B$7:$L$992,11,0)))","v":""}]
[273,"Antonin Novotny",1972,"M","Luhačovice","CZ/M",7758,1,"","",null,null,{"$f":"IF(ISERROR(VLOOKUP(B279,'Zebrik W'!$B$7:$L$992,11,0)),\"\",IF(VLOOKUP(B279,'Zebrik W'!$B$7:$L$992,11,0)=0,\"--\",VLOOKUP(B279,'Zebrik W'!$B$7:$L$992,11,0)))","v":""}]
[274,"Adam Hepal",2004,"M","Kolín","CZ/C1",7714,2,"Junior v roce 2023","Junior v roce 2024",null,null,{"$f":"IF(ISERROR(VLOOKUP(B280,'Zebrik W'!$B$7:$L$992,11,0)),\"\",IF(VLOOKUP(B280,'Zebrik W'!$B$7:$L$992,11,0)=0,\"--\",VLOOKUP(B280,'Zebrik W'!$B$7:$L$992,11,0)))","v":""}]
[275,"Zbynek Bican",1961,"M","Raná","CZ/C2",7705,2,"","",null,null,{"$f":"IF(ISERROR(VLOOKUP(B281,'Zebrik W'!$B$7:$L$992,11,0)),\"\",IF(VLOOKUP(B281,'Zebrik W'!$B$7:$L$992,11,0)=0,\"--\",VLOOKUP(B281,'Zebrik W'!$B$7:$L$992,11,0)))","v":""}]
[276,"Radek Zima 75",1975,"M","Břeclav","CZ/M",7674,1,"","",null,null,{"$f":"IF(ISERROR(VLOOKUP(B282,'Zebrik W'!$B$7:$L$992,11,0)),\"\",IF(VLOOKUP(B282,'Zebrik W'!$B$7:$L$992,11,0)=0,\"--\",VLOOKUP(B282,'Zebrik W'!$B$7:$L$992,11,0)))","v":""}]
[277,"Marek Svancara",1976,"M","GAC Benešov","CZ/C1",7669,1,"","",null,null,{"$f":"IF(ISERROR(VLOOKUP(B283,'Zebrik W'!$B$7:$L$992,11,0)),\"\",IF(VLOOKUP(B283,'Zebrik W'!$B$7:$L$992,11,0)=0,\"--\",VLOOKUP(B283,'Zebrik W'!$B$7:$L$992,11,0)))","v":""}]
[278,"Michael Fik",1972,"M","Strakonice","CZ/C1",7656,1,"","",null,null,{"$f":"IF(ISERROR(VLOOKUP(B284,'Zebrik W'!$B$7:$L$992,11,0)),\"\",IF(VLOOKUP(B284,'Zebrik W'!$B$7:$L$992,11,0)=0,\"--\",VLOOKUP(B284,'Zebrik W'!$B$7:$L$992,11,0)))","v":""}]
[279,"Marek Pechar",1995,"M","Chrudim","CZ/C2",7608,2,"","",null,null,{"$f":"IF(ISERROR(VLOOKUP(B285,'Zebrik W'!$B$7:$L$992,11,0)),\"\",IF(VLOOKUP(B285,'Zebrik W'!$B$7:$L$992,11,0)=0,\"--\",VLOOKUP(B285,'Zebrik W'!$B$7:$L$992,11,0)))","v":""}]
[280,"Zdenek Mach",1976,"M","Broumov","CZ/C2",7548,2,"","",null,null,{"$f":"IF(ISERROR(VLOOKUP(B286,'Zebrik W'!$B$7:$L$992,11,0)),\"\",IF(VLOOKUP(B286,'Zebrik W'!$B$7:$L$992,11,0)=0,\"--\",VLOOKUP(B286,'Zebrik W'!$B$7:$L$992,11,0)))","v":""}]
[281,"David Riha",1983,"M","Vlašim","CZ/C1",7500,1,"","",null,null,{"$f":"IF(ISERROR(VLOOKUP(B287,'Zebrik W'!$B$7:$L$992,11,0)),\"\",IF(VLOOKUP(B287,'Zebrik W'!$B$7:$L$992,11,0)=0,\"--\",VLOOKUP(B287,'Zebrik W'!$B$7:$L$992,11,0)))","v":""}]
[282,"Tomas Ptacovsky",1981,"M","Letňany","CZ/C1",7483,1,"","",null,null,{"$f":"IF(ISERROR(VLOOKUP(B288,'Zebrik W'!$B$7:$L$992,11,0)),\"\",IF(VLOOKUP(B288,'Zebrik W'!$B$7:$L$992,11,0)=0,\"--\",VLOOKUP(B288,'Zebrik W'!$B$7:$L$992,11,0)))","v":""}]
[283,"Antonin Konicek",1973,"M","Kunovice","CZ/M",7475,1,"","",null,null,{"$f":"IF(ISERROR(VLOOKUP(B289,'Zebrik W'!$B$7:$L$992,11,0)),\"\",IF(VLOOKUP(B289,'Zebrik W'!$B$7:$L$992,11,0)=0,\"--\",VLOOKUP(B289,'Zebrik W'!$B$7:$L$992,11,0)))","v":""}]
[284,"Fabian Curda",2004,"M","Zábřeh","CZ/M",7454,2,"Junior v roce 2023","Junior v roce 2024",null,null,{"$f":"IF(ISERROR(VLOOKUP(B290,'Zebrik W'!$B$7:$L$992,11,0)),\"\",IF(VLOOKUP(B290,'Zebrik W'!$B$7:$L$992,11,0)=0,\"--\",VLOOKUP(B290,'Zebrik W'!$B$7:$L$992,11,0)))","v":""}]
[285,"Petr Valenta 76",1976,"M","Jaroměř","CZ/C2",7433,2,"","",null,null,{"$f":"IF(ISERROR(VLOOKUP(B291,'Zebrik W'!$B$7:$L$992,11,0)),\"\",IF(VLOOKUP(B291,'Zebrik W'!$B$7:$L$992,11,0)=0,\"--\",VLOOKUP(B291,'Zebrik W'!$B$7:$L$992,11,0)))","v":""}]
[286,"Jan Sponer",1988,"M","Medlánky","CZ/M",7364,1,"","",null,null,{"$f":"IF(ISERROR(VLOOKUP(B292,'Zebrik W'!$B$7:$L$992,11,0)),\"\",IF(VLOOKUP(B292,'Zebrik W'!$B$7:$L$992,11,0)=0,\"--\",VLOOKUP(B292,'Zebrik W'!$B$7:$L$992,11,0)))","v":""}]
[287,"Anna Bordovska",1989,"F","Mladá Boleslav","CZ/C1",7324,1,"","",null,null,{"$f":"IF(ISERROR(VLOOKUP(B293,'Zebrik W'!$B$7:$L$992,11,0)),\"\",IF(VLOOKUP(B293,'Zebrik W'!$B$7:$L$992,11,0)=0,\"--\",VLOOKUP(B293,'Zebrik W'!$B$7:$L$992,11,0)))","v":"--"}]
[288,"Jiri Hula",1973,"M","Slaný","CZ/C1",7323,2,"","",null,null,{"$f":"IF(ISERROR(VLOOKUP(B294,'Zebrik W'!$B$7:$L$992,11,0)),\"\",IF(VLOOKUP(B294,'Zebrik W'!$B$7:$L$992,11,0)=0,\"--\",VLOOKUP(B294,'Zebrik W'!$B$7:$L$992,11,0)))","v":""}]
[289,"Vojtech Pivonka",1976,"M","Vrchlabí","CZ/C2",7300,1,"","",null,null,{"$f":"IF(ISERROR(VLOOKUP(B295,'Zebrik W'!$B$7:$L$992,11,0)),\"\",IF(VLOOKUP(B295,'Zebrik W'!$B$7:$L$992,11,0)=0,\"--\",VLOOKUP(B295,'Zebrik W'!$B$7:$L$992,11,0)))","v":""}]
[289,"Radek Tobolka",1977,"M","Jičín","CZ/C2",7300,1,"","",null,null,{"$f":"IF(ISERROR(VLOOKUP(B296,'Zebrik W'!$B$7:$L$992,11,0)),\"\",IF(VLOOKUP(B296,'Zebrik W'!$B$7:$L$992,11,0)=0,\"--\",VLOOKUP(B296,'Zebrik W'!$B$7:$L$992,11,0)))","v":""}]
[291,"Karel Ertl",1939,"M","LK Břeclav","CZ/M",7293,3,"","",null,null,{"$f":"IF(ISERROR(VLOOKUP(B297,'Zebrik W'!$B$7:$L$992,11,0)),\"\",IF(VLOOKUP(B297,'Zebrik W'!$B$7:$L$992,11,0)=0,\"--\",VLOOKUP(B297,'Zebrik W'!$B$7:$L$992,11,0)))","v":""}]
[292,"Radoslav Pur",1973,"M","Hosín","CZ/C1",7242,2,"","",null,null,{"$f":"IF(ISERROR(VLOOKUP(B298,'Zebrik W'!$B$7:$L$992,11,0)),\"\",IF(VLOOKUP(B298,'Zebrik W'!$B$7:$L$992,11,0)=0,\"--\",VLOOKUP(B298,'Zebrik W'!$B$7:$L$992,11,0)))","v":""}]
[293,"Tomas Jilek",1995,"M","Raná","CZ/C2",7223,1,"","",null,null,{"$f":"IF(ISERROR(VLOOKUP(B299,'Zebrik W'!$B$7:$L$992,11,0)),\"\",IF(VLOOKUP(B299,'Zebrik W'!$B$7:$L$992,11,0)=0,\"--\",VLOOKUP(B299,'Zebrik W'!$B$7:$L$992,11,0)))","v":""}]
[294,"Jindrich Hruska",1986,"M","Soběslav","CZ/C1",7044,1,{"$f":"IF(C300=\"(prázdné)\",\"\",IF(($I$4-C300)>25,\"\",\"Junior v roce \"&$I$4))","v":""},{"$f":"IF(C300=\"(prázdné)\",\"\",IF(($J$4-C300)>25,\"\",\"Junior v roce \"&$J$4))","v":""},null,null,{"$f":"IF(ISERROR(VLOOKUP(B300,'Zebrik W'!$B$7:$L$992,11,0)),\"\",IF(VLOOKUP(B300,'Zebrik W'!$B$7:$L$992,11,0)=0,\"--\",VLOOKUP(B300,'Zebrik W'!$B$7:$L$992,11,0)))","v":""}]
[295,"Michal Navratil",1985,"M","Křižanov","CZ/M",7016,1,"","",null,null,{"$f":"IF(ISERROR(VLOOKUP(B301,'Zebrik W'!$B$7:$L$992,11,0)),\"\",IF(VLOOKUP(B301,'Zebrik W'!$B$7:$L$992,11,0)=0,\"--\",VLOOKUP(B301,'Zebrik W'!$B$7:$L$992,11,0)))","v":""}]
[296,"Martin Suchy",1969,"M","Hranice","CZ/M",6988,1,"","",null,null,{"$f":"IF(ISERROR(VLOOKUP(B302,'Zebrik W'!$B$7:$L$992,11,0)),\"\",IF(VLOOKUP(B302,'Zebrik W'!$B$7:$L$992,11,0)=0,\"--\",VLOOKUP(B302,'Zebrik W'!$B$7:$L$992,11,0)))","v":""}]
[297,"Libor Bednarik",1972,"M","Kunovice","CZ/M",6978,1,"","",null,null,{"$f":"IF(ISERROR(VLOOKUP(B303,'Zebrik W'!$B$7:$L$992,11,0)),\"\",IF(VLOOKUP(B303,'Zebrik W'!$B$7:$L$992,11,0)=0,\"--\",VLOOKUP(B303,'Zebrik W'!$B$7:$L$992,11,0)))","v":""}]
[298,"Petr Hora",1948,"M","Hodkovice","CZ/C2",6900,1,"","",null,null,{"$f":"IF(ISERROR(VLOOKUP(B304,'Zebrik W'!$B$7:$L$992,11,0)),\"\",IF(VLOOKUP(B304,'Zebrik W'!$B$7:$L$992,11,0)=0,\"--\",VLOOKUP(B304,'Zebrik W'!$B$7:$L$992,11,0)))","v":""}]
[299,"Filip Malik",2001,"M","Letňany","CZ/C1",6864,2,"Junior v roce 2023","Junior v roce 2024",null,null,{"$f":"IF(ISERROR(VLOOKUP(B305,'Zebrik W'!$B$7:$L$992,11,0)),\"\",IF(VLOOKUP(B305,'Zebrik W'!$B$7:$L$992,11,0)=0,\"--\",VLOOKUP(B305,'Zebrik W'!$B$7:$L$992,11,0)))","v":""}]
[300,"Petr Rygl",1966,"M","Jičín","CZ/C2",6780,1,"","",null,null,{"$f":"IF(ISERROR(VLOOKUP(B306,'Zebrik W'!$B$7:$L$992,11,0)),\"\",IF(VLOOKUP(B306,'Zebrik W'!$B$7:$L$992,11,0)=0,\"--\",VLOOKUP(B306,'Zebrik W'!$B$7:$L$992,11,0)))","v":""}]
[301,"Petr Brezina",1963,"M","Frýdlant","CZ/M",6734,3,"","",null,null,{"$f":"IF(ISERROR(VLOOKUP(B307,'Zebrik W'!$B$7:$L$992,11,0)),\"\",IF(VLOOKUP(B307,'Zebrik W'!$B$7:$L$992,11,0)=0,\"--\",VLOOKUP(B307,'Zebrik W'!$B$7:$L$992,11,0)))","v":""}]
[302,"Miloslav Cindr",1974,"M","Ústí nad Orlicí","CZ/C2",6705,2,"","",null,null,{"$f":"IF(ISERROR(VLOOKUP(B308,'Zebrik W'!$B$7:$L$992,11,0)),\"\",IF(VLOOKUP(B308,'Zebrik W'!$B$7:$L$992,11,0)=0,\"--\",VLOOKUP(B308,'Zebrik W'!$B$7:$L$992,11,0)))","v":""}]
[303,"Tomas Malik",1972,"M","Letňany","CZ/C1",6564,1,"","",null,null,{"$f":"IF(ISERROR(VLOOKUP(B309,'Zebrik W'!$B$7:$L$992,11,0)),\"\",IF(VLOOKUP(B309,'Zebrik W'!$B$7:$L$992,11,0)=0,\"--\",VLOOKUP(B309,'Zebrik W'!$B$7:$L$992,11,0)))","v":""}]
[304,"Jan Pokluda",1973,"M","Šumperk","CZ/M",6561,2,"","",null,null,{"$f":"IF(ISERROR(VLOOKUP(B310,'Zebrik W'!$B$7:$L$992,11,0)),\"\",IF(VLOOKUP(B310,'Zebrik W'!$B$7:$L$992,11,0)=0,\"--\",VLOOKUP(B310,'Zebrik W'!$B$7:$L$992,11,0)))","v":""}]
[305,"Ludek Mikl",1963,"M","Šumperk","CZ/M",6533,3,"","",null,null,{"$f":"IF(ISERROR(VLOOKUP(B311,'Zebrik W'!$B$7:$L$992,11,0)),\"\",IF(VLOOKUP(B311,'Zebrik W'!$B$7:$L$992,11,0)=0,\"--\",VLOOKUP(B311,'Zebrik W'!$B$7:$L$992,11,0)))","v":""}]
[306,"Petr Vlasak",1974,"M","Medlánky","CZ/M",6357,3,"","",null,null,{"$f":"IF(ISERROR(VLOOKUP(B312,'Zebrik W'!$B$7:$L$992,11,0)),\"\",IF(VLOOKUP(B312,'Zebrik W'!$B$7:$L$992,11,0)=0,\"--\",VLOOKUP(B312,'Zebrik W'!$B$7:$L$992,11,0)))","v":""}]
[307,"Vit Tvrdik",2000,"M","Letňany","CZ/C1",6297,1,"Junior v roce 2023","Junior v roce 2024",null,null,{"$f":"IF(ISERROR(VLOOKUP(B313,'Zebrik W'!$B$7:$L$992,11,0)),\"\",IF(VLOOKUP(B313,'Zebrik W'!$B$7:$L$992,11,0)=0,\"--\",VLOOKUP(B313,'Zebrik W'!$B$7:$L$992,11,0)))","v":""}]
[308,"Michal Buryan",1977,"M","Vysoké Mýto","CZ/C2",6293,1,"","",null,null,{"$f":"IF(ISERROR(VLOOKUP(B314,'Zebrik W'!$B$7:$L$992,11,0)),\"\",IF(VLOOKUP(B314,'Zebrik W'!$B$7:$L$992,11,0)=0,\"--\",VLOOKUP(B314,'Zebrik W'!$B$7:$L$992,11,0)))","v":""}]
[309,"Jiri Donat",1983,"M","Chrudim","CZ/C2",6195,2,"","",null,null,{"$f":"IF(ISERROR(VLOOKUP(B315,'Zebrik W'!$B$7:$L$992,11,0)),\"\",IF(VLOOKUP(B315,'Zebrik W'!$B$7:$L$992,11,0)=0,\"--\",VLOOKUP(B315,'Zebrik W'!$B$7:$L$992,11,0)))","v":""}]
[310,"Juraj Dudas",1990,"M","Křižanov","CZ/M",6185,2,"","",null,null,{"$f":"IF(ISERROR(VLOOKUP(B316,'Zebrik W'!$B$7:$L$992,11,0)),\"\",IF(VLOOKUP(B316,'Zebrik W'!$B$7:$L$992,11,0)=0,\"--\",VLOOKUP(B316,'Zebrik W'!$B$7:$L$992,11,0)))","v":""}]
[311,"Ivan Harasta 98",1998,"M","Toužim","CZ/C1",6134,1,"Junior v roce 2023","",null,null,{"$f":"IF(ISERROR(VLOOKUP(B317,'Zebrik W'!$B$7:$L$992,11,0)),\"\",IF(VLOOKUP(B317,'Zebrik W'!$B$7:$L$992,11,0)=0,\"--\",VLOOKUP(B317,'Zebrik W'!$B$7:$L$992,11,0)))","v":""}]
[312,"Milos Matejka",1956,"M","Beroun","CZ/C1",6123,1,"","",null,null,{"$f":"IF(ISERROR(VLOOKUP(B318,'Zebrik W'!$B$7:$L$992,11,0)),\"\",IF(VLOOKUP(B318,'Zebrik W'!$B$7:$L$992,11,0)=0,\"--\",VLOOKUP(B318,'Zebrik W'!$B$7:$L$992,11,0)))","v":""}]
[313,"Jiri Fousek",1990,"M","Raná","CZ/C2",6077,1,"","",null,null,{"$f":"IF(ISERROR(VLOOKUP(B319,'Zebrik W'!$B$7:$L$992,11,0)),\"\",IF(VLOOKUP(B319,'Zebrik W'!$B$7:$L$992,11,0)=0,\"--\",VLOOKUP(B319,'Zebrik W'!$B$7:$L$992,11,0)))","v":""}]
[314,"Jiri Suchomel",1950,"M","Broumov","CZ/C2",6024,2,"","",null,null,{"$f":"IF(ISERROR(VLOOKUP(B320,'Zebrik W'!$B$7:$L$992,11,0)),\"\",IF(VLOOKUP(B320,'Zebrik W'!$B$7:$L$992,11,0)=0,\"--\",VLOOKUP(B320,'Zebrik W'!$B$7:$L$992,11,0)))","v":""}]
[315,"Zbynek Fuksa",1956,"M","Jičín","CZ/C2",5971,1,"","",null,null,{"$f":"IF(ISERROR(VLOOKUP(B321,'Zebrik W'!$B$7:$L$992,11,0)),\"\",IF(VLOOKUP(B321,'Zebrik W'!$B$7:$L$992,11,0)=0,\"--\",VLOOKUP(B321,'Zebrik W'!$B$7:$L$992,11,0)))","v":""}]
[316,"Petr Gebauer",1999,"M","Mladá Boleslav","CZ/C1",5916,1,"Junior v roce 2023","Junior v roce 2024",null,null,{"$f":"IF(ISERROR(VLOOKUP(B322,'Zebrik W'!$B$7:$L$992,11,0)),\"\",IF(VLOOKUP(B322,'Zebrik W'!$B$7:$L$992,11,0)=0,\"--\",VLOOKUP(B322,'Zebrik W'!$B$7:$L$992,11,0)))","v":""}]
[317,"Ludek Souhrada",1974,"M","Raná","CZ/C2",5753,1,"","",null,null,{"$f":"IF(ISERROR(VLOOKUP(B323,'Zebrik W'!$B$7:$L$992,11,0)),\"\",IF(VLOOKUP(B323,'Zebrik W'!$B$7:$L$992,11,0)=0,\"--\",VLOOKUP(B323,'Zebrik W'!$B$7:$L$992,11,0)))","v":""}]
[318,"Stepan Filakovsky",2005,"M","Medlánky","CZ/M",5735,1,"Junior v roce 2023","Junior v roce 2024",null,null,{"$f":"IF(ISERROR(VLOOKUP(B324,'Zebrik W'!$B$7:$L$992,11,0)),\"\",IF(VLOOKUP(B324,'Zebrik W'!$B$7:$L$992,11,0)=0,\"--\",VLOOKUP(B324,'Zebrik W'!$B$7:$L$992,11,0)))","v":""}]
[319,"Pavel Opat",1975,"M","Rakovník","CZ/C1",5730,1,"","",null,null,{"$f":"IF(ISERROR(VLOOKUP(B325,'Zebrik W'!$B$7:$L$992,11,0)),\"\",IF(VLOOKUP(B325,'Zebrik W'!$B$7:$L$992,11,0)=0,\"--\",VLOOKUP(B325,'Zebrik W'!$B$7:$L$992,11,0)))","v":""}]
[320,"Pavel Foldyna",1976,"M","Frýdlant","CZ/M",5728,1,"","",null,null,{"$f":"IF(ISERROR(VLOOKUP(B326,'Zebrik W'!$B$7:$L$992,11,0)),\"\",IF(VLOOKUP(B326,'Zebrik W'!$B$7:$L$992,11,0)=0,\"--\",VLOOKUP(B326,'Zebrik W'!$B$7:$L$992,11,0)))","v":""}]
[{"$f":"RANK(G327,G:G)","v":321},"Roman Michalek",1974,"M","Toužim","CZ/C1",5664,2,"","",null,null,{"$f":"IF(ISERROR(VLOOKUP(B327,'Zebrik W'!$B$7:$L$992,11,0)),\"\",IF(VLOOKUP(B327,'Zebrik W'!$B$7:$L$992,11,0)=0,\"--\",VLOOKUP(B327,'Zebrik W'!$B$7:$L$992,11,0)))","v":""}]
[322,"Petr Kyzivat",1970,"M","Jičín","CZ/C2",5644,1,"","",null,null,{"$f":"IF(ISERROR(VLOOKUP(B328,'Zebrik W'!$B$7:$L$992,11,0)),\"\",IF(VLOOKUP(B328,'Zebrik W'!$B$7:$L$992,11,0)=0,\"--\",VLOOKUP(B328,'Zebrik W'!$B$7:$L$992,11,0)))","v":""}]
[323,"Jiri Kratochvil",2003,"M","Podhořany","CZ/C2",5517,1,"Junior v roce 2023","Junior v roce 2024",null,null,{"$f":"IF(ISERROR(VLOOKUP(B329,'Zebrik W'!$B$7:$L$992,11,0)),\"\",IF(VLOOKUP(B329,'Zebrik W'!$B$7:$L$992,11,0)=0,\"--\",VLOOKUP(B329,'Zebrik W'!$B$7:$L$992,11,0)))","v":""}]
[324,"Petr Setka",1971,"M","Letkov","CZ/C1",5499,1,"","",null,null,{"$f":"IF(ISERROR(VLOOKUP(B330,'Zebrik W'!$B$7:$L$992,11,0)),\"\",IF(VLOOKUP(B330,'Zebrik W'!$B$7:$L$992,11,0)=0,\"--\",VLOOKUP(B330,'Zebrik W'!$B$7:$L$992,11,0)))","v":""}]
[325,"Jakub Koudelka",2000,"M","Křižanov","CZ/M",5464,2,"Junior v roce 2023","Junior v roce 2024",null,null,{"$f":"IF(ISERROR(VLOOKUP(B331,'Zebrik W'!$B$7:$L$992,11,0)),\"\",IF(VLOOKUP(B331,'Zebrik W'!$B$7:$L$992,11,0)=0,\"--\",VLOOKUP(B331,'Zebrik W'!$B$7:$L$992,11,0)))","v":""}]
[326,"Vladimir Spilka",1940,"M","Hranice","CZ/M",5433,2,"","",null,null,{"$f":"IF(ISERROR(VLOOKUP(B332,'Zebrik W'!$B$7:$L$992,11,0)),\"\",IF(VLOOKUP(B332,'Zebrik W'!$B$7:$L$992,11,0)=0,\"--\",VLOOKUP(B332,'Zebrik W'!$B$7:$L$992,11,0)))","v":""}]
[327,"Jiri Holcman",1976,"M","Hosín","CZ/C1",5414,1,"","",null,null,{"$f":"IF(ISERROR(VLOOKUP(B333,'Zebrik W'!$B$7:$L$992,11,0)),\"\",IF(VLOOKUP(B333,'Zebrik W'!$B$7:$L$992,11,0)=0,\"--\",VLOOKUP(B333,'Zebrik W'!$B$7:$L$992,11,0)))","v":""}]
[328,"Eduard Svoboda",1957,"M","Raná","CZ/C2",5310,1,"","",null,null,{"$f":"IF(ISERROR(VLOOKUP(B334,'Zebrik W'!$B$7:$L$992,11,0)),\"\",IF(VLOOKUP(B334,'Zebrik W'!$B$7:$L$992,11,0)=0,\"--\",VLOOKUP(B334,'Zebrik W'!$B$7:$L$992,11,0)))","v":""}]
[329,"Vladimir Prihoda",1953,"M","Kralupy","CZ/C1",5211,1,"","",null,null,{"$f":"IF(ISERROR(VLOOKUP(B335,'Zebrik W'!$B$7:$L$992,11,0)),\"\",IF(VLOOKUP(B335,'Zebrik W'!$B$7:$L$992,11,0)=0,\"--\",VLOOKUP(B335,'Zebrik W'!$B$7:$L$992,11,0)))","v":""}]
[330,"Martin Vnoucek",1972,"M","Vlašim","CZ/C1",5203,1,"","",null,null,{"$f":"IF(ISERROR(VLOOKUP(B336,'Zebrik W'!$B$7:$L$992,11,0)),\"\",IF(VLOOKUP(B336,'Zebrik W'!$B$7:$L$992,11,0)=0,\"--\",VLOOKUP(B336,'Zebrik W'!$B$7:$L$992,11,0)))","v":""}]
[331,"Martin Markl",1960,"M","Kolín","CZ/C1",5111,2,"","",null,null,{"$f":"IF(ISERROR(VLOOKUP(B337,'Zebrik W'!$B$7:$L$992,11,0)),\"\",IF(VLOOKUP(B337,'Zebrik W'!$B$7:$L$992,11,0)=0,\"--\",VLOOKUP(B337,'Zebrik W'!$B$7:$L$992,11,0)))","v":""}]
[332,"Petr Sochor",1986,"M","Hosín","CZ/C1",5091,2,"","",null,null,{"$f":"IF(ISERROR(VLOOKUP(B338,'Zebrik W'!$B$7:$L$992,11,0)),\"\",IF(VLOOKUP(B338,'Zebrik W'!$B$7:$L$992,11,0)=0,\"--\",VLOOKUP(B338,'Zebrik W'!$B$7:$L$992,11,0)))","v":""}]
[333,"Vojtech Sehnal",1994,"M","Kolín","CZ/C1",5062,2,"","",null,null,{"$f":"IF(ISERROR(VLOOKUP(B339,'Zebrik W'!$B$7:$L$992,11,0)),\"\",IF(VLOOKUP(B339,'Zebrik W'!$B$7:$L$992,11,0)=0,\"--\",VLOOKUP(B339,'Zebrik W'!$B$7:$L$992,11,0)))","v":""}]
[334,"Martin Krizovic",1971,"M","Přibyslav","CZ/C2",5000,1,"","",null,null,{"$f":"IF(ISERROR(VLOOKUP(B340,'Zebrik W'!$B$7:$L$992,11,0)),\"\",IF(VLOOKUP(B340,'Zebrik W'!$B$7:$L$992,11,0)=0,\"--\",VLOOKUP(B340,'Zebrik W'!$B$7:$L$992,11,0)))","v":""}]
[335,"Martin Piskacek",1991,"M","Křižanov","CZ/M",4975,1,"","",null,null,{"$f":"IF(ISERROR(VLOOKUP(B341,'Zebrik W'!$B$7:$L$992,11,0)),\"\",IF(VLOOKUP(B341,'Zebrik W'!$B$7:$L$992,11,0)=0,\"--\",VLOOKUP(B341,'Zebrik W'!$B$7:$L$992,11,0)))","v":""}]
[336,"Eva Cerna",1964,"F","Příbram","CZ/C1",4905,1,"","",null,null,{"$f":"IF(ISERROR(VLOOKUP(B342,'Zebrik W'!$B$7:$L$992,11,0)),\"\",IF(VLOOKUP(B342,'Zebrik W'!$B$7:$L$992,11,0)=0,\"--\",VLOOKUP(B342,'Zebrik W'!$B$7:$L$992,11,0)))","v":"--"}]
[337,"Rudolf Jung",1954,"M","Zbraslavice","CZ/C1",4894,2,"","",null,null,{"$f":"IF(ISERROR(VLOOKUP(B343,'Zebrik W'!$B$7:$L$992,11,0)),\"\",IF(VLOOKUP(B343,'Zebrik W'!$B$7:$L$992,11,0)=0,\"--\",VLOOKUP(B343,'Zebrik W'!$B$7:$L$992,11,0)))","v":""}]
[338,"Ludek Kluger",1963,"M","Tábor","CZ/C1",4886,2,"","",null,null,{"$f":"IF(ISERROR(VLOOKUP(B344,'Zebrik W'!$B$7:$L$992,11,0)),\"\",IF(VLOOKUP(B344,'Zebrik W'!$B$7:$L$992,11,0)=0,\"--\",VLOOKUP(B344,'Zebrik W'!$B$7:$L$992,11,0)))","v":""}]
[339,"Stanislav Vrabec",1975,"M","Česká Lípa","CZ/C2",4831,3,"","",null,null,{"$f":"IF(ISERROR(VLOOKUP(B345,'Zebrik W'!$B$7:$L$992,11,0)),\"\",IF(VLOOKUP(B345,'Zebrik W'!$B$7:$L$992,11,0)=0,\"--\",VLOOKUP(B345,'Zebrik W'!$B$7:$L$992,11,0)))","v":""}]
[340,"Boris Bachraty",1974,"M","Kyjov","CZ/M",4668,1,"","",null,null,{"$f":"IF(ISERROR(VLOOKUP(B346,'Zebrik W'!$B$7:$L$992,11,0)),\"\",IF(VLOOKUP(B346,'Zebrik W'!$B$7:$L$992,11,0)=0,\"--\",VLOOKUP(B346,'Zebrik W'!$B$7:$L$992,11,0)))","v":""}]
[341,"Pavel Simek",1957,"M","Vyškov","CZ/M",4649,1,"","",null,null,{"$f":"IF(ISERROR(VLOOKUP(B347,'Zebrik W'!$B$7:$L$992,11,0)),\"\",IF(VLOOKUP(B347,'Zebrik W'!$B$7:$L$992,11,0)=0,\"--\",VLOOKUP(B347,'Zebrik W'!$B$7:$L$992,11,0)))","v":""}]
[342,"Leos Nosek",1958,"M","Křižanov","CZ/M",4630,3,"","",null,null,{"$f":"IF(ISERROR(VLOOKUP(B348,'Zebrik W'!$B$7:$L$992,11,0)),\"\",IF(VLOOKUP(B348,'Zebrik W'!$B$7:$L$992,11,0)=0,\"--\",VLOOKUP(B348,'Zebrik W'!$B$7:$L$992,11,0)))","v":""}]
[343,"Ales Vyhnal",1989,"M","Kralupy","CZ/C1",4612,1,"","",null,null,{"$f":"IF(ISERROR(VLOOKUP(B349,'Zebrik W'!$B$7:$L$992,11,0)),\"\",IF(VLOOKUP(B349,'Zebrik W'!$B$7:$L$992,11,0)=0,\"--\",VLOOKUP(B349,'Zebrik W'!$B$7:$L$992,11,0)))","v":""}]
[344,"Jan Oscatka",1990,"M","Jaroměř","CZ/C2",4578,1,"","",null,null,{"$f":"IF(ISERROR(VLOOKUP(B350,'Zebrik W'!$B$7:$L$992,11,0)),\"\",IF(VLOOKUP(B350,'Zebrik W'!$B$7:$L$992,11,0)=0,\"--\",VLOOKUP(B350,'Zebrik W'!$B$7:$L$992,11,0)))","v":""}]
[345,"Daniela Frankova",1997,"M","Jaroměř","CZ/C2",4520,1,"","",null,null,{"$f":"IF(ISERROR(VLOOKUP(B351,'Zebrik W'!$B$7:$L$992,11,0)),\"\",IF(VLOOKUP(B351,'Zebrik W'!$B$7:$L$992,11,0)=0,\"--\",VLOOKUP(B351,'Zebrik W'!$B$7:$L$992,11,0)))","v":""}]
[346,"Petr Prichystal",1973,"M","Moravská Třebová","CZ/M",4495,1,"","",null,null,{"$f":"IF(ISERROR(VLOOKUP(B352,'Zebrik W'!$B$7:$L$992,11,0)),\"\",IF(VLOOKUP(B352,'Zebrik W'!$B$7:$L$992,11,0)=0,\"--\",VLOOKUP(B352,'Zebrik W'!$B$7:$L$992,11,0)))","v":""}]
[347,"Petr Cernicky",1974,"M","Toužim","CZ/C1",4483,2,"","",null,null,{"$f":"IF(ISERROR(VLOOKUP(B353,'Zebrik W'!$B$7:$L$992,11,0)),\"\",IF(VLOOKUP(B353,'Zebrik W'!$B$7:$L$992,11,0)=0,\"--\",VLOOKUP(B353,'Zebrik W'!$B$7:$L$992,11,0)))","v":""}]
[348,"Karel Mares",1974,"M","Slaný","CZ/C1",4451,1,"","",null,null,{"$f":"IF(ISERROR(VLOOKUP(B354,'Zebrik W'!$B$7:$L$992,11,0)),\"\",IF(VLOOKUP(B354,'Zebrik W'!$B$7:$L$992,11,0)=0,\"--\",VLOOKUP(B354,'Zebrik W'!$B$7:$L$992,11,0)))","v":""}]
[349,"Petr Traeger",1983,"M","Vrchlabí","CZ/C2",4418,1,"","",null,null,{"$f":"IF(ISERROR(VLOOKUP(B355,'Zebrik W'!$B$7:$L$992,11,0)),\"\",IF(VLOOKUP(B355,'Zebrik W'!$B$7:$L$992,11,0)=0,\"--\",VLOOKUP(B355,'Zebrik W'!$B$7:$L$992,11,0)))","v":""}]
[350,"Radim Tomala",1972,"M","Prostějov","CZ/M",4352,1,"","",null,null,{"$f":"IF(ISERROR(VLOOKUP(B356,'Zebrik W'!$B$7:$L$992,11,0)),\"\",IF(VLOOKUP(B356,'Zebrik W'!$B$7:$L$992,11,0)=0,\"--\",VLOOKUP(B356,'Zebrik W'!$B$7:$L$992,11,0)))","v":""}]
[351,"Vaclav cerny",1949,"M","Slaný","CZ/C1",4261,1,"","",null,null,{"$f":"IF(ISERROR(VLOOKUP(B357,'Zebrik W'!$B$7:$L$992,11,0)),\"\",IF(VLOOKUP(B357,'Zebrik W'!$B$7:$L$992,11,0)=0,\"--\",VLOOKUP(B357,'Zebrik W'!$B$7:$L$992,11,0)))","v":""}]
[352,"Jaromir Jedlicka",1972,"M","Letňany","CZ/C1",4255,1,"","",null,null,{"$f":"IF(ISERROR(VLOOKUP(B358,'Zebrik W'!$B$7:$L$992,11,0)),\"\",IF(VLOOKUP(B358,'Zebrik W'!$B$7:$L$992,11,0)=0,\"--\",VLOOKUP(B358,'Zebrik W'!$B$7:$L$992,11,0)))","v":""}]
[353,"Martin Stastny",2005,"M","Medlánky","CZ/M",4235,1,"Junior v roce 2023","Junior v roce 2024",null,null,{"$f":"IF(ISERROR(VLOOKUP(B359,'Zebrik W'!$B$7:$L$992,11,0)),\"\",IF(VLOOKUP(B359,'Zebrik W'!$B$7:$L$992,11,0)=0,\"--\",VLOOKUP(B359,'Zebrik W'!$B$7:$L$992,11,0)))","v":""}]
[354,"Milos Hrabe",1979,"M","Letňany","CZ/C1",4166,2,"","",null,null,{"$f":"IF(ISERROR(VLOOKUP(B360,'Zebrik W'!$B$7:$L$992,11,0)),\"\",IF(VLOOKUP(B360,'Zebrik W'!$B$7:$L$992,11,0)=0,\"--\",VLOOKUP(B360,'Zebrik W'!$B$7:$L$992,11,0)))","v":""}]
[355,"Ilja Kopacek",1943,"M","Jičín","CZ/C2",4154,1,"","",null,null,{"$f":"IF(ISERROR(VLOOKUP(B361,'Zebrik W'!$B$7:$L$992,11,0)),\"\",IF(VLOOKUP(B361,'Zebrik W'!$B$7:$L$992,11,0)=0,\"--\",VLOOKUP(B361,'Zebrik W'!$B$7:$L$992,11,0)))","v":""}]
[356,"Michal Linhart",1982,"M","Vyškov","CZ/M",4151,2,"","",null,null,{"$f":"IF(ISERROR(VLOOKUP(B362,'Zebrik W'!$B$7:$L$992,11,0)),\"\",IF(VLOOKUP(B362,'Zebrik W'!$B$7:$L$992,11,0)=0,\"--\",VLOOKUP(B362,'Zebrik W'!$B$7:$L$992,11,0)))","v":""}]
[357,"Pavel Trojan",1960,"M","Chrudim","CZ/C2",4144,1,"","",null,null,{"$f":"IF(ISERROR(VLOOKUP(B363,'Zebrik W'!$B$7:$L$992,11,0)),\"\",IF(VLOOKUP(B363,'Zebrik W'!$B$7:$L$992,11,0)=0,\"--\",VLOOKUP(B363,'Zebrik W'!$B$7:$L$992,11,0)))","v":""}]
[358,"Martin Pekar",1973,"M","Šumperk","CZ/M",3999,1,{"$f":"IF(C364=\"(prázdné)\",\"\",IF(($I$4-C364)>25,\"\",\"Junior v roce \"&$I$4))","v":""},{"$f":"IF(C364=\"(prázdné)\",\"\",IF(($J$4-C364)>25,\"\",\"Junior v roce \"&$J$4))","v":""},null,null,{"$f":"IF(ISERROR(VLOOKUP(B364,'Zebrik W'!$B$7:$L$992,11,0)),\"\",IF(VLOOKUP(B364,'Zebrik W'!$B$7:$L$992,11,0)=0,\"--\",VLOOKUP(B364,'Zebrik W'!$B$7:$L$992,11,0)))","v":""}]
[358,"Martin Tison",2000,"M","Hosín","CZ/C1",3999,1,"Junior v roce 2023","Junior v roce 2024",null,null,{"$f":"IF(ISERROR(VLOOKUP(B365,'Zebrik W'!$B$7:$L$992,11,0)),\"\",IF(VLOOKUP(B365,'Zebrik W'!$B$7:$L$992,11,0)=0,\"--\",VLOOKUP(B365,'Zebrik W'!$B$7:$L$992,11,0)))","v":""}]
[360,"Vladimir Jirka",1965,"M","Zábřeh","CZ/M",3970,1,"","",null,null,{"$f":"IF(ISERROR(VLOOKUP(B366,'Zebrik W'!$B$7:$L$992,11,0)),\"\",IF(VLOOKUP(B366,'Zebrik W'!$B$7:$L$992,11,0)=0,\"--\",VLOOKUP(B366,'Zebrik W'!$B$7:$L$992,11,0)))","v":""}]
[361,"Vaclav Halek",1966,"M","Toužim","CZ/C1",3939,2,"","",null,null,{"$f":"IF(ISERROR(VLOOKUP(B367,'Zebrik W'!$B$7:$L$992,11,0)),\"\",IF(VLOOKUP(B367,'Zebrik W'!$B$7:$L$992,11,0)=0,\"--\",VLOOKUP(B367,'Zebrik W'!$B$7:$L$992,11,0)))","v":""}]
[362,"Marek Malinsky",1985,"M","Chrudim","CZ/C2",3884,1,"","",null,null,{"$f":"IF(ISERROR(VLOOKUP(B368,'Zebrik W'!$B$7:$L$992,11,0)),\"\",IF(VLOOKUP(B368,'Zebrik W'!$B$7:$L$992,11,0)=0,\"--\",VLOOKUP(B368,'Zebrik W'!$B$7:$L$992,11,0)))","v":""}]
[363,"Frantisek Pycha",1972,"M","Chrudim","CZ/C2",3830,1,"","",null,null,{"$f":"IF(ISERROR(VLOOKUP(B369,'Zebrik W'!$B$7:$L$992,11,0)),\"\",IF(VLOOKUP(B369,'Zebrik W'!$B$7:$L$992,11,0)=0,\"--\",VLOOKUP(B369,'Zebrik W'!$B$7:$L$992,11,0)))","v":""}]
[364,"Petr Velek",1975,"M","GAC Benešov","CZ/C1",3824,1,"","",null,null,{"$f":"IF(ISERROR(VLOOKUP(B370,'Zebrik W'!$B$7:$L$992,11,0)),\"\",IF(VLOOKUP(B370,'Zebrik W'!$B$7:$L$992,11,0)=0,\"--\",VLOOKUP(B370,'Zebrik W'!$B$7:$L$992,11,0)))","v":""}]
[365,"Martin Holik",1959,"M","Letňany","CZ/C1",3813,1,"","",null,null,{"$f":"IF(ISERROR(VLOOKUP(B371,'Zebrik W'!$B$7:$L$992,11,0)),\"\",IF(VLOOKUP(B371,'Zebrik W'!$B$7:$L$992,11,0)=0,\"--\",VLOOKUP(B371,'Zebrik W'!$B$7:$L$992,11,0)))","v":""}]
[366,"Premysl Chvoj",2003,"M","Zbraslavice","CZ/C1",3775,1,"Junior v roce 2023","Junior v roce 2024",null,null,{"$f":"IF(ISERROR(VLOOKUP(B372,'Zebrik W'!$B$7:$L$992,11,0)),\"\",IF(VLOOKUP(B372,'Zebrik W'!$B$7:$L$992,11,0)=0,\"--\",VLOOKUP(B372,'Zebrik W'!$B$7:$L$992,11,0)))","v":""}]
[367,"Frantisek Kriz",1961,"M","Toužim","CZ/C1",3755,2,"","",null,null,{"$f":"IF(ISERROR(VLOOKUP(B373,'Zebrik W'!$B$7:$L$992,11,0)),\"\",IF(VLOOKUP(B373,'Zebrik W'!$B$7:$L$992,11,0)=0,\"--\",VLOOKUP(B373,'Zebrik W'!$B$7:$L$992,11,0)))","v":""}]
[368,"Petr Omelka",1970,"M","Vyškov","CZ/M",3671,3,"","",null,null,{"$f":"IF(ISERROR(VLOOKUP(B374,'Zebrik W'!$B$7:$L$992,11,0)),\"\",IF(VLOOKUP(B374,'Zebrik W'!$B$7:$L$992,11,0)=0,\"--\",VLOOKUP(B374,'Zebrik W'!$B$7:$L$992,11,0)))","v":""}]
[369,"Frantisek Komarek",1985,"M","Zbraslavice","CZ/C1",3668,1,"","",null,null,{"$f":"IF(ISERROR(VLOOKUP(B375,'Zebrik W'!$B$7:$L$992,11,0)),\"\",IF(VLOOKUP(B375,'Zebrik W'!$B$7:$L$992,11,0)=0,\"--\",VLOOKUP(B375,'Zebrik W'!$B$7:$L$992,11,0)))","v":""}]
[370,"Milos Nyvlt",1963,"M","Hronov","CZ/C2",3635,1,"","",null,null,{"$f":"IF(ISERROR(VLOOKUP(B376,'Zebrik W'!$B$7:$L$992,11,0)),\"\",IF(VLOOKUP(B376,'Zebrik W'!$B$7:$L$992,11,0)=0,\"--\",VLOOKUP(B376,'Zebrik W'!$B$7:$L$992,11,0)))","v":""}]
[371,"Vojtech Vach 03",2003,"M","Nové Město nad Metují","CZ/C2",3577,1,"Junior v roce 2023","Junior v roce 2024",null,null,{"$f":"IF(ISERROR(VLOOKUP(B377,'Zebrik W'!$B$7:$L$992,11,0)),\"\",IF(VLOOKUP(B377,'Zebrik W'!$B$7:$L$992,11,0)=0,\"--\",VLOOKUP(B377,'Zebrik W'!$B$7:$L$992,11,0)))","v":""}]
[372,"Matej Bartos",1998,"M","Hodkovice","CZ/C2",3342,1,"Junior v roce 2023","",null,null,{"$f":"IF(ISERROR(VLOOKUP(B378,'Zebrik W'!$B$7:$L$992,11,0)),\"\",IF(VLOOKUP(B378,'Zebrik W'!$B$7:$L$992,11,0)=0,\"--\",VLOOKUP(B378,'Zebrik W'!$B$7:$L$992,11,0)))","v":""}]
[373,"Kamil Hejda",1973,"M","Jičín","CZ/C2",3326,1,"","",null,null,{"$f":"IF(ISERROR(VLOOKUP(B379,'Zebrik W'!$B$7:$L$992,11,0)),\"\",IF(VLOOKUP(B379,'Zebrik W'!$B$7:$L$992,11,0)=0,\"--\",VLOOKUP(B379,'Zebrik W'!$B$7:$L$992,11,0)))","v":""}]
[374,"Jan Camr",2002,"M","Jaroměř","CZ/C2",3284,1,"Junior v roce 2023","Junior v roce 2024",null,null,{"$f":"IF(ISERROR(VLOOKUP(B380,'Zebrik W'!$B$7:$L$992,11,0)),\"\",IF(VLOOKUP(B380,'Zebrik W'!$B$7:$L$992,11,0)=0,\"--\",VLOOKUP(B380,'Zebrik W'!$B$7:$L$992,11,0)))","v":""}]
[375,"Radim Zielinski",1969,"M","Frýdlant","CZ/M",3272,1,"","",null,null,{"$f":"IF(ISERROR(VLOOKUP(B381,'Zebrik W'!$B$7:$L$992,11,0)),\"\",IF(VLOOKUP(B381,'Zebrik W'!$B$7:$L$992,11,0)=0,\"--\",VLOOKUP(B381,'Zebrik W'!$B$7:$L$992,11,0)))","v":""}]
[376,"Milos Pajr",1966,"M","Jičín","CZ/C2",3270,1,"","",null,null,{"$f":"IF(ISERROR(VLOOKUP(B382,'Zebrik W'!$B$7:$L$992,11,0)),\"\",IF(VLOOKUP(B382,'Zebrik W'!$B$7:$L$992,11,0)=0,\"--\",VLOOKUP(B382,'Zebrik W'!$B$7:$L$992,11,0)))","v":""}]
[377,"Jiri Janda",1966,"M","Letňany","CZ/C1",3257,1,"","",null,null,{"$f":"IF(ISERROR(VLOOKUP(B383,'Zebrik W'!$B$7:$L$992,11,0)),\"\",IF(VLOOKUP(B383,'Zebrik W'!$B$7:$L$992,11,0)=0,\"--\",VLOOKUP(B383,'Zebrik W'!$B$7:$L$992,11,0)))","v":""}]
[378,"Martin Adamec",1971,"M","Medlánky","CZ/M",3232,2,"","",null,null,{"$f":"IF(ISERROR(VLOOKUP(B384,'Zebrik W'!$B$7:$L$992,11,0)),\"\",IF(VLOOKUP(B384,'Zebrik W'!$B$7:$L$992,11,0)=0,\"--\",VLOOKUP(B384,'Zebrik W'!$B$7:$L$992,11,0)))","v":""}]
[379,"Martin Benesovsky",1900,"M","Kolín","CZ/C1",3172,2,"","",null,null,{"$f":"IF(ISERROR(VLOOKUP(B385,'Zebrik W'!$B$7:$L$992,11,0)),\"\",IF(VLOOKUP(B385,'Zebrik W'!$B$7:$L$992,11,0)=0,\"--\",VLOOKUP(B385,'Zebrik W'!$B$7:$L$992,11,0)))","v":""}]
[380,"Vit Pavelka",2004,"M","Moravská Třebová","CZ/M",3160,1,"Junior v roce 2023","Junior v roce 2024",null,null,{"$f":"IF(ISERROR(VLOOKUP(B386,'Zebrik W'!$B$7:$L$992,11,0)),\"\",IF(VLOOKUP(B386,'Zebrik W'!$B$7:$L$992,11,0)=0,\"--\",VLOOKUP(B386,'Zebrik W'!$B$7:$L$992,11,0)))","v":""}]
[381,"Jiri Tomicek",1947,"M","Dvůr Králové","CZ/C2",3143,2,"","",null,null,{"$f":"IF(ISERROR(VLOOKUP(B387,'Zebrik W'!$B$7:$L$992,11,0)),\"\",IF(VLOOKUP(B387,'Zebrik W'!$B$7:$L$992,11,0)=0,\"--\",VLOOKUP(B387,'Zebrik W'!$B$7:$L$992,11,0)))","v":""}]
[382,"Slavomir Piskaty 58",1958,"M","Kunovice","CZ/M",3078,1,"","",null,null,{"$f":"IF(ISERROR(VLOOKUP(B388,'Zebrik W'!$B$7:$L$992,11,0)),\"\",IF(VLOOKUP(B388,'Zebrik W'!$B$7:$L$992,11,0)=0,\"--\",VLOOKUP(B388,'Zebrik W'!$B$7:$L$992,11,0)))","v":""}]
[383,"Petr Kubik 75",1975,"M","Moravská Třebová","CZ/M",3068,1,"","",null,null,{"$f":"IF(ISERROR(VLOOKUP(B389,'Zebrik W'!$B$7:$L$992,11,0)),\"\",IF(VLOOKUP(B389,'Zebrik W'!$B$7:$L$992,11,0)=0,\"--\",VLOOKUP(B389,'Zebrik W'!$B$7:$L$992,11,0)))","v":""}]
[384,"Zuzana Markesova",2001,"F","Medlánky","CZ/M",3044,1,"Junior v roce 2023","Junior v roce 2024",null,null,{"$f":"IF(ISERROR(VLOOKUP(B390,'Zebrik W'!$B$7:$L$992,11,0)),\"\",IF(VLOOKUP(B390,'Zebrik W'!$B$7:$L$992,11,0)=0,\"--\",VLOOKUP(B390,'Zebrik W'!$B$7:$L$992,11,0)))","v":"--"}]
[{"$f":"RANK(G391,G:G)","v":385},"Martin Nejezchleb",1979,"M","Plzeň Bory","CZ/C1",3028,1,"","",null,null,{"$f":"IF(ISERROR(VLOOKUP(B391,'Zebrik W'!$B$7:$L$992,11,0)),\"\",IF(VLOOKUP(B391,'Zebrik W'!$B$7:$L$992,11,0)=0,\"--\",VLOOKUP(B391,'Zebrik W'!$B$7:$L$992,11,0)))","v":""}]
[386,"Michal Ondracek",1966,"M","Medlánky","CZ/M",3019,1,"","",null,null,{"$f":"IF(ISERROR(VLOOKUP(B392,'Zebrik W'!$B$7:$L$992,11,0)),\"\",IF(VLOOKUP(B392,'Zebrik W'!$B$7:$L$992,11,0)=0,\"--\",VLOOKUP(B392,'Zebrik W'!$B$7:$L$992,11,0)))","v":""}]
[387,"Jan Zdvorak",1980,"M","Roudnice","CZ/C2",3000,1,"","",null,null,{"$f":"IF(ISERROR(VLOOKUP(B393,'Zebrik W'!$B$7:$L$992,11,0)),\"\",IF(VLOOKUP(B393,'Zebrik W'!$B$7:$L$992,11,0)=0,\"--\",VLOOKUP(B393,'Zebrik W'!$B$7:$L$992,11,0)))","v":""}]
[388,"Jiri Skarka",1965,"M","Chomutov","CZ/C2",2969,1,"","",null,null,{"$f":"IF(ISERROR(VLOOKUP(B394,'Zebrik W'!$B$7:$L$992,11,0)),\"\",IF(VLOOKUP(B394,'Zebrik W'!$B$7:$L$992,11,0)=0,\"--\",VLOOKUP(B394,'Zebrik W'!$B$7:$L$992,11,0)))","v":""}]
[389,"Vaclav Zak",1962,"M","GAC Benešov","CZ/C1",2956,1,"","",null,null,{"$f":"IF(ISERROR(VLOOKUP(B395,'Zebrik W'!$B$7:$L$992,11,0)),\"\",IF(VLOOKUP(B395,'Zebrik W'!$B$7:$L$992,11,0)=0,\"--\",VLOOKUP(B395,'Zebrik W'!$B$7:$L$992,11,0)))","v":""}]
[390,"Ondrej Hart",1990,"M","Letňany","CZ/C1",2954,1,"","",null,null,{"$f":"IF(ISERROR(VLOOKUP(B396,'Zebrik W'!$B$7:$L$992,11,0)),\"\",IF(VLOOKUP(B396,'Zebrik W'!$B$7:$L$992,11,0)=0,\"--\",VLOOKUP(B396,'Zebrik W'!$B$7:$L$992,11,0)))","v":""}]
[391,"Jan Kristof",1962,"M","Frýdlant","CZ/M",2947,1,"","",null,null,{"$f":"IF(ISERROR(VLOOKUP(B397,'Zebrik W'!$B$7:$L$992,11,0)),\"\",IF(VLOOKUP(B397,'Zebrik W'!$B$7:$L$992,11,0)=0,\"--\",VLOOKUP(B397,'Zebrik W'!$B$7:$L$992,11,0)))","v":""}]
[392,"Jan Svestka",2005,"M","Křižanov","CZ/M",2900,1,"Junior v roce 2023","Junior v roce 2024",null,null,{"$f":"IF(ISERROR(VLOOKUP(B398,'Zebrik W'!$B$7:$L$992,11,0)),\"\",IF(VLOOKUP(B398,'Zebrik W'!$B$7:$L$992,11,0)=0,\"--\",VLOOKUP(B398,'Zebrik W'!$B$7:$L$992,11,0)))","v":""}]
[393,"Tereza Novakova",1993,"F","Chrudim","CZ/C2",2807,1,"","",null,null,{"$f":"IF(ISERROR(VLOOKUP(B399,'Zebrik W'!$B$7:$L$992,11,0)),\"\",IF(VLOOKUP(B399,'Zebrik W'!$B$7:$L$992,11,0)=0,\"--\",VLOOKUP(B399,'Zebrik W'!$B$7:$L$992,11,0)))","v":"--"}]
[394,"Jan Blaha",1983,"M","Kyjov","CZ/M",2750,1,"","",null,null,{"$f":"IF(ISERROR(VLOOKUP(B400,'Zebrik W'!$B$7:$L$992,11,0)),\"\",IF(VLOOKUP(B400,'Zebrik W'!$B$7:$L$992,11,0)=0,\"--\",VLOOKUP(B400,'Zebrik W'!$B$7:$L$992,11,0)))","v":""}]
[395,"Filip Vita",2001,"M","Kroměříž","CZ/M",2607,1,"Junior v roce 2023","Junior v roce 2024",null,null,{"$f":"IF(ISERROR(VLOOKUP(B401,'Zebrik W'!$B$7:$L$992,11,0)),\"\",IF(VLOOKUP(B401,'Zebrik W'!$B$7:$L$992,11,0)=0,\"--\",VLOOKUP(B401,'Zebrik W'!$B$7:$L$992,11,0)))","v":""}]
[396,"Tereza Krcilova Spalenkova",1981,"F","Raná","CZ/C2",2588,1,"","",null,null,{"$f":"IF(ISERROR(VLOOKUP(B402,'Zebrik W'!$B$7:$L$992,11,0)),\"\",IF(VLOOKUP(B402,'Zebrik W'!$B$7:$L$992,11,0)=0,\"--\",VLOOKUP(B402,'Zebrik W'!$B$7:$L$992,11,0)))","v":"--"}]
[397,"Jiri Vavrina",1958,"M","Kyjov","CZ/M",2577,1,"","",null,null,{"$f":"IF(ISERROR(VLOOKUP(B403,'Zebrik W'!$B$7:$L$992,11,0)),\"\",IF(VLOOKUP(B403,'Zebrik W'!$B$7:$L$992,11,0)=0,\"--\",VLOOKUP(B403,'Zebrik W'!$B$7:$L$992,11,0)))","v":""}]
[398,"Kristina Santruckova",1996,"F","Podhořany","CZ/C2",2493,1,"","",null,null,{"$f":"IF(ISERROR(VLOOKUP(B404,'Zebrik W'!$B$7:$L$992,11,0)),\"\",IF(VLOOKUP(B404,'Zebrik W'!$B$7:$L$992,11,0)=0,\"--\",VLOOKUP(B404,'Zebrik W'!$B$7:$L$992,11,0)))","v":"--"}]
[399,"Daniel Devecka",1981,"M","Vlašim","CZ/C1",2468,1,"","",null,null,{"$f":"IF(ISERROR(VLOOKUP(B405,'Zebrik W'!$B$7:$L$992,11,0)),\"\",IF(VLOOKUP(B405,'Zebrik W'!$B$7:$L$992,11,0)=0,\"--\",VLOOKUP(B405,'Zebrik W'!$B$7:$L$992,11,0)))","v":""}]
[400,"Jan Matejovsky",1972,"M","Hranice","CZ/M",2454,1,"","",null,null,{"$f":"IF(ISERROR(VLOOKUP(B406,'Zebrik W'!$B$7:$L$992,11,0)),\"\",IF(VLOOKUP(B406,'Zebrik W'!$B$7:$L$992,11,0)=0,\"--\",VLOOKUP(B406,'Zebrik W'!$B$7:$L$992,11,0)))","v":""}]
[401,"Stepan Capek",1960,"M","Jičín","CZ/C2",2446,1,"","",null,null,{"$f":"IF(ISERROR(VLOOKUP(B407,'Zebrik W'!$B$7:$L$992,11,0)),\"\",IF(VLOOKUP(B407,'Zebrik W'!$B$7:$L$992,11,0)=0,\"--\",VLOOKUP(B407,'Zebrik W'!$B$7:$L$992,11,0)))","v":""}]
[402,"Vojtech Pavek",2000,"M","Medlánky","CZ/M",2427,1,"Junior v roce 2023","Junior v roce 2024",null,null,{"$f":"IF(ISERROR(VLOOKUP(B408,'Zebrik W'!$B$7:$L$992,11,0)),\"\",IF(VLOOKUP(B408,'Zebrik W'!$B$7:$L$992,11,0)=0,\"--\",VLOOKUP(B408,'Zebrik W'!$B$7:$L$992,11,0)))","v":""}]
[403,"Vojtech Flidr",2003,"M","Dvůr Králové","CZ/C2",2305,1,"Junior v roce 2023","Junior v roce 2024",null,null,{"$f":"IF(ISERROR(VLOOKUP(B409,'Zebrik W'!$B$7:$L$992,11,0)),\"\",IF(VLOOKUP(B409,'Zebrik W'!$B$7:$L$992,11,0)=0,\"--\",VLOOKUP(B409,'Zebrik W'!$B$7:$L$992,11,0)))","v":""}]
[404,"Jiri Dockal",1982,"M","Letňany","CZ/C1",2200,1,"","",null,null,{"$f":"IF(ISERROR(VLOOKUP(B410,'Zebrik W'!$B$7:$L$992,11,0)),\"\",IF(VLOOKUP(B410,'Zebrik W'!$B$7:$L$992,11,0)=0,\"--\",VLOOKUP(B410,'Zebrik W'!$B$7:$L$992,11,0)))","v":""}]
[405,"Milos Novotny",1973,"M","Hronov","CZ/C2",2180,1,"","",null,null,{"$f":"IF(ISERROR(VLOOKUP(B411,'Zebrik W'!$B$7:$L$992,11,0)),\"\",IF(VLOOKUP(B411,'Zebrik W'!$B$7:$L$992,11,0)=0,\"--\",VLOOKUP(B411,'Zebrik W'!$B$7:$L$992,11,0)))","v":""}]
[406,"Vaclav Petru",1974,"M","Letňany","CZ/C1",2107,1,"","",null,null,{"$f":"IF(ISERROR(VLOOKUP(B412,'Zebrik W'!$B$7:$L$992,11,0)),\"\",IF(VLOOKUP(B412,'Zebrik W'!$B$7:$L$992,11,0)=0,\"--\",VLOOKUP(B412,'Zebrik W'!$B$7:$L$992,11,0)))","v":""}]
[407,"Michal Posluzny",1968,"M","Medlánky","CZ/M",1930,1,"","",null,null,{"$f":"IF(ISERROR(VLOOKUP(B413,'Zebrik W'!$B$7:$L$992,11,0)),\"\",IF(VLOOKUP(B413,'Zebrik W'!$B$7:$L$992,11,0)=0,\"--\",VLOOKUP(B413,'Zebrik W'!$B$7:$L$992,11,0)))","v":""}]
[408,"Jiri Klicnar",1965,"M","Medlánky","CZ/M",1919,1,"","",null,null,{"$f":"IF(ISERROR(VLOOKUP(B414,'Zebrik W'!$B$7:$L$992,11,0)),\"\",IF(VLOOKUP(B414,'Zebrik W'!$B$7:$L$992,11,0)=0,\"--\",VLOOKUP(B414,'Zebrik W'!$B$7:$L$992,11,0)))","v":""}]
[409,"Martin Grmela",1989,"M","Zbraslavice","CZ/C1",1882,1,"","",null,null,{"$f":"IF(ISERROR(VLOOKUP(B415,'Zebrik W'!$B$7:$L$992,11,0)),\"\",IF(VLOOKUP(B415,'Zebrik W'!$B$7:$L$992,11,0)=0,\"--\",VLOOKUP(B415,'Zebrik W'!$B$7:$L$992,11,0)))","v":""}]
[410,"Pavel Handl",1971,"M","Kroměříž","CZ/M",1872,3,"","",null,null,{"$f":"IF(ISERROR(VLOOKUP(B416,'Zebrik W'!$B$7:$L$992,11,0)),\"\",IF(VLOOKUP(B416,'Zebrik W'!$B$7:$L$992,11,0)=0,\"--\",VLOOKUP(B416,'Zebrik W'!$B$7:$L$992,11,0)))","v":""}]
[411,"Miroslav Mancik",1976,"M","Kyjov","CZ/M",1862,1,"","",null,null,{"$f":"IF(ISERROR(VLOOKUP(B417,'Zebrik W'!$B$7:$L$992,11,0)),\"\",IF(VLOOKUP(B417,'Zebrik W'!$B$7:$L$992,11,0)=0,\"--\",VLOOKUP(B417,'Zebrik W'!$B$7:$L$992,11,0)))","v":""}]
[412,"Lubomir Papezik",1951,"M","Luhačovice","CZ/M",1838,1,"","",null,null,{"$f":"IF(ISERROR(VLOOKUP(B418,'Zebrik W'!$B$7:$L$992,11,0)),\"\",IF(VLOOKUP(B418,'Zebrik W'!$B$7:$L$992,11,0)=0,\"--\",VLOOKUP(B418,'Zebrik W'!$B$7:$L$992,11,0)))","v":""}]
[413,"Dusan Patocka",1972,"M","Vrchlabí","CZ/C2",1772,1,"","",null,null,{"$f":"IF(ISERROR(VLOOKUP(B419,'Zebrik W'!$B$7:$L$992,11,0)),\"\",IF(VLOOKUP(B419,'Zebrik W'!$B$7:$L$992,11,0)=0,\"--\",VLOOKUP(B419,'Zebrik W'!$B$7:$L$992,11,0)))","v":""}]
[414,"Michal Fortik",1976,"M","Točná","CZ/C1",1754,1,"","",null,null,{"$f":"IF(ISERROR(VLOOKUP(B420,'Zebrik W'!$B$7:$L$992,11,0)),\"\",IF(VLOOKUP(B420,'Zebrik W'!$B$7:$L$992,11,0)=0,\"--\",VLOOKUP(B420,'Zebrik W'!$B$7:$L$992,11,0)))","v":""}]
[415,"Tim Raasch",2000,"M","Polička","CZ/C2",1737,2,"Junior v roce 2023","Junior v roce 2024",null,null,{"$f":"IF(ISERROR(VLOOKUP(B421,'Zebrik W'!$B$7:$L$992,11,0)),\"\",IF(VLOOKUP(B421,'Zebrik W'!$B$7:$L$992,11,0)=0,\"--\",VLOOKUP(B421,'Zebrik W'!$B$7:$L$992,11,0)))","v":""}]
[416,"Jan Jindra",1981,"M","Roudnice","CZ/C2",1673,1,"","",null,null,{"$f":"IF(ISERROR(VLOOKUP(B422,'Zebrik W'!$B$7:$L$992,11,0)),\"\",IF(VLOOKUP(B422,'Zebrik W'!$B$7:$L$992,11,0)=0,\"--\",VLOOKUP(B422,'Zebrik W'!$B$7:$L$992,11,0)))","v":""}]
[417,"Lukas Zach",1987,"M","Vyškov","CZ/M",1666,1,"","",null,null,{"$f":"IF(ISERROR(VLOOKUP(B423,'Zebrik W'!$B$7:$L$992,11,0)),\"\",IF(VLOOKUP(B423,'Zebrik W'!$B$7:$L$992,11,0)=0,\"--\",VLOOKUP(B423,'Zebrik W'!$B$7:$L$992,11,0)))","v":""}]
[418,"Martin Svacina",1965,"M","Frýdlant","CZ/M",1636,1,"","",null,null,{"$f":"IF(ISERROR(VLOOKUP(B424,'Zebrik W'!$B$7:$L$992,11,0)),\"\",IF(VLOOKUP(B424,'Zebrik W'!$B$7:$L$992,11,0)=0,\"--\",VLOOKUP(B424,'Zebrik W'!$B$7:$L$992,11,0)))","v":""}]
[419,"Milos Eichler",1964,"M","Dvůr Králové","CZ/C2",1629,1,"","",null,null,{"$f":"IF(ISERROR(VLOOKUP(B425,'Zebrik W'!$B$7:$L$992,11,0)),\"\",IF(VLOOKUP(B425,'Zebrik W'!$B$7:$L$992,11,0)=0,\"--\",VLOOKUP(B425,'Zebrik W'!$B$7:$L$992,11,0)))","v":""}]
[420,"David Krcil",1976,"M","Raná","CZ/C2",1599,1,"","",null,null,{"$f":"IF(ISERROR(VLOOKUP(B426,'Zebrik W'!$B$7:$L$992,11,0)),\"\",IF(VLOOKUP(B426,'Zebrik W'!$B$7:$L$992,11,0)=0,\"--\",VLOOKUP(B426,'Zebrik W'!$B$7:$L$992,11,0)))","v":""}]
[421,"Frantisek Brozman",1960,"M","Tachov","CZ/C1",1425,2,"","",null,null,{"$f":"IF(ISERROR(VLOOKUP(B427,'Zebrik W'!$B$7:$L$992,11,0)),\"\",IF(VLOOKUP(B427,'Zebrik W'!$B$7:$L$992,11,0)=0,\"--\",VLOOKUP(B427,'Zebrik W'!$B$7:$L$992,11,0)))","v":""}]
[422,"Jiri Veprek",1959,"M","Dvůr Králové","CZ/C2",1331,1,{"$f":"IF(C428=\"(prázdné)\",\"\",IF(($I$4-C428)>25,\"\",\"Junior v roce \"&$I$4))","v":""},{"$f":"IF(C428=\"(prázdné)\",\"\",IF(($J$4-C428)>25,\"\",\"Junior v roce \"&$J$4))","v":""},null,null,{"$f":"IF(ISERROR(VLOOKUP(B428,'Zebrik W'!$B$7:$L$992,11,0)),\"\",IF(VLOOKUP(B428,'Zebrik W'!$B$7:$L$992,11,0)=0,\"--\",VLOOKUP(B428,'Zebrik W'!$B$7:$L$992,11,0)))","v":""}]
[423,"David Nenicka",2005,"M","Hranice","CZ/M",1322,1,"Junior v roce 2023","Junior v roce 2024",null,null,{"$f":"IF(ISERROR(VLOOKUP(B429,'Zebrik W'!$B$7:$L$992,11,0)),\"\",IF(VLOOKUP(B429,'Zebrik W'!$B$7:$L$992,11,0)=0,\"--\",VLOOKUP(B429,'Zebrik W'!$B$7:$L$992,11,0)))","v":""}]
[424,"Vaclav Hrdina",1984,"M","Letkov","CZ/C1",1315,1,{"$f":"IF(C430=\"(prázdné)\",\"\",IF(($I$4-C430)>25,\"\",\"Junior v roce \"&$I$4))","v":""},{"$f":"IF(C430=\"(prázdné)\",\"\",IF(($J$4-C430)>25,\"\",\"Junior v roce \"&$J$4))","v":""},null,null,{"$f":"IF(ISERROR(VLOOKUP(B430,'Zebrik W'!$B$7:$L$992,11,0)),\"\",IF(VLOOKUP(B430,'Zebrik W'!$B$7:$L$992,11,0)=0,\"--\",VLOOKUP(B430,'Zebrik W'!$B$7:$L$992,11,0)))","v":""}]
[425,"Viktor Zimcik",1976,"M","Kunovice","CZ/M",1258,1,"","",null,null,{"$f":"IF(ISERROR(VLOOKUP(B431,'Zebrik W'!$B$7:$L$992,11,0)),\"\",IF(VLOOKUP(B431,'Zebrik W'!$B$7:$L$992,11,0)=0,\"--\",VLOOKUP(B431,'Zebrik W'!$B$7:$L$992,11,0)))","v":""}]
[426,"Vladislav Cadsky",1975,"M","Kolín","CZ/C1",1081,2,"","",null,null,{"$f":"IF(ISERROR(VLOOKUP(B432,'Zebrik W'!$B$7:$L$992,11,0)),\"\",IF(VLOOKUP(B432,'Zebrik W'!$B$7:$L$992,11,0)=0,\"--\",VLOOKUP(B432,'Zebrik W'!$B$7:$L$992,11,0)))","v":""}]
[427,"Albert Schneider",1967,"M","Hranice","CZ/M",1036,1,"","",null,null,{"$f":"IF(ISERROR(VLOOKUP(B433,'Zebrik W'!$B$7:$L$992,11,0)),\"\",IF(VLOOKUP(B433,'Zebrik W'!$B$7:$L$992,11,0)=0,\"--\",VLOOKUP(B433,'Zebrik W'!$B$7:$L$992,11,0)))","v":""}]
[428,"Libor Kovarnik",1968,"M","Mladá Boleslav","CZ/C1",1000,1,"","",null,null,{"$f":"IF(ISERROR(VLOOKUP(B434,'Zebrik W'!$B$7:$L$992,11,0)),\"\",IF(VLOOKUP(B434,'Zebrik W'!$B$7:$L$992,11,0)=0,\"--\",VLOOKUP(B434,'Zebrik W'!$B$7:$L$992,11,0)))","v":""}]
[429,"Zuzana Kutilkova",1993,"F","Křižanov","CZ/M",925,1,"","",null,null,{"$f":"IF(ISERROR(VLOOKUP(B435,'Zebrik W'!$B$7:$L$992,11,0)),\"\",IF(VLOOKUP(B435,'Zebrik W'!$B$7:$L$992,11,0)=0,\"--\",VLOOKUP(B435,'Zebrik W'!$B$7:$L$992,11,0)))","v":"--"}]
[430,"Zbynek Kuchta",1976,"M","Klatovy","CZ/C1",830,1,"","",null,null,{"$f":"IF(ISERROR(VLOOKUP(B436,'Zebrik W'!$B$7:$L$992,11,0)),\"\",IF(VLOOKUP(B436,'Zebrik W'!$B$7:$L$992,11,0)=0,\"--\",VLOOKUP(B436,'Zebrik W'!$B$7:$L$992,11,0)))","v":""}]
[431,"Stanislav Doskocil",1978,"M","Medlánky","CZ/M",818,1,"","",null,null,{"$f":"IF(ISERROR(VLOOKUP(B437,'Zebrik W'!$B$7:$L$992,11,0)),\"\",IF(VLOOKUP(B437,'Zebrik W'!$B$7:$L$992,11,0)=0,\"--\",VLOOKUP(B437,'Zebrik W'!$B$7:$L$992,11,0)))","v":""}]
[432,"Lukas Jezek",1975,"M","Jičín","CZ/C2",751,1,"","",null,null,{"$f":"IF(ISERROR(VLOOKUP(B438,'Zebrik W'!$B$7:$L$992,11,0)),\"\",IF(VLOOKUP(B438,'Zebrik W'!$B$7:$L$992,11,0)=0,\"--\",VLOOKUP(B438,'Zebrik W'!$B$7:$L$992,11,0)))","v":""}]
[433,"Martin Marek",1967,"M","Roudnice","CZ/C2",696,1,"","",null,null,{"$f":"IF(ISERROR(VLOOKUP(B439,'Zebrik W'!$B$7:$L$992,11,0)),\"\",IF(VLOOKUP(B439,'Zebrik W'!$B$7:$L$992,11,0)=0,\"--\",VLOOKUP(B439,'Zebrik W'!$B$7:$L$992,11,0)))","v":""}]
[434,"Radek Bartos",1971,"M","Kolín","CZ/C1",656,1,"","",null,null,{"$f":"IF(ISERROR(VLOOKUP(B440,'Zebrik W'!$B$7:$L$992,11,0)),\"\",IF(VLOOKUP(B440,'Zebrik W'!$B$7:$L$992,11,0)=0,\"--\",VLOOKUP(B440,'Zebrik W'!$B$7:$L$992,11,0)))","v":""}]
[435,"Gabriela Cervena",1966,"F","Jaroměř","CZ/C2",599,1,"","",null,null,{"$f":"IF(ISERROR(VLOOKUP(B441,'Zebrik W'!$B$7:$L$992,11,0)),\"\",IF(VLOOKUP(B441,'Zebrik W'!$B$7:$L$992,11,0)=0,\"--\",VLOOKUP(B441,'Zebrik W'!$B$7:$L$992,11,0)))","v":"--"}]
[436,"Jan Platenik",1981,"M","Krnov","CZ/M",584,1,"","",null,null,{"$f":"IF(ISERROR(VLOOKUP(B442,'Zebrik W'!$B$7:$L$992,11,0)),\"\",IF(VLOOKUP(B442,'Zebrik W'!$B$7:$L$992,11,0)=0,\"--\",VLOOKUP(B442,'Zebrik W'!$B$7:$L$992,11,0)))","v":""}]
[437,"Milos Rejzl",1962,"M","Klatovy","CZ/C1",539,1,"","",null,null,{"$f":"IF(ISERROR(VLOOKUP(B443,'Zebrik W'!$B$7:$L$992,11,0)),\"\",IF(VLOOKUP(B443,'Zebrik W'!$B$7:$L$992,11,0)=0,\"--\",VLOOKUP(B443,'Zebrik W'!$B$7:$L$992,11,0)))","v":""}]
[438,"Libor Danhel",1966,"M","Kunovice","CZ/M",458,1,"","",null,null,{"$f":"IF(ISERROR(VLOOKUP(B444,'Zebrik W'!$B$7:$L$992,11,0)),\"\",IF(VLOOKUP(B444,'Zebrik W'!$B$7:$L$992,11,0)=0,\"--\",VLOOKUP(B444,'Zebrik W'!$B$7:$L$992,11,0)))","v":""}]
[439,"Jan Drbohlav",1999,"M","Hodkovice","CZ/C2",305,1,"Junior v roce 2023","Junior v roce 2024",null,null,{"$f":"IF(ISERROR(VLOOKUP(B445,'Zebrik W'!$B$7:$L$992,11,0)),\"\",IF(VLOOKUP(B445,'Zebrik W'!$B$7:$L$992,11,0)=0,\"--\",VLOOKUP(B445,'Zebrik W'!$B$7:$L$992,11,0)))","v":""}]
[440,"Jiri Pixa",1968,"M","Slaný","CZ/C1",205,1,"","",null,null,{"$f":"IF(ISERROR(VLOOKUP(B446,'Zebrik W'!$B$7:$L$992,11,0)),\"\",IF(VLOOKUP(B446,'Zebrik W'!$B$7:$L$992,11,0)=0,\"--\",VLOOKUP(B446,'Zebrik W'!$B$7:$L$992,11,0)))","v":""}]
[441,"Milan Bado",1975,"M","Kolín","CZ/C1",191,1,"","",null,null,{"$f":"IF(ISERROR(VLOOKUP(B447,'Zebrik W'!$B$7:$L$992,11,0)),\"\",IF(VLOOKUP(B447,'Zebrik W'!$B$7:$L$992,11,0)=0,\"--\",VLOOKUP(B447,'Zebrik W'!$B$7:$L$992,11,0)))","v":""}]

{"sheet":"Zebrik W","index":8,"n_rows":36,"n_cols":13,"rows_kept":36,"cut":false,"hidden":false,"merged":[]}
[null,{"$f":"\"Ženský Žebřík pilotek plachtařek PK AeČR \"&A6","v":"Ženský Žebřík pilotek plachtařek PK AeČR 2022"},null,null,null,null,null,null,{"$f":"'Zebrik G'!I1","v":"2023-01-08"},"Rev.",{"$f":"'Zebrik G'!K1","v":"01"},{"$f":"'Zebrik G'!L1","v":"Aktualizovány koeficienty soutěží dle rozhodnutí PK AeČR"}]
[]
[null,"W","x",null,null,null,null,null,"Juniorka v roce:","Juniorka v roce:",{"$f":"\"W Repre družstvo \"&I4","v":"W Repre družstvo 2023"},{"$f":"\"W Repre výběr \"&I4","v":"W Repre výběr 2023"},"Poznámka"]
[null,null,null,null,null,null,null,null,{"$f":"A6+1","v":2023},{"$f":"A6+2","v":2024},"(WRD)","(WRV)"]
["Pořadí",null,null,null,null,null,"Data",null,{"$f":"COUNTIF(I7:I489,\"Juniorka v roce \"&$I$4)","v":5},{"$f":"COUNTIF(J7:J489,\"Juniorka v roce \"&$J$4)","v":5},{"$f":"COUNTIF(K7:K489,\"WRD \"&$I$4)","v":0},{"$f":"COUNTIF(L7:L489,\"WRV \"&$I$4)","v":9},{"$f":"COUNTIF(M7:M489,\"<>\")","v":0}]
[{"$f":"'Zebrik G'!A6","v":2022},"Jméno","Rok narození","M/F","Aeroklub","Region","Součet z Bi×Kinp","Počet W"]
[{"$f":"RANK(G7,G:G)","v":1},"Alena Netusilova",1970,"F","Zbraslavice","CZ/C1",28793,3,{"$f":"IF(C7=\"(prázdné)\",\"\",IF(($I$4-C7)>25,\"\",\"Juniorka v roce \"&$I$4))","v":""},{"$f":"IF(C7=\"(prázdné)\",\"\",IF(($J$4-C7)>25,\"\",\"Juniorka v roce \"&$J$4))","v":""},null,"WRV 2023"]
[2,"Barbora Moravcova",1994,"F","Zbraslavice","CZ/C1",27620,3,{"$f":"IF(C8=\"(prázdné)\",\"\",IF(($I$4-C8)>25,\"\",\"Juniorka v roce \"&$I$4))","v":""},{"$f":"IF(C8=\"(prázdné)\",\"\",IF(($J$4-C8)>25,\"\",\"Juniorka v roce \"&$J$4))","v":""},null,"WRV 2023"]
[3,"Jana Veprekova",1961,"F","Dvůr Králové","CZ/C2",27035,3,"","",null,"WRV 2023"]
[4,"Dana Novakova",1965,"F","Mladá Boleslav","CZ/C1",27014,3,"","",null,"WRV 2023"]
[5,"Petra Piskata",1989,"F","Luhačovice","CZ/M",26659,3,"","",null,"WRV 2023"]
[6,"Hana Treslova",1991,"F","Raná","CZ/C2",26334,3,"","",null,"WRV 2023"]
[7,"Tereza Koubkova",1999,"F","Vysoké Mýto","CZ/C2",25693,3,"Juniorka v roce 2023","Juniorka v roce 2024",null,"WRV 2023"]
[8,"Michaela Rendlova",2004,"F","Toužim","CZ/C1",25365,3,"Juniorka v roce 2023","Juniorka v roce 2024",null,"WRV 2023"]
[9,"Michaela Krizova",2001,"F","Přibyslav","CZ/C2",23794,3,"Juniorka v roce 2023","Juniorka v roce 2024",null,"WRV 2023"]
[10,"Jana Treslova",1963,"F","Raná","CZ/C2",23227,3,"",""]
[11,"Klara Teichmannova",1993,"F","Hronov","CZ/C2",21564,3,"",""]
[12,"Pavlina Horackova",1965,"F","Šumperk","CZ/M",19839,3,"",""]
[13,"Lenka Kuthanova",1960,"F","Tábor","CZ/C1",15788,2,"",""]
[14,"Linda Vasatova",1990,"F","Mladá Boleslav","CZ/C1",13532,3,"",""]
[15,"Katerina Vancurova",2002,"F","Hranice","CZ/M",12086,3,"Juniorka v roce 2023","Juniorka v roce 2024"]
[16,"Olga Mokosova",1970,"F","Jihlava","CZ/M",11907,3,"",""]
[17,"Sarka Lochova",1966,"F","Šumperk","CZ/M",11641,3,"",""]
[18,"Katerina Vojtova",1983,"F","Slaný","CZ/C1",11433,3,"",""]
[19,"Jana Mezerova",1975,"F","Raná","CZ/C2",11092,3,"",""]
[20,"Yvona Vyhnankova",1963,"F","Olomouc","CZ/M",8708,3,"",""]
[21,"Anna Bordovska",1989,"F","Mladá Boleslav","CZ/C1",7324,1,"",""]
[22,"Eva Cerna",1964,"F","Příbram","CZ/C1",6037,1,"",""]
[23,"Zuzana Markesova",2001,"F","Medlánky","CZ/M",3044,1,"Juniorka v roce 2023","Juniorka v roce 2024"]
[24,"Tereza Novakova",1993,"F","Chrudim","CZ/C2",2807,1,"",""]
[25,"Tereza Krcilova Spalenkova",1981,"F","Raná","CZ/C2",2588,1,"",""]
[26,"Kristina Santruckova",1996,"F","Podhořany","CZ/C2",2493,1,"",""]
[27,"Zuzana Kutilkova",1993,"F","Křižanov","CZ/M",925,1,"",""]
[28,"Gabriela Cervena",1966,"F","Jaroměř","CZ/C2",599,1,"",""]
[null,null,null,null,null,null,null,null,"",""]
[null,null,null,null,null,null,null,null,"",""]

{"sheet":"KB PMRg 2020","index":9,"n_rows":38,"n_cols":13,"rows_kept":38,"cut":false,"hidden":false,"merged":[[0,0,0,12]]}
["PMRg 2020 - Hosín - Korigované body"]
["Pořadí v KB","Jméno","Rok narození","M/F","Aeroklub","Region","Soutěž","Pořadí ve třídě","Body ve třídě","Bi","Typ","CN","Junior"]
[{"$f":"RANK(J3,J:J)","v":1},"Michal Lesinger",1966,"M","Moravská Třebová","CZ/M","PMRg 2020 - Klub",1,4243,10000,"ASW 19B","LL",{"$f":"IF(ISERROR(VLOOKUP(B3,Pilot,6,0)),\"Není v databázi\",VLOOKUP(B3,Pilot,6,0))","v":""}]
[1,"Danes Grula",1961,"M","Medlánky","CZ/M","PMRg 2020 - Kombi",1,4243,10000,"ASG29E","DX",""]
[3,"Zdenek Boruvka 86",1986,"M","Jičín","CZ/C2","PMRg 2020 - Klub",2,4134,9690,"STD. CIRRUS","BJ",""]
[4,"Petr Hotovy",1958,"M","Česká Lípa","CZ/C2","PMRg 2020 - Kombi",2,4106,9501,"JS1B 18m","IGC",""]
[5,"Josef Busek",1967,"M","Hosín","CZ/C1","PMRg 2020 - Kombi",3,3900,8889,"Duodiscus X 750kg","BB",""]
[6,"Jan Zahradka",1981,"M","Hodkovice","CZ/C2","PMRg 2020 - Klub",3,3619,8710,"Std. Cirrus","AR",""]
[7,"Marek Svancara",1976,"M","GAC Benešov","CZ/C1","PMRg 2020 - Klub",4,3499,8381,"Std. Cirrus","GT",""]
[8,"Michael Fik",1972,"M","Strakonice","CZ/C1","PMRg 2020 - Kombi",4,3722,8322,"Ventus C 17,6","GE",""]
[9,"Jan Stastny",2003,"M","Medlánky","CZ/M","PMRg 2020 - Klub",5,3276,7883,"ASW-15B","TW","Junior v roce 2023"]
[10,"Jindrich Hruska",1986,"M","Soběslav","CZ/C1","PMRg 2020 - Klub",6,3243,7698,"Mosquito","UFO",""]
[11,"Hana Treslova",1991,"F","Raná","CZ/C2","PMRg 2020 - Kombi",5,3460,7617,"Ventus 2ax","AX",""]
[12,"Jiri Vondracek",1989,"M","Kladno","CZ/C1","PMRg 2020 - Klub",7,3122,7368,"ASW-15B","2P",""]
[13,"Jaromir Macoun",1999,"M","Jičín","CZ/C2","PMRg 2020 - Kombi",6,3413,7267,"LS 8","EU","Junior v roce 2023"]
[14,"Vladimir Hammer",2000,"M","Letkov","CZ/C1","PMRg 2020 - Klub",8,3106,7211,"Std. Cirrus","XII","Junior v roce 2023"]
[15,"Miloslav Hulmak",1963,"M","Hosín","CZ/C1","PMRg 2020 - Klub",9,3030,6955,"ASW15B","HH",""]
[16,"Jaromir Pauer",1974,"M","Hosín","CZ/C1","PMRg 2020 - Kombi",7,3293,6796,"Ventus C 17,6m","XE",""]
[17,"Pavlina Horackova",1965,"F","Šumperk","CZ/M","PMRg 2020 - Klub",10,2891,6596,"SZD 48 Jantar Std. 2","SU",""]
[18,"Karel Novak",1993,"M","Mladá Boleslav","CZ/C1","PMRg 2020 - Kombi",8,3255,6461,"JS-3","XM",""]
[19,"Jan Florian",1992,"M","Zbraslavice","CZ/C1","PMRg 2020 - Klub",11,2831,6366,"Std. Cirrus","C1",""]
[20,"Tomas Hulmak",1999,"M","Hosín","CZ/C1","PMRg 2020 - Klub",12,2823,6223,"ASW-15B","XI","Junior v roce 2023"]
[21,"Jiri Holcman",1976,"M","Hosín","CZ/C1","PMRg 2020 - Klub",13,2717,5917,"ASW-19","BO",""]
[22,"Petr Rozhon",1972,"M","Hosín","CZ/C1","PMRg 2020 - Klub",14,2611,5612,"vso-10",9,""]
[23,"Pavel Koudelka",1973,"M","Křižanov","CZ/M","PMRg 2020 - Klub",15,2442,5203,"Std.Cirrus","ICQ",""]
[24,"Michal Vranek",1993,"M","Hosín","CZ/C1","PMRg 2020 - Klub",16,2440,5069,"DG-100","8W",""]
[25,"Jan Beran",1999,"M","Kladno","CZ/C1","PMRg 2020 - Klub",17,2275,4666,"ASW 19","HB","Junior v roce 2023"]
[26,"Jaroslav Potmesil",1964,"M","Zbraslavice","CZ/C1","PMRg 2020 - Kombi",9,2273,4568,"304TS TwinShark","DL",""]
[27,"Martin Tison",2000,"M","Hosín","CZ/C1","PMRg 2020 - Klub",18,2175,4371,"ASW-15B","EZ","Junior v roce 2023"]
[28,"Petr Velek",1975,"M","GAC Benešov","CZ/C1","PMRg 2020 - Klub",19,2138,4179,"DG400","HX",""]
[29,"Lukas Plocek",1990,"M","Mladá Boleslav","CZ/C1","PMRg 2020 - Klub",20,1896,3650,"ASW-19B","AH",""]
[30,"Radek Zima 78",1978,"M","Hodkovice","CZ/C2","PMRg 2020 - Kombi",10,1751,3434,"Ventus b 16,6m 430kg WL","7F",""]
[31,"Vaclav Zak",1962,"M","GAC Benešov","CZ/C1","PMRg 2020 - Klub",21,1721,3231,"Std. Cirrus","TS",""]
[32,"Jiri Krofta",1988,"M","Hosín","CZ/C1","PMRg 2020 - Klub",22,1563,2839,"Std. Cirrus","2U",""]
[33,"Frantisek Suna",1983,"M","Hosín","CZ/C1","PMRg 2020 - Klub",23,1461,2541,"DG-100",78,""]
[34,"Jan Kohout",1970,"M","Žamberk","CZ/C2","PMRg 2020 - Kombi",11,1320,2450,"LS8a","SK",""]
[35,"Petr Sochor",1986,"M","Hosín","CZ/C1","PMRg 2020 - Klub",24,1308,2158,"ASW15B","6Y",""]
[36,"Radoslav Pur",1973,"M","Hosín","CZ/C1","PMRg 2020 - Kombi",12,1147,1892,"DG-200","EK",""]

{"sheet":"KB PMRg 2021","index":10,"n_rows":41,"n_cols":13,"rows_kept":41,"cut":false,"hidden":false,"merged":[[0,0,0,12]]}
["PMRg 2021 - Moravská Třebová - Korigované body"]
["Pořadí v KB","Jméno","Rok narození","M/F","Aeroklub","Region","Soutěž","Pořadí ve třídě","Body ve třídě","Bi","Typ","CN","Junior"]
[{"$f":"RANK(J3,J:J)","v":1},"Jan Louda",{"$f":"VLOOKUP(B3,Pilot,2,0)","v":1986},{"$f":"VLOOKUP(B3,Pilot,5,0)","v":"M"},{"$f":"VLOOKUP(B3,Pilot,3,0)","v":"Mladá Boleslav"},{"$f":"VLOOKUP(B3,Pilot,4,0)","v":"CZ/C1"},"PMRg 2021 - Klub",1,5782,10000,"ASW-19B","XS",{"$f":"IF(ISERROR(VLOOKUP(B3,Pilot,6,0)),\"Není v databázi\",VLOOKUP(B3,Pilot,6,0))","v":""}]
[1,"Tomas Rendla",{"$f":"VLOOKUP(B4,Pilot,2,0)","v":1973},{"$f":"VLOOKUP(B4,Pilot,5,0)","v":"M"},{"$f":"VLOOKUP(B4,Pilot,3,0)","v":"Zbraslavice"},{"$f":"VLOOKUP(B4,Pilot,4,0)","v":"CZ/C1"},"PMRg 2021 - Kombi",1,5477,10000,"EB-29R","EX",""]
[3,"Pavel Jiranek",1993,"M","Toužim","CZ/C1","PMRg 2021 - Klub",2,5754,9846,"Std. Cirrus","IYD",""]
[4,"Radek Kucirek",1973,"M","Havlíčkův Brod","CZ/C2","PMRg 2021 - Kombi",2,5461,9730,"EB-28 edition","NA",""]
[5,"Pavel Trybenekr",1990,"M","Hořice","CZ/C2","PMRg 2021 - Klub",3,5741,9710,"LS-4","PF",""]
[6,"Hana Treslova",1991,"F","Raná","CZ/C2","PMRg 2021 - Klub",4,5404,9182,"Std. Cirrus","CI",""]
[7,"Jan Boruvka",1984,"M","Jičín","CZ/C2","PMRg 2021 - Kombi",3,5225,9178,"Ventus C 17.6m","EG",""]
[8,"Jiri Stepanek",1956,"M","Moravská Třebová","CZ/M","PMRg 2021 - Klub",5,5331,8974,"VSO-10","H9",""]
[9,"Martin Stepanek",1987,"M","Moravská Třebová","CZ/M","PMRg 2021 - Klub",6,5267,8777,"ASW-15B","LE",""]
[10,"Petr Stepanek",1989,"M","Moravská Třebová","CZ/M","PMRg 2021 - Klub",7,5104,8459,"ASW-15B","ZP",""]
[11,"Michaela Rendlova",2004,"F","Toužim","CZ/C1","PMRg 2021 - Kombi",4,4833,8427,"ASG 29/18m","NX","Junior v roce 2023"]
[12,"Radek Zima 78",1978,"M","Hodkovice","CZ/C2","PMRg 2021 - Kombi",5,4825,8167,"ASG 29/18m","XZ",""]
[13,"Zdenek Balcarek",1967,"M","Kroměříž","CZ/M","PMRg 2021 - Klub",8,4662,7804,"Discus b","OS",""]
[14,"Zdenek Boruvka 86",1986,"M","Jičín","CZ/C2","PMRg 2021 - Klub",9,4641,7659,"Std. Cirrus","BJ",""]
[15,"Jiri Steiger",1969,"M","Olomouc","CZ/M","PMRg 2021 - Kombi",6,4284,7225,"Ventus 3M 18m","JSI",""]
[16,"Petr Valenta 94",1994,"M","Kunovice","CZ/M","PMRg 2021 - Klub",10,4371,7212,"Std. Cirrus","OK",""]
[17,"Pavlina Horackova",1965,"F","Šumperk","CZ/M","PMRg 2021 - Klub",11,4345,7060,"SZD-48 Jantar std. 2 (3)","SU",""]
[18,"Jiri Vondracek",1989,"M","Kladno","CZ/C1","PMRg 2021 - Klub",12,4337,6931,"ASW-15B","2P",""]
[19,"Jiri Maier 66",1966,"M","Raná","CZ/C2","PMRg 2021 - Klub",13,4311,6779,"ASW-24E","JM",""]
[20,"Jaromir Macoun",1999,"M","Jičín","CZ/C2","PMRg 2021 - Kombi",7,4128,6776,"LS-8 15m","AU","Junior v roce 2023"]
[21,"Martin Kriz",1968,"M","Přibyslav","CZ/C2","PMRg 2021 - Klub",14,4245,6579,"ASW-20 (A)+F /15m WL",67,""]
[22,"Miroslav Koci",1961,"M","Žamberk","CZ/C2","PMRg 2021 - Kombi",8,3695,5972,"Ventus 2cxm","E8",""]
[23,"Jan Florian",1992,"M","Zbraslavice","CZ/C1","PMRg 2021 - Klub",15,3748,5858,"Std. Cirrus","C1",""]
[23,"Pavel Liska",1965,"M","Roudnice","CZ/C2","PMRg 2021 - Klub",15,3748,5858,"ASW-19B","RCE",""]
[25,"Vit Morkovsky",2000,"M","Polička","CZ/C2","PMRg 2021 - Kombi",9,3438,5394,"Discus 2a","GX","Junior v roce 2023"]
[26,"Michal Lesinger",1966,"M","Moravská Třebová","CZ/M","PMRg 2021 - Klub",17,3527,5350,"ASW-19B","LL",""]
[27,"Pavel Koudelka",1973,"M","Křižanov","CZ/M","PMRg 2021 - Klub",18,3320,4979,"Std. Cirrus","ZL",""]
[28,"Petr Prichystal",1973,"M","Moravská Třebová","CZ/M","PMRg 2021 - Klub",19,3256,4782,"ASW-19B","AE",""]
[29,"Ivan Tvrdik",1997,"M","Letňany","CZ/C1","PMRg 2021 - Kombi",10,2951,4522,"LS-8 15m","EU",""]
[30,"Jan Vozeh",1995,"M","Rakovník","CZ/C1","PMRg 2021 - Klub",20,3074,4442,"Std. Cirrus","OG",""]
[31,"Jakub Kohn",1992,"M","Prostějov","CZ/M","PMRg 2021 - Klub",21,2944,4164,"ASW-15B","FK",""]
[32,"Jan Zapletal",1997,"M","Břeclav","CZ/M","PMRg 2021 - Kombi",11,2697,3947,"LS-8 15m","JS",""]
[33,"Josef Hlusek",1993,"M","Kunovice","CZ/M","PMRg 2021 - Klub",22,2433,3426,"Std. Cirrus","WO",""]
[34,"Petr Kubik 75",1975,"M","Moravská Třebová","CZ/M","PMRg 2021 - Klub",23,2399,3264,"ASW-19B","NO",""]
[35,"Antonin Kutalek",1943,"M","Zábřeh","CZ/M","PMRg 2021 - Kombi",12,1816,2571,"LAK-17AT 18m","GL",""]
[36,"Marek Pechar",1995,"M","Chrudim","CZ/C2","PMRg 2021 - Klub",24,1755,2365,"Std. Cirrus","JE",""]
[37,"Jiri Krofta",1988,"M","Hosín","CZ/C1","PMRg 2021 - Klub",25,1748,2236,"Std. Cirrus","YU",""]
[38,"Zuzana Kutilkova",1993,"F","Křižanov","CZ/M","PMRg 2021 - Klub",26,813,984,"LS-1f","DP",""]
[39,"Petr Panek",1975,"M","Dvůr Králové","CZ/C2","PMRg 2021 - Kombi",13,495,633,"JS1B EVO 18m","IGC",""]

{"sheet":"KB PMRg 2022","index":11,"n_rows":26,"n_cols":13,"rows_kept":26,"cut":false,"hidden":false,"merged":[[0,0,0,12]]}
["PMRg 2022 - Hodkovice - Korigované body"]
["Pořadí v KB","Jméno","Rok narození","M/F","Aeroklub","Region","Soutěž","Pořadí ve třídě","Body ve třídě","Bi","Typ","CN","Junior"]
[{"$f":"RANK(J3,J:J)","v":1},"Michal Lesinger",{"$f":"VLOOKUP(B3,Pilot,2,0)","v":1966},{"$f":"VLOOKUP(B3,Pilot,5,0)","v":"M"},{"$f":"VLOOKUP(B3,Pilot,3,0)","v":"Moravská Třebová"},{"$f":"VLOOKUP(B3,Pilot,4,0)","v":"CZ/M"},"PMRg 2022 - Klub",1,3948,10000,"ASW 20","LL",{"$f":"IF(ISERROR(VLOOKUP(B3,Pilot,6,0)),\"Není v databázi\",VLOOKUP(B3,Pilot,6,0))","v":""}]
[1,"Lukas Capek",1992,"M","Letňany","CZ/C1","PMRg 2022 - Kombi",1,3354,10000,"Mosquito","LC",""]
[3,"Jiri Kusbach",1959,"M","Luhačovice","CZ/M","PMRg 2022 - Klub",2,3831,9543,"KKB-15E FES","B",""]
[4,"Jaroslav Potmesil",1964,"M","Zbraslavice","CZ/C1","PMRg 2022 - Kombi",2,2942,8807,"HpH 304 TS Twin Shark","TS",""]
[5,"Jan Smaha",1958,"M","Česká Lípa","CZ/C2","PMRg 2022 - Klub",3,3458,8631,"ASW 15 B","CW",""]
[6,"Lukas Maly",1998,"M","Vysoké Mýto","CZ/C2","PMRg 2022 - Klub",4,3447,8362,"Discus b",65,"Junior v roce 2023"]
[7,"Jiri Stepanek",1956,"M","Moravská Třebová","CZ/M","PMRg 2022 - Klub",5,3387,8005,"ASW 15 B","LE",""]
[8,"Martin Stepanek",1987,"M","Moravská Třebová","CZ/M","PMRg 2022 - Klub",6,3361,7709,"ASW 19 B","AE",""]
[9,"Petr Hora",1948,"M","Hodkovice","CZ/C2","PMRg 2022 - Kombi",3,2515,7582,"HpH 304 MS Shark","B1",""]
[10,"Tomas Kulhavy",2001,"M","Liberec","CZ/C2","PMRg 2022 - Kombi",4,2500,7218,"HpH 304 CZ 17.4m","IH","Junior v roce 2023"]
[11,"Tomas Hynek",2002,"M","Dvůr Králové","CZ/C2","PMRg 2022 - Klub",7,3190,7156,"DG 200","HL","Junior v roce 2023"]
[12,"Pavel Koudelka",1973,"M","Křižanov","CZ/M","PMRg 2022 - Klub",8,3156,6846,"Std. Cirrus","ZL",""]
[13,"Antonin Kutalek",1943,"M","Zábřeh","CZ/M","PMRg 2022 - Kombi",5,2340,6550,"LAK-17A T 18m","GL",""]
[14,"Michaela Krizova",2001,"F","Přibyslav","CZ/C2","PMRg 2022 - Klub",9,2951,6232,"ASW 15 B","BE","Junior v roce 2023"]
[15,"Pavlina Horackova",1965,"F","Šumperk","CZ/M","PMRg 2022 - Klub",10,2618,5392,"SZD-48 Jantar Std. 2","SU",""]
[16,"Katerina Vancurova",2002,"F","Hranice","CZ/M","PMRg 2022 - Klub",11,2331,4633,"Discus b","HD","Junior v roce 2023"]
[17,"Radek Zima 78",1978,"M","Hodkovice","CZ/C2","PMRg 2022 - Kombi",6,1372,4197,"ASG 29 E 18m","XZ",""]
[18,"Jan Florian",1992,"M","Zbraslavice","CZ/C1","PMRg 2022 - Klub",12,2188,4129,"Std. Cirrus","C1",""]
[19,"Jiri Krofta",1988,"M","Hosín","CZ/C1","PMRg 2022 - Klub",13,1904,3376,"Std. Cirrus","YU",""]
[20,"Jaromir Macoun",1999,"M","Jičín","CZ/C2","PMRg 2022 - Kombi",7,225,1470,"LS 8","EU","Junior v roce 2023"]
[21,"Ivan Tvrdik",1997,"M","Letňany","CZ/C1","PMRg 2022 - Kombi",8,221,1128,"ASW 20 16.6m","NW",""]
[22,"Jan Drbohlav",1999,"M","Hodkovice","CZ/C2","PMRg 2022 - Kombi",9,1,335,"G 103 Twin Astir","BL","Junior v roce 2023"]
[23,"Vojtech Hajek",1987,"M","Mladá Boleslav","CZ/C1","PMRg 2022 - Kombi",10,0,0,"Duo Discus",777,""]
[23,"Karel Novak",1993,"M","Mladá Boleslav","CZ/C1","PMRg 2022 - Kombi",10,0,0,"LS 8","ID",""]

{"sheet":"N PMČR 2023","index":12,"n_rows":130,"n_cols":18,"rows_kept":130,"cut":false,"hidden":false,"merged":[[39,1,39,7],[7,1,7,7],[69,1,69,7],[70,1,70,7],[127,1,127,7],[90,1,90,7],[129,1,129,7],[71,1,71,7],[122,1,122,7],[125,1,125,7],[126,1,126,7],[123,1,123,7]]}
[null,"Nominace na PMČR 2023",null,null,null,null,null,"Kontrola:","Počet","Nominace","Počet","Nominace","Počet","Nominace","M:","F:","M+F:"]
["No","Jméno","Aeroklub","Rok narození","M/F","Junior","No",null,"PMČR","PMČR","PMRg","PMRg","PMČRj","PMČRj",{"$f":"COUNTIF(E:E,\"M\")","v":83},{"$f":"COUNTIF(E:E,\"F\")","v":12},{"$f":"O2+P2","v":95},"S náhradníky"]
["6.6.5.","Nominace na PMČR - všeobecně (dle SŘ ZM10)",null,null,null,null,null,null,null,null,null,null,null,"Celkem řádně nominováno:",{"$f":"O2-COUNTIF(E59:E63,\"M\")-COUNTIF(E113:E121,\"M\")","v":70},{"$f":"P2-COUNTIF(E59:E63,\"F\")-COUNTIF(E113:E121,\"F\")","v":11},{"$f":"O3+P3","v":81},"Bez náhradníků"]
[null,"Na PMČR nominuje PK minimálně 80 pilotů/pilotek a příslušný počet náhradníků pro stanovená nominační kritéria."]
[null,"PMČR se mohou zúčastnit pouze soutěžící nominovaní dle jednotlivých bodů odstavců 6.6.6., 6.6.7. a 6.6.8."]
[null,"Pořadatel soutěže nemůže doplnit soutěžící na základě jiných kritérií."]
["6.6.6.","Řádná nominace - Na PMČR jsou nominováni"]
["6.6.6.1.","všichni členové reprezentačního výběru (RV) ČR stanoveného pro daný soutěžní ročník (bez náhradníků)"]
[1,"Tomas Suchanek",{"$f":"VLOOKUP(B9,Pilot!A:C,3,0)","v":"GAC Benešov"},{"$f":"VLOOKUP(B9,Pilot!A:B,2,0)","v":1964},{"$f":"VLOOKUP(B9,Pilot!A:E,5,0)","v":"M"},{"$f":"VLOOKUP(B9,Pilot!A:F,6,0)","v":""},{"$f":"A9","v":1},null,{"$f":"COUNTIF(B:B,B9)","v":1},{"$f":"IF(ISERROR(VLOOKUP(B9,B:G,6,0)),\"-\",VLOOKUP(B9,B:G,6,0))","v":1},{"$f":"IF(COUNTIF('N PMRg 2023'!B:B,B9)=0,\"-\",COUNTIF('N PMRg 2023'!B:B,B9))","v":"-"},{"$f":"IF(ISERROR(VLOOKUP(B9,'N PMRg 2023'!B:G,6,0)),\"-\",VLOOKUP(B9,'N PMRg 2023'!B:G,6,0))","v":"-"},{"$f":"IF(COUNTIF('N PMČRj 2023'!B:B,B9)=0,\"-\",COUNTIF('N PMČRj 2023'!B:B,B9))","v":"-"},{"$f":"IF(ISERROR(VLOOKUP(B9,'N PMČRj 2023'!B:G,6,0)),\"-\",VLOOKUP(B9,'N PMČRj 2023'!B:G,6,0))","v":"-"}]
[{"$f":"A9+1","v":2},"Radek Krejcirik",{"$f":"VLOOKUP(B10,Pilot!A:C,3,0)","v":"Hranice"},{"$f":"VLOOKUP(B10,Pilot!A:B,2,0)","v":1991},{"$f":"VLOOKUP(B10,Pilot!A:E,5,0)","v":"M"},{"$f":"VLOOKUP(B10,Pilot!A:F,6,0)","v":""},{"$f":"A10","v":2},null,1,2,{"$f":"IF(COUNTIF('N PMRg 2023'!B:B,B10)=0,\"-\",COUNTIF('N PMRg 2023'!B:B,B10))","v":"-"},{"$f":"IF(ISERROR(VLOOKUP(B10,'N PMRg 2023'!B:G,6,0)),\"-\",VLOOKUP(B10,'N PMRg 2023'!B:G,6,0))","v":"-"},{"$f":"IF(COUNTIF('N PMČRj 2023'!B:B,B10)=0,\"-\",COUNTIF('N PMČRj 2023'!B:B,B10))","v":"-"},{"$f":"IF(ISERROR(VLOOKUP(B10,'N PMČRj 2023'!B:G,6,0)),\"-\",VLOOKUP(B10,'N PMČRj 2023'!B:G,6,0))","v":"-"}]
[{"$f":"A10+1","v":3},"Miloslav Cink",{"$f":"VLOOKUP(B11,Pilot!A:C,3,0)","v":"Letkov"},{"$f":"VLOOKUP(B11,Pilot!A:B,2,0)","v":1987},{"$f":"VLOOKUP(B11,Pilot!A:E,5,0)","v":"M"},{"$f":"VLOOKUP(B11,Pilot!A:F,6,0)","v":""},3,null,1,3,{"$f":"IF(COUNTIF('N PMRg 2023'!B:B,B11)=0,\"-\",COUNTIF('N PMRg 2023'!B:B,B11))","v":"-"},{"$f":"IF(ISERROR(VLOOKUP(B11,'N PMRg 2023'!B:G,6,0)),\"-\",VLOOKUP(B11,'N PMRg 2023'!B:G,6,0))","v":"-"},{"$f":"IF(COUNTIF('N PMČRj 2023'!B:B,B11)=0,\"-\",COUNTIF('N PMČRj 2023'!B:B,B11))","v":"-"},{"$f":"IF(ISERROR(VLOOKUP(B11,'N PMČRj 2023'!B:G,6,0)),\"-\",VLOOKUP(B11,'N PMČRj 2023'!B:G,6,0))","v":"-"}]
[4,"Jan Pavlik",{"$f":"VLOOKUP(B12,Pilot!A:C,3,0)","v":"Křižanov"},{"$f":"VLOOKUP(B12,Pilot!A:B,2,0)","v":1987},{"$f":"VLOOKUP(B12,Pilot!A:E,5,0)","v":"M"},{"$f":"VLOOKUP(B12,Pilot!A:F,6,0)","v":""},4,null,1,4,{"$f":"IF(COUNTIF('N PMRg 2023'!B:B,B12)=0,\"-\",COUNTIF('N PMRg 2023'!B:B,B12))","v":"-"},{"$f":"IF(ISERROR(VLOOKUP(B12,'N PMRg 2023'!B:G,6,0)),\"-\",VLOOKUP(B12,'N PMRg 2023'!B:G,6,0))","v":"-"},{"$f":"IF(COUNTIF('N PMČRj 2023'!B:B,B12)=0,\"-\",COUNTIF('N PMČRj 2023'!B:B,B12))","v":"-"},{"$f":"IF(ISERROR(VLOOKUP(B12,'N PMČRj 2023'!B:G,6,0)),\"-\",VLOOKUP(B12,'N PMČRj 2023'!B:G,6,0))","v":"-"}]
[5,"Roman Mracek",{"$f":"VLOOKUP(B13,Pilot!A:C,3,0)","v":"Letkov"},{"$f":"VLOOKUP(B13,Pilot!A:B,2,0)","v":1980},{"$f":"VLOOKUP(B13,Pilot!A:E,5,0)","v":"M"},{"$f":"VLOOKUP(B13,Pilot!A:F,6,0)","v":""},5,null,1,5,{"$f":"IF(COUNTIF('N PMRg 2023'!B:B,B13)=0,\"-\",COUNTIF('N PMRg 2023'!B:B,B13))","v":"-"},{"$f":"IF(ISERROR(VLOOKUP(B13,'N PMRg 2023'!B:G,6,0)),\"-\",VLOOKUP(B13,'N PMRg 2023'!B:G,6,0))","v":"-"},{"$f":"IF(COUNTIF('N PMČRj 2023'!B:B,B13)=0,\"-\",COUNTIF('N PMČRj 2023'!B:B,B13))","v":"-"},{"$f":"IF(ISERROR(VLOOKUP(B13,'N PMČRj 2023'!B:G,6,0)),\"-\",VLOOKUP(B13,'N PMČRj 2023'!B:G,6,0))","v":"-"}]
[6,"Ivan Novak",{"$f":"VLOOKUP(B14,Pilot!A:C,3,0)","v":"Mladá Boleslav"},{"$f":"VLOOKUP(B14,Pilot!A:B,2,0)","v":1962},{"$f":"VLOOKUP(B14,Pilot!A:E,5,0)","v":"M"},{"$f":"VLOOKUP(B14,Pilot!A:F,6,0)","v":""},6,null,1,6,{"$f":"IF(COUNTIF('N PMRg 2023'!B:B,B14)=0,\"-\",COUNTIF('N PMRg 2023'!B:B,B14))","v":"-"},{"$f":"IF(ISERROR(VLOOKUP(B14,'N PMRg 2023'!B:G,6,0)),\"-\",VLOOKUP(B14,'N PMRg 2023'!B:G,6,0))","v":"-"},{"$f":"IF(COUNTIF('N PMČRj 2023'!B:B,B14)=0,\"-\",COUNTIF('N PMČRj 2023'!B:B,B14))","v":"-"},{"$f":"IF(ISERROR(VLOOKUP(B14,'N PMČRj 2023'!B:G,6,0)),\"-\",VLOOKUP(B14,'N PMČRj 2023'!B:G,6,0))","v":"-"}]
[7,"Michal Lesinger",{"$f":"VLOOKUP(B15,Pilot!A:C,3,0)","v":"Moravská Třebová"},{"$f":"VLOOKUP(B15,Pilot!A:B,2,0)","v":1966},{"$f":"VLOOKUP(B15,Pilot!A:E,5,0)","v":"M"},{"$f":"VLOOKUP(B15,Pilot!A:F,6,0)","v":""},7,null,1,7,{"$f":"IF(COUNTIF('N PMRg 2023'!B:B,B15)=0,\"-\",COUNTIF('N PMRg 2023'!B:B,B15))","v":"-"},{"$f":"IF(ISERROR(VLOOKUP(B15,'N PMRg 2023'!B:G,6,0)),\"-\",VLOOKUP(B15,'N PMRg 2023'!B:G,6,0))","v":"-"},{"$f":"IF(COUNTIF('N PMČRj 2023'!B:B,B15)=0,\"-\",COUNTIF('N PMČRj 2023'!B:B,B15))","v":"-"},{"$f":"IF(ISERROR(VLOOKUP(B15,'N PMČRj 2023'!B:G,6,0)),\"-\",VLOOKUP(B15,'N PMČRj 2023'!B:G,6,0))","v":"-"}]
[8,"Pavel Louzecky",{"$f":"VLOOKUP(B16,Pilot!A:C,3,0)","v":"Přibyslav"},{"$f":"VLOOKUP(B16,Pilot!A:B,2,0)","v":1957},{"$f":"VLOOKUP(B16,Pilot!A:E,5,0)","v":"M"},{"$f":"VLOOKUP(B16,Pilot!A:F,6,0)","v":""},8,null,1,8,{"$f":"IF(COUNTIF('N PMRg 2023'!B:B,B16)=0,\"-\",COUNTIF('N PMRg 2023'!B:B,B16))","v":"-"},{"$f":"IF(ISERROR(VLOOKUP(B16,'N PMRg 2023'!B:G,6,0)),\"-\",VLOOKUP(B16,'N PMRg 2023'!B:G,6,0))","v":"-"},{"$f":"IF(COUNTIF('N PMČRj 2023'!B:B,B16)=0,\"-\",COUNTIF('N PMČRj 2023'!B:B,B16))","v":"-"},{"$f":"IF(ISERROR(VLOOKUP(B16,'N PMČRj 2023'!B:G,6,0)),\"-\",VLOOKUP(B16,'N PMČRj 2023'!B:G,6,0))","v":"-"}]
[9,"Radek Kucirek",{"$f":"VLOOKUP(B17,Pilot!A:C,3,0)","v":"Havlíčkův Brod"},{"$f":"VLOOKUP(B17,Pilot!A:B,2,0)","v":1973},{"$f":"VLOOKUP(B17,Pilot!A:E,5,0)","v":"M"},{"$f":"VLOOKUP(B17,Pilot!A:F,6,0)","v":""},9,null,1,9,{"$f":"IF(COUNTIF('N PMRg 2023'!B:B,B17)=0,\"-\",COUNTIF('N PMRg 2023'!B:B,B17))","v":"-"},{"$f":"IF(ISERROR(VLOOKUP(B17,'N PMRg 2023'!B:G,6,0)),\"-\",VLOOKUP(B17,'N PMRg 2023'!B:G,6,0))","v":"-"},{"$f":"IF(COUNTIF('N PMČRj 2023'!B:B,B17)=0,\"-\",COUNTIF('N PMČRj 2023'!B:B,B17))","v":"-"},{"$f":"IF(ISERROR(VLOOKUP(B17,'N PMČRj 2023'!B:G,6,0)),\"-\",VLOOKUP(B17,'N PMČRj 2023'!B:G,6,0))","v":"-"}]
[10,"David Mach",{"$f":"VLOOKUP(B18,Pilot!A:C,3,0)","v":"Hronov"},{"$f":"VLOOKUP(B18,Pilot!A:B,2,0)","v":1994},{"$f":"VLOOKUP(B18,Pilot!A:E,5,0)","v":"M"},{"$f":"VLOOKUP(B18,Pilot!A:F,6,0)","v":""},{"$f":"A18","v":10},null,1,10,{"$f":"IF(COUNTIF('N PMRg 2023'!B:B,B18)=0,\"-\",COUNTIF('N PMRg 2023'!B:B,B18))","v":"-"},{"$f":"IF(ISERROR(VLOOKUP(B18,'N PMRg 2023'!B:G,6,0)),\"-\",VLOOKUP(B18,'N PMRg 2023'!B:G,6,0))","v":"-"},{"$f":"IF(COUNTIF('N PMČRj 2023'!B:B,B18)=0,\"-\",COUNTIF('N PMČRj 2023'!B:B,B18))","v":"-"},{"$f":"IF(ISERROR(VLOOKUP(B18,'N PMČRj 2023'!B:G,6,0)),\"-\",VLOOKUP(B18,'N PMČRj 2023'!B:G,6,0))","v":"-"}]
[11,"Tomas Rendla",{"$f":"VLOOKUP(B19,Pilot!A:C,3,0)","v":"Zbraslavice"},{"$f":"VLOOKUP(B19,Pilot!A:B,2,0)","v":1973},{"$f":"VLOOKUP(B19,Pilot!A:E,5,0)","v":"M"},{"$f":"VLOOKUP(B19,Pilot!A:F,6,0)","v":""},11,null,1,11,{"$f":"IF(COUNTIF('N PMRg 2023'!B:B,B19)=0,\"-\",COUNTIF('N PMRg 2023'!B:B,B19))","v":"-"},{"$f":"IF(ISERROR(VLOOKUP(B19,'N PMRg 2023'!B:G,6,0)),\"-\",VLOOKUP(B19,'N PMRg 2023'!B:G,6,0))","v":"-"},{"$f":"IF(COUNTIF('N PMČRj 2023'!B:B,B19)=0,\"-\",COUNTIF('N PMČRj 2023'!B:B,B19))","v":"-"},{"$f":"IF(ISERROR(VLOOKUP(B19,'N PMČRj 2023'!B:G,6,0)),\"-\",VLOOKUP(B19,'N PMČRj 2023'!B:G,6,0))","v":"-"}]
[12,"Jan Ratz",{"$f":"VLOOKUP(B20,Pilot!A:C,3,0)","v":"Zbraslavice"},{"$f":"VLOOKUP(B20,Pilot!A:B,2,0)","v":1987},{"$f":"VLOOKUP(B20,Pilot!A:E,5,0)","v":"M"},{"$f":"VLOOKUP(B20,Pilot!A:F,6,0)","v":""},12,null,1,12,{"$f":"IF(COUNTIF('N PMRg 2023'!B:B,B20)=0,\"-\",COUNTIF('N PMRg 2023'!B:B,B20))","v":"-"},{"$f":"IF(ISERROR(VLOOKUP(B20,'N PMRg 2023'!B:G,6,0)),\"-\",VLOOKUP(B20,'N PMRg 2023'!B:G,6,0))","v":"-"},{"$f":"IF(COUNTIF('N PMČRj 2023'!B:B,B20)=0,\"-\",COUNTIF('N PMČRj 2023'!B:B,B20))","v":"-"},{"$f":"IF(ISERROR(VLOOKUP(B20,'N PMČRj 2023'!B:G,6,0)),\"-\",VLOOKUP(B20,'N PMČRj 2023'!B:G,6,0))","v":"-"}]
[13,"Lukas Kriz",{"$f":"VLOOKUP(B21,Pilot!A:C,3,0)","v":"Křižanov"},{"$f":"VLOOKUP(B21,Pilot!A:B,2,0)","v":2003},{"$f":"VLOOKUP(B21,Pilot!A:E,5,0)","v":"M"},{"$f":"VLOOKUP(B21,Pilot!A:F,6,0)","v":"Junior v roce 2023"},{"$f":"A21","v":13},null,1,13,{"$f":"IF(COUNTIF('N PMRg 2023'!B:B,B21)=0,\"-\",COUNTIF('N PMRg 2023'!B:B,B21))","v":"-"},{"$f":"IF(ISERROR(VLOOKUP(B21,'N PMRg 2023'!B:G,6,0)),\"-\",VLOOKUP(B21,'N PMRg 2023'!B:G,6,0))","v":"-"},{"$f":"IF(COUNTIF('N PMČRj 2023'!B:B,B21)=0,\"-\",COUNTIF('N PMČRj 2023'!B:B,B21))","v":1},{"$f":"IF(ISERROR(VLOOKUP(B21,'N PMČRj 2023'!B:G,6,0)),\"-\",VLOOKUP(B21,'N PMČRj 2023'!B:G,6,0))","v":1}]
[14,"Jan Zapletal",{"$f":"VLOOKUP(B22,Pilot!A:C,3,0)","v":"Břeclav"},{"$f":"VLOOKUP(B22,Pilot!A:B,2,0)","v":1997},{"$f":"VLOOKUP(B22,Pilot!A:E,5,0)","v":"M"},{"$f":"VLOOKUP(B22,Pilot!A:F,6,0)","v":""},14,null,1,14,{"$f":"IF(COUNTIF('N PMRg 2023'!B:B,B22)=0,\"-\",COUNTIF('N PMRg 2023'!B:B,B22))","v":"-"},{"$f":"IF(ISERROR(VLOOKUP(B22,'N PMRg 2023'!B:G,6,0)),\"-\",VLOOKUP(B22,'N PMRg 2023'!B:G,6,0))","v":"-"},{"$f":"IF(COUNTIF('N PMČRj 2023'!B:B,B22)=0,\"-\",COUNTIF('N PMČRj 2023'!B:B,B22))","v":"-"},{"$f":"IF(ISERROR(VLOOKUP(B22,'N PMČRj 2023'!B:G,6,0)),\"-\",VLOOKUP(B22,'N PMČRj 2023'!B:G,6,0))","v":"-"}]
[15,"Karel Novak",{"$f":"VLOOKUP(B23,Pilot!A:C,3,0)","v":"Mladá Boleslav"},{"$f":"VLOOKUP(B23,Pilot!A:B,2,0)","v":1993},{"$f":"VLOOKUP(B23,Pilot!A:E,5,0)","v":"M"},{"$f":"VLOOKUP(B23,Pilot!A:F,6,0)","v":""},15,null,1,15,{"$f":"IF(COUNTIF('N PMRg 2023'!B:B,B23)=0,\"-\",COUNTIF('N PMRg 2023'!B:B,B23))","v":"-"},{"$f":"IF(ISERROR(VLOOKUP(B23,'N PMRg 2023'!B:G,6,0)),\"-\",VLOOKUP(B23,'N PMRg 2023'!B:G,6,0))","v":"-"},{"$f":"IF(COUNTIF('N PMČRj 2023'!B:B,B23)=0,\"-\",COUNTIF('N PMČRj 2023'!B:B,B23))","v":"-"},{"$f":"IF(ISERROR(VLOOKUP(B23,'N PMČRj 2023'!B:G,6,0)),\"-\",VLOOKUP(B23,'N PMČRj 2023'!B:G,6,0))","v":"-"}]
[16,"Ondrej Bordovsky",{"$f":"VLOOKUP(B24,Pilot!A:C,3,0)","v":"Krnov"},{"$f":"VLOOKUP(B24,Pilot!A:B,2,0)","v":1983},{"$f":"VLOOKUP(B24,Pilot!A:E,5,0)","v":"M"},{"$f":"VLOOKUP(B24,Pilot!A:F,6,0)","v":""},16,null,1,16,{"$f":"IF(COUNTIF('N PMRg 2023'!B:B,B24)=0,\"-\",COUNTIF('N PMRg 2023'!B:B,B24))","v":"-"},{"$f":"IF(ISERROR(VLOOKUP(B24,'N PMRg 2023'!B:G,6,0)),\"-\",VLOOKUP(B24,'N PMRg 2023'!B:G,6,0))","v":"-"},{"$f":"IF(COUNTIF('N PMČRj 2023'!B:B,B24)=0,\"-\",COUNTIF('N PMČRj 2023'!B:B,B24))","v":"-"},{"$f":"IF(ISERROR(VLOOKUP(B24,'N PMČRj 2023'!B:G,6,0)),\"-\",VLOOKUP(B24,'N PMČRj 2023'!B:G,6,0))","v":"-"}]
[17,"Petr Koutny",{"$f":"VLOOKUP(B25,Pilot!A:C,3,0)","v":"Křižanov"},{"$f":"VLOOKUP(B25,Pilot!A:B,2,0)","v":1971},{"$f":"VLOOKUP(B25,Pilot!A:E,5,0)","v":"M"},{"$f":"VLOOKUP(B25,Pilot!A:F,6,0)","v":""},17,null,1,17,{"$f":"IF(COUNTIF('N PMRg 2023'!B:B,B25)=0,\"-\",COUNTIF('N PMRg 2023'!B:B,B25))","v":"-"},{"$f":"IF(ISERROR(VLOOKUP(B25,'N PMRg 2023'!B:G,6,0)),\"-\",VLOOKUP(B25,'N PMRg 2023'!B:G,6,0))","v":"-"},{"$f":"IF(COUNTIF('N PMČRj 2023'!B:B,B25)=0,\"-\",COUNTIF('N PMČRj 2023'!B:B,B25))","v":"-"},{"$f":"IF(ISERROR(VLOOKUP(B25,'N PMČRj 2023'!B:G,6,0)),\"-\",VLOOKUP(B25,'N PMČRj 2023'!B:G,6,0))","v":"-"}]
[18,"Jaromir Macoun",{"$f":"VLOOKUP(B26,Pilot!A:C,3,0)","v":"Jičín"},{"$f":"VLOOKUP(B26,Pilot!A:B,2,0)","v":1999},{"$f":"VLOOKUP(B26,Pilot!A:E,5,0)","v":"M"},{"$f":"VLOOKUP(B26,Pilot!A:F,6,0)","v":"Junior v roce 2023"},18,null,1,18,{"$f":"IF(COUNTIF('N PMRg 2023'!B:B,B26)=0,\"-\",COUNTIF('N PMRg 2023'!B:B,B26))","v":"-"},{"$f":"IF(ISERROR(VLOOKUP(B26,'N PMRg 2023'!B:G,6,0)),\"-\",VLOOKUP(B26,'N PMRg 2023'!B:G,6,0))","v":"-"},{"$f":"IF(COUNTIF('N PMČRj 2023'!B:B,B26)=0,\"-\",COUNTIF('N PMČRj 2023'!B:B,B26))","v":1},{"$f":"IF(ISERROR(VLOOKUP(B26,'N PMČRj 2023'!B:G,6,0)),\"-\",VLOOKUP(B26,'N PMČRj 2023'!B:G,6,0))","v":2}]
[19,"Jaroslav Tomana",{"$f":"VLOOKUP(B27,Pilot!A:C,3,0)","v":"Zbraslavice"},{"$f":"VLOOKUP(B27,Pilot!A:B,2,0)","v":1975},{"$f":"VLOOKUP(B27,Pilot!A:E,5,0)","v":"M"},{"$f":"VLOOKUP(B27,Pilot!A:F,6,0)","v":""},19,null,1,19,{"$f":"IF(COUNTIF('N PMRg 2023'!B:B,B27)=0,\"-\",COUNTIF('N PMRg 2023'!B:B,B27))","v":"-"},{"$f":"IF(ISERROR(VLOOKUP(B27,'N PMRg 2023'!B:G,6,0)),\"-\",VLOOKUP(B27,'N PMRg 2023'!B:G,6,0))","v":"-"},{"$f":"IF(COUNTIF('N PMČRj 2023'!B:B,B27)=0,\"-\",COUNTIF('N PMČRj 2023'!B:B,B27))","v":"-"},{"$f":"IF(ISERROR(VLOOKUP(B27,'N PMČRj 2023'!B:G,6,0)),\"-\",VLOOKUP(B27,'N PMČRj 2023'!B:G,6,0))","v":"-"}]
[20,"Pavel Trybenekr",{"$f":"VLOOKUP(B28,Pilot!A:C,3,0)","v":"Hořice"},{"$f":"VLOOKUP(B28,Pilot!A:B,2,0)","v":1990},{"$f":"VLOOKUP(B28,Pilot!A:E,5,0)","v":"M"},{"$f":"VLOOKUP(B28,Pilot!A:F,6,0)","v":""},20,null,1,20,{"$f":"IF(COUNTIF('N PMRg 2023'!B:B,B28)=0,\"-\",COUNTIF('N PMRg 2023'!B:B,B28))","v":"-"},{"$f":"IF(ISERROR(VLOOKUP(B28,'N PMRg 2023'!B:G,6,0)),\"-\",VLOOKUP(B28,'N PMRg 2023'!B:G,6,0))","v":"-"},{"$f":"IF(COUNTIF('N PMČRj 2023'!B:B,B28)=0,\"-\",COUNTIF('N PMČRj 2023'!B:B,B28))","v":"-"},{"$f":"IF(ISERROR(VLOOKUP(B28,'N PMČRj 2023'!B:G,6,0)),\"-\",VLOOKUP(B28,'N PMČRj 2023'!B:G,6,0))","v":"-"}]
[21,"Alena Netusilova",{"$f":"VLOOKUP(B29,Pilot!A:C,3,0)","v":"Zbraslavice"},{"$f":"VLOOKUP(B29,Pilot!A:B,2,0)","v":1970},{"$f":"VLOOKUP(B29,Pilot!A:E,5,0)","v":"F"},{"$f":"VLOOKUP(B29,Pilot!A:F,6,0)","v":""},21,null,1,21,{"$f":"IF(COUNTIF('N PMRg 2023'!B:B,B29)=0,\"-\",COUNTIF('N PMRg 2023'!B:B,B29))","v":"-"},{"$f":"IF(ISERROR(VLOOKUP(B29,'N PMRg 2023'!B:G,6,0)),\"-\",VLOOKUP(B29,'N PMRg 2023'!B:G,6,0))","v":"-"},{"$f":"IF(COUNTIF('N PMČRj 2023'!B:B,B29)=0,\"-\",COUNTIF('N PMČRj 2023'!B:B,B29))","v":"-"},{"$f":"IF(ISERROR(VLOOKUP(B29,'N PMČRj 2023'!B:G,6,0)),\"-\",VLOOKUP(B29,'N PMČRj 2023'!B:G,6,0))","v":"-"}]
[22,"Vit Morkovsky",{"$f":"VLOOKUP(B30,Pilot!A:C,3,0)","v":"Polička"},{"$f":"VLOOKUP(B30,Pilot!A:B,2,0)","v":2000},{"$f":"VLOOKUP(B30,Pilot!A:E,5,0)","v":"M"},{"$f":"VLOOKUP(B30,Pilot!A:F,6,0)","v":"Junior v roce 2023"},22,null,1,22,{"$f":"IF(COUNTIF('N PMRg 2023'!B:B,B30)=0,\"-\",COUNTIF('N PMRg 2023'!B:B,B30))","v":"-"},{"$f":"IF(ISERROR(VLOOKUP(B30,'N PMRg 2023'!B:G,6,0)),\"-\",VLOOKUP(B30,'N PMRg 2023'!B:G,6,0))","v":"-"},{"$f":"IF(COUNTIF('N PMČRj 2023'!B:B,B30)=0,\"-\",COUNTIF('N PMČRj 2023'!B:B,B30))","v":1},{"$f":"IF(ISERROR(VLOOKUP(B30,'N PMČRj 2023'!B:G,6,0)),\"-\",VLOOKUP(B30,'N PMČRj 2023'!B:G,6,0))","v":3}]
[23,"Dana Novakova",{"$f":"VLOOKUP(B31,Pilot!A:C,3,0)","v":"Mladá Boleslav"},{"$f":"VLOOKUP(B31,Pilot!A:B,2,0)","v":1965},{"$f":"VLOOKUP(B31,Pilot!A:E,5,0)","v":"F"},{"$f":"VLOOKUP(B31,Pilot!A:F,6,0)","v":""},23,null,1,23,{"$f":"IF(COUNTIF('N PMRg 2023'!B:B,B31)=0,\"-\",COUNTIF('N PMRg 2023'!B:B,B31))","v":"-"},{"$f":"IF(ISERROR(VLOOKUP(B31,'N PMRg 2023'!B:G,6,0)),\"-\",VLOOKUP(B31,'N PMRg 2023'!B:G,6,0))","v":"-"},{"$f":"IF(COUNTIF('N PMČRj 2023'!B:B,B31)=0,\"-\",COUNTIF('N PMČRj 2023'!B:B,B31))","v":"-"},{"$f":"IF(ISERROR(VLOOKUP(B31,'N PMČRj 2023'!B:G,6,0)),\"-\",VLOOKUP(B31,'N PMČRj 2023'!B:G,6,0))","v":"-"}]
[24,"Barbora Moravcova",{"$f":"VLOOKUP(B32,Pilot!A:C,3,0)","v":"Zbraslavice"},{"$f":"VLOOKUP(B32,Pilot!A:B,2,0)","v":1994},{"$f":"VLOOKUP(B32,Pilot!A:E,5,0)","v":"F"},{"$f":"VLOOKUP(B32,Pilot!A:F,6,0)","v":""},24,null,1,24,{"$f":"IF(COUNTIF('N PMRg 2023'!B:B,B32)=0,\"-\",COUNTIF('N PMRg 2023'!B:B,B32))","v":"-"},{"$f":"IF(ISERROR(VLOOKUP(B32,'N PMRg 2023'!B:G,6,0)),\"-\",VLOOKUP(B32,'N PMRg 2023'!B:G,6,0))","v":"-"},{"$f":"IF(COUNTIF('N PMČRj 2023'!B:B,B32)=0,\"-\",COUNTIF('N PMČRj 2023'!B:B,B32))","v":"-"},{"$f":"IF(ISERROR(VLOOKUP(B32,'N PMČRj 2023'!B:G,6,0)),\"-\",VLOOKUP(B32,'N PMČRj 2023'!B:G,6,0))","v":"-"}]
[25,"Tereza Koubkova",{"$f":"VLOOKUP(B33,Pilot!A:C,3,0)","v":"Vysoké Mýto"},{"$f":"VLOOKUP(B33,Pilot!A:B,2,0)","v":1999},{"$f":"VLOOKUP(B33,Pilot!A:E,5,0)","v":"F"},{"$f":"VLOOKUP(B33,Pilot!A:F,6,0)","v":"Junior v roce 2023"},25,null,1,25,{"$f":"IF(COUNTIF('N PMRg 2023'!B:B,B33)=0,\"-\",COUNTIF('N PMRg 2023'!B:B,B33))","v":"-"},{"$f":"IF(ISERROR(VLOOKUP(B33,'N PMRg 2023'!B:G,6,0)),\"-\",VLOOKUP(B33,'N PMRg 2023'!B:G,6,0))","v":"-"},{"$f":"IF(COUNTIF('N PMČRj 2023'!B:B,B33)=0,\"-\",COUNTIF('N PMČRj 2023'!B:B,B33))","v":1},{"$f":"IF(ISERROR(VLOOKUP(B33,'N PMČRj 2023'!B:G,6,0)),\"-\",VLOOKUP(B33,'N PMČRj 2023'!B:G,6,0))","v":4}]
[26,"Michaela Rendlova",{"$f":"VLOOKUP(B34,Pilot!A:C,3,0)","v":"Toužim"},{"$f":"VLOOKUP(B34,Pilot!A:B,2,0)","v":2004},{"$f":"VLOOKUP(B34,Pilot!A:E,5,0)","v":"F"},{"$f":"VLOOKUP(B34,Pilot!A:F,6,0)","v":"Junior v roce 2023"},{"$f":"A34","v":26},null,1,26,{"$f":"IF(COUNTIF('N PMRg 2023'!B:B,B34)=0,\"-\",COUNTIF('N PMRg 2023'!B:B,B34))","v":"-"},{"$f":"IF(ISERROR(VLOOKUP(B34,'N PMRg 2023'!B:G,6,0)),\"-\",VLOOKUP(B34,'N PMRg 2023'!B:G,6,0))","v":"-"},{"$f":"IF(COUNTIF('N PMČRj 2023'!B:B,B34)=0,\"-\",COUNTIF('N PMČRj 2023'!B:B,B34))","v":1},{"$f":"IF(ISERROR(VLOOKUP(B34,'N PMČRj 2023'!B:G,6,0)),\"-\",VLOOKUP(B34,'N PMČRj 2023'!B:G,6,0))","v":5}]
[27,"Hana Treslova",{"$f":"VLOOKUP(B35,Pilot!A:C,3,0)","v":"Raná"},{"$f":"VLOOKUP(B35,Pilot!A:B,2,0)","v":1991},{"$f":"VLOOKUP(B35,Pilot!A:E,5,0)","v":"F"},{"$f":"VLOOKUP(B35,Pilot!A:F,6,0)","v":""},27,null,1,27,{"$f":"IF(COUNTIF('N PMRg 2023'!B:B,B35)=0,\"-\",COUNTIF('N PMRg 2023'!B:B,B35))","v":"-"},{"$f":"IF(ISERROR(VLOOKUP(B35,'N PMRg 2023'!B:G,6,0)),\"-\",VLOOKUP(B35,'N PMRg 2023'!B:G,6,0))","v":"-"},{"$f":"IF(COUNTIF('N PMČRj 2023'!B:B,B35)=0,\"-\",COUNTIF('N PMČRj 2023'!B:B,B35))","v":"-"},{"$f":"IF(ISERROR(VLOOKUP(B35,'N PMČRj 2023'!B:G,6,0)),\"-\",VLOOKUP(B35,'N PMČRj 2023'!B:G,6,0))","v":"-"}]
[28,"Jan Stastny",{"$f":"VLOOKUP(B36,Pilot!A:C,3,0)","v":"Medlánky"},{"$f":"VLOOKUP(B36,Pilot!A:B,2,0)","v":2003},{"$f":"VLOOKUP(B36,Pilot!A:E,5,0)","v":"M"},{"$f":"VLOOKUP(B36,Pilot!A:F,6,0)","v":"Junior v roce 2023"},28,null,1,28,{"$f":"IF(COUNTIF('N PMRg 2023'!B:B,B36)=0,\"-\",COUNTIF('N PMRg 2023'!B:B,B36))","v":"-"},{"$f":"IF(ISERROR(VLOOKUP(B36,'N PMRg 2023'!B:G,6,0)),\"-\",VLOOKUP(B36,'N PMRg 2023'!B:G,6,0))","v":"-"},{"$f":"IF(COUNTIF('N PMČRj 2023'!B:B,B36)=0,\"-\",COUNTIF('N PMČRj 2023'!B:B,B36))","v":1},{"$f":"IF(ISERROR(VLOOKUP(B36,'N PMČRj 2023'!B:G,6,0)),\"-\",VLOOKUP(B36,'N PMČRj 2023'!B:G,6,0))","v":6}]
[29,"Michaela Krizova",{"$f":"VLOOKUP(B37,Pilot!A:C,3,0)","v":"Přibyslav"},{"$f":"VLOOKUP(B37,Pilot!A:B,2,0)","v":2001},{"$f":"VLOOKUP(B37,Pilot!A:E,5,0)","v":"F"},{"$f":"VLOOKUP(B37,Pilot!A:F,6,0)","v":"Junior v roce 2023"},29,null,1,29,{"$f":"IF(COUNTIF('N PMRg 2023'!B:B,B37)=0,\"-\",COUNTIF('N PMRg 2023'!B:B,B37))","v":"-"},{"$f":"IF(ISERROR(VLOOKUP(B37,'N PMRg 2023'!B:G,6,0)),\"-\",VLOOKUP(B37,'N PMRg 2023'!B:G,6,0))","v":"-"},{"$f":"IF(COUNTIF('N PMČRj 2023'!B:B,B37)=0,\"-\",COUNTIF('N PMČRj 2023'!B:B,B37))","v":1},{"$f":"IF(ISERROR(VLOOKUP(B37,'N PMČRj 2023'!B:G,6,0)),\"-\",VLOOKUP(B37,'N PMČRj 2023'!B:G,6,0))","v":7}]
[30,"Jana Veprekova",{"$f":"VLOOKUP(B38,Pilot!A:C,3,0)","v":"Dvůr Králové"},{"$f":"VLOOKUP(B38,Pilot!A:B,2,0)","v":1961},{"$f":"VLOOKUP(B38,Pilot!A:E,5,0)","v":"F"},{"$f":"VLOOKUP(B38,Pilot!A:F,6,0)","v":""},30,null,1,30,{"$f":"IF(COUNTIF('N PMRg 2023'!B:B,B38)=0,\"-\",COUNTIF('N PMRg 2023'!B:B,B38))","v":"-"},{"$f":"IF(ISERROR(VLOOKUP(B38,'N PMRg 2023'!B:G,6,0)),\"-\",VLOOKUP(B38,'N PMRg 2023'!B:G,6,0))","v":"-"},{"$f":"IF(COUNTIF('N PMČRj 2023'!B:B,B38)=0,\"-\",COUNTIF('N PMČRj 2023'!B:B,B38))","v":"-"},{"$f":"IF(ISERROR(VLOOKUP(B38,'N PMČRj 2023'!B:G,6,0)),\"-\",VLOOKUP(B38,'N PMČRj 2023'!B:G,6,0))","v":"-"}]
[31,"Petra Piskata",{"$f":"VLOOKUP(B39,Pilot!A:C,3,0)","v":"Luhačovice"},{"$f":"VLOOKUP(B39,Pilot!A:B,2,0)","v":1989},{"$f":"VLOOKUP(B39,Pilot!A:E,5,0)","v":"F"},{"$f":"VLOOKUP(B39,Pilot!A:F,6,0)","v":""},{"$f":"A39","v":31},null,1,31,{"$f":"IF(COUNTIF('N PMRg 2023'!B:B,B39)=0,\"-\",COUNTIF('N PMRg 2023'!B:B,B39))","v":"-"},{"$f":"IF(ISERROR(VLOOKUP(B39,'N PMRg 2023'!B:G,6,0)),\"-\",VLOOKUP(B39,'N PMRg 2023'!B:G,6,0))","v":"-"},{"$f":"IF(COUNTIF('N PMČRj 2023'!B:B,B39)=0,\"-\",COUNTIF('N PMČRj 2023'!B:B,B39))","v":"-"},{"$f":"IF(ISERROR(VLOOKUP(B39,'N PMČRj 2023'!B:G,6,0)),\"-\",VLOOKUP(B39,'N PMČRj 2023'!B:G,6,0))","v":"-"}]
["6.6.6.2.","další soutěžící, kteří se umístili v konečném pořadí na posledním platném PMČR ve své třídě nejhůře v první polovině celkového pořadí (bez náhradníků)\n"]
[null,"PMČR 2022 - Zbraslavice - Klub"]
[{"$f":"MAX(A9:A40)+1","v":32},"Jiri Kusbach",{"$f":"VLOOKUP(B42,Pilot!A:C,3,0)","v":"Luhačovice"},{"$f":"VLOOKUP(B42,Pilot!A:B,2,0)","v":1959},{"$f":"VLOOKUP(B42,Pilot!A:E,5,0)","v":"M"},{"$f":"VLOOKUP(B42,Pilot!A:F,6,0)","v":""},{"$f":"A42","v":32},null,{"$f":"COUNTIF(B:B,B42)","v":1},{"$f":"IF(ISERROR(VLOOKUP(B42,B:G,6,0)),\"-\",VLOOKUP(B42,B:G,6,0))","v":32},{"$f":"IF(COUNTIF('N PMRg 2023'!B:B,B42)=0,\"-\",COUNTIF('N PMRg 2023'!B:B,B42))","v":"-"},{"$f":"IF(ISERROR(VLOOKUP(B42,'N PMRg 2023'!B:G,6,0)),\"-\",VLOOKUP(B42,'N PMRg 2023'!B:G,6,0))","v":"-"},{"$f":"IF(COUNTIF('N PMČRj 2023'!B:B,B42)=0,\"-\",COUNTIF('N PMČRj 2023'!B:B,B42))","v":"-"},{"$f":"IF(ISERROR(VLOOKUP(B42,'N PMČRj 2023'!B:G,6,0)),\"-\",VLOOKUP(B42,'N PMČRj 2023'!B:G,6,0))","v":"-"}]
[{"$f":"A42+1","v":33},"David Darnady",{"$f":"VLOOKUP(B43,Pilot!A:C,3,0)","v":"Zbraslavice"},{"$f":"VLOOKUP(B43,Pilot!A:B,2,0)","v":1987},{"$f":"VLOOKUP(B43,Pilot!A:E,5,0)","v":"M"},{"$f":"VLOOKUP(B43,Pilot!A:F,6,0)","v":""},{"$f":"A43","v":33},null,{"$f":"COUNTIF(B:B,B43)","v":1},{"$f":"IF(ISERROR(VLOOKUP(B43,B:G,6,0)),\"-\",VLOOKUP(B43,B:G,6,0))","v":33},{"$f":"IF(COUNTIF('N PMRg 2023'!B:B,B43)=0,\"-\",COUNTIF('N PMRg 2023'!B:B,B43))","v":"-"},{"$f":"IF(ISERROR(VLOOKUP(B43,'N PMRg 2023'!B:G,6,0)),\"-\",VLOOKUP(B43,'N PMRg 2023'!B:G,6,0))","v":"-"},{"$f":"IF(COUNTIF('N PMČRj 2023'!B:B,B43)=0,\"-\",COUNTIF('N PMČRj 2023'!B:B,B43))","v":"-"},{"$f":"IF(ISERROR(VLOOKUP(B43,'N PMČRj 2023'!B:G,6,0)),\"-\",VLOOKUP(B43,'N PMČRj 2023'!B:G,6,0))","v":"-"}]
[{"$f":"A43+1","v":34},"Jan Louda",{"$f":"VLOOKUP(B44,Pilot!A:C,3,0)","v":"Mladá Boleslav"},{"$f":"VLOOKUP(B44,Pilot!A:B,2,0)","v":1986},{"$f":"VLOOKUP(B44,Pilot!A:E,5,0)","v":"M"},{"$f":"VLOOKUP(B44,Pilot!A:F,6,0)","v":""},{"$f":"A44","v":34},null,{"$f":"COUNTIF(B:B,B44)","v":1},{"$f":"IF(ISERROR(VLOOKUP(B44,B:G,6,0)),\"-\",VLOOKUP(B44,B:G,6,0))","v":34},{"$f":"IF(COUNTIF('N PMRg 2023'!B:B,B44)=0,\"-\",COUNTIF('N PMRg 2023'!B:B,B44))","v":"-"},{"$f":"IF(ISERROR(VLOOKUP(B44,'N PMRg 2023'!B:G,6,0)),\"-\",VLOOKUP(B44,'N PMRg 2023'!B:G,6,0))","v":"-"},{"$f":"IF(COUNTIF('N PMČRj 2023'!B:B,B44)=0,\"-\",COUNTIF('N PMČRj 2023'!B:B,B44))","v":"-"},{"$f":"IF(ISERROR(VLOOKUP(B44,'N PMČRj 2023'!B:G,6,0)),\"-\",VLOOKUP(B44,'N PMČRj 2023'!B:G,6,0))","v":"-"}]
[{"$f":"A44+1","v":35},"Jan Vavrin",{"$f":"VLOOKUP(B45,Pilot!A:C,3,0)","v":"Vysoké Mýto"},{"$f":"VLOOKUP(B45,Pilot!A:B,2,0)","v":1987},{"$f":"VLOOKUP(B45,Pilot!A:E,5,0)","v":"M"},{"$f":"VLOOKUP(B45,Pilot!A:F,6,0)","v":""},{"$f":"A45","v":35},null,{"$f":"COUNTIF(B:B,B45)","v":1},{"$f":"IF(ISERROR(VLOOKUP(B45,B:G,6,0)),\"-\",VLOOKUP(B45,B:G,6,0))","v":35},{"$f":"IF(COUNTIF('N PMRg 2023'!B:B,B45)=0,\"-\",COUNTIF('N PMRg 2023'!B:B,B45))","v":"-"},{"$f":"IF(ISERROR(VLOOKUP(B45,'N PMRg 2023'!B:G,6,0)),\"-\",VLOOKUP(B45,'N PMRg 2023'!B:G,6,0))","v":"-"},{"$f":"IF(COUNTIF('N PMČRj 2023'!B:B,B45)=0,\"-\",COUNTIF('N PMČRj 2023'!B:B,B45))","v":"-"},{"$f":"IF(ISERROR(VLOOKUP(B45,'N PMČRj 2023'!B:G,6,0)),\"-\",VLOOKUP(B45,'N PMČRj 2023'!B:G,6,0))","v":"-"}]
[null,"PMČR 2022 - Zbraslavice - Kombi 15m"]
["-","-",{"$f":"VLOOKUP(B47,Pilot!A:C,3,0)","v":" "},{"$f":"VLOOKUP(B47,Pilot!A:B,2,0)","v":" "},{"$f":"VLOOKUP(B47,Pilot!A:E,5,0)","v":" "},{"$f":"VLOOKUP(B47,Pilot!A:F,6,0)","v":" "},{"$f":"A47","v":"-"},null,{"$f":"COUNTIF(B:B,B47)","v":6},{"$f":"IF(ISERROR(VLOOKUP(B47,B:G,6,0)),\"-\",VLOOKUP(B47,B:G,6,0))","v":"-"},{"$f":"IF(COUNTIF('N PMRg 2023'!B:B,B47)=0,\"-\",COUNTIF('N PMRg 2023'!B:B,B47))","v":70},{"$f":"IF(ISERROR(VLOOKUP(B47,'N PMRg 2023'!B:G,6,0)),\"-\",VLOOKUP(B47,'N PMRg 2023'!B:G,6,0))","v":"-"},{"$f":"IF(COUNTIF('N PMČRj 2023'!B:B,B47)=0,\"-\",COUNTIF('N PMČRj 2023'!B:B,B47))","v":43},{"$f":"IF(ISERROR(VLOOKUP(B47,'N PMČRj 2023'!B:G,6,0)),\"-\",VLOOKUP(B47,'N PMČRj 2023'!B:G,6,0))","v":"-"}]
[null,"PMČR 2022 - Zbraslavice - Kombi Open"]
[{"$f":"MAX(A42:A48)+1","v":36},"Petr Hotovy",{"$f":"VLOOKUP(B49,Pilot!A:C,3,0)","v":"Česká Lípa"},{"$f":"VLOOKUP(B49,Pilot!A:B,2,0)","v":1958},{"$f":"VLOOKUP(B49,Pilot!A:E,5,0)","v":"M"},{"$f":"VLOOKUP(B49,Pilot!A:F,6,0)","v":""},{"$f":"A49","v":36},null,{"$f":"COUNTIF(B:B,B49)","v":1},{"$f":"IF(ISERROR(VLOOKUP(B49,B:G,6,0)),\"-\",VLOOKUP(B49,B:G,6,0))","v":36},{"$f":"IF(COUNTIF('N PMRg 2023'!B:B,B49)=0,\"-\",COUNTIF('N PMRg 2023'!B:B,B49))","v":"-"},{"$f":"IF(ISERROR(VLOOKUP(B49,'N PMRg 2023'!B:G,6,0)),\"-\",VLOOKUP(B49,'N PMRg 2023'!B:G,6,0))","v":"-"},{"$f":"IF(COUNTIF('N PMČRj 2023'!B:B,B49)=0,\"-\",COUNTIF('N PMČRj 2023'!B:B,B49))","v":"-"},{"$f":"IF(ISERROR(VLOOKUP(B49,'N PMČRj 2023'!B:G,6,0)),\"-\",VLOOKUP(B49,'N PMČRj 2023'!B:G,6,0))","v":"-"}]
[{"$f":"A49+1","v":37},"Petr Tichy",{"$f":"VLOOKUP(B50,Pilot!A:C,3,0)","v":"Zbraslavice"},{"$f":"VLOOKUP(B50,Pilot!A:B,2,0)","v":1973},{"$f":"VLOOKUP(B50,Pilot!A:E,5,0)","v":"M"},{"$f":"VLOOKUP(B50,Pilot!A:F,6,0)","v":""},37,null,{"$f":"COUNTIF(B:B,B50)","v":1},{"$f":"IF(ISERROR(VLOOKUP(B50,B:G,6,0)),\"-\",VLOOKUP(B50,B:G,6,0))","v":37},{"$f":"IF(COUNTIF('N PMRg 2023'!B:B,B50)=0,\"-\",COUNTIF('N PMRg 2023'!B:B,B50))","v":"-"},{"$f":"IF(ISERROR(VLOOKUP(B50,'N PMRg 2023'!B:G,6,0)),\"-\",VLOOKUP(B50,'N PMRg 2023'!B:G,6,0))","v":"-"},{"$f":"IF(COUNTIF('N PMČRj 2023'!B:B,B50)=0,\"-\",COUNTIF('N PMČRj 2023'!B:B,B50))","v":"-"},{"$f":"IF(ISERROR(VLOOKUP(B50,'N PMČRj 2023'!B:G,6,0)),\"-\",VLOOKUP(B50,'N PMČRj 2023'!B:G,6,0))","v":"-"}]
[{"$f":"A50+1","v":38},"Pavel Jiranek",{"$f":"VLOOKUP(B51,Pilot!A:C,3,0)","v":"Toužim"},{"$f":"VLOOKUP(B51,Pilot!A:B,2,0)","v":1993},{"$f":"VLOOKUP(B51,Pilot!A:E,5,0)","v":"M"},{"$f":"VLOOKUP(B51,Pilot!A:F,6,0)","v":""},38,null,{"$f":"COUNTIF(B:B,B51)","v":1},{"$f":"IF(ISERROR(VLOOKUP(B51,B:G,6,0)),\"-\",VLOOKUP(B51,B:G,6,0))","v":38},{"$f":"IF(COUNTIF('N PMRg 2023'!B:B,B51)=0,\"-\",COUNTIF('N PMRg 2023'!B:B,B51))","v":"-"},{"$f":"IF(ISERROR(VLOOKUP(B51,'N PMRg 2023'!B:G,6,0)),\"-\",VLOOKUP(B51,'N PMRg 2023'!B:G,6,0))","v":"-"},{"$f":"IF(COUNTIF('N PMČRj 2023'!B:B,B51)=0,\"-\",COUNTIF('N PMČRj 2023'!B:B,B51))","v":"-"},{"$f":"IF(ISERROR(VLOOKUP(B51,'N PMČRj 2023'!B:G,6,0)),\"-\",VLOOKUP(B51,'N PMČRj 2023'!B:G,6,0))","v":"-"}]
["6.6.6.3.","prvních 5 soutěžících z posledního platného PMČRj mimo RV (+ 5 náhradníků)"]
[null,"PMČRj 2022 - Hodkovice - Klub"]
[{"$f":"MAX(A41:A52)+1","v":39},"Vladimir Hammer",{"$f":"VLOOKUP(B54,Pilot!A:C,3,0)","v":"Letkov"},{"$f":"VLOOKUP(B54,Pilot!A:B,2,0)","v":2000},{"$f":"VLOOKUP(B54,Pilot!A:E,5,0)","v":"M"},{"$f":"VLOOKUP(B54,Pilot!A:F,6,0)","v":"Junior v roce 2023"},{"$f":"A54","v":39},null,{"$f":"COUNTIF(B:B,B54)","v":1},{"$f":"IF(ISERROR(VLOOKUP(B54,B:G,6,0)),\"-\",VLOOKUP(B54,B:G,6,0))","v":39},{"$f":"IF(COUNTIF('N PMRg 2023'!B:B,B54)=0,\"-\",COUNTIF('N PMRg 2023'!B:B,B54))","v":"-"},{"$f":"IF(ISERROR(VLOOKUP(B54,'N PMRg 2023'!B:G,6,0)),\"-\",VLOOKUP(B54,'N PMRg 2023'!B:G,6,0))","v":"-"},{"$f":"IF(COUNTIF('N PMČRj 2023'!B:B,B54)=0,\"-\",COUNTIF('N PMČRj 2023'!B:B,B54))","v":1},{"$f":"IF(ISERROR(VLOOKUP(B54,'N PMČRj 2023'!B:G,6,0)),\"-\",VLOOKUP(B54,'N PMČRj 2023'!B:G,6,0))","v":8}]
[{"$f":"A54+1","v":40},"Lukas Volek",{"$f":"VLOOKUP(B55,Pilot!A:C,3,0)","v":"Hodkovice"},{"$f":"VLOOKUP(B55,Pilot!A:B,2,0)","v":2004},{"$f":"VLOOKUP(B55,Pilot!A:E,5,0)","v":"M"},{"$f":"VLOOKUP(B55,Pilot!A:F,6,0)","v":"Junior v roce 2023"},40,null,1,40,{"$f":"IF(COUNTIF('N PMRg 2023'!B:B,B55)=0,\"-\",COUNTIF('N PMRg 2023'!B:B,B55))","v":"-"},{"$f":"IF(ISERROR(VLOOKUP(B55,'N PMRg 2023'!B:G,6,0)),\"-\",VLOOKUP(B55,'N PMRg 2023'!B:G,6,0))","v":"-"},{"$f":"IF(COUNTIF('N PMČRj 2023'!B:B,B55)=0,\"-\",COUNTIF('N PMČRj 2023'!B:B,B55))","v":1},{"$f":"IF(ISERROR(VLOOKUP(B55,'N PMČRj 2023'!B:G,6,0)),\"-\",VLOOKUP(B55,'N PMČRj 2023'!B:G,6,0))","v":9}]
[{"$f":"A55+1","v":41},"Tomas Hynek",{"$f":"VLOOKUP(B56,Pilot!A:C,3,0)","v":"Dvůr Králové"},{"$f":"VLOOKUP(B56,Pilot!A:B,2,0)","v":2002},{"$f":"VLOOKUP(B56,Pilot!A:E,5,0)","v":"M"},{"$f":"VLOOKUP(B56,Pilot!A:F,6,0)","v":"Junior v roce 2023"},41,null,1,41,{"$f":"IF(COUNTIF('N PMRg 2023'!B:B,B56)=0,\"-\",COUNTIF('N PMRg 2023'!B:B,B56))","v":"-"},{"$f":"IF(ISERROR(VLOOKUP(B56,'N PMRg 2023'!B:G,6,0)),\"-\",VLOOKUP(B56,'N PMRg 2023'!B:G,6,0))","v":"-"},{"$f":"IF(COUNTIF('N PMČRj 2023'!B:B,B56)=0,\"-\",COUNTIF('N PMČRj 2023'!B:B,B56))","v":1},{"$f":"IF(ISERROR(VLOOKUP(B56,'N PMČRj 2023'!B:G,6,0)),\"-\",VLOOKUP(B56,'N PMČRj 2023'!B:G,6,0))","v":10}]
[{"$f":"A56+1","v":42},"Ivan Tvrdik",{"$f":"VLOOKUP(B57,Pilot!A:C,3,0)","v":"Letňany"},{"$f":"VLOOKUP(B57,Pilot!A:B,2,0)","v":1997},{"$f":"VLOOKUP(B57,Pilot!A:E,5,0)","v":"M"},{"$f":"VLOOKUP(B57,Pilot!A:F,6,0)","v":""},42,null,1,42,{"$f":"IF(COUNTIF('N PMRg 2023'!B:B,B57)=0,\"-\",COUNTIF('N PMRg 2023'!B:B,B57))","v":"-"},{"$f":"IF(ISERROR(VLOOKUP(B57,'N PMRg 2023'!B:G,6,0)),\"-\",VLOOKUP(B57,'N PMRg 2023'!B:G,6,0))","v":"-"},{"$f":"IF(COUNTIF('N PMČRj 2023'!B:B,B57)=0,\"-\",COUNTIF('N PMČRj 2023'!B:B,B57))","v":"-"},{"$f":"IF(ISERROR(VLOOKUP(B57,'N PMČRj 2023'!B:G,6,0)),\"-\",VLOOKUP(B57,'N PMČRj 2023'!B:G,6,0))","v":"-"}]
[{"$f":"A57+1","v":43},"Jan Beran",{"$f":"VLOOKUP(B58,Pilot!A:C,3,0)","v":"Kladno"},{"$f":"VLOOKUP(B58,Pilot!A:B,2,0)","v":1999},{"$f":"VLOOKUP(B58,Pilot!A:E,5,0)","v":"M"},{"$f":"VLOOKUP(B58,Pilot!A:F,6,0)","v":"Junior v roce 2023"},43,null,1,43,{"$f":"IF(COUNTIF('N PMRg 2023'!B:B,B58)=0,\"-\",COUNTIF('N PMRg 2023'!B:B,B58))","v":"-"},{"$f":"IF(ISERROR(VLOOKUP(B58,'N PMRg 2023'!B:G,6,0)),\"-\",VLOOKUP(B58,'N PMRg 2023'!B:G,6,0))","v":"-"},{"$f":"IF(COUNTIF('N PMČRj 2023'!B:B,B58)=0,\"-\",COUNTIF('N PMČRj 2023'!B:B,B58))","v":1},{"$f":"IF(ISERROR(VLOOKUP(B58,'N PMČRj 2023'!B:G,6,0)),\"-\",VLOOKUP(B58,'N PMČRj 2023'!B:G,6,0))","v":11}]
["N1","Petr Havelka",{"$f":"VLOOKUP(B59,Pilot!A:C,3,0)","v":"Zbraslavice"},{"$f":"VLOOKUP(B59,Pilot!A:B,2,0)","v":1997},{"$f":"VLOOKUP(B59,Pilot!A:E,5,0)","v":"M"},{"$f":"VLOOKUP(B59,Pilot!A:F,6,0)","v":""},"N1",null,1,"N1",{"$f":"IF(COUNTIF('N PMRg 2023'!B:B,B59)=0,\"-\",COUNTIF('N PMRg 2023'!B:B,B59))","v":"-"},{"$f":"IF(ISERROR(VLOOKUP(B59,'N PMRg 2023'!B:G,6,0)),\"-\",VLOOKUP(B59,'N PMRg 2023'!B:G,6,0))","v":"-"},{"$f":"IF(COUNTIF('N PMČRj 2023'!B:B,B59)=0,\"-\",COUNTIF('N PMČRj 2023'!B:B,B59))","v":"-"},{"$f":"IF(ISERROR(VLOOKUP(B59,'N PMČRj 2023'!B:G,6,0)),\"-\",VLOOKUP(B59,'N PMČRj 2023'!B:G,6,0))","v":"-"}]
["N2","Stepan Filakovsky",{"$f":"VLOOKUP(B60,Pilot!A:C,3,0)","v":"Medlánky"},{"$f":"VLOOKUP(B60,Pilot!A:B,2,0)","v":2005},{"$f":"VLOOKUP(B60,Pilot!A:E,5,0)","v":"M"},{"$f":"VLOOKUP(B60,Pilot!A:F,6,0)","v":"Junior v roce 2023"},"N2",null,1,"N2",{"$f":"IF(COUNTIF('N PMRg 2023'!B:B,B60)=0,\"-\",COUNTIF('N PMRg 2023'!B:B,B60))","v":"-"},{"$f":"IF(ISERROR(VLOOKUP(B60,'N PMRg 2023'!B:G,6,0)),\"-\",VLOOKUP(B60,'N PMRg 2023'!B:G,6,0))","v":"-"},{"$f":"IF(COUNTIF('N PMČRj 2023'!B:B,B60)=0,\"-\",COUNTIF('N PMČRj 2023'!B:B,B60))","v":1},{"$f":"IF(ISERROR(VLOOKUP(B60,'N PMČRj 2023'!B:G,6,0)),\"-\",VLOOKUP(B60,'N PMČRj 2023'!B:G,6,0))","v":13}]
["N3","Jakub Malik",{"$f":"VLOOKUP(B61,Pilot!A:C,3,0)","v":"Letňany"},{"$f":"VLOOKUP(B61,Pilot!A:B,2,0)","v":1999},{"$f":"VLOOKUP(B61,Pilot!A:E,5,0)","v":"M"},{"$f":"VLOOKUP(B61,Pilot!A:F,6,0)","v":"Junior v roce 2023"},"N3",null,1,"N3",{"$f":"IF(COUNTIF('N PMRg 2023'!B:B,B61)=0,\"-\",COUNTIF('N PMRg 2023'!B:B,B61))","v":"-"},{"$f":"IF(ISERROR(VLOOKUP(B61,'N PMRg 2023'!B:G,6,0)),\"-\",VLOOKUP(B61,'N PMRg 2023'!B:G,6,0))","v":"-"},{"$f":"IF(COUNTIF('N PMČRj 2023'!B:B,B61)=0,\"-\",COUNTIF('N PMČRj 2023'!B:B,B61))","v":"-"},{"$f":"IF(ISERROR(VLOOKUP(B61,'N PMČRj 2023'!B:G,6,0)),\"-\",VLOOKUP(B61,'N PMČRj 2023'!B:G,6,0))","v":"-"}]
["N4","Jiri Maier 99",{"$f":"VLOOKUP(B62,Pilot!A:C,3,0)","v":"Raná"},{"$f":"VLOOKUP(B62,Pilot!A:B,2,0)","v":1999},{"$f":"VLOOKUP(B62,Pilot!A:E,5,0)","v":"M"},{"$f":"VLOOKUP(B62,Pilot!A:F,6,0)","v":"Junior v roce 2023"},"N4",null,1,"N4",{"$f":"IF(COUNTIF('N PMRg 2023'!B:B,B62)=0,\"-\",COUNTIF('N PMRg 2023'!B:B,B62))","v":"-"},{"$f":"IF(ISERROR(VLOOKUP(B62,'N PMRg 2023'!B:G,6,0)),\"-\",VLOOKUP(B62,'N PMRg 2023'!B:G,6,0))","v":"-"},{"$f":"IF(COUNTIF('N PMČRj 2023'!B:B,B62)=0,\"-\",COUNTIF('N PMČRj 2023'!B:B,B62))","v":"-"},{"$f":"IF(ISERROR(VLOOKUP(B62,'N PMČRj 2023'!B:G,6,0)),\"-\",VLOOKUP(B62,'N PMČRj 2023'!B:G,6,0))","v":"-"}]
["N5","Adam Hepal",{"$f":"VLOOKUP(B63,Pilot!A:C,3,0)","v":"Kolín"},{"$f":"VLOOKUP(B63,Pilot!A:B,2,0)","v":2004},{"$f":"VLOOKUP(B63,Pilot!A:E,5,0)","v":"M"},{"$f":"VLOOKUP(B63,Pilot!A:F,6,0)","v":"Junior v roce 2023"},"N5",null,1,"N5",{"$f":"IF(COUNTIF('N PMRg 2023'!B:B,B63)=0,\"-\",COUNTIF('N PMRg 2023'!B:B,B63))","v":"-"},{"$f":"IF(ISERROR(VLOOKUP(B63,'N PMRg 2023'!B:G,6,0)),\"-\",VLOOKUP(B63,'N PMRg 2023'!B:G,6,0))","v":"-"},{"$f":"IF(COUNTIF('N PMČRj 2023'!B:B,B63)=0,\"-\",COUNTIF('N PMČRj 2023'!B:B,B63))","v":"-"},{"$f":"IF(ISERROR(VLOOKUP(B63,'N PMČRj 2023'!B:G,6,0)),\"-\",VLOOKUP(B63,'N PMČRj 2023'!B:G,6,0))","v":"-"}]
["6.6.6.4.","5 soutěžících může navrhnout PK podle jiných kritérií dle odstavce 9. (bez náhradníků)"]
["81.","-",{"$f":"VLOOKUP(B65,Pilot!A:C,3,0)","v":" "},{"$f":"VLOOKUP(B65,Pilot!A:B,2,0)","v":" "},{"$f":"VLOOKUP(B65,Pilot!A:E,5,0)","v":" "},{"$f":"VLOOKUP(B65,Pilot!A:F,6,0)","v":" "},{"$f":"A65","v":"81."},null,{"$f":"COUNTIF(B:B,B65)","v":6},{"$f":"IF(ISERROR(VLOOKUP(B65,B:G,6,0)),\"-\",VLOOKUP(B65,B:G,6,0))","v":"-"},{"$f":"IF(COUNTIF('N PMRg 2023'!B:B,B65)=0,\"-\",COUNTIF('N PMRg 2023'!B:B,B65))","v":70},{"$f":"IF(ISERROR(VLOOKUP(B65,'N PMRg 2023'!B:G,6,0)),\"-\",VLOOKUP(B65,'N PMRg 2023'!B:G,6,0))","v":"-"},{"$f":"IF(COUNTIF('N PMČRj 2023'!B:B,B65)=0,\"-\",COUNTIF('N PMČRj 2023'!B:B,B65))","v":43},{"$f":"IF(ISERROR(VLOOKUP(B65,'N PMČRj 2023'!B:G,6,0)),\"-\",VLOOKUP(B65,'N PMČRj 2023'!B:G,6,0))","v":"-"}]
["82.","-",{"$f":"VLOOKUP(B66,Pilot!A:C,3,0)","v":" "},{"$f":"VLOOKUP(B66,Pilot!A:B,2,0)","v":" "},{"$f":"VLOOKUP(B66,Pilot!A:E,5,0)","v":" "},{"$f":"VLOOKUP(B66,Pilot!A:F,6,0)","v":" "},{"$f":"A66","v":"82."},null,{"$f":"COUNTIF(B:B,B66)","v":6},{"$f":"IF(ISERROR(VLOOKUP(B66,B:G,6,0)),\"-\",VLOOKUP(B66,B:G,6,0))","v":"-"},{"$f":"IF(COUNTIF('N PMRg 2023'!B:B,B66)=0,\"-\",COUNTIF('N PMRg 2023'!B:B,B66))","v":70},{"$f":"IF(ISERROR(VLOOKUP(B66,'N PMRg 2023'!B:G,6,0)),\"-\",VLOOKUP(B66,'N PMRg 2023'!B:G,6,0))","v":"-"},{"$f":"IF(COUNTIF('N PMČRj 2023'!B:B,B66)=0,\"-\",COUNTIF('N PMČRj 2023'!B:B,B66))","v":43},{"$f":"IF(ISERROR(VLOOKUP(B66,'N PMČRj 2023'!B:G,6,0)),\"-\",VLOOKUP(B66,'N PMČRj 2023'!B:G,6,0))","v":"-"}]
["83.","-",{"$f":"VLOOKUP(B67,Pilot!A:C,3,0)","v":" "},{"$f":"VLOOKUP(B67,Pilot!A:B,2,0)","v":" "},{"$f":"VLOOKUP(B67,Pilot!A:E,5,0)","v":" "},{"$f":"VLOOKUP(B67,Pilot!A:F,6,0)","v":" "},{"$f":"A67","v":"83."},null,{"$f":"COUNTIF(B:B,B67)","v":6},{"$f":"IF(ISERROR(VLOOKUP(B67,B:G,6,0)),\"-\",VLOOKUP(B67,B:G,6,0))","v":"-"},{"$f":"IF(COUNTIF('N PMRg 2023'!B:B,B67)=0,\"-\",COUNTIF('N PMRg 2023'!B:B,B67))","v":70},{"$f":"IF(ISERROR(VLOOKUP(B67,'N PMRg 2023'!B:G,6,0)),\"-\",VLOOKUP(B67,'N PMRg 2023'!B:G,6,0))","v":"-"},{"$f":"IF(COUNTIF('N PMČRj 2023'!B:B,B67)=0,\"-\",COUNTIF('N PMČRj 2023'!B:B,B67))","v":43},{"$f":"IF(ISERROR(VLOOKUP(B67,'N PMČRj 2023'!B:G,6,0)),\"-\",VLOOKUP(B67,'N PMČRj 2023'!B:G,6,0))","v":"-"}]
["84.","-",{"$f":"VLOOKUP(B68,Pilot!A:C,3,0)","v":" "},{"$f":"VLOOKUP(B68,Pilot!A:B,2,0)","v":" "},{"$f":"VLOOKUP(B68,Pilot!A:E,5,0)","v":" "},{"$f":"VLOOKUP(B68,Pilot!A:F,6,0)","v":" "},{"$f":"A68","v":"84."},null,{"$f":"COUNTIF(B:B,B68)","v":6},{"$f":"IF(ISERROR(VLOOKUP(B68,B:G,6,0)),\"-\",VLOOKUP(B68,B:G,6,0))","v":"-"},{"$f":"IF(COUNTIF('N PMRg 2023'!B:B,B68)=0,\"-\",COUNTIF('N PMRg 2023'!B:B,B68))","v":70},{"$f":"IF(ISERROR(VLOOKUP(B68,'N PMRg 2023'!B:G,6,0)),\"-\",VLOOKUP(B68,'N PMRg 2023'!B:G,6,0))","v":"-"},{"$f":"IF(COUNTIF('N PMČRj 2023'!B:B,B68)=0,\"-\",COUNTIF('N PMČRj 2023'!B:B,B68))","v":43},{"$f":"IF(ISERROR(VLOOKUP(B68,'N PMČRj 2023'!B:G,6,0)),\"-\",VLOOKUP(B68,'N PMČRj 2023'!B:G,6,0))","v":"-"}]
["85.","-",{"$f":"VLOOKUP(B69,Pilot!A:C,3,0)","v":" "},{"$f":"VLOOKUP(B69,Pilot!A:B,2,0)","v":" "},{"$f":"VLOOKUP(B69,Pilot!A:E,5,0)","v":" "},{"$f":"VLOOKUP(B69,Pilot!A:F,6,0)","v":" "},{"$f":"A69","v":"85."},null,{"$f":"COUNTIF(B:B,B69)","v":6},{"$f":"IF(ISERROR(VLOOKUP(B69,B:G,6,0)),\"-\",VLOOKUP(B69,B:G,6,0))","v":"-"},{"$f":"IF(COUNTIF('N PMRg 2023'!B:B,B69)=0,\"-\",COUNTIF('N PMRg 2023'!B:B,B69))","v":70},{"$f":"IF(ISERROR(VLOOKUP(B69,'N PMRg 2023'!B:G,6,0)),\"-\",VLOOKUP(B69,'N PMRg 2023'!B:G,6,0))","v":"-"},{"$f":"IF(COUNTIF('N PMČRj 2023'!B:B,B69)=0,\"-\",COUNTIF('N PMČRj 2023'!B:B,B69))","v":43},{"$f":"IF(ISERROR(VLOOKUP(B69,'N PMČRj 2023'!B:G,6,0)),\"-\",VLOOKUP(B69,'N PMČRj 2023'!B:G,6,0))","v":"-"}]
["6.6.6.5.","ostatní soutěžící z posledního platného PMRg v pořadí podle umístění, do naplnění celkového počtu nominovaných 80 dle 6.6.5. (+ 10 náhradníků)"]
["6.6.6.6.","Je-li PMRg pořádáno ve více třídách, a/nebo ve více regionech, pak jsou na PMČR nominováni soutěžící podle korigovaných bodů z jednotlivých tříd/regionů do naplnění celkového počtu nominovaných dle 6.6.5."]
["6.6.6.7.","V případě neplatnosti některé ze soutěžních tříd posledního PMRg budou pro výpočet korigovaných bodů použity výsledky z posledního platného PMRg v dané třídě."]
[null,"PMRg 2022 - Hodkovice - Korigované body"]
[{"$f":"MAX(A54:A70)+1","v":44},"Lukas Capek",{"$f":"VLOOKUP(B74,Pilot!A:C,3,0)","v":"Letňany"},{"$f":"VLOOKUP(B74,Pilot!A:B,2,0)","v":1992},{"$f":"VLOOKUP(B74,Pilot!A:E,5,0)","v":"M"},{"$f":"VLOOKUP(B74,Pilot!A:F,6,0)","v":""},{"$f":"A74","v":44},null,{"$f":"COUNTIF(B:B,B74)","v":1},{"$f":"IF(ISERROR(VLOOKUP(B74,B:G,6,0)),\"-\",VLOOKUP(B74,B:G,6,0))","v":44},{"$f":"IF(COUNTIF('N PMRg 2023'!B:B,B74)=0,\"-\",COUNTIF('N PMRg 2023'!B:B,B74))","v":"-"},{"$f":"IF(ISERROR(VLOOKUP(B74,'N PMRg 2023'!B:G,6,0)),\"-\",VLOOKUP(B74,'N PMRg 2023'!B:G,6,0))","v":"-"},{"$f":"IF(COUNTIF('N PMČRj 2023'!B:B,B74)=0,\"-\",COUNTIF('N PMČRj 2023'!B:B,B74))","v":"-"},{"$f":"IF(ISERROR(VLOOKUP(B74,'N PMČRj 2023'!B:G,6,0)),\"-\",VLOOKUP(B74,'N PMČRj 2023'!B:G,6,0))","v":"-"}]
[{"$f":"A74+1","v":45},"Jaroslav Potmesil",{"$f":"VLOOKUP(B75,Pilot!A:C,3,0)","v":"Zbraslavice"},{"$f":"VLOOKUP(B75,Pilot!A:B,2,0)","v":1964},{"$f":"VLOOKUP(B75,Pilot!A:E,5,0)","v":"M"},{"$f":"VLOOKUP(B75,Pilot!A:F,6,0)","v":""},45,null,1,45,{"$f":"IF(COUNTIF('N PMRg 2023'!B:B,B75)=0,\"-\",COUNTIF('N PMRg 2023'!B:B,B75))","v":"-"},{"$f":"IF(ISERROR(VLOOKUP(B75,'N PMRg 2023'!B:G,6,0)),\"-\",VLOOKUP(B75,'N PMRg 2023'!B:G,6,0))","v":"-"},{"$f":"IF(COUNTIF('N PMČRj 2023'!B:B,B75)=0,\"-\",COUNTIF('N PMČRj 2023'!B:B,B75))","v":"-"},{"$f":"IF(ISERROR(VLOOKUP(B75,'N PMČRj 2023'!B:G,6,0)),\"-\",VLOOKUP(B75,'N PMČRj 2023'!B:G,6,0))","v":"-"}]
[{"$f":"A75+1","v":46},"Jan Smaha",{"$f":"VLOOKUP(B76,Pilot!A:C,3,0)","v":"Česká Lípa"},{"$f":"VLOOKUP(B76,Pilot!A:B,2,0)","v":1958},{"$f":"VLOOKUP(B76,Pilot!A:E,5,0)","v":"M"},{"$f":"VLOOKUP(B76,Pilot!A:F,6,0)","v":""},46,null,1,46,{"$f":"IF(COUNTIF('N PMRg 2023'!B:B,B76)=0,\"-\",COUNTIF('N PMRg 2023'!B:B,B76))","v":"-"},{"$f":"IF(ISERROR(VLOOKUP(B76,'N PMRg 2023'!B:G,6,0)),\"-\",VLOOKUP(B76,'N PMRg 2023'!B:G,6,0))","v":"-"},{"$f":"IF(COUNTIF('N PMČRj 2023'!B:B,B76)=0,\"-\",COUNTIF('N PMČRj 2023'!B:B,B76))","v":"-"},{"$f":"IF(ISERROR(VLOOKUP(B76,'N PMČRj 2023'!B:G,6,0)),\"-\",VLOOKUP(B76,'N PMČRj 2023'!B:G,6,0))","v":"-"}]
[47,"Lukas Maly",{"$f":"VLOOKUP(B77,Pilot!A:C,3,0)","v":"Vysoké Mýto"},{"$f":"VLOOKUP(B77,Pilot!A:B,2,0)","v":1998},{"$f":"VLOOKUP(B77,Pilot!A:E,5,0)","v":"M"},{"$f":"VLOOKUP(B77,Pilot!A:F,6,0)","v":"Junior v roce 2023"},47,null,1,47,{"$f":"IF(COUNTIF('N PMRg 2023'!B:B,B77)=0,\"-\",COUNTIF('N PMRg 2023'!B:B,B77))","v":"-"},{"$f":"IF(ISERROR(VLOOKUP(B77,'N PMRg 2023'!B:G,6,0)),\"-\",VLOOKUP(B77,'N PMRg 2023'!B:G,6,0))","v":"-"},{"$f":"IF(COUNTIF('N PMČRj 2023'!B:B,B77)=0,\"-\",COUNTIF('N PMČRj 2023'!B:B,B77))","v":"-"},{"$f":"IF(ISERROR(VLOOKUP(B77,'N PMČRj 2023'!B:G,6,0)),\"-\",VLOOKUP(B77,'N PMČRj 2023'!B:G,6,0))","v":"-"}]
[48,"Jiri Stepanek",{"$f":"VLOOKUP(B78,Pilot!A:C,3,0)","v":"Moravská Třebová"},{"$f":"VLOOKUP(B78,Pilot!A:B,2,0)","v":1956},{"$f":"VLOOKUP(B78,Pilot!A:E,5,0)","v":"M"},{"$f":"VLOOKUP(B78,Pilot!A:F,6,0)","v":""},48,null,1,48,{"$f":"IF(COUNTIF('N PMRg 2023'!B:B,B78)=0,\"-\",COUNTIF('N PMRg 2023'!B:B,B78))","v":"-"},{"$f":"IF(ISERROR(VLOOKUP(B78,'N PMRg 2023'!B:G,6,0)),\"-\",VLOOKUP(B78,'N PMRg 2023'!B:G,6,0))","v":"-"},{"$f":"IF(COUNTIF('N PMČRj 2023'!B:B,B78)=0,\"-\",COUNTIF('N PMČRj 2023'!B:B,B78))","v":"-"},{"$f":"IF(ISERROR(VLOOKUP(B78,'N PMČRj 2023'!B:G,6,0)),\"-\",VLOOKUP(B78,'N PMČRj 2023'!B:G,6,0))","v":"-"}]
[49,"Martin Stepanek",{"$f":"VLOOKUP(B79,Pilot!A:C,3,0)","v":"Moravská Třebová"},{"$f":"VLOOKUP(B79,Pilot!A:B,2,0)","v":1987},{"$f":"VLOOKUP(B79,Pilot!A:E,5,0)","v":"M"},{"$f":"VLOOKUP(B79,Pilot!A:F,6,0)","v":""},49,null,1,49,{"$f":"IF(COUNTIF('N PMRg 2023'!B:B,B79)=0,\"-\",COUNTIF('N PMRg 2023'!B:B,B79))","v":"-"},{"$f":"IF(ISERROR(VLOOKUP(B79,'N PMRg 2023'!B:G,6,0)),\"-\",VLOOKUP(B79,'N PMRg 2023'!B:G,6,0))","v":"-"},{"$f":"IF(COUNTIF('N PMČRj 2023'!B:B,B79)=0,\"-\",COUNTIF('N PMČRj 2023'!B:B,B79))","v":"-"},{"$f":"IF(ISERROR(VLOOKUP(B79,'N PMČRj 2023'!B:G,6,0)),\"-\",VLOOKUP(B79,'N PMČRj 2023'!B:G,6,0))","v":"-"}]
[50,"Petr Hora",{"$f":"VLOOKUP(B80,Pilot!A:C,3,0)","v":"Hodkovice"},{"$f":"VLOOKUP(B80,Pilot!A:B,2,0)","v":1948},{"$f":"VLOOKUP(B80,Pilot!A:E,5,0)","v":"M"},{"$f":"VLOOKUP(B80,Pilot!A:F,6,0)","v":""},50,null,1,50,{"$f":"IF(COUNTIF('N PMRg 2023'!B:B,B80)=0,\"-\",COUNTIF('N PMRg 2023'!B:B,B80))","v":"-"},{"$f":"IF(ISERROR(VLOOKUP(B80,'N PMRg 2023'!B:G,6,0)),\"-\",VLOOKUP(B80,'N PMRg 2023'!B:G,6,0))","v":"-"},{"$f":"IF(COUNTIF('N PMČRj 2023'!B:B,B80)=0,\"-\",COUNTIF('N PMČRj 2023'!B:B,B80))","v":"-"},{"$f":"IF(ISERROR(VLOOKUP(B80,'N PMČRj 2023'!B:G,6,0)),\"-\",VLOOKUP(B80,'N PMČRj 2023'!B:G,6,0))","v":"-"}]
[51,"Tomas Kulhavy",{"$f":"VLOOKUP(B81,Pilot!A:C,3,0)","v":"Liberec"},{"$f":"VLOOKUP(B81,Pilot!A:B,2,0)","v":2001},{"$f":"VLOOKUP(B81,Pilot!A:E,5,0)","v":"M"},{"$f":"VLOOKUP(B81,Pilot!A:F,6,0)","v":"Junior v roce 2023"},51,null,1,51,{"$f":"IF(COUNTIF('N PMRg 2023'!B:B,B81)=0,\"-\",COUNTIF('N PMRg 2023'!B:B,B81))","v":"-"},{"$f":"IF(ISERROR(VLOOKUP(B81,'N PMRg 2023'!B:G,6,0)),\"-\",VLOOKUP(B81,'N PMRg 2023'!B:G,6,0))","v":"-"},{"$f":"IF(COUNTIF('N PMČRj 2023'!B:B,B81)=0,\"-\",COUNTIF('N PMČRj 2023'!B:B,B81))","v":1},{"$f":"IF(ISERROR(VLOOKUP(B81,'N PMČRj 2023'!B:G,6,0)),\"-\",VLOOKUP(B81,'N PMČRj 2023'!B:G,6,0))","v":12}]
[52,"Pavel Koudelka",{"$f":"VLOOKUP(B82,Pilot!A:C,3,0)","v":"Křižanov"},{"$f":"VLOOKUP(B82,Pilot!A:B,2,0)","v":1973},{"$f":"VLOOKUP(B82,Pilot!A:E,5,0)","v":"M"},{"$f":"VLOOKUP(B82,Pilot!A:F,6,0)","v":""},52,null,1,52,{"$f":"IF(COUNTIF('N PMRg 2023'!B:B,B82)=0,\"-\",COUNTIF('N PMRg 2023'!B:B,B82))","v":"-"},{"$f":"IF(ISERROR(VLOOKUP(B82,'N PMRg 2023'!B:G,6,0)),\"-\",VLOOKUP(B82,'N PMRg 2023'!B:G,6,0))","v":"-"},{"$f":"IF(COUNTIF('N PMČRj 2023'!B:B,B82)=0,\"-\",COUNTIF('N PMČRj 2023'!B:B,B82))","v":"-"},{"$f":"IF(ISERROR(VLOOKUP(B82,'N PMČRj 2023'!B:G,6,0)),\"-\",VLOOKUP(B82,'N PMČRj 2023'!B:G,6,0))","v":"-"}]
[53,"Antonin Kutalek",{"$f":"VLOOKUP(B83,Pilot!A:C,3,0)","v":"Zábřeh"},{"$f":"VLOOKUP(B83,Pilot!A:B,2,0)","v":1943},{"$f":"VLOOKUP(B83,Pilot!A:E,5,0)","v":"M"},{"$f":"VLOOKUP(B83,Pilot!A:F,6,0)","v":""},53,null,1,53,{"$f":"IF(COUNTIF('N PMRg 2023'!B:B,B83)=0,\"-\",COUNTIF('N PMRg 2023'!B:B,B83))","v":"-"},{"$f":"IF(ISERROR(VLOOKUP(B83,'N PMRg 2023'!B:G,6,0)),\"-\",VLOOKUP(B83,'N PMRg 2023'!B:G,6,0))","v":"-"},{"$f":"IF(COUNTIF('N PMČRj 2023'!B:B,B83)=0,\"-\",COUNTIF('N PMČRj 2023'!B:B,B83))","v":"-"},{"$f":"IF(ISERROR(VLOOKUP(B83,'N PMČRj 2023'!B:G,6,0)),\"-\",VLOOKUP(B83,'N PMČRj 2023'!B:G,6,0))","v":"-"}]
[54,"Pavlina Horackova",{"$f":"VLOOKUP(B84,Pilot!A:C,3,0)","v":"Šumperk"},{"$f":"VLOOKUP(B84,Pilot!A:B,2,0)","v":1965},{"$f":"VLOOKUP(B84,Pilot!A:E,5,0)","v":"F"},{"$f":"VLOOKUP(B84,Pilot!A:F,6,0)","v":""},54,null,1,54,{"$f":"IF(COUNTIF('N PMRg 2023'!B:B,B84)=0,\"-\",COUNTIF('N PMRg 2023'!B:B,B84))","v":"-"},{"$f":"IF(ISERROR(VLOOKUP(B84,'N PMRg 2023'!B:G,6,0)),\"-\",VLOOKUP(B84,'N PMRg 2023'!B:G,6,0))","v":"-"},{"$f":"IF(COUNTIF('N PMČRj 2023'!B:B,B84)=0,\"-\",COUNTIF('N PMČRj 2023'!B:B,B84))","v":"-"},{"$f":"IF(ISERROR(VLOOKUP(B84,'N PMČRj 2023'!B:G,6,0)),\"-\",VLOOKUP(B84,'N PMČRj 2023'!B:G,6,0))","v":"-"}]
[55,"Katerina Vancurova",{"$f":"VLOOKUP(B85,Pilot!A:C,3,0)","v":"Hranice"},{"$f":"VLOOKUP(B85,Pilot!A:B,2,0)","v":2002},{"$f":"VLOOKUP(B85,Pilot!A:E,5,0)","v":"F"},{"$f":"VLOOKUP(B85,Pilot!A:F,6,0)","v":"Junior v roce 2023"},55,null,1,55,{"$f":"IF(COUNTIF('N PMRg 2023'!B:B,B85)=0,\"-\",COUNTIF('N PMRg 2023'!B:B,B85))","v":"-"},{"$f":"IF(ISERROR(VLOOKUP(B85,'N PMRg 2023'!B:G,6,0)),\"-\",VLOOKUP(B85,'N PMRg 2023'!B:G,6,0))","v":"-"},{"$f":"IF(COUNTIF('N PMČRj 2023'!B:B,B85)=0,\"-\",COUNTIF('N PMČRj 2023'!B:B,B85))","v":"-"},{"$f":"IF(ISERROR(VLOOKUP(B85,'N PMČRj 2023'!B:G,6,0)),\"-\",VLOOKUP(B85,'N PMČRj 2023'!B:G,6,0))","v":"-"}]
[56,"Radek Zima 78",{"$f":"VLOOKUP(B86,Pilot!A:C,3,0)","v":"Hodkovice"},{"$f":"VLOOKUP(B86,Pilot!A:B,2,0)","v":1978},{"$f":"VLOOKUP(B86,Pilot!A:E,5,0)","v":"M"},{"$f":"VLOOKUP(B86,Pilot!A:F,6,0)","v":""},56,null,1,56,{"$f":"IF(COUNTIF('N PMRg 2023'!B:B,B86)=0,\"-\",COUNTIF('N PMRg 2023'!B:B,B86))","v":"-"},{"$f":"IF(ISERROR(VLOOKUP(B86,'N PMRg 2023'!B:G,6,0)),\"-\",VLOOKUP(B86,'N PMRg 2023'!B:G,6,0))","v":"-"},{"$f":"IF(COUNTIF('N PMČRj 2023'!B:B,B86)=0,\"-\",COUNTIF('N PMČRj 2023'!B:B,B86))","v":"-"},{"$f":"IF(ISERROR(VLOOKUP(B86,'N PMČRj 2023'!B:G,6,0)),\"-\",VLOOKUP(B86,'N PMČRj 2023'!B:G,6,0))","v":"-"}]
[57,"Jan Florian",{"$f":"VLOOKUP(B87,Pilot!A:C,3,0)","v":"Zbraslavice"},{"$f":"VLOOKUP(B87,Pilot!A:B,2,0)","v":1992},{"$f":"VLOOKUP(B87,Pilot!A:E,5,0)","v":"M"},{"$f":"VLOOKUP(B87,Pilot!A:F,6,0)","v":""},57,null,1,57,{"$f":"IF(COUNTIF('N PMRg 2023'!B:B,B87)=0,\"-\",COUNTIF('N PMRg 2023'!B:B,B87))","v":"-"},{"$f":"IF(ISERROR(VLOOKUP(B87,'N PMRg 2023'!B:G,6,0)),\"-\",VLOOKUP(B87,'N PMRg 2023'!B:G,6,0))","v":"-"},{"$f":"IF(COUNTIF('N PMČRj 2023'!B:B,B87)=0,\"-\",COUNTIF('N PMČRj 2023'!B:B,B87))","v":"-"},{"$f":"IF(ISERROR(VLOOKUP(B87,'N PMČRj 2023'!B:G,6,0)),\"-\",VLOOKUP(B87,'N PMČRj 2023'!B:G,6,0))","v":"-"}]
[58,"Jiri Krofta",{"$f":"VLOOKUP(B88,Pilot!A:C,3,0)","v":"Hosín"},{"$f":"VLOOKUP(B88,Pilot!A:B,2,0)","v":1988},{"$f":"VLOOKUP(B88,Pilot!A:E,5,0)","v":"M"},{"$f":"VLOOKUP(B88,Pilot!A:F,6,0)","v":""},{"$f":"A88","v":58},null,1,58,{"$f":"IF(COUNTIF('N PMRg 2023'!B:B,B88)=0,\"-\",COUNTIF('N PMRg 2023'!B:B,B88))","v":"-"},{"$f":"IF(ISERROR(VLOOKUP(B88,'N PMRg 2023'!B:G,6,0)),\"-\",VLOOKUP(B88,'N PMRg 2023'!B:G,6,0))","v":"-"},{"$f":"IF(COUNTIF('N PMČRj 2023'!B:B,B88)=0,\"-\",COUNTIF('N PMČRj 2023'!B:B,B88))","v":"-"},{"$f":"IF(ISERROR(VLOOKUP(B88,'N PMČRj 2023'!B:G,6,0)),\"-\",VLOOKUP(B88,'N PMČRj 2023'!B:G,6,0))","v":"-"}]
[59,"Jan Drbohlav",{"$f":"VLOOKUP(B89,Pilot!A:C,3,0)","v":"Hodkovice"},{"$f":"VLOOKUP(B89,Pilot!A:B,2,0)","v":1999},{"$f":"VLOOKUP(B89,Pilot!A:E,5,0)","v":"M"},{"$f":"VLOOKUP(B89,Pilot!A:F,6,0)","v":"Junior v roce 2023"},59,null,1,59,{"$f":"IF(COUNTIF('N PMRg 2023'!B:B,B89)=0,\"-\",COUNTIF('N PMRg 2023'!B:B,B89))","v":"-"},{"$f":"IF(ISERROR(VLOOKUP(B89,'N PMRg 2023'!B:G,6,0)),\"-\",VLOOKUP(B89,'N PMRg 2023'!B:G,6,0))","v":"-"},{"$f":"IF(COUNTIF('N PMČRj 2023'!B:B,B89)=0,\"-\",COUNTIF('N PMČRj 2023'!B:B,B89))","v":"-"},{"$f":"IF(ISERROR(VLOOKUP(B89,'N PMČRj 2023'!B:G,6,0)),\"-\",VLOOKUP(B89,'N PMČRj 2023'!B:G,6,0))","v":"-"}]
[60,"Vojtech Hajek",{"$f":"VLOOKUP(B90,Pilot!A:C,3,0)","v":"Mladá Boleslav"},{"$f":"VLOOKUP(B90,Pilot!A:B,2,0)","v":1987},{"$f":"VLOOKUP(B90,Pilot!A:E,5,0)","v":"M"},{"$f":"VLOOKUP(B90,Pilot!A:F,6,0)","v":""},60,null,1,60,{"$f":"IF(COUNTIF('N PMRg 2023'!B:B,B90)=0,\"-\",COUNTIF('N PMRg 2023'!B:B,B90))","v":"-"},{"$f":"IF(ISERROR(VLOOKUP(B90,'N PMRg 2023'!B:G,6,0)),\"-\",VLOOKUP(B90,'N PMRg 2023'!B:G,6,0))","v":"-"},{"$f":"IF(COUNTIF('N PMČRj 2023'!B:B,B90)=0,\"-\",COUNTIF('N PMČRj 2023'!B:B,B90))","v":"-"},{"$f":"IF(ISERROR(VLOOKUP(B90,'N PMČRj 2023'!B:G,6,0)),\"-\",VLOOKUP(B90,'N PMČRj 2023'!B:G,6,0))","v":"-"}]
["6.6.6.8.","ostatní soutěžící z posledního platného Všeobecného žebříku v pořadí podle umístění, do naplnění celkového počtu nominovaných dle 6.6.5. (+ 10 náhradníků)."]
[{"$f":"MAX(A74:A91)+1","v":61},"Jan Kotan",{"$f":"VLOOKUP(B92,Pilot!A:C,3,0)","v":"Letňany"},{"$f":"VLOOKUP(B92,Pilot!A:B,2,0)","v":1982},{"$f":"VLOOKUP(B92,Pilot!A:E,5,0)","v":"M"},{"$f":"VLOOKUP(B92,Pilot!A:F,6,0)","v":""},61,null,{"$f":"COUNTIF(B:B,B92)","v":1},{"$f":"IF(ISERROR(VLOOKUP(B92,B:G,6,0)),\"-\",VLOOKUP(B92,B:G,6,0))","v":61},{"$f":"IF(COUNTIF('N PMRg 2023'!B:B,B92)=0,\"-\",COUNTIF('N PMRg 2023'!B:B,B92))","v":"-"},{"$f":"IF(ISERROR(VLOOKUP(B92,'N PMRg 2023'!B:G,6,0)),\"-\",VLOOKUP(B92,'N PMRg 2023'!B:G,6,0))","v":"-"},{"$f":"IF(COUNTIF('N PMČRj 2023'!B:B,B92)=0,\"-\",COUNTIF('N PMČRj 2023'!B:B,B92))","v":"-"},{"$f":"IF(ISERROR(VLOOKUP(B92,'N PMČRj 2023'!B:G,6,0)),\"-\",VLOOKUP(B92,'N PMČRj 2023'!B:G,6,0))","v":"-"}]
[{"$f":"A92+1","v":62},"Zdenek Boruvka 86",{"$f":"VLOOKUP(B93,Pilot!A:C,3,0)","v":"Jičín"},{"$f":"VLOOKUP(B93,Pilot!A:B,2,0)","v":1986},{"$f":"VLOOKUP(B93,Pilot!A:E,5,0)","v":"M"},{"$f":"VLOOKUP(B93,Pilot!A:F,6,0)","v":""},{"$f":"A93","v":62},null,1,62,{"$f":"IF(COUNTIF('N PMRg 2023'!B:B,B93)=0,\"-\",COUNTIF('N PMRg 2023'!B:B,B93))","v":"-"},{"$f":"IF(ISERROR(VLOOKUP(B93,'N PMRg 2023'!B:G,6,0)),\"-\",VLOOKUP(B93,'N PMRg 2023'!B:G,6,0))","v":"-"},{"$f":"IF(COUNTIF('N PMČRj 2023'!B:B,B93)=0,\"-\",COUNTIF('N PMČRj 2023'!B:B,B93))","v":"-"},{"$f":"IF(ISERROR(VLOOKUP(B93,'N PMČRj 2023'!B:G,6,0)),\"-\",VLOOKUP(B93,'N PMČRj 2023'!B:G,6,0))","v":"-"}]
[63,"Jan Boruvka",{"$f":"VLOOKUP(B94,Pilot!A:C,3,0)","v":"Jičín"},{"$f":"VLOOKUP(B94,Pilot!A:B,2,0)","v":1984},{"$f":"VLOOKUP(B94,Pilot!A:E,5,0)","v":"M"},{"$f":"VLOOKUP(B94,Pilot!A:F,6,0)","v":""},63,null,1,63,{"$f":"IF(COUNTIF('N PMRg 2023'!B:B,B94)=0,\"-\",COUNTIF('N PMRg 2023'!B:B,B94))","v":"-"},{"$f":"IF(ISERROR(VLOOKUP(B94,'N PMRg 2023'!B:G,6,0)),\"-\",VLOOKUP(B94,'N PMRg 2023'!B:G,6,0))","v":"-"},{"$f":"IF(COUNTIF('N PMČRj 2023'!B:B,B94)=0,\"-\",COUNTIF('N PMČRj 2023'!B:B,B94))","v":"-"},{"$f":"IF(ISERROR(VLOOKUP(B94,'N PMČRj 2023'!B:G,6,0)),\"-\",VLOOKUP(B94,'N PMČRj 2023'!B:G,6,0))","v":"-"}]
[64,"Josef Novotny",{"$f":"VLOOKUP(B95,Pilot!A:C,3,0)","v":"Přibyslav"},{"$f":"VLOOKUP(B95,Pilot!A:B,2,0)","v":1983},{"$f":"VLOOKUP(B95,Pilot!A:E,5,0)","v":"M"},{"$f":"VLOOKUP(B95,Pilot!A:F,6,0)","v":""},64,null,1,64,{"$f":"IF(COUNTIF('N PMRg 2023'!B:B,B95)=0,\"-\",COUNTIF('N PMRg 2023'!B:B,B95))","v":"-"},{"$f":"IF(ISERROR(VLOOKUP(B95,'N PMRg 2023'!B:G,6,0)),\"-\",VLOOKUP(B95,'N PMRg 2023'!B:G,6,0))","v":"-"},{"$f":"IF(COUNTIF('N PMČRj 2023'!B:B,B95)=0,\"-\",COUNTIF('N PMČRj 2023'!B:B,B95))","v":"-"},{"$f":"IF(ISERROR(VLOOKUP(B95,'N PMČRj 2023'!B:G,6,0)),\"-\",VLOOKUP(B95,'N PMČRj 2023'!B:G,6,0))","v":"-"}]
[65,"Frantisek Vancura",{"$f":"VLOOKUP(B96,Pilot!A:C,3,0)","v":"Hranice"},{"$f":"VLOOKUP(B96,Pilot!A:B,2,0)","v":1966},{"$f":"VLOOKUP(B96,Pilot!A:E,5,0)","v":"M"},{"$f":"VLOOKUP(B96,Pilot!A:F,6,0)","v":""},{"$f":"A96","v":65},null,1,65,{"$f":"IF(COUNTIF('N PMRg 2023'!B:B,B96)=0,\"-\",COUNTIF('N PMRg 2023'!B:B,B96))","v":"-"},{"$f":"IF(ISERROR(VLOOKUP(B96,'N PMRg 2023'!B:G,6,0)),\"-\",VLOOKUP(B96,'N PMRg 2023'!B:G,6,0))","v":"-"},{"$f":"IF(COUNTIF('N PMČRj 2023'!B:B,B96)=0,\"-\",COUNTIF('N PMČRj 2023'!B:B,B96))","v":"-"},{"$f":"IF(ISERROR(VLOOKUP(B96,'N PMČRj 2023'!B:G,6,0)),\"-\",VLOOKUP(B96,'N PMČRj 2023'!B:G,6,0))","v":"-"}]
[66,"Martin Ficnar",{"$f":"VLOOKUP(B97,Pilot!A:C,3,0)","v":"Šumperk"},{"$f":"VLOOKUP(B97,Pilot!A:B,2,0)","v":1971},{"$f":"VLOOKUP(B97,Pilot!A:E,5,0)","v":"M"},{"$f":"VLOOKUP(B97,Pilot!A:F,6,0)","v":""},{"$f":"A97","v":66},null,1,66,{"$f":"IF(COUNTIF('N PMRg 2023'!B:B,B97)=0,\"-\",COUNTIF('N PMRg 2023'!B:B,B97))","v":"-"},{"$f":"IF(ISERROR(VLOOKUP(B97,'N PMRg 2023'!B:G,6,0)),\"-\",VLOOKUP(B97,'N PMRg 2023'!B:G,6,0))","v":"-"},{"$f":"IF(COUNTIF('N PMČRj 2023'!B:B,B97)=0,\"-\",COUNTIF('N PMČRj 2023'!B:B,B97))","v":"-"},{"$f":"IF(ISERROR(VLOOKUP(B97,'N PMČRj 2023'!B:G,6,0)),\"-\",VLOOKUP(B97,'N PMČRj 2023'!B:G,6,0))","v":"-"}]
[67,"Petr Krejcirik",{"$f":"VLOOKUP(B98,Pilot!A:C,3,0)","v":"Hranice"},{"$f":"VLOOKUP(B98,Pilot!A:B,2,0)","v":1960},{"$f":"VLOOKUP(B98,Pilot!A:E,5,0)","v":"M"},{"$f":"VLOOKUP(B98,Pilot!A:F,6,0)","v":""},{"$f":"A98","v":67},null,{"$f":"COUNTIF(B:B,B98)","v":1},{"$f":"IF(ISERROR(VLOOKUP(B98,B:G,6,0)),\"-\",VLOOKUP(B98,B:G,6,0))","v":67},{"$f":"IF(COUNTIF('N PMRg 2023'!B:B,B98)=0,\"-\",COUNTIF('N PMRg 2023'!B:B,B98))","v":"-"},{"$f":"IF(ISERROR(VLOOKUP(B98,'N PMRg 2023'!B:G,6,0)),\"-\",VLOOKUP(B98,'N PMRg 2023'!B:G,6,0))","v":"-"},{"$f":"IF(COUNTIF('N PMČRj 2023'!B:B,B98)=0,\"-\",COUNTIF('N PMČRj 2023'!B:B,B98))","v":"-"},{"$f":"IF(ISERROR(VLOOKUP(B98,'N PMČRj 2023'!B:G,6,0)),\"-\",VLOOKUP(B98,'N PMČRj 2023'!B:G,6,0))","v":"-"}]
[68,"Marek Blatak",{"$f":"VLOOKUP(B99,Pilot!A:C,3,0)","v":"Šumperk"},{"$f":"VLOOKUP(B99,Pilot!A:B,2,0)","v":1969},{"$f":"VLOOKUP(B99,Pilot!A:E,5,0)","v":"M"},{"$f":"VLOOKUP(B99,Pilot!A:F,6,0)","v":""},68,null,1,68,{"$f":"IF(COUNTIF('N PMRg 2023'!B:B,B99)=0,\"-\",COUNTIF('N PMRg 2023'!B:B,B99))","v":"-"},{"$f":"IF(ISERROR(VLOOKUP(B99,'N PMRg 2023'!B:G,6,0)),\"-\",VLOOKUP(B99,'N PMRg 2023'!B:G,6,0))","v":"-"},{"$f":"IF(COUNTIF('N PMČRj 2023'!B:B,B99)=0,\"-\",COUNTIF('N PMČRj 2023'!B:B,B99))","v":"-"},{"$f":"IF(ISERROR(VLOOKUP(B99,'N PMČRj 2023'!B:G,6,0)),\"-\",VLOOKUP(B99,'N PMČRj 2023'!B:G,6,0))","v":"-"}]
[69,"Jindrich Svorc",{"$f":"VLOOKUP(B100,Pilot!A:C,3,0)","v":"Letňany"},{"$f":"VLOOKUP(B100,Pilot!A:B,2,0)","v":1978},{"$f":"VLOOKUP(B100,Pilot!A:E,5,0)","v":"M"},{"$f":"VLOOKUP(B100,Pilot!A:F,6,0)","v":""},69,null,1,69,{"$f":"IF(COUNTIF('N PMRg 2023'!B:B,B100)=0,\"-\",COUNTIF('N PMRg 2023'!B:B,B100))","v":"-"},{"$f":"IF(ISERROR(VLOOKUP(B100,'N PMRg 2023'!B:G,6,0)),\"-\",VLOOKUP(B100,'N PMRg 2023'!B:G,6,0))","v":"-"},{"$f":"IF(COUNTIF('N PMČRj 2023'!B:B,B100)=0,\"-\",COUNTIF('N PMČRj 2023'!B:B,B100))","v":"-"},{"$f":"IF(ISERROR(VLOOKUP(B100,'N PMČRj 2023'!B:G,6,0)),\"-\",VLOOKUP(B100,'N PMČRj 2023'!B:G,6,0))","v":"-"}]
[70,"Martin Hrivna",{"$f":"VLOOKUP(B101,Pilot!A:C,3,0)","v":"Zbraslavice"},{"$f":"VLOOKUP(B101,Pilot!A:B,2,0)","v":1978},{"$f":"VLOOKUP(B101,Pilot!A:E,5,0)","v":"M"},{"$f":"VLOOKUP(B101,Pilot!A:F,6,0)","v":""},70,null,1,70,{"$f":"IF(COUNTIF('N PMRg 2023'!B:B,B101)=0,\"-\",COUNTIF('N PMRg 2023'!B:B,B101))","v":"-"},{"$f":"IF(ISERROR(VLOOKUP(B101,'N PMRg 2023'!B:G,6,0)),\"-\",VLOOKUP(B101,'N PMRg 2023'!B:G,6,0))","v":"-"},{"$f":"IF(COUNTIF('N PMČRj 2023'!B:B,B101)=0,\"-\",COUNTIF('N PMČRj 2023'!B:B,B101))","v":"-"},{"$f":"IF(ISERROR(VLOOKUP(B101,'N PMČRj 2023'!B:G,6,0)),\"-\",VLOOKUP(B101,'N PMČRj 2023'!B:G,6,0))","v":"-"}]
[71,"David Sachl",{"$f":"VLOOKUP(B102,Pilot!A:C,3,0)","v":"Kralupy"},{"$f":"VLOOKUP(B102,Pilot!A:B,2,0)","v":1978},{"$f":"VLOOKUP(B102,Pilot!A:E,5,0)","v":"M"},{"$f":"VLOOKUP(B102,Pilot!A:F,6,0)","v":""},71,null,1,71,{"$f":"IF(COUNTIF('N PMRg 2023'!B:B,B102)=0,\"-\",COUNTIF('N PMRg 2023'!B:B,B102))","v":"-"},{"$f":"IF(ISERROR(VLOOKUP(B102,'N PMRg 2023'!B:G,6,0)),\"-\",VLOOKUP(B102,'N PMRg 2023'!B:G,6,0))","v":"-"},{"$f":"IF(COUNTIF('N PMČRj 2023'!B:B,B102)=0,\"-\",COUNTIF('N PMČRj 2023'!B:B,B102))","v":"-"},{"$f":"IF(ISERROR(VLOOKUP(B102,'N PMČRj 2023'!B:G,6,0)),\"-\",VLOOKUP(B102,'N PMČRj 2023'!B:G,6,0))","v":"-"}]
[72,"Ondrej Dupal",{"$f":"VLOOKUP(B103,Pilot!A:C,3,0)","v":"GAC Benešov"},{"$f":"VLOOKUP(B103,Pilot!A:B,2,0)","v":1966},{"$f":"VLOOKUP(B103,Pilot!A:E,5,0)","v":"M"},{"$f":"VLOOKUP(B103,Pilot!A:F,6,0)","v":""},72,null,1,72,{"$f":"IF(COUNTIF('N PMRg 2023'!B:B,B103)=0,\"-\",COUNTIF('N PMRg 2023'!B:B,B103))","v":"-"},{"$f":"IF(ISERROR(VLOOKUP(B103,'N PMRg 2023'!B:G,6,0)),\"-\",VLOOKUP(B103,'N PMRg 2023'!B:G,6,0))","v":"-"},{"$f":"IF(COUNTIF('N PMČRj 2023'!B:B,B103)=0,\"-\",COUNTIF('N PMČRj 2023'!B:B,B103))","v":"-"},{"$f":"IF(ISERROR(VLOOKUP(B103,'N PMČRj 2023'!B:G,6,0)),\"-\",VLOOKUP(B103,'N PMČRj 2023'!B:G,6,0))","v":"-"}]
[73,"Michal Cechmanek",{"$f":"VLOOKUP(B104,Pilot!A:C,3,0)","v":"Luhačovice"},{"$f":"VLOOKUP(B104,Pilot!A:B,2,0)","v":1978},{"$f":"VLOOKUP(B104,Pilot!A:E,5,0)","v":"M"},{"$f":"VLOOKUP(B104,Pilot!A:F,6,0)","v":""},73,null,1,73,{"$f":"IF(COUNTIF('N PMRg 2023'!B:B,B104)=0,\"-\",COUNTIF('N PMRg 2023'!B:B,B104))","v":"-"},{"$f":"IF(ISERROR(VLOOKUP(B104,'N PMRg 2023'!B:G,6,0)),\"-\",VLOOKUP(B104,'N PMRg 2023'!B:G,6,0))","v":"-"},{"$f":"IF(COUNTIF('N PMČRj 2023'!B:B,B104)=0,\"-\",COUNTIF('N PMČRj 2023'!B:B,B104))","v":"-"},{"$f":"IF(ISERROR(VLOOKUP(B104,'N PMČRj 2023'!B:G,6,0)),\"-\",VLOOKUP(B104,'N PMČRj 2023'!B:G,6,0))","v":"-"}]
[74,"Jan Dersak 69",{"$f":"VLOOKUP(B105,Pilot!A:C,3,0)","v":"Kralupy"},{"$f":"VLOOKUP(B105,Pilot!A:B,2,0)","v":1969},{"$f":"VLOOKUP(B105,Pilot!A:E,5,0)","v":"M"},{"$f":"VLOOKUP(B105,Pilot!A:F,6,0)","v":""},74,null,1,74,{"$f":"IF(COUNTIF('N PMRg 2023'!B:B,B105)=0,\"-\",COUNTIF('N PMRg 2023'!B:B,B105))","v":"-"},{"$f":"IF(ISERROR(VLOOKUP(B105,'N PMRg 2023'!B:G,6,0)),\"-\",VLOOKUP(B105,'N PMRg 2023'!B:G,6,0))","v":"-"},{"$f":"IF(COUNTIF('N PMČRj 2023'!B:B,B105)=0,\"-\",COUNTIF('N PMČRj 2023'!B:B,B105))","v":"-"},{"$f":"IF(ISERROR(VLOOKUP(B105,'N PMČRj 2023'!B:G,6,0)),\"-\",VLOOKUP(B105,'N PMČRj 2023'!B:G,6,0))","v":"-"}]
[75,"Martin Urner",{"$f":"VLOOKUP(B106,Pilot!A:C,3,0)","v":"Letňany"},{"$f":"VLOOKUP(B106,Pilot!A:B,2,0)","v":1974},{"$f":"VLOOKUP(B106,Pilot!A:E,5,0)","v":"M"},{"$f":"VLOOKUP(B106,Pilot!A:F,6,0)","v":""},75,null,1,75,{"$f":"IF(COUNTIF('N PMRg 2023'!B:B,B106)=0,\"-\",COUNTIF('N PMRg 2023'!B:B,B106))","v":"-"},{"$f":"IF(ISERROR(VLOOKUP(B106,'N PMRg 2023'!B:G,6,0)),\"-\",VLOOKUP(B106,'N PMRg 2023'!B:G,6,0))","v":"-"},{"$f":"IF(COUNTIF('N PMČRj 2023'!B:B,B106)=0,\"-\",COUNTIF('N PMČRj 2023'!B:B,B106))","v":"-"},{"$f":"IF(ISERROR(VLOOKUP(B106,'N PMČRj 2023'!B:G,6,0)),\"-\",VLOOKUP(B106,'N PMČRj 2023'!B:G,6,0))","v":"-"}]
[76,"Jan Horak",{"$f":"VLOOKUP(B107,Pilot!A:C,3,0)","v":"Zbraslavice"},{"$f":"VLOOKUP(B107,Pilot!A:B,2,0)","v":1971},{"$f":"VLOOKUP(B107,Pilot!A:E,5,0)","v":"M"},{"$f":"VLOOKUP(B107,Pilot!A:F,6,0)","v":""},76,null,1,76,{"$f":"IF(COUNTIF('N PMRg 2023'!B:B,B107)=0,\"-\",COUNTIF('N PMRg 2023'!B:B,B107))","v":"-"},{"$f":"IF(ISERROR(VLOOKUP(B107,'N PMRg 2023'!B:G,6,0)),\"-\",VLOOKUP(B107,'N PMRg 2023'!B:G,6,0))","v":"-"},{"$f":"IF(COUNTIF('N PMČRj 2023'!B:B,B107)=0,\"-\",COUNTIF('N PMČRj 2023'!B:B,B107))","v":"-"},{"$f":"IF(ISERROR(VLOOKUP(B107,'N PMČRj 2023'!B:G,6,0)),\"-\",VLOOKUP(B107,'N PMČRj 2023'!B:G,6,0))","v":"-"}]
[77,"Vratislav Sram",{"$f":"VLOOKUP(B108,Pilot!A:C,3,0)","v":"Broumov"},{"$f":"VLOOKUP(B108,Pilot!A:B,2,0)","v":1966},{"$f":"VLOOKUP(B108,Pilot!A:E,5,0)","v":"M"},{"$f":"VLOOKUP(B108,Pilot!A:F,6,0)","v":""},77,null,1,77,{"$f":"IF(COUNTIF('N PMRg 2023'!B:B,B108)=0,\"-\",COUNTIF('N PMRg 2023'!B:B,B108))","v":"-"},{"$f":"IF(ISERROR(VLOOKUP(B108,'N PMRg 2023'!B:G,6,0)),\"-\",VLOOKUP(B108,'N PMRg 2023'!B:G,6,0))","v":"-"},{"$f":"IF(COUNTIF('N PMČRj 2023'!B:B,B108)=0,\"-\",COUNTIF('N PMČRj 2023'!B:B,B108))","v":"-"},{"$f":"IF(ISERROR(VLOOKUP(B108,'N PMČRj 2023'!B:G,6,0)),\"-\",VLOOKUP(B108,'N PMČRj 2023'!B:G,6,0))","v":"-"}]
[78,"Josef Novak",{"$f":"VLOOKUP(B109,Pilot!A:C,3,0)","v":"Kunovice"},{"$f":"VLOOKUP(B109,Pilot!A:B,2,0)","v":1981},{"$f":"VLOOKUP(B109,Pilot!A:E,5,0)","v":"M"},{"$f":"VLOOKUP(B109,Pilot!A:F,6,0)","v":""},78,null,1,78,{"$f":"IF(COUNTIF('N PMRg 2023'!B:B,B109)=0,\"-\",COUNTIF('N PMRg 2023'!B:B,B109))","v":"-"},{"$f":"IF(ISERROR(VLOOKUP(B109,'N PMRg 2023'!B:G,6,0)),\"-\",VLOOKUP(B109,'N PMRg 2023'!B:G,6,0))","v":"-"},{"$f":"IF(COUNTIF('N PMČRj 2023'!B:B,B109)=0,\"-\",COUNTIF('N PMČRj 2023'!B:B,B109))","v":"-"},{"$f":"IF(ISERROR(VLOOKUP(B109,'N PMČRj 2023'!B:G,6,0)),\"-\",VLOOKUP(B109,'N PMČRj 2023'!B:G,6,0))","v":"-"}]
[79,"Eduard Niko",{"$f":"VLOOKUP(B110,Pilot!A:C,3,0)","v":"Zbraslavice"},{"$f":"VLOOKUP(B110,Pilot!A:B,2,0)","v":1988},{"$f":"VLOOKUP(B110,Pilot!A:E,5,0)","v":"M"},{"$f":"VLOOKUP(B110,Pilot!A:F,6,0)","v":""},79,null,1,79,{"$f":"IF(COUNTIF('N PMRg 2023'!B:B,B110)=0,\"-\",COUNTIF('N PMRg 2023'!B:B,B110))","v":"-"},{"$f":"IF(ISERROR(VLOOKUP(B110,'N PMRg 2023'!B:G,6,0)),\"-\",VLOOKUP(B110,'N PMRg 2023'!B:G,6,0))","v":"-"},{"$f":"IF(COUNTIF('N PMČRj 2023'!B:B,B110)=0,\"-\",COUNTIF('N PMČRj 2023'!B:B,B110))","v":"-"},{"$f":"IF(ISERROR(VLOOKUP(B110,'N PMČRj 2023'!B:G,6,0)),\"-\",VLOOKUP(B110,'N PMČRj 2023'!B:G,6,0))","v":"-"}]
[80,"Lubomir Motl",{"$f":"VLOOKUP(B111,Pilot!A:C,3,0)","v":"Kyjov"},{"$f":"VLOOKUP(B111,Pilot!A:B,2,0)","v":1959},{"$f":"VLOOKUP(B111,Pilot!A:E,5,0)","v":"M"},{"$f":"VLOOKUP(B111,Pilot!A:F,6,0)","v":""},80,null,1,80,{"$f":"IF(COUNTIF('N PMRg 2023'!B:B,B111)=0,\"-\",COUNTIF('N PMRg 2023'!B:B,B111))","v":"-"},{"$f":"IF(ISERROR(VLOOKUP(B111,'N PMRg 2023'!B:G,6,0)),\"-\",VLOOKUP(B111,'N PMRg 2023'!B:G,6,0))","v":"-"},{"$f":"IF(COUNTIF('N PMČRj 2023'!B:B,B111)=0,\"-\",COUNTIF('N PMČRj 2023'!B:B,B111))","v":"-"},{"$f":"IF(ISERROR(VLOOKUP(B111,'N PMČRj 2023'!B:G,6,0)),\"-\",VLOOKUP(B111,'N PMČRj 2023'!B:G,6,0))","v":"-"}]
["N1","Karel Benisek 76",{"$f":"VLOOKUP(B112,Pilot!A:C,3,0)","v":"Toužim"},{"$f":"VLOOKUP(B112,Pilot!A:B,2,0)","v":1976},{"$f":"VLOOKUP(B112,Pilot!A:E,5,0)","v":"M"},{"$f":"VLOOKUP(B112,Pilot!A:F,6,0)","v":""},{"$f":"A112","v":"N1"},null,{"$f":"COUNTIF(B:B,B112)","v":1},{"$f":"IF(ISERROR(VLOOKUP(B112,B:G,6,0)),\"-\",VLOOKUP(B112,B:G,6,0))","v":"N1"},{"$f":"IF(COUNTIF('N PMRg 2023'!B:B,B112)=0,\"-\",COUNTIF('N PMRg 2023'!B:B,B112))","v":"-"},{"$f":"IF(ISERROR(VLOOKUP(B112,'N PMRg 2023'!B:G,6,0)),\"-\",VLOOKUP(B112,'N PMRg 2023'!B:G,6,0))","v":"-"},{"$f":"IF(COUNTIF('N PMČRj 2023'!B:B,B112)=0,\"-\",COUNTIF('N PMČRj 2023'!B:B,B112))","v":"-"},{"$f":"IF(ISERROR(VLOOKUP(B112,'N PMČRj 2023'!B:G,6,0)),\"-\",VLOOKUP(B112,'N PMČRj 2023'!B:G,6,0))","v":"-"}]
["N2","Jiri Steiger",{"$f":"VLOOKUP(B113,Pilot!A:C,3,0)","v":"Olomouc"},{"$f":"VLOOKUP(B113,Pilot!A:B,2,0)","v":1969},{"$f":"VLOOKUP(B113,Pilot!A:E,5,0)","v":"M"},{"$f":"VLOOKUP(B113,Pilot!A:F,6,0)","v":""},"N2",null,1,"N2",{"$f":"IF(COUNTIF('N PMRg 2023'!B:B,B113)=0,\"-\",COUNTIF('N PMRg 2023'!B:B,B113))","v":"-"},{"$f":"IF(ISERROR(VLOOKUP(B113,'N PMRg 2023'!B:G,6,0)),\"-\",VLOOKUP(B113,'N PMRg 2023'!B:G,6,0))","v":"-"},{"$f":"IF(COUNTIF('N PMČRj 2023'!B:B,B113)=0,\"-\",COUNTIF('N PMČRj 2023'!B:B,B113))","v":"-"},{"$f":"IF(ISERROR(VLOOKUP(B113,'N PMČRj 2023'!B:G,6,0)),\"-\",VLOOKUP(B113,'N PMČRj 2023'!B:G,6,0))","v":"-"}]
["N3","Rene Hudak",{"$f":"VLOOKUP(B114,Pilot!A:C,3,0)","v":"Kunovice"},{"$f":"VLOOKUP(B114,Pilot!A:B,2,0)","v":1972},{"$f":"VLOOKUP(B114,Pilot!A:E,5,0)","v":"M"},{"$f":"VLOOKUP(B114,Pilot!A:F,6,0)","v":""},"N3",null,1,"N3",{"$f":"IF(COUNTIF('N PMRg 2023'!B:B,B114)=0,\"-\",COUNTIF('N PMRg 2023'!B:B,B114))","v":"-"},{"$f":"IF(ISERROR(VLOOKUP(B114,'N PMRg 2023'!B:G,6,0)),\"-\",VLOOKUP(B114,'N PMRg 2023'!B:G,6,0))","v":"-"},{"$f":"IF(COUNTIF('N PMČRj 2023'!B:B,B114)=0,\"-\",COUNTIF('N PMČRj 2023'!B:B,B114))","v":"-"},{"$f":"IF(ISERROR(VLOOKUP(B114,'N PMČRj 2023'!B:G,6,0)),\"-\",VLOOKUP(B114,'N PMČRj 2023'!B:G,6,0))","v":"-"}]
["N4","Miroslav Koci",{"$f":"VLOOKUP(B115,Pilot!A:C,3,0)","v":"Žamberk"},{"$f":"VLOOKUP(B115,Pilot!A:B,2,0)","v":1961},{"$f":"VLOOKUP(B115,Pilot!A:E,5,0)","v":"M"},{"$f":"VLOOKUP(B115,Pilot!A:F,6,0)","v":""},"N4",null,1,"N4",{"$f":"IF(COUNTIF('N PMRg 2023'!B:B,B115)=0,\"-\",COUNTIF('N PMRg 2023'!B:B,B115))","v":"-"},{"$f":"IF(ISERROR(VLOOKUP(B115,'N PMRg 2023'!B:G,6,0)),\"-\",VLOOKUP(B115,'N PMRg 2023'!B:G,6,0))","v":"-"},{"$f":"IF(COUNTIF('N PMČRj 2023'!B:B,B115)=0,\"-\",COUNTIF('N PMČRj 2023'!B:B,B115))","v":"-"},{"$f":"IF(ISERROR(VLOOKUP(B115,'N PMČRj 2023'!B:G,6,0)),\"-\",VLOOKUP(B115,'N PMČRj 2023'!B:G,6,0))","v":"-"}]
["N5","Vojtech Novotny",{"$f":"VLOOKUP(B116,Pilot!A:C,3,0)","v":"Kralupy"},{"$f":"VLOOKUP(B116,Pilot!A:B,2,0)","v":1992},{"$f":"VLOOKUP(B116,Pilot!A:E,5,0)","v":"M"},{"$f":"VLOOKUP(B116,Pilot!A:F,6,0)","v":""},"N5",null,1,"N5",{"$f":"IF(COUNTIF('N PMRg 2023'!B:B,B116)=0,\"-\",COUNTIF('N PMRg 2023'!B:B,B116))","v":"-"},{"$f":"IF(ISERROR(VLOOKUP(B116,'N PMRg 2023'!B:G,6,0)),\"-\",VLOOKUP(B116,'N PMRg 2023'!B:G,6,0))","v":"-"},{"$f":"IF(COUNTIF('N PMČRj 2023'!B:B,B116)=0,\"-\",COUNTIF('N PMČRj 2023'!B:B,B116))","v":"-"},{"$f":"IF(ISERROR(VLOOKUP(B116,'N PMČRj 2023'!B:G,6,0)),\"-\",VLOOKUP(B116,'N PMČRj 2023'!B:G,6,0))","v":"-"}]
["N6","Oldrich Slavicek",{"$f":"VLOOKUP(B117,Pilot!A:C,3,0)","v":"Hronov"},{"$f":"VLOOKUP(B117,Pilot!A:B,2,0)","v":1959},{"$f":"VLOOKUP(B117,Pilot!A:E,5,0)","v":"M"},{"$f":"VLOOKUP(B117,Pilot!A:F,6,0)","v":""},"N6",null,1,"N6",{"$f":"IF(COUNTIF('N PMRg 2023'!B:B,B117)=0,\"-\",COUNTIF('N PMRg 2023'!B:B,B117))","v":"-"},{"$f":"IF(ISERROR(VLOOKUP(B117,'N PMRg 2023'!B:G,6,0)),\"-\",VLOOKUP(B117,'N PMRg 2023'!B:G,6,0))","v":"-"},{"$f":"IF(COUNTIF('N PMČRj 2023'!B:B,B117)=0,\"-\",COUNTIF('N PMČRj 2023'!B:B,B117))","v":"-"},{"$f":"IF(ISERROR(VLOOKUP(B117,'N PMČRj 2023'!B:G,6,0)),\"-\",VLOOKUP(B117,'N PMČRj 2023'!B:G,6,0))","v":"-"}]
["N7","Jaroslav Buryan",{"$f":"VLOOKUP(B118,Pilot!A:C,3,0)","v":"Zábřeh"},{"$f":"VLOOKUP(B118,Pilot!A:B,2,0)","v":1953},{"$f":"VLOOKUP(B118,Pilot!A:E,5,0)","v":"M"},{"$f":"VLOOKUP(B118,Pilot!A:F,6,0)","v":""},"N7",null,1,"N7",{"$f":"IF(COUNTIF('N PMRg 2023'!B:B,B118)=0,\"-\",COUNTIF('N PMRg 2023'!B:B,B118))","v":"-"},{"$f":"IF(ISERROR(VLOOKUP(B118,'N PMRg 2023'!B:G,6,0)),\"-\",VLOOKUP(B118,'N PMRg 2023'!B:G,6,0))","v":"-"},{"$f":"IF(COUNTIF('N PMČRj 2023'!B:B,B118)=0,\"-\",COUNTIF('N PMČRj 2023'!B:B,B118))","v":"-"},{"$f":"IF(ISERROR(VLOOKUP(B118,'N PMČRj 2023'!B:G,6,0)),\"-\",VLOOKUP(B118,'N PMČRj 2023'!B:G,6,0))","v":"-"}]
["N8","Jana Treslova",{"$f":"VLOOKUP(B119,Pilot!A:C,3,0)","v":"Raná"},{"$f":"VLOOKUP(B119,Pilot!A:B,2,0)","v":1963},{"$f":"VLOOKUP(B119,Pilot!A:E,5,0)","v":"F"},{"$f":"VLOOKUP(B119,Pilot!A:F,6,0)","v":""},"N8",null,1,"N8",{"$f":"IF(COUNTIF('N PMRg 2023'!B:B,B119)=0,\"-\",COUNTIF('N PMRg 2023'!B:B,B119))","v":1},{"$f":"IF(ISERROR(VLOOKUP(B119,'N PMRg 2023'!B:G,6,0)),\"-\",VLOOKUP(B119,'N PMRg 2023'!B:G,6,0))","v":5},{"$f":"IF(COUNTIF('N PMČRj 2023'!B:B,B119)=0,\"-\",COUNTIF('N PMČRj 2023'!B:B,B119))","v":"-"},{"$f":"IF(ISERROR(VLOOKUP(B119,'N PMČRj 2023'!B:G,6,0)),\"-\",VLOOKUP(B119,'N PMČRj 2023'!B:G,6,0))","v":"-"}]
["N9","Zdenek Balcarek",{"$f":"VLOOKUP(B120,Pilot!A:C,3,0)","v":"Kroměříž"},{"$f":"VLOOKUP(B120,Pilot!A:B,2,0)","v":1967},{"$f":"VLOOKUP(B120,Pilot!A:E,5,0)","v":"M"},{"$f":"VLOOKUP(B120,Pilot!A:F,6,0)","v":""},"N9",null,1,"N9",{"$f":"IF(COUNTIF('N PMRg 2023'!B:B,B120)=0,\"-\",COUNTIF('N PMRg 2023'!B:B,B120))","v":1},{"$f":"IF(ISERROR(VLOOKUP(B120,'N PMRg 2023'!B:G,6,0)),\"-\",VLOOKUP(B120,'N PMRg 2023'!B:G,6,0))","v":1},{"$f":"IF(COUNTIF('N PMČRj 2023'!B:B,B120)=0,\"-\",COUNTIF('N PMČRj 2023'!B:B,B120))","v":"-"},{"$f":"IF(ISERROR(VLOOKUP(B120,'N PMČRj 2023'!B:G,6,0)),\"-\",VLOOKUP(B120,'N PMČRj 2023'!B:G,6,0))","v":"-"}]
["N10","Petr Kolomaznik",{"$f":"VLOOKUP(B121,Pilot!A:C,3,0)","v":"Šumperk"},{"$f":"VLOOKUP(B121,Pilot!A:B,2,0)","v":1981},{"$f":"VLOOKUP(B121,Pilot!A:E,5,0)","v":"M"},{"$f":"VLOOKUP(B121,Pilot!A:F,6,0)","v":""},"N10",null,1,"N10",{"$f":"IF(COUNTIF('N PMRg 2023'!B:B,B121)=0,\"-\",COUNTIF('N PMRg 2023'!B:B,B121))","v":"-"},{"$f":"IF(ISERROR(VLOOKUP(B121,'N PMRg 2023'!B:G,6,0)),\"-\",VLOOKUP(B121,'N PMRg 2023'!B:G,6,0))","v":"-"},{"$f":"IF(COUNTIF('N PMČRj 2023'!B:B,B121)=0,\"-\",COUNTIF('N PMČRj 2023'!B:B,B121))","v":"-"},{"$f":"IF(ISERROR(VLOOKUP(B121,'N PMČRj 2023'!B:G,6,0)),\"-\",VLOOKUP(B121,'N PMČRj 2023'!B:G,6,0))","v":"-"}]
["6.6.7.","Nominace zahraničních účastníků"]
[null,"PMČR se mohou zúčastnit zahraniční účastníci pouze v případě, že nebude omezen počet řádně nominovaných soutěžících z ČR a soutěžící splňuje podmínky odstavce 6.1. a 6.6.1. SŘ."]
[null,"V případě pořádání společného PMČR s plachtařským mistrovstvím některého ze suverénních států může PK stanovit zvláštní pravidla pro nominaci."]
["6.6.8.","Volná nominace"]
[null,"Volnou nominaci je možné využít pouze v tom případě, že pilot na PMČR nepostupuje podle žádného z bodů odstavce 6.6.6."]
[null,"Umožňuje-li to kapacita pořádajícího letiště, mohou se z členů AeČR mimo řádně nominovaných do soutěže přihlásit také piloti/pilotky, kteří se:"]
["6.6.8.1.","v posledních 3 letech před rokem konání soutěže zúčastnili MS, ME, WAG nebo Světové Grand Prix jako velitel kluzáku,"]
["6.6.8.2.","umístili v aktuálním Všeobecném Žebříku do 100. místa,"]
["6.6.8.3.","Při větším počtu přihlášek, než je kapacita letiště Pořadatele, rozhoduje o přijetí do soutěže pořadí soutěžícího v aktuálním Všeobecném Žebříku s podmínkou zaplacení vkladu v termínu stanoveném Pořadatelem."]

{"sheet":"N PMRg 2023","index":13,"n_rows":90,"n_cols":18,"rows_kept":90,"cut":false,"hidden":false,"merged":[[5,1,5,7],[15,1,15,7],[16,1,16,7],[19,1,19,7]]}
[null,"Nominace na PMRg 2023",null,null,null,null,null,"Kontrola:","Počet","Nominace","Počet","Nominace","Počet","Nominace","M:","F:","M+F:"]
["No","Jméno","Aeroklub","Rok narození","M/F","Junior","No",null,"PMRg","PMRg","PMČR","PMČR","PMČRj","PMČRj",{"$f":"COUNTIF(E:E,\"M\")","v":5},{"$f":"COUNTIF(E:E,\"F\")","v":1},{"$f":"O2+P2","v":6},"S náhradníky"]
["6.8.5.","Nominace na PMRg (dle SŘ ZM10)",null,null,null,null,null,null,null,null,null,null,null,"Celkem řádně nominováno:",{"$f":"O2-COUNTIF(E75:E83,\"M\")","v":5},{"$f":"P2-COUNTIF(E80:E83,\"F\")","v":1},{"$f":"O3+P3","v":6},"Bez náhradníků"]
[null,"Na PMRg nominuje PK minimálně 60 pilotů/pilotek a příslušný počet náhradníků pro stanovená nominační kritéria."]
[null,"Na PMRg jsou nominováni:"]
["6.8.5.1.","všichni soutěžící z posledního platného PMČR, kteří nepostoupili na PMČR v roce konání PMRg (bez náhradníků)"]
[null,"PMČR 2022 - Zbraslavice - Klub"]
[1,"Zdenek Balcarek",{"$f":"VLOOKUP(B8,Pilot!A:C,3,0)","v":"Kroměříž"},{"$f":"VLOOKUP(B8,Pilot!A:C,2,0)","v":1967},{"$f":"VLOOKUP(B8,Pilot!A:E,5,0)","v":"M"},{"$f":"VLOOKUP(B8,Pilot!A:F,6,0)","v":""},{"$f":"A8","v":1},null,{"$f":"COUNTIF(B:B,B8)","v":1},{"$f":"IF(ISERROR(VLOOKUP(B8,B:G,6,0)),\"-\",VLOOKUP(B8,B:G,6,0))","v":1},{"$f":"IF(COUNTIF('N PMČR 2023'!B:B,B8)=0,\"-\",COUNTIF('N PMČR 2023'!B:B,B8))","v":1},{"$f":"IF(ISERROR(VLOOKUP(B8,'N PMČR 2023'!B:G,6,0)),\"-\",VLOOKUP(B8,'N PMČR 2023'!B:G,6,0))","v":"N9"},{"$f":"IF(COUNTIF('N PMČRj 2023'!B:B,B8)=0,\"-\",COUNTIF('N PMČRj 2023'!B:B,B8))","v":"-"},{"$f":"IF(ISERROR(VLOOKUP(B8,'N PMČRj 2023'!B:G,6,0)),\"-\",VLOOKUP(B8,'N PMČRj 2023'!B:G,6,0))","v":"-"}]
[{"$f":"A8+1","v":2},"Slavomir Piskaty 84",{"$f":"VLOOKUP(B9,Pilot!A:C,3,0)","v":"Kunovice"},{"$f":"VLOOKUP(B9,Pilot!A:C,2,0)","v":1984},{"$f":"VLOOKUP(B9,Pilot!A:E,5,0)","v":"M"},{"$f":"VLOOKUP(B9,Pilot!A:F,6,0)","v":""},{"$f":"A9","v":2},null,{"$f":"COUNTIF(B:B,B9)","v":1},{"$f":"IF(ISERROR(VLOOKUP(B9,B:G,6,0)),\"-\",VLOOKUP(B9,B:G,6,0))","v":2},{"$f":"IF(COUNTIF('N PMČR 2023'!B:B,B9)=0,\"-\",COUNTIF('N PMČR 2023'!B:B,B9))","v":"-"},{"$f":"IF(ISERROR(VLOOKUP(B9,'N PMČR 2023'!B:G,6,0)),\"-\",VLOOKUP(B9,'N PMČR 2023'!B:G,6,0))","v":"-"},{"$f":"IF(COUNTIF('N PMČRj 2023'!B:B,B9)=0,\"-\",COUNTIF('N PMČRj 2023'!B:B,B9))","v":"-"},{"$f":"IF(ISERROR(VLOOKUP(B9,'N PMČRj 2023'!B:G,6,0)),\"-\",VLOOKUP(B9,'N PMČRj 2023'!B:G,6,0))","v":"-"}]
[{"$f":"A9+1","v":3},"Martin Kriz",{"$f":"VLOOKUP(B10,Pilot!A:C,3,0)","v":"Přibyslav"},{"$f":"VLOOKUP(B10,Pilot!A:C,2,0)","v":1968},{"$f":"VLOOKUP(B10,Pilot!A:E,5,0)","v":"M"},{"$f":"VLOOKUP(B10,Pilot!A:F,6,0)","v":""},3,null,{"$f":"COUNTIF(B:B,B10)","v":1},{"$f":"IF(ISERROR(VLOOKUP(B10,B:G,6,0)),\"-\",VLOOKUP(B10,B:G,6,0))","v":3},{"$f":"IF(COUNTIF('N PMČR 2023'!B:B,B10)=0,\"-\",COUNTIF('N PMČR 2023'!B:B,B10))","v":"-"},{"$f":"IF(ISERROR(VLOOKUP(B10,'N PMČR 2023'!B:G,6,0)),\"-\",VLOOKUP(B10,'N PMČR 2023'!B:G,6,0))","v":"-"},{"$f":"IF(COUNTIF('N PMČRj 2023'!B:B,B10)=0,\"-\",COUNTIF('N PMČRj 2023'!B:B,B10))","v":"-"},{"$f":"IF(ISERROR(VLOOKUP(B10,'N PMČRj 2023'!B:G,6,0)),\"-\",VLOOKUP(B10,'N PMČRj 2023'!B:G,6,0))","v":"-"}]
[4,"Daniel Ryba",{"$f":"VLOOKUP(B11,Pilot!A:C,3,0)","v":"Dvůr Králové"},{"$f":"VLOOKUP(B11,Pilot!A:C,2,0)","v":1994},{"$f":"VLOOKUP(B11,Pilot!A:E,5,0)","v":"M"},{"$f":"VLOOKUP(B11,Pilot!A:F,6,0)","v":""},4,null,{"$f":"COUNTIF(B:B,B11)","v":1},{"$f":"IF(ISERROR(VLOOKUP(B11,B:G,6,0)),\"-\",VLOOKUP(B11,B:G,6,0))","v":4},{"$f":"IF(COUNTIF('N PMČR 2023'!B:B,B11)=0,\"-\",COUNTIF('N PMČR 2023'!B:B,B11))","v":"-"},{"$f":"IF(ISERROR(VLOOKUP(B11,'N PMČR 2023'!B:G,6,0)),\"-\",VLOOKUP(B11,'N PMČR 2023'!B:G,6,0))","v":"-"},{"$f":"IF(COUNTIF('N PMČRj 2023'!B:B,B11)=0,\"-\",COUNTIF('N PMČRj 2023'!B:B,B11))","v":"-"},{"$f":"IF(ISERROR(VLOOKUP(B11,'N PMČRj 2023'!B:G,6,0)),\"-\",VLOOKUP(B11,'N PMČRj 2023'!B:G,6,0))","v":"-"}]
[null,"PMČR 2022 - Zbraslavice - Kombi 15m"]
[{"$f":"MAX(A8:A12)+1","v":5},"Jana Treslova",{"$f":"VLOOKUP(B13,Pilot!A:C,3,0)","v":"Raná"},{"$f":"VLOOKUP(B13,Pilot!A:C,2,0)","v":1963},{"$f":"VLOOKUP(B13,Pilot!A:E,5,0)","v":"F"},{"$f":"VLOOKUP(B13,Pilot!A:F,6,0)","v":""},{"$f":"A13","v":5},null,{"$f":"COUNTIF(B:B,B13)","v":1},{"$f":"IF(ISERROR(VLOOKUP(B13,B:G,6,0)),\"-\",VLOOKUP(B13,B:G,6,0))","v":5},{"$f":"IF(COUNTIF('N PMČR 2023'!B:B,B13)=0,\"-\",COUNTIF('N PMČR 2023'!B:B,B13))","v":1},{"$f":"IF(ISERROR(VLOOKUP(B13,'N PMČR 2023'!B:G,6,0)),\"-\",VLOOKUP(B13,'N PMČR 2023'!B:G,6,0))","v":"N8"},{"$f":"IF(COUNTIF('N PMČRj 2023'!B:B,B13)=0,\"-\",COUNTIF('N PMČRj 2023'!B:B,B13))","v":"-"},{"$f":"IF(ISERROR(VLOOKUP(B13,'N PMČRj 2023'!B:G,6,0)),\"-\",VLOOKUP(B13,'N PMČRj 2023'!B:G,6,0))","v":"-"}]
[null,"PMČR 2022 - Zbraslavice - Kombi Open"]
[{"$f":"MAX(A8:A14)+1","v":6},"Marek Pechanec",{"$f":"VLOOKUP(B15,Pilot!A:C,3,0)","v":"Luhačovice"},{"$f":"VLOOKUP(B15,Pilot!A:C,2,0)","v":1970},{"$f":"VLOOKUP(B15,Pilot!A:E,5,0)","v":"M"},{"$f":"VLOOKUP(B15,Pilot!A:F,6,0)","v":""},{"$f":"A15","v":6},null,{"$f":"COUNTIF(B:B,B15)","v":1},{"$f":"IF(ISERROR(VLOOKUP(B15,B:G,6,0)),\"-\",VLOOKUP(B15,B:G,6,0))","v":6},{"$f":"IF(COUNTIF('N PMČR 2023'!B:B,B15)=0,\"-\",COUNTIF('N PMČR 2023'!B:B,B15))","v":"-"},{"$f":"IF(ISERROR(VLOOKUP(B15,'N PMČR 2023'!B:G,6,0)),\"-\",VLOOKUP(B15,'N PMČR 2023'!B:G,6,0))","v":"-"},{"$f":"IF(COUNTIF('N PMČRj 2023'!B:B,B15)=0,\"-\",COUNTIF('N PMČRj 2023'!B:B,B15))","v":"-"},{"$f":"IF(ISERROR(VLOOKUP(B15,'N PMČRj 2023'!B:G,6,0)),\"-\",VLOOKUP(B15,'N PMČRj 2023'!B:G,6,0))","v":"-"}]
["6.8.5.2.","prvních 10 soutěžících z posledního platného PMRg, kteří nepostoupili na PMČR v roce konání PMRg, v pořadí podle korigovaných bodů ze všech tříd (bez náhradníků)"]
[null,"V případě neplatnosti některé ze soutěžních tříd posledního PMRg budou pro výpočet korigovaných bodů použity výsledky z posledního platného PMRg v dané třídě."]
[null,"PMRg 2022 - Hodkovice - Korigované body"]
["-","-",null,{"$f":"VLOOKUP(B19,Pilot!A:C,2,0)","v":" "},{"$f":"VLOOKUP(B19,Pilot!A:E,5,0)","v":" "},{"$f":"VLOOKUP(B19,Pilot!A:F,6,0)","v":" "},{"$f":"A19","v":"-"},null,{"$f":"COUNTIF(B:B,B19)","v":70},{"$f":"IF(ISERROR(VLOOKUP(B19,B:G,6,0)),\"-\",VLOOKUP(B19,B:G,6,0))","v":"-"},{"$f":"IF(COUNTIF('N PMČR 2023'!B:B,B19)=0,\"-\",COUNTIF('N PMČR 2023'!B:B,B19))","v":6},{"$f":"IF(ISERROR(VLOOKUP(B19,'N PMČR 2023'!B:G,6,0)),\"-\",VLOOKUP(B19,'N PMČR 2023'!B:G,6,0))","v":"-"},{"$f":"IF(COUNTIF('N PMČRj 2023'!B:B,B19)=0,\"-\",COUNTIF('N PMČRj 2023'!B:B,B19))","v":43},{"$f":"IF(ISERROR(VLOOKUP(B19,'N PMČRj 2023'!B:G,6,0)),\"-\",VLOOKUP(B19,'N PMČRj 2023'!B:G,6,0))","v":"-"}]
["6.8.5.3.","soutěžící z regionů Čechy 1, Čechy 2 a Morava v pořadí podle celkového umístění v CPS-INT předcházejícího roku konání PMRg do naplnění celkového počtu minimálně 60 nominovaných (+ 10 náhradníků)"]
[{"$f":"MAX(A8:A20)+1","v":7},"-",{"$f":"VLOOKUP(B21,Pilot!A:C,3,0)","v":" "},{"$f":"VLOOKUP(B21,Pilot!A:C,2,0)","v":" "},{"$f":"VLOOKUP(B21,Pilot!A:E,5,0)","v":" "},{"$f":"VLOOKUP(B21,Pilot!A:F,6,0)","v":" "},{"$f":"A21","v":7},null,{"$f":"COUNTIF(B:B,B21)","v":70},{"$f":"IF(ISERROR(VLOOKUP(B21,B:G,6,0)),\"-\",VLOOKUP(B21,B:G,6,0))","v":"-"},{"$f":"IF(COUNTIF('N PMČR 2023'!B:B,B21)=0,\"-\",COUNTIF('N PMČR 2023'!B:B,B21))","v":6},{"$f":"IF(ISERROR(VLOOKUP(B21,'N PMČR 2023'!B:G,6,0)),\"-\",VLOOKUP(B21,'N PMČR 2023'!B:G,6,0))","v":"-"},{"$f":"IF(COUNTIF('N PMČRj 2023'!B:B,B21)=0,\"-\",COUNTIF('N PMČRj 2023'!B:B,B21))","v":43},{"$f":"IF(ISERROR(VLOOKUP(B21,'N PMČRj 2023'!B:G,6,0)),\"-\",VLOOKUP(B21,'N PMČRj 2023'!B:G,6,0))","v":"-"}]
[{"$f":"A21+1","v":8},"-",{"$f":"VLOOKUP(B22,Pilot!A:C,3,0)","v":" "},{"$f":"VLOOKUP(B22,Pilot!A:C,2,0)","v":" "},{"$f":"VLOOKUP(B22,Pilot!A:E,5,0)","v":" "},{"$f":"VLOOKUP(B22,Pilot!A:F,6,0)","v":" "},8,null,70,"-",{"$f":"IF(COUNTIF('N PMČR 2023'!B:B,B22)=0,\"-\",COUNTIF('N PMČR 2023'!B:B,B22))","v":6},{"$f":"IF(ISERROR(VLOOKUP(B22,'N PMČR 2023'!B:G,6,0)),\"-\",VLOOKUP(B22,'N PMČR 2023'!B:G,6,0))","v":"-"},{"$f":"IF(COUNTIF('N PMČRj 2023'!B:B,B22)=0,\"-\",COUNTIF('N PMČRj 2023'!B:B,B22))","v":43},{"$f":"IF(ISERROR(VLOOKUP(B22,'N PMČRj 2023'!B:G,6,0)),\"-\",VLOOKUP(B22,'N PMČRj 2023'!B:G,6,0))","v":"-"}]
[{"$f":"A22+1","v":9},"-",{"$f":"VLOOKUP(B23,Pilot!A:C,3,0)","v":" "},{"$f":"VLOOKUP(B23,Pilot!A:C,2,0)","v":" "},{"$f":"VLOOKUP(B23,Pilot!A:E,5,0)","v":" "},{"$f":"VLOOKUP(B23,Pilot!A:F,6,0)","v":" "},9,null,70,"-",{"$f":"IF(COUNTIF('N PMČR 2023'!B:B,B23)=0,\"-\",COUNTIF('N PMČR 2023'!B:B,B23))","v":6},{"$f":"IF(ISERROR(VLOOKUP(B23,'N PMČR 2023'!B:G,6,0)),\"-\",VLOOKUP(B23,'N PMČR 2023'!B:G,6,0))","v":"-"},{"$f":"IF(COUNTIF('N PMČRj 2023'!B:B,B23)=0,\"-\",COUNTIF('N PMČRj 2023'!B:B,B23))","v":43},{"$f":"IF(ISERROR(VLOOKUP(B23,'N PMČRj 2023'!B:G,6,0)),\"-\",VLOOKUP(B23,'N PMČRj 2023'!B:G,6,0))","v":"-"}]
[10,"-",{"$f":"VLOOKUP(B24,Pilot!A:C,3,0)","v":" "},{"$f":"VLOOKUP(B24,Pilot!A:C,2,0)","v":" "},{"$f":"VLOOKUP(B24,Pilot!A:E,5,0)","v":" "},{"$f":"VLOOKUP(B24,Pilot!A:F,6,0)","v":" "},10,null,70,"-",{"$f":"IF(COUNTIF('N PMČR 2023'!B:B,B24)=0,\"-\",COUNTIF('N PMČR 2023'!B:B,B24))","v":6},{"$f":"IF(ISERROR(VLOOKUP(B24,'N PMČR 2023'!B:G,6,0)),\"-\",VLOOKUP(B24,'N PMČR 2023'!B:G,6,0))","v":"-"},{"$f":"IF(COUNTIF('N PMČRj 2023'!B:B,B24)=0,\"-\",COUNTIF('N PMČRj 2023'!B:B,B24))","v":43},{"$f":"IF(ISERROR(VLOOKUP(B24,'N PMČRj 2023'!B:G,6,0)),\"-\",VLOOKUP(B24,'N PMČRj 2023'!B:G,6,0))","v":"-"}]
[11,"-",{"$f":"VLOOKUP(B25,Pilot!A:C,3,0)","v":" "},{"$f":"VLOOKUP(B25,Pilot!A:C,2,0)","v":" "},{"$f":"VLOOKUP(B25,Pilot!A:E,5,0)","v":" "},{"$f":"VLOOKUP(B25,Pilot!A:F,6,0)","v":" "},11,null,70,"-",{"$f":"IF(COUNTIF('N PMČR 2023'!B:B,B25)=0,\"-\",COUNTIF('N PMČR 2023'!B:B,B25))","v":6},{"$f":"IF(ISERROR(VLOOKUP(B25,'N PMČR 2023'!B:G,6,0)),\"-\",VLOOKUP(B25,'N PMČR 2023'!B:G,6,0))","v":"-"},{"$f":"IF(COUNTIF('N PMČRj 2023'!B:B,B25)=0,\"-\",COUNTIF('N PMČRj 2023'!B:B,B25))","v":43},{"$f":"IF(ISERROR(VLOOKUP(B25,'N PMČRj 2023'!B:G,6,0)),\"-\",VLOOKUP(B25,'N PMČRj 2023'!B:G,6,0))","v":"-"}]
[12,"-",{"$f":"VLOOKUP(B26,Pilot!A:C,3,0)","v":" "},{"$f":"VLOOKUP(B26,Pilot!A:C,2,0)","v":" "},{"$f":"VLOOKUP(B26,Pilot!A:E,5,0)","v":" "},{"$f":"VLOOKUP(B26,Pilot!A:F,6,0)","v":" "},12,null,70,"-",{"$f":"IF(COUNTIF('N PMČR 2023'!B:B,B26)=0,\"-\",COUNTIF('N PMČR 2023'!B:B,B26))","v":6},{"$f":"IF(ISERROR(VLOOKUP(B26,'N PMČR 2023'!B:G,6,0)),\"-\",VLOOKUP(B26,'N PMČR 2023'!B:G,6,0))","v":"-"},{"$f":"IF(COUNTIF('N PMČRj 2023'!B:B,B26)=0,\"-\",COUNTIF('N PMČRj 2023'!B:B,B26))","v":43},{"$f":"IF(ISERROR(VLOOKUP(B26,'N PMČRj 2023'!B:G,6,0)),\"-\",VLOOKUP(B26,'N PMČRj 2023'!B:G,6,0))","v":"-"}]
[13,"-",{"$f":"VLOOKUP(B27,Pilot!A:C,3,0)","v":" "},{"$f":"VLOOKUP(B27,Pilot!A:C,2,0)","v":" "},{"$f":"VLOOKUP(B27,Pilot!A:E,5,0)","v":" "},{"$f":"VLOOKUP(B27,Pilot!A:F,6,0)","v":" "},13,null,70,"-",{"$f":"IF(COUNTIF('N PMČR 2023'!B:B,B27)=0,\"-\",COUNTIF('N PMČR 2023'!B:B,B27))","v":6},{"$f":"IF(ISERROR(VLOOKUP(B27,'N PMČR 2023'!B:G,6,0)),\"-\",VLOOKUP(B27,'N PMČR 2023'!B:G,6,0))","v":"-"},{"$f":"IF(COUNTIF('N PMČRj 2023'!B:B,B27)=0,\"-\",COUNTIF('N PMČRj 2023'!B:B,B27))","v":43},{"$f":"IF(ISERROR(VLOOKUP(B27,'N PMČRj 2023'!B:G,6,0)),\"-\",VLOOKUP(B27,'N PMČRj 2023'!B:G,6,0))","v":"-"}]
[14,"-",{"$f":"VLOOKUP(B28,Pilot!A:C,3,0)","v":" "},{"$f":"VLOOKUP(B28,Pilot!A:C,2,0)","v":" "},{"$f":"VLOOKUP(B28,Pilot!A:E,5,0)","v":" "},{"$f":"VLOOKUP(B28,Pilot!A:F,6,0)","v":" "},14,null,70,"-",{"$f":"IF(COUNTIF('N PMČR 2023'!B:B,B28)=0,\"-\",COUNTIF('N PMČR 2023'!B:B,B28))","v":6},{"$f":"IF(ISERROR(VLOOKUP(B28,'N PMČR 2023'!B:G,6,0)),\"-\",VLOOKUP(B28,'N PMČR 2023'!B:G,6,0))","v":"-"},{"$f":"IF(COUNTIF('N PMČRj 2023'!B:B,B28)=0,\"-\",COUNTIF('N PMČRj 2023'!B:B,B28))","v":43},{"$f":"IF(ISERROR(VLOOKUP(B28,'N PMČRj 2023'!B:G,6,0)),\"-\",VLOOKUP(B28,'N PMČRj 2023'!B:G,6,0))","v":"-"}]
[15,"-",{"$f":"VLOOKUP(B29,Pilot!A:C,3,0)","v":" "},{"$f":"VLOOKUP(B29,Pilot!A:C,2,0)","v":" "},{"$f":"VLOOKUP(B29,Pilot!A:E,5,0)","v":" "},{"$f":"VLOOKUP(B29,Pilot!A:F,6,0)","v":" "},15,null,70,"-",{"$f":"IF(COUNTIF('N PMČR 2023'!B:B,B29)=0,\"-\",COUNTIF('N PMČR 2023'!B:B,B29))","v":6},{"$f":"IF(ISERROR(VLOOKUP(B29,'N PMČR 2023'!B:G,6,0)),\"-\",VLOOKUP(B29,'N PMČR 2023'!B:G,6,0))","v":"-"},{"$f":"IF(COUNTIF('N PMČRj 2023'!B:B,B29)=0,\"-\",COUNTIF('N PMČRj 2023'!B:B,B29))","v":43},{"$f":"IF(ISERROR(VLOOKUP(B29,'N PMČRj 2023'!B:G,6,0)),\"-\",VLOOKUP(B29,'N PMČRj 2023'!B:G,6,0))","v":"-"}]
[16,"-",{"$f":"VLOOKUP(B30,Pilot!A:C,3,0)","v":" "},{"$f":"VLOOKUP(B30,Pilot!A:C,2,0)","v":" "},{"$f":"VLOOKUP(B30,Pilot!A:E,5,0)","v":" "},{"$f":"VLOOKUP(B30,Pilot!A:F,6,0)","v":" "},16,null,70,"-",{"$f":"IF(COUNTIF('N PMČR 2023'!B:B,B30)=0,\"-\",COUNTIF('N PMČR 2023'!B:B,B30))","v":6},{"$f":"IF(ISERROR(VLOOKUP(B30,'N PMČR 2023'!B:G,6,0)),\"-\",VLOOKUP(B30,'N PMČR 2023'!B:G,6,0))","v":"-"},{"$f":"IF(COUNTIF('N PMČRj 2023'!B:B,B30)=0,\"-\",COUNTIF('N PMČRj 2023'!B:B,B30))","v":43},{"$f":"IF(ISERROR(VLOOKUP(B30,'N PMČRj 2023'!B:G,6,0)),\"-\",VLOOKUP(B30,'N PMČRj 2023'!B:G,6,0))","v":"-"}]
[17,"-",{"$f":"VLOOKUP(B31,Pilot!A:C,3,0)","v":" "},{"$f":"VLOOKUP(B31,Pilot!A:C,2,0)","v":" "},{"$f":"VLOOKUP(B31,Pilot!A:E,5,0)","v":" "},{"$f":"VLOOKUP(B31,Pilot!A:F,6,0)","v":" "},17,null,70,"-",{"$f":"IF(COUNTIF('N PMČR 2023'!B:B,B31)=0,\"-\",COUNTIF('N PMČR 2023'!B:B,B31))","v":6},{"$f":"IF(ISERROR(VLOOKUP(B31,'N PMČR 2023'!B:G,6,0)),\"-\",VLOOKUP(B31,'N PMČR 2023'!B:G,6,0))","v":"-"},{"$f":"IF(COUNTIF('N PMČRj 2023'!B:B,B31)=0,\"-\",COUNTIF('N PMČRj 2023'!B:B,B31))","v":43},{"$f":"IF(ISERROR(VLOOKUP(B31,'N PMČRj 2023'!B:G,6,0)),\"-\",VLOOKUP(B31,'N PMČRj 2023'!B:G,6,0))","v":"-"}]
[18,"-",{"$f":"VLOOKUP(B32,Pilot!A:C,3,0)","v":" "},{"$f":"VLOOKUP(B32,Pilot!A:C,2,0)","v":" "},{"$f":"VLOOKUP(B32,Pilot!A:E,5,0)","v":" "},{"$f":"VLOOKUP(B32,Pilot!A:F,6,0)","v":" "},18,null,70,"-",{"$f":"IF(COUNTIF('N PMČR 2023'!B:B,B32)=0,\"-\",COUNTIF('N PMČR 2023'!B:B,B32))","v":6},{"$f":"IF(ISERROR(VLOOKUP(B32,'N PMČR 2023'!B:G,6,0)),\"-\",VLOOKUP(B32,'N PMČR 2023'!B:G,6,0))","v":"-"},{"$f":"IF(COUNTIF('N PMČRj 2023'!B:B,B32)=0,\"-\",COUNTIF('N PMČRj 2023'!B:B,B32))","v":43},{"$f":"IF(ISERROR(VLOOKUP(B32,'N PMČRj 2023'!B:G,6,0)),\"-\",VLOOKUP(B32,'N PMČRj 2023'!B:G,6,0))","v":"-"}]
[19,"-",{"$f":"VLOOKUP(B33,Pilot!A:C,3,0)","v":" "},{"$f":"VLOOKUP(B33,Pilot!A:C,2,0)","v":" "},{"$f":"VLOOKUP(B33,Pilot!A:E,5,0)","v":" "},{"$f":"VLOOKUP(B33,Pilot!A:F,6,0)","v":" "},19,null,70,"-",{"$f":"IF(COUNTIF('N PMČR 2023'!B:B,B33)=0,\"-\",COUNTIF('N PMČR 2023'!B:B,B33))","v":6},{"$f":"IF(ISERROR(VLOOKUP(B33,'N PMČR 2023'!B:G,6,0)),\"-\",VLOOKUP(B33,'N PMČR 2023'!B:G,6,0))","v":"-"},{"$f":"IF(COUNTIF('N PMČRj 2023'!B:B,B33)=0,\"-\",COUNTIF('N PMČRj 2023'!B:B,B33))","v":43},{"$f":"IF(ISERROR(VLOOKUP(B33,'N PMČRj 2023'!B:G,6,0)),\"-\",VLOOKUP(B33,'N PMČRj 2023'!B:G,6,0))","v":"-"}]
[20,"-",{"$f":"VLOOKUP(B34,Pilot!A:C,3,0)","v":" "},{"$f":"VLOOKUP(B34,Pilot!A:C,2,0)","v":" "},{"$f":"VLOOKUP(B34,Pilot!A:E,5,0)","v":" "},{"$f":"VLOOKUP(B34,Pilot!A:F,6,0)","v":" "},20,null,70,"-",{"$f":"IF(COUNTIF('N PMČR 2023'!B:B,B34)=0,\"-\",COUNTIF('N PMČR 2023'!B:B,B34))","v":6},{"$f":"IF(ISERROR(VLOOKUP(B34,'N PMČR 2023'!B:G,6,0)),\"-\",VLOOKUP(B34,'N PMČR 2023'!B:G,6,0))","v":"-"},{"$f":"IF(COUNTIF('N PMČRj 2023'!B:B,B34)=0,\"-\",COUNTIF('N PMČRj 2023'!B:B,B34))","v":43},{"$f":"IF(ISERROR(VLOOKUP(B34,'N PMČRj 2023'!B:G,6,0)),\"-\",VLOOKUP(B34,'N PMČRj 2023'!B:G,6,0))","v":"-"}]
[21,"-",{"$f":"VLOOKUP(B35,Pilot!A:C,3,0)","v":" "},{"$f":"VLOOKUP(B35,Pilot!A:C,2,0)","v":" "},{"$f":"VLOOKUP(B35,Pilot!A:E,5,0)","v":" "},{"$f":"VLOOKUP(B35,Pilot!A:F,6,0)","v":" "},21,null,70,"-",{"$f":"IF(COUNTIF('N PMČR 2023'!B:B,B35)=0,\"-\",COUNTIF('N PMČR 2023'!B:B,B35))","v":6},{"$f":"IF(ISERROR(VLOOKUP(B35,'N PMČR 2023'!B:G,6,0)),\"-\",VLOOKUP(B35,'N PMČR 2023'!B:G,6,0))","v":"-"},{"$f":"IF(COUNTIF('N PMČRj 2023'!B:B,B35)=0,\"-\",COUNTIF('N PMČRj 2023'!B:B,B35))","v":43},{"$f":"IF(ISERROR(VLOOKUP(B35,'N PMČRj 2023'!B:G,6,0)),\"-\",VLOOKUP(B35,'N PMČRj 2023'!B:G,6,0))","v":"-"}]
[22,"-",{"$f":"VLOOKUP(B36,Pilot!A:C,3,0)","v":" "},{"$f":"VLOOKUP(B36,Pilot!A:C,2,0)","v":" "},{"$f":"VLOOKUP(B36,Pilot!A:E,5,0)","v":" "},{"$f":"VLOOKUP(B36,Pilot!A:F,6,0)","v":" "},22,null,70,"-",{"$f":"IF(COUNTIF('N PMČR 2023'!B:B,B36)=0,\"-\",COUNTIF('N PMČR 2023'!B:B,B36))","v":6},{"$f":"IF(ISERROR(VLOOKUP(B36,'N PMČR 2023'!B:G,6,0)),\"-\",VLOOKUP(B36,'N PMČR 2023'!B:G,6,0))","v":"-"},{"$f":"IF(COUNTIF('N PMČRj 2023'!B:B,B36)=0,\"-\",COUNTIF('N PMČRj 2023'!B:B,B36))","v":43},{"$f":"IF(ISERROR(VLOOKUP(B36,'N PMČRj 2023'!B:G,6,0)),\"-\",VLOOKUP(B36,'N PMČRj 2023'!B:G,6,0))","v":"-"}]
[23,"-",{"$f":"VLOOKUP(B37,Pilot!A:C,3,0)","v":" "},{"$f":"VLOOKUP(B37,Pilot!A:C,2,0)","v":" "},{"$f":"VLOOKUP(B37,Pilot!A:E,5,0)","v":" "},{"$f":"VLOOKUP(B37,Pilot!A:F,6,0)","v":" "},23,null,70,"-",{"$f":"IF(COUNTIF('N PMČR 2023'!B:B,B37)=0,\"-\",COUNTIF('N PMČR 2023'!B:B,B37))","v":6},{"$f":"IF(ISERROR(VLOOKUP(B37,'N PMČR 2023'!B:G,6,0)),\"-\",VLOOKUP(B37,'N PMČR 2023'!B:G,6,0))","v":"-"},{"$f":"IF(COUNTIF('N PMČRj 2023'!B:B,B37)=0,\"-\",COUNTIF('N PMČRj 2023'!B:B,B37))","v":43},{"$f":"IF(ISERROR(VLOOKUP(B37,'N PMČRj 2023'!B:G,6,0)),\"-\",VLOOKUP(B37,'N PMČRj 2023'!B:G,6,0))","v":"-"}]
[24,"-",{"$f":"VLOOKUP(B38,Pilot!A:C,3,0)","v":" "},{"$f":"VLOOKUP(B38,Pilot!A:C,2,0)","v":" "},{"$f":"VLOOKUP(B38,Pilot!A:E,5,0)","v":" "},{"$f":"VLOOKUP(B38,Pilot!A:F,6,0)","v":" "},24,null,70,"-",{"$f":"IF(COUNTIF('N PMČR 2023'!B:B,B38)=0,\"-\",COUNTIF('N PMČR 2023'!B:B,B38))","v":6},{"$f":"IF(ISERROR(VLOOKUP(B38,'N PMČR 2023'!B:G,6,0)),\"-\",VLOOKUP(B38,'N PMČR 2023'!B:G,6,0))","v":"-"},{"$f":"IF(COUNTIF('N PMČRj 2023'!B:B,B38)=0,\"-\",COUNTIF('N PMČRj 2023'!B:B,B38))","v":43},{"$f":"IF(ISERROR(VLOOKUP(B38,'N PMČRj 2023'!B:G,6,0)),\"-\",VLOOKUP(B38,'N PMČRj 2023'!B:G,6,0))","v":"-"}]
[25,"-",{"$f":"VLOOKUP(B39,Pilot!A:C,3,0)","v":" "},{"$f":"VLOOKUP(B39,Pilot!A:C,2,0)","v":" "},{"$f":"VLOOKUP(B39,Pilot!A:E,5,0)","v":" "},{"$f":"VLOOKUP(B39,Pilot!A:F,6,0)","v":" "},25,null,70,"-",{"$f":"IF(COUNTIF('N PMČR 2023'!B:B,B39)=0,\"-\",COUNTIF('N PMČR 2023'!B:B,B39))","v":6},{"$f":"IF(ISERROR(VLOOKUP(B39,'N PMČR 2023'!B:G,6,0)),\"-\",VLOOKUP(B39,'N PMČR 2023'!B:G,6,0))","v":"-"},{"$f":"IF(COUNTIF('N PMČRj 2023'!B:B,B39)=0,\"-\",COUNTIF('N PMČRj 2023'!B:B,B39))","v":43},{"$f":"IF(ISERROR(VLOOKUP(B39,'N PMČRj 2023'!B:G,6,0)),\"-\",VLOOKUP(B39,'N PMČRj 2023'!B:G,6,0))","v":"-"}]
[26,"-",{"$f":"VLOOKUP(B40,Pilot!A:C,3,0)","v":" "},{"$f":"VLOOKUP(B40,Pilot!A:C,2,0)","v":" "},{"$f":"VLOOKUP(B40,Pilot!A:E,5,0)","v":" "},{"$f":"VLOOKUP(B40,Pilot!A:F,6,0)","v":" "},{"$f":"A40","v":26},null,70,"-",{"$f":"IF(COUNTIF('N PMČR 2023'!B:B,B40)=0,\"-\",COUNTIF('N PMČR 2023'!B:B,B40))","v":6},{"$f":"IF(ISERROR(VLOOKUP(B40,'N PMČR 2023'!B:G,6,0)),\"-\",VLOOKUP(B40,'N PMČR 2023'!B:G,6,0))","v":"-"},{"$f":"IF(COUNTIF('N PMČRj 2023'!B:B,B40)=0,\"-\",COUNTIF('N PMČRj 2023'!B:B,B40))","v":43},{"$f":"IF(ISERROR(VLOOKUP(B40,'N PMČRj 2023'!B:G,6,0)),\"-\",VLOOKUP(B40,'N PMČRj 2023'!B:G,6,0))","v":"-"}]
[27,"-",{"$f":"VLOOKUP(B41,Pilot!A:C,3,0)","v":" "},{"$f":"VLOOKUP(B41,Pilot!A:C,2,0)","v":" "},{"$f":"VLOOKUP(B41,Pilot!A:E,5,0)","v":" "},{"$f":"VLOOKUP(B41,Pilot!A:F,6,0)","v":" "},27,null,70,"-",{"$f":"IF(COUNTIF('N PMČR 2023'!B:B,B41)=0,\"-\",COUNTIF('N PMČR 2023'!B:B,B41))","v":6},{"$f":"IF(ISERROR(VLOOKUP(B41,'N PMČR 2023'!B:G,6,0)),\"-\",VLOOKUP(B41,'N PMČR 2023'!B:G,6,0))","v":"-"},{"$f":"IF(COUNTIF('N PMČRj 2023'!B:B,B41)=0,\"-\",COUNTIF('N PMČRj 2023'!B:B,B41))","v":43},{"$f":"IF(ISERROR(VLOOKUP(B41,'N PMČRj 2023'!B:G,6,0)),\"-\",VLOOKUP(B41,'N PMČRj 2023'!B:G,6,0))","v":"-"}]
[28,"-",{"$f":"VLOOKUP(B42,Pilot!A:C,3,0)","v":" "},{"$f":"VLOOKUP(B42,Pilot!A:C,2,0)","v":" "},{"$f":"VLOOKUP(B42,Pilot!A:E,5,0)","v":" "},{"$f":"VLOOKUP(B42,Pilot!A:F,6,0)","v":" "},28,null,70,"-",{"$f":"IF(COUNTIF('N PMČR 2023'!B:B,B42)=0,\"-\",COUNTIF('N PMČR 2023'!B:B,B42))","v":6},{"$f":"IF(ISERROR(VLOOKUP(B42,'N PMČR 2023'!B:G,6,0)),\"-\",VLOOKUP(B42,'N PMČR 2023'!B:G,6,0))","v":"-"},{"$f":"IF(COUNTIF('N PMČRj 2023'!B:B,B42)=0,\"-\",COUNTIF('N PMČRj 2023'!B:B,B42))","v":43},{"$f":"IF(ISERROR(VLOOKUP(B42,'N PMČRj 2023'!B:G,6,0)),\"-\",VLOOKUP(B42,'N PMČRj 2023'!B:G,6,0))","v":"-"}]
[29,"-",{"$f":"VLOOKUP(B43,Pilot!A:C,3,0)","v":" "},{"$f":"VLOOKUP(B43,Pilot!A:C,2,0)","v":" "},{"$f":"VLOOKUP(B43,Pilot!A:E,5,0)","v":" "},{"$f":"VLOOKUP(B43,Pilot!A:F,6,0)","v":" "},29,null,70,"-",{"$f":"IF(COUNTIF('N PMČR 2023'!B:B,B43)=0,\"-\",COUNTIF('N PMČR 2023'!B:B,B43))","v":6},{"$f":"IF(ISERROR(VLOOKUP(B43,'N PMČR 2023'!B:G,6,0)),\"-\",VLOOKUP(B43,'N PMČR 2023'!B:G,6,0))","v":"-"},{"$f":"IF(COUNTIF('N PMČRj 2023'!B:B,B43)=0,\"-\",COUNTIF('N PMČRj 2023'!B:B,B43))","v":43},{"$f":"IF(ISERROR(VLOOKUP(B43,'N PMČRj 2023'!B:G,6,0)),\"-\",VLOOKUP(B43,'N PMČRj 2023'!B:G,6,0))","v":"-"}]
[30,"-",{"$f":"VLOOKUP(B44,Pilot!A:C,3,0)","v":" "},{"$f":"VLOOKUP(B44,Pilot!A:C,2,0)","v":" "},{"$f":"VLOOKUP(B44,Pilot!A:E,5,0)","v":" "},{"$f":"VLOOKUP(B44,Pilot!A:F,6,0)","v":" "},30,null,70,"-",{"$f":"IF(COUNTIF('N PMČR 2023'!B:B,B44)=0,\"-\",COUNTIF('N PMČR 2023'!B:B,B44))","v":6},{"$f":"IF(ISERROR(VLOOKUP(B44,'N PMČR 2023'!B:G,6,0)),\"-\",VLOOKUP(B44,'N PMČR 2023'!B:G,6,0))","v":"-"},{"$f":"IF(COUNTIF('N PMČRj 2023'!B:B,B44)=0,\"-\",COUNTIF('N PMČRj 2023'!B:B,B44))","v":43},{"$f":"IF(ISERROR(VLOOKUP(B44,'N PMČRj 2023'!B:G,6,0)),\"-\",VLOOKUP(B44,'N PMČRj 2023'!B:G,6,0))","v":"-"}]
[31,"-",{"$f":"VLOOKUP(B45,Pilot!A:C,3,0)","v":" "},{"$f":"VLOOKUP(B45,Pilot!A:C,2,0)","v":" "},{"$f":"VLOOKUP(B45,Pilot!A:E,5,0)","v":" "},{"$f":"VLOOKUP(B45,Pilot!A:F,6,0)","v":" "},31,null,70,"-",{"$f":"IF(COUNTIF('N PMČR 2023'!B:B,B45)=0,\"-\",COUNTIF('N PMČR 2023'!B:B,B45))","v":6},{"$f":"IF(ISERROR(VLOOKUP(B45,'N PMČR 2023'!B:G,6,0)),\"-\",VLOOKUP(B45,'N PMČR 2023'!B:G,6,0))","v":"-"},{"$f":"IF(COUNTIF('N PMČRj 2023'!B:B,B45)=0,\"-\",COUNTIF('N PMČRj 2023'!B:B,B45))","v":43},{"$f":"IF(ISERROR(VLOOKUP(B45,'N PMČRj 2023'!B:G,6,0)),\"-\",VLOOKUP(B45,'N PMČRj 2023'!B:G,6,0))","v":"-"}]
[32,"-",{"$f":"VLOOKUP(B46,Pilot!A:C,3,0)","v":" "},{"$f":"VLOOKUP(B46,Pilot!A:C,2,0)","v":" "},{"$f":"VLOOKUP(B46,Pilot!A:E,5,0)","v":" "},{"$f":"VLOOKUP(B46,Pilot!A:F,6,0)","v":" "},{"$f":"A46","v":32},null,70,"-",{"$f":"IF(COUNTIF('N PMČR 2023'!B:B,B46)=0,\"-\",COUNTIF('N PMČR 2023'!B:B,B46))","v":6},{"$f":"IF(ISERROR(VLOOKUP(B46,'N PMČR 2023'!B:G,6,0)),\"-\",VLOOKUP(B46,'N PMČR 2023'!B:G,6,0))","v":"-"},{"$f":"IF(COUNTIF('N PMČRj 2023'!B:B,B46)=0,\"-\",COUNTIF('N PMČRj 2023'!B:B,B46))","v":43},{"$f":"IF(ISERROR(VLOOKUP(B46,'N PMČRj 2023'!B:G,6,0)),\"-\",VLOOKUP(B46,'N PMČRj 2023'!B:G,6,0))","v":"-"}]
[33,"-",{"$f":"VLOOKUP(B47,Pilot!A:C,3,0)","v":" "},{"$f":"VLOOKUP(B47,Pilot!A:C,2,0)","v":" "},{"$f":"VLOOKUP(B47,Pilot!A:E,5,0)","v":" "},{"$f":"VLOOKUP(B47,Pilot!A:F,6,0)","v":" "},33,null,70,"-",{"$f":"IF(COUNTIF('N PMČR 2023'!B:B,B47)=0,\"-\",COUNTIF('N PMČR 2023'!B:B,B47))","v":6},{"$f":"IF(ISERROR(VLOOKUP(B47,'N PMČR 2023'!B:G,6,0)),\"-\",VLOOKUP(B47,'N PMČR 2023'!B:G,6,0))","v":"-"},{"$f":"IF(COUNTIF('N PMČRj 2023'!B:B,B47)=0,\"-\",COUNTIF('N PMČRj 2023'!B:B,B47))","v":43},{"$f":"IF(ISERROR(VLOOKUP(B47,'N PMČRj 2023'!B:G,6,0)),\"-\",VLOOKUP(B47,'N PMČRj 2023'!B:G,6,0))","v":"-"}]
[34,"-",{"$f":"VLOOKUP(B48,Pilot!A:C,3,0)","v":" "},{"$f":"VLOOKUP(B48,Pilot!A:C,2,0)","v":" "},{"$f":"VLOOKUP(B48,Pilot!A:E,5,0)","v":" "},{"$f":"VLOOKUP(B48,Pilot!A:F,6,0)","v":" "},34,null,70,"-",{"$f":"IF(COUNTIF('N PMČR 2023'!B:B,B48)=0,\"-\",COUNTIF('N PMČR 2023'!B:B,B48))","v":6},{"$f":"IF(ISERROR(VLOOKUP(B48,'N PMČR 2023'!B:G,6,0)),\"-\",VLOOKUP(B48,'N PMČR 2023'!B:G,6,0))","v":"-"},{"$f":"IF(COUNTIF('N PMČRj 2023'!B:B,B48)=0,\"-\",COUNTIF('N PMČRj 2023'!B:B,B48))","v":43},{"$f":"IF(ISERROR(VLOOKUP(B48,'N PMČRj 2023'!B:G,6,0)),\"-\",VLOOKUP(B48,'N PMČRj 2023'!B:G,6,0))","v":"-"}]
[35,"-",{"$f":"VLOOKUP(B49,Pilot!A:C,3,0)","v":" "},{"$f":"VLOOKUP(B49,Pilot!A:C,2,0)","v":" "},{"$f":"VLOOKUP(B49,Pilot!A:E,5,0)","v":" "},{"$f":"VLOOKUP(B49,Pilot!A:F,6,0)","v":" "},35,null,70,"-",{"$f":"IF(COUNTIF('N PMČR 2023'!B:B,B49)=0,\"-\",COUNTIF('N PMČR 2023'!B:B,B49))","v":6},{"$f":"IF(ISERROR(VLOOKUP(B49,'N PMČR 2023'!B:G,6,0)),\"-\",VLOOKUP(B49,'N PMČR 2023'!B:G,6,0))","v":"-"},{"$f":"IF(COUNTIF('N PMČRj 2023'!B:B,B49)=0,\"-\",COUNTIF('N PMČRj 2023'!B:B,B49))","v":43},{"$f":"IF(ISERROR(VLOOKUP(B49,'N PMČRj 2023'!B:G,6,0)),\"-\",VLOOKUP(B49,'N PMČRj 2023'!B:G,6,0))","v":"-"}]
[36,"-",{"$f":"VLOOKUP(B50,Pilot!A:C,3,0)","v":" "},{"$f":"VLOOKUP(B50,Pilot!A:C,2,0)","v":" "},{"$f":"VLOOKUP(B50,Pilot!A:E,5,0)","v":" "},{"$f":"VLOOKUP(B50,Pilot!A:F,6,0)","v":" "},36,null,70,"-",{"$f":"IF(COUNTIF('N PMČR 2023'!B:B,B50)=0,\"-\",COUNTIF('N PMČR 2023'!B:B,B50))","v":6},{"$f":"IF(ISERROR(VLOOKUP(B50,'N PMČR 2023'!B:G,6,0)),\"-\",VLOOKUP(B50,'N PMČR 2023'!B:G,6,0))","v":"-"},{"$f":"IF(COUNTIF('N PMČRj 2023'!B:B,B50)=0,\"-\",COUNTIF('N PMČRj 2023'!B:B,B50))","v":43},{"$f":"IF(ISERROR(VLOOKUP(B50,'N PMČRj 2023'!B:G,6,0)),\"-\",VLOOKUP(B50,'N PMČRj 2023'!B:G,6,0))","v":"-"}]
[37,"-",{"$f":"VLOOKUP(B51,Pilot!A:C,3,0)","v":" "},{"$f":"VLOOKUP(B51,Pilot!A:C,2,0)","v":" "},{"$f":"VLOOKUP(B51,Pilot!A:E,5,0)","v":" "},{"$f":"VLOOKUP(B51,Pilot!A:F,6,0)","v":" "},{"$f":"A51","v":37},null,70,"-",{"$f":"IF(COUNTIF('N PMČR 2023'!B:B,B51)=0,\"-\",COUNTIF('N PMČR 2023'!B:B,B51))","v":6},{"$f":"IF(ISERROR(VLOOKUP(B51,'N PMČR 2023'!B:G,6,0)),\"-\",VLOOKUP(B51,'N PMČR 2023'!B:G,6,0))","v":"-"},{"$f":"IF(COUNTIF('N PMČRj 2023'!B:B,B51)=0,\"-\",COUNTIF('N PMČRj 2023'!B:B,B51))","v":43},{"$f":"IF(ISERROR(VLOOKUP(B51,'N PMČRj 2023'!B:G,6,0)),\"-\",VLOOKUP(B51,'N PMČRj 2023'!B:G,6,0))","v":"-"}]
[38,"-",{"$f":"VLOOKUP(B52,Pilot!A:C,3,0)","v":" "},{"$f":"VLOOKUP(B52,Pilot!A:C,2,0)","v":" "},{"$f":"VLOOKUP(B52,Pilot!A:E,5,0)","v":" "},{"$f":"VLOOKUP(B52,Pilot!A:F,6,0)","v":" "},38,null,70,"-",{"$f":"IF(COUNTIF('N PMČR 2023'!B:B,B52)=0,\"-\",COUNTIF('N PMČR 2023'!B:B,B52))","v":6},{"$f":"IF(ISERROR(VLOOKUP(B52,'N PMČR 2023'!B:G,6,0)),\"-\",VLOOKUP(B52,'N PMČR 2023'!B:G,6,0))","v":"-"},{"$f":"IF(COUNTIF('N PMČRj 2023'!B:B,B52)=0,\"-\",COUNTIF('N PMČRj 2023'!B:B,B52))","v":43},{"$f":"IF(ISERROR(VLOOKUP(B52,'N PMČRj 2023'!B:G,6,0)),\"-\",VLOOKUP(B52,'N PMČRj 2023'!B:G,6,0))","v":"-"}]
[39,"-",{"$f":"VLOOKUP(B53,Pilot!A:C,3,0)","v":" "},{"$f":"VLOOKUP(B53,Pilot!A:C,2,0)","v":" "},{"$f":"VLOOKUP(B53,Pilot!A:E,5,0)","v":" "},{"$f":"VLOOKUP(B53,Pilot!A:F,6,0)","v":" "},39,null,{"$f":"COUNTIF(B:B,B53)","v":70},{"$f":"IF(ISERROR(VLOOKUP(B53,B:G,6,0)),\"-\",VLOOKUP(B53,B:G,6,0))","v":"-"},{"$f":"IF(COUNTIF('N PMČR 2023'!B:B,B53)=0,\"-\",COUNTIF('N PMČR 2023'!B:B,B53))","v":6},{"$f":"IF(ISERROR(VLOOKUP(B53,'N PMČR 2023'!B:G,6,0)),\"-\",VLOOKUP(B53,'N PMČR 2023'!B:G,6,0))","v":"-"},{"$f":"IF(COUNTIF('N PMČRj 2023'!B:B,B53)=0,\"-\",COUNTIF('N PMČRj 2023'!B:B,B53))","v":43},{"$f":"IF(ISERROR(VLOOKUP(B53,'N PMČRj 2023'!B:G,6,0)),\"-\",VLOOKUP(B53,'N PMČRj 2023'!B:G,6,0))","v":"-"}]
[40,"-",{"$f":"VLOOKUP(B54,Pilot!A:C,3,0)","v":" "},{"$f":"VLOOKUP(B54,Pilot!A:C,2,0)","v":" "},{"$f":"VLOOKUP(B54,Pilot!A:E,5,0)","v":" "},{"$f":"VLOOKUP(B54,Pilot!A:F,6,0)","v":" "},40,null,70,"-",{"$f":"IF(COUNTIF('N PMČR 2023'!B:B,B54)=0,\"-\",COUNTIF('N PMČR 2023'!B:B,B54))","v":6},{"$f":"IF(ISERROR(VLOOKUP(B54,'N PMČR 2023'!B:G,6,0)),\"-\",VLOOKUP(B54,'N PMČR 2023'!B:G,6,0))","v":"-"},{"$f":"IF(COUNTIF('N PMČRj 2023'!B:B,B54)=0,\"-\",COUNTIF('N PMČRj 2023'!B:B,B54))","v":43},{"$f":"IF(ISERROR(VLOOKUP(B54,'N PMČRj 2023'!B:G,6,0)),\"-\",VLOOKUP(B54,'N PMČRj 2023'!B:G,6,0))","v":"-"}]
[41,"-",{"$f":"VLOOKUP(B55,Pilot!A:C,3,0)","v":" "},{"$f":"VLOOKUP(B55,Pilot!A:C,2,0)","v":" "},{"$f":"VLOOKUP(B55,Pilot!A:E,5,0)","v":" "},{"$f":"VLOOKUP(B55,Pilot!A:F,6,0)","v":" "},41,null,70,"-",{"$f":"IF(COUNTIF('N PMČR 2023'!B:B,B55)=0,\"-\",COUNTIF('N PMČR 2023'!B:B,B55))","v":6},{"$f":"IF(ISERROR(VLOOKUP(B55,'N PMČR 2023'!B:G,6,0)),\"-\",VLOOKUP(B55,'N PMČR 2023'!B:G,6,0))","v":"-"},{"$f":"IF(COUNTIF('N PMČRj 2023'!B:B,B55)=0,\"-\",COUNTIF('N PMČRj 2023'!B:B,B55))","v":43},{"$f":"IF(ISERROR(VLOOKUP(B55,'N PMČRj 2023'!B:G,6,0)),\"-\",VLOOKUP(B55,'N PMČRj 2023'!B:G,6,0))","v":"-"}]
[42,"-",{"$f":"VLOOKUP(B56,Pilot!A:C,3,0)","v":" "},{"$f":"VLOOKUP(B56,Pilot!A:C,2,0)","v":" "},{"$f":"VLOOKUP(B56,Pilot!A:E,5,0)","v":" "},{"$f":"VLOOKUP(B56,Pilot!A:F,6,0)","v":" "},42,null,70,"-",{"$f":"IF(COUNTIF('N PMČR 2023'!B:B,B56)=0,\"-\",COUNTIF('N PMČR 2023'!B:B,B56))","v":6},{"$f":"IF(ISERROR(VLOOKUP(B56,'N PMČR 2023'!B:G,6,0)),\"-\",VLOOKUP(B56,'N PMČR 2023'!B:G,6,0))","v":"-"},{"$f":"IF(COUNTIF('N PMČRj 2023'!B:B,B56)=0,\"-\",COUNTIF('N PMČRj 2023'!B:B,B56))","v":43},{"$f":"IF(ISERROR(VLOOKUP(B56,'N PMČRj 2023'!B:G,6,0)),\"-\",VLOOKUP(B56,'N PMČRj 2023'!B:G,6,0))","v":"-"}]
[43,"-",{"$f":"VLOOKUP(B57,Pilot!A:C,3,0)","v":" "},{"$f":"VLOOKUP(B57,Pilot!A:C,2,0)","v":" "},{"$f":"VLOOKUP(B57,Pilot!A:E,5,0)","v":" "},{"$f":"VLOOKUP(B57,Pilot!A:F,6,0)","v":" "},43,null,70,"-",{"$f":"IF(COUNTIF('N PMČR 2023'!B:B,B57)=0,\"-\",COUNTIF('N PMČR 2023'!B:B,B57))","v":6},{"$f":"IF(ISERROR(VLOOKUP(B57,'N PMČR 2023'!B:G,6,0)),\"-\",VLOOKUP(B57,'N PMČR 2023'!B:G,6,0))","v":"-"},{"$f":"IF(COUNTIF('N PMČRj 2023'!B:B,B57)=0,\"-\",COUNTIF('N PMČRj 2023'!B:B,B57))","v":43},{"$f":"IF(ISERROR(VLOOKUP(B57,'N PMČRj 2023'!B:G,6,0)),\"-\",VLOOKUP(B57,'N PMČRj 2023'!B:G,6,0))","v":"-"}]
[44,"-",{"$f":"VLOOKUP(B58,Pilot!A:C,3,0)","v":" "},{"$f":"VLOOKUP(B58,Pilot!A:C,2,0)","v":" "},{"$f":"VLOOKUP(B58,Pilot!A:E,5,0)","v":" "},{"$f":"VLOOKUP(B58,Pilot!A:F,6,0)","v":" "},44,null,70,"-",{"$f":"IF(COUNTIF('N PMČR 2023'!B:B,B58)=0,\"-\",COUNTIF('N PMČR 2023'!B:B,B58))","v":6},{"$f":"IF(ISERROR(VLOOKUP(B58,'N PMČR 2023'!B:G,6,0)),\"-\",VLOOKUP(B58,'N PMČR 2023'!B:G,6,0))","v":"-"},{"$f":"IF(COUNTIF('N PMČRj 2023'!B:B,B58)=0,\"-\",COUNTIF('N PMČRj 2023'!B:B,B58))","v":43},{"$f":"IF(ISERROR(VLOOKUP(B58,'N PMČRj 2023'!B:G,6,0)),\"-\",VLOOKUP(B58,'N PMČRj 2023'!B:G,6,0))","v":"-"}]
[45,"-",{"$f":"VLOOKUP(B59,Pilot!A:C,3,0)","v":" "},{"$f":"VLOOKUP(B59,Pilot!A:C,2,0)","v":" "},{"$f":"VLOOKUP(B59,Pilot!A:E,5,0)","v":" "},{"$f":"VLOOKUP(B59,Pilot!A:F,6,0)","v":" "},45,null,70,"-",{"$f":"IF(COUNTIF('N PMČR 2023'!B:B,B59)=0,\"-\",COUNTIF('N PMČR 2023'!B:B,B59))","v":6},{"$f":"IF(ISERROR(VLOOKUP(B59,'N PMČR 2023'!B:G,6,0)),\"-\",VLOOKUP(B59,'N PMČR 2023'!B:G,6,0))","v":"-"},{"$f":"IF(COUNTIF('N PMČRj 2023'!B:B,B59)=0,\"-\",COUNTIF('N PMČRj 2023'!B:B,B59))","v":43},{"$f":"IF(ISERROR(VLOOKUP(B59,'N PMČRj 2023'!B:G,6,0)),\"-\",VLOOKUP(B59,'N PMČRj 2023'!B:G,6,0))","v":"-"}]
[46,"-",{"$f":"VLOOKUP(B60,Pilot!A:C,3,0)","v":" "},{"$f":"VLOOKUP(B60,Pilot!A:C,2,0)","v":" "},{"$f":"VLOOKUP(B60,Pilot!A:E,5,0)","v":" "},{"$f":"VLOOKUP(B60,Pilot!A:F,6,0)","v":" "},46,null,70,"-",{"$f":"IF(COUNTIF('N PMČR 2023'!B:B,B60)=0,\"-\",COUNTIF('N PMČR 2023'!B:B,B60))","v":6},{"$f":"IF(ISERROR(VLOOKUP(B60,'N PMČR 2023'!B:G,6,0)),\"-\",VLOOKUP(B60,'N PMČR 2023'!B:G,6,0))","v":"-"},{"$f":"IF(COUNTIF('N PMČRj 2023'!B:B,B60)=0,\"-\",COUNTIF('N PMČRj 2023'!B:B,B60))","v":43},{"$f":"IF(ISERROR(VLOOKUP(B60,'N PMČRj 2023'!B:G,6,0)),\"-\",VLOOKUP(B60,'N PMČRj 2023'!B:G,6,0))","v":"-"}]
[47,"-",{"$f":"VLOOKUP(B61,Pilot!A:C,3,0)","v":" "},{"$f":"VLOOKUP(B61,Pilot!A:C,2,0)","v":" "},{"$f":"VLOOKUP(B61,Pilot!A:E,5,0)","v":" "},{"$f":"VLOOKUP(B61,Pilot!A:F,6,0)","v":" "},47,null,70,"-",{"$f":"IF(COUNTIF('N PMČR 2023'!B:B,B61)=0,\"-\",COUNTIF('N PMČR 2023'!B:B,B61))","v":6},{"$f":"IF(ISERROR(VLOOKUP(B61,'N PMČR 2023'!B:G,6,0)),\"-\",VLOOKUP(B61,'N PMČR 2023'!B:G,6,0))","v":"-"},{"$f":"IF(COUNTIF('N PMČRj 2023'!B:B,B61)=0,\"-\",COUNTIF('N PMČRj 2023'!B:B,B61))","v":43},{"$f":"IF(ISERROR(VLOOKUP(B61,'N PMČRj 2023'!B:G,6,0)),\"-\",VLOOKUP(B61,'N PMČRj 2023'!B:G,6,0))","v":"-"}]
[48,"-",{"$f":"VLOOKUP(B62,Pilot!A:C,3,0)","v":" "},{"$f":"VLOOKUP(B62,Pilot!A:C,2,0)","v":" "},{"$f":"VLOOKUP(B62,Pilot!A:E,5,0)","v":" "},{"$f":"VLOOKUP(B62,Pilot!A:F,6,0)","v":" "},48,null,70,"-",{"$f":"IF(COUNTIF('N PMČR 2023'!B:B,B62)=0,\"-\",COUNTIF('N PMČR 2023'!B:B,B62))","v":6},{"$f":"IF(ISERROR(VLOOKUP(B62,'N PMČR 2023'!B:G,6,0)),\"-\",VLOOKUP(B62,'N PMČR 2023'!B:G,6,0))","v":"-"},{"$f":"IF(COUNTIF('N PMČRj 2023'!B:B,B62)=0,\"-\",COUNTIF('N PMČRj 2023'!B:B,B62))","v":43},{"$f":"IF(ISERROR(VLOOKUP(B62,'N PMČRj 2023'!B:G,6,0)),\"-\",VLOOKUP(B62,'N PMČRj 2023'!B:G,6,0))","v":"-"}]
[49,"-",{"$f":"VLOOKUP(B63,Pilot!A:C,3,0)","v":" "},{"$f":"VLOOKUP(B63,Pilot!A:C,2,0)","v":" "},{"$f":"VLOOKUP(B63,Pilot!A:E,5,0)","v":" "},{"$f":"VLOOKUP(B63,Pilot!A:F,6,0)","v":" "},49,null,70,"-",{"$f":"IF(COUNTIF('N PMČR 2023'!B:B,B63)=0,\"-\",COUNTIF('N PMČR 2023'!B:B,B63))","v":6},{"$f":"IF(ISERROR(VLOOKUP(B63,'N PMČR 2023'!B:G,6,0)),\"-\",VLOOKUP(B63,'N PMČR 2023'!B:G,6,0))","v":"-"},{"$f":"IF(COUNTIF('N PMČRj 2023'!B:B,B63)=0,\"-\",COUNTIF('N PMČRj 2023'!B:B,B63))","v":43},{"$f":"IF(ISERROR(VLOOKUP(B63,'N PMČRj 2023'!B:G,6,0)),\"-\",VLOOKUP(B63,'N PMČRj 2023'!B:G,6,0))","v":"-"}]
[50,"-",{"$f":"VLOOKUP(B64,Pilot!A:C,3,0)","v":" "},{"$f":"VLOOKUP(B64,Pilot!A:C,2,0)","v":" "},{"$f":"VLOOKUP(B64,Pilot!A:E,5,0)","v":" "},{"$f":"VLOOKUP(B64,Pilot!A:F,6,0)","v":" "},50,null,70,"-",{"$f":"IF(COUNTIF('N PMČR 2023'!B:B,B64)=0,\"-\",COUNTIF('N PMČR 2023'!B:B,B64))","v":6},{"$f":"IF(ISERROR(VLOOKUP(B64,'N PMČR 2023'!B:G,6,0)),\"-\",VLOOKUP(B64,'N PMČR 2023'!B:G,6,0))","v":"-"},{"$f":"IF(COUNTIF('N PMČRj 2023'!B:B,B64)=0,\"-\",COUNTIF('N PMČRj 2023'!B:B,B64))","v":43},{"$f":"IF(ISERROR(VLOOKUP(B64,'N PMČRj 2023'!B:G,6,0)),\"-\",VLOOKUP(B64,'N PMČRj 2023'!B:G,6,0))","v":"-"}]
[51,"-",{"$f":"VLOOKUP(B65,Pilot!A:C,3,0)","v":" "},{"$f":"VLOOKUP(B65,Pilot!A:C,2,0)","v":" "},{"$f":"VLOOKUP(B65,Pilot!A:E,5,0)","v":" "},{"$f":"VLOOKUP(B65,Pilot!A:F,6,0)","v":" "},{"$f":"A65","v":51},null,70,"-",{"$f":"IF(COUNTIF('N PMČR 2023'!B:B,B65)=0,\"-\",COUNTIF('N PMČR 2023'!B:B,B65))","v":6},{"$f":"IF(ISERROR(VLOOKUP(B65,'N PMČR 2023'!B:G,6,0)),\"-\",VLOOKUP(B65,'N PMČR 2023'!B:G,6,0))","v":"-"},{"$f":"IF(COUNTIF('N PMČRj 2023'!B:B,B65)=0,\"-\",COUNTIF('N PMČRj 2023'!B:B,B65))","v":43},{"$f":"IF(ISERROR(VLOOKUP(B65,'N PMČRj 2023'!B:G,6,0)),\"-\",VLOOKUP(B65,'N PMČRj 2023'!B:G,6,0))","v":"-"}]
[52,"-",{"$f":"VLOOKUP(B66,Pilot!A:C,3,0)","v":" "},{"$f":"VLOOKUP(B66,Pilot!A:C,2,0)","v":" "},{"$f":"VLOOKUP(B66,Pilot!A:E,5,0)","v":" "},{"$f":"VLOOKUP(B66,Pilot!A:F,6,0)","v":" "},52,null,70,"-",{"$f":"IF(COUNTIF('N PMČR 2023'!B:B,B66)=0,\"-\",COUNTIF('N PMČR 2023'!B:B,B66))","v":6},{"$f":"IF(ISERROR(VLOOKUP(B66,'N PMČR 2023'!B:G,6,0)),\"-\",VLOOKUP(B66,'N PMČR 2023'!B:G,6,0))","v":"-"},{"$f":"IF(COUNTIF('N PMČRj 2023'!B:B,B66)=0,\"-\",COUNTIF('N PMČRj 2023'!B:B,B66))","v":43},{"$f":"IF(ISERROR(VLOOKUP(B66,'N PMČRj 2023'!B:G,6,0)),\"-\",VLOOKUP(B66,'N PMČRj 2023'!B:G,6,0))","v":"-"}]
[53,"-",{"$f":"VLOOKUP(B67,Pilot!A:C,3,0)","v":" "},{"$f":"VLOOKUP(B67,Pilot!A:C,2,0)","v":" "},{"$f":"VLOOKUP(B67,Pilot!A:E,5,0)","v":" "},{"$f":"VLOOKUP(B67,Pilot!A:F,6,0)","v":" "},53,null,70,"-",{"$f":"IF(COUNTIF('N PMČR 2023'!B:B,B67)=0,\"-\",COUNTIF('N PMČR 2023'!B:B,B67))","v":6},{"$f":"IF(ISERROR(VLOOKUP(B67,'N PMČR 2023'!B:G,6,0)),\"-\",VLOOKUP(B67,'N PMČR 2023'!B:G,6,0))","v":"-"},{"$f":"IF(COUNTIF('N PMČRj 2023'!B:B,B67)=0,\"-\",COUNTIF('N PMČRj 2023'!B:B,B67))","v":43},{"$f":"IF(ISERROR(VLOOKUP(B67,'N PMČRj 2023'!B:G,6,0)),\"-\",VLOOKUP(B67,'N PMČRj 2023'!B:G,6,0))","v":"-"}]
[54,"-",{"$f":"VLOOKUP(B68,Pilot!A:C,3,0)","v":" "},{"$f":"VLOOKUP(B68,Pilot!A:C,2,0)","v":" "},{"$f":"VLOOKUP(B68,Pilot!A:E,5,0)","v":" "},{"$f":"VLOOKUP(B68,Pilot!A:F,6,0)","v":" "},54,null,70,"-",{"$f":"IF(COUNTIF('N PMČR 2023'!B:B,B68)=0,\"-\",COUNTIF('N PMČR 2023'!B:B,B68))","v":6},{"$f":"IF(ISERROR(VLOOKUP(B68,'N PMČR 2023'!B:G,6,0)),\"-\",VLOOKUP(B68,'N PMČR 2023'!B:G,6,0))","v":"-"},{"$f":"IF(COUNTIF('N PMČRj 2023'!B:B,B68)=0,\"-\",COUNTIF('N PMČRj 2023'!B:B,B68))","v":43},{"$f":"IF(ISERROR(VLOOKUP(B68,'N PMČRj 2023'!B:G,6,0)),\"-\",VLOOKUP(B68,'N PMČRj 2023'!B:G,6,0))","v":"-"}]
[55,"-",{"$f":"VLOOKUP(B69,Pilot!A:C,3,0)","v":" "},{"$f":"VLOOKUP(B69,Pilot!A:C,2,0)","v":" "},{"$f":"VLOOKUP(B69,Pilot!A:E,5,0)","v":" "},{"$f":"VLOOKUP(B69,Pilot!A:F,6,0)","v":" "},55,null,70,"-",{"$f":"IF(COUNTIF('N PMČR 2023'!B:B,B69)=0,\"-\",COUNTIF('N PMČR 2023'!B:B,B69))","v":6},{"$f":"IF(ISERROR(VLOOKUP(B69,'N PMČR 2023'!B:G,6,0)),\"-\",VLOOKUP(B69,'N PMČR 2023'!B:G,6,0))","v":"-"},{"$f":"IF(COUNTIF('N PMČRj 2023'!B:B,B69)=0,\"-\",COUNTIF('N PMČRj 2023'!B:B,B69))","v":43},{"$f":"IF(ISERROR(VLOOKUP(B69,'N PMČRj 2023'!B:G,6,0)),\"-\",VLOOKUP(B69,'N PMČRj 2023'!B:G,6,0))","v":"-"}]
[56,"-",{"$f":"VLOOKUP(B70,Pilot!A:C,3,0)","v":" "},{"$f":"VLOOKUP(B70,Pilot!A:C,2,0)","v":" "},{"$f":"VLOOKUP(B70,Pilot!A:E,5,0)","v":" "},{"$f":"VLOOKUP(B70,Pilot!A:F,6,0)","v":" "},56,null,70,"-",{"$f":"IF(COUNTIF('N PMČR 2023'!B:B,B70)=0,\"-\",COUNTIF('N PMČR 2023'!B:B,B70))","v":6},{"$f":"IF(ISERROR(VLOOKUP(B70,'N PMČR 2023'!B:G,6,0)),\"-\",VLOOKUP(B70,'N PMČR 2023'!B:G,6,0))","v":"-"},{"$f":"IF(COUNTIF('N PMČRj 2023'!B:B,B70)=0,\"-\",COUNTIF('N PMČRj 2023'!B:B,B70))","v":43},{"$f":"IF(ISERROR(VLOOKUP(B70,'N PMČRj 2023'!B:G,6,0)),\"-\",VLOOKUP(B70,'N PMČRj 2023'!B:G,6,0))","v":"-"}]
[57,"-",{"$f":"VLOOKUP(B71,Pilot!A:C,3,0)","v":" "},{"$f":"VLOOKUP(B71,Pilot!A:C,2,0)","v":" "},{"$f":"VLOOKUP(B71,Pilot!A:E,5,0)","v":" "},{"$f":"VLOOKUP(B71,Pilot!A:F,6,0)","v":" "},57,null,70,"-",{"$f":"IF(COUNTIF('N PMČR 2023'!B:B,B71)=0,\"-\",COUNTIF('N PMČR 2023'!B:B,B71))","v":6},{"$f":"IF(ISERROR(VLOOKUP(B71,'N PMČR 2023'!B:G,6,0)),\"-\",VLOOKUP(B71,'N PMČR 2023'!B:G,6,0))","v":"-"},{"$f":"IF(COUNTIF('N PMČRj 2023'!B:B,B71)=0,\"-\",COUNTIF('N PMČRj 2023'!B:B,B71))","v":43},{"$f":"IF(ISERROR(VLOOKUP(B71,'N PMČRj 2023'!B:G,6,0)),\"-\",VLOOKUP(B71,'N PMČRj 2023'!B:G,6,0))","v":"-"}]
[58,"-",{"$f":"VLOOKUP(B72,Pilot!A:C,3,0)","v":" "},{"$f":"VLOOKUP(B72,Pilot!A:C,2,0)","v":" "},{"$f":"VLOOKUP(B72,Pilot!A:E,5,0)","v":" "},{"$f":"VLOOKUP(B72,Pilot!A:F,6,0)","v":" "},58,null,70,"-",{"$f":"IF(COUNTIF('N PMČR 2023'!B:B,B72)=0,\"-\",COUNTIF('N PMČR 2023'!B:B,B72))","v":6},{"$f":"IF(ISERROR(VLOOKUP(B72,'N PMČR 2023'!B:G,6,0)),\"-\",VLOOKUP(B72,'N PMČR 2023'!B:G,6,0))","v":"-"},{"$f":"IF(COUNTIF('N PMČRj 2023'!B:B,B72)=0,\"-\",COUNTIF('N PMČRj 2023'!B:B,B72))","v":43},{"$f":"IF(ISERROR(VLOOKUP(B72,'N PMČRj 2023'!B:G,6,0)),\"-\",VLOOKUP(B72,'N PMČRj 2023'!B:G,6,0))","v":"-"}]
[59,"-",{"$f":"VLOOKUP(B73,Pilot!A:C,3,0)","v":" "},{"$f":"VLOOKUP(B73,Pilot!A:C,2,0)","v":" "},{"$f":"VLOOKUP(B73,Pilot!A:E,5,0)","v":" "},{"$f":"VLOOKUP(B73,Pilot!A:F,6,0)","v":" "},59,null,70,"-",{"$f":"IF(COUNTIF('N PMČR 2023'!B:B,B73)=0,\"-\",COUNTIF('N PMČR 2023'!B:B,B73))","v":6},{"$f":"IF(ISERROR(VLOOKUP(B73,'N PMČR 2023'!B:G,6,0)),\"-\",VLOOKUP(B73,'N PMČR 2023'!B:G,6,0))","v":"-"},{"$f":"IF(COUNTIF('N PMČRj 2023'!B:B,B73)=0,\"-\",COUNTIF('N PMČRj 2023'!B:B,B73))","v":43},{"$f":"IF(ISERROR(VLOOKUP(B73,'N PMČRj 2023'!B:G,6,0)),\"-\",VLOOKUP(B73,'N PMČRj 2023'!B:G,6,0))","v":"-"}]
[60,"-",{"$f":"VLOOKUP(B74,Pilot!A:C,3,0)","v":" "},{"$f":"VLOOKUP(B74,Pilot!A:C,2,0)","v":" "},{"$f":"VLOOKUP(B74,Pilot!A:E,5,0)","v":" "},{"$f":"VLOOKUP(B74,Pilot!A:F,6,0)","v":" "},{"$f":"A74","v":60},null,70,"-",{"$f":"IF(COUNTIF('N PMČR 2023'!B:B,B74)=0,\"-\",COUNTIF('N PMČR 2023'!B:B,B74))","v":6},{"$f":"IF(ISERROR(VLOOKUP(B74,'N PMČR 2023'!B:G,6,0)),\"-\",VLOOKUP(B74,'N PMČR 2023'!B:G,6,0))","v":"-"},{"$f":"IF(COUNTIF('N PMČRj 2023'!B:B,B74)=0,\"-\",COUNTIF('N PMČRj 2023'!B:B,B74))","v":43},{"$f":"IF(ISERROR(VLOOKUP(B74,'N PMČRj 2023'!B:G,6,0)),\"-\",VLOOKUP(B74,'N PMČRj 2023'!B:G,6,0))","v":"-"}]
["N1","-",{"$f":"VLOOKUP(B75,Pilot!A:C,3,0)","v":" "},{"$f":"VLOOKUP(B75,Pilot!A:C,2,0)","v":" "},{"$f":"VLOOKUP(B75,Pilot!A:E,5,0)","v":" "},{"$f":"VLOOKUP(B75,Pilot!A:F,6,0)","v":" "},"N1",null,70,"-",{"$f":"IF(COUNTIF('N PMČR 2023'!B:B,B75)=0,\"-\",COUNTIF('N PMČR 2023'!B:B,B75))","v":6},{"$f":"IF(ISERROR(VLOOKUP(B75,'N PMČR 2023'!B:G,6,0)),\"-\",VLOOKUP(B75,'N PMČR 2023'!B:G,6,0))","v":"-"},{"$f":"IF(COUNTIF('N PMČRj 2023'!B:B,B75)=0,\"-\",COUNTIF('N PMČRj 2023'!B:B,B75))","v":43},{"$f":"IF(ISERROR(VLOOKUP(B75,'N PMČRj 2023'!B:G,6,0)),\"-\",VLOOKUP(B75,'N PMČRj 2023'!B:G,6,0))","v":"-"}]
["N2","-",{"$f":"VLOOKUP(B76,Pilot!A:C,3,0)","v":" "},{"$f":"VLOOKUP(B76,Pilot!A:C,2,0)","v":" "},{"$f":"VLOOKUP(B76,Pilot!A:E,5,0)","v":" "},{"$f":"VLOOKUP(B76,Pilot!A:F,6,0)","v":" "},"N2",null,70,"-",{"$f":"IF(COUNTIF('N PMČR 2023'!B:B,B76)=0,\"-\",COUNTIF('N PMČR 2023'!B:B,B76))","v":6},{"$f":"IF(ISERROR(VLOOKUP(B76,'N PMČR 2023'!B:G,6,0)),\"-\",VLOOKUP(B76,'N PMČR 2023'!B:G,6,0))","v":"-"},{"$f":"IF(COUNTIF('N PMČRj 2023'!B:B,B76)=0,\"-\",COUNTIF('N PMČRj 2023'!B:B,B76))","v":43},{"$f":"IF(ISERROR(VLOOKUP(B76,'N PMČRj 2023'!B:G,6,0)),\"-\",VLOOKUP(B76,'N PMČRj 2023'!B:G,6,0))","v":"-"}]
["N3","-",{"$f":"VLOOKUP(B77,Pilot!A:C,3,0)","v":" "},{"$f":"VLOOKUP(B77,Pilot!A:C,2,0)","v":" "},{"$f":"VLOOKUP(B77,Pilot!A:E,5,0)","v":" "},{"$f":"VLOOKUP(B77,Pilot!A:F,6,0)","v":" "},"N3",null,70,"-",{"$f":"IF(COUNTIF('N PMČR 2023'!B:B,B77)=0,\"-\",COUNTIF('N PMČR 2023'!B:B,B77))","v":6},{"$f":"IF(ISERROR(VLOOKUP(B77,'N PMČR 2023'!B:G,6,0)),\"-\",VLOOKUP(B77,'N PMČR 2023'!B:G,6,0))","v":"-"},{"$f":"IF(COUNTIF('N PMČRj 2023'!B:B,B77)=0,\"-\",COUNTIF('N PMČRj 2023'!B:B,B77))","v":43},{"$f":"IF(ISERROR(VLOOKUP(B77,'N PMČRj 2023'!B:G,6,0)),\"-\",VLOOKUP(B77,'N PMČRj 2023'!B:G,6,0))","v":"-"}]
["N4","-",{"$f":"VLOOKUP(B78,Pilot!A:C,3,0)","v":" "},{"$f":"VLOOKUP(B78,Pilot!A:C,2,0)","v":" "},{"$f":"VLOOKUP(B78,Pilot!A:E,5,0)","v":" "},{"$f":"VLOOKUP(B78,Pilot!A:F,6,0)","v":" "},"N4",null,70,"-",{"$f":"IF(COUNTIF('N PMČR 2023'!B:B,B78)=0,\"-\",COUNTIF('N PMČR 2023'!B:B,B78))","v":6},{"$f":"IF(ISERROR(VLOOKUP(B78,'N PMČR 2023'!B:G,6,0)),\"-\",VLOOKUP(B78,'N PMČR 2023'!B:G,6,0))","v":"-"},{"$f":"IF(COUNTIF('N PMČRj 2023'!B:B,B78)=0,\"-\",COUNTIF('N PMČRj 2023'!B:B,B78))","v":43},{"$f":"IF(ISERROR(VLOOKUP(B78,'N PMČRj 2023'!B:G,6,0)),\"-\",VLOOKUP(B78,'N PMČRj 2023'!B:G,6,0))","v":"-"}]
["N5","-",{"$f":"VLOOKUP(B79,Pilot!A:C,3,0)","v":" "},{"$f":"VLOOKUP(B79,Pilot!A:C,2,0)","v":" "},{"$f":"VLOOKUP(B79,Pilot!A:E,5,0)","v":" "},{"$f":"VLOOKUP(B79,Pilot!A:F,6,0)","v":" "},"N5",null,70,"-",{"$f":"IF(COUNTIF('N PMČR 2023'!B:B,B79)=0,\"-\",COUNTIF('N PMČR 2023'!B:B,B79))","v":6},{"$f":"IF(ISERROR(VLOOKUP(B79,'N PMČR 2023'!B:G,6,0)),\"-\",VLOOKUP(B79,'N PMČR 2023'!B:G,6,0))","v":"-"},{"$f":"IF(COUNTIF('N PMČRj 2023'!B:B,B79)=0,\"-\",COUNTIF('N PMČRj 2023'!B:B,B79))","v":43},{"$f":"IF(ISERROR(VLOOKUP(B79,'N PMČRj 2023'!B:G,6,0)),\"-\",VLOOKUP(B79,'N PMČRj 2023'!B:G,6,0))","v":"-"}]
["N6","-",{"$f":"VLOOKUP(B80,Pilot!A:C,3,0)","v":" "},{"$f":"VLOOKUP(B80,Pilot!A:C,2,0)","v":" "},{"$f":"VLOOKUP(B80,Pilot!A:E,5,0)","v":" "},{"$f":"VLOOKUP(B80,Pilot!A:F,6,0)","v":" "},"N6",null,70,"-",{"$f":"IF(COUNTIF('N PMČR 2023'!B:B,B80)=0,\"-\",COUNTIF('N PMČR 2023'!B:B,B80))","v":6},{"$f":"IF(ISERROR(VLOOKUP(B80,'N PMČR 2023'!B:G,6,0)),\"-\",VLOOKUP(B80,'N PMČR 2023'!B:G,6,0))","v":"-"},{"$f":"IF(COUNTIF('N PMČRj 2023'!B:B,B80)=0,\"-\",COUNTIF('N PMČRj 2023'!B:B,B80))","v":43},{"$f":"IF(ISERROR(VLOOKUP(B80,'N PMČRj 2023'!B:G,6,0)),\"-\",VLOOKUP(B80,'N PMČRj 2023'!B:G,6,0))","v":"-"}]
["N7","-",{"$f":"VLOOKUP(B81,Pilot!A:C,3,0)","v":" "},{"$f":"VLOOKUP(B81,Pilot!A:C,2,0)","v":" "},{"$f":"VLOOKUP(B81,Pilot!A:E,5,0)","v":" "},{"$f":"VLOOKUP(B81,Pilot!A:F,6,0)","v":" "},"N7",null,70,"-",{"$f":"IF(COUNTIF('N PMČR 2023'!B:B,B81)=0,\"-\",COUNTIF('N PMČR 2023'!B:B,B81))","v":6},{"$f":"IF(ISERROR(VLOOKUP(B81,'N PMČR 2023'!B:G,6,0)),\"-\",VLOOKUP(B81,'N PMČR 2023'!B:G,6,0))","v":"-"},{"$f":"IF(COUNTIF('N PMČRj 2023'!B:B,B81)=0,\"-\",COUNTIF('N PMČRj 2023'!B:B,B81))","v":43},{"$f":"IF(ISERROR(VLOOKUP(B81,'N PMČRj 2023'!B:G,6,0)),\"-\",VLOOKUP(B81,'N PMČRj 2023'!B:G,6,0))","v":"-"}]
["N8","-",{"$f":"VLOOKUP(B82,Pilot!A:C,3,0)","v":" "},{"$f":"VLOOKUP(B82,Pilot!A:C,2,0)","v":" "},{"$f":"VLOOKUP(B82,Pilot!A:E,5,0)","v":" "},{"$f":"VLOOKUP(B82,Pilot!A:F,6,0)","v":" "},"N8",null,70,"-",{"$f":"IF(COUNTIF('N PMČR 2023'!B:B,B82)=0,\"-\",COUNTIF('N PMČR 2023'!B:B,B82))","v":6},{"$f":"IF(ISERROR(VLOOKUP(B82,'N PMČR 2023'!B:G,6,0)),\"-\",VLOOKUP(B82,'N PMČR 2023'!B:G,6,0))","v":"-"},{"$f":"IF(COUNTIF('N PMČRj 2023'!B:B,B82)=0,\"-\",COUNTIF('N PMČRj 2023'!B:B,B82))","v":43},{"$f":"IF(ISERROR(VLOOKUP(B82,'N PMČRj 2023'!B:G,6,0)),\"-\",VLOOKUP(B82,'N PMČRj 2023'!B:G,6,0))","v":"-"}]
["N9","-",{"$f":"VLOOKUP(B83,Pilot!A:C,3,0)","v":" "},{"$f":"VLOOKUP(B83,Pilot!A:C,2,0)","v":" "},{"$f":"VLOOKUP(B83,Pilot!A:E,5,0)","v":" "},{"$f":"VLOOKUP(B83,Pilot!A:F,6,0)","v":" "},"N9",null,70,"-",{"$f":"IF(COUNTIF('N PMČR 2023'!B:B,B83)=0,\"-\",COUNTIF('N PMČR 2023'!B:B,B83))","v":6},{"$f":"IF(ISERROR(VLOOKUP(B83,'N PMČR 2023'!B:G,6,0)),\"-\",VLOOKUP(B83,'N PMČR 2023'!B:G,6,0))","v":"-"},{"$f":"IF(COUNTIF('N PMČRj 2023'!B:B,B83)=0,\"-\",COUNTIF('N PMČRj 2023'!B:B,B83))","v":43},{"$f":"IF(ISERROR(VLOOKUP(B83,'N PMČRj 2023'!B:G,6,0)),\"-\",VLOOKUP(B83,'N PMČRj 2023'!B:G,6,0))","v":"-"}]
["N10","-",{"$f":"VLOOKUP(B84,Pilot!A:C,3,0)","v":" "},{"$f":"VLOOKUP(B84,Pilot!A:C,2,0)","v":" "},{"$f":"VLOOKUP(B84,Pilot!A:E,5,0)","v":" "},{"$f":"VLOOKUP(B84,Pilot!A:F,6,0)","v":" "},{"$f":"A84","v":"N10"},null,70,"-",{"$f":"IF(COUNTIF('N PMČR 2023'!B:B,B84)=0,\"-\",COUNTIF('N PMČR 2023'!B:B,B84))","v":6},{"$f":"IF(ISERROR(VLOOKUP(B84,'N PMČR 2023'!B:G,6,0)),\"-\",VLOOKUP(B84,'N PMČR 2023'!B:G,6,0))","v":"-"},{"$f":"IF(COUNTIF('N PMČRj 2023'!B:B,B84)=0,\"-\",COUNTIF('N PMČRj 2023'!B:B,B84))","v":43},{"$f":"IF(ISERROR(VLOOKUP(B84,'N PMČRj 2023'!B:G,6,0)),\"-\",VLOOKUP(B84,'N PMČRj 2023'!B:G,6,0))","v":"-"}]
["6.8.5.4.","další soutěžící může navrhnout PK podle jiných kritérií dle odstavce 9. SŘ"]
["-","-",{"$f":"VLOOKUP(B86,Pilot!A:C,3,0)","v":" "},{"$f":"VLOOKUP(B86,Pilot!A:C,2,0)","v":" "},{"$f":"VLOOKUP(B86,Pilot!A:E,5,0)","v":" "},{"$f":"VLOOKUP(B86,Pilot!A:F,6,0)","v":" "},{"$f":"A86","v":"-"},null,{"$f":"COUNTIF(B:B,B86)","v":70},{"$f":"IF(ISERROR(VLOOKUP(B86,B:G,6,0)),\"-\",VLOOKUP(B86,B:G,6,0))","v":"-"},{"$f":"IF(COUNTIF('N PMČR 2023'!B:B,B86)=0,\"-\",COUNTIF('N PMČR 2023'!B:B,B86))","v":6},{"$f":"IF(ISERROR(VLOOKUP(B86,'N PMČR 2023'!B:G,6,0)),\"-\",VLOOKUP(B86,'N PMČR 2023'!B:G,6,0))","v":"-"},{"$f":"IF(COUNTIF('N PMČRj 2023'!B:B,B86)=0,\"-\",COUNTIF('N PMČRj 2023'!B:B,B86))","v":43},{"$f":"IF(ISERROR(VLOOKUP(B86,'N PMČRj 2023'!B:G,6,0)),\"-\",VLOOKUP(B86,'N PMČRj 2023'!B:G,6,0))","v":"-"}]
["-","-",{"$f":"VLOOKUP(B87,Pilot!A:C,3,0)","v":" "},{"$f":"VLOOKUP(B87,Pilot!A:C,2,0)","v":" "},{"$f":"VLOOKUP(B87,Pilot!A:E,5,0)","v":" "},{"$f":"VLOOKUP(B87,Pilot!A:F,6,0)","v":" "},{"$f":"A87","v":"-"},null,{"$f":"COUNTIF(B:B,B87)","v":70},{"$f":"IF(ISERROR(VLOOKUP(B87,B:G,6,0)),\"-\",VLOOKUP(B87,B:G,6,0))","v":"-"},{"$f":"IF(COUNTIF('N PMČR 2023'!B:B,B87)=0,\"-\",COUNTIF('N PMČR 2023'!B:B,B87))","v":6},{"$f":"IF(ISERROR(VLOOKUP(B87,'N PMČR 2023'!B:G,6,0)),\"-\",VLOOKUP(B87,'N PMČR 2023'!B:G,6,0))","v":"-"},{"$f":"IF(COUNTIF('N PMČRj 2023'!B:B,B87)=0,\"-\",COUNTIF('N PMČRj 2023'!B:B,B87))","v":43},{"$f":"IF(ISERROR(VLOOKUP(B87,'N PMČRj 2023'!B:G,6,0)),\"-\",VLOOKUP(B87,'N PMČRj 2023'!B:G,6,0))","v":"-"}]
["-","-",{"$f":"VLOOKUP(B88,Pilot!A:C,3,0)","v":" "},{"$f":"VLOOKUP(B88,Pilot!A:C,2,0)","v":" "},{"$f":"VLOOKUP(B88,Pilot!A:E,5,0)","v":" "},{"$f":"VLOOKUP(B88,Pilot!A:F,6,0)","v":" "},{"$f":"A88","v":"-"},null,{"$f":"COUNTIF(B:B,B88)","v":70},{"$f":"IF(ISERROR(VLOOKUP(B88,B:G,6,0)),\"-\",VLOOKUP(B88,B:G,6,0))","v":"-"},{"$f":"IF(COUNTIF('N PMČR 2023'!B:B,B88)=0,\"-\",COUNTIF('N PMČR 2023'!B:B,B88))","v":6},{"$f":"IF(ISERROR(VLOOKUP(B88,'N PMČR 2023'!B:G,6,0)),\"-\",VLOOKUP(B88,'N PMČR 2023'!B:G,6,0))","v":"-"},{"$f":"IF(COUNTIF('N PMČRj 2023'!B:B,B88)=0,\"-\",COUNTIF('N PMČRj 2023'!B:B,B88))","v":43},{"$f":"IF(ISERROR(VLOOKUP(B88,'N PMČRj 2023'!B:G,6,0)),\"-\",VLOOKUP(B88,'N PMČRj 2023'!B:G,6,0))","v":"-"}]
["-","-",{"$f":"VLOOKUP(B89,Pilot!A:C,3,0)","v":" "},{"$f":"VLOOKUP(B89,Pilot!A:C,2,0)","v":" "},{"$f":"VLOOKUP(B89,Pilot!A:E,5,0)","v":" "},{"$f":"VLOOKUP(B89,Pilot!A:F,6,0)","v":" "},{"$f":"A89","v":"-"},null,{"$f":"COUNTIF(B:B,B89)","v":70},{"$f":"IF(ISERROR(VLOOKUP(B89,B:G,6,0)),\"-\",VLOOKUP(B89,B:G,6,0))","v":"-"},{"$f":"IF(COUNTIF('N PMČR 2023'!B:B,B89)=0,\"-\",COUNTIF('N PMČR 2023'!B:B,B89))","v":6},{"$f":"IF(ISERROR(VLOOKUP(B89,'N PMČR 2023'!B:G,6,0)),\"-\",VLOOKUP(B89,'N PMČR 2023'!B:G,6,0))","v":"-"},{"$f":"IF(COUNTIF('N PMČRj 2023'!B:B,B89)=0,\"-\",COUNTIF('N PMČRj 2023'!B:B,B89))","v":43},{"$f":"IF(ISERROR(VLOOKUP(B89,'N PMČRj 2023'!B:G,6,0)),\"-\",VLOOKUP(B89,'N PMČRj 2023'!B:G,6,0))","v":"-"}]
["-","-",{"$f":"VLOOKUP(B90,Pilot!A:C,3,0)","v":" "},{"$f":"VLOOKUP(B90,Pilot!A:C,2,0)","v":" "},{"$f":"VLOOKUP(B90,Pilot!A:E,5,0)","v":" "},{"$f":"VLOOKUP(B90,Pilot!A:F,6,0)","v":" "},{"$f":"A90","v":"-"},null,{"$f":"COUNTIF(B:B,B90)","v":70},{"$f":"IF(ISERROR(VLOOKUP(B90,B:G,6,0)),\"-\",VLOOKUP(B90,B:G,6,0))","v":"-"},{"$f":"IF(COUNTIF('N PMČR 2023'!B:B,B90)=0,\"-\",COUNTIF('N PMČR 2023'!B:B,B90))","v":6},{"$f":"IF(ISERROR(VLOOKUP(B90,'N PMČR 2023'!B:G,6,0)),\"-\",VLOOKUP(B90,'N PMČR 2023'!B:G,6,0))","v":"-"},{"$f":"IF(COUNTIF('N PMČRj 2023'!B:B,B90)=0,\"-\",COUNTIF('N PMČRj 2023'!B:B,B90))","v":43},{"$f":"IF(ISERROR(VLOOKUP(B90,'N PMČRj 2023'!B:G,6,0)),\"-\",VLOOKUP(B90,'N PMČRj 2023'!B:G,6,0))","v":"-"}]

{"sheet":"N PMČRj 2023","index":14,"n_rows":77,"n_cols":19,"rows_kept":77,"cut":false,"hidden":false,"merged":[[17,1,17,7],[25,1,25,7],[74,1,74,7]]}
[null,"Nominace na PMČRj 2023",null,null,null,null,null,"Kontrola:","Počet","Nominace","Počet","Nominace","Počet","Nominace","M:","F:","M+F:",{"$f":"\"Limit juniora \"&Pilot!G1&\":\"","v":"Limit juniora 2023:"},{"$f":"Pilot!I1","v":1998}]
["No","Jméno","Aeroklub","Rok narození","M/F","Junior","No",null,"PMČRj","PMČRj","PMČR","PMČR","PMRg","PMRg",{"$f":"COUNTIF(E:E,\"M\")","v":10},{"$f":"COUNTIF(E:E,\"F\")","v":3},{"$f":"O2+P2","v":13},"S náhradníky"]
["6.7.5.","Nominace na PMČRj (dle SŘ ZM10)",null,null,null,null,null,null,null,null,null,null,null,"Celkem řádně nominováno:",{"$f":"O2-COUNTIF(E54:E58,\"M\")","v":10},{"$f":"P2-COUNTIF(E54:E58,\"F\")","v":3},{"$f":"O3+P3","v":13},"Bez náhradníků"]
[null,"Na PMČRj nominuje PK celkem 40 pilotů/pilotek a stanovený počet náhradníků pro každé nominační kritérium."]
[null,"Na PMČRj jsou nominováni soutěžící splňující statut juniora:"]
[null,"Na PMČRj jsou nominováni soutěžící (splňující statut juniora):"]
["6.7.5.1.","všichni členové reprezentačního výběru ČR (bez náhradníků)"]
[1,"Lukas Kriz",{"$f":"VLOOKUP(B8,Pilot!A:C,3,0)","v":"Křižanov"},{"$f":"VLOOKUP(B8,Pilot!A:C,2,0)","v":2003},{"$f":"VLOOKUP(B8,Pilot!A:E,5,0)","v":"M"},{"$f":"VLOOKUP(B8,Pilot!A:F,6,0)","v":"Junior v roce 2023"},{"$f":"A8","v":1},null,{"$f":"COUNTIF(B:B,B8)","v":1},{"$f":"IF(ISERROR(VLOOKUP(B8,B:G,6,0)),\"-\",VLOOKUP(B8,B:G,6,0))","v":1},{"$f":"IF(COUNTIF('N PMČR 2023'!B:B,B8)=0,\"-\",COUNTIF('N PMČR 2023'!B:B,B8))","v":1},{"$f":"IF(ISERROR(VLOOKUP(B8,'N PMČR 2023'!B:G,6,0)),\"-\",VLOOKUP(B8,'N PMČR 2023'!B:G,6,0))","v":13},{"$f":"IF(COUNTIF('N PMRg 2023'!B:B,B8)=0,\"-\",COUNTIF('N PMRg 2023'!B:B,B8))","v":"-"},{"$f":"IF(ISERROR(VLOOKUP(B8,'N PMRg 2023'!B:G,6,0)),\"-\",VLOOKUP(B8,'N PMRg 2023'!B:G,6,0))","v":"-"}]
[{"$f":"A8+1","v":2},"Jaromir Macoun",{"$f":"VLOOKUP(B9,Pilot!A:C,3,0)","v":"Jičín"},{"$f":"VLOOKUP(B9,Pilot!A:C,2,0)","v":1999},{"$f":"VLOOKUP(B9,Pilot!A:E,5,0)","v":"M"},{"$f":"VLOOKUP(B9,Pilot!A:F,6,0)","v":"Junior v roce 2023"},{"$f":"A9","v":2},null,1,2,{"$f":"IF(COUNTIF('N PMČR 2023'!B:B,B9)=0,\"-\",COUNTIF('N PMČR 2023'!B:B,B9))","v":1},{"$f":"IF(ISERROR(VLOOKUP(B9,'N PMČR 2023'!B:G,6,0)),\"-\",VLOOKUP(B9,'N PMČR 2023'!B:G,6,0))","v":18},{"$f":"IF(COUNTIF('N PMRg 2023'!B:B,B9)=0,\"-\",COUNTIF('N PMRg 2023'!B:B,B9))","v":"-"},{"$f":"IF(ISERROR(VLOOKUP(B9,'N PMRg 2023'!B:G,6,0)),\"-\",VLOOKUP(B9,'N PMRg 2023'!B:G,6,0))","v":"-"}]
[{"$f":"A9+1","v":3},"Vit Morkovsky",{"$f":"VLOOKUP(B10,Pilot!A:C,3,0)","v":"Polička"},{"$f":"VLOOKUP(B10,Pilot!A:C,2,0)","v":2000},{"$f":"VLOOKUP(B10,Pilot!A:E,5,0)","v":"M"},{"$f":"VLOOKUP(B10,Pilot!A:F,6,0)","v":"Junior v roce 2023"},3,null,1,3,{"$f":"IF(COUNTIF('N PMČR 2023'!B:B,B10)=0,\"-\",COUNTIF('N PMČR 2023'!B:B,B10))","v":1},{"$f":"IF(ISERROR(VLOOKUP(B10,'N PMČR 2023'!B:G,6,0)),\"-\",VLOOKUP(B10,'N PMČR 2023'!B:G,6,0))","v":22},{"$f":"IF(COUNTIF('N PMRg 2023'!B:B,B10)=0,\"-\",COUNTIF('N PMRg 2023'!B:B,B10))","v":"-"},{"$f":"IF(ISERROR(VLOOKUP(B10,'N PMRg 2023'!B:G,6,0)),\"-\",VLOOKUP(B10,'N PMRg 2023'!B:G,6,0))","v":"-"}]
[4,"Tereza Koubkova",{"$f":"VLOOKUP(B11,Pilot!A:C,3,0)","v":"Vysoké Mýto"},{"$f":"VLOOKUP(B11,Pilot!A:C,2,0)","v":1999},{"$f":"VLOOKUP(B11,Pilot!A:E,5,0)","v":"F"},{"$f":"VLOOKUP(B11,Pilot!A:F,6,0)","v":"Junior v roce 2023"},4,null,1,4,{"$f":"IF(COUNTIF('N PMČR 2023'!B:B,B11)=0,\"-\",COUNTIF('N PMČR 2023'!B:B,B11))","v":1},{"$f":"IF(ISERROR(VLOOKUP(B11,'N PMČR 2023'!B:G,6,0)),\"-\",VLOOKUP(B11,'N PMČR 2023'!B:G,6,0))","v":25},{"$f":"IF(COUNTIF('N PMRg 2023'!B:B,B11)=0,\"-\",COUNTIF('N PMRg 2023'!B:B,B11))","v":"-"},{"$f":"IF(ISERROR(VLOOKUP(B11,'N PMRg 2023'!B:G,6,0)),\"-\",VLOOKUP(B11,'N PMRg 2023'!B:G,6,0))","v":"-"}]
[5,"Michaela Rendlova",{"$f":"VLOOKUP(B12,Pilot!A:C,3,0)","v":"Toužim"},{"$f":"VLOOKUP(B12,Pilot!A:C,2,0)","v":2004},{"$f":"VLOOKUP(B12,Pilot!A:E,5,0)","v":"F"},{"$f":"VLOOKUP(B12,Pilot!A:F,6,0)","v":"Junior v roce 2023"},5,null,1,5,{"$f":"IF(COUNTIF('N PMČR 2023'!B:B,B12)=0,\"-\",COUNTIF('N PMČR 2023'!B:B,B12))","v":1},{"$f":"IF(ISERROR(VLOOKUP(B12,'N PMČR 2023'!B:G,6,0)),\"-\",VLOOKUP(B12,'N PMČR 2023'!B:G,6,0))","v":26},{"$f":"IF(COUNTIF('N PMRg 2023'!B:B,B12)=0,\"-\",COUNTIF('N PMRg 2023'!B:B,B12))","v":"-"},{"$f":"IF(ISERROR(VLOOKUP(B12,'N PMRg 2023'!B:G,6,0)),\"-\",VLOOKUP(B12,'N PMRg 2023'!B:G,6,0))","v":"-"}]
[6,"Jan Stastny",{"$f":"VLOOKUP(B13,Pilot!A:C,3,0)","v":"Medlánky"},{"$f":"VLOOKUP(B13,Pilot!A:C,2,0)","v":2003},{"$f":"VLOOKUP(B13,Pilot!A:E,5,0)","v":"M"},{"$f":"VLOOKUP(B13,Pilot!A:F,6,0)","v":"Junior v roce 2023"},6,null,1,6,{"$f":"IF(COUNTIF('N PMČR 2023'!B:B,B13)=0,\"-\",COUNTIF('N PMČR 2023'!B:B,B13))","v":1},{"$f":"IF(ISERROR(VLOOKUP(B13,'N PMČR 2023'!B:G,6,0)),\"-\",VLOOKUP(B13,'N PMČR 2023'!B:G,6,0))","v":28},{"$f":"IF(COUNTIF('N PMRg 2023'!B:B,B13)=0,\"-\",COUNTIF('N PMRg 2023'!B:B,B13))","v":"-"},{"$f":"IF(ISERROR(VLOOKUP(B13,'N PMRg 2023'!B:G,6,0)),\"-\",VLOOKUP(B13,'N PMRg 2023'!B:G,6,0))","v":"-"}]
[7,"Michaela Krizova",{"$f":"VLOOKUP(B14,Pilot!A:C,3,0)","v":"Přibyslav"},{"$f":"VLOOKUP(B14,Pilot!A:C,2,0)","v":2001},{"$f":"VLOOKUP(B14,Pilot!A:E,5,0)","v":"F"},{"$f":"VLOOKUP(B14,Pilot!A:F,6,0)","v":"Junior v roce 2023"},7,null,1,7,{"$f":"IF(COUNTIF('N PMČR 2023'!B:B,B14)=0,\"-\",COUNTIF('N PMČR 2023'!B:B,B14))","v":1},{"$f":"IF(ISERROR(VLOOKUP(B14,'N PMČR 2023'!B:G,6,0)),\"-\",VLOOKUP(B14,'N PMČR 2023'!B:G,6,0))","v":29},{"$f":"IF(COUNTIF('N PMRg 2023'!B:B,B14)=0,\"-\",COUNTIF('N PMRg 2023'!B:B,B14))","v":"-"},{"$f":"IF(ISERROR(VLOOKUP(B14,'N PMRg 2023'!B:G,6,0)),\"-\",VLOOKUP(B14,'N PMRg 2023'!B:G,6,0))","v":"-"}]
["6.7.5.2.","všichni soutěžící - účastníci posledního platného PMČR (bez náhradníků)"]
[null,"PMČR 2022 - Zbraslavice - Klub, Kombi 15m, Kombi Open"]
["-","-",{"$f":"VLOOKUP(B17,Pilot!A:C,3,0)","v":" "},{"$f":"VLOOKUP(B17,Pilot!A:C,2,0)","v":" "},{"$f":"VLOOKUP(B17,Pilot!A:E,5,0)","v":" "},{"$f":"VLOOKUP(B17,Pilot!A:F,6,0)","v":" "},{"$f":"A17","v":"-"},null,{"$f":"COUNTIF(B:B,B17)","v":43},{"$f":"IF(ISERROR(VLOOKUP(B17,B:G,6,0)),\"-\",VLOOKUP(B17,B:G,6,0))","v":"-"},{"$f":"IF(COUNTIF('N PMČR 2023'!B:B,B17)=0,\"-\",COUNTIF('N PMČR 2023'!B:B,B17))","v":6},{"$f":"IF(ISERROR(VLOOKUP(B17,'N PMČR 2023'!B:G,6,0)),\"-\",VLOOKUP(B17,'N PMČR 2023'!B:G,6,0))","v":"-"},{"$f":"IF(COUNTIF('N PMRg 2023'!B:B,B17)=0,\"-\",COUNTIF('N PMRg 2023'!B:B,B17))","v":70},{"$f":"IF(ISERROR(VLOOKUP(B17,'N PMRg 2023'!B:G,6,0)),\"-\",VLOOKUP(B17,'N PMRg 2023'!B:G,6,0))","v":"-"}]
["6.7.5.3.","další soutěžící, kteří se umístili v konečném pořadí na posledním platném PMČRj ve své třídě nejhůře v první polovině celkového pořadí pilotů ČR (bez náhradníků)"]
[null,"PMČRj 2022 - Hodkovice - Klub"]
[{"$f":"MAX(A8:A19)+1","v":8},"Vladimir Hammer",{"$f":"VLOOKUP(B20,Pilot!A:C,3,0)","v":"Letkov"},{"$f":"VLOOKUP(B20,Pilot!A:C,2,0)","v":2000},{"$f":"VLOOKUP(B20,Pilot!A:E,5,0)","v":"M"},{"$f":"VLOOKUP(B20,Pilot!A:F,6,0)","v":"Junior v roce 2023"},{"$f":"A20","v":8},null,{"$f":"COUNTIF(B:B,B20)","v":1},{"$f":"IF(ISERROR(VLOOKUP(B20,B:G,6,0)),\"-\",VLOOKUP(B20,B:G,6,0))","v":8},{"$f":"IF(COUNTIF('N PMČR 2023'!B:B,B20)=0,\"-\",COUNTIF('N PMČR 2023'!B:B,B20))","v":1},{"$f":"IF(ISERROR(VLOOKUP(B20,'N PMČR 2023'!B:G,6,0)),\"-\",VLOOKUP(B20,'N PMČR 2023'!B:G,6,0))","v":39},{"$f":"IF(COUNTIF('N PMRg 2023'!B:B,B20)=0,\"-\",COUNTIF('N PMRg 2023'!B:B,B20))","v":"-"},{"$f":"IF(ISERROR(VLOOKUP(B20,'N PMRg 2023'!B:G,6,0)),\"-\",VLOOKUP(B20,'N PMRg 2023'!B:G,6,0))","v":"-"}]
[{"$f":"A20+1","v":9},"Lukas Volek",{"$f":"VLOOKUP(B21,Pilot!A:C,3,0)","v":"Hodkovice"},{"$f":"VLOOKUP(B21,Pilot!A:C,2,0)","v":2004},{"$f":"VLOOKUP(B21,Pilot!A:E,5,0)","v":"M"},{"$f":"VLOOKUP(B21,Pilot!A:F,6,0)","v":"Junior v roce 2023"},9,null,1,9,{"$f":"IF(COUNTIF('N PMČR 2023'!B:B,B21)=0,\"-\",COUNTIF('N PMČR 2023'!B:B,B21))","v":1},{"$f":"IF(ISERROR(VLOOKUP(B21,'N PMČR 2023'!B:G,6,0)),\"-\",VLOOKUP(B21,'N PMČR 2023'!B:G,6,0))","v":40},{"$f":"IF(COUNTIF('N PMRg 2023'!B:B,B21)=0,\"-\",COUNTIF('N PMRg 2023'!B:B,B21))","v":"-"},{"$f":"IF(ISERROR(VLOOKUP(B21,'N PMRg 2023'!B:G,6,0)),\"-\",VLOOKUP(B21,'N PMRg 2023'!B:G,6,0))","v":"-"}]
[{"$f":"A21+1","v":10},"Tomas Hynek",{"$f":"VLOOKUP(B22,Pilot!A:C,3,0)","v":"Dvůr Králové"},{"$f":"VLOOKUP(B22,Pilot!A:C,2,0)","v":2002},{"$f":"VLOOKUP(B22,Pilot!A:E,5,0)","v":"M"},{"$f":"VLOOKUP(B22,Pilot!A:F,6,0)","v":"Junior v roce 2023"},10,null,1,10,{"$f":"IF(COUNTIF('N PMČR 2023'!B:B,B22)=0,\"-\",COUNTIF('N PMČR 2023'!B:B,B22))","v":1},{"$f":"IF(ISERROR(VLOOKUP(B22,'N PMČR 2023'!B:G,6,0)),\"-\",VLOOKUP(B22,'N PMČR 2023'!B:G,6,0))","v":41},{"$f":"IF(COUNTIF('N PMRg 2023'!B:B,B22)=0,\"-\",COUNTIF('N PMRg 2023'!B:B,B22))","v":"-"},{"$f":"IF(ISERROR(VLOOKUP(B22,'N PMRg 2023'!B:G,6,0)),\"-\",VLOOKUP(B22,'N PMRg 2023'!B:G,6,0))","v":"-"}]
[11,"Jan Beran",{"$f":"VLOOKUP(B23,Pilot!A:C,3,0)","v":"Kladno"},{"$f":"VLOOKUP(B23,Pilot!A:C,2,0)","v":1999},{"$f":"VLOOKUP(B23,Pilot!A:E,5,0)","v":"M"},{"$f":"VLOOKUP(B23,Pilot!A:F,6,0)","v":"Junior v roce 2023"},{"$f":"A23","v":11},null,1,11,{"$f":"IF(COUNTIF('N PMČR 2023'!B:B,B23)=0,\"-\",COUNTIF('N PMČR 2023'!B:B,B23))","v":1},{"$f":"IF(ISERROR(VLOOKUP(B23,'N PMČR 2023'!B:G,6,0)),\"-\",VLOOKUP(B23,'N PMČR 2023'!B:G,6,0))","v":43},{"$f":"IF(COUNTIF('N PMRg 2023'!B:B,B23)=0,\"-\",COUNTIF('N PMRg 2023'!B:B,B23))","v":"-"},{"$f":"IF(ISERROR(VLOOKUP(B23,'N PMRg 2023'!B:G,6,0)),\"-\",VLOOKUP(B23,'N PMRg 2023'!B:G,6,0))","v":"-"}]
[12,"Tomas Kulhavy",{"$f":"VLOOKUP(B24,Pilot!A:C,3,0)","v":"Liberec"},{"$f":"VLOOKUP(B24,Pilot!A:C,2,0)","v":2001},{"$f":"VLOOKUP(B24,Pilot!A:E,5,0)","v":"M"},{"$f":"VLOOKUP(B24,Pilot!A:F,6,0)","v":"Junior v roce 2023"},12,null,1,12,{"$f":"IF(COUNTIF('N PMČR 2023'!B:B,B24)=0,\"-\",COUNTIF('N PMČR 2023'!B:B,B24))","v":1},{"$f":"IF(ISERROR(VLOOKUP(B24,'N PMČR 2023'!B:G,6,0)),\"-\",VLOOKUP(B24,'N PMČR 2023'!B:G,6,0))","v":51},{"$f":"IF(COUNTIF('N PMRg 2023'!B:B,B24)=0,\"-\",COUNTIF('N PMRg 2023'!B:B,B24))","v":"-"},{"$f":"IF(ISERROR(VLOOKUP(B24,'N PMRg 2023'!B:G,6,0)),\"-\",VLOOKUP(B24,'N PMRg 2023'!B:G,6,0))","v":"-"}]
[13,"Stepan Filakovsky",{"$f":"VLOOKUP(B25,Pilot!A:C,3,0)","v":"Medlánky"},{"$f":"VLOOKUP(B25,Pilot!A:C,2,0)","v":2005},{"$f":"VLOOKUP(B25,Pilot!A:E,5,0)","v":"M"},{"$f":"VLOOKUP(B25,Pilot!A:F,6,0)","v":"Junior v roce 2023"},{"$f":"A25","v":13},null,1,13,{"$f":"IF(COUNTIF('N PMČR 2023'!B:B,B25)=0,\"-\",COUNTIF('N PMČR 2023'!B:B,B25))","v":1},{"$f":"IF(ISERROR(VLOOKUP(B25,'N PMČR 2023'!B:G,6,0)),\"-\",VLOOKUP(B25,'N PMČR 2023'!B:G,6,0))","v":"N2"},{"$f":"IF(COUNTIF('N PMRg 2023'!B:B,B25)=0,\"-\",COUNTIF('N PMRg 2023'!B:B,B25))","v":"-"},{"$f":"IF(ISERROR(VLOOKUP(B25,'N PMRg 2023'!B:G,6,0)),\"-\",VLOOKUP(B25,'N PMRg 2023'!B:G,6,0))","v":"-"}]
["6.7.5.4.","ostatní soutěžící nominuje PK v pořadí podle umístění v CPS-INT předchozího roku do naplnění celkového počtu 40 nominovaných (+ 5 náhradníků)"]
[{"$f":"MAX(A20:A26)+1","v":14},"-",{"$f":"VLOOKUP(B27,Pilot!A:C,3,0)","v":" "},{"$f":"VLOOKUP(B27,Pilot!A:C,2,0)","v":" "},{"$f":"VLOOKUP(B27,Pilot!A:E,5,0)","v":" "},{"$f":"VLOOKUP(B27,Pilot!A:F,6,0)","v":" "},{"$f":"A27","v":14},null,{"$f":"COUNTIF(B:B,B27)","v":43},{"$f":"IF(ISERROR(VLOOKUP(B27,B:G,6,0)),\"-\",VLOOKUP(B27,B:G,6,0))","v":"-"},{"$f":"IF(COUNTIF('N PMČR 2023'!B:B,B27)=0,\"-\",COUNTIF('N PMČR 2023'!B:B,B27))","v":6},{"$f":"IF(ISERROR(VLOOKUP(B27,'N PMČR 2023'!B:G,6,0)),\"-\",VLOOKUP(B27,'N PMČR 2023'!B:G,6,0))","v":"-"},{"$f":"IF(COUNTIF('N PMRg 2023'!B:B,B27)=0,\"-\",COUNTIF('N PMRg 2023'!B:B,B27))","v":70},{"$f":"IF(ISERROR(VLOOKUP(B27,'N PMRg 2023'!B:G,6,0)),\"-\",VLOOKUP(B27,'N PMRg 2023'!B:G,6,0))","v":"-"}]
[{"$f":"A27+1","v":15},"-",{"$f":"VLOOKUP(B28,Pilot!A:C,3,0)","v":" "},{"$f":"VLOOKUP(B28,Pilot!A:C,2,0)","v":" "},{"$f":"VLOOKUP(B28,Pilot!A:E,5,0)","v":" "},{"$f":"VLOOKUP(B28,Pilot!A:F,6,0)","v":" "},15,null,43,"-",{"$f":"IF(COUNTIF('N PMČR 2023'!B:B,B28)=0,\"-\",COUNTIF('N PMČR 2023'!B:B,B28))","v":6},{"$f":"IF(ISERROR(VLOOKUP(B28,'N PMČR 2023'!B:G,6,0)),\"-\",VLOOKUP(B28,'N PMČR 2023'!B:G,6,0))","v":"-"},{"$f":"IF(COUNTIF('N PMRg 2023'!B:B,B28)=0,\"-\",COUNTIF('N PMRg 2023'!B:B,B28))","v":70},{"$f":"IF(ISERROR(VLOOKUP(B28,'N PMRg 2023'!B:G,6,0)),\"-\",VLOOKUP(B28,'N PMRg 2023'!B:G,6,0))","v":"-"}]
[{"$f":"A28+1","v":16},"-",{"$f":"VLOOKUP(B29,Pilot!A:C,3,0)","v":" "},{"$f":"VLOOKUP(B29,Pilot!A:C,2,0)","v":" "},{"$f":"VLOOKUP(B29,Pilot!A:E,5,0)","v":" "},{"$f":"VLOOKUP(B29,Pilot!A:F,6,0)","v":" "},16,null,43,"-",{"$f":"IF(COUNTIF('N PMČR 2023'!B:B,B29)=0,\"-\",COUNTIF('N PMČR 2023'!B:B,B29))","v":6},{"$f":"IF(ISERROR(VLOOKUP(B29,'N PMČR 2023'!B:G,6,0)),\"-\",VLOOKUP(B29,'N PMČR 2023'!B:G,6,0))","v":"-"},{"$f":"IF(COUNTIF('N PMRg 2023'!B:B,B29)=0,\"-\",COUNTIF('N PMRg 2023'!B:B,B29))","v":70},{"$f":"IF(ISERROR(VLOOKUP(B29,'N PMRg 2023'!B:G,6,0)),\"-\",VLOOKUP(B29,'N PMRg 2023'!B:G,6,0))","v":"-"}]
[17,"-",{"$f":"VLOOKUP(B30,Pilot!A:C,3,0)","v":" "},{"$f":"VLOOKUP(B30,Pilot!A:C,2,0)","v":" "},{"$f":"VLOOKUP(B30,Pilot!A:E,5,0)","v":" "},{"$f":"VLOOKUP(B30,Pilot!A:F,6,0)","v":" "},17,null,43,"-",{"$f":"IF(COUNTIF('N PMČR 2023'!B:B,B30)=0,\"-\",COUNTIF('N PMČR 2023'!B:B,B30))","v":6},{"$f":"IF(ISERROR(VLOOKUP(B30,'N PMČR 2023'!B:G,6,0)),\"-\",VLOOKUP(B30,'N PMČR 2023'!B:G,6,0))","v":"-"},{"$f":"IF(COUNTIF('N PMRg 2023'!B:B,B30)=0,\"-\",COUNTIF('N PMRg 2023'!B:B,B30))","v":70},{"$f":"IF(ISERROR(VLOOKUP(B30,'N PMRg 2023'!B:G,6,0)),\"-\",VLOOKUP(B30,'N PMRg 2023'!B:G,6,0))","v":"-"}]
[18,"-",{"$f":"VLOOKUP(B31,Pilot!A:C,3,0)","v":" "},{"$f":"VLOOKUP(B31,Pilot!A:C,2,0)","v":" "},{"$f":"VLOOKUP(B31,Pilot!A:E,5,0)","v":" "},{"$f":"VLOOKUP(B31,Pilot!A:F,6,0)","v":" "},18,null,43,"-",{"$f":"IF(COUNTIF('N PMČR 2023'!B:B,B31)=0,\"-\",COUNTIF('N PMČR 2023'!B:B,B31))","v":6},{"$f":"IF(ISERROR(VLOOKUP(B31,'N PMČR 2023'!B:G,6,0)),\"-\",VLOOKUP(B31,'N PMČR 2023'!B:G,6,0))","v":"-"},{"$f":"IF(COUNTIF('N PMRg 2023'!B:B,B31)=0,\"-\",COUNTIF('N PMRg 2023'!B:B,B31))","v":70},{"$f":"IF(ISERROR(VLOOKUP(B31,'N PMRg 2023'!B:G,6,0)),\"-\",VLOOKUP(B31,'N PMRg 2023'!B:G,6,0))","v":"-"}]
[19,"-",{"$f":"VLOOKUP(B32,Pilot!A:C,3,0)","v":" "},{"$f":"VLOOKUP(B32,Pilot!A:C,2,0)","v":" "},{"$f":"VLOOKUP(B32,Pilot!A:E,5,0)","v":" "},{"$f":"VLOOKUP(B32,Pilot!A:F,6,0)","v":" "},19,null,43,"-",{"$f":"IF(COUNTIF('N PMČR 2023'!B:B,B32)=0,\"-\",COUNTIF('N PMČR 2023'!B:B,B32))","v":6},{"$f":"IF(ISERROR(VLOOKUP(B32,'N PMČR 2023'!B:G,6,0)),\"-\",VLOOKUP(B32,'N PMČR 2023'!B:G,6,0))","v":"-"},{"$f":"IF(COUNTIF('N PMRg 2023'!B:B,B32)=0,\"-\",COUNTIF('N PMRg 2023'!B:B,B32))","v":70},{"$f":"IF(ISERROR(VLOOKUP(B32,'N PMRg 2023'!B:G,6,0)),\"-\",VLOOKUP(B32,'N PMRg 2023'!B:G,6,0))","v":"-"}]
[20,"-",{"$f":"VLOOKUP(B33,Pilot!A:C,3,0)","v":" "},{"$f":"VLOOKUP(B33,Pilot!A:C,2,0)","v":" "},{"$f":"VLOOKUP(B33,Pilot!A:E,5,0)","v":" "},{"$f":"VLOOKUP(B33,Pilot!A:F,6,0)","v":" "},20,null,43,"-",{"$f":"IF(COUNTIF('N PMČR 2023'!B:B,B33)=0,\"-\",COUNTIF('N PMČR 2023'!B:B,B33))","v":6},{"$f":"IF(ISERROR(VLOOKUP(B33,'N PMČR 2023'!B:G,6,0)),\"-\",VLOOKUP(B33,'N PMČR 2023'!B:G,6,0))","v":"-"},{"$f":"IF(COUNTIF('N PMRg 2023'!B:B,B33)=0,\"-\",COUNTIF('N PMRg 2023'!B:B,B33))","v":70},{"$f":"IF(ISERROR(VLOOKUP(B33,'N PMRg 2023'!B:G,6,0)),\"-\",VLOOKUP(B33,'N PMRg 2023'!B:G,6,0))","v":"-"}]
[21,"-",{"$f":"VLOOKUP(B34,Pilot!A:C,3,0)","v":" "},{"$f":"VLOOKUP(B34,Pilot!A:C,2,0)","v":" "},{"$f":"VLOOKUP(B34,Pilot!A:E,5,0)","v":" "},{"$f":"VLOOKUP(B34,Pilot!A:F,6,0)","v":" "},21,null,43,"-",{"$f":"IF(COUNTIF('N PMČR 2023'!B:B,B34)=0,\"-\",COUNTIF('N PMČR 2023'!B:B,B34))","v":6},{"$f":"IF(ISERROR(VLOOKUP(B34,'N PMČR 2023'!B:G,6,0)),\"-\",VLOOKUP(B34,'N PMČR 2023'!B:G,6,0))","v":"-"},{"$f":"IF(COUNTIF('N PMRg 2023'!B:B,B34)=0,\"-\",COUNTIF('N PMRg 2023'!B:B,B34))","v":70},{"$f":"IF(ISERROR(VLOOKUP(B34,'N PMRg 2023'!B:G,6,0)),\"-\",VLOOKUP(B34,'N PMRg 2023'!B:G,6,0))","v":"-"}]
[22,"-",{"$f":"VLOOKUP(B35,Pilot!A:C,3,0)","v":" "},{"$f":"VLOOKUP(B35,Pilot!A:C,2,0)","v":" "},{"$f":"VLOOKUP(B35,Pilot!A:E,5,0)","v":" "},{"$f":"VLOOKUP(B35,Pilot!A:F,6,0)","v":" "},22,null,43,"-",{"$f":"IF(COUNTIF('N PMČR 2023'!B:B,B35)=0,\"-\",COUNTIF('N PMČR 2023'!B:B,B35))","v":6},{"$f":"IF(ISERROR(VLOOKUP(B35,'N PMČR 2023'!B:G,6,0)),\"-\",VLOOKUP(B35,'N PMČR 2023'!B:G,6,0))","v":"-"},{"$f":"IF(COUNTIF('N PMRg 2023'!B:B,B35)=0,\"-\",COUNTIF('N PMRg 2023'!B:B,B35))","v":70},{"$f":"IF(ISERROR(VLOOKUP(B35,'N PMRg 2023'!B:G,6,0)),\"-\",VLOOKUP(B35,'N PMRg 2023'!B:G,6,0))","v":"-"}]
[23,"-",{"$f":"VLOOKUP(B36,Pilot!A:C,3,0)","v":" "},{"$f":"VLOOKUP(B36,Pilot!A:C,2,0)","v":" "},{"$f":"VLOOKUP(B36,Pilot!A:E,5,0)","v":" "},{"$f":"VLOOKUP(B36,Pilot!A:F,6,0)","v":" "},23,null,43,"-",{"$f":"IF(COUNTIF('N PMČR 2023'!B:B,B36)=0,\"-\",COUNTIF('N PMČR 2023'!B:B,B36))","v":6},{"$f":"IF(ISERROR(VLOOKUP(B36,'N PMČR 2023'!B:G,6,0)),\"-\",VLOOKUP(B36,'N PMČR 2023'!B:G,6,0))","v":"-"},{"$f":"IF(COUNTIF('N PMRg 2023'!B:B,B36)=0,\"-\",COUNTIF('N PMRg 2023'!B:B,B36))","v":70},{"$f":"IF(ISERROR(VLOOKUP(B36,'N PMRg 2023'!B:G,6,0)),\"-\",VLOOKUP(B36,'N PMRg 2023'!B:G,6,0))","v":"-"}]
[24,"-",{"$f":"VLOOKUP(B37,Pilot!A:C,3,0)","v":" "},{"$f":"VLOOKUP(B37,Pilot!A:C,2,0)","v":" "},{"$f":"VLOOKUP(B37,Pilot!A:E,5,0)","v":" "},{"$f":"VLOOKUP(B37,Pilot!A:F,6,0)","v":" "},{"$f":"A37","v":24},null,43,"-",{"$f":"IF(COUNTIF('N PMČR 2023'!B:B,B37)=0,\"-\",COUNTIF('N PMČR 2023'!B:B,B37))","v":6},{"$f":"IF(ISERROR(VLOOKUP(B37,'N PMČR 2023'!B:G,6,0)),\"-\",VLOOKUP(B37,'N PMČR 2023'!B:G,6,0))","v":"-"},{"$f":"IF(COUNTIF('N PMRg 2023'!B:B,B37)=0,\"-\",COUNTIF('N PMRg 2023'!B:B,B37))","v":70},{"$f":"IF(ISERROR(VLOOKUP(B37,'N PMRg 2023'!B:G,6,0)),\"-\",VLOOKUP(B37,'N PMRg 2023'!B:G,6,0))","v":"-"}]
[25,"-",{"$f":"VLOOKUP(B38,Pilot!A:C,3,0)","v":" "},{"$f":"VLOOKUP(B38,Pilot!A:C,2,0)","v":" "},{"$f":"VLOOKUP(B38,Pilot!A:E,5,0)","v":" "},{"$f":"VLOOKUP(B38,Pilot!A:F,6,0)","v":" "},25,null,43,"-",{"$f":"IF(COUNTIF('N PMČR 2023'!B:B,B38)=0,\"-\",COUNTIF('N PMČR 2023'!B:B,B38))","v":6},{"$f":"IF(ISERROR(VLOOKUP(B38,'N PMČR 2023'!B:G,6,0)),\"-\",VLOOKUP(B38,'N PMČR 2023'!B:G,6,0))","v":"-"},{"$f":"IF(COUNTIF('N PMRg 2023'!B:B,B38)=0,\"-\",COUNTIF('N PMRg 2023'!B:B,B38))","v":70},{"$f":"IF(ISERROR(VLOOKUP(B38,'N PMRg 2023'!B:G,6,0)),\"-\",VLOOKUP(B38,'N PMRg 2023'!B:G,6,0))","v":"-"}]
[26,"-",{"$f":"VLOOKUP(B39,Pilot!A:C,3,0)","v":" "},{"$f":"VLOOKUP(B39,Pilot!A:C,2,0)","v":" "},{"$f":"VLOOKUP(B39,Pilot!A:E,5,0)","v":" "},{"$f":"VLOOKUP(B39,Pilot!A:F,6,0)","v":" "},26,null,43,"-",{"$f":"IF(COUNTIF('N PMČR 2023'!B:B,B39)=0,\"-\",COUNTIF('N PMČR 2023'!B:B,B39))","v":6},{"$f":"IF(ISERROR(VLOOKUP(B39,'N PMČR 2023'!B:G,6,0)),\"-\",VLOOKUP(B39,'N PMČR 2023'!B:G,6,0))","v":"-"},{"$f":"IF(COUNTIF('N PMRg 2023'!B:B,B39)=0,\"-\",COUNTIF('N PMRg 2023'!B:B,B39))","v":70},{"$f":"IF(ISERROR(VLOOKUP(B39,'N PMRg 2023'!B:G,6,0)),\"-\",VLOOKUP(B39,'N PMRg 2023'!B:G,6,0))","v":"-"}]
[27,"-",{"$f":"VLOOKUP(B40,Pilot!A:C,3,0)","v":" "},{"$f":"VLOOKUP(B40,Pilot!A:C,2,0)","v":" "},{"$f":"VLOOKUP(B40,Pilot!A:E,5,0)","v":" "},{"$f":"VLOOKUP(B40,Pilot!A:F,6,0)","v":" "},27,null,43,"-",{"$f":"IF(COUNTIF('N PMČR 2023'!B:B,B40)=0,\"-\",COUNTIF('N PMČR 2023'!B:B,B40))","v":6},{"$f":"IF(ISERROR(VLOOKUP(B40,'N PMČR 2023'!B:G,6,0)),\"-\",VLOOKUP(B40,'N PMČR 2023'!B:G,6,0))","v":"-"},{"$f":"IF(COUNTIF('N PMRg 2023'!B:B,B40)=0,\"-\",COUNTIF('N PMRg 2023'!B:B,B40))","v":70},{"$f":"IF(ISERROR(VLOOKUP(B40,'N PMRg 2023'!B:G,6,0)),\"-\",VLOOKUP(B40,'N PMRg 2023'!B:G,6,0))","v":"-"}]
[28,"-",{"$f":"VLOOKUP(B41,Pilot!A:C,3,0)","v":" "},{"$f":"VLOOKUP(B41,Pilot!A:C,2,0)","v":" "},{"$f":"VLOOKUP(B41,Pilot!A:E,5,0)","v":" "},{"$f":"VLOOKUP(B41,Pilot!A:F,6,0)","v":" "},28,null,43,"-",{"$f":"IF(COUNTIF('N PMČR 2023'!B:B,B41)=0,\"-\",COUNTIF('N PMČR 2023'!B:B,B41))","v":6},{"$f":"IF(ISERROR(VLOOKUP(B41,'N PMČR 2023'!B:G,6,0)),\"-\",VLOOKUP(B41,'N PMČR 2023'!B:G,6,0))","v":"-"},{"$f":"IF(COUNTIF('N PMRg 2023'!B:B,B41)=0,\"-\",COUNTIF('N PMRg 2023'!B:B,B41))","v":70},{"$f":"IF(ISERROR(VLOOKUP(B41,'N PMRg 2023'!B:G,6,0)),\"-\",VLOOKUP(B41,'N PMRg 2023'!B:G,6,0))","v":"-"}]
[29,"-",{"$f":"VLOOKUP(B42,Pilot!A:C,3,0)","v":" "},{"$f":"VLOOKUP(B42,Pilot!A:C,2,0)","v":" "},{"$f":"VLOOKUP(B42,Pilot!A:E,5,0)","v":" "},{"$f":"VLOOKUP(B42,Pilot!A:F,6,0)","v":" "},29,null,43,"-",{"$f":"IF(COUNTIF('N PMČR 2023'!B:B,B42)=0,\"-\",COUNTIF('N PMČR 2023'!B:B,B42))","v":6},{"$f":"IF(ISERROR(VLOOKUP(B42,'N PMČR 2023'!B:G,6,0)),\"-\",VLOOKUP(B42,'N PMČR 2023'!B:G,6,0))","v":"-"},{"$f":"IF(COUNTIF('N PMRg 2023'!B:B,B42)=0,\"-\",COUNTIF('N PMRg 2023'!B:B,B42))","v":70},{"$f":"IF(ISERROR(VLOOKUP(B42,'N PMRg 2023'!B:G,6,0)),\"-\",VLOOKUP(B42,'N PMRg 2023'!B:G,6,0))","v":"-"}]
[30,"-",{"$f":"VLOOKUP(B43,Pilot!A:C,3,0)","v":" "},{"$f":"VLOOKUP(B43,Pilot!A:C,2,0)","v":" "},{"$f":"VLOOKUP(B43,Pilot!A:E,5,0)","v":" "},{"$f":"VLOOKUP(B43,Pilot!A:F,6,0)","v":" "},30,null,43,"-",{"$f":"IF(COUNTIF('N PMČR 2023'!B:B,B43)=0,\"-\",COUNTIF('N PMČR 2023'!B:B,B43))","v":6},{"$f":"IF(ISERROR(VLOOKUP(B43,'N PMČR 2023'!B:G,6,0)),\"-\",VLOOKUP(B43,'N PMČR 2023'!B:G,6,0))","v":"-"},{"$f":"IF(COUNTIF('N PMRg 2023'!B:B,B43)=0,\"-\",COUNTIF('N PMRg 2023'!B:B,B43))","v":70},{"$f":"IF(ISERROR(VLOOKUP(B43,'N PMRg 2023'!B:G,6,0)),\"-\",VLOOKUP(B43,'N PMRg 2023'!B:G,6,0))","v":"-"}]
[31,"-",{"$f":"VLOOKUP(B44,Pilot!A:C,3,0)","v":" "},{"$f":"VLOOKUP(B44,Pilot!A:C,2,0)","v":" "},{"$f":"VLOOKUP(B44,Pilot!A:E,5,0)","v":" "},{"$f":"VLOOKUP(B44,Pilot!A:F,6,0)","v":" "},{"$f":"A44","v":31},null,43,"-",{"$f":"IF(COUNTIF('N PMČR 2023'!B:B,B44)=0,\"-\",COUNTIF('N PMČR 2023'!B:B,B44))","v":6},{"$f":"IF(ISERROR(VLOOKUP(B44,'N PMČR 2023'!B:G,6,0)),\"-\",VLOOKUP(B44,'N PMČR 2023'!B:G,6,0))","v":"-"},{"$f":"IF(COUNTIF('N PMRg 2023'!B:B,B44)=0,\"-\",COUNTIF('N PMRg 2023'!B:B,B44))","v":70},{"$f":"IF(ISERROR(VLOOKUP(B44,'N PMRg 2023'!B:G,6,0)),\"-\",VLOOKUP(B44,'N PMRg 2023'!B:G,6,0))","v":"-"}]
[32,"-",{"$f":"VLOOKUP(B45,Pilot!A:C,3,0)","v":" "},{"$f":"VLOOKUP(B45,Pilot!A:C,2,0)","v":" "},{"$f":"VLOOKUP(B45,Pilot!A:E,5,0)","v":" "},{"$f":"VLOOKUP(B45,Pilot!A:F,6,0)","v":" "},32,null,43,"-",{"$f":"IF(COUNTIF('N PMČR 2023'!B:B,B45)=0,\"-\",COUNTIF('N PMČR 2023'!B:B,B45))","v":6},{"$f":"IF(ISERROR(VLOOKUP(B45,'N PMČR 2023'!B:G,6,0)),\"-\",VLOOKUP(B45,'N PMČR 2023'!B:G,6,0))","v":"-"},{"$f":"IF(COUNTIF('N PMRg 2023'!B:B,B45)=0,\"-\",COUNTIF('N PMRg 2023'!B:B,B45))","v":70},{"$f":"IF(ISERROR(VLOOKUP(B45,'N PMRg 2023'!B:G,6,0)),\"-\",VLOOKUP(B45,'N PMRg 2023'!B:G,6,0))","v":"-"}]
[33,"-",{"$f":"VLOOKUP(B46,Pilot!A:C,3,0)","v":" "},{"$f":"VLOOKUP(B46,Pilot!A:C,2,0)","v":" "},{"$f":"VLOOKUP(B46,Pilot!A:E,5,0)","v":" "},{"$f":"VLOOKUP(B46,Pilot!A:F,6,0)","v":" "},33,null,43,"-",{"$f":"IF(COUNTIF('N PMČR 2023'!B:B,B46)=0,\"-\",COUNTIF('N PMČR 2023'!B:B,B46))","v":6},{"$f":"IF(ISERROR(VLOOKUP(B46,'N PMČR 2023'!B:G,6,0)),\"-\",VLOOKUP(B46,'N PMČR 2023'!B:G,6,0))","v":"-"},{"$f":"IF(COUNTIF('N PMRg 2023'!B:B,B46)=0,\"-\",COUNTIF('N PMRg 2023'!B:B,B46))","v":70},{"$f":"IF(ISERROR(VLOOKUP(B46,'N PMRg 2023'!B:G,6,0)),\"-\",VLOOKUP(B46,'N PMRg 2023'!B:G,6,0))","v":"-"}]
[34,"-",{"$f":"VLOOKUP(B47,Pilot!A:C,3,0)","v":" "},{"$f":"VLOOKUP(B47,Pilot!A:C,2,0)","v":" "},{"$f":"VLOOKUP(B47,Pilot!A:E,5,0)","v":" "},{"$f":"VLOOKUP(B47,Pilot!A:F,6,0)","v":" "},{"$f":"A47","v":34},null,43,"-",{"$f":"IF(COUNTIF('N PMČR 2023'!B:B,B47)=0,\"-\",COUNTIF('N PMČR 2023'!B:B,B47))","v":6},{"$f":"IF(ISERROR(VLOOKUP(B47,'N PMČR 2023'!B:G,6,0)),\"-\",VLOOKUP(B47,'N PMČR 2023'!B:G,6,0))","v":"-"},{"$f":"IF(COUNTIF('N PMRg 2023'!B:B,B47)=0,\"-\",COUNTIF('N PMRg 2023'!B:B,B47))","v":70},{"$f":"IF(ISERROR(VLOOKUP(B47,'N PMRg 2023'!B:G,6,0)),\"-\",VLOOKUP(B47,'N PMRg 2023'!B:G,6,0))","v":"-"}]
[35,"-",{"$f":"VLOOKUP(B48,Pilot!A:C,3,0)","v":" "},{"$f":"VLOOKUP(B48,Pilot!A:C,2,0)","v":" "},{"$f":"VLOOKUP(B48,Pilot!A:E,5,0)","v":" "},{"$f":"VLOOKUP(B48,Pilot!A:F,6,0)","v":" "},35,null,43,"-",{"$f":"IF(COUNTIF('N PMČR 2023'!B:B,B48)=0,\"-\",COUNTIF('N PMČR 2023'!B:B,B48))","v":6},{"$f":"IF(ISERROR(VLOOKUP(B48,'N PMČR 2023'!B:G,6,0)),\"-\",VLOOKUP(B48,'N PMČR 2023'!B:G,6,0))","v":"-"},{"$f":"IF(COUNTIF('N PMRg 2023'!B:B,B48)=0,\"-\",COUNTIF('N PMRg 2023'!B:B,B48))","v":70},{"$f":"IF(ISERROR(VLOOKUP(B48,'N PMRg 2023'!B:G,6,0)),\"-\",VLOOKUP(B48,'N PMRg 2023'!B:G,6,0))","v":"-"}]
[36,"-",{"$f":"VLOOKUP(B49,Pilot!A:C,3,0)","v":" "},{"$f":"VLOOKUP(B49,Pilot!A:C,2,0)","v":" "},{"$f":"VLOOKUP(B49,Pilot!A:E,5,0)","v":" "},{"$f":"VLOOKUP(B49,Pilot!A:F,6,0)","v":" "},36,null,43,"-",{"$f":"IF(COUNTIF('N PMČR 2023'!B:B,B49)=0,\"-\",COUNTIF('N PMČR 2023'!B:B,B49))","v":6},{"$f":"IF(ISERROR(VLOOKUP(B49,'N PMČR 2023'!B:G,6,0)),\"-\",VLOOKUP(B49,'N PMČR 2023'!B:G,6,0))","v":"-"},{"$f":"IF(COUNTIF('N PMRg 2023'!B:B,B49)=0,\"-\",COUNTIF('N PMRg 2023'!B:B,B49))","v":70},{"$f":"IF(ISERROR(VLOOKUP(B49,'N PMRg 2023'!B:G,6,0)),\"-\",VLOOKUP(B49,'N PMRg 2023'!B:G,6,0))","v":"-"}]
[37,"-",{"$f":"VLOOKUP(B50,Pilot!A:C,3,0)","v":" "},{"$f":"VLOOKUP(B50,Pilot!A:C,2,0)","v":" "},{"$f":"VLOOKUP(B50,Pilot!A:E,5,0)","v":" "},{"$f":"VLOOKUP(B50,Pilot!A:F,6,0)","v":" "},37,null,43,"-",{"$f":"IF(COUNTIF('N PMČR 2023'!B:B,B50)=0,\"-\",COUNTIF('N PMČR 2023'!B:B,B50))","v":6},{"$f":"IF(ISERROR(VLOOKUP(B50,'N PMČR 2023'!B:G,6,0)),\"-\",VLOOKUP(B50,'N PMČR 2023'!B:G,6,0))","v":"-"},{"$f":"IF(COUNTIF('N PMRg 2023'!B:B,B50)=0,\"-\",COUNTIF('N PMRg 2023'!B:B,B50))","v":70},{"$f":"IF(ISERROR(VLOOKUP(B50,'N PMRg 2023'!B:G,6,0)),\"-\",VLOOKUP(B50,'N PMRg 2023'!B:G,6,0))","v":"-"}]
[38,"-",{"$f":"VLOOKUP(B51,Pilot!A:C,3,0)","v":" "},{"$f":"VLOOKUP(B51,Pilot!A:C,2,0)","v":" "},{"$f":"VLOOKUP(B51,Pilot!A:E,5,0)","v":" "},{"$f":"VLOOKUP(B51,Pilot!A:F,6,0)","v":" "},38,null,43,"-",{"$f":"IF(COUNTIF('N PMČR 2023'!B:B,B51)=0,\"-\",COUNTIF('N PMČR 2023'!B:B,B51))","v":6},{"$f":"IF(ISERROR(VLOOKUP(B51,'N PMČR 2023'!B:G,6,0)),\"-\",VLOOKUP(B51,'N PMČR 2023'!B:G,6,0))","v":"-"},{"$f":"IF(COUNTIF('N PMRg 2023'!B:B,B51)=0,\"-\",COUNTIF('N PMRg 2023'!B:B,B51))","v":70},{"$f":"IF(ISERROR(VLOOKUP(B51,'N PMRg 2023'!B:G,6,0)),\"-\",VLOOKUP(B51,'N PMRg 2023'!B:G,6,0))","v":"-"}]
[39,"-",{"$f":"VLOOKUP(B52,Pilot!A:C,3,0)","v":" "},{"$f":"VLOOKUP(B52,Pilot!A:C,2,0)","v":" "},{"$f":"VLOOKUP(B52,Pilot!A:E,5,0)","v":" "},{"$f":"VLOOKUP(B52,Pilot!A:F,6,0)","v":" "},{"$f":"A52","v":39},null,{"$f":"COUNTIF(B:B,B52)","v":43},{"$f":"IF(ISERROR(VLOOKUP(B52,B:G,6,0)),\"-\",VLOOKUP(B52,B:G,6,0))","v":"-"},{"$f":"IF(COUNTIF('N PMČR 2023'!B:B,B52)=0,\"-\",COUNTIF('N PMČR 2023'!B:B,B52))","v":6},{"$f":"IF(ISERROR(VLOOKUP(B52,'N PMČR 2023'!B:G,6,0)),\"-\",VLOOKUP(B52,'N PMČR 2023'!B:G,6,0))","v":"-"},{"$f":"IF(COUNTIF('N PMRg 2023'!B:B,B52)=0,\"-\",COUNTIF('N PMRg 2023'!B:B,B52))","v":70},{"$f":"IF(ISERROR(VLOOKUP(B52,'N PMRg 2023'!B:G,6,0)),\"-\",VLOOKUP(B52,'N PMRg 2023'!B:G,6,0))","v":"-"}]
[40,"-",{"$f":"VLOOKUP(B53,Pilot!A:C,3,0)","v":" "},{"$f":"VLOOKUP(B53,Pilot!A:C,2,0)","v":" "},{"$f":"VLOOKUP(B53,Pilot!A:E,5,0)","v":" "},{"$f":"VLOOKUP(B53,Pilot!A:F,6,0)","v":" "},40,null,43,"-",{"$f":"IF(COUNTIF('N PMČR 2023'!B:B,B53)=0,\"-\",COUNTIF('N PMČR 2023'!B:B,B53))","v":6},{"$f":"IF(ISERROR(VLOOKUP(B53,'N PMČR 2023'!B:G,6,0)),\"-\",VLOOKUP(B53,'N PMČR 2023'!B:G,6,0))","v":"-"},{"$f":"IF(COUNTIF('N PMRg 2023'!B:B,B53)=0,\"-\",COUNTIF('N PMRg 2023'!B:B,B53))","v":70},{"$f":"IF(ISERROR(VLOOKUP(B53,'N PMRg 2023'!B:G,6,0)),\"-\",VLOOKUP(B53,'N PMRg 2023'!B:G,6,0))","v":"-"}]
["N1","-",{"$f":"VLOOKUP(B54,Pilot!A:C,3,0)","v":" "},{"$f":"VLOOKUP(B54,Pilot!A:C,2,0)","v":" "},{"$f":"VLOOKUP(B54,Pilot!A:E,5,0)","v":" "},{"$f":"VLOOKUP(B54,Pilot!A:F,6,0)","v":" "},"N1",null,{"$f":"COUNTIF(B:B,B54)","v":43},{"$f":"IF(ISERROR(VLOOKUP(B54,B:G,6,0)),\"-\",VLOOKUP(B54,B:G,6,0))","v":"-"},{"$f":"IF(COUNTIF('N PMČR 2023'!B:B,B54)=0,\"-\",COUNTIF('N PMČR 2023'!B:B,B54))","v":6},{"$f":"IF(ISERROR(VLOOKUP(B54,'N PMČR 2023'!B:G,6,0)),\"-\",VLOOKUP(B54,'N PMČR 2023'!B:G,6,0))","v":"-"},{"$f":"IF(COUNTIF('N PMRg 2023'!B:B,B54)=0,\"-\",COUNTIF('N PMRg 2023'!B:B,B54))","v":70},{"$f":"IF(ISERROR(VLOOKUP(B54,'N PMRg 2023'!B:G,6,0)),\"-\",VLOOKUP(B54,'N PMRg 2023'!B:G,6,0))","v":"-"}]
["N2","-",{"$f":"VLOOKUP(B55,Pilot!A:C,3,0)","v":" "},{"$f":"VLOOKUP(B55,Pilot!A:C,2,0)","v":" "},{"$f":"VLOOKUP(B55,Pilot!A:E,5,0)","v":" "},{"$f":"VLOOKUP(B55,Pilot!A:F,6,0)","v":" "},"N2",null,{"$f":"COUNTIF(B:B,B55)","v":43},{"$f":"IF(ISERROR(VLOOKUP(B55,B:G,6,0)),\"-\",VLOOKUP(B55,B:G,6,0))","v":"-"},{"$f":"IF(COUNTIF('N PMČR 2023'!B:B,B55)=0,\"-\",COUNTIF('N PMČR 2023'!B:B,B55))","v":6},{"$f":"IF(ISERROR(VLOOKUP(B55,'N PMČR 2023'!B:G,6,0)),\"-\",VLOOKUP(B55,'N PMČR 2023'!B:G,6,0))","v":"-"},{"$f":"IF(COUNTIF('N PMRg 2023'!B:B,B55)=0,\"-\",COUNTIF('N PMRg 2023'!B:B,B55))","v":70},{"$f":"IF(ISERROR(VLOOKUP(B55,'N PMRg 2023'!B:G,6,0)),\"-\",VLOOKUP(B55,'N PMRg 2023'!B:G,6,0))","v":"-"}]
["N3","-",{"$f":"VLOOKUP(B56,Pilot!A:C,3,0)","v":" "},{"$f":"VLOOKUP(B56,Pilot!A:C,2,0)","v":" "},{"$f":"VLOOKUP(B56,Pilot!A:E,5,0)","v":" "},{"$f":"VLOOKUP(B56,Pilot!A:F,6,0)","v":" "},"N3",null,{"$f":"COUNTIF(B:B,B56)","v":43},{"$f":"IF(ISERROR(VLOOKUP(B56,B:G,6,0)),\"-\",VLOOKUP(B56,B:G,6,0))","v":"-"},{"$f":"IF(COUNTIF('N PMČR 2023'!B:B,B56)=0,\"-\",COUNTIF('N PMČR 2023'!B:B,B56))","v":6},{"$f":"IF(ISERROR(VLOOKUP(B56,'N PMČR 2023'!B:G,6,0)),\"-\",VLOOKUP(B56,'N PMČR 2023'!B:G,6,0))","v":"-"},{"$f":"IF(COUNTIF('N PMRg 2023'!B:B,B56)=0,\"-\",COUNTIF('N PMRg 2023'!B:B,B56))","v":70},{"$f":"IF(ISERROR(VLOOKUP(B56,'N PMRg 2023'!B:G,6,0)),\"-\",VLOOKUP(B56,'N PMRg 2023'!B:G,6,0))","v":"-"}]
["N4","-",{"$f":"VLOOKUP(B57,Pilot!A:C,3,0)","v":" "},{"$f":"VLOOKUP(B57,Pilot!A:C,2,0)","v":" "},{"$f":"VLOOKUP(B57,Pilot!A:E,5,0)","v":" "},{"$f":"VLOOKUP(B57,Pilot!A:F,6,0)","v":" "},"N4",null,{"$f":"COUNTIF(B:B,B57)","v":43},{"$f":"IF(ISERROR(VLOOKUP(B57,B:G,6,0)),\"-\",VLOOKUP(B57,B:G,6,0))","v":"-"},{"$f":"IF(COUNTIF('N PMČR 2023'!B:B,B57)=0,\"-\",COUNTIF('N PMČR 2023'!B:B,B57))","v":6},{"$f":"IF(ISERROR(VLOOKUP(B57,'N PMČR 2023'!B:G,6,0)),\"-\",VLOOKUP(B57,'N PMČR 2023'!B:G,6,0))","v":"-"},{"$f":"IF(COUNTIF('N PMRg 2023'!B:B,B57)=0,\"-\",COUNTIF('N PMRg 2023'!B:B,B57))","v":70},{"$f":"IF(ISERROR(VLOOKUP(B57,'N PMRg 2023'!B:G,6,0)),\"-\",VLOOKUP(B57,'N PMRg 2023'!B:G,6,0))","v":"-"}]
["N5","-",{"$f":"VLOOKUP(B58,Pilot!A:C,3,0)","v":" "},{"$f":"VLOOKUP(B58,Pilot!A:C,2,0)","v":" "},{"$f":"VLOOKUP(B58,Pilot!A:E,5,0)","v":" "},{"$f":"VLOOKUP(B58,Pilot!A:F,6,0)","v":" "},"N5",null,{"$f":"COUNTIF(B:B,B58)","v":43},{"$f":"IF(ISERROR(VLOOKUP(B58,B:G,6,0)),\"-\",VLOOKUP(B58,B:G,6,0))","v":"-"},{"$f":"IF(COUNTIF('N PMČR 2023'!B:B,B58)=0,\"-\",COUNTIF('N PMČR 2023'!B:B,B58))","v":6},{"$f":"IF(ISERROR(VLOOKUP(B58,'N PMČR 2023'!B:G,6,0)),\"-\",VLOOKUP(B58,'N PMČR 2023'!B:G,6,0))","v":"-"},{"$f":"IF(COUNTIF('N PMRg 2023'!B:B,B58)=0,\"-\",COUNTIF('N PMRg 2023'!B:B,B58))","v":70},{"$f":"IF(ISERROR(VLOOKUP(B58,'N PMRg 2023'!B:G,6,0)),\"-\",VLOOKUP(B58,'N PMRg 2023'!B:G,6,0))","v":"-"}]
["6.7.5.5.","akademici, kteří nesplňují statut juniora, mají na PMČRj rezervováno 5 soutěžních míst nad rámec nominace stanovené bodem 6.7.5.4."]
["-","-",{"$f":"VLOOKUP(B60,Pilot!A:C,3,0)","v":" "},{"$f":"VLOOKUP(B60,Pilot!A:C,2,0)","v":" "},{"$f":"VLOOKUP(B60,Pilot!A:E,5,0)","v":" "},{"$f":"VLOOKUP(B60,Pilot!A:F,6,0)","v":" "},{"$f":"A60","v":"-"},null,{"$f":"COUNTIF(B:B,B60)","v":43},{"$f":"IF(ISERROR(VLOOKUP(B60,B:G,6,0)),\"-\",VLOOKUP(B60,B:G,6,0))","v":"-"},{"$f":"IF(COUNTIF('N PMČR 2023'!B:B,B60)=0,\"-\",COUNTIF('N PMČR 2023'!B:B,B60))","v":6},{"$f":"IF(ISERROR(VLOOKUP(B60,'N PMČR 2023'!B:G,6,0)),\"-\",VLOOKUP(B60,'N PMČR 2023'!B:G,6,0))","v":"-"},{"$f":"IF(COUNTIF('N PMRg 2023'!B:B,B60)=0,\"-\",COUNTIF('N PMRg 2023'!B:B,B60))","v":70},{"$f":"IF(ISERROR(VLOOKUP(B60,'N PMRg 2023'!B:G,6,0)),\"-\",VLOOKUP(B60,'N PMRg 2023'!B:G,6,0))","v":"-"}]
["-","-",{"$f":"VLOOKUP(B61,Pilot!A:C,3,0)","v":" "},{"$f":"VLOOKUP(B61,Pilot!A:C,2,0)","v":" "},{"$f":"VLOOKUP(B61,Pilot!A:E,5,0)","v":" "},{"$f":"VLOOKUP(B61,Pilot!A:F,6,0)","v":" "},{"$f":"A61","v":"-"},null,{"$f":"COUNTIF(B:B,B61)","v":43},{"$f":"IF(ISERROR(VLOOKUP(B61,B:G,6,0)),\"-\",VLOOKUP(B61,B:G,6,0))","v":"-"},{"$f":"IF(COUNTIF('N PMČR 2023'!B:B,B61)=0,\"-\",COUNTIF('N PMČR 2023'!B:B,B61))","v":6},{"$f":"IF(ISERROR(VLOOKUP(B61,'N PMČR 2023'!B:G,6,0)),\"-\",VLOOKUP(B61,'N PMČR 2023'!B:G,6,0))","v":"-"},{"$f":"IF(COUNTIF('N PMRg 2023'!B:B,B61)=0,\"-\",COUNTIF('N PMRg 2023'!B:B,B61))","v":70},{"$f":"IF(ISERROR(VLOOKUP(B61,'N PMRg 2023'!B:G,6,0)),\"-\",VLOOKUP(B61,'N PMRg 2023'!B:G,6,0))","v":"-"}]
["-","-",{"$f":"VLOOKUP(B62,Pilot!A:C,3,0)","v":" "},{"$f":"VLOOKUP(B62,Pilot!A:C,2,0)","v":" "},{"$f":"VLOOKUP(B62,Pilot!A:E,5,0)","v":" "},{"$f":"VLOOKUP(B62,Pilot!A:F,6,0)","v":" "},{"$f":"A62","v":"-"},null,{"$f":"COUNTIF(B:B,B62)","v":43},{"$f":"IF(ISERROR(VLOOKUP(B62,B:G,6,0)),\"-\",VLOOKUP(B62,B:G,6,0))","v":"-"},{"$f":"IF(COUNTIF('N PMČR 2023'!B:B,B62)=0,\"-\",COUNTIF('N PMČR 2023'!B:B,B62))","v":6},{"$f":"IF(ISERROR(VLOOKUP(B62,'N PMČR 2023'!B:G,6,0)),\"-\",VLOOKUP(B62,'N PMČR 2023'!B:G,6,0))","v":"-"},{"$f":"IF(COUNTIF('N PMRg 2023'!B:B,B62)=0,\"-\",COUNTIF('N PMRg 2023'!B:B,B62))","v":70},{"$f":"IF(ISERROR(VLOOKUP(B62,'N PMRg 2023'!B:G,6,0)),\"-\",VLOOKUP(B62,'N PMRg 2023'!B:G,6,0))","v":"-"}]
["-","-",{"$f":"VLOOKUP(B63,Pilot!A:C,3,0)","v":" "},{"$f":"VLOOKUP(B63,Pilot!A:C,2,0)","v":" "},{"$f":"VLOOKUP(B63,Pilot!A:E,5,0)","v":" "},{"$f":"VLOOKUP(B63,Pilot!A:F,6,0)","v":" "},{"$f":"A63","v":"-"},null,{"$f":"COUNTIF(B:B,B63)","v":43},{"$f":"IF(ISERROR(VLOOKUP(B63,B:G,6,0)),\"-\",VLOOKUP(B63,B:G,6,0))","v":"-"},{"$f":"IF(COUNTIF('N PMČR 2023'!B:B,B63)=0,\"-\",COUNTIF('N PMČR 2023'!B:B,B63))","v":6},{"$f":"IF(ISERROR(VLOOKUP(B63,'N PMČR 2023'!B:G,6,0)),\"-\",VLOOKUP(B63,'N PMČR 2023'!B:G,6,0))","v":"-"},{"$f":"IF(COUNTIF('N PMRg 2023'!B:B,B63)=0,\"-\",COUNTIF('N PMRg 2023'!B:B,B63))","v":70},{"$f":"IF(ISERROR(VLOOKUP(B63,'N PMRg 2023'!B:G,6,0)),\"-\",VLOOKUP(B63,'N PMRg 2023'!B:G,6,0))","v":"-"}]
["-","-",{"$f":"VLOOKUP(B64,Pilot!A:C,3,0)","v":" "},{"$f":"VLOOKUP(B64,Pilot!A:C,2,0)","v":" "},{"$f":"VLOOKUP(B64,Pilot!A:E,5,0)","v":" "},{"$f":"VLOOKUP(B64,Pilot!A:F,6,0)","v":" "},{"$f":"A64","v":"-"},null,{"$f":"COUNTIF(B:B,B64)","v":43},{"$f":"IF(ISERROR(VLOOKUP(B64,B:G,6,0)),\"-\",VLOOKUP(B64,B:G,6,0))","v":"-"},{"$f":"IF(COUNTIF('N PMČR 2023'!B:B,B64)=0,\"-\",COUNTIF('N PMČR 2023'!B:B,B64))","v":6},{"$f":"IF(ISERROR(VLOOKUP(B64,'N PMČR 2023'!B:G,6,0)),\"-\",VLOOKUP(B64,'N PMČR 2023'!B:G,6,0))","v":"-"},{"$f":"IF(COUNTIF('N PMRg 2023'!B:B,B64)=0,\"-\",COUNTIF('N PMRg 2023'!B:B,B64))","v":70},{"$f":"IF(ISERROR(VLOOKUP(B64,'N PMRg 2023'!B:G,6,0)),\"-\",VLOOKUP(B64,'N PMRg 2023'!B:G,6,0))","v":"-"}]
["6.7.5.6.","další soutěžící může navrhnout PK podle jiných kritérií dle odstavce 9. SŘ"]
["-","-",{"$f":"VLOOKUP(B66,Pilot!A:C,3,0)","v":" "},{"$f":"VLOOKUP(B66,Pilot!A:C,2,0)","v":" "},{"$f":"VLOOKUP(B66,Pilot!A:E,5,0)","v":" "},{"$f":"VLOOKUP(B66,Pilot!A:F,6,0)","v":" "},{"$f":"A66","v":"-"},null,{"$f":"COUNTIF(B:B,B66)","v":43},{"$f":"IF(ISERROR(VLOOKUP(B66,B:G,6,0)),\"-\",VLOOKUP(B66,B:G,6,0))","v":"-"},{"$f":"IF(COUNTIF('N PMČR 2023'!B:B,B66)=0,\"-\",COUNTIF('N PMČR 2023'!B:B,B66))","v":6},{"$f":"IF(ISERROR(VLOOKUP(B66,'N PMČR 2023'!B:G,6,0)),\"-\",VLOOKUP(B66,'N PMČR 2023'!B:G,6,0))","v":"-"},{"$f":"IF(COUNTIF('N PMRg 2023'!B:B,B66)=0,\"-\",COUNTIF('N PMRg 2023'!B:B,B66))","v":70},{"$f":"IF(ISERROR(VLOOKUP(B66,'N PMRg 2023'!B:G,6,0)),\"-\",VLOOKUP(B66,'N PMRg 2023'!B:G,6,0))","v":"-"}]
["-","-",{"$f":"VLOOKUP(B67,Pilot!A:C,3,0)","v":" "},{"$f":"VLOOKUP(B67,Pilot!A:C,2,0)","v":" "},{"$f":"VLOOKUP(B67,Pilot!A:E,5,0)","v":" "},{"$f":"VLOOKUP(B67,Pilot!A:F,6,0)","v":" "},{"$f":"A67","v":"-"},null,{"$f":"COUNTIF(B:B,B67)","v":43},{"$f":"IF(ISERROR(VLOOKUP(B67,B:G,6,0)),\"-\",VLOOKUP(B67,B:G,6,0))","v":"-"},{"$f":"IF(COUNTIF('N PMČR 2023'!B:B,B67)=0,\"-\",COUNTIF('N PMČR 2023'!B:B,B67))","v":6},{"$f":"IF(ISERROR(VLOOKUP(B67,'N PMČR 2023'!B:G,6,0)),\"-\",VLOOKUP(B67,'N PMČR 2023'!B:G,6,0))","v":"-"},{"$f":"IF(COUNTIF('N PMRg 2023'!B:B,B67)=0,\"-\",COUNTIF('N PMRg 2023'!B:B,B67))","v":70},{"$f":"IF(ISERROR(VLOOKUP(B67,'N PMRg 2023'!B:G,6,0)),\"-\",VLOOKUP(B67,'N PMRg 2023'!B:G,6,0))","v":"-"}]
["-","-",{"$f":"VLOOKUP(B68,Pilot!A:C,3,0)","v":" "},{"$f":"VLOOKUP(B68,Pilot!A:C,2,0)","v":" "},{"$f":"VLOOKUP(B68,Pilot!A:E,5,0)","v":" "},{"$f":"VLOOKUP(B68,Pilot!A:F,6,0)","v":" "},{"$f":"A68","v":"-"},null,{"$f":"COUNTIF(B:B,B68)","v":43},{"$f":"IF(ISERROR(VLOOKUP(B68,B:G,6,0)),\"-\",VLOOKUP(B68,B:G,6,0))","v":"-"},{"$f":"IF(COUNTIF('N PMČR 2023'!B:B,B68)=0,\"-\",COUNTIF('N PMČR 2023'!B:B,B68))","v":6},{"$f":"IF(ISERROR(VLOOKUP(B68,'N PMČR 2023'!B:G,6,0)),\"-\",VLOOKUP(B68,'N PMČR 2023'!B:G,6,0))","v":"-"},{"$f":"IF(COUNTIF('N PMRg 2023'!B:B,B68)=0,\"-\",COUNTIF('N PMRg 2023'!B:B,B68))","v":70},{"$f":"IF(ISERROR(VLOOKUP(B68,'N PMRg 2023'!B:G,6,0)),\"-\",VLOOKUP(B68,'N PMRg 2023'!B:G,6,0))","v":"-"}]
["-","-",{"$f":"VLOOKUP(B69,Pilot!A:C,3,0)","v":" "},{"$f":"VLOOKUP(B69,Pilot!A:C,2,0)","v":" "},{"$f":"VLOOKUP(B69,Pilot!A:E,5,0)","v":" "},{"$f":"VLOOKUP(B69,Pilot!A:F,6,0)","v":" "},{"$f":"A69","v":"-"},null,{"$f":"COUNTIF(B:B,B69)","v":43},{"$f":"IF(ISERROR(VLOOKUP(B69,B:G,6,0)),\"-\",VLOOKUP(B69,B:G,6,0))","v":"-"},{"$f":"IF(COUNTIF('N PMČR 2023'!B:B,B69)=0,\"-\",COUNTIF('N PMČR 2023'!B:B,B69))","v":6},{"$f":"IF(ISERROR(VLOOKUP(B69,'N PMČR 2023'!B:G,6,0)),\"-\",VLOOKUP(B69,'N PMČR 2023'!B:G,6,0))","v":"-"},{"$f":"IF(COUNTIF('N PMRg 2023'!B:B,B69)=0,\"-\",COUNTIF('N PMRg 2023'!B:B,B69))","v":70},{"$f":"IF(ISERROR(VLOOKUP(B69,'N PMRg 2023'!B:G,6,0)),\"-\",VLOOKUP(B69,'N PMRg 2023'!B:G,6,0))","v":"-"}]
["-","-",{"$f":"VLOOKUP(B70,Pilot!A:C,3,0)","v":" "},{"$f":"VLOOKUP(B70,Pilot!A:C,2,0)","v":" "},{"$f":"VLOOKUP(B70,Pilot!A:E,5,0)","v":" "},{"$f":"VLOOKUP(B70,Pilot!A:F,6,0)","v":" "},{"$f":"A70","v":"-"},null,{"$f":"COUNTIF(B:B,B70)","v":43},{"$f":"IF(ISERROR(VLOOKUP(B70,B:G,6,0)),\"-\",VLOOKUP(B70,B:G,6,0))","v":"-"},{"$f":"IF(COUNTIF('N PMČR 2023'!B:B,B70)=0,\"-\",COUNTIF('N PMČR 2023'!B:B,B70))","v":6},{"$f":"IF(ISERROR(VLOOKUP(B70,'N PMČR 2023'!B:G,6,0)),\"-\",VLOOKUP(B70,'N PMČR 2023'!B:G,6,0))","v":"-"},{"$f":"IF(COUNTIF('N PMRg 2023'!B:B,B70)=0,\"-\",COUNTIF('N PMRg 2023'!B:B,B70))","v":70},{"$f":"IF(ISERROR(VLOOKUP(B70,'N PMRg 2023'!B:G,6,0)),\"-\",VLOOKUP(B70,'N PMRg 2023'!B:G,6,0))","v":"-"}]
[]
["6.7.6.","Statut juniora"]
[null,"Za juniora jsou považování všichni soutěžící, kteří dovrší maximálně 25 let v kalendářním roce konání soutěže."]
["6.7.6.","Statut akademika"]
[null,"Za akademika jsou považováni všichni soutěžící, kteří jsou řádnými studenty (vlastní platný studijní index) pregraduálního prezenčního, kombinovaného, nebo postgraduálního studia. Dále absolventi jakéhokoliv vysokoškolského studia do 1 roku po promoci."]
[null,"Týká se pouze Vysokých škol registrovaných u MŠMT."]
[null,"Účast akademiků na PMČRj je omezena dovršením maximálně 28 let v kalendářním roce konání soutěže."]