{"text_format":"1","workbook":"xlsx","n_sheets":15,"sheets":["Zmeny","Soutez","Kp","Pilot","Region","Data","Temp","Zebrik G","Zebrik W","KB PMRg 2019","KB PMRg 2020","KB PMRg 2021","N PMČR 2022","N PMRg 2022","N PMČRj 2022"],"not_rendered":{"charts":0,"images":0,"macros":1,"external_links":0,"defined_names":37,"comments":2,"pivot_tables":2},"unopened":[],"bounds":{"document_bytes":16777216,"sheet_cells":100000,"rows_first":2000,"rows_last":500,"rows_between":2000,"halvings":0,"cell_chars":16384,"cell_head_chars":4096},"cells_cut":0,"cells_raw":0,"read":"whole","date_system":"1900"}

{"sheet":"Zmeny","index":0,"n_rows":3,"n_cols":3,"rows_kept":3,"cut":false,"hidden":false,"merged":[[0,1,0,2]]}
[null,"Změna"]
["Datum","Rev","Popis"]
["2021-11-25","00","Základní verze"]

{"sheet":"Soutez","index":1,"n_rows":139,"n_cols":17,"rows_kept":139,"cut":false,"hidden":false,"merged":[]}
["No.","Soutěž","Stát","Rok","Místo","Termín","Poč. disc.","Poč. pilotů","Ki","Kn1","Kn2","Kp","Kinp","dKinp","Web","Results","Poznámka"]
[null,"Zařazené soutěže 2019:"]
[null,"AZ Cup 2019 - Klub","CZ",2019,"Zbraslavice","1.5.-11.5.19",6,37,0.9,5.0000000000000001E-3,null,{"$f":"VLOOKUP(G3,Kp!$A$4:$B$24,2,FALSE)","v":0.01},{"$f":"IF(OR(G3=0,G3=1,G3=2),0,IF(H3<10,0,SUM(I3:L3)))","v":0.91500000000000004},{"$f":"M3-I3","v":1.5000000000000013E-2},null,"https://www.soaringspot.com/cs/az-cup-2019-zbraslavice-2019/results/klubova-trida"]
[null,"AZ Cup 2019 - Kombi","CZ",2019,"Zbraslavice","1.5.-11.5.19",6,30,0.9,2.5000000000000001E-2,null,{"$f":"VLOOKUP(G4,Kp!$A$4:$B$24,2,FALSE)","v":0.01},0.93500000000000005,3.5000000000000031E-2,null,"https://www.soaringspot.com/cs/az-cup-2019-zbraslavice-2019/results/kombinovana-trida"]
["15.","JPJ 2019 - Klub","CZ",2019,"Šumperk","1.5.-11.5.19",4,36,0.9,null,null,{"$f":"VLOOKUP(G5,Kp!$A$4:$B$24,2,FALSE)","v":0},0.9,0,null,"https://www.soaringspot.com/cs/jpj2019/results/klubova-trida"]
["15.","JPJ 2019 - Kombi","CZ",2019,"Šumperk","1.5.-11.5.19",5,28,0.9,null,null,{"$f":"VLOOKUP(G6,Kp!$A$4:$B$24,2,FALSE)","v":5.0000000000000001E-3},0.90500000000000003,5.0000000000000044E-3,null,"https://www.soaringspot.com/cs/jpj2019/results/kombi-trida"]
[null,"GGP MB 2019 - Klub GP","CZ",2019,"Mladá Boleslav","29.6.-6.7.19",6,9,0.9,null,null,{"$f":"VLOOKUP(G7,Kp!$A$4:$B$24,2,FALSE)","v":0.01},0,-0.9,null,"https://www.soaringspot.com/cs/gradient-club-grand-prix-2019-mlada-boleslav-2019/results/club-gp","Méně jak 10 soutěžících ve třídě"]
[null,"GGP MB 2019 - Pohár MV - Kombi","CZ",2019,"Mladá Boleslav","29.6.-6.7.19",6,6,0.75,null,null,{"$f":"VLOOKUP(G8,Kp!$A$4:$B$24,2,FALSE)","v":0.01},0,-0.75,null,"https://www.soaringspot.com/cs/gradient-club-grand-prix-2019-mlada-boleslav-2019/results/pohar-metodeje-vlach","Méně jak 10 soutěžících ve třídě"]
[null,"Adrenalin GP 2019 - Klub GP","CZ",2019,"Frýdlant n/Ostr.","28.6.-6.7.19",7,12,0.9,null,null,{"$f":"VLOOKUP(G9,Kp!$A$4:$B$24,2,FALSE)","v":1.4999999999999999E-2},0.91500000000000004,{"$f":"M9-I9","v":1.5000000000000013E-2},null,"https://www.soaringspot.com/cs/fl-2019-adrenalin-grand-prix-frydlant-2019/results/unknown"]
[null,"FL 2019 - Kombi","CZ",2019,"Frýdlant n/Ostr.","28.6.-6.7.19",7,14,0.75,null,null,{"$f":"VLOOKUP(G10,Kp!$A$4:$B$24,2,FALSE)","v":1.4999999999999999E-2},0.76500000000000001,1.5000000000000013E-2,null,"https://www.soaringspot.com/cs/fl-2019-adrenalin-grand-prix-frydlant-2019/results/fl"]
[null,"PMČRj 2019 - Klub","CZ",2019,"Jaroměř","30.6.-12.7.19",7,31,0.9,0.01,null,{"$f":"VLOOKUP(G11,Kp!$A$4:$B$24,2,FALSE)","v":1.4999999999999999E-2},0.92500000000000004,2.5000000000000022E-2,null,"https://www.soaringspot.com/cs/plachtarske-mistrovstvi-cr-junioru-a-akademiku-2019-jaromer-2019/results/club"]
[null,"Safari 2019 - Duo Kombi","CZ",2019,"Dvůr Králové","29.6.-13.7.19",7,15,0.75,5.0000000000000001E-3,null,{"$f":"VLOOKUP(G12,Kp!$A$4:$B$24,2,FALSE)","v":1.4999999999999999E-2},0.77,2.0000000000000018E-2,null,"https://www.soaringspot.com/cs/safari-cup-2019-dvur-kralove-nad-labem-2019/results/double-seater"]
[null,"Safari 2019 - Klub","CZ",2019,"Dvůr Králové","29.6.-13.7.19",7,28,0.75,null,null,{"$f":"VLOOKUP(G13,Kp!$A$4:$B$24,2,FALSE)","v":1.4999999999999999E-2},0.76500000000000001,1.5000000000000013E-2,null,"https://www.soaringspot.com/cs/safari-cup-2019-dvur-kralove-nad-labem-2019/results/klub"]
[null,"Safari 2019 - Kombi","CZ",2019,"Dvůr Králové","29.6.-13.7.19",7,11,0.75,5.0000000000000001E-3,null,{"$f":"VLOOKUP(G14,Kp!$A$4:$B$24,2,FALSE)","v":1.4999999999999999E-2},0.77,2.0000000000000018E-2,null,"https://www.soaringspot.com/cs/safari-cup-2019-dvur-kralove-nad-labem-2019/results/volna"]
[null,"PPV 2019 - Klub","CZ",2019,"Havlíčkův Brod","13.7.-20.7.19",4,47,0.9,null,null,{"$f":"VLOOKUP(G15,Kp!$A$4:$B$24,2,FALSE)","v":0},0.9,0,null,"https://www.soaringspot.com/cs/plachtarsky-pohar-vysociny-2019-havlickuv-brod-2019/results/klubova-trida"]
[null,"PPV 2019 - Kombi","CZ",2019,"Havlíčkův Brod","13.7.-20.7.19",4,19,0.9,5.0000000000000001E-3,null,{"$f":"VLOOKUP(G16,Kp!$A$4:$B$24,2,FALSE)","v":0},0.90500000000000003,5.0000000000000044E-3,null,"https://www.soaringspot.com/cs/plachtarsky-pohar-vysociny-2019-havlickuv-brod-2019/results/kombinovana-trida"]
[null,"Toužim Cup 2019 - Klub","CZ",2019,"Toužim","23.7.-21.7.19",5,31,0.9,5.0000000000000001E-3,null,{"$f":"VLOOKUP(G17,Kp!$A$4:$B$24,2,FALSE)","v":5.0000000000000001E-3},0.91,1.0000000000000009E-2,null,"https://www.soaringspot.com/cs/touzim-cup-2019-touzim1-2019/results/club"]
[null,"Toužim Cup 2019 - Kombi","CZ",2019,"Toužim","23.7.-21.7.19",5,22,0.9,null,null,{"$f":"VLOOKUP(G18,Kp!$A$4:$B$24,2,FALSE)","v":5.0000000000000001E-3},0.90500000000000003,{"$f":"M18-I18","v":5.0000000000000044E-3},null,"https://www.soaringspot.com/cs/touzim-cup-2019-touzim1-2019/results/kombi"]
[null,"PMRg 2019 - Klub","CZ",2019,"Vysoké Mýto","21.7.-3.8.19",8,24,0.9,1.4999999999999999E-2,null,{"$f":"VLOOKUP(G19,Kp!$A$4:$B$24,2,FALSE)","v":0.02},0.93500000000000005,3.5000000000000031E-2,null,"https://www.soaringspot.com/cs/plachtarske-mistrovstvi-regionu-2019-vysoke-myto-2019/results/klubova-trida"]
[null,"PMRg 2019 - Kombi","CZ",2019,"Vysoké Mýto","21.7.-3.8.19",8,13,0.9,1.4999999999999999E-2,null,{"$f":"VLOOKUP(G20,Kp!$A$4:$B$24,2,FALSE)","v":0.02},0.93500000000000005,3.5000000000000031E-2,null,"https://www.soaringspot.com/cs/plachtarske-mistrovstvi-regionu-2019-vysoke-myto-2019/results/kombinovana-trida"]
[null,"Pohár Českého Ráje 2019 - Kombi","CZ",2019,"Jičín","27.7.-3.8.19",3,12,0.75,null,null,{"$f":"VLOOKUP(G21,Kp!$A$4:$B$24,2,FALSE)","v":-0.02},0.73,-2.0000000000000018E-2,null,"https://www.soaringspot.com/cs/pohar-ceskeho-raje-2019-jicin-2019/results/unknown"]
[null,"Ranský Pohár 2019 - Kombi","CZ",2019,"Raná","27.7.-4.8.19",3,16,0.75,null,null,{"$f":"VLOOKUP(G22,Kp!$A$4:$B$24,2,FALSE)","v":-0.02},0.73,-2.0000000000000018E-2,null,"https://www.soaringspot.com/cs/ransky-pohar-2019-rana-loumy-2019/results/club"]
["18.","HOP 2019 - Klub","CZ",2019,"Hronov","10.8.-17.8.19",2,27,0.75,null,null,{"$f":"VLOOKUP(G23,Kp!$A$4:$B$24,2,FALSE)","v":0},0,-0.75,null,"https://www.soaringspot.com/cs/18-hop-2019-velke-porici-2019/results/klub-hop","Méně jak 3 platné disciplíny"]
["18.","HOP 2019 - Kombi","CZ",2019,"Hronov","10.8.-17.8.19",5,16,0.75,null,null,{"$f":"VLOOKUP(G24,Kp!$A$4:$B$24,2,FALSE)","v":5.0000000000000001E-3},0.755,{"$f":"M24-I24","v":5.0000000000000044E-3},null,"https://www.soaringspot.com/cs/18-hop-2019-velke-porici-2019/results/kombi-ppf"]
[null,"PMČR 2019 - Klub","CZ",2019,"Moravská Třebová","12.8.-24.8.19",7,28,1,0.05,null,{"$f":"VLOOKUP(G25,Kp!$A$4:$B$24,2,FALSE)","v":1.4999999999999999E-2},1.0649999999999999,6.4999999999999947E-2,null,"https://www.soaringspot.com/cs/plachtarske-mistrovstvi-cr-2019-moravska-trebova-2019/results/15-meter"]
[null,"PMČR 2019 - Kombi 15m","CZ",2019,"Moravská Třebová","12.8.-24.8.19",6,13,1,0.04,0.02,{"$f":"VLOOKUP(G26,Kp!$A$4:$B$24,2,FALSE)","v":0.01},1.07,{"$f":"M26-I26","v":7.0000000000000062E-2},null,"https://www.soaringspot.com/cs/plachtarske-mistrovstvi-cr-2019-moravska-trebova-2019/results/kombi-15m"]
[null,"PMČR 2019 - Kombi Open","CZ",2019,"Moravská Třebová","12.8.-24.8.19",7,13,1,1.4999999999999999E-2,null,{"$f":"VLOOKUP(G27,Kp!$A$4:$B$24,2,FALSE)","v":1.4999999999999999E-2},1.0299999999999998,2.9999999999999805E-2,null,"https://www.soaringspot.com/cs/plachtarske-mistrovstvi-cr-2019-moravska-trebova-2019/results/kombi-open"]
[null,"Zbraslavický bludišťák 2019 - Kombi","CZ",2019,"Zbraslavice","31.8.-15.9.19",2,19,0.75,null,null,{"$f":"VLOOKUP(G28,Kp!$A$4:$B$24,2,FALSE)","v":0},0,-0.75,null,"https://www.soaringspot.com/cs/zbraslavicky-bludistak-zbraslavice-2019/results/otevrena-trida","Méně jak 3 platné disciplíny"]
[null,"Pribina Cup 2019 - Klub","SK",2019,"Nitra","19.4.-27.4.19",4,43,0.9,4.4999999999999998E-2,null,{"$f":"VLOOKUP(G29,Kp!$A$4:$B$24,2,FALSE)","v":0},0.94500000000000006,4.500000000000004E-2,null,"https://www.soaringspot.com/cs/pribina-cup-2019-nitra-2019/results/club"]
[null,"Pribina Cup 2019 - Kombi 15m","SK",2019,"Nitra","19.4.-27.4.19",5,37,0.9,4.4999999999999998E-2,null,{"$f":"VLOOKUP(G30,Kp!$A$4:$B$24,2,FALSE)","v":5.0000000000000001E-3},0.95000000000000007,5.0000000000000044E-2,null,"https://www.soaringspot.com/cs/pribina-cup-2019-nitra-2019/results/15m"]
[null,"Pribina Cup 2019 - Kombi Open","SK",2019,"Nitra","19.4.-27.4.19",4,36,0.9,6.5000000000000002E-2,null,{"$f":"VLOOKUP(G31,Kp!$A$4:$B$24,2,FALSE)","v":0},0.96500000000000008,6.5000000000000058E-2,null,"https://www.soaringspot.com/cs/pribina-cup-2019-nitra-2019/results/open"]
[null,"Pribina Cup 2019 - Duo 20m","SK",2019,"Nitra","19.4.-27.4.19",5,13,0.9,1.4999999999999999E-2,null,{"$f":"VLOOKUP(G32,Kp!$A$4:$B$24,2,FALSE)","v":5.0000000000000001E-3},0.92,2.0000000000000018E-2,null,"https://www.soaringspot.com/cs/pribina-cup-2019-nitra-2019/results/20m-double-seater"]
[null,"FCC 2019 - Klub","SK",2019,"Prievidza","28.4.-9.5.19",4,39,0.9,6.5000000000000002E-2,null,{"$f":"VLOOKUP(G33,Kp!$A$4:$B$24,2,FALSE)","v":0},0.96500000000000008,6.5000000000000058E-2,null,"https://www.soaringspot.com/cs/fcc-gliding-2019-prievidza-2019/results/club"]
[null,"FCC 2019 - Kombi 15m","SK",2019,"Prievidza","28.4.-9.5.19",4,38,0.9,0.08,null,{"$f":"VLOOKUP(G34,Kp!$A$4:$B$24,2,FALSE)","v":0},0.98,7.999999999999996E-2,null,"https://www.soaringspot.com/cs/fcc-gliding-2019-prievidza-2019/results/15-m"]
[null,"FCC 2019 - Kombi Open","SK",2019,"Prievidza","28.4.-9.5.19",4,27,0.9,3.5000000000000003E-2,null,{"$f":"VLOOKUP(G35,Kp!$A$4:$B$24,2,FALSE)","v":0},0.93500000000000005,3.5000000000000031E-2,null,"https://www.soaringspot.com/cs/fcc-gliding-2019-prievidza-2019/results/combi"]
[null,"Šariš Cup 2019 - Klub","SK",2019,"Ražňany","1.6.-9.6.19",4,14,0.75,null,null,{"$f":"VLOOKUP(G36,Kp!$A$4:$B$24,2,FALSE)","v":0},0.75,0,null,"https://www.soaringspot.com/cs/sariscup2019/results/club"]
[null,"Šariš Cup 2019 - Kombi","SK",2019,"Ražňany","1.6.-9.6.19",5,6,0.75,null,null,{"$f":"VLOOKUP(G37,Kp!$A$4:$B$24,2,FALSE)","v":5.0000000000000001E-3},0,{"$f":"M37-I37","v":-0.75},null,"https://www.soaringspot.com/cs/sariscup2019/results/combi","Méně jak 10 soutěžících ve třídě"]
[null,"PMSR 2019 - Klub","SK",2019,"Martin","16.6.-28.6.19",7,24,0.9,5.0000000000000001E-3,null,{"$f":"VLOOKUP(G38,Kp!$A$4:$B$24,2,FALSE)","v":1.4999999999999999E-2},0.92,2.0000000000000018E-2,null,"https://www.soaringspot.com/cs/62-majstrovstva-sr-vbezmotorovom-lietani-2019-martin-2019/results/klubova-trieda"]
[null,"PMSR 2019 - Kombi 15m","SK",2019,"Martin","16.6.-28.6.19",7,10,0.9,1.4999999999999999E-2,null,{"$f":"VLOOKUP(G39,Kp!$A$4:$B$24,2,FALSE)","v":1.4999999999999999E-2},0.93,{"$f":"M39-I39","v":3.0000000000000027E-2},null,"https://www.soaringspot.com/cs/62-majstrovstva-sr-vbezmotorovom-lietani-2019-martin-2019/results/15m-standard-trieda"]
[null,"PMSR 2019 - Kombi Open","SK",2019,"Martin","16.6.-28.6.19",7,14,0.9,5.0000000000000001E-3,null,{"$f":"VLOOKUP(G40,Kp!$A$4:$B$24,2,FALSE)","v":1.4999999999999999E-2},0.92,{"$f":"M40-I40","v":2.0000000000000018E-2},null,"https://www.soaringspot.com/cs/62-majstrovstva-sr-vbezmotorovom-lietani-2019-martin-2019/results/kombinovana-trieda"]
["39.","MAM 2019 - Klub","SK",2019,"Partizánske","30.6.-11.7.19",9,34,0.75,null,null,{"$f":"VLOOKUP(G41,Kp!$A$4:$B$24,2,FALSE)","v":2.5000000000000001E-2},0.77500000000000002,2.5000000000000022E-2,null,"https://www.soaringspot.com/cs/39-memorial-alexandra-makarenka-2019-male-bielice-2019/results/klubova-trieda"]
["39.","MAM 2019 - Kombi","SK",2019,"Partizánske","30.6.-11.7.19",9,10,0.75,null,null,{"$f":"VLOOKUP(G42,Kp!$A$4:$B$24,2,FALSE)","v":2.5000000000000001E-2},0.77500000000000002,{"$f":"M42-I42","v":2.5000000000000022E-2},null,"https://www.soaringspot.com/cs/39-memorial-alexandra-makarenka-2019-male-bielice-2019/results/kombinovana-treida"]
["20.","EGC 2019 - Std","SK",2019,"Prievidza","7.7.-20.7.19",12,29,1,7.4999999999999997E-2,null,{"$f":"VLOOKUP(G43,Kp!$A$4:$B$24,2,FALSE)","v":0.03},1.105,0.10499999999999998,null,"https://www.soaringspot.com/cs/20th-fai-european-gliding-championship-2019-prievidza-2019/results/standard"]
["20.","EGC 2019 - Klub","SK",2019,"Prievidza","7.7.-20.7.19",12,31,1,7.4999999999999997E-2,null,{"$f":"VLOOKUP(G44,Kp!$A$4:$B$24,2,FALSE)","v":0.03},1.105,{"$f":"M44-I44","v":0.10499999999999998},null,"https://www.soaringspot.com/cs/20th-fai-european-gliding-championship-2019-prievidza-2019/results/club"]
["20.","EGC 2019 - 15m","SK",2019,"Prievidza","7.7.-20.7.19",12,22,1,7.4999999999999997E-2,null,{"$f":"VLOOKUP(G45,Kp!$A$4:$B$24,2,FALSE)","v":0.03},1.105,{"$f":"M45-I45","v":0.10499999999999998},null,"https://www.soaringspot.com/cs/20th-fai-european-gliding-championship-2019-prievidza-2019/results/15m"]
[null,"Top Gun 2019 - Kombi","SK",2019,"Prievidza","10.8.-17.8.19",3,10,0.75,null,null,{"$f":"VLOOKUP(G46,Kp!$A$4:$B$24,2,FALSE)","v":-0.02},{"$f":"IF(OR(G46=0,G46=1,G46=2),0,IF(H46<10,0,SUM(I46:L46)))","v":0.73},-2.0000000000000018E-2,null,"https://www.soaringspot.com/cs/top-gun-prievidza-2019-prievidza-2019/results/top-gun"]
["20.","EGC 2019 - Open","PL",2019,"Stalowa Wola-Turbia","11.5.-25.5.19",5,17,1,5.5E-2,null,{"$f":"VLOOKUP(G47,Kp!$A$4:$B$24,2,FALSE)","v":5.0000000000000001E-3},1.0599999999999998,5.9999999999999831E-2,"https://egc2019.pl/","https://www.soaringspot.com/en_gb/egc019/results/open"]
["20.","EGC 2019 - 18m","PL",2019,"Stalowa Wola-Turbia","11.5.-25.5.19",5,28,1,8.5000000000000006E-2,null,{"$f":"VLOOKUP(G48,Kp!$A$4:$B$24,2,FALSE)","v":5.0000000000000001E-3},1.0899999999999999,{"$f":"M48-I48","v":8.9999999999999858E-2},"https://egc2019.pl/","https://www.soaringspot.com/en_gb/egc019/results/18m"]
["20.","EGC 2019 - Duo 20m","PL",2019,"Stalowa Wola-Turbia","11.5.-25.5.19",5,14,1,0.06,null,{"$f":"VLOOKUP(G49,Kp!$A$4:$B$24,2,FALSE)","v":5.0000000000000001E-3},1.0649999999999999,{"$f":"M49-I49","v":6.4999999999999947E-2},"https://egc2019.pl/","https://www.soaringspot.com/en_gb/egc019/results/20m-multi-seat"]
["27.","Alpe Adria Cup 2019 - Klub","AT",2019,"Feldkirchen","25.5.-1.6.19",3,20,0.75,null,null,{"$f":"VLOOKUP(G50,Kp!$A$4:$B$24,2,FALSE)","v":-0.02},0.73,-2.0000000000000018E-2,null,"https://www.soaringspot.com/cs/aac2019/results/106er-klasse"]
["27.","Alpe Adria Cup 2019 - Kombi","AT",2019,"Feldkirchen","25.5.-1.6.19",3,23,0.75,null,null,{"$f":"VLOOKUP(G51,Kp!$A$4:$B$24,2,FALSE)","v":-0.02},0.73,{"$f":"M51-I51","v":-2.0000000000000018E-2},null,"https://www.soaringspot.com/cs/aac2019/results/offene-klasse"]
[null,"OSS 2019 - Klub","AT",2019,"Dobersberg","3.8.-10.8.19",4,16,0.9,5.0000000000000001E-3,null,{"$f":"VLOOKUP(G52,Kp!$A$4:$B$24,2,FALSE)","v":0},{"$f":"IF(OR(G52=0,G52=1,G52=2),0,IF(H52<10,0,SUM(I52:L52)))","v":0.90500000000000003},5.0000000000000044E-3,null,"https://www.soaringspot.com/cs/ssm2019/results/club"]
[null,"OSS 2019 - 18m","AT",2019,"Dobersberg","3.8.-10.8.19",4,19,0.9,1.4999999999999999E-2,null,{"$f":"VLOOKUP(G53,Kp!$A$4:$B$24,2,FALSE)","v":0},0.91500000000000004,{"$f":"M53-I53","v":1.5000000000000013E-2},null,"https://www.soaringspot.com/cs/ssm2019/results/18-meter"]
[null,"OSS 2019 - Open","AT",2019,"Dobersberg","3.8.-10.8.19",4,8,0.9,null,null,{"$f":"VLOOKUP(G54,Kp!$A$4:$B$24,2,FALSE)","v":0},0,{"$f":"M54-I54","v":-0.9},null,"https://www.soaringspot.com/cs/ssm2019/results/open","Méně jak 10 soutěžících ve třídě"]
[null,"OSS 2019 - Kombi","AT",2019,"Dobersberg","3.8.-10.8.19",4,11,0.9,null,null,{"$f":"VLOOKUP(G55,Kp!$A$4:$B$24,2,FALSE)","v":0},0.9,0,null,"https://www.soaringspot.com/cs/ssm2019/results/mixed"]
["11.","WGC Juniors 2019 - Klub","HU",2019,"Szeged","28.7.-10.8.19",11,44,1,1.4999999999999999E-2,null,{"$f":"VLOOKUP(G56,Kp!$A$4:$B$24,2,FALSE)","v":0.03},1.0449999999999999,4.4999999999999929E-2,null,"https://www.soaringspot.com/cs/11th-fai-junior-world-gliding-championships-szeged-2019/results/club"]
["11.","WGC Juniors 2019 - Std","HU",2019,"Szeged","28.7.-10.8.19",10,36,1,0.04,null,{"$f":"VLOOKUP(G57,Kp!$A$4:$B$24,2,FALSE)","v":0.03},1.07,7.0000000000000062E-2,null,"https://www.soaringspot.com/cs/11th-fai-junior-world-gliding-championships-szeged-2019/results/standard"]
[null,"SGP 2019 BH - 18m GP","BH",2019,"Livno","27.7.-3.8.19",6,15,0.9,1.4999999999999999E-2,null,{"$f":"VLOOKUP(G58,Kp!$A$4:$B$24,2,FALSE)","v":0.01},0.92500000000000004,{"$f":"M58-I58","v":2.5000000000000022E-2},null,"http://www.sgp.aero/bosnia2018/results-sgp/results.aspx?contestID=32417"]
["9.","WSGP Final 2019 - 18m GP","SP",2019,"La Cerdanya","1.6.-8.6.19",6,19,1,7.0000000000000007E-2,null,{"$f":"VLOOKUP(G59,Kp!$A$4:$B$24,2,FALSE)","v":0.01},{"$f":"IF(OR(G59=0,G59=1,G59=2),0,IF(H59<10,0,SUM(I59:L59)))","v":1.08},8.0000000000000071E-2,null,"http://www.sgp.aero/finals2019/results-sgp/results.aspx"]
[null,"Zařazené soutěže 2020:"]
[null,"AZ Cup 2020 - Klub","CZ",2020,"Zbraslavice","3.5.-7.6.20",3,27,0.9,1.4999999999999999E-2,0.01,{"$f":"VLOOKUP(G61,Kp!$A$4:$B$24,2,FALSE)","v":-0.02},{"$f":"IF(OR(G61=0,G61=1,G61=2),0,IF(H61<10,0,SUM(I61:L61)))","v":0.90500000000000003},{"$f":"M61-I61","v":5.0000000000000044E-3},null,"https://www.soaringspot.com/cs/az-cup-2020-zbraslavice-2020/results/klubova-trida"]
[null,"AZ Cup 2020 - Kombi A","CZ",2020,"Zbraslavice","3.5.-7.6.20",3,20,0.9,0.02,null,{"$f":"VLOOKUP(G62,Kp!$A$4:$B$24,2,FALSE)","v":-0.02},0.9,{"$f":"M62-I62","v":0},null,"https://www.soaringspot.com/cs/az-cup-2020-zbraslavice-2020/results/15m-trida"]
[null,"AZ Cup 2020 - Kombi B","CZ",2020,"Zbraslavice","3.5.-7.6.20",3,21,0.9,0.04,0.01,{"$f":"VLOOKUP(G63,Kp!$A$4:$B$24,2,FALSE)","v":-0.02},0.93,{"$f":"M63-I63","v":3.0000000000000027E-2},null,"https://www.soaringspot.com/cs/az-cup-2020-zbraslavice-2020/results/kombinovana-trida"]
[null,"Závody Šohajů 2020 - Klub","CZ",2020,"Raná","20.6.-27.6.20",2,15,0.75,null,null,{"$f":"VLOOKUP(G64,Kp!$A$4:$B$24,2,FALSE)","v":0},0,-0.75,null,"https://www.soaringspot.com/cs/zavody-sohaju-a-historickych-kluzaku-2020-rana-loumy-2020/results/oldtimer","Méně jak 3 platné disciplíny"]
[null,"Safari 2020 - Kombi","CZ",2020,"Dvůr Králové","28.6.-11.7.20",5,12,0.75,0.01,null,{"$f":"VLOOKUP(G65,Kp!$A$4:$B$24,2,FALSE)","v":5.0000000000000001E-3},0.76500000000000001,1.5000000000000013E-2,null,"https://www.soaringspot.com/cs/safari-cup-2020-dvur-kralove-nad-labem-2020/results/volna"]
[null,"Safari 2020 - Klub","CZ",2020,"Dvůr Králové","28.6.-11.7.20",4,26,0.75,null,null,{"$f":"VLOOKUP(G66,Kp!$A$4:$B$24,2,FALSE)","v":0},0.75,{"$f":"M66-I66","v":0},null,"https://www.soaringspot.com/cs/safari-cup-2020-dvur-kralove-nad-labem-2020/results/klub"]
[null,"Safari 2020 - Duo Kombi","CZ",2020,"Dvůr Králové","28.6.-11.7.20",1,14,0.75,null,null,{"$f":"VLOOKUP(G67,Kp!$A$4:$B$24,2,FALSE)","v":0},0,-0.75,null,"https://www.soaringspot.com/cs/safari-cup-2020-dvur-kralove-nad-labem-2020/results/duo-blanik","Méně jak 3 platné disciplíny"]
[null,"Toužim Cup 2020 - Klub","CZ",2020,"Toužim","11.7.-19.7.20",5,30,0.9,0.01,null,{"$f":"VLOOKUP(G68,Kp!$A$4:$B$24,2,FALSE)","v":5.0000000000000001E-3},0.91500000000000004,1.5000000000000013E-2,null,"https://www.soaringspot.com/cs/tcup2020/results/klub"]
[null,"Toužim Cup 2020 - Kombi","CZ",2020,"Toužim","11.7.-19.7.20",5,23,0.9,5.0000000000000001E-3,null,{"$f":"VLOOKUP(G69,Kp!$A$4:$B$24,2,FALSE)","v":5.0000000000000001E-3},0.91,1.0000000000000009E-2,null,"https://www.soaringspot.com/cs/tcup2020/results/kombi"]
[null,"PMRg 2020 - Klub","CZ",2020,"Hosín","12.7.-25.7.20",5,24,0.9,0.01,null,{"$f":"VLOOKUP(G70,Kp!$A$4:$B$24,2,FALSE)","v":5.0000000000000001E-3},0.91500000000000004,1.5000000000000013E-2,null,"https://www.soaringspot.com/cs/plachtarske-mistrovstvi-regionu-cr-hosin-2020/results/klubova-trida"]
[null,"PMRg 2020 - Kombi","CZ",2020,"Hosín","12.7.-25.7.20",5,12,0.9,1.4999999999999999E-2,null,{"$f":"VLOOKUP(G71,Kp!$A$4:$B$24,2,FALSE)","v":5.0000000000000001E-3},0.92,2.0000000000000018E-2,null,"https://www.soaringspot.com/cs/plachtarske-mistrovstvi-regionu-cr-hosin-2020/results/kombinovana-trida"]
[null,"Ranský Pohár 2020 - Kombi","CZ",2020,"Raná","18.7.-26.7.20",6,24,0.75,null,null,{"$f":"VLOOKUP(G72,Kp!$A$4:$B$24,2,FALSE)","v":0.01},0.76,1.0000000000000009E-2,null,"https://www.soaringspot.com/cs/ransky-pohar-2020-rana-loumy-2020/results/combi"]
["16.","JPJ 2020 - Klub","CZ",2020,"Šumperk","25.7.-1.8.20",6,33,0.9,null,null,{"$f":"VLOOKUP(G73,Kp!$A$4:$B$24,2,FALSE)","v":0.01},0.91,1.0000000000000009E-2,null,"https://www.soaringspot.com/cs/jpj2020/results/klubova-trida"]
["16.","JPJ 2020 - Kombi","CZ",2020,"Šumperk","25.7.-1.8.20",6,21,0.9,null,null,{"$f":"VLOOKUP(G74,Kp!$A$4:$B$24,2,FALSE)","v":0.01},0.91,1.0000000000000009E-2,null,"https://www.soaringspot.com/cs/jpj2020/results/kombi-trida"]
[null,"PMČR 2020 - Klub","CZ",2020,"Tábor","26.7.-8.8.20",9,25,1,0.04,0.02,{"$f":"VLOOKUP(G75,Kp!$A$4:$B$24,2,FALSE)","v":2.5000000000000001E-2},1.085,{"$f":"M75-I75","v":8.4999999999999964E-2},null,"https://www.soaringspot.com/cs/plachtarske-mistrovstvi-cr-2020-tabor-2020/results/club"]
[null,"PMČR 2020 - Kombi 15m","CZ",2020,"Tábor","26.7.-8.8.20",9,22,1,4.4999999999999998E-2,0.02,{"$f":"VLOOKUP(G76,Kp!$A$4:$B$24,2,FALSE)","v":2.5000000000000001E-2},1.0899999999999999,{"$f":"M76-I76","v":8.9999999999999858E-2},null,"https://www.soaringspot.com/cs/plachtarske-mistrovstvi-cr-2020-tabor-2020/results/15-mixed"]
[null,"PMČR 2020 - Kombi Open","CZ",2020,"Tábor","26.7.-8.8.20",9,21,1,3.5000000000000003E-2,0.01,{"$f":"VLOOKUP(G77,Kp!$A$4:$B$24,2,FALSE)","v":2.5000000000000001E-2},1.0699999999999998,{"$f":"M77-I77","v":6.999999999999984E-2},null,"https://www.soaringspot.com/cs/plachtarske-mistrovstvi-cr-2020-tabor-2020/results/open-mixed"]
[null,"Pohár Českého Ráje 2020 - Kombi","CZ",2020,"Jičín","1.8.-8.8.20",4,9,0.75,null,null,{"$f":"VLOOKUP(G78,Kp!$A$4:$B$24,2,FALSE)","v":0},0,-0.75,null,"https://www.soaringspot.com/cs/pohar-ceskeho-raje-2020-jicin-2020/results/club","Méně jak 10 soutěžících ve třídě"]
[null,"PMČRj 2020 - Klub","CZ",2020,"Zbraslavice","8.8.-22.8.20",8,37,0.9,0.01,null,{"$f":"VLOOKUP(G79,Kp!$A$4:$B$24,2,FALSE)","v":0.02},0.93,{"$f":"M79-I79","v":3.0000000000000027E-2},null,"https://www.soaringspot.com/cs/plachtarske-mcr-junioru-a-akademiku-2020-zbraslavice-2020/results/klubova-trida"]
["19.","HOP 2020 - Klub","CZ",2020,"Hronov","8.8.-15.8.20",5,26,0.75,null,null,{"$f":"VLOOKUP(G80,Kp!$A$4:$B$24,2,FALSE)","v":5.0000000000000001E-3},0.755,5.0000000000000044E-3,null,"https://www.soaringspot.com/cs/19-hop-2020-velke-porici-2020/results/klub-hop"]
["19.","HOP 2020 - Kombi","CZ",2020,"Hronov","8.8.-15.8.20",5,19,0.75,5.0000000000000001E-3,null,{"$f":"VLOOKUP(G81,Kp!$A$4:$B$24,2,FALSE)","v":5.0000000000000001E-3},0.76,1.0000000000000009E-2,null,"https://www.soaringspot.com/cs/19-hop-2020-velke-porici-2020/results/kombi-ppf"]
[null,"Adrenalin GP 2020 - Klub GP","CZ",2020,"Frýdlant n/Ostr.","15.8.-22.8.20",3,9,0.9,null,null,{"$f":"VLOOKUP(G82,Kp!$A$4:$B$24,2,FALSE)","v":-0.02},0,{"$f":"M82-I82","v":-0.9},null,"https://www.soaringspot.com/cs/fl-2020-adrenalin-grand-prix-frydlant-2020/results/agp","Méně jak 10 soutěžících ve třídě"]
[null,"FL 2020 - Kombi","CZ",2020,"Frýdlant n/Ostr.","15.8.-22.8.20",2,11,0.75,null,null,{"$f":"VLOOKUP(G83,Kp!$A$4:$B$24,2,FALSE)","v":0},0,-0.75,null,"https://www.soaringspot.com/cs/fl-2020-adrenalin-grand-prix-frydlant-2020/results/fl","Méně jak 3 platné disciplíny"]
[null,"Pozdní sběr 2020 - Kombi","CZ",2020,"Zbraslavice","12.9.-28.9.20",2,7,0.75,null,null,{"$f":"VLOOKUP(G84,Kp!$A$4:$B$24,2,FALSE)","v":0},0,-0.75,null,"https://www.soaringspot.com/cs/pozdni-sber-zbraslavice-2020/results/klub","Méně jak 10 soutěžících ve třídě, méně jak 3 platné disciplíny"]
[null,"PMSR 2020 - Klub","SK",2020,"Partizánske","5.7.-18.7.20",9,25,0.9,0.01,null,{"$f":"VLOOKUP(G85,Kp!$A$4:$B$24,2,FALSE)","v":2.5000000000000001E-2},0.93500000000000005,3.5000000000000031E-2,null,"https://www.soaringspot.com/cs/63-majstrovstva-slovenska-v-bezmotorovom-lietani-2020/results/klubova-tireda"]
[null,"PMSR 2020 - Kombi 15m","SK",2020,"Partizánske","5.7.-18.7.20",9,11,0.9,0.01,null,{"$f":"VLOOKUP(G86,Kp!$A$4:$B$24,2,FALSE)","v":2.5000000000000001E-2},0.93500000000000005,3.5000000000000031E-2,null,"https://www.soaringspot.com/cs/63-majstrovstva-slovenska-v-bezmotorovom-lietani-2020/results/15m-trieda"]
[null,"PMSR 2020 - Kombi Open","SK",2020,"Partizánske","5.7.-18.7.20",9,20,0.9,0.01,null,{"$f":"VLOOKUP(G87,Kp!$A$4:$B$24,2,FALSE)","v":2.5000000000000001E-2},0.93500000000000005,3.5000000000000031E-2,null,"https://www.soaringspot.com/cs/63-majstrovstva-slovenska-v-bezmotorovom-lietani-2020/results/kombinovana-treida"]
[null,"Šariš Cup 2020 - Klub","SK",2020,"Ražňany","1.8.-9.8.20",7,11,0.75,null,null,{"$f":"VLOOKUP(G88,Kp!$A$4:$B$24,2,FALSE)","v":1.4999999999999999E-2},0.76500000000000001,1.5000000000000013E-2,null,"https://www.soaringspot.com/cs/sariscup2020/results/club"]
[null,"FCC 2020 - Klub","SK",2020,"Prievidza","2.8.-13.8.20",9,11,0.9,null,null,{"$f":"VLOOKUP(G89,Kp!$A$4:$B$24,2,FALSE)","v":2.5000000000000001E-2},0.92500000000000004,2.5000000000000022E-2,null,"https://www.soaringspot.com/cs/fcc-gliding-2020-prievidza-2020/results/club"]
[null,"FCC 2020 - Kombi","SK",2020,"Prievidza","2.8.-13.8.20",10,17,0.9,5.0000000000000001E-3,0.01,{"$f":"VLOOKUP(G90,Kp!$A$4:$B$24,2,FALSE)","v":0.03},0.94500000000000006,4.500000000000004E-2,null,"https://www.soaringspot.com/cs/fcc-gliding-2020-prievidza-2020/results/combi"]
[null,"Oldtimer Pribina Star 2020 - Klub","SK",2020,"Nitra","7.8.-15.8.20",4,16,0.75,null,null,{"$f":"VLOOKUP(G91,Kp!$A$4:$B$24,2,FALSE)","v":0},0.75,0,null,"https://www.soaringspot.com/cs/oldtimer-pribina-star-2020-nitra-2020/results/klub"]
[null,"Fatraglide 2020 - Klub","SK",2020,"Martin","15.8.-22.8.20",3,10,0.75,null,null,{"$f":"VLOOKUP(G92,Kp!$A$4:$B$24,2,FALSE)","v":-0.02},0.73,-2.0000000000000018E-2,"http://www.fatraglide.sk/","https://www.soaringspot.com/cs/fatraglide-2020-martin-2020/results/klubova-trieda"]
[null,"Fatraglide 2020 - Kombi","SK",2020,"Martin","15.8.-22.8.20",5,18,0.75,5.0000000000000001E-3,null,{"$f":"VLOOKUP(G93,Kp!$A$4:$B$24,2,FALSE)","v":5.0000000000000001E-3},0.76,{"$f":"M93-I93","v":1.0000000000000009E-2},"http://www.fatraglide.sk/","https://www.soaringspot.com/cs/fatraglide-2020-martin-2020/results/kombinovana-trieda"]
[null,"Septembrova cena 2020 - Kombi","SK",2020,"Trnava","29.8.-1.9.20",1,12,0.75,null,null,{"$f":"VLOOKUP(G94,Kp!$A$4:$B$24,2,FALSE)","v":0},0,-0.75,null,"https://www.soaringspot.com/cs/septembrova-cena-2020-trnava-2020/results/klub","Méně jak 3 platné disciplíny"]
["28.","Alpe Adria Cup 2020 - Kombi 106","AT",2020,"Feldkirchen","4.7.-11.7.20",7,21,0.75,null,null,{"$f":"VLOOKUP(G95,Kp!$A$4:$B$24,2,FALSE)","v":1.4999999999999999E-2},0.76500000000000001,{"$f":"M95-I95","v":1.5000000000000013E-2},null,"https://www.soaringspot.com/cs/aac2020/results/106er"]
["28.","Alpe Adria Cup 2020 - Kombi Open","AT",2020,"Feldkirchen","4.7.-11.7.20",7,24,0.75,null,0.01,{"$f":"VLOOKUP(G96,Kp!$A$4:$B$24,2,FALSE)","v":1.4999999999999999E-2},0.77500000000000002,{"$f":"M96-I96","v":2.5000000000000022E-2},null,"https://www.soaringspot.com/cs/aac2020/results/offene-klasse"]
[null,"GGP MB 2020 - Gradient GP","CZ",2020,"Mladá Boleslav","22.8.-29.8.20",4,10,0.9,0,0,{"$f":"VLOOKUP(G97,Kp!$A$4:$B$24,2,FALSE)","v":0},{"$f":"IF(OR(G97=0,G97=1,G97=2),0,IF(H97<10,0,SUM(I97:L97)))","v":0.9},{"$f":"M97-I97","v":0},null,"https://www.soaringspot.com/cs/ggp2020/results/gradient-gp"]
[null,"GGP MB 2020 - Klub GP","CZ",2020,"Mladá Boleslav","22.8.-29.8.20",5,13,0.9,5.0000000000000001E-3,0.01,{"$f":"VLOOKUP(G98,Kp!$A$4:$B$24,2,FALSE)","v":5.0000000000000001E-3},{"$f":"IF(OR(G98=0,G98=1,G98=2),0,IF(H98<10,0,SUM(I98:L98)))","v":0.92},2.0000000000000018E-2,null,"https://www.soaringspot.com/cs/ggp2020/results/club-gp"]
[null,"GGP MB 2020 - Pohár MV - Kombi","CZ",2020,"Mladá Boleslav","22.8.-29.8.20",5,19,0.9,2.5000000000000001E-2,0,{"$f":"VLOOKUP(G99,Kp!$A$4:$B$24,2,FALSE)","v":5.0000000000000001E-3},0.93,{"$f":"M99-I99","v":3.0000000000000027E-2},null,"https://www.soaringspot.com/cs/ggp2020/results/open"]
["10.","WGC Women 2020 - Klub","AU",2020,"Lake Keepit","3.1.-17.1.20",9,17,1,0.02,0.01,{"$f":"VLOOKUP(G100,Kp!$A$4:$B$24,2,FALSE)","v":2.5000000000000001E-2},{"$f":"IF(OR(G100=0,G100=1,G100=2),0,IF(H100<10,0,SUM(I100:L100)))","v":1.0549999999999999},{"$f":"M100-I100","v":5.4999999999999938E-2},null,"https://www.soaringspot.com/cs/10th-fai-womens-world-gliding-championship-lake-keepit-2020/results/club"]
["10.","WGC Women 2020 - Std","AU",2020,"Lake Keepit","3.1.-17.1.20",9,16,1,5.0000000000000001E-3,0.04,{"$f":"VLOOKUP(G101,Kp!$A$4:$B$24,2,FALSE)","v":2.5000000000000001E-2},{"$f":"IF(OR(G101=0,G101=1,G101=2),0,IF(H101<10,0,SUM(I101:L101)))","v":1.0699999999999998},6.999999999999984E-2,null,"https://www.soaringspot.com/cs/10th-fai-womens-world-gliding-championship-lake-keepit-2020/results/standard"]
["10.","WGC Women 2020 - 18m","AU",2020,"Lake Keepit","3.1.-17.1.20",9,14,1,5.0000000000000001E-3,0.03,{"$f":"VLOOKUP(G102,Kp!$A$4:$B$24,2,FALSE)","v":2.5000000000000001E-2},1.0599999999999998,5.9999999999999831E-2,null,"https://www.soaringspot.com/cs/10th-fai-womens-world-gliding-championship-lake-keepit-2020/results/18-meter"]
[null,"Zařazené soutěže 2021:"]
["17.","JPJ 2021 - Klub","CZ",2021,"Šumperk","24.7.-31.7.21",5,38,0.9,0,0,{"$f":"VLOOKUP(G104,Kp!$A$4:$B$24,2,FALSE)","v":5.0000000000000001E-3},{"$f":"IF(OR(G104=0,G104=1,G104=2),0,IF(H104<10,0,SUM(I104:L104)))","v":0.90500000000000003},{"$f":"M104-I104","v":5.0000000000000044E-3},null,"https://www.soaringspot.com/cs/jpj2021/results/klubova-trida"]
["17.","JPJ 2021 - Kombi","CZ",2021,"Šumperk","24.7.-31.7.21",5,25,0.9,0,0,{"$f":"VLOOKUP(G105,Kp!$A$4:$B$24,2,FALSE)","v":5.0000000000000001E-3},0.90500000000000003,5.0000000000000044E-3,null,"https://www.soaringspot.com/cs/jpj2021/results/kombi-trida"]
[null,"PMČR 2021 - Klub","CZ",2021,"Tábor","22.5.-5.6.21",8,16,1,0.02,0.01,{"$f":"VLOOKUP(G106,Kp!$A$4:$B$24,2,FALSE)","v":0.02},1.05,{"$f":"M106-I106","v":5.0000000000000044E-2},null,"https://www.soaringspot.com/cs/pmcr-pre-jwgc2022-tabor-2021/results/club"]
[null,"PMČR 2021 - Kombi 15m","CZ",2021,"Tábor","22.5.-5.6.21",7,16,1,2.5000000000000001E-2,0.02,{"$f":"VLOOKUP(G107,Kp!$A$4:$B$24,2,FALSE)","v":1.4999999999999999E-2},1.0599999999999998,{"$f":"M107-I107","v":5.9999999999999831E-2},null,"https://www.soaringspot.com/cs/pmcr-pre-jwgc2022-tabor-2021/results/15m-mixed"]
[null,"PMČR 2021 - Kombi Open","CZ",2021,"Tábor","22.5.-5.6.21",7,19,1,0.04,0,{"$f":"VLOOKUP(G108,Kp!$A$4:$B$24,2,FALSE)","v":1.4999999999999999E-2},1.0549999999999999,{"$f":"M108-I108","v":5.4999999999999938E-2},null,"https://www.soaringspot.com/cs/pmcr-pre-jwgc2022-tabor-2021/results/open-mixed"]
[null,"PMRg 2021 - Klub","CZ",2021,"Moravská Třebová","1.8.-15.8.21",8,26,0.9,0.02,0,{"$f":"VLOOKUP(G109,Kp!$A$4:$B$24,2,FALSE)","v":0.02},0.94000000000000006,{"$f":"M109-I109","v":4.0000000000000036E-2},null,"https://www.soaringspot.com/cs/plachtarske-mistrovstvi-regionu-2021-moravska-trebova-2021/results/club"]
[null,"PMRg 2021 - Kombi","CZ",2021,"Moravská Třebová","1.8.-15.8.21",8,13,0.9,0.01,0,{"$f":"VLOOKUP(G110,Kp!$A$4:$B$24,2,FALSE)","v":0.02},0.93,3.0000000000000027E-2,null,"https://www.soaringspot.com/cs/plachtarske-mistrovstvi-regionu-2021-moravska-trebova-2021/results/kombi"]
[null,"PMČRj 2021 - Klub","CZ",2021,"Moravská Třebová","1.8.-15.8.21",7,29,0.9,0,0,{"$f":"VLOOKUP(G111,Kp!$A$4:$B$24,2,FALSE)","v":1.4999999999999999E-2},0.91500000000000004,{"$f":"M111-I111","v":1.5000000000000013E-2},null,"https://www.soaringspot.com/cs/plachtarske-mistrovstvi-cr-junioru-moravska-trebova-2021/results/club"]
[null,"GGP MB 2021 - Gradient GP","CZ",2021,"Mladá Boleslav","21.8.-28.8.221",3,9,0.9,0,0,{"$f":"VLOOKUP(G112,Kp!$A$4:$B$24,2,FALSE)","v":-0.02},{"$f":"IF(OR(G112=0,G112=1,G112=2),0,IF(H112<10,0,SUM(I112:L112)))","v":0},{"$f":"M112-I112","v":-0.9},null,"https://www.soaringspot.com/cs/ggp2021/results/standard"]
[null,"GGP MB 2021 - Klub GP","CZ",2021,"Mladá Boleslav","21.8.-28.8.221",3,17,0.9,0,0,{"$f":"VLOOKUP(G113,Kp!$A$4:$B$24,2,FALSE)","v":-0.02},{"$f":"IF(OR(G113=0,G113=1,G113=2),0,IF(H113<10,0,SUM(I113:L113)))","v":0.88},-2.0000000000000018E-2,null,"https://www.soaringspot.com/cs/ggp2021/results/club-gp"]
[null,"GGP MB 2021 - Pohár MV - Kombi","CZ",2021,"Mladá Boleslav","21.8.-28.8.221",3,11,0.9,0.01,0,{"$f":"VLOOKUP(G114,Kp!$A$4:$B$24,2,FALSE)","v":-0.02},0.89,{"$f":"M114-I114","v":-1.0000000000000009E-2},null,"https://www.soaringspot.com/cs/ggp2021/results/pohar-metodeje-vlach"]
[null,"Rakovnická Dlaždice 2021 - Kombi","CZ",2021,"Rakovník","14.8.-22.8.21",2,12,0.75,0,0,{"$f":"VLOOKUP(G115,Kp!$A$4:$B$24,2,FALSE)","v":0},{"$f":"IF(OR(G115=0,G115=1,G115=2),0,IF(H115<10,0,SUM(I115:L115)))","v":0},{"$f":"M115-I115","v":-0.75},null,"https://www.soaringspot.com/cs/rakovnicka-dlazdice-rd2021-rakovnik-2021/results/kombi"]
["20.","HOP 2021 - Klub","CZ",2021,"Hronov","7.8.-14.8.21",6,26,0.75,5.0000000000000001E-3,0,{"$f":"VLOOKUP(G116,Kp!$A$4:$B$24,2,FALSE)","v":0.01},0.76500000000000001,{"$f":"M116-I116","v":1.5000000000000013E-2},null,"https://www.soaringspot.com/cs/20-hop-2021-velke-porici-2021/results/klub-hop"]
["20.","HOP 2021 - Kombi","CZ",2021,"Hronov","7.8.-14.8.21",6,17,0.75,0,0,{"$f":"VLOOKUP(G117,Kp!$A$4:$B$24,2,FALSE)","v":0.01},0.76,1.0000000000000009E-2,null,"https://www.soaringspot.com/cs/20-hop-2021-velke-porici-2021/results/kombi-ppf"]
[null,"Pohár Českého Ráje 2021 - Kombi","CZ",2021,"Jičín","31.7.-7.8.21",3,12,0.75,0,0,{"$f":"VLOOKUP(G118,Kp!$A$4:$B$24,2,FALSE)","v":-0.02},{"$f":"IF(OR(G118=0,G118=1,G118=2),0,IF(H118<10,0,SUM(I118:L118)))","v":0.73},{"$f":"M118-I118","v":-2.0000000000000018E-2},null,"https://www.soaringspot.com/cs/http-wwwletistejicininfo-news-pagephpid-315/results/kombi"]
[null,"Ranský pohár 2021 - Kombi","CZ",2021,"Raná","24.7.-1.8.21",4,19,0.75,0,0,{"$f":"VLOOKUP(G119,Kp!$A$4:$B$24,2,FALSE)","v":0},0.75,0,null,"https://www.soaringspot.com/cs/ransky-pohar-2021-rana-loumy-2021/results/combi"]
[null,"Cirrus GP 2021 - Std. Cirrus","CZ",2021,"Křižanov","24.7.-30.7.21",5,14,0.75,5.0000000000000001E-3,0,{"$f":"VLOOKUP(G120,Kp!$A$4:$B$24,2,FALSE)","v":5.0000000000000001E-3},0.76,1.0000000000000009E-2,null,"https://www.soaringspot.com/cs/cgp2021/results/club"]
["36.","WGC 2021 - Klub","FR",2021,"Montlucon","8.8.-20.8.21",9,36,1,0.05,0.03,{"$f":"VLOOKUP(G121,Kp!$A$4:$B$24,2,FALSE)","v":2.5000000000000001E-2},1.105,0.10499999999999998,null,"https://www.soaringspot.com/cs/wgc2021-club-std-15m-montlucon-gueret-2021/results/club"]
["36.","WGC 2021 - Std","FR",2021,"Montlucon","8.8.-20.8.21",8,30,1,3.5000000000000003E-2,0.03,{"$f":"VLOOKUP(G122,Kp!$A$4:$B$24,2,FALSE)","v":0.02},1.085,8.4999999999999964E-2,null,"https://www.soaringspot.com/cs/wgc2021-club-std-15m-montlucon-gueret-2021/results/standard"]
["36.","WGC 2021 - 15m","FR",2021,"Montlucon","8.8.-20.8.21",8,29,1,3.5000000000000003E-2,0.02,{"$f":"VLOOKUP(G123,Kp!$A$4:$B$24,2,FALSE)","v":0.02},1.075,7.4999999999999956E-2,null,"https://www.soaringspot.com/cs/wgc2021-club-std-15m-montlucon-gueret-2021/results/15-meter"]
[null,"FCC Gliding 2021 - Klub","SK",2021,"Prievidza","1.8.-13.8.21",10,10,0.9,5.0000000000000001E-3,0,{"$f":"VLOOKUP(G124,Kp!$A$4:$B$24,2,FALSE)","v":0.03},0.93500000000000005,3.5000000000000031E-2,null,"https://www.soaringspot.com/cs/fcc-gliding-2021-prievidza-2021/results/club"]
[null,"FCC Gliding 2021 - Kombi 15m","SK",2021,"Prievidza","1.8.-13.8.21",10,10,0.9,1.4999999999999999E-2,0,{"$f":"VLOOKUP(G125,Kp!$A$4:$B$24,2,FALSE)","v":0.03},0.94500000000000006,4.500000000000004E-2,null,"https://www.soaringspot.com/cs/fcc-gliding-2021-prievidza-2021/results/15-m"]
[null,"FCC Gliding 2021 - Kombi Open","SK",2021,"Prievidza","1.8.-13.8.21",10,18,0.9,1.4999999999999999E-2,0,{"$f":"VLOOKUP(G126,Kp!$A$4:$B$24,2,FALSE)","v":0.03},0.94500000000000006,4.500000000000004E-2,null,"https://www.soaringspot.com/cs/fcc-gliding-2021-prievidza-2021/results/combi"]
[null,"Oldtimer Pribina Star 2021 - Klub","SK",2021,"Nitra","7.8.-13.8.21",4,22,0.75,0,0,{"$f":"VLOOKUP(G127,Kp!$A$4:$B$24,2,FALSE)","v":0},0.75,0,null,"https://www.soaringspot.com/cs/oldtimer-pribina-star-2021-nitra-2021/results/unknown"]
[null,"PMSR 2021 - Klub","SK",2021,"Nitra","20.6.-2.7.21",12,22,0.9,1.4999999999999999E-2,0,{"$f":"VLOOKUP(G128,Kp!$A$4:$B$24,2,FALSE)","v":0.03},0.94500000000000006,4.500000000000004E-2,null,"https://www.soaringspot.com/cs/slovak-gliding-championship-2021-nitra-2021/results/club"]
[null,"PMSR 2021 - Kombi 15m","SK",2021,"Nitra","20.6.-2.7.21",12,22,0.9,1.4999999999999999E-2,0.02,{"$f":"VLOOKUP(G129,Kp!$A$4:$B$24,2,FALSE)","v":0.03},0.96500000000000008,6.5000000000000058E-2,null,"https://www.soaringspot.com/cs/slovak-gliding-championship-2021-nitra-2021/results/15-meter"]
[null,"PMSR 2021 - Kombi Open","SK",2021,"Nitra","20.6.-2.7.21",12,22,0.9,0.02,0,{"$f":"VLOOKUP(G130,Kp!$A$4:$B$24,2,FALSE)","v":0.03},0.95000000000000007,5.0000000000000044E-2,null,"https://www.soaringspot.com/cs/slovak-gliding-championship-2021-nitra-2021/results/combi"]
[null,"JWGC 2021 - Klub","LT",2021,"Pociunai","11.7.-23.7.21",7,27,1,1.4999999999999999E-2,0.01,{"$f":"VLOOKUP(G131,Kp!$A$4:$B$24,2,FALSE)","v":1.4999999999999999E-2},1.0399999999999998,3.9999999999999813E-2,null,"https://www.soaringspot.com/cs/jegc2021/results/club"]
[null,"JWGC 2021 - Std","LT",2021,"Pociunai","11.7.-23.7.21",6,17,1,0.01,0.01,{"$f":"VLOOKUP(G132,Kp!$A$4:$B$24,2,FALSE)","v":0.01},1.03,3.0000000000000027E-2,null,"https://www.soaringspot.com/cs/jegc2021/results/standard"]
[null,"WSGP Final 2021 - 18m","FR",2021,"Saint Auban","5.9.-11.9.21",6,20,1,0.03,0.03,{"$f":"VLOOKUP(G133,Kp!$A$4:$B$24,2,FALSE)","v":0.01},1.07,7.0000000000000062E-2,null,"https://www.soaringspot.com/cs/wsgp2021/results/grand-prix-world-fin"]
[null,"Safari 2021 - Klub","CZ",2021,"Dvůr Králové","3.7.-17.7.21",4,33,0.75,0,0,{"$f":"VLOOKUP(G134,Kp!$A$4:$B$24,2,FALSE)","v":0},{"$f":"IF(OR(G134=0,G134=1,G134=2),0,IF(H134<10,0,SUM(I134:L134)))","v":0.75},{"$f":"M134-I134","v":0},null,"https://www.soaringspot.com/cs/safari-cup-2021-dvur-kralove-nad-labem-2021/results/klubova"]
[null,"Safari 2021 - Kombi","CZ",2021,"Dvůr Králové","3.7.-17.7.21",5,13,0.75,0,0,{"$f":"VLOOKUP(G135,Kp!$A$4:$B$24,2,FALSE)","v":5.0000000000000001E-3},0.755,5.0000000000000044E-3,null,"https://www.soaringspot.com/cs/safari-cup-2021-dvur-kralove-nad-labem-2021/results/volna"]
[null,"Safari 2021 - Duo Kombi","CZ",2021,"Dvůr Králové","3.7.-17.7.21",3,11,0.75,0,0,{"$f":"VLOOKUP(G136,Kp!$A$4:$B$24,2,FALSE)","v":-0.02},0.73,-2.0000000000000018E-2,null,"https://www.soaringspot.com/cs/safari-cup-2021-dvur-kralove-nad-labem-2021/results/dvousedadlovky"]
[]
[]
[null,"Schváleno Plachtařskou komisí AeČR dne xx.yy.2021 v ZZZZ"]

{"sheet":"Kp","index":2,"n_rows":24,"n_cols":2,"rows_kept":24,"cut":false,"hidden":true,"merged":[]}
["Korekce na počet platných disciplín"]
[]
["Počet platných disciplín","Korekce Kp"]
[0,0]
[1,0]
[2,0]
[3,-0.02]
[4,0]
[5,5.0000000000000001E-3]
[6,0.01]
[7,1.4999999999999999E-2]
[8,0.02]
[9,2.5000000000000001E-2]
[10,0.03]
[11,0.03]
[12,0.03]
[13,0.03]
[14,0.03]
[15,0.03]
[16,0.03]
[17,0.03]
[18,0.03]
[19,0.03]
[20,0.03]

{"sheet":"Pilot","index":3,"n_rows":984,"n_cols":17,"rows_kept":984,"cut":false,"hidden":false,"merged":[]}
["Jmeno","Rok nar.","Aeroklub","Region","M/F","Junior v roce",2022,"Hranice pro juniory:\n/ Poznámka:",{"$f":"G1-25","v":1997},"Počet Jun:",{"$f":"COUNTIF(F2:F2150,\"Junior v roce \"&G1)","v":71},"Počet F:",{"$f":"COUNTIF(E2:E2150,\"F\")","v":72},"Počet M:",{"$f":"COUNTIF(E2:E2150,\"M\")","v":910},"Počet celk:",{"$f":"COUNTIF(A2:A2150,\"<>\")","v":983}]
["-"," "," "," "," "," "]
["Adam Hepal",2004,"Kolín",{"$f":"VLOOKUP(C3,Region,2,0)","v":"CZ/C1"},"M",{"$f":"IF(A3=\"(prázdné)\",\"\",IF(($G$1-B3)>25,\"\",\"Junior v roce \"&$G$1))","v":"Junior v roce 2022"}]
["Adam Jandora",1992,"Medlánky",{"$f":"VLOOKUP(C4,Region,2,0)","v":"CZ/M"},"M",{"$f":"IF(A4=\"(prázdné)\",\"\",IF(($G$1-B4)>25,\"\",\"Junior v roce \"&$G$1))","v":""}]
["Adam Olejar",1991,"Medlánky","CZ/M","M",{"$f":"IF(A5=\"(prázdné)\",\"\",IF(($G$1-B5)>25,\"\",\"Junior v roce \"&$G$1))","v":""}]
["Adam Pergner",2002,"Rakovník",{"$f":"VLOOKUP(C6,Region,2,0)","v":"CZ/C1"},"M",{"$f":"IF(A6=\"(prázdné)\",\"\",IF(($G$1-B6)>25,\"\",\"Junior v roce \"&$G$1))","v":"Junior v roce 2022"}]
["Adam Sostaric",1991,"Chrudim","CZ/C2","M",""]
["Adam Sugl",1987,"Vyškov","CZ/M","M",""]
["Albert Schneider",1967,"Hranice",{"$f":"VLOOKUP(C9,Region,2,0)","v":"CZ/M"},"M",""]
["Albrecht Beat",1953,"Šumperk","CZ/M","M",""]
["Alena Netusilova",1970,"Zbraslavice","CZ/C1","F",""]
["Ales Cervenka",1981,"Soběslav","CZ/C1","M",""]
["Ales Hajek",1958,"Mladá Boleslav","CZ/C1","M",""]
["Ales Hala",1994,"Tábor","CZ/C1","M",""]
["Ales Holoubek",1966,"Jičín","CZ/C2","M",""]
["Ales Tresl",1958,"Raná","CZ/C2","M",""]
["Ales Vorac",1985,"Křižanov","CZ/M","M",""]
["Ales Vyhnal",1989,"Kralupy","CZ/C1","M",""]
["Alexander Nerandzic",1966,"Raná","CZ/C2","M",""]
["Alois Cmajdalka",1963,"Kunovice","CZ/M","M",""]
["Alois Sohr",1939,"Hranice","CZ/M","M",""]
["Andrea Bensova",1978,"Zbraslavice","CZ/C1","F",""]
["Aneta Prachtova",1991,"Kralupy","CZ/C1","F",""]
["Anna Bordovska",1989,"Mladá Boleslav","CZ/C1","F",""]
["Antonin Bordovsky",1951,"Krnov","CZ/M","M",""]
["Antonin Bruna",1945,"GAC Benešov","CZ/C1","M",""]
["Antonin Burger",1943,"Panenský Týnec","CZ/C1","M",""]
["Antonin Konicek",1973,"Kunovice","CZ/M","M",""]
["Antonin Kutalek",1943,"Zábřeh","CZ/M","M",""]
["Antonin Novotny",1972,"Luhačovice","CZ/M","M",""]
["Antonin Otrusina",1948,"Křižanov","CZ/M","M",""]
["Antonin Pilat",1971,"Vyškov","CZ/M","M",""]
["Antonin Teichmann",1965,"Hronov","CZ/C2","M",""]
["Barbora Kubickova",1993,"Medlánky","CZ/M","F",""]
["Barbora Moravcova",1994,"Zbraslavice","CZ/C1","F",""]
["Barbora Nahodilova",1989,"Hosín","CZ/C1","F",""]
["Bedrich Honzicek",1972,"Letňany",{"$f":"VLOOKUP(C37,Region,2,0)","v":"CZ/C1"},"M",""]
["Bedrich Prochazka",1957,"Rakovník","CZ/C1","M",""]
["Bohdan Sebestik",1957,"Kroměříž","CZ/M","M",""]
["Bohumil Kunc",1983,"Kunovice","CZ/M","M",""]
["Bohumil Rikal",1946,"Hronov","CZ/C2","M",""]
["Bohumil Svec",1985,"Roudnice","CZ/C2","M",""]
["Bohumir Zajdl",1950,"Dvůr Králové","CZ/C2","M",""]
["Bohus Marcinik",1947,"Příbram","CZ/C1","M",""]
["Boris Bachraty",1974,"Břeclav","CZ/M","M",""]
["Bronislav Smatana",1970,"Zbraslavice","CZ/C1","M",""]
["Carsten Tietz",1966,"Hronov",{"$f":"VLOOKUP(C47,Region,2,0)","v":"CZ/C2"},"M",""]
["Christof Madoery",1958,"Šumperk",{"$f":"VLOOKUP(C48,Region,2,0)","v":"CZ/M"},"M",""]
["Dalibor Daricek",1993,"Kunovice","CZ/M","M",""]
["Dalibor Fencl",1966,"Zbraslavice","CZ/C1","M",""]
["Dalibor Pek",1968,"Raná","CZ/C2","M",""]
["Dana Novakova",1965,"Mladá Boleslav","CZ/C1","F",""]
["Danes Grula",1961,"Medlánky","CZ/M","M",""]
["Daniel Adamec",1977,"Hranice","CZ/M","M",""]
["Daniel Brichta",1962,"GAC Benešov",{"$f":"VLOOKUP(C55,Region,2,0)","v":"CZ/C1"},"M",""]
["Daniel Devecka",1981,"Vlašim",{"$f":"VLOOKUP(C56,Region,2,0)","v":"CZ/C1"},"M",{"$f":"IF(A56=\"(prázdné)\",\"\",IF(($G$1-B56)>25,\"\",\"Junior v roce \"&$G$1))","v":""}]
["Daniel Dvorak",1980,"Letkov","CZ/C1","M",""]
["Daniel Krasnicky",1984,"Příbram","CZ/C1","M",""]
["Daniel Moravek",1973,"Hodkovice","CZ/C2","M",""]
["Daniel Novak",1971,"Letkov","CZ/C1","M",""]
["Daniel Ryba",1994,"Dvůr Králové","CZ/C2","M",""]
["Daniel Suchy",1995,"Hranice","CZ/M","M",""]
["Daniela Frankova",1997,"Jaroměř","CZ/C2","M","Junior v roce 2022"]
["Daniela Stepankova",1988,"Hosín","CZ/C1","F",""]
["David Cisar",1987,"Křižanov","CZ/M","M",""]
["David Kaspar",1993,"Jaroměř",{"$f":"VLOOKUP(C66,Region,2,0)","v":"CZ/C2"},"M",""]
["David Krcil",1976,"Raná",{"$f":"VLOOKUP(C67,Region,2,0)","v":"CZ/C2"},"M",""]
["David Londa",1973,"Mladá Boleslav","CZ/C1","M",""]
["David Mach",1994,"Hronov","CZ/C2","M",""]
["David Marek",1991,"Křižanov","CZ/M","M",""]
["David Novotny",1984,"Polička","CZ/C2","M",""]
["David Popovsky",1976,"Rakovník","CZ/C1","M",{"$f":"IF(A72=\"(prázdné)\",\"\",IF(($G$1-B72)>25,\"\",\"Junior v roce \"&$G$1))","v":""}]
["David Prihoda",1994,"Hranice","CZ/M","M",""]
["David Rozporka",1994,"Hronov","CZ/C2","M",""]
["David Rytina",1983,"Zbraslavice","CZ/C1","M",""]
["David Riha",1983,"Vlašim","CZ/C1","M",""]
["David Sachl",1978,"Kralupy","CZ/C1","M",""]
["David Tejnora",1982,"Jaroměř","CZ/C2","M",""]
["David Trnecka",1979,"Medlánky","CZ/M","M",""]
["David Vrchota",1976,"Jaroměř",{"$f":"VLOOKUP(C80,Region,2,0)","v":"CZ/C2"},"M",""]
["David Zapletal",1970,"Mladá Boleslav","CZ/C1","M",""]
["David Zatecka",1993,"GAC Benešov",{"$f":"VLOOKUP(C82,Region,2,0)","v":"CZ/C1"},"M",""]
["Dusan Gadas",1960,"Hranice","CZ/M","M",""]
["Dusan Kmet",1972,"Křižanov","CZ/M","M",""]
["Dusan Patocka",1972,"Vrchlabí",{"$f":"VLOOKUP(C85,Region,2,0)","v":"CZ/C2"},"M",{"$f":"IF(A85=\"(prázdné)\",\"\",IF(($G$1-B85)>25,\"\",\"Junior v roce \"&$G$1))","v":""}]
["Dusan Sys",1977,"Šumperk","CZ/M","M",""]
["Dusan Zerzan",1970,"Šumperk","CZ/M","M",""]
["Eduard Svoboda",1957,"Raná","CZ/C2","M",""]
["Eliska Bohunovska",2001,"Hranice",{"$f":"VLOOKUP(C89,Region,2,0)","v":"CZ/M"},"F","Junior v roce 2022"]
["Eva Cerna",1964,"Příbram","CZ/C1","F",""]
["Evzen Skala",1954,"Vrchlabí","CZ/C2","M",""]
["Fabian Curda",2004,"Zábřeh",{"$f":"VLOOKUP(C92,Region,2,0)","v":"CZ/M"},"M","Junior v roce 2022"]
["Filip Borůvka",2004,"Nové Město nad Metují",{"$f":"VLOOKUP(C93,Region,2,0)","v":"CZ/C2"},"M",{"$f":"IF(A93=\"(prázdné)\",\"\",IF(($G$1-B93)>25,\"\",\"Junior v roce \"&$G$1))","v":"Junior v roce 2022"}]
["Filip Graf",1981,"Křižanov","CZ/M","M",""]
["Filip Malik",2001,"Letňany",{"$f":"VLOOKUP(C95,Region,2,0)","v":"CZ/C1"},"M","Junior v roce 2022"]
["Filip Neumann",1977,"GAC Benešov","CZ/C1","M",""]
["Filip Sklenar",1990,"Žamberk","CZ/C2","M",""]
["Filip sirc",1993,"Letňany","CZ/C1","M",""]
["Filip Vita",2001,"Kroměříž","CZ/M","M","Junior v roce 2022"]
["Frantisek Brozman",1960,"Tachov","CZ/C1","M",""]
["Frantisek Filandr",1956,"Most","CZ/C2","M",""]
["Frantisek Hubacek",1978,"Točná","CZ/C1","M",""]
["Frantisek Komarek",1985,"Zbraslavice","CZ/C1","M",""]
["Frantisek Kriz",1961,"Toužim","CZ/C1","M",""]
["Frantisek Marek",1960,"Křižanov","CZ/M","M",""]
["Frantisek Matousek",1937,"Nové Město nad Metují","CZ/C2","M",""]
["Frantisek Myska",1968,"Most","CZ/C2","M",""]
["Frantisek Pycha",1972,"Chrudim","CZ/C2","M",""]
["Frantisek Soucek",1945,"Dvůr Králové","CZ/C2","M",""]
["Frantisek Sindelar",1954,"Kralupy","CZ/C1","M",""]
["Frantisek Suna",1983,"Hosín",{"$f":"VLOOKUP(C111,Region,2,0)","v":"CZ/C1"},"M",""]
["Frantisek Vancura",1966,"Hranice","CZ/M","M",""]
["Gabriela Cervena",1966,"Jaroměř","CZ/C2","F",""]
["Gustav Vrbacky",1933,"Medlánky","CZ/M","M",""]
["Hana Treslova",1991,"Raná","CZ/C2","F",""]
["Hana Vokrinkova",1958,"Hodkovice","CZ/C2","F",""]
["Hynek Pokorny",1991,"Letňany","CZ/C1","M",""]
["Christof Madory",1958,"Šumperk","CZ/M","M",""]
["Ilja Kopacek",1943,"Jičín",{"$f":"VLOOKUP(C119,Region,2,0)","v":"CZ/C2"},"M",""]
["Ivan Filakovsky",1965,"Medlánky","CZ/M","M",""]
["Ivan Harasta 65",1965,"Toužim","CZ/C1","M",""]
["Ivan Harasta 98",1998,"Toužim","CZ/C1","M","Junior v roce 2022"]
["Ivan Kuzelka",1945,"Havlíčkův Brod","CZ/C2","M",""]
["Ivan Ladr",1940,"Dvůr Králové","CZ/C2","M",""]
["Ivan Novak",1962,"Mladá Boleslav","CZ/C1","M",""]
["Ivan Tvrdik",1997,"Letňany","CZ/C1","M","Junior v roce 2022"]
["Ivo Burda",1962,"Zbraslavice","CZ/C1","M",""]
["Ivo Nezval",1964,"Šumperk","CZ/M","M",""]
["Ivo Vudarcik",1994,"Rakovník","CZ/C1","M",""]
["Jacek Kerum",1943,"Příbram","CZ/C1","M",""]
["Jakub Brotanek",1985,"Roudnice","CZ/C2","M",""]
["Jakub Hlavacek",1991,"Letkov","CZ/C1","M",""]
["Jakub Kmosek",1978,"Zbraslavice","CZ/C1","M",""]
["Jakub Kohn",1992,"Prostějov","CZ/M","M",""]
["Jakub Koudelka",2000,"Křižanov",{"$f":"VLOOKUP(C135,Region,2,0)","v":"CZ/M"},"M","Junior v roce 2022"]
["Jakub Malik",1999,"Letňany","CZ/C1","M","Junior v roce 2022"]
["Jakub Michalicka",1993,"Rakovník","CZ/C1","M",""]
["Jakub Spanger",2002,"Jeseník",{"$f":"VLOOKUP(C138,Region,2,0)","v":"CZ/M"},"M","Junior v roce 2022"]
["Jakub Tiller",1987,"Broumov","CZ/C2","M",""]
["Jakub Vimr",1975,"GAC Benešov","CZ/C1","M",{"$f":"IF(A140=\"(prázdné)\",\"\",IF(($G$1-B140)>25,\"\",\"Junior v roce \"&$G$1))","v":""}]
["Jan Adam",2002,"Podhořany",{"$f":"VLOOKUP(C141,Region,2,0)","v":"CZ/C2"},"M","Junior v roce 2022"]
["Jan Bejdl",1978,"Zbraslavice",{"$f":"VLOOKUP(C142,Region,2,0)","v":"CZ/C1"},"M",""]
["Jan Belina",1979,"Hořice","CZ/C2","M",""]
["Jan Beran",1999,"Kladno",{"$f":"VLOOKUP(C144,Region,2,0)","v":"CZ/C1"},"M","Junior v roce 2022"]
["Jan Beranek",1976,"Jihlava","CZ/M","M",""]
["Jan Boruvka",1984,"Jičín","CZ/C2","M",""]
["Jan Camr",2002,"Jaroměř",{"$f":"VLOOKUP(C147,Region,2,0)","v":"CZ/C2"},"M","Junior v roce 2022"]
["Jan Cerveny",1984,"Jaroměř","CZ/C2","M",""]
["Jan Cibulka",2002,"Letňany",{"$f":"VLOOKUP(C149,Region,2,0)","v":"CZ/C1"},"M","Junior v roce 2022"]
["Jan Dersak 69",1969,"Kralupy","CZ/C1","M",""]
["Jan Dersak 92",1992,"Kralupy","CZ/C1","M",""]
["Jan Drahota",1988,"Rakovník","CZ/C1","M",""]
["Jan Drbohlav",1999,"Hodkovice",{"$f":"VLOOKUP(C153,Region,2,0)","v":"CZ/C2"},"M","Junior v roce 2022"]
["Jan Florian",1992,"Zbraslavice","CZ/C1","M",""]
["Jan Habermann",1975,"Vlašim",{"$f":"VLOOKUP(C155,Region,2,0)","v":"CZ/C1"},"M",""]
["Jan Hejret",1976,"Jaroměř","CZ/C2","M",""]
["Jan Heroudek",1970,"Rakovník",{"$f":"VLOOKUP(C157,Region,2,0)","v":"CZ/C1"},"M",""]
["Jan Hlavacek",1965,"Rakovník","CZ/C1","M",""]
["Jan Horak",1971,"Zbraslavice","CZ/C1","M",""]
["Jan Horky",1968,"Medlánky","CZ/M","M",""]
["Jan Hrbatsch",1989,"Hodkovice","CZ/C2","M",""]
["Jan Hruska",1988,"Tábor","CZ/C1","M",""]
["Jan Hybner",1977,"Liberec",{"$f":"VLOOKUP(C163,Region,2,0)","v":"CZ/C2"},"M",""]
["Jan Jicha",1984,"Podhořany","CZ/C2","M",""]
["Jan Jindra",1981,"Roudnice","CZ/C2","M",""]
["Jan Kantor",1983,"Letňany","CZ/C1","M",""]
["Jan Kapralek",1991,"Kladno","CZ/C1","M",""]
["Jan Karabec",2000,"Podhořany",{"$f":"VLOOKUP(C168,Region,2,0)","v":"CZ/C2"},"M","Junior v roce 2022"]
["Jan Karnik",1976,"Letkov",{"$f":"VLOOKUP(C169,Region,2,0)","v":"CZ/C1"},"M",""]
["Jan Kaspar",1994,"Letňany",{"$f":"VLOOKUP(C170,Region,2,0)","v":"CZ/C1"},"M",""]
["Jan Kohout",1970,"Žamberk","CZ/C2","M",""]
["Jan Konecny",1972,"Rakovník","CZ/C1","M",""]
["Jan Kostka",1996,"Kladno","CZ/C1","M",""]
["Jan Kotan",1982,"Letňany","CZ/C1","M",""]
["Jan Kralik",1991,"Letkov","CZ/C1","M",""]
["Jan Kristof",1962,"Frýdlant","CZ/M","M",""]
["Jan Kulistak",1990,"Kunovice","CZ/M","M",""]
["Jan Lancdorf",1988,"Panenský Týnec","CZ/C1","M",""]
["Jan Louda",1986,"Mladá Boleslav","CZ/C1","M",""]
["Jan Mareth",1979,"Frýdlant","CZ/M","M",""]
["Jan Masek",1977,"Kladno","CZ/C1","M",""]
["Jan Matejovsky",1972,"Hranice","CZ/M","M",""]
["Jan Merta",1952,"Šumperk","CZ/M","M",""]
["Jan Mittner",1986,"Zbraslavice",{"$f":"VLOOKUP(C184,Region,2,0)","v":"CZ/C1"},"M",""]
["Jan Moravec",1979,"Zábřeh","CZ/M","M",""]
["Jan Nyc",1943,"Dvůr Králové",{"$f":"VLOOKUP(C186,Region,2,0)","v":"CZ/C2"},"M",""]
["Jan Obrucnik",1991,"Kralupy","CZ/C1","M",""]
["Jan Oscatka",1990,"Jaroměř",{"$f":"VLOOKUP(C188,Region,2,0)","v":"CZ/C2"},"M",""]
["Jan Otrusina",1976,"Křižanov","CZ/M","M",""]
["Jan Ourada",1978,"Točná","CZ/C1","M",""]
["Jan Pavlik",1987,"Křižanov","CZ/M","M",""]
["Jan Pazour",1979,"Dvůr Králové",{"$f":"VLOOKUP(C192,Region,2,0)","v":"CZ/C2"},"M",""]
["Jan Platenik",1981,"Krnov","CZ/M","M",""]
["Jan Podhrazsky",1976,"Šumperk","CZ/M","M",""]
["Jan Pokluda",1973,"Šumperk","CZ/M","M",""]
["Jan Pubec",1979,"Plzeň Bory","CZ/C1","M",""]
["Jan Ratz",1987,"Zbraslavice","CZ/C1","M",""]
["Jan Rensa",1980,"Polička","CZ/C2","M",""]
["Jan Rolinek",1973,"Luhačovice","CZ/M","M",""]
["Jan Rott",1962,"Hronov","CZ/C2","M",""]
["Jan Repka",1959,"Liberec","CZ/C2","M",""]
["Jan Seifert",1948,"Raná","CZ/C2","M",""]
["Jan Simon",1970,"Kralupy","CZ/C1","M",""]
["Jan Sindelar",1946,"Kunovice","CZ/M","M",{"$f":"IF(A204=\"(prázdné)\",\"\",IF(($G$1-B204)>25,\"\",\"Junior v roce \"&$G$1))","v":""}]
["Jan Smaha",1958,"Česká Lípa","CZ/C2","M",""]
["Jan Smekal",1976,"Zbraslavice",{"$f":"VLOOKUP(C206,Region,2,0)","v":"CZ/C1"},"M",""]
["Jan Sponer",1988,"Medlánky","CZ/M","M",""]
["Jan Stastny",2003,"Medlánky",{"$f":"VLOOKUP(C208,Region,2,0)","v":"CZ/M"},"M","Junior v roce 2022"]
["Jan Stepan",1991,"Hronov","CZ/C2","M",""]
["Jan Sustr 76",1976,"Raná","CZ/C2","M",""]
["Jan Sustr 77",1977,"Staňkov","CZ/C1","M",""]
["Jan Svarc",1977,"Raná","CZ/C2","M",""]
["Jan Terrich",1978,"Liberec","CZ/C2","M",""]
["Jan Tomasek",1970,"Dvůr Králové","CZ/C2","M",""]
["Jan Turek",1987,"Toužim","CZ/C1","M",""]
["Jan Vavrin",1987,"Vysoké Mýto","CZ/C2","M",""]
["Jan Viskot",1995,"Břeclav","CZ/M","M",""]
["Jan Vozeh",1995,"Rakovník","CZ/C1","M",""]
["Jan Zahradka",1981,"Hodkovice","CZ/C2","M",""]
["Jan Zapletal",1997,"Břeclav","CZ/M","M","Junior v roce 2022"]
["Jan Zdvorak",1980,"Roudnice","CZ/C2","M",""]
["Jan Zezula",1979,"Letňany","CZ/C1","M",""]
["Jan Zona",1965,"Kroměříž","CZ/M","M",""]
["Jan Zanda",1983,"Letkov","CZ/C1","M",""]
["Jana Dvorakova",1953,"Raná","CZ/C2","F",""]
["Jana Kantorova",1980,"Hosín","CZ/C1","F",""]
["Jana Krejcova",1972,"Křižanov","CZ/M","F",""]
["Jana Mezerova",1975,"Raná","CZ/C2","F",""]
["Jana Treslova",1963,"Raná","CZ/C2","F",""]
["Jana Veprekova",1961,"Dvůr Králové","CZ/C2","F",""]
["Jarmila Zatykova",1959,"Kralupy","CZ/C1","F",""]
["Jaromir Hammer",1965,"Křižanov","CZ/M","M",""]
["Jaromir Hendrych",1954,"Raná","CZ/C2","M",""]
["Jaromir Jedlicka",1972,"Letňany","CZ/C1","M",""]
["Jaromir Macoun",1999,"Jičín","CZ/C2","M","Junior v roce 2022"]
["Jaromir Pauer",1974,"Hosín",{"$f":"VLOOKUP(C236,Region,2,0)","v":"CZ/C1"},"M",""]
["Jaromir Prokes",1984,"Tábor","CZ/C1","M",""]
["Jaromir Vlk",1959,"Šumperk","CZ/M","M",""]
["Jaroslav Bocek",1962,"Turnov","CZ/C2","M",""]
["Jaroslav Buryan",1953,"Zábřeh","CZ/M","M",""]
["Jaroslav Cempirek 51",1951,"Jindřichův Hradec","CZ/C1","M",""]
["Jaroslav Cempirek 77",1977,"Jihlava",{"$f":"VLOOKUP(C242,Region,2,0)","v":"CZ/M"},"M",""]
["Jaroslav Cejka",1952,"Letkov","CZ/C1","M",""]
["Jaroslav Deml",1986,"Hořice","CZ/C2","M",""]
["Jaroslav Florian",1977,"Medlánky","CZ/M","M",""]
["Jaroslav Hendrych",1946,"Příbram","CZ/C1","M",""]
["Jaroslav Hot",1965,"Toužim","CZ/C1","M",""]
["Jaroslav Juracka",1971,"Křižanov","CZ/M","M",""]
["Jaroslav Kacer",1978,"Raná","CZ/C2","M",""]
["Jaroslav Kares",1962,"Olomouc","CZ/M","M",""]
["Jaroslav Kral",1961,"Přibyslav",{"$f":"VLOOKUP(C251,Region,2,0)","v":"CZ/C2"},"M",""]
["Jaroslav Marek",1938,"Luhačovice","CZ/M","M",""]
["Jaroslav Nedorost",1986,"Letňany",{"$f":"VLOOKUP(C253,Region,2,0)","v":"CZ/C1"},"M",""]
["Jaroslav Palicka",1992,"Frýdlant","CZ/M","M",""]
["Jaroslav Petrasek",1976,"Jičín","CZ/C2","M",""]
["Jaroslav Potmesil",1964,"Zbraslavice","CZ/C1","M",""]
["Jaroslav Rapac",1977,"Dvůr Králové","CZ/C2","M",""]
["Jaroslav Szakal",1955,"Jaroměř","CZ/C2","M",""]
["Jaroslav Sima",1972,"Chomutov","CZ/C2","M",""]
["Jaroslav Simek",1968,"Letkov","CZ/C1","M",""]
["Jaroslav Tomana",1975,"Zbraslavice","CZ/C1","M",""]
["Jaroslav Tyls",1941,"Hronov","CZ/C2","M",""]
["Jaroslav Vancata",1985,"Raná",{"$f":"VLOOKUP(C263,Region,2,0)","v":"CZ/C2"},"M",""]
["Jaroslav Zavrel",1971,"Medlánky","CZ/M","M",""]
["Jindrich Hala",1989,"Rakovník","CZ/C1","M",""]
["Jindrich Hruska",1986,"Soběslav","CZ/C1","M",""]
["Jindrich Svorc",1978,"Letňany","CZ/C1","M",""]
["Jindriska Sloukova",1973,"Medlánky","CZ/M","F",{"$f":"IF(A268=\"(prázdné)\",\"\",IF(($G$1-B268)>25,\"\",\"Junior v roce \"&$G$1))","v":""}]
["Jirka Rybar",1958,"Hodkovice","CZ/C2","M",""]
["Jiri Balak",1978,"Zbraslavice",{"$f":"VLOOKUP(C270,Region,2,0)","v":"CZ/C1"},"M",""]
["Jiri Bastl",1944,"Turnov","CZ/C2","M",""]
["Jiri Bojko",1959,"Krnov","CZ/M","M",""]
["Jiri Bulanek",1983,"Rakovník",{"$f":"VLOOKUP(C273,Region,2,0)","v":"CZ/C1"},"M",{"$f":"IF(A273=\"(prázdné)\",\"\",IF(($G$1-B273)>25,\"\",\"Junior v roce \"&$G$1))","v":""}]
["Jiri Cincera",1966,"Toužim","CZ/C1","M",""]
["Jiri Dockal",1982,"Letňany","CZ/C1","M",""]
["Jiri Donat",1983,"Chrudim","CZ/C2","M",""]
["Jiri Fousek",1990,"Raná","CZ/C2","M",""]
["Jiri Hendrych",1943,"Točná","CZ/C1","M",""]
["Jiri Hodan",1959,"Zbraslavice","CZ/C1","M",""]
["Jiri Holcman",1976,"Hosín","CZ/C1","M",""]
["Jiri Horak",1971,"Kladno","CZ/C1","M",""]
["Jiri Hula",1973,"Slaný","CZ/C1","M",""]
["Jiri Janda",1966,"Letňany","CZ/C1","M",""]
["Jiri Jirmus",2003,"Tábor",{"$f":"VLOOKUP(C284,Region,2,0)","v":"CZ/C1"},"M","Junior v roce 2022"]
["Jiri Klicnar",1965,"Medlánky","CZ/M","M",""]
["Jiri Kobik",1952,"Hořice","CZ/C2","M",""]
["Jiri Kohoutek",1983,"Olomouc",{"$f":"VLOOKUP(C287,Region,2,0)","v":"CZ/M"},"M",""]
["Jiri Kokrment",1950,"Frýdlant","CZ/M","M",""]
["Jiri Koudela",1974,"Vyškov","CZ/M","M",""]
["Jiri Kratochvil",2003,"Podhořany",{"$f":"VLOOKUP(C290,Region,2,0)","v":"CZ/C2"},"M",{"$f":"IF(A290=\"(prázdné)\",\"\",IF(($G$1-B290)>25,\"\",\"Junior v roce \"&$G$1))","v":"Junior v roce 2022"}]
["Jiri Krofta",1988,"Hosín",{"$f":"VLOOKUP(C291,Region,2,0)","v":"CZ/C1"},"M",""]
["Jiri Krticka",1965,"Jaroměř","CZ/C2","M",""]
["Jiri Krzanowski",1944,"Letkov","CZ/C1","M",""]
["Jiri Kupec",1960,"Medlánky","CZ/M","M",""]
["Jiri Kusbach",1959,"Luhačovice","CZ/M","M",""]
["Jiri Kyslik",1968,"Česká Lípa","CZ/C2","M",""]
["Jiri Lenik",1947,"Raná","CZ/C2","M",""]
["Jiri Maier 66",1966,"Raná","CZ/C2","M",""]
["Jiri Maier 99",1999,"Raná","CZ/C2","M","Junior v roce 2022"]
["Jiri Mlejnek",1984,"Mladá Boleslav","CZ/C1","M",""]
["Jiri Obst",1964,"Vrchlabí","CZ/C2","M",""]
["Jiri Pajer",1977,"Zbraslavice","CZ/C1","M",""]
["Jiri Pelucha",1984,"Frýdlant","CZ/M","M",""]
["Jiri Pesta",1973,"Dvůr Králové","CZ/C2","M",""]
["Jiri Peterka",1951,"Křižanov",{"$f":"VLOOKUP(C305,Region,2,0)","v":"CZ/M"},"M",""]
["Jiri Piskaty",1962,"Kunovice","CZ/M","M",""]
["Jiri Pixa",1968,"Slaný","CZ/C1","M",""]
["Jiri Prochazka",1971,"Toužim","CZ/C1","M",""]
["Jiri Prucha",1963,"Chomutov","CZ/C2","M",""]
["Jiri Skarka",1965,"Chomutov",{"$f":"VLOOKUP(C310,Region,2,0)","v":"CZ/C2"},"M",""]
["Jiri Slouka",1967,"Medlánky",{"$f":"VLOOKUP(C311,Region,2,0)","v":"CZ/M"},"M",""]
["Jiri Sohr",1960,"Šumperk",{"$f":"VLOOKUP(C312,Region,2,0)","v":"CZ/M"},"M",""]
["Jiri Steiger",1969,"Olomouc","CZ/M","M",""]
["Jiri Suchomel",1950,"Broumov",{"$f":"VLOOKUP(C314,Region,2,0)","v":"CZ/C2"},"M",""]
["Jiri Slemr",1979,"Vysoké Mýto","CZ/C2","M",""]
["Jiri Stepanek",1956,"Moravská Třebová","CZ/M","M",""]
["Jiri Tomicek",1947,"Dvůr Králové","CZ/C2","M",""]
["Jiri Valentr",1947,"Rakovník","CZ/C1","M",""]
["Jiri Vavrina",1958,"Kyjov","CZ/M","M",""]
["Jiri Vokrinek",1965,"Hodkovice","CZ/C2","M",""]
["Jiri Vondracek",1989,"Kladno","CZ/C1","M",""]
["Jiri Zablatzky",1978,"Hranice","CZ/M","M",""]
["Jitka Hromkova",1985,"Šumperk","CZ/M","F",""]
["Jitka Skalova",1955,"Zbraslavice","CZ/C1","F",""]
["Jitka Zimova",1981,"Hodkovice","CZ/C2","F",""]
["Josef Andrasovsky",1954,"Jaroměř","CZ/C2","M",""]
["Josef Bacina",1976,"Vysoké Mýto","CZ/C2","M",""]
["Josef Barta",1977,"Vysoké Mýto","CZ/C2","M",""]
["Josef Bostik",1963,"GAC Benešov","CZ/C1","M",""]
["Josef Busek",1967,"Hosín","CZ/C1","M",""]
["Josef Hlusek",1993,"Kunovice","CZ/M","M",""]
["Josef Kolman",1983,"Letňany","CZ/C1","M",""]
["Josef Krejsa",1938,"Hranice","CZ/M","M",""]
["Josef Kreutzer",1992,"Letkov","CZ/C1","M",{"$f":"IF(A334=\"(prázdné)\",\"\",IF(($G$1-B334)>25,\"\",\"Junior v roce \"&$G$1))","v":""}]
["Josef Linhart",1972,"Medlánky","CZ/M","M",""]
["Josef Macicek",1949,"Frýdlant","CZ/M","M",""]
["Josef Mezera",1951,"Raná","CZ/C2","M",""]
["Josef Novak",1981,"Kunovice","CZ/M","M",""]
["Josef Novotny",1983,"Přibyslav","CZ/C2","M",""]
["Josef Plechac",1942,"Hronov","CZ/C2","M",""]
["Josef Rydl",1940,"Turnov","CZ/C2","M",""]
["Josef Sedlacek",1968,"Zbraslavice","CZ/C1","M",""]
["Jozef Hartinger",1987,"Medlánky","CZ/M","M",""]
["Juraj Dudas",1990,"Křižanov",{"$f":"VLOOKUP(C344,Region,2,0)","v":"CZ/M"},"M",""]
["Jurij Sikorsky",1975,"Hodkovice","CZ/C2","M",""]
["Kamil Hejda",1973,"Jičín",{"$f":"VLOOKUP(C346,Region,2,0)","v":"CZ/C2"},"M",{"$f":"IF(A346=\"(prázdné)\",\"\",IF(($G$1-B346)>25,\"\",\"Junior v roce \"&$G$1))","v":""}]
["Kamil Novak",1970,"Jaroměř","CZ/C2","M",""]
["Kamil Sohr",1973,"Šumperk","CZ/M","M",""]
["Karel Balatka",1965,"Liberec","CZ/C2","M",""]
["Karel Benes",1980,"Polička","CZ/C2","M",""]
["Karel Benisek 48",1948,"Toužim","CZ/C1","M",""]
["Karel Benisek 76",1976,"Toužim","CZ/C1","M",""]
["Karel Cerny",1943,"Beroun","CZ/C1","M",""]
["Karel Elsnic",1974,"Křižanov","CZ/M","M",""]
["Karel Ertl",1939,"LK Břeclav","CZ/M","M",""]
["Karel Grotz",1934,"Toužim","CZ/C1","M",""]
["Karel Horalek",1976,"Olomouc",{"$f":"VLOOKUP(C357,Region,2,0)","v":"CZ/M"},"M",""]
["Karel Knotek",1961,"Soběslav","CZ/C1","M",""]
["Karel Kolomaznik",1955,"Šumperk","CZ/M","M",""]
["Karel Kotlan",1957,"Medlánky","CZ/M","M",""]
["Karel Lang",1967,"Medlánky","CZ/M","M",""]
["Karel Mares",1974,"Slaný","CZ/C1","M",""]
["Karel Minarik",1965,"Hranice","CZ/M","M",""]
["Karel Novak",1993,"Mladá Boleslav","CZ/C1","M",""]
["Karel Policky",1950,"Kolín","CZ/C1","M",""]
["Karel Stach",1963,"Letňany","CZ/C1","M",""]
["Karel Toman",1976,"Letňany","CZ/C1","M",""]
["Karel Vagenknecht",1960,"Šumperk","CZ/M","M",""]
["Karel Vladar",1972,"Hodkovice","CZ/C2","M",""]
["Katerina Dvorakova",1984,"Most","CZ/C2","F",""]
["Katerina Kardosova",1988,"Kunovice","CZ/M","F",""]
["Katerina Vancurova",2002,"Hranice",{"$f":"VLOOKUP(C372,Region,2,0)","v":"CZ/M"},"F","Junior v roce 2022"]
["Katerina Vojtova",1983,"Slaný","CZ/C1","F",""]
["Klara Teichmannova",1993,"Hronov","CZ/C2","F",""]
["Kristina Santruckova",1996,"Podhořany",{"$f":"VLOOKUP(C375,Region,2,0)","v":"CZ/C2"},"F",""]
["Krystof Mimra",1992,"Most",{"$f":"VLOOKUP(C376,Region,2,0)","v":"CZ/C2"},"M",""]
["Krystof Urban",1999,"Jindřichův Hradec","CZ/C1","M","Junior v roce 2022"]
["Kuk",1900,"Dvůr Králové",{"$f":"VLOOKUP(C378,Region,2,0)","v":"CZ/C2"},"M",""]
["Ladislav Berger",1970,"Kralupy","CZ/C1","M",""]
["Ladislav Durnik",1974,"Kunovice","CZ/M","M",""]
["Ladislav Hybl",1955,"Šumperk","CZ/M","M",""]
["Ladislav Jozsa",1981,"Medlánky","CZ/M","M",""]
["Ladislav Krecbach",1985,"Jaroměř","CZ/C2","M",""]
["Ladislav Krizek",1982,"Šumperk",{"$f":"VLOOKUP(C384,Region,2,0)","v":"CZ/M"},"M",""]
["Ladislav Prokes",1954,"Vrchlabí",{"$f":"VLOOKUP(C385,Region,2,0)","v":"CZ/C2"},"M",""]
["Ladislav Valenta",1961,"Žamberk","CZ/C2","M",""]
["Ladislav Vratny",1959,"Jaroměř","CZ/C2","M",""]
["Lenka Hajkova",1982,"Raná","CZ/C2","F",""]
["Lenka Kuthanova",1960,"Tábor","CZ/C1","F",""]
["Lenka Stovickova",1963,"Hořice","CZ/C2","F",""]
["Leos Nosek",1958,"Křižanov",{"$f":"VLOOKUP(C391,Region,2,0)","v":"CZ/M"},"M",""]
["Leos Strnadek",1983,"Hodkovice","CZ/C2","M",""]
["Libor Bednarik",1972,"Kunovice","CZ/M","M",""]
["Libor Danhel",1966,"Kunovice","CZ/M","M",""]
["Libor Hyps",1988,"Chrudim","CZ/C2","M",""]
["Libor Kovarik",1966,"Hosín","CZ/C1","M",""]
["Libor Kovarnik",1968,"Mladá Boleslav",{"$f":"VLOOKUP(C397,Region,2,0)","v":"CZ/C1"},"M",""]
["Linda Vasatova",1990,"Mladá Boleslav","CZ/C1","F",""]
["Lubomir Doupal",1975,"Kroměříž","CZ/M","M",{"$f":"IF(A399=\"(prázdné)\",\"\",IF(($G$1-B399)>25,\"\",\"Junior v roce \"&$G$1))","v":""}]
["Lubomir Motl",1959,"Kyjov","CZ/M","M",""]
["Lubomir Papezik",1951,"Luhačovice","CZ/M","M",""]
["Lubomir Svoboda",1959,"Letkov","CZ/C1","M",""]
["Lubomir Vrba",1955,"Toužim","CZ/C1","M",""]
["Lubor Sobek",1979,"Frýdlant","CZ/M","M",""]
["Lubor Vyhlid",1972,"Kroměříž","CZ/M","M",""]
["Lubor Zeleny",1957,"Přibyslav","CZ/C2","M",""]
["Lubos Florian",1966,"Jičín",{"$f":"VLOOKUP(C407,Region,2,0)","v":"CZ/C2"},"M",""]
["Lubos Kunc 56",1956,"Dvůr Králové","CZ/C2","M",""]
["Lubos Kunc 85",1985,"Vrchlabí","CZ/C2","M",""]
["Lubos Stiburek",1954,"Raná","CZ/C2","M",""]
["Lubos Svoboda",1959,"Letkov","CZ/C1","M",""]
["Ludek Kluger",1963,"Tábor","CZ/C1","M",""]
["Ludek Mikl",1963,"Kroměříž",{"$f":"VLOOKUP(C413,Region,2,0)","v":"CZ/M"},"M",""]
["Ludek Souhrada",1974,"Raná","CZ/C2","M",""]
["Lukas Capek",1992,"Letňany","CZ/C1","M",""]
["Lukas Fiala",1976,"Kralupy","CZ/C1","M",""]
["Lukas Fronek",1989,"Kyjov",{"$f":"VLOOKUP(C417,Region,2,0)","v":"CZ/M"},"M",""]
["Lukas Hykl",1985,"Kolín",{"$f":"VLOOKUP(C418,Region,2,0)","v":"CZ/C1"},"M",""]
["Lukas Hynek",1979,"Dvůr Králové","CZ/C2","M",""]
["Lukas Jezek",1975,"Jičín","CZ/C2","M",""]
["Lukas Kotek",1994,"Frýdlant","CZ/M","M",""]
["Lukas Koukal",1991,"Letkov","CZ/C1","M",""]
["Lukas Kriz",2003,"Křižanov",{"$f":"VLOOKUP(C423,Region,2,0)","v":"CZ/M"},"M","Junior v roce 2022"]
["Lukas Maly",1998,"Vysoké Mýto","CZ/C2","M","Junior v roce 2022"]
["Lukas Petrzela",1987,"Olomouc",{"$f":"VLOOKUP(C425,Region,2,0)","v":"CZ/M"},"M",""]
["Lukas Plocek",1990,"Mladá Boleslav","CZ/C1","M",""]
["Lukas Popelka",1977,"Polička","CZ/C2","M",""]
["Lukas Volek",2004,"Hodkovice",{"$f":"VLOOKUP(C428,Region,2,0)","v":"CZ/C2"},"M","Junior v roce 2022"]
["Lukas Zach",1987,"Vyškov",{"$f":"VLOOKUP(C429,Region,2,0)","v":"CZ/M"},"M",""]
["Lukas Zeman",2000,"Rakovník",{"$f":"VLOOKUP(C430,Region,2,0)","v":"CZ/C1"},"M","Junior v roce 2022"]
["Lukas Zemek",1994,"Letkov",{"$f":"VLOOKUP(C431,Region,2,0)","v":"CZ/C1"},"M",""]
["Lumir Motyka",1955,"Frýdlant","CZ/M","M",""]
["Marcel Skarohlid",1972,"Hodkovice","CZ/C2","M",""]
["Marek Blatak",1969,"Šumperk","CZ/M","M",""]
["Marek Csukas",1982,"Podhořany","CZ/C2","M",""]
["Marek Cacky",1971,"Kladno","CZ/C1","M",""]
["Marek Cerveny",1989,"Jaroměř","CZ/C2","M",""]
["Marek Kornec",1957,"Dvůr Králové","CZ/C2","M",""]
["Marek Loukota",2000,"Letkov",{"$f":"VLOOKUP(C439,Region,2,0)","v":"CZ/C1"},"M","Junior v roce 2022"]
["Marek Malinsky",1985,"Chrudim","CZ/C2","M",""]
["Marek Novy",1973,"Roudnice","CZ/C2","M",""]
["Marek Pechanec",1970,"Luhačovice","CZ/M","M",""]
["Marek Pechar",1995,"Chrudim","CZ/C2","M",""]
["Marek Seitl",1995,"Dvůr Králové","CZ/C2","M",""]
["Marek Sild",1976,"Kunovice","CZ/M","M",""]
["Marek Simon",1998,"Kralupy",{"$f":"VLOOKUP(C446,Region,2,0)","v":"CZ/C1"},"M","Junior v roce 2022"]
["Marek Svancara",1976,"GAC Benešov","CZ/C1","M",""]
["Marek Vinar",1976,"Letňany","CZ/C1","M",""]
["Martin Adamec",1971,"Medlánky",{"$f":"VLOOKUP(C449,Region,2,0)","v":"CZ/M"},"M",""]
["Martin Babak",1976,"Hořice",{"$f":"VLOOKUP(C450,Region,2,0)","v":"CZ/C2"},"M",""]
["Martin Balik",1982,"Kralupy","CZ/C1","M",""]
["Martin Benesovsky",1900,"Kolín",{"$f":"VLOOKUP(C452,Region,2,0)","v":"CZ/C1"},"M",""]
["Martin Cicvarek",1966,"Liberec","CZ/C2","M",""]
["Martin Donek",1976,"Beroun","CZ/C1","M",""]
["Martin Dundr",1968,"Hořice","CZ/C2","M",""]
["Martin Ficnar",1971,"Šumperk","CZ/M","M",""]
["Martin Fric",1967,"Raná","CZ/C2","M",""]
["Martin Gedeon",1989,"Letkov","CZ/C1","M",""]
["Martin Grmela",1989,"Zbraslavice",{"$f":"VLOOKUP(C459,Region,2,0)","v":"CZ/C1"},"M",""]
["Martin Hejny",1984,"Šumperk","CZ/M","M",""]
["Martin Holik",1959,"Letňany","CZ/C1","M",""]
["Martin Horacek",1985,"Dvůr Králové","CZ/C2","M",""]
["Martin Hrivna",1978,"Zbraslavice","CZ/C1","M",{"$f":"IF(A463=\"(prázdné)\",\"\",IF(($G$1-B463)>25,\"\",\"Junior v roce \"&$G$1))","v":""}]
["Martin Chovan",1973,"Zbraslavice","CZ/C1","M",""]
["Martin Janousek",1985,"Turnov","CZ/C2","M",""]
["Martin Koci",1975,"Ústí nad Orlicí","CZ/C2","M",""]
["Martin Kozina",1970,"Křižanov",{"$f":"VLOOKUP(C467,Region,2,0)","v":"CZ/M"},"M",""]
["Martin Kriz",1968,"Přibyslav",{"$f":"VLOOKUP(C468,Region,2,0)","v":"CZ/C2"},"M",""]
["Martin Krizovic",1971,"Přibyslav","CZ/C2","M",""]
["Martin Liptak",1970,"Toužim","CZ/C1","M",""]
["Martin Marek",1967,"Roudnice","CZ/C2","M",""]
["Martin Marhefka",1975,"Kyjov","CZ/M","M",""]
["Martin Markl",1960,"Kolín","CZ/C1","M",""]
["Martin Molnar",1986,"Šumperk","CZ/M","M",""]
["Martin Nejezchleb",1979,"Plzeň Bory","CZ/C1","M",""]
["Martin Novak",1976,"Slaný","CZ/C1","M",""]
["Martin Pehe",1978,"Soběslav","CZ/C1","M",""]
["Martin Pekar",1973,"Šumperk","CZ/M","M",""]
["Martin Picka",1974,"Tábor","CZ/C1","M","",null,"Tábor od roku 2018, dříve Letkov"]
["Martin Piskacek",1991,"Křižanov","CZ/M","M",""]
["Martin Sehnoutka",1970,"Dvůr Králové","CZ/C2","M",""]
["Martin Skala",1985,"Vrchlabí","CZ/C2","M",""]
["Martin Soldan",2001,"Hronov",{"$f":"VLOOKUP(C483,Region,2,0)","v":"CZ/C2"},"M","Junior v roce 2022"]
["Martin Soucek",1975,"Mladá Boleslav","CZ/C1","M",""]
["Martin Suchy",1969,"Hranice","CZ/M","M",""]
["Martin Svacina",1965,"Frýdlant","CZ/M","M",""]
["Martin Svoboda",1989,"Letkov","CZ/C1","M",""]
["Martin Sonka",1978,"Tábor","CZ/C1","M",""]
["Martin Stepanek",1987,"Moravská Třebová","CZ/M","M",""]
["Martin Stepka",1966,"Turnov","CZ/C2","M",""]
["Martin Svarc",1981,"Olomouc","CZ/M","M",""]
["Martin Tison",2000,"Hosín",{"$f":"VLOOKUP(C492,Region,2,0)","v":"CZ/C1"},"M","Junior v roce 2022"]
["Martin Urban",1971,"Frýdlant","CZ/M","M",""]
["Martin Urner",1974,"Letňany","CZ/C1","M",""]
["Martin Valenta",1969,"Toužim","CZ/C1","M",""]
["Martin Vana",1979,"Mladá Boleslav","CZ/C1","M",""]
["Martin Vnoucek",1972,"Vlašim","CZ/C1","M",""]
["Martin Vondracek",1967,"Hronov","CZ/C2","M",""]
["Martin Vrba",1977,"Toužim","CZ/C1","M",""]
["Martin Vyskocil",1981,"Hodkovice","CZ/C2","M",""]
["Martin Zahalka",1987,"Staňkov","CZ/C1","M",""]
["Martin Zvonicek",1972,"Raná","CZ/C2","M",""]
["Martina Bartonikova",1990,"Luhačovice","CZ/M","F",""]
["Martina Kloubova",1991,"Hodkovice","CZ/C2","F",""]
["Martina Kubatova",1988,"Kyjov","CZ/M","F",""]
["Matej Bartos",1998,"Hodkovice",{"$f":"VLOOKUP(C506,Region,2,0)","v":"CZ/C2"},"M","Junior v roce 2022"]
["Matej Charouz",1993,"Hodkovice","CZ/C2","M",""]
["Matej Jelinek",1999,"Hronov",{"$f":"VLOOKUP(C508,Region,2,0)","v":"CZ/C2"},"M","Junior v roce 2022"]
["Matej Kiss",1990,"Točná","CZ/C1","M",""]
["Matej Krestes",1986,"Slaný","CZ/C1","M",""]
["Matej Plch",1987,"Letkov","CZ/C1","M",""]
["Matej Rendla",2000,"Zbraslavice","CZ/C1","M","Junior v roce 2022"]
["Matej Uhlik",1995,"Letkov","CZ/C1","M",""]
["Matous Schmidt",1981,"Letňany","CZ/C1","M",""]
["Michael Cernes",1997,"Letňany","CZ/C1","M","Junior v roce 2022"]
["Michael Fik",1972,"Strakonice","CZ/C1","M",""]
["Michaela Houskova",1978,"Letkov","CZ/C1","F",""]
["Michaela Krizova",2001,"Přibyslav",{"$f":"VLOOKUP(C518,Region,2,0)","v":"CZ/C2"},"F","Junior v roce 2022"]
["Michaela Rendlova",2004,"Toužim",{"$f":"VLOOKUP(C519,Region,2,0)","v":"CZ/C1"},"F","Junior v roce 2022"]
["Michaela Sirmerova",2000,"Jihlava",{"$f":"VLOOKUP(C520,Region,2,0)","v":"CZ/M"},"F","Junior v roce 2022"]
["MIchaela Vlacilikova",1993,"Luhačovice","CZ/M","F",""]
["Michal Budejovsky",1991,"Letkov","CZ/C1","M",""]
["Michal Buryan",1977,"Vysoké Mýto","CZ/C2","M",""]
["Michal Coufal",1999,"Jičín",{"$f":"VLOOKUP(C524,Region,2,0)","v":"CZ/C2"},"M","Junior v roce 2022"]
["Michal Cupak",1991,"Medlánky","CZ/M","M",""]
["Michal Cechmanek",1978,"Luhačovice","CZ/M","M",""]
["Michal Drab",1969,"Letkov","CZ/C1","M",{"$f":"IF(A527=\"(prázdné)\",\"\",IF(($G$1-B527)>25,\"\",\"Junior v roce \"&$G$1))","v":""}]
["Michal Dvorak",1986,"Zbraslavice","CZ/C1","M",""]
["Michal Fortik",1976,"Točná","CZ/C1","M",""]
["Michal Hemrle",1974,"Česká Lípa",{"$f":"VLOOKUP(C530,Region,2,0)","v":"CZ/C2"},"M",""]
["Michal Janda",1972,"Broumov","CZ/C2","M",""]
["Michal Kares",1987,"Ústí nad Orlicí","CZ/C2","M",""]
["Michal Kodousek",1983,"Jaroměř","CZ/C2","M",""]
["Michal Kratochvil",1984,"Slaný","CZ/C1","M",""]
["Michal Krupicka",1975,"Most","CZ/C2","M",""]
["Michal Lesinger",1966,"Moravská Třebová","CZ/M","M",""]
["Michal Linhart",1982,"Vyškov","CZ/M","M",""]
["Michal Maly",1982,"Broumov","CZ/C2","M",""]
["Michal Marek",1982,"Křižanov","CZ/M","M",""]
["Michal Navratil",1985,"Křižanov","CZ/M","M",""]
["Michal Nutil",1966,"Náchod",{"$f":"VLOOKUP(C541,Region,2,0)","v":"CZ/C2"},"M",""]
["Michal Ondracek",1966,"Medlánky",{"$f":"VLOOKUP(C542,Region,2,0)","v":"CZ/M"},"M",""]
["Michal Posluzny",1968,"Medlánky",{"$f":"VLOOKUP(C543,Region,2,0)","v":"CZ/M"},"M",""]
["Michal Rancak",1984,"Mladá Boleslav","CZ/C1","M",""]
["Michal Richter",1983,"Kolín","CZ/C1","M",""]
["Michal Sebek",1998,"Letňany","CZ/C1","M","Junior v roce 2022"]
["Michal Sich",1979,"Mladá Boleslav","CZ/C1","M",""]
["Michal Stastny",1970,"Medlánky","CZ/M","M",""]
["Michal Trylc",1987,"Plasy","CZ/C1","M",""]
["Michal Vopalensky",1974,"Letňany",{"$f":"VLOOKUP(C550,Region,2,0)","v":"CZ/C1"},"M",""]
["Michal Vorlicek",1995,"Kolín",{"$f":"VLOOKUP(C551,Region,2,0)","v":"CZ/C1"},"M",{"$f":"IF(A551=\"(prázdné)\",\"\",IF(($G$1-B551)>25,\"\",\"Junior v roce \"&$G$1))","v":""}]
["Michal Vrana",1999,"Vyškov",{"$f":"VLOOKUP(C552,Region,2,0)","v":"CZ/M"},"M","Junior v roce 2022"]
["Michal Vranek",1993,"Hosín",{"$f":"VLOOKUP(C553,Region,2,0)","v":"CZ/C1"},"M",""]
["Milada Moudra",1991,"Hodkovice","CZ/C2","F",""]
["Milan Benes",1953,"Raná",{"$f":"VLOOKUP(C555,Region,2,0)","v":"CZ/C2"},"M",""]
["Milan Dvorak",1965,"Liberec","CZ/C2","M",""]
["Milan Kuk",1950,"Dvůr Králové","CZ/C2","M",""]
["Milan Meisner",1961,"Dvůr Králové","CZ/C2","M",""]
["Milan Riha",1973,"Zbraslavice",{"$f":"VLOOKUP(C559,Region,2,0)","v":"CZ/C1"},"M",""]
["Milan Svoboda 34",1934,"Letkov","CZ/C1","M",""]
["Milan Svoboda 80",1980,"Havlíčkův Brod","CZ/C2","M","",null,"Dříve Chotěboř"]
["Milan Svorc",1955,"Podhořany","CZ/C2","M",""]
["Miloslav Cindr",1974,"Ústí nad Orlicí","CZ/C2","M",""]
["Miloslav Cink",1987,"Letkov","CZ/C1","M","",null,"Dříve Letkov"]
["Miloslav Fiser",1974,"Hodkovice","CZ/C2","M",""]
["Miloslav Hulmak",1963,"Hosín","CZ/C1","M",""]
["Miloslav Krch",1988,"Zbraslavice","CZ/C1","M",""]
["Milos Dedera",1956,"Jihlava","CZ/M","M",""]
["Milos Eichler",1964,"Dvůr Králové","CZ/C2","M",""]
["Milos Houha",1954,"Plzeň Bory","CZ/C1","M",""]
["Milos Hrabe",1979,"Letňany","CZ/C1","M",""]
["Milos Matejka",1956,"Beroun","CZ/C1","M",""]
["Milos Novotny",1973,"Hronov",{"$f":"VLOOKUP(C573,Region,2,0)","v":"CZ/C2"},"M",""]
["Milos Pajr",1966,"Jičín","CZ/C2","M",""]
["Milos Pospisil",1952,"Frýdlant","CZ/M","M",""]
["Milos Rejzl",1962,"Klatovy","CZ/C1","M",""]
["Miroslav Burdych",1973,"Nové Město nad Metují","CZ/C2","M",""]
["Miroslav Burian",1969,"Křižanov","CZ/M","M",""]
["Miroslav Cervenka",1980,"Křižanov","CZ/M","M",""]
["Miroslav Filip",1959,"Křižanov","CZ/M","M",""]
["Miroslav Horinek",1976,"Křižanov","CZ/M","M",""]
["Miroslav Jezek",1973,"Žamberk","CZ/C2","M",""]
["Miroslav Koci",1961,"Žamberk","CZ/C2","M",""]
["Miroslav Kudlacek",1986,"Polička",{"$f":"VLOOKUP(C584,Region,2,0)","v":"CZ/C2"},"M",""]
["Miroslav Macik",1983,"Rakovník","CZ/C1","M",""]
["Miroslav Major",1968,"Kralupy","CZ/C1","M",""]
["Miroslav Mancik",1976,"Kyjov","CZ/M","M",""]
["Miroslav Mitrus",1972,"GAC Benešov",{"$f":"VLOOKUP(C588,Region,2,0)","v":"CZ/C1"},"M",""]
["Miroslav Odlozilik",1973,"Křižanov","CZ/M","M",""]
["Miroslav Ofukany",1951,"Kolín","CZ/C1","M",""]
["Miroslav Plechac",1969,"Hronov","CZ/C2","M",""]
["Miroslav Sklenar",1964,"Žamberk","CZ/C2","M",{"$f":"IF(A592=\"(prázdné)\",\"\",IF(($G$1-B592)>25,\"\",\"Junior v roce \"&$G$1))","v":""}]
["Miroslav Streda",1945,"Vrchlabí","CZ/C2","M",""]
["Miroslav Sedivy",1974,"Letkov","CZ/C1","M",""]
["Miroslav Stepan",1955,"Žamberk","CZ/C2","M",""]
["Miroslav Trybucek",1965,"Jičín","CZ/C2","M",""]
["Monika Bezdekova",1988,"Letňany","CZ/C1","F","",null,"Dříve Bubnová"]
["Monika Jiraskova",1994,"Hronov","CZ/C2","F",""]
["Monika Klovanicova",1992,"Kunovice","CZ/M","F",""]
["Nikola Zizkovsky",1980,"Kralupy","CZ/C1","M",""]
["Oldrich Bartonik",1961,"Luhačovice","CZ/M","M",""]
["Oldrich Hlavacek",1973,"Medlánky","CZ/M","M",""]
["Oldrich Houzvicka",1975,"Frýdlant","CZ/M","M",""]
["Oldrich Kounovsky",1976,"Medlánky",{"$f":"VLOOKUP(C604,Region,2,0)","v":"CZ/M"},"M",""]
["Oldrich Slavicek",1959,"Hronov","CZ/C2","M",""]
["Oldrich Stumbauer",1992,"Prachatice",{"$f":"VLOOKUP(C606,Region,2,0)","v":"CZ/C1"},"M",""]
["Olga Mokosova",1970,"Jihlava","CZ/M","F",""]
["Ondrej Bartos",1975,"Točná","CZ/C1","M",""]
["Ondrej Belohlavek",1978,"Vysoké Mýto","CZ/C2","M",""]
["Ondrej Blaha",1976,"Letňany","CZ/C1","M",""]
["Ondrej Bordovsky",1983,"Krnov","CZ/M","M",""]
["Ondrej Dupal",1966,"GAC Benešov","CZ/C1","M",""]
["Ondrej Dvorak 58",1958,"Raná","CZ/C2","M",""]
["Ondrej Dvorak 87",1987,"Raná","CZ/C2","M",""]
["Ondrej Dvorak 98",1998,"Mladá Boleslav","CZ/C1","M","Junior v roce 2022"]
["Ondrej Hart",1990,"Letňany",{"$f":"VLOOKUP(C616,Region,2,0)","v":"CZ/C1"},"M",""]
["Ondrej Holas",1989,"Česká Lípa","CZ/C2","M",""]
["Ondrej Jung",1976,"Zbraslavice","CZ/C1","M",""]
["Ondrej Kluger",1990,"LK Břeclav",{"$f":"VLOOKUP(C619,Region,2,0)","v":"CZ/M"},"M",""]
["Ondrej Kover",1993,"Šumperk","CZ/M","M",""]
["Ondrej Krejci",1974,"Chotěboř","CZ/C2","M",""]
["Ondrej Prazsky",1978,"Zbraslavice",{"$f":"VLOOKUP(C622,Region,2,0)","v":"CZ/C1"},"M",""]
["Ondrej Marek",1989,"Žamberk","CZ/C2","M",""]
["Ondrej Skala",1982,"Vrchlabí","CZ/C2","M",""]
["Ondrej Sindelar",1979,"Mladá Boleslav","CZ/C1","M",""]
["Ondrej Supka",1994,"Kunovice","CZ/M","M",""]
["Ondrej Teichman",1984,"Dvůr Králové","CZ/C2","M",""]
["Ondrej Trkal",1991,"Vysoké Mýto","CZ/C2","M",""]
["Ondrej Valach",1986,"Točná","CZ/C1","M",""]
["Ondrej Vyskocil",1991,"Letkov","CZ/C1","M",""]
["Ondrej Zeman",1980,"Letňany","CZ/C1","M",""]
["Ota Vavrin",1947,"Vysoké Mýto","CZ/C2","M",""]
["Otakar Tucek",1947,"Raná","CZ/C2","M",""]
["Patrik Cebis",1972,"Kralupy","CZ/C1","M",""]
["Pavel Brodsky",1992,"Hořice","CZ/C2","M",""]
["Pavel Cerny",1996,"Příbram","CZ/C1","M",""]
["Pavel Derda",1952,"Dvůr Králové","CZ/C2","M",""]
["Pavel Dostal",1944,"Turnov","CZ/C2","M",""]
["Pavel Foldyna",1976,"Frýdlant","CZ/M","M",""]
["Pavel Franc",1974,"Hronov","CZ/C2","M",""]
["Pavel Haluza",1966,"Prostějov","CZ/M","M",""]
["Pavel Handl",1971,"Kroměříž",{"$f":"VLOOKUP(C642,Region,2,0)","v":"CZ/M"},"M",""]
["Pavel Hartman",1963,"Jaroměř","CZ/C2","M",""]
["Pavel Jiranek",1993,"Toužim","CZ/C1","M",""]
["Pavel Jurak",1986,"Kunovice","CZ/M","M",""]
["Pavel Jurka",1955,"Moravská Třebová","CZ/M","M",""]
["Pavel Kalous",1921,"Frýdlant","CZ/M","M",""]
["Pavel Kostkan",1952,"Dvůr Králové","CZ/C2","M",""]
["Pavel Koudelka",1973,"Křižanov","CZ/M","M",""]
["Pavel Kuriscak",1987,"Beroun",{"$f":"VLOOKUP(C650,Region,2,0)","v":"CZ/C1"},"M",""]
["Pavel Kyzivat",1973,"Zbraslavice",{"$f":"VLOOKUP(C651,Region,2,0)","v":"CZ/C1"},"M",""]
["Pavel Laznicka",1955,"Letňany","CZ/C1","M",""]
["Pavel Liska",1965,"Roudnice","CZ/C2","M",""]
["Pavel Louzecky",1957,"Přibyslav","CZ/C2","M",""]
["Pavel Nemec",1988,"Šumperk","CZ/M","M",""]
["Pavel Opat",1975,"Rakovník",{"$f":"VLOOKUP(C656,Region,2,0)","v":"CZ/C1"},"M",{"$f":"IF(A656=\"(prázdné)\",\"\",IF(($G$1-B656)>25,\"\",\"Junior v roce \"&$G$1))","v":""}]
["Pavel Paces",1972,"Kladno","CZ/C1","M",""]
["Pavel Pittner",1980,"Polička","CZ/C2","M",""]
["Pavel Rericha",1967,"Moravská Třebová","CZ/M","M",""]
["Pavel Schor",1985,"Medlánky","CZ/M","M",""]
["Pavel Svoboda",1938,"Letňany","CZ/C1","M",""]
["Pavel Simek",1957,"Vyškov","CZ/M","M",""]
["Pavel Skrabal",1969,"Šumperk","CZ/M","M",""]
["Pavel Sulc",1976,"Hodkovice",{"$f":"VLOOKUP(C664,Region,2,0)","v":"CZ/C2"},"M",""]
["Pavel Svejkovsky",1968,"Česká Lípa",{"$f":"VLOOKUP(C665,Region,2,0)","v":"CZ/C2"},"M",""]
["Pavel Svrcek",1972,"Frýdlant","CZ/M","M",""]
["Pavel Trojan",1960,"Chrudim","CZ/C2","M",""]
["Pavel Trybenekr",1990,"Hořice","CZ/C2","M",""]
["Pavel Zima",1979,"Břeclav","CZ/M","M",""]
["Pavla Seifertova",1981,"Raná","CZ/C2","F",""]
["Pavlina Hanusova",1970,"Turnov","CZ/C2","F",""]
["Pavlina Horackova",1965,"Šumperk","CZ/M","F",""]
["Peter Kaspar",1980,"Vyškov",{"$f":"VLOOKUP(C673,Region,2,0)","v":"CZ/M"},"M",""]
["Petr Babak",1973,"Hořice",{"$f":"VLOOKUP(C674,Region,2,0)","v":"CZ/C2"},"M",""]
["Petr Baros",1974,"Hranice","CZ/M","M",""]
["Petr Bartak",1984,"Letkov","CZ/C1","M",""]
["Petr Brezina",1963,"Frýdlant","CZ/M","M",""]
["Petr Bezdek",1965,"Letňany","CZ/C1","M",""]
["Petr Cernicky",1974,"Toužim",{"$f":"VLOOKUP(C679,Region,2,0)","v":"CZ/C1"},"M",""]
["Petr Doubek",1974,"Kralupy","CZ/C1","M",""]
["Petr Filip",1982,"Zbraslavice","CZ/C1","M",""]
["Petr Fisar",1974,"Ústí nad Orlicí","CZ/C2","M",""]
["Petr Fousek",1958,"Zbraslavice","CZ/C1","M",""]
["Petr Frycek",1960,"Most","CZ/C2","M",""]
["Petr Gebauer",1999,"Mladá Boleslav","CZ/C1","M","Junior v roce 2022"]
["Petr Gryc",1949,"Medlánky","CZ/M","M",""]
["Petr Hanacek",1962,"Jeseník","CZ/M","M",""]
["Petr Havelka",1997,"Zbraslavice",{"$f":"VLOOKUP(C688,Region,2,0)","v":"CZ/C1"},"M","Junior v roce 2022"]
["Petr Havrlant",1965,"Šumperk","CZ/M","M",""]
["Petr Hodulak",1974,"Beroun","CZ/C1","M",""]
["Petr Hofman",1984,"Letňany","CZ/C1","M",""]
["Petr Homola",1974,"GAC Benešov",{"$f":"VLOOKUP(C692,Region,2,0)","v":"CZ/C1"},"M",""]
["Petr Hora",1948,"Hodkovice","CZ/C2","M",""]
["Petr Hosek",2001,"Beroun",{"$f":"VLOOKUP(C694,Region,2,0)","v":"CZ/C1"},"M","Junior v roce 2022"]
["Petr Hotovy",1958,"Česká Lípa",{"$f":"VLOOKUP(C695,Region,2,0)","v":"CZ/C2"},"M",""]
["Petr Houstek 49",1949,"Jaroměř","CZ/C2","M",""]
["Petr Houstek 79",1979,"Jaroměř","CZ/C2","M",""]
["Petr Hrebec",1972,"Točná","CZ/C1","M",""]
["Petr Humlicek",1973,"Medlánky","CZ/M","M",""]
["Petr Hybner",1951,"Liberec","CZ/C2","M",""]
["Petr Jasan",1960,"Medlánky","CZ/M","M",""]
["Petr Jedlicka",1987,"Medlánky","CZ/M","M",""]
["Petr Jiranek 63",1962,"Toužim","CZ/C1","M",""]
["Petr Jiranek 91",1991,"Toužim","CZ/C1","M",""]
["Petr Jirasek",1968,"Hronov","CZ/C2","M",""]
["Petr Kachlik",1954,"GAC Benešov","CZ/C1","M",""]
["Petr Kapounek",1977,"Kroměříž","CZ/M","M",""]
["Petr Kaufmann",1958,"Nové Město nad Metují","CZ/C2","M",""]
["Petr Kejr",1959,"Kralupy","CZ/C1","M",""]
["Petr Kolacek",1965,"Šumperk","CZ/M","M",""]
["Petr Kolomaznik",1981,"Šumperk","CZ/M","M",""]
["Petr Kotal",1975,"Točná","CZ/C1","M",""]
["Petr Koutny",1971,"Křižanov","CZ/M","M",""]
["Petr Kohr",1970,"Raná","CZ/C2","M",""]
["Petr Krejcirik",1960,"Hranice","CZ/M","M",""]
["Petr Kubik 74",1974,"Křižanov","CZ/M","M",""]
["Petr Kubik 75",1975,"Moravská Třebová","CZ/M","M",""]
["Petr Kyzivat",1970,"Jičín","CZ/C2","M",""]
["Petr Lonsky",1965,"Toužim","CZ/C1","M",""]
["Petr Los",1961,"Toužim","CZ/C1","M",{"$f":"IF(A720=\"(prázdné)\",\"\",IF(($G$1-B720)>25,\"\",\"Junior v roce \"&$G$1))","v":""}]
["Petr Macicek",1976,"Frýdlant","CZ/M","M",""]
["Petr Malcek",1965,"Letňany","CZ/C1","M",""]
["Petr Masik",2001,"Zábřeh",{"$f":"VLOOKUP(C723,Region,2,0)","v":"CZ/M"},"M",{"$f":"IF(A723=\"(prázdné)\",\"\",IF(($G$1-B723)>25,\"\",\"Junior v roce \"&$G$1))","v":"Junior v roce 2022"}]
["Petr Mitas",1993,"Kunovice","CZ/M","M",""]
["Petr Omelka",1970,"Vyškov",{"$f":"VLOOKUP(C725,Region,2,0)","v":"CZ/M"},"M",""]
["Petr Panek",1975,"Dvůr Králové","CZ/C2","M",""]
["Petr Petricka",1972,"Soběslav","CZ/C1","M",""]
["Petr Prichystal",1973,"Moravská Třebová","CZ/M","M",""]
["Petr Rajda",1970,"Křižanov","CZ/M","M",""]
["Petr Rozhon",1972,"Hosín","CZ/C1","M",""]
["Petr Rygl",1966,"Jičín","CZ/C2","M",""]
["Petr Seibrt",1974,"Náchod","CZ/C2","M",""]
["Petr Sloupensky",1959,"Ústí nad Orlicí","CZ/C2","M",""]
["Petr Starek",1974,"Zbraslavice","CZ/C1","M",""]
["Petr Striz",1980,"Točná","CZ/C1","M",""]
["Petr Svoboda",1988,"Letkov","CZ/C1","M",""]
["Petr Safar",1978,"Ústí nad Orlicí","CZ/C2","M",""]
["Petr Senkyr",1965,"Kunovice","CZ/M","M",""]
["Petr Setka",1971,"Letkov","CZ/C1","M",""]
["Petr Sindelar 45",1945,"Rakovník",{"$f":"VLOOKUP(C740,Region,2,0)","v":"CZ/C1"},"M",{"$f":"IF(A740=\"(prázdné)\",\"\",IF(($G$1-B740)>25,\"\",\"Junior v roce \"&$G$1))","v":""}]
["Petr Sindelar 80",1980,"Rakovník",{"$f":"VLOOKUP(C741,Region,2,0)","v":"CZ/C1"},"M",{"$f":"IF(A741=\"(prázdné)\",\"\",IF(($G$1-B741)>25,\"\",\"Junior v roce \"&$G$1))","v":""}]
["Petr Sochor",1986,"Hosín",{"$f":"VLOOKUP(C742,Region,2,0)","v":"CZ/C1"},"M",""]
["Petr Spunar",1966,"Mladá Boleslav","CZ/C1","M",""]
["Petr Stepanek",1989,"Moravská Třebová","CZ/M","M",""]
["Petr Tax",1968,"Jičín",{"$f":"VLOOKUP(C745,Region,2,0)","v":"CZ/C2"},"M",""]
["Petr Tichy",1973,"Zbraslavice","CZ/C1","M",""]
["Petr Traeger",1983,"Vrchlabí",{"$f":"VLOOKUP(C747,Region,2,0)","v":"CZ/C2"},"M",{"$f":"IF(A747=\"(prázdné)\",\"\",IF(($G$1-B747)>25,\"\",\"Junior v roce \"&$G$1))","v":""}]
["Petr Uhrincko",1969,"Kladno","CZ/C1","M",""]
["Petr Valenta 94",1994,"Kunovice","CZ/M","M",""]
["Petr Valenta 76",1976,"Jaroměř",{"$f":"VLOOKUP(C750,Region,2,0)","v":"CZ/C2"},"M",""]
["Petr Velek",1975,"GAC Benešov",{"$f":"VLOOKUP(C751,Region,2,0)","v":"CZ/C1"},"M",""]
["Petr Vezda",1974,"Medlánky",{"$f":"VLOOKUP(C752,Region,2,0)","v":"CZ/M"},"M",""]
["Petr Vlasak",1974,"Medlánky","CZ/M","M",""]
["Petr Vodicka",1965,"Jaroměř","CZ/C2","M",""]
["Petr Zajic",1962,"Liberec","CZ/C2","M",""]
["Petra Benesova",1985,"Beroun","CZ/C1","F",""]
["Petra Diepoldova",1978,"Vysoké Mýto","CZ/C2","F",""]
["Petra Piskata",1989,"Luhačovice","CZ/M","F",""]
["Petra Pinkova",1988,"Letkov","CZ/C1","F",""]
["Petra Retamozova",1990,"Kralupy","CZ/C1","F",""]
["Premek Popovsky",1966,"Kyjov","CZ/M","M",""]
["Premysl Chvoj",2003,"Zbraslavice",{"$f":"VLOOKUP(C762,Region,2,0)","v":"CZ/C1"},"M","Junior v roce 2022"]
["Premysl Muzik",1990,"Hosín","CZ/C1","M",""]
["Radek Gadas",1998,"Hodkovice",{"$f":"VLOOKUP(C764,Region,2,0)","v":"CZ/C2"},"M","Junior v roce 2022"]
["Radek Hamrla",1973,"Vyškov",{"$f":"VLOOKUP(C765,Region,2,0)","v":"CZ/M"},"M",""]
["Radek Hybl",1980,"Šumperk","CZ/M","M",""]
["Radek Chmela",1984,"Luhačovice","CZ/M","M",""]
["Radek Jaksa",1979,"Prostějov","CZ/M","M",""]
["Radek Krejcirik",1991,"Hranice","CZ/M","M",""]
["Radek Kucirek",1973,"Havlíčkův Brod","CZ/C2","M",""]
["Radek Laga",1997,"Kunovice",{"$f":"VLOOKUP(C771,Region,2,0)","v":"CZ/M"},"M","Junior v roce 2022"]
["Radek Munzar",1976,"Jaroměř","CZ/C2","M",""]
["Radek Tobolka",1977,"Jičín",{"$f":"VLOOKUP(C773,Region,2,0)","v":"CZ/C2"},"M",""]
["Radek Trunec",1989,"Letkov","CZ/C1","M",""]
["Radek Vlcek",1982,"Šumperk","CZ/M","M",""]
["Radek Zima 78",1978,"Hodkovice","CZ/C2","M",""]
["Radek Zima 75",1975,"Břeclav","CZ/M","M",""]
["Radim Bradac",1995,"Letňany","CZ/C1","M",""]
["Radim Hahn",1972,"Zábřeh","CZ/M","M",""]
["Radim Hauptmann",1963,"Jičín","CZ/C2","M",""]
["Radim Jordan",1976,"Žamberk","CZ/C2","M",""]
["Radim Krofta",1984,"Rakovník","CZ/C1","M",""]
["Radim Malatek",1978,"Beroun","CZ/C1","M",""]
["Radim Vadasz",1989,"Soběslav","CZ/C1","M",""]
["Radim Zielinski",1969,"Frýdlant","CZ/M","M",""]
["Radmila Horacek Filakovska",1963,"Dvůr Králové","CZ/C2","F",""]
["Radoslav Pur",1973,"Hosín","CZ/C1","M",""]
["Radovan Otto",1968,"Ústí nad Labem","CZ/C2","M",{"$f":"IF(A788=\"(prázdné)\",\"\",IF(($G$1-B788)>25,\"\",\"Junior v roce \"&$G$1))","v":""}]
["Radovan Sohr",1965,"Hranice","CZ/M","M","",null,"Dříve Jičín"]
["Rene Hudak",1972,"Kunovice","CZ/M","M",""]
["Rene Picha",1970,"Vlašim","CZ/C1","M",""]
["Richard Jensen",1965,"Zbraslavice","CZ/C1","M",""]
["Richard Svarovsky",1976,"Zábřeh","CZ/M","M",""]
["Richard Vlcek",1993,"Kunovice","CZ/M","M",""]
["Robert Jandera",1976,"Hodkovice","CZ/C2","M",""]
["Robert Sima",1971,"GAC Benešov","CZ/C1","M",""]
["Roman Cerny",1971,"Hranice","CZ/M","M",""]
["Roman Huszar",1963,"Letňany","CZ/C1","M",""]
["Roman Jokl",1979,"Letkov","CZ/C1","M",""]
["Roman Konarik",1976,"Luhačovice","CZ/M","M",""]
["Roman Lanzendorf",1964,"Letkov","CZ/C1","M",""]
["Roman Lengal",1987,"Břeclav",{"$f":"VLOOKUP(C802,Region,2,0)","v":"CZ/M"},"M",""]
["Roman Lukes",1979,"Přibyslav",{"$f":"VLOOKUP(C803,Region,2,0)","v":"CZ/C2"},"M",""]
["Roman Michalek",1974,"Toužim","CZ/C1","M",""]
["Roman Mracek",1980,"Letkov","CZ/C1","M",""]
["Roman Schotli",1970,"Hranice","CZ/M","M",""]
["Roman Stoklasa",1984,"Medlánky","CZ/M","M",""]
["Rostislav Broz",1968,"Vrchlabí","CZ/C2","M",""]
["Rostislav Fric",1973,"Raná","CZ/C2","M","",null,"Dříve Jičín"]
["Rostislav Matl",1972,"Vyškov","CZ/M","M",""]
["Rostislav Stryk",1972,"Frýdlant","CZ/M","M",""]
["Rostislav Subert",1982,"Šumperk","CZ/M","M",""]
["Rudolf Ferbar",1969,"Moravská Třebová","CZ/M","M",""]
["Rudolf Jung",1954,"Zbraslavice","CZ/C1","M",""]
["Sabina Vitova",1998,"Kroměříž","CZ/M","F","Junior v roce 2022"]
["Slavomir Piskaty 58",1958,"Kunovice","CZ/M","M",""]
["Slavomir Piskaty 84",1984,"Kunovice","CZ/M","M",""]
["Slavomir Tanglmajer",1966,"Chomutov","CZ/C2","M",""]
["Slavomir Valecko",1960,"Hranice","CZ/M","M",""]
["Sona Fortova",1980,"GAC Benešov","CZ/C1","F",""]
["Stanislav Doskocil",1978,"Medlánky","CZ/M","M",""]
["Stanislav Hanus",1970,"Vrchlabí","CZ/C2","M",""]
["Stanislav Honzatko",1952,"Slaný","CZ/C1","M",""]
["Stanislav John",1974,"Hosín",{"$f":"VLOOKUP(C824,Region,2,0)","v":"CZ/C1"},"M",""]
["Stanislav Kubicek",1960,"Medlánky","CZ/M","M",""]
["Stanislav Poslusny",1965,"GAC Benešov","CZ/C1","M",""]
["Stanislav Vrabec",1975,"Česká Lípa",{"$f":"VLOOKUP(C827,Region,2,0)","v":"CZ/C2"},"M",""]
["Stanislava Zemlickova",2000,"Vyškov",{"$f":"VLOOKUP(C828,Region,2,0)","v":"CZ/M"},"F","Junior v roce 2022"]
["Svatopluk Tomsu",1973,"Jaroměř","CZ/C2","M",""]
["Sarka Lochova",1966,"Šumperk","CZ/M","F",""]
["Stefan Uher",1968,"Turnov","CZ/C2","M",""]
["Stepan Capek",1960,"Jičín",{"$f":"VLOOKUP(C832,Region,2,0)","v":"CZ/C2"},"M",{"$f":"IF(A832=\"(prázdné)\",\"\",IF(($G$1-B832)>25,\"\",\"Junior v roce \"&$G$1))","v":""}]
["Stepan Matous",1980,"Dvůr Králové","CZ/C2","M",""]
["Stepan Obrovsky",1990,"Frýdlant",{"$f":"VLOOKUP(C834,Region,2,0)","v":"CZ/M"},"M",""]
["Teodor Skoda",1998,"Hronov",{"$f":"VLOOKUP(C835,Region,2,0)","v":"CZ/C2"},"M","Junior v roce 2022"]
["Tereza Jirsakova",1997,"Hronov","CZ/C2","F","Junior v roce 2022"]
["Tereza Koubkova",1999,"Vysoké Mýto","CZ/C2","F","Junior v roce 2022"]
["Tereza Krcilova Spalenkova",1981,"Raná",{"$f":"VLOOKUP(C838,Region,2,0)","v":"CZ/C2"},"F",""]
["Tereza Novakova",1993,"Chrudim",{"$f":"VLOOKUP(C839,Region,2,0)","v":"CZ/C2"},"F",""]
["Tibor Hezina",2002,"Křižanov",{"$f":"VLOOKUP(C840,Region,2,0)","v":"CZ/M"},"M","Junior v roce 2022"]
["Tibor Hruza",1970,"Letkov","CZ/C1","M",""]
["Tim Raasch",2000,"Polička",{"$f":"VLOOKUP(C842,Region,2,0)","v":"CZ/C2"},"M","Junior v roce 2022"]
["Tomas Barton",1982,"Hosín","CZ/C1","M",""]
["Tomas Buben",1971,"Jaroměř","CZ/C2","M",""]
["Tomas Ditrt",1969,"Podhořany","CZ/C2","M",""]
["Tomas Fiala 72",1972,"Křižanov","CZ/M","M",""]
["Tomas Fiala 77",1977,"Luhačovice","CZ/M","M",""]
["Tomas Fila",1987,"Beroun","CZ/C1","M",""]
["Tomas Flegl",1987,"Hodkovice",{"$f":"VLOOKUP(C849,Region,2,0)","v":"CZ/C2"},"M",""]
["Tomas Frinta",1970,"Hodkovice","CZ/C2","M",""]
["Tomas Hlavacek",1984,"Mladá Boleslav",{"$f":"VLOOKUP(C851,Region,2,0)","v":"CZ/C1"},"M",""]
["Tomas Hlavenka",1987,"Luhačovice","CZ/M","M",""]
["Tomas Holenda",1956,"Havlíčkův Brod",{"$f":"VLOOKUP(C853,Region,2,0)","v":"CZ/C2"},"M",{"$f":"IF(A853=\"(prázdné)\",\"\",IF(($G$1-B853)>25,\"\",\"Junior v roce \"&$G$1))","v":""}]
["Tomas Holzapfel",1975,"Mladá Boleslav","CZ/C1","M",""]
["Tomas Hulmak",1999,"Hosín","CZ/C1","M","Junior v roce 2022"]
["Tomas Hynek",2002,"Dvůr Králové",{"$f":"VLOOKUP(C856,Region,2,0)","v":"CZ/C2"},"M","Junior v roce 2022"]
["Tomas Charvat",1981,"Vysoké Mýto","CZ/C2","M",""]
["Tomas Jakoubek",2000,"Hronov",{"$f":"VLOOKUP(C858,Region,2,0)","v":"CZ/C2"},"M","Junior v roce 2022"]
["Tomas Jedlicka",1959,"Karlštejn","CZ/C1","M",""]
["Tomas Jilek",1995,"Raná","CZ/C2","M",""]
["Tomas Jiricny",1981,"Hodkovice","CZ/C2","M",""]
["Tomas Jung",1950,"Zbraslavice","CZ/C1","M",""]
["Tomas Kohout",1981,"Slaný","CZ/C1","M",""]
["Tomas Koutnik",1985,"Jaroměř","CZ/C2","M",""]
["Tomas Kovarik",1965,"Zbraslavice","CZ/C1","M",""]
["Tomas Kubac",1993,"Roudnice","CZ/C2","M",""]
["Tomas Kulhavy",2001,"Liberec",{"$f":"VLOOKUP(C867,Region,2,0)","v":"CZ/C2"},"M","Junior v roce 2022"]
["Tomas Lisec",1984,"Točná","CZ/C1","M",""]
["Tomas Magnusek",1988,"Frýdlant","CZ/M","M",""]
["Tomas Malik",1972,"Letňany","CZ/C1","M",""]
["Tomas Malinsky",1988,"Křižanov","CZ/M","M",""]
["Tomas Manasek",1980,"Kunovice","CZ/M","M",""]
["Tomas Mezera",1973,"Raná","CZ/C2","M",""]
["Tomas Michna",1989,"Šumperk","CZ/M","M",""]
["Tomas Moravec",2000,"Žamberk","CZ/C2","M","Junior v roce 2022"]
["Tomas Morch",1981,"Raná","CZ/C2","M",""]
["Tomas Novak",1974,"Česká Lípa",{"$f":"VLOOKUP(C877,Region,2,0)","v":"CZ/C2"},"M",""]
["Tomas Ohera",1977,"Letňany","CZ/C1","M",""]
["Tomas Ondrusek",1994,"Letkov","CZ/C1","M",""]
["Tomas Ondrisek",1970,"Kunovice","CZ/M","M",""]
["Tomas Palata",1966,"Liberec","CZ/C2","M",""]
["Tomas Podolak",1986,"Kralupy","CZ/C1","M",""]
["Tomas Profeld",1964,"Jičín","CZ/C2","M",""]
["Tomas Prokop",1972,"Šumperk","CZ/M","M",""]
["Tomas Prikryl",1973,"Vyškov","CZ/M","M",""]
["Tomas Ptacovsky",1981,"Letňany","CZ/C1","M",""]
["Tomas Rendla",1973,"Zbraslavice","CZ/C1","M",""]
["Tomas Rysavy",1959,"Medlánky","CZ/M","M",""]
["Tomas Sedlacek",1972,"Zbraslavice","CZ/C1","M",""]
["Tomas Seifert",1972,"Raná","CZ/C2","M",""]
["Tomas Shrbeny",1968,"Točná","CZ/C1","M",""]
["Tomas Suchanek",1964,"GAC Benešov","CZ/C1","M",""]
["Tomas Talanda",1988,"Křižanov","CZ/M","M",""]
["Tomas Turek",1988,"Zbraslavice",{"$f":"VLOOKUP(C894,Region,2,0)","v":"CZ/C1"},"M",""]
["Tomas Vrbsky",1964,"Letkov","CZ/C1","M",""]
["Tomas Zamecnik",1988,"Zbraslavice","CZ/C1","M",""]
["Ulf Kern",1958,"Raná","CZ/C2","M",""]
["Vaclav Cerny",1949,"Slaný","CZ/C1","M",""]
["Vaclav Halek",1966,"Toužim",{"$f":"VLOOKUP(C899,Region,2,0)","v":"CZ/C1"},"M",""]
["Vaclav Hrdina",1984,"Letkov",{"$f":"VLOOKUP(C900,Region,2,0)","v":"CZ/C1"},"M",""]
["Vaclav Hruza",1965,"Břeclav","CZ/M","M",""]
["Vaclav Koudelka",1997,"Jičín","CZ/C2","M","Junior v roce 2022"]
["Vaclav Krejcar",1943,"Hořice","CZ/C2","M",""]
["Vaclav Kult",1973,"Broumov","CZ/C2","M",""]
["Vaclav Kunasek",1987,"Zbraslavice","CZ/C1","M",""]
["Vaclav Kysilka",1979,"GAC Benešov",{"$f":"VLOOKUP(C906,Region,2,0)","v":"CZ/C1"},"M",""]
["Vaclav Marel",1974,"Jaroměř","CZ/C2","M",""]
["Vaclav Ochotny",1966,"Kunovice",{"$f":"VLOOKUP(C908,Region,2,0)","v":"CZ/M"},"M",""]
["Vaclav Petru",1974,"Letňany","CZ/C1","M",""]
["Vaclav Sehnal",1962,"Kolín","CZ/C1","M",""]
["Vaclav Svoboda",1970,"Letkov","CZ/C1","M",""]
["Vaclav Trnka",1939,"Ústí nad Orlicí","CZ/C2","M",""]
["Vaclav Zeman",1984,"Zbraslavice","CZ/C1","M",""]
["Vaclav Zak",1962,"GAC Benešov","CZ/C1","M",""]
["Vera Vavrinova",1949,"Vysoké Mýto","CZ/C2","F",""]
["Veronika Ambrozova",1984,"Křižanov","CZ/M","F",""]
["Veronika Jezkova",1986,"Mladá Boleslav","CZ/C1","F",{"$f":"IF(A917=\"(prázdné)\",\"\",IF(($G$1-B917)>25,\"\",\"Junior v roce \"&$G$1))","v":""}]
["Veronika Mullerova",1983,"Letňany","CZ/C1","F",""]
["Viktor Becan",1979,"GAC Benešov","CZ/C1","M",""]
["Viktor Tvrdik",1977,"Rakovník",{"$f":"VLOOKUP(C920,Region,2,0)","v":"CZ/C1"},"M",{"$f":"IF(A920=\"(prázdné)\",\"\",IF(($G$1-B920)>25,\"\",\"Junior v roce \"&$G$1))","v":""}]
["Viktor Zimcik",1976,"Kunovice",{"$f":"VLOOKUP(C921,Region,2,0)","v":"CZ/M"},"M",""]
["Vilem Riha",1990,"Letňany","CZ/C1","M",""]
["Vit Grossmann",1977,"Hranice",{"$f":"VLOOKUP(C923,Region,2,0)","v":"CZ/M"},"M",""]
["Vit Hrdlicka",1960,"Medlánky","CZ/M","M",""]
["Vit Morkovsky",2000,"Polička","CZ/C2","M","Junior v roce 2022"]
["Vit Novak",1985,"Olomouc","CZ/M","M",""]
["Vit Prokop",1987,"Medlánky",{"$f":"VLOOKUP(C927,Region,2,0)","v":"CZ/M"},"M",""]
["Vit Rydl",1969,"Turnov","CZ/C2","M",""]
["Vit Tvrdik",2000,"Letňany","CZ/C1","M","Junior v roce 2022"]
["Vladimir Abraham",1962,"Raná","CZ/C2","M",""]
["Vladimir Baran",1949,"Frýdlant","CZ/M","M",""]
["Vladimir Dostal",1943,"Hronov","CZ/C2","M",""]
["Vladimir Fousek",1964,"Raná","CZ/C2","M",""]
["Vladimir Fux",1963,"Křižanov","CZ/M","M",""]
["Vladimir Hammer",2000,"Letkov",{"$f":"VLOOKUP(C935,Region,2,0)","v":"CZ/C1"},"M","Junior v roce 2022"]
["Vladimir Hampl",1970,"Dvůr Králové","CZ/C2","M",""]
["Vladimir Jirka",1965,"Zábřeh","CZ/M","M",""]
["Vladimir Kamensky",1983,"Břeclav","CZ/M","M",""]
["Vladimir Kramosil",1937,"Most","CZ/C2","M",""]
["Vladimir Maca",1982,"Jihlava","CZ/M","M",""]
["Vladimir Nemec",1976,"Jeseník","CZ/M","M",""]
["Vladimir Prihoda",1953,"Kralupy","CZ/C1","M",""]
["Vladimir Spilka",1940,"Hranice","CZ/M","M",""]
["Vladislav Cadsky",1975,"Kolín",{"$f":"VLOOKUP(C944,Region,2,0)","v":"CZ/C1"},"M",{"$f":"IF(A944=\"(prázdné)\",\"\",IF(($G$1-B944)>25,\"\",\"Junior v roce \"&$G$1))","v":""}]
["Vlastislav Picka",1948,"Jindřichův Hradec","CZ/C1","M",""]
["Vojtech Bartos",1970,"Medlánky","CZ/M","M",""]
["Vojtech Flidr",2003,"Dvůr Králové",{"$f":"VLOOKUP(C947,Region,2,0)","v":"CZ/C2"},"M","Junior v roce 2022"]
["Vojtech Hajek",1987,"Mladá Boleslav","CZ/C1","M",""]
["Vojtech Karlik",1982,"Kunovice","CZ/M","M",""]
["Vojtech Kostejn",1974,"Česká Lípa","CZ/C2","M",""]
["Vojtech Labuda",1980,"Příbram","CZ/C1","M",""]
["Vojtech Novotny",1992,"Kralupy","CZ/C1","M",""]
["Vojtech Petrovicky",1986,"Mladá Boleslav","CZ/C1","M",""]
["Vojtech Pivonka",1976,"Vrchlabí","CZ/C2","M",""]
["Vojtech Sehnal",1994,"Kolín","CZ/C1","M",""]
["Vojtech Stavny",1962,"Letkov","CZ/C1","M",""]
["Vojtech Svoboda",1994,"Zbraslavice",{"$f":"VLOOKUP(C957,Region,2,0)","v":"CZ/C1"},"M",""]
["Vojtech Vach",1976,"Nové Město nad Metují","CZ/C2","M",""]
["Vratislav Orlita",1946,"Kunovice","CZ/M","M",""]
["Vratislav Sram",1966,"Broumov","CZ/C2","M",""]
["Wolfgang Sluka",1942,"Liberec","CZ/C2","M",""]
["Yvona Vyhnankova",1963,"Olomouc","CZ/M","F",""]
["Zbynek Bican",1961,"Raná","CZ/C2","M",""]
["Zbynek Fuksa",1956,"Jičín",{"$f":"VLOOKUP(C964,Region,2,0)","v":"CZ/C2"},"M",""]
["Zbynek Zdrahal",1965,"Medlánky","CZ/M","M",""]
["Zbynek Koudelka",1991,"Křižanov","CZ/M","M",""]
["Zbynek Kuchta",1976,"Klatovy",{"$f":"VLOOKUP(C967,Region,2,0)","v":"CZ/C1"},"M",""]
["Zdenek Balcarek",1967,"Kroměříž","CZ/M","M",""]
["Zdenek Bohm",1963,"Kolín","CZ/C1","M",""]
["Zdenek Boruvka 54",1954,"Jičín","CZ/C2","M",""]
["Zdenek Boruvka 86",1986,"Jičín","CZ/C2","M",""]
["Zdenek Buben",1978,"Hodkovice","CZ/C2","M",""]
["Zdenek Kropac",1981,"Kladno","CZ/C1","M",""]
["Zdenek Krivanek",1967,"Kolín","CZ/C1","M",""]
["Zdenek Mach",1976,"Broumov","CZ/C2","M",""]
["Zdenek Parizek",1984,"Raná","CZ/C2","M",""]
["Zdenek Schenk",1972,"Hranice","CZ/M","M",""]
["Zdenek Setek",1980,"Kolín","CZ/C1","M",""]
["Zdenek Spacek",1980,"Přibyslav","CZ/C2","M",""]
["Zdenek Zabloudil",1962,"Medlánky","CZ/M","M",""]
["Zdenek Zerzan",1968,"Šumperk",{"$f":"VLOOKUP(C981,Region,2,0)","v":"CZ/M"},"M",""]
["Zuzana Kutilkova",1993,"Křižanov",{"$f":"VLOOKUP(C982,Region,2,0)","v":"CZ/M"},"F",""]
["Zuzana Markesova",2001,"Medlánky",{"$f":"VLOOKUP(C983,Region,2,0)","v":"CZ/M"},"F","Junior v roce 2022"]
["Zitomir Krepinsky",1987,"Chrudim",{"$f":"VLOOKUP(C984,Region,2,0)","v":"CZ/C2"},"M",{"$f":"IF(A984=\"(prázdné)\",\"\",IF(($G$1-B984)>25,\"\",\"Junior v roce \"&$G$1))","v":""}]

{"sheet":"Region","index":4,"n_rows":116,"n_cols":4,"rows_kept":116,"cut":false,"hidden":false,"merged":[]}
["Aeroklub","Region","Počet",{"$f":"C70+C37+C2","v":89}]
["Benešov","CZ/C1",{"$f":"COUNTIF(B2:B35,B2)","v":34}]
["Beroun","CZ/C1"]
["Bystřice u Benešova","CZ/C1"]
["Erpužice","CZ/C1"]
["GAC Benešov","CZ/C1"]
["Hořovice","CZ/C1"]
["Hosín","CZ/C1"]
["Jindřichův Hradec","CZ/C1"]
["Karlovy Vary","CZ/C1"]
["Karlštejn","CZ/C1"]
["Kladno","CZ/C1"]
["Klatovy","CZ/C1"]
["Kolín","CZ/C1"]
["Kralupy","CZ/C1"]
["Letkov","CZ/C1"]
["Letňany","CZ/C1"]
["Mladá Boleslav","CZ/C1"]
["Nesvačily","CZ/C1"]
["Panenský Týnec","CZ/C1"]
["Plasy","CZ/C1"]
["Plzeň Bory","CZ/C1"]
["Prachatice","CZ/C1"]
["Příbram","CZ/C1"]
["Rakovník","CZ/C1"]
["Slaný","CZ/C1"]
["Soběslav","CZ/C1"]
["Staňkov","CZ/C1"]
["Strakonice","CZ/C1"]
["Tábor","CZ/C1"]
["Tachov","CZ/C1"]
["Točná","CZ/C1"]
["Toužim","CZ/C1"]
["Vlašim","CZ/C1"]
["Zbraslavice","CZ/C1"]
["-","-"]
["Broumov","CZ/C2",{"$f":"COUNTIF(B37:B68,B37)","v":32}]
["Česká Lípa","CZ/C2"]
["Dvůr Králové","CZ/C2"]
["Havlíčkův Brod","CZ/C2"]
["Hodkovice","CZ/C2"]
["Hořice","CZ/C2"]
["Hradčany","CZ/C2"]
["Hronov","CZ/C2"]
["Chomutov","CZ/C2"]
["Chotěboř","CZ/C2"]
["Chrudim","CZ/C2"]
["Jaroměř","CZ/C2"]
["Jičín","CZ/C2"]
["Letecká společnost na Vysočině","CZ/C2"]
["Liberec","CZ/C2"]
["Mnichovo Hradiště","CZ/C2"]
["Most","CZ/C2"]
["Náchod","CZ/C2"]
["Nové Město nad Metují","CZ/C2"]
["Pardubice","CZ/C2"]
["Podhořany","CZ/C2"]
["Polička","CZ/C2"]
["Přibyslav","CZ/C2"]
["Raná","CZ/C2"]
["Roudnice","CZ/C2"]
["Skuteč","CZ/C2"]
["Turnov","CZ/C2"]
["Ústí nad Labem","CZ/C2"]
["Ústí nad Orlicí","CZ/C2"]
["Vrchlabí","CZ/C2"]
["Vysoké Mýto","CZ/C2"]
["Žamberk","CZ/C2"]
["-","-"]
["Bohuňovice","CZ/M",{"$f":"COUNTIF(B70:B92,B70)","v":23}]
["Břeclav","CZ/M"]
["LK Břeclav","CZ/M"]
["Frýdlant","CZ/M"]
["Hranice","CZ/M"]
["Jeseník","CZ/M"]
["Jihlava","CZ/M"]
["Krnov","CZ/M"]
["Kroměříž","CZ/M"]
["Křižanov","CZ/M"]
["Kunovice","CZ/M"]
["Kyjov","CZ/M"]
["Luhačovice","CZ/M"]
["Medlánky","CZ/M"]
["Moravská Třebová","CZ/M"]
["Olomouc","CZ/M"]
["Prostějov","CZ/M"]
["Slatina","CZ/M"]
["Slavičín","CZ/M"]
["Stichovice","CZ/M"]
["Šumperk","CZ/M"]
["Vyškov","CZ/M"]
["Zábřeh","CZ/M"]
[]
["Aalborg","DK"]
["Air Sympatia","SK"]
["Akaflieg Dresden","DE"]
["Bad Nauheim","DE"]
["Bratislava","SK"]
["Dánsko","DK"]
["Greiz","DE"]
["Japonsko","JP"]
["Jelenia Góra","PL"]
["Martin","SK"]
["Německo","DE"]
["Nitra","SK"]
["Novo Mesto","SI"]
["Poprad","SK"]
["Prešov","SK"]
["Prievidza","SK"]
["Rakousko","AT"]
["Ružomberok","SK"]
["SGC Martin","SK"]
["Slovinsko","SI"]
["Trenčín","SK"]
["Trnava","SK"]
["Žilina","SK"]

{"sheet":"Data","index":5,"n_rows":2701,"n_cols":19,"rows_kept":2701,"cut":false,"hidden":false,"merged":[]}
[null,null,null,null,null,null,null,null,null,null,null,null,"Počet X filtr:",{"$f":"SUBTOTAL(103,N7:N3718)","v":967},{"$f":"SUBTOTAL(103,O7:O3718)","v":76}]
["*",null,null,null,null,null,null,null,null,null,null,null,"Počet X:",{"$f":"COUNTIFS(N$7:N$3718,\"x\",$A$7:$A$3718,$A$2)","v":967},{"$f":"COUNTIFS(O$7:O$3718,\"x\",$A$7:$A$3718,$A$2)","v":76}]
[null,null,null,null,null,null,null,2017,null,null,null,null,null,{"$f":"COUNTIFS(#REF!,$H3,#REF!,\"x\",#REF!,$A$2)","v":{"$error":"#REF!"}},{"$f":"COUNTIFS(#REF!,$H3,#REF!,\"x\",#REF!,$A$2)","v":{"$error":"#REF!"}}]
[null,null,null,null,null,null,null,2016,null,null,null,null,null,{"$f":"COUNTIFS(#REF!,$H4,#REF!,\"x\",#REF!,$A$2)","v":{"$error":"#REF!"}},{"$f":"COUNTIFS(#REF!,$H4,#REF!,\"x\",#REF!,$A$2)","v":{"$error":"#REF!"}}]
[null,null,null,null,null,null,null,2015,null,null,null,null,null,{"$f":"COUNTIFS(#REF!,$H5,#REF!,\"x\",#REF!,$A$2)","v":{"$error":"#REF!"}},{"$f":"COUNTIFS(#REF!,$H5,#REF!,\"x\",#REF!,$A$2)","v":{"$error":"#REF!"}}]
["Jméno","Rok narození","M/F","Aeroklub","Region","Soutěž","Stát","Rok","Pořadí ve třídě","Body ve třídě","Kinp","Bi","Bi×Kinp","G","W","Typ","CN","Junior","Poznámka"]
["Jake Brattle",null,null,null,null,"WGC Juniors 2019 - Klub","HU",2019,1,8453,{"$f":"VLOOKUP(F7,Soutez,12,0)","v":1.0449999999999999},{"$f":"ROUND(J7/MAX($J$7:$J$50)*10000*0.7+(MAX($I$7:$I$50)-I7)/(MAX($I$7:$I$50)-1)*10000*0.3,0)","v":10000},{"$f":"ROUND(K7*L7,0)","v":10450},null,null,"ASW-20",25,{"$f":"IF(ISERROR(VLOOKUP(A7,Pilot,6,0)),\"Není v databázi\",VLOOKUP(A7,Pilot,6,0))","v":"Není v databázi"}]
["Finn Sleigh",null,null,null,null,"WGC Juniors 2019 - Klub","HU",2019,2,8306,1.0449999999999999,{"$f":"ROUND(J8/MAX($J$7:$J$50)*10000*0.7+(MAX($I$7:$I$50)-I8)/(MAX($I$7:$I$50)-1)*10000*0.3,0)","v":9809},10250,null,null,"ASW-20",5,"Není v databázi"]
["Maximilian Dorsch",null,null,null,null,"WGC Juniors 2019 - Klub","HU",2019,3,8263,1.0449999999999999,9703,10140,null,null,"LS-4",39,"Není v databázi"]
["Tobias Pachowsky",null,null,null,null,"WGC Juniors 2019 - Klub","HU",2019,4,8145,1.0449999999999999,9536,9965,null,null,"LS-4a","IGP","Není v databázi"]
["David Mach",{"$f":"VLOOKUP(A11,Pilot,2,0)","v":1994},{"$f":"VLOOKUP(A11,Pilot,5,0)","v":"M"},{"$f":"VLOOKUP(A11,Pilot,3,0)","v":"Hronov"},{"$f":"VLOOKUP(A11,Pilot,4,0)","v":"CZ/C2"},"WGC Juniors 2019 - Klub","HU",2019,5,8077,1.0449999999999999,{"$f":"ROUND(J11/MAX($J$7:$J$50)*10000*0.7+(MAX($I$7:$I$50)-I11)/(MAX($I$7:$I$50)-1)*10000*0.3,0)","v":9410},9833,null,null,"LS-4","IX",""]
["Philipp Lauer",null,null,null,null,"WGC Juniors 2019 - Klub","HU",2019,6,7939,1.0449999999999999,9226,9641,null,null,"LS-4","LI","Není v databázi"]
["Robin Smit",null,null,null,null,"WGC Juniors 2019 - Klub","HU",2019,7,7888,1.0449999999999999,9114,9524,null,null,"Standard Cirrus","RSM","Není v databázi"]
["Milan SurovCik",null,null,null,null,"WGC Juniors 2019 - Klub","HU",2019,8,7803,1.0449999999999999,8973,9377,null,null,"Pegasus 101A","EL","Není v databázi"]
["Mark Travner",null,null,null,null,"WGC Juniors 2019 - Klub","HU",2019,9,7626,1.0449999999999999,8757,9151,null,null,"DG-300","CE","Není v databázi"]
["Jelmer Vis",null,null,null,null,"WGC Juniors 2019 - Klub","HU",2019,10,7608,1.0449999999999999,8672,9062,null,null,"Standard Cirrus","HE","Není v databázi"]
["Daniel Ryba",{"$f":"VLOOKUP(A17,Pilot,2,0)","v":1994},{"$f":"VLOOKUP(A17,Pilot,5,0)","v":"M"},{"$f":"VLOOKUP(A17,Pilot,3,0)","v":"Dvůr Králové"},{"$f":"VLOOKUP(A17,Pilot,4,0)","v":"CZ/C2"},"WGC Juniors 2019 - Klub","HU",2019,11,7510,1.0449999999999999,8521,8904,"x",null,"ASW-19B","L7",""]
["Thijs Bastiaanse",null,null,null,null,"WGC Juniors 2019 - Klub","HU",2019,12,7504,1.0449999999999999,8447,8827,null,null,"LS-4","AU","Není v databázi"]
["Simon Gantner",null,null,null,null,"WGC Juniors 2019 - Klub","HU",2019,13,7423,1.0449999999999999,8310,8684,null,null,"LS-4a","MN","Není v databázi"]
["Daniel Sazhin",null,null,null,null,"WGC Juniors 2019 - Klub","HU",2019,14,7299,1.0449999999999999,8137,8503,null,null,"LS-4a","8M","Není v databázi"]
["Sviatoslav Roublev",null,null,null,null,"WGC Juniors 2019 - Klub","HU",2019,15,7210,1.0449999999999999,7994,8354,null,null,"Discus Cs","G3","Není v databázi"]
["Adrien Dubreuil",null,null,null,null,"WGC Juniors 2019 - Klub","HU",2019,16,7140,1.0449999999999999,7866,8220,null,null,"LS-4","SD","Není v databázi"]
["Thomas Leduc",null,null,null,null,"WGC Juniors 2019 - Klub","HU",2019,17,7005,1.0449999999999999,7685,8031,null,null,"LS-1F","1 neo","Není v databázi"]
["Pascal Zollikofer",null,null,null,null,"WGC Juniors 2019 - Klub","HU",2019,18,6970,1.0449999999999999,7586,7927,null,null,"LS-4","FC","Není v databázi"]
["Clément Flick",null,null,null,null,"WGC Juniors 2019 - Klub","HU",2019,19,6958,1.0449999999999999,7506,7844,null,null,"LS-4","FAY","Není v databázi"]
["Mark Polajzar",null,null,null,null,"WGC Juniors 2019 - Klub","HU",2019,20,6953,1.0449999999999999,7432,7766,null,null,"DG-300","CP","Není v databázi"]
["Adam Kacvinsky",null,null,null,null,"WGC Juniors 2019 - Klub","HU",2019,21,6890,1.0449999999999999,7310,7639,null,null,"ASW-19B","BA4","Není v databázi"]
["James Stewart",null,null,null,null,"WGC Juniors 2019 - Klub","HU",2019,22,6857,1.0449999999999999,7213,7538,null,null,"LS-4a","S5","Není v databázi"]
["Noah Reitter",null,null,null,null,"WGC Juniors 2019 - Klub","HU",2019,23,6806,1.0449999999999999,7101,7421,null,null,"LS-4a","S9","Není v databázi"]
["Barbora Moravcova",{"$f":"VLOOKUP(A30,Pilot,2,0)","v":1994},{"$f":"VLOOKUP(A30,Pilot,5,0)","v":"F"},{"$f":"VLOOKUP(A30,Pilot,3,0)","v":"Zbraslavice"},{"$f":"VLOOKUP(A30,Pilot,4,0)","v":"CZ/C1"},"WGC Juniors 2019 - Klub","HU",2019,24,6783,1.0449999999999999,{"$f":"ROUND(J30/MAX($J$7:$J$50)*10000*0.7+(MAX($I$7:$I$50)-I30)/(MAX($I$7:$I$50)-1)*10000*0.3,0)","v":7012},7328,null,null,"ASW-19B","CF",""]
["Julien Duboc",null,null,null,null,"WGC Juniors 2019 - Klub","HU",2019,25,6749,1.0449999999999999,6914,7225,null,null,"LS-4",79,"Není v databázi"]
["Konrad Partyka",null,null,null,null,"WGC Juniors 2019 - Klub","HU",2019,26,6551,1.0449999999999999,6681,6982,null,null,"ASW-19","J1","Není v databázi"]
["Oskar Minds",null,null,null,null,"WGC Juniors 2019 - Klub","HU",2019,27,6496,1.0449999999999999,6565,6860,null,null,"DG-300","RU","Není v databázi"]
["Martynas LiutkeviCius",null,null,null,null,"WGC Juniors 2019 - Klub","HU",2019,28,6491,1.0449999999999999,6492,6784,null,null,"SZD-48-2 JantarSTD 2","CI","Není v databázi"]
["simon siska",null,null,null,null,"WGC Juniors 2019 - Klub","HU",2019,29,6466,1.0449999999999999,6401,6689,null,null,"ASW-19B","A1","Není v databázi"]
["Kinga Tchorz",null,null,null,null,"WGC Juniors 2019 - Klub","HU",2019,30,6463,1.0449999999999999,6329,6614,null,null,"ASW-19",11,"Není v databázi"]
["Jokūbas Motūza",null,null,null,null,"WGC Juniors 2019 - Klub","HU",2019,31,6398,1.0449999999999999,6205,6484,null,null,"Jantar Std. 1","JM","Není v databázi"]
["Rokas Liaugaudas",null,null,null,null,"WGC Juniors 2019 - Klub","HU",2019,32,6364,1.0449999999999999,6107,6382,null,null,"Pegasus 101A","PL","Není v databázi"]
["Mikko Ylihärsilä",null,null,null,null,"WGC Juniors 2019 - Klub","HU",2019,33,6312,1.0449999999999999,5994,6264,null,null,"LS7","GE","Není v databázi"]
["Tymoteusz Dolata",null,null,null,null,"WGC Juniors 2019 - Klub","HU",2019,34,6302,{"$f":"VLOOKUP(F40,Soutez,12,0)","v":1.0449999999999999},5916,6182,null,null,"ASW-19B","JAY",{"$f":"IF(ISERROR(VLOOKUP(A40,Pilot,6,0)),\"Není v databázi\",VLOOKUP(A40,Pilot,6,0))","v":"Není v databázi"}]
["Mikkel Refsgaard Schmidt-Nielsen",null,null,null,null,"WGC Juniors 2019 - Klub","HU",2019,35,6023,1.0449999999999999,5616,5869,null,null,"LS-1F","BB","Není v databázi"]
["Barnabas Tóth",null,null,null,null,"WGC Juniors 2019 - Klub","HU",2019,36,5943,1.0449999999999999,5480,5727,null,null,"Pegasus 101A","BT","Není v databázi"]
["Niklas Unterrainer",null,null,null,null,"WGC Juniors 2019 - Klub","HU",2019,37,5743,1.0449999999999999,5244,5480,null,null,"LS-4","8F","Není v databázi"]
["David Collins",null,null,null,null,"WGC Juniors 2019 - Klub","HU",2019,38,5639,1.0449999999999999,5088,5317,null,null,"LS-3","1A","Není v databázi"]
["WÉBER Zsombor",null,null,null,null,"WGC Juniors 2019 - Klub","HU",2019,39,5402,1.0449999999999999,4822,5039,null,null,"SZD-48-2 JantarSTD 2",16,"Není v databázi"]
["Michael Keller",null,null,null,null,"WGC Juniors 2019 - Klub","HU",2019,40,5068,1.0449999999999999,4476,4677,null,null,"Std Cirrus 75","XII","Není v databázi"]
["Sondre Bjoro",null,null,null,null,"WGC Juniors 2019 - Klub","HU",2019,41,4886,1.0449999999999999,4255,4446,null,null,"ASW-15B","DB","Není v databázi"]
["Kristoffer D. Samuelsen",null,null,null,null,"WGC Juniors 2019 - Klub","HU",2019,42,4749,1.0449999999999999,4072,4255,null,null,"LS-1F",577,"Není v databázi"]
["Christer Ervik Mjos",null,null,null,null,"WGC Juniors 2019 - Klub","HU",2019,43,4403,1.0449999999999999,3716,3883,null,null,"ASW-15B","SW","Není v databázi"]
["Reuben Lane",null,null,null,null,"WGC Juniors 2019 - Klub","HU",2019,44,3790,1.0449999999999999,{"$f":"ROUND(J50/MAX($J$7:$J$50)*10000*0.7+(MAX($I$7:$I$50)-I50)/(MAX($I$7:$I$50)-1)*10000*0.3,0)","v":3139},3280,null,null,"LS-1F","ELY","Není v databázi"]
["Simon Schröder",null,null,null,null,"WGC Juniors 2019 - Std","HU",2019,1,7422,1.07,{"$f":"ROUND(J51/MAX($J$51:$J$86)*10000*0.7+(MAX($I$51:$I$86)-I51)/(MAX($I$51:$I$86)-1)*10000*0.3,0)","v":10000},10700,null,null,"LS-8-15 - winglet","S2","Není v databázi"]
["Simon Briel",null,null,null,null,"WGC Juniors 2019 - Std","HU",2019,2,7262,1.07,{"$f":"ROUND(J52/MAX($J$51:$J$86)*10000*0.7+(MAX($I$51:$I$86)-I52)/(MAX($I$51:$I$86)-1)*10000*0.3,0)","v":9763},10446,null,null,"Discus 2A - winglet","SB","Není v databázi"]
["Tomasz Hornik",null,null,null,null,"WGC Juniors 2019 - Std","HU",2019,3,7000,1.07,9431,10091,null,null,"Discus 2A - winglet","ii","Není v databázi"]
["Juliusz Pieniazek",null,null,null,null,"WGC Juniors 2019 - Std","HU",2019,4,6750,1.07,9109,9747,null,null,"Discus 2A - winglet","Y","Není v databázi"]
["Robin Sittmann",null,null,null,null,"WGC Juniors 2019 - Std","HU",2019,5,6729,1.07,9004,9634,null,null,"Discus 2A - winglet","RA","Není v databázi"]
["Aude Untersee",null,null,null,null,"WGC Juniors 2019 - Std","HU",2019,6,6632,1.07,8826,9444,null,null,"Discus 2A - winglet","JPA","Není v databázi"]
["Hugo Corbillé",null,null,null,null,"WGC Juniors 2019 - Std","HU",2019,7,6607,1.07,8717,9327,null,null,"LS-8-15 - winglet","7X","Není v databázi"]
["Sjoerd van Empelen",null,null,null,null,"WGC Juniors 2019 - Std","HU",2019,8,6604,1.07,8629,9233,null,null,"LS-8-15 - winglet","E8","Není v databázi"]
["Sofiane Scally",null,null,null,null,"WGC Juniors 2019 - Std","HU",2019,9,6536,1.07,8479,9073,null,null,"LS-8-15 - winglet","RJ","Není v databázi"]
["Jaromir Macoun",{"$f":"VLOOKUP(A60,Pilot,2,0)","v":1999},{"$f":"VLOOKUP(A60,Pilot,5,0)","v":"M"},{"$f":"VLOOKUP(A60,Pilot,3,0)","v":"Jičín"},{"$f":"VLOOKUP(A60,Pilot,4,0)","v":"CZ/C2"},"WGC Juniors 2019 - Std","HU",2019,10,6442,1.07,{"$f":"ROUND(J60/MAX($J$51:$J$86)*10000*0.7+(MAX($I$51:$I$86)-I60)/(MAX($I$51:$I$86)-1)*10000*0.3,0)","v":8304},8885,"x",null,"LS-8-15 - winglet","EU","Junior v roce 2022"]
["Ringaudas Kikalas",null,null,null,null,"WGC Juniors 2019 - Std","HU",2019,11,6369,1.07,8150,8721,null,null,"LS-8-15 - winglet","H8","Není v databázi"]
["Jan Viskot",{"$f":"VLOOKUP(A62,Pilot,2,0)","v":1995},{"$f":"VLOOKUP(A62,Pilot,5,0)","v":"M"},{"$f":"VLOOKUP(A62,Pilot,3,0)","v":"Břeclav"},{"$f":"VLOOKUP(A62,Pilot,4,0)","v":"CZ/M"},"WGC Juniors 2019 - Std","HU",2019,12,6360,1.07,8056,8620,"x",null,"Discus 2A - winglet","GX",""]
["Emil Dalboe-Pedersen",null,null,null,null,"WGC Juniors 2019 - Std","HU",2019,13,6317,1.07,7929,8484,null,null,"LS-8-15 - winglet","SE","Není v databázi"]
["Ignas Bitinaitis",null,null,null,null,"WGC Juniors 2019 - Std","HU",2019,14,6300,1.07,7828,8376,null,null,"Discus 2A - winglet","VM","Není v databázi"]
["Balazs Laktis",null,null,null,null,"WGC Juniors 2019 - Std","HU",2019,15,6294,1.07,7736,8278,null,null,"Discus 2A - winglet","HUN","Není v databázi"]
["Nico Jägli",null,null,null,null,"WGC Juniors 2019 - Std","HU",2019,16,6290,1.07,7647,{"$f":"ROUND(K66*L66,0)","v":8182},null,null,"Discus 2B - winglet","2S","Není v databázi"]
["Sjors van Loon",null,null,null,null,"WGC Juniors 2019 - Std","HU",2019,17,6131,1.07,7411,7930,null,null,"LS-8-15 - winglet","M7","Není v databázi"]
["Michael Marshall",null,null,null,null,"WGC Juniors 2019 - Std","HU",2019,18,5827,1.07,7039,7532,null,null,"Discus 2A - winglet","DA","Není v databázi"]
["Peter Carter",null,null,null,null,"WGC Juniors 2019 - Std","HU",2019,19,5790,1.07,6918,7402,null,null,"LS-8-18 525 - winglet",95,"Není v databázi"]
["Simon Brown",null,null,null,null,"WGC Juniors 2019 - Std","HU",2019,20,5700,1.07,6747,7219,null,null,"LS-8-15 - winglet","B","Není v databázi"]
["Nick Fremau",null,null,null,null,"WGC Juniors 2019 - Std","HU",2019,21,5674,1.07,6637,7102,null,null,"LS-8-15 - winglet","L8","Není v databázi"]
["Samuel Posluch",null,null,null,null,"WGC Juniors 2019 - Std","HU",2019,22,5521,1.07,6407,6855,null,null,"LS-8-15 - winglet","SI","Není v databázi"]
["Lars Groot",null,null,null,null,"WGC Juniors 2019 - Std","HU",2019,23,5359,1.07,6169,6601,null,null,"LS-8-15 - winglet","E5","Není v databázi"]
["Jonas Pitschen",null,null,null,null,"WGC Juniors 2019 - Std","HU",2019,24,5304,1.07,6031,6453,null,null,"Discus 2B - winglet","UB","Není v databázi"]
["Balint Biro",null,null,null,null,"WGC Juniors 2019 - Std","HU",2019,25,5278,1.07,5921,6335,null,null,"Discus 2A - winglet","HAL","Není v databázi"]
["Jens Andersen",null,null,null,null,"WGC Juniors 2019 - Std","HU",2019,26,5264,1.07,5822,6230,null,null,"LS-8-15 - winglet","KL","Není v databázi"]
["Tizian Steiger",null,null,null,null,"WGC Juniors 2019 - Std","HU",2019,27,5174,1.07,5651,6047,null,null,"Discus 2A - winglet","O2","Není v databázi"]
["Arnulf Snekvik",null,null,null,null,"WGC Juniors 2019 - Std","HU",2019,28,5123,1.07,5517,5903,null,null,"LS-8-15 - winglet","TT","Není v databázi"]
["Jan Zapletal",{"$f":"VLOOKUP(A79,Pilot,2,0)","v":1997},{"$f":"VLOOKUP(A79,Pilot,5,0)","v":"M"},{"$f":"VLOOKUP(A79,Pilot,3,0)","v":"Břeclav"},{"$f":"VLOOKUP(A79,Pilot,4,0)","v":"CZ/M"},"WGC Juniors 2019 - Std","HU",2019,29,5104,1.07,5414,5793,null,null,"LS-8-15 - winglet","JS","Junior v roce 2022"]
["Wiktor CZUBSKI",null,null,null,null,"WGC Juniors 2019 - Std","HU",2019,30,5038,1.07,5266,5635,null,null,"LS-8-15 - winglet","LOT","Není v databázi"]
["Joshua Geerlings",null,null,null,null,"WGC Juniors 2019 - Std","HU",2019,31,5012,1.07,5156,5517,null,null,"LS-8-15 - winglet",59,"Není v databázi"]
["Laurynas supinys",null,null,null,null,"WGC Juniors 2019 - Std","HU",2019,32,4915,1.07,4978,5326,null,null,"LAK-19 - winglet","ZM","Není v databázi"]
["Viktoria Divokova",null,null,null,null,"WGC Juniors 2019 - Std","HU",2019,33,4898,1.07,4877,5218,null,null,"Discus 2B - winglet","DI","Není v databázi"]
["Sebastian Pöchlauer",null,null,null,null,"WGC Juniors 2019 - Std","HU",2019,34,4497,1.07,4413,4722,null,null,"Discus 2A - winglet","KG","Není v databázi"]
["Miroslav Beliansky",null,null,null,null,"WGC Juniors 2019 - Std","HU",2019,35,4470,1.07,4302,4603,null,null,"LS-8-15 - winglet","TC","Není v databázi"]
["Lukas Schneeberger",null,null,null,null,"WGC Juniors 2019 - Std","HU",2019,36,4048,1.07,3818,4085,null,null,"Discus B","I","Není v databázi"]
["Rene Hudak",{"$f":"VLOOKUP(A87,Pilot,2,0)","v":1972},{"$f":"VLOOKUP(A87,Pilot,5,0)","v":"M"},{"$f":"VLOOKUP(A87,Pilot,3,0)","v":"Kunovice"},{"$f":"VLOOKUP(A87,Pilot,4,0)","v":"CZ/M"},"JPJ 2019 - Klub","CZ",2019,1,2214,0.9,{"$f":"ROUND(J87/MAX($J$87:$J$122)*10000*0.7+(MAX($I$87:$I$122)-I87)/(MAX($I$87:$I$122)-1)*10000*0.3,0)","v":10000},9000,"x",null,"Std. Cirrus WL","NK",""]
["Martin Ficnar",1971,"M","Šumperk","CZ/M","JPJ 2019 - Klub","CZ",2019,2,2174,0.9,{"$f":"ROUND(J88/MAX($J$87:$J$122)*10000*0.7+(MAX($I$87:$I$122)-I88)/(MAX($I$87:$I$122)-1)*10000*0.3,0)","v":9785},8807,"x",null,"LS-3a 15m","S20",""]
["Josef Novak",1981,"M","Kunovice","CZ/M","JPJ 2019 - Klub","CZ",2019,3,2097,0.9,{"$f":"ROUND(J89/MAX($J$87:$J$122)*10000*0.7+(MAX($I$87:$I$122)-I89)/(MAX($I$87:$I$122)-1)*10000*0.3,0)","v":9454},8509,"x",null,"LS-1f","JT",""]
["Martin Urner",1974,"M","Letňany","CZ/C1","JPJ 2019 - Klub","CZ",2019,4,2082,0.9,9318,8386,"x",null,"ASW-15B","JJ",""]
["Martin Svarc",1981,"M","Olomouc","CZ/M","JPJ 2019 - Klub","CZ",2019,5,2055,0.9,9144,8230,"x",null,"DG-101 G","HE",""]
["Pavel Rericha",1967,"M","Moravská Třebová","CZ/M","JPJ 2019 - Klub","CZ",2019,6,2024,0.9,8958,8062,"x",null,"ASW-19B","NO",""]
["Jan Zezula",1979,"M","Letňany","CZ/C1","JPJ 2019 - Klub","CZ",2019,7,1974,0.9,8712,7841,"x",null,"ASW-19B","HD",""]
["Roman Schotli",1970,"M","Hranice","CZ/M","JPJ 2019 - Klub","CZ",2019,8,1954,0.9,8560,7704,"x",null,"ASW-19B",19,""]
["Petr Kolacek",1965,"M","Šumperk","CZ/M","JPJ 2019 - Klub","CZ",2019,9,1904,0.9,8314,7483,"x",null,"SZD-48 Jantar std. 2","SU",""]
["Petr Kolomaznik",1981,"M","Šumperk","CZ/M","JPJ 2019 - Klub","CZ",2019,10,1840,0.9,8023,7221,"x",null,"Discus b","SJ",""]
["Petr Havrlant",1965,"M","Šumperk","CZ/M","JPJ 2019 - Klub","CZ",2019,11,1756,0.9,7670,6903,"x",null,"ASW-15B","Q1",""]
["Jiri Koudela",1974,"M","Vyškov","CZ/M","JPJ 2019 - Klub","CZ",2019,12,1710,0.9,7436,6692,"x",null,"ASW-19B","JK",""]
["Jiri Vavrina",1958,"M","Kyjov","CZ/M","JPJ 2019 - Klub","CZ",2019,13,1592,0.9,6975,6278,"x",null,"LS-1f","BS",""]
["Jaromir Vlk",1959,"M","Šumperk","CZ/M","JPJ 2019 - Klub","CZ",2019,14,1514,0.9,6640,5976,"x",null,"ASW-15B","R5",""]
["Lukas Petrzela",1987,"M","Olomouc","CZ/M","JPJ 2019 - Klub","CZ",2019,15,1513,0.9,6548,5893,"x",null,"G-102 Astir cs","AL",""]
["Peter Kaspar",1980,"M","Vyškov","CZ/M","JPJ 2019 - Klub","CZ",2019,16,1509,0.9,6447,5802,"x",null,"G-102 Astir 77","AP",""]
["Michaela Krizova",2001,"F","Přibyslav","CZ/C2","JPJ 2019 - Klub","CZ",2019,17,1430,0.9,6109,5498,null,null,"ASW-15B","BE","Junior v roce 2022"]
["Jan Pokluda",1973,"M","Šumperk","CZ/M","JPJ 2019 - Klub","CZ",2019,18,1422,{"$f":"VLOOKUP(F104,Soutez,12,0)","v":0.9},5996,5396,"x",null,"ASW-15B WL","JG",{"$f":"IF(ISERROR(VLOOKUP(A104,Pilot,6,0)),\"Není v databázi\",VLOOKUP(A104,Pilot,6,0))","v":""}]
["Yvona Vyhnankova",1963,"F","Olomouc","CZ/M","JPJ 2019 - Klub","CZ",2019,19,1293,0.9,5500,4950,"x","x","ASW-15","YZ",""]
["Antonin Pilat",1971,"M","Vyškov","CZ/M","JPJ 2019 - Klub","CZ",2019,20,1267,0.9,5329,4796,"x",null,"DG-200 15m","JB",""]
["Radek Hamrla",1973,"M","Vyškov","CZ/M","JPJ 2019 - Klub","CZ",2019,21,1172,0.9,4941,4447,"x",null,"DG-1000S 18m",66,""]
["Miroslav Mancik",1976,"M","Kyjov","CZ/M","JPJ 2019 - Klub","CZ",2019,22,1160,0.9,4815,4334,"x",null,"G-103 Twin Astir","KW",""]
["Lukas Fronek",1989,"M","Kyjov","CZ/M","JPJ 2019 - Klub","CZ",2019,23,1044,0.9,4360,3924,"x",null,"ASW-15B","E",""]
["Lubomir Papezik",1951,"M","Luhačovice","CZ/M","JPJ 2019 - Klub","CZ",2019,24,910,0.9,3848,3463,"x",null,"LS-4","FP",""]
["Sabina Vitova",1998,"F","Kroměříž","CZ/M","JPJ 2019 - Klub","CZ",2019,25,890,0.9,3696,3326,"x","x","G-102 Astir Jeans","2Y","Junior v roce 2022"]
["Libor Danhel",1966,"M","Kunovice","CZ/M","JPJ 2019 - Klub","CZ",2019,26,852,0.9,3488,3139,null,null,"Std. Cirrus","OK",""]
["Libor Bednarik",1972,"M","Kunovice","CZ/M","JPJ 2019 - Klub","CZ",2019,27,784,0.9,3185,2867,null,null,"G-103 Twin Astir",103,""]
["Leos Nosek",1958,"M","Křižanov","CZ/M","JPJ 2019 - Klub","CZ",2019,28,750,0.9,2989,2690,"x",null,"G-104 Speed Astir II b","KF",""]
["Lukas Zach",1987,"M","Vyškov","CZ/M","JPJ 2019 - Klub","CZ",2019,29,732,0.9,{"$f":"ROUND(J115/MAX($J$87:$J$122)*10000*0.7+(MAX($I$87:$I$122)-I115)/(MAX($I$87:$I$122)-1)*10000*0.3,0)","v":2844},2560,"x",null,"G-102 Astir 77","AS",""]
["Pavel Simek",1957,"M","Vyškov","CZ/M","JPJ 2019 - Klub","CZ",2019,30,544,0.9,2161,1945,"x",null,"DG-500 Elan Trainer","4H",""]
["Michal Linhart",1982,"M","Vyškov","CZ/M","JPJ 2019 - Klub","CZ",2019,31,512,0.9,1972,1775,"x",null,"VSO-10","J9",""]
["Stanislava Zemlickova",2000,"F","Vyškov","CZ/M","JPJ 2019 - Klub","CZ",2019,32,354,0.9,1384,1246,"x","x","VSO-10","B2S","Junior v roce 2022"]
["Ludek Mikl",{"$f":"VLOOKUP(A119,Pilot,2,0)","v":1963},{"$f":"VLOOKUP(A119,Pilot,5,0)","v":"M"},{"$f":"VLOOKUP(A119,Pilot,3,0)","v":"Kroměříž"},{"$f":"VLOOKUP(A119,Pilot,4,0)","v":"CZ/M"},"JPJ 2019 - Klub","CZ",2019,33,237,0.9,926,833,"x",null,"G-102 Astir CS Jeans","L1",""]
["Karel Horalek",1976,"M","Olomouc","CZ/M","JPJ 2019 - Klub","CZ",2019,34,220,0.9,784,706,null,null,"LS-3 15m","Y1",""]
["Pavel Handl",1971,"M","Kroměříž","CZ/M","JPJ 2019 - Klub","CZ",2019,35,0,0.9,0,0,null,null,"Phoebus A1","PH",""]
["Petr Lonsky",1965,"M","Toužim","CZ/C1","JPJ 2019 - Klub","CZ",2019,35,0,0.9,0,0,null,null,"LS-1d","CL",""]
["Antonin Konicek",1973,"M","Kunovice","CZ/M","JPJ 2019 - Kombi","CZ",2019,1,2788,0.90500000000000003,{"$f":"ROUND(J123/MAX($J$123:$J$150)*10000*0.7+(MAX($I$123:$I$150)-I123)/(MAX($I$123:$I$150)-1)*10000*0.3,0)","v":10000},9050,"x",null,"HpH 304M SHARK","KK",""]
["Frantisek Vancura",1966,"M","Hranice","CZ/M","JPJ 2019 - Kombi","CZ",2019,2,2756,0.90500000000000003,{"$f":"ROUND(J124/MAX($J$123:$J$150)*10000*0.7+(MAX($I$123:$I$150)-I124)/(MAX($I$123:$I$150)-1)*10000*0.3,0)","v":9809},8877,"x",null,"Nimbus 3T 24,5m WL","A1",""]
["Vratislav Sram",1966,"M","Broumov","CZ/C2","JPJ 2019 - Kombi","CZ",2019,3,2691,0.90500000000000003,9534,8628,"x",null,"Nimbus 2M WL","NB",""]
["Marek Blatak",1969,"M","Šumperk","CZ/M","JPJ 2019 - Kombi","CZ",2019,4,2624,0.90500000000000003,9255,8376,"x",null,"Ventus c 17,6m","W",""]
["Jan Simon",1970,"M","Kralupy","CZ/C1","JPJ 2019 - Kombi","CZ",2019,5,2604,0.90500000000000003,9094,8230,"x",null,"Ventus ct 17,6m","KR",""]
["Michal Cechmanek",1978,"M","Luhačovice","CZ/M","JPJ 2019 - Kombi","CZ",2019,6,2599,0.90500000000000003,8970,8118,"x",null,"ASW 20 L+FL 16.6m","MK",""]
["Jiri Steiger",1969,"M","Olomouc","CZ/M","JPJ 2019 - Kombi","CZ",2019,6,2599,0.90500000000000003,8970,8118,"x",null,"Ventus 2cxt 18m","JS",""]
["Miroslav Sklenar",1964,"M","Žamberk","CZ/C2","JPJ 2019 - Kombi","CZ",2019,8,2217,0.90500000000000003,7789,{"$f":"ROUND(K130*L130,0)","v":7049},"x",null,"Duo Discus T","VP",""]
["Vaclav Kult",1973,"M","Broumov","CZ/C2","JPJ 2019 - Kombi","CZ",2019,9,2169,0.90500000000000003,7557,6839,"x",null,"Nimbus 2b WL","VK",""]
["Zdenek Boruvka 54",1954,"M","Jičín","CZ/C2","JPJ 2019 - Kombi","CZ",2019,10,2093,0.90500000000000003,7255,6566,null,null,"LS-8 15m","ZB",""]
["Jaroslav Buryan",1953,"M","Zábřeh","CZ/M","JPJ 2019 - Kombi","CZ",2019,11,1916,0.90500000000000003,6700,6064,null,null,"ASW-20 15m WL","NS",""]
["Jiri Prochazka",1971,"M","Toužim","CZ/C1","JPJ 2019 - Kombi","CZ",2019,12,1871,0.90500000000000003,6475,5860,"x",null,"DG-500 22m","SR",""]
["Zdenek Schenk",1972,"M","Hranice","CZ/M","JPJ 2019 - Kombi","CZ",2019,13,1698,0.90500000000000003,5930,5367,null,null,"Ventus cm 17,6m","ŠNeK",""]
["Filip Vita",2001,"M","Kroměříž","CZ/M","JPJ 2019 - Kombi","CZ",2019,14,1676,0.90500000000000003,5764,5216,"x",null,"LAK-12","FL","Junior v roce 2022"]
["Miroslav Koci",1961,"M","Žamberk","CZ/C2","JPJ 2019 - Kombi","CZ",2019,15,1665,0.90500000000000003,5625,5091,null,null,"Ventus 2cxm 18m","E8",""]
["Martin Kriz",1968,"M","Přibyslav","CZ/C2","JPJ 2019 - Kombi","CZ",2019,16,1613,0.90500000000000003,5383,4872,"x",null,"ASW-20 15m WL",67,""]
["Michal Hemrle",1974,"M","Česká Lípa","CZ/C2","JPJ 2019 - Kombi","CZ",2019,17,1569,0.90500000000000003,5162,4672,"x",null,"Ventus c 17,6m","XE",""]
["Jan Matejovsky",1972,"M","Hranice","CZ/M","JPJ 2019 - Kombi","CZ",2019,18,1549,0.90500000000000003,5000,4525,"x",null,"Duo Discus","OKD",""]
["Jan Kohout",1970,"M","Žamberk","CZ/C2","JPJ 2019 - Kombi","CZ",2019,19,1494,0.90500000000000003,{"$f":"ROUND(J141/MAX($J$123:$J$150)*10000*0.7+(MAX($I$123:$I$150)-I141)/(MAX($I$123:$I$150)-1)*10000*0.3,0)","v":4751},4300,null,null,"LS-8 15m","SK",""]
["Roman Cerny",1971,"M","Hranice","CZ/M","JPJ 2019 - Kombi","CZ",2019,20,1474,0.90500000000000003,4590,4154,"x",null,"LAK-17AT 18m","B2",""]
["Pavel Haluza",1966,"M","Prostějov","CZ/M","JPJ 2019 - Kombi","CZ",2019,21,1373,0.90500000000000003,4225,3824,"x",null,"Nimbus 2b","HT",""]
["Kamil Sohr",1973,"M","Šumperk","CZ/M","JPJ 2019 - Kombi","CZ",2019,22,1363,0.90500000000000003,{"$f":"ROUND(J144/MAX($J$123:$J$150)*10000*0.7+(MAX($I$123:$I$150)-I144)/(MAX($I$123:$I$150)-1)*10000*0.3,0)","v":4089},3701,"x",null,"SZD-55 Promyk","BC",""]
["Petr Babak",1973,"M","Hořice","CZ/C2","JPJ 2019 - Kombi","CZ",2019,23,1272,0.90500000000000003,3749,3393,null,null,"Ventus c 17,6m","LS",""]
["Olga Mokosova",1970,"F","Jihlava","CZ/M","JPJ 2019 - Kombi","CZ",2019,24,1193,0.90500000000000003,3440,3113,null,null,"LS-6c 18m WL","MM",""]
["Vladimir Spilka",1940,"M","Hranice","CZ/M","JPJ 2019 - Kombi","CZ",2019,25,896,0.90500000000000003,2583,2338,"x",null,"Nimbus 2b","AY",""]
["Albrecht Beat",1953,"M","Šumperk","CZ/M","JPJ 2019 - Kombi","CZ",2019,26,815,0.90500000000000003,2268,2053,"x",null,"LS-8 15m","GL",""]
["Dusan Sys",1977,"M","Šumperk","CZ/M","JPJ 2019 - Kombi","CZ",2019,27,802,0.90500000000000003,2125,1923,"x",null,"DG-808 C 18m WL","MS",""]
["Christof Madoery",1958,"M","Šumperk","CZ/M","JPJ 2019 - Kombi","CZ",2019,28,490,0.90500000000000003,1230,1113,"x",null,"ASH-25 26m","IQ",""]
["Michal Janda",{"$f":"VLOOKUP(A151,Pilot,2,0)","v":1972},"M","AK Broumov","CZ/C2","HOP 2019 - Klub","CZ",2019,1,1477,0,{"$f":"ROUND(J151/MAX($J$151:$J$177)*10000*0.7+(MAX($I$151:$I$177)-I151)/(MAX($I$151:$I$177)-1)*10000*0.3,0)","v":10000},0,null,null,"VT-116 Orlik 2",7402,""]
["Milan Svoboda 80",1980,"M","AK Havlíčkův Brod","CZ/C2","HOP 2019 - Klub","CZ",2019,2,1437,0,{"$f":"ROUND(J152/MAX($J$151:$J$177)*10000*0.7+(MAX($I$151:$I$177)-I152)/(MAX($I$151:$I$177)-1)*10000*0.3,0)","v":9695},0,null,null,"VT-116 Orlik 2",6446,""]
["Oldrich Slavicek",1959,"M","AK Hronov","CZ/C2","HOP 2019 - Klub","CZ",2019,3,1433,0,9561,0,null,null,"VT-116 Orlik 2",4310,""]
["Ivan Kuzelka",1945,"M","AK Havlíčkův Brod","CZ/C2","HOP 2019 - Klub","CZ",2019,4,1403,0,9303,0,null,null,"VT-116 Orlik 2",4314,""]
["Wolfgang Sluka",1942,"M","AK Liberec","CZ/C2","HOP 2019 - Klub","CZ",2019,5,1393,0,9140,0,null,null,"VT-116 Orlik 2",8425,""]
["Petr Seibrt, Dan Kubrt",null,null,"AK Náchod",null,"HOP 2019 - Klub","CZ",2019,6,1257,0,8380,0,null,null,"VT-16 Orlik",2412,"Není v databázi"]
["Ondrej Teichman",{"$f":"VLOOKUP(A157,Pilot,2,0)","v":1984},{"$f":"VLOOKUP(A157,Pilot,5,0)","v":"M"},"AK Dvůr Králové nad Labem",{"$f":"VLOOKUP(A157,Pilot,4,0)","v":"CZ/C2"},"HOP 2019 - Klub","CZ",2019,7,1240,0,8184,0,null,null,"VT-116 Orlik 2",6445,""]
["Tomas Mezera",1973,"M","AK Raná","CZ/C2","HOP 2019 - Klub","CZ",2019,8,1225,0,7998,0,null,null,"VT-116 Orlik 2",8401,""]
["Jaromir Vlk",1959,"M","AK Šumperk","CZ/M","HOP 2019 - Klub","CZ",2019,9,1197,0,7750,0,null,null,"VT-116 Orlik 2",6907,""]
["Krystof Mimra",1992,"M","AK Most","CZ/C2","HOP 2019 - Klub","CZ",2019,10,1195,0,7625,0,null,null,"VT-116 Orlik 2",7413,""]
["Jana Mezerova",1975,"F","AK Raná","CZ/C2","HOP 2019 - Klub","CZ",2019,11,1142,0,7258,0,null,null,"VT-116 Orlik 2",7425,""]
["Karel Kotlan",1957,"M","AK Medlánky","CZ/M","HOP 2019 - Klub","CZ",2019,12,1083,0,6863,0,null,null,"VT-116 Orlik 2",8406,""]
["Petr Vezda",1974,"M","AK Medlánky","CZ/M","HOP 2019 - Klub","CZ",2019,13,1054,0,6611,0,null,null,"VT-116 Orlik 2",4321,""]
["Miroslav Stepan",1955,"M","AK Žamberk","CZ/C2","HOP 2019 - Klub","CZ",2019,14,1018,0,6325,0,null,null,"VT-116 Orlik 2",8412,""]
["Vaclav Kysilka",1979,"M","GAC Benešov","CZ/C1","HOP 2019 - Klub","CZ",2019,15,973,0,5996,0,null,null,"VT-116 Orlik 2",8430,""]
["Sarka Lochova",1966,"F","AK Šumperk","CZ/M","HOP 2019 - Klub","CZ",2019,16,910,0,5582,0,null,null,"VT-116 Orlik 2",7445,""]
["J.Linhart, M.Ondracek",null,null,"AK Medlánky",null,"HOP 2019 - Klub","CZ",2019,17,713,0,4533,0,null,null,"Ka 6 E",9781,"Není v databázi"]
["Michal Nutil",{"$f":"VLOOKUP(A168,Pilot,2,0)","v":1966},{"$f":"VLOOKUP(A168,Pilot,5,0)","v":"M"},"AK Náchod",{"$f":"VLOOKUP(A168,Pilot,4,0)","v":"CZ/C2"},"HOP 2019 - Klub","CZ",2019,18,711,{"$f":"VLOOKUP(F168,Soutez,12,0)","v":0},4408,0,null,null,"VT-116 Orlik 2",7424,{"$f":"IF(ISERROR(VLOOKUP(A168,Pilot,6,0)),\"Není v databázi\",VLOOKUP(A168,Pilot,6,0))","v":""}]
["Oldrich Hlavacek",1973,"M","AK Medlánky","CZ/M","HOP 2019 - Klub","CZ",2019,19,694,0,4212,0,null,null,"VT-116 Orlik 2",8439,""]
["Jaromir Hendrych",1954,"M","AK Raná","CZ/C2","HOP 2019 - Klub","CZ",2019,20,645,0,{"$f":"ROUND(J170/MAX($J$151:$J$177)*10000*0.7+(MAX($I$151:$I$177)-I170)/(MAX($I$151:$I$177)-1)*10000*0.3,0)","v":3865},0,null,null,"M-35",2403,""]
["Miroslav Major",1968,"M","AK Kralupy","CZ/C1","HOP 2019 - Klub","CZ",2019,21,502,0,3071,0,null,null,"VT-116 Orlik 2",7403,""]
["Ondrej Blaha",1976,"M","AK Praha Letňany","CZ/C1","HOP 2019 - Klub","CZ",2019,22,441,0,2667,0,null,null,"VT-116 Orlik 2",6444,""]
["Jan Sindelar",1946,"M","SAK Kunovice","CZ/M","HOP 2019 - Klub","CZ",2019,23,405,0,2381,0,null,null,"VT-116 Orlik 2",7410,""]
["M.Jiraskova, J. Stepan",null,null,"AK Hronov",null,"HOP 2019 - Klub","CZ",2019,24,344,0,1976,0,null,null,"VT-116 Orlik 2",6922,"Není v databázi"]
["Bohumil Rikal",{"$f":"VLOOKUP(A175,Pilot,2,0)","v":1946},{"$f":"VLOOKUP(A175,Pilot,5,0)","v":"M"},"AK Hronov",{"$f":"VLOOKUP(A175,Pilot,4,0)","v":"CZ/C2"},"HOP 2019 - Klub","CZ",2019,25,264,0,1482,0,null,null,"VT-16 Orlik",3405,""]
["Martin Adamec",{"$f":"VLOOKUP(A176,Pilot,2,0)","v":1971},{"$f":"VLOOKUP(A176,Pilot,5,0)","v":"M"},"AK Medlánky",{"$f":"VLOOKUP(A176,Pilot,4,0)","v":"CZ/M"},"HOP 2019 - Klub","CZ",2019,26,245,0,1277,0,null,null,"M-28",2903,""]
["Petr Vlasak",{"$f":"VLOOKUP(A177,Pilot,2,0)","v":1974},{"$f":"VLOOKUP(A177,Pilot,5,0)","v":"M"},"AK Medlánky",{"$f":"VLOOKUP(A177,Pilot,4,0)","v":"CZ/M"},"HOP 2019 - Klub","CZ",2019,27,120,0,569,0,null,null,"VT-16 Orlik",2909,""]
["Timo + George Jakl",null,null,"AK Pivo",null,"HOP 2019 - Kombi","CZ",2019,1,2945,0.755,{"$f":"ROUND(J178/MAX($J$178:$J$193)*10000*0.7+(MAX($I$178:$I$193)-I178)/(MAX($I$178:$I$193)-1)*10000*0.3,0)","v":10000},7550,null,null,"ASW 22/24m (bez vody)","GJ","Není v databázi"]
["Jan Kohout",{"$f":"VLOOKUP(A179,Pilot,2,0)","v":1970},{"$f":"VLOOKUP(A179,Pilot,5,0)","v":"M"},{"$f":"VLOOKUP(A179,Pilot,3,0)","v":"Žamberk"},{"$f":"VLOOKUP(A179,Pilot,4,0)","v":"CZ/C2"},"HOP 2019 - Kombi","CZ",2019,2,2873,0.755,{"$f":"ROUND(J179/MAX($J$178:$J$193)*10000*0.7+(MAX($I$178:$I$193)-I179)/(MAX($I$178:$I$193)-1)*10000*0.3,0)","v":9629},7270,"x",null,"LS 8 15 m (voda)","SK",""]
["Zdenek Schenk",1972,"M","Hranice","CZ/M","HOP 2019 - Kombi","CZ",2019,3,2857,0.755,9391,7090,"x",null,"Ventus cm 17,6m (bez vody)","SNeK",""]
["Petr Babak",1973,"M","Hořice","CZ/C2","HOP 2019 - Kombi","CZ",2019,4,2740,0.755,8913,6729,"x",null,"Ventus c (s vodou)","LS",""]
["Vaclav Kult",1973,"M","Broumov","CZ/C2","HOP 2019 - Kombi","CZ",2019,5,2693,0.755,8601,6494,null,null,"Nimbus 2 b WL (voda)","VK",""]
["Martin Koci",1975,"M","Ústí nad Orlicí","CZ/C2","HOP 2019 - Kombi","CZ",2019,6,2511,0.755,7968,6016,"x",null,"Discus b (bez vody)","5E",""]
["Petr Fisar",1974,"M","Ústí nad Orlicí","CZ/C2","HOP 2019 - Kombi","CZ",2019,7,2492,0.755,{"$f":"ROUND(J184/MAX($J$178:$J$193)*10000*0.7+(MAX($I$178:$I$193)-I184)/(MAX($I$178:$I$193)-1)*10000*0.3,0)","v":7723},5831,"x",null,"Mosquito b (bez vody)","PF",""]
["Miroslav + Josef Plechac",null,null,"AK Hronov",null,"HOP 2019 - Kombi","CZ",2019,8,2173,0.755,6765,5108,null,null,"Nimbus 2 WL (voda)","SP","Není v databázi"]
["Vratislav Sram",{"$f":"VLOOKUP(A186,Pilot,2,0)","v":1966},{"$f":"VLOOKUP(A186,Pilot,5,0)","v":"M"},{"$f":"VLOOKUP(A186,Pilot,3,0)","v":"Broumov"},{"$f":"VLOOKUP(A186,Pilot,4,0)","v":"CZ/C2"},"HOP 2019 - Kombi","CZ",2019,9,2159,0.755,6532,4932,null,null,"Arcus M (bez vody)","AR",""]
["Jan Rott",{"$f":"VLOOKUP(A187,Pilot,2,0)","v":1962},{"$f":"VLOOKUP(A187,Pilot,5,0)","v":"M"},{"$f":"VLOOKUP(A187,Pilot,3,0)","v":"Hronov"},{"$f":"VLOOKUP(A187,Pilot,4,0)","v":"CZ/C2"},"HOP 2019 - Kombi","CZ",2019,10,2152,0.755,6315,4768,"x",null,"Nimbus 2 b (bez vody)","EL",""]
["Zdenek Boruvka 54",{"$f":"VLOOKUP(A188,Pilot,2,0)","v":1954},{"$f":"VLOOKUP(A188,Pilot,5,0)","v":"M"},{"$f":"VLOOKUP(A188,Pilot,3,0)","v":"Jičín"},{"$f":"VLOOKUP(A188,Pilot,4,0)","v":"CZ/C2"},"HOP 2019 - Kombi","CZ",2019,11,2008,0.755,5773,4359,null,null,"LS 8 15 m (voda)","ZB",""]
["Sebastian Bode",null,"M","FSV Eisenhüttenstadt","DE","HOP 2019 - Kombi","CZ",2019,12,1902,0.755,5321,4017,null,null,"Discus b (voda)","E4","Není v databázi"]
["Christian Rakowski",null,"M","FSV Eisenhüttenstadt","DE","HOP 2019 - Kombi","CZ",2019,13,1842,0.755,{"$f":"ROUND(J190/MAX($J$178:$J$193)*10000*0.7+(MAX($I$178:$I$193)-I190)/(MAX($I$178:$I$193)-1)*10000*0.3,0)","v":4978},3758,null,null,"ASW 24 WL (bez vody)","TD","Není v databázi"]
["Jiri Suchomel",{"$f":"VLOOKUP(A191,Pilot,2,0)","v":1950},{"$f":"VLOOKUP(A191,Pilot,5,0)","v":"M"},{"$f":"VLOOKUP(A191,Pilot,3,0)","v":"Broumov"},{"$f":"VLOOKUP(A191,Pilot,4,0)","v":"CZ/C2"},"HOP 2019 - Kombi","CZ",2019,14,1718,0.755,4484,3385,"x",null,"Janus b (bez vody)","V1",""]
["Miloslav Cindr",{"$f":"VLOOKUP(A192,Pilot,2,0)","v":1974},{"$f":"VLOOKUP(A192,Pilot,5,0)","v":"M"},{"$f":"VLOOKUP(A192,Pilot,3,0)","v":"Ústí nad Orlicí"},{"$f":"VLOOKUP(A192,Pilot,4,0)","v":"CZ/C2"},"HOP 2019 - Kombi","CZ",2019,15,1642,0.755,4103,3098,"x",null,"Ventus c (bez vody)","MC",""]
["Milos Novotny",{"$f":"VLOOKUP(A193,Pilot,2,0)","v":1973},{"$f":"VLOOKUP(A193,Pilot,5,0)","v":"M"},{"$f":"VLOOKUP(A193,Pilot,3,0)","v":"Hronov"},{"$f":"VLOOKUP(A193,Pilot,4,0)","v":"CZ/C2"},"HOP 2019 - Kombi","CZ",2019,16,992,0.755,2358,1780,"x",null,"Ventus b 16.6m (bez vody)","VeV",""]
["Sebastian Kawa",null,null,"Poland",null,"EGC 2019 - 15m","SK",2019,1,10390,1.105,{"$f":"ROUND(J194/MAX($J$194:$J$215)*10000*0.7+(MAX($I$194:$I$215)-I194)/(MAX($I$194:$I$215)-1)*10000*0.3,0)","v":10000},{"$f":"ROUND(K194*L194,0)","v":11050},null,null,"Diana 2","RP","Není v databázi"]
["Maximilian Seis",null,null,"France",null,"EGC 2019 - 15m","SK",2019,2,9976,1.105,{"$f":"ROUND(J195/MAX($J$194:$J$215)*10000*0.7+(MAX($I$194:$I$215)-I195)/(MAX($I$194:$I$215)-1)*10000*0.3,0)","v":9578},10584,null,null,"JS3 - 15m","FM","Není v databázi"]
["Jan Omsels",null,null,"Germany",null,"EGC 2019 - 15m","SK",2019,3,9863,1.105,9359,10342,null,null,"Ventus 3T / 15m","Y4","Není v databázi"]
["Louis Bouderlique",null,null,"France",null,"EGC 2019 - 15m","SK",2019,4,9603,1.105,9041,9990,null,null,"JS3 - 15m","FQ","Není v databázi"]
["Radek Krejcirik",{"$f":"VLOOKUP(A198,Pilot,2,0)","v":1991},{"$f":"VLOOKUP(A198,Pilot,5,0)","v":"M"},{"$f":"VLOOKUP(A198,Pilot,3,0)","v":"Hranice"},{"$f":"VLOOKUP(A198,Pilot,4,0)","v":"CZ/M"},"EGC 2019 - 15m","SK",2019,5,9561,1.105,8870,9801,"x",null,"JS3 - 15m","ZE",""]
["Freddy Hein",null,null,"Germany",null,"EGC 2019 - 15m","SK",2019,6,9560,1.105,8727,9643,null,null,"Ventus 3T","IYB","Není v databázi"]
["Lukasz Grabowski",null,null,"Poland",null,"EGC 2019 - 15m","SK",2019,7,9509,1.105,8549,9447,null,null,"SZD-56-2 Diana-2","BB","Není v databázi"]
["Joris Vainius",null,null,"Lithuania",null,"EGC 2019 - 15m","SK",2019,8,9306,1.105,8270,9138,null,null,"ASG-29 /15m","M7","Není v databázi"]
["Sebastian Bauder",null,null,"Germany",null,"EGC 2019 - 15m","SK",2019,9,9058,1.105,7960,8796,null,null,"Ventus 2a/15m","PE","Není v databázi"]
["Harri Hirvola",null,null,"Finland",null,"EGC 2019 - 15m","SK",2019,10,9001,1.105,7778,8595,null,null,"Ventus 2a /15m","EH","Není v databázi"]
["Rasmus Orskov",null,null,"Denmark",null,"EGC 2019 - 15m","SK",2019,11,8623,1.105,7381,8156,null,null,"Ventus 3T /15","EK","Není v databázi"]
["Tapio Tourula",null,null,"Finland",null,"EGC 2019 - 15m","SK",2019,12,8375,1.105,7071,7813,null,null,"Ventus 2bx / 15m","KX","Není v databázi"]
["Tim Scott",null,null,"United Kingdom",null,"EGC 2019 - 15m","SK",2019,13,8355,1.105,{"$f":"ROUND(J206/MAX($J$194:$J$215)*10000*0.7+(MAX($I$194:$I$215)-I206)/(MAX($I$194:$I$215)-1)*10000*0.3,0)","v":6915},7641,null,null,"ASG-29 /15m","Z3","Není v databázi"]
["Zoltan Kore",null,null,"Hungary",null,"EGC 2019 - 15m","SK",2019,14,7917,1.105,6477,7157,null,null,"JS3 / 15m","AI","Není v databázi"]
["Vladimir Foltin",null,null,"Slovakia",null,"EGC 2019 - 15m","SK",2019,15,7881,1.105,6310,6973,null,null,"ASG 29","LK","Není v databázi"]
["Ondrej Bordovsky",{"$f":"VLOOKUP(A209,Pilot,2,0)","v":1983},{"$f":"VLOOKUP(A209,Pilot,5,0)","v":"M"},{"$f":"VLOOKUP(A209,Pilot,3,0)","v":"Krnov"},{"$f":"VLOOKUP(A209,Pilot,4,0)","v":"CZ/M"},"EGC 2019 - 15m","SK",2019,16,7828,1.105,6131,6775,null,null,"Ventus 2ax /15m","AX",""]
["Zoltan Hamar",null,null,"Hungary",null,"EGC 2019 - 15m","SK",2019,17,7136,1.105,5522,6102,null,null,"Ventus 2ax /15m","5A","Není v databázi"]
["Peter Janoska",null,null,"Slovakia",null,"EGC 2019 - 15m","SK",2019,18,6408,1.105,4889,5402,null,null,"Ventus 2bx /15m","VI","Není v databázi"]
["Francisco Ortega",null,null,"Spain",null,"EGC 2019 - 15m","SK",2019,19,6307,1.105,4678,5169,null,null,"ASW-27B","27B","Není v databázi"]
["Vitaliy Borovik",null,null,"Russian Federation",null,"EGC 2019 - 15m","SK",2019,20,5277,1.105,3841,4244,null,null,"asg29e","QZ","Není v databázi"]
["Aldo Cernezzi",null,null,"Italy",null,"EGC 2019 - 15m","SK",2019,21,4925,1.105,3461,3824,null,null,"LAK 17at","CJ","Není v databázi"]
["Herbert Pirker",null,null,"Austria",null,"EGC 2019 - 15m","SK",2019,22,2169,1.105,1461,1614,null,null,"ASG 29E /15m","MD","Není v databázi"]
["Sebastian Kawa",null,null,null,null,"EGC 2019 - 18m","PL",2019,1,3359,1.0899999999999999,{"$f":"ROUND(J216/MAX($J$216:$J$243)*10000*0.7+(MAX($I$216:$I$243)-I216)/(MAX($I$216:$I$243)-1)*10000*0.3,0)","v":10000},10900,null,null,"Diana 3","D3","Není v databázi"]
["Karol Staryszak",null,null,null,null,"EGC 2019 - 18m","PL",2019,2,3327,1.0899999999999999,{"$f":"ROUND(J217/MAX($J$216:$J$243)*10000*0.7+(MAX($I$216:$I$243)-I217)/(MAX($I$216:$I$243)-1)*10000*0.3,0)","v":9822},10706,null,null,"ASG 29E","PES","Není v databázi"]
["Wolfgang Janowitsch",null,null,null,null,"EGC 2019 - 18m","PL",2019,3,3285,1.0899999999999999,9624,10490,null,null,"Ventus 3T","WO","Není v databázi"]
["Roman Mracek",{"$f":"VLOOKUP(A219,Pilot,2,0)","v":1980},{"$f":"VLOOKUP(A219,Pilot,5,0)","v":"M"},{"$f":"VLOOKUP(A219,Pilot,3,0)","v":"Letkov"},{"$f":"VLOOKUP(A219,Pilot,4,0)","v":"CZ/C1"},"EGC 2019 - 18m","PL",2019,4,3279,1.0899999999999999,9500,10355,"x",null,"JS3-18","XM",""]
["Peter Harvey",null,null,null,null,"EGC 2019 - 18m","PL",2019,5,3275,1.0899999999999999,9381,10225,null,null,"Ventus 3T",110,"Není v databázi"]
["Christophe Abadie",null,null,null,null,"EGC 2019 - 18m","PL",2019,6,3204,1.0899999999999999,9121,9942,null,null,"JS3-18","2L","Není v databázi"]
["Jean-Denis Barrois",null,null,null,null,"EGC 2019 - 18m","PL",2019,7,3183,1.0899999999999999,8967,9774,null,null,"JS3-18","FM","Není v databázi"]
["Philip Jones",null,null,null,null,"EGC 2019 - 18m","PL",2019,8,3179,1.0899999999999999,8847,9643,null,null,"Ventus 3T",210,"Není v databázi"]
["Peter Millenaar",null,null,null,null,"EGC 2019 - 18m","PL",2019,9,3029,1.0899999999999999,8423,9181,null,null,"Ventus 3T","VY","Není v databázi"]
["Claus Triebel",null,null,null,null,"EGC 2019 - 18m","PL",2019,10,2825,1.0899999999999999,7887,8597,null,null,"JS3-18","SP","Není v databázi"]
["Bernd Schmid",null,null,null,null,"EGC 2019 - 18m","PL",2019,11,2780,1.0899999999999999,7682,8373,null,null,"Ventus 3T","I7","Není v databázi"]
["Marek Pechanec",{"$f":"VLOOKUP(A227,Pilot,2,0)","v":1970},{"$f":"VLOOKUP(A227,Pilot,5,0)","v":"M"},{"$f":"VLOOKUP(A227,Pilot,3,0)","v":"Luhačovice"},{"$f":"VLOOKUP(A227,Pilot,4,0)","v":"CZ/M"},"EGC 2019 - 18m","PL",2019,12,2750,1.0899999999999999,{"$f":"ROUND(J227/MAX($J$216:$J$243)*10000*0.7+(MAX($I$216:$I$243)-I227)/(MAX($I$216:$I$243)-1)*10000*0.3,0)","v":7509},8185,"x",null,"ASG 29E","QZ",""]
["Gyorgy Gulyas",null,null,null,null,"EGC 2019 - 18m","PL",2019,13,2673,1.0899999999999999,7237,7888,null,null,"JS3-18","AX","Není v databázi"]
["Thomas Gostner",null,null,null,null,"EGC 2019 - 18m","PL",2019,14,2671,1.0899999999999999,7122,7763,null,null,"Ventus 3T","GT","Není v databázi"]
["Mikko Nurminen",null,null,null,null,"EGC 2019 - 18m","PL",2019,15,2658,1.0899999999999999,6984,7613,null,null,"Ventus 2 cxa","AL","Není v databázi"]
["Vytautas Maciulis",null,null,null,null,"EGC 2019 - 18m","PL",2019,16,2580,1.0899999999999999,6710,7314,null,null,"LAK-17B",77,"Není v databázi"]
["Nik Salej",null,null,null,null,"EGC 2019 - 18m","PL",2019,17,2529,{"$f":"VLOOKUP(F232,Soutez,12,0)","v":1.0899999999999999},6493,7077,null,null,"JS3-18","XD",{"$f":"IF(ISERROR(VLOOKUP(A232,Pilot,6,0)),\"Není v databázi\",VLOOKUP(A232,Pilot,6,0))","v":"Není v databázi"}]
["Martti Sucksdorff",null,null,null,null,"EGC 2019 - 18m","PL",2019,18,2487,1.0899999999999999,6294,6860,null,null,"ASG 29E","WS","Není v databázi"]
["Peter Szabo",null,null,null,null,"EGC 2019 - 18m","PL",2019,18,2487,1.0899999999999999,6294,6860,null,null,"JS3-18","BX","Není v databázi"]
["Henrik A. Breidahl",null,null,null,null,"EGC 2019 - 18m","PL",2019,20,2470,1.0899999999999999,6036,6579,null,null,"JS3-18",14,"Není v databázi"]
["Teet Jagomägi",null,null,null,null,"EGC 2019 - 18m","PL",2019,21,2412,1.0899999999999999,5804,6326,null,null,"JS1-18","TP","Není v databázi"]
["Bernhard Leitner",null,null,null,null,"EGC 2019 - 18m","PL",2019,22,2403,1.0899999999999999,5674,6185,null,null,"Ventus 2 cxm","LV","Není v databázi"]
["Peter Johansson",null,null,null,null,"EGC 2019 - 18m","PL",2019,23,2402,1.0899999999999999,5561,6061,null,null,"ASG 29E","2T","Není v databázi"]
["Sorin Lingureanu",null,null,null,null,"EGC 2019 - 18m","PL",2019,24,2368,1.0899999999999999,5379,5863,null,null,"ASG 29","AK","Není v databázi"]
["Werner Amann",null,null,null,null,"EGC 2019 - 18m","PL",2019,25,2302,1.0899999999999999,5131,5593,null,null,"ASG 29","WG","Není v databázi"]
["Yves Gerster",null,null,null,null,"EGC 2019 - 18m","PL",2019,26,2290,1.0899999999999999,4994,5443,null,null,"JS3-18","E1","Není v databázi"]
["Peter Cutting",null,null,null,null,"EGC 2019 - 18m","PL",2019,27,1593,1.0899999999999999,3431,3740,null,null,"ASG 29E","VZ","Není v databázi"]
["Diana Schuit",null,null,null,null,"EGC 2019 - 18m","PL",2019,28,1281,1.0899999999999999,2670,2910,null,null,"LS-10 st","LS","Není v databázi"]
["Rubaj & Matkowski",null,null,null,null,"EGC 2019 - Duo 20m","PL",2019,1,3443,1.0649999999999999,{"$f":"ROUND(J244/MAX($J$244:$J$257)*10000*0.7+(MAX($I$244:$I$257)-I244)/(MAX($I$244:$I$257)-1)*10000*0.3,0)","v":10000},10650,null,null,"ASG 32 Mi","MD","Není v databázi"]
["Jones & Coppin",null,null,null,null,"EGC 2019 - Duo 20m","PL",2019,2,3399,1.0649999999999999,{"$f":"ROUND(J245/MAX($J$244:$J$257)*10000*0.7+(MAX($I$244:$I$257)-I245)/(MAX($I$244:$I$257)-1)*10000*0.3,0)","v":9680},10309,null,null,"Arcus T",66,"Není v databázi"]
["Grote & Gmelin",null,null,null,null,"EGC 2019 - Duo 20m","PL",2019,3,3357,1.0649999999999999,{"$f":"ROUND(J246/MAX($J$244:$J$257)*10000*0.7+(MAX($I$244:$I$257)-I246)/(MAX($I$244:$I$257)-1)*10000*0.3,0)","v":9364},9973,null,null,"Arcus T","V8","Není v databázi"]
["Ghiorzo & Prodorutti",null,null,null,null,"EGC 2019 - Duo 20m","PL",2019,4,3355,1.0649999999999999,9129,9722,null,null,"Arcus M","BPG","Není v databázi"]
["Sorri & Lehto",null,null,null,null,"EGC 2019 - Duo 20m","PL",2019,5,3310,1.0649999999999999,8807,9379,null,null,"Arcus M","AM","Není v databázi"]
["Morel & Labatut",null,null,null,null,"EGC 2019 - Duo 20m","PL",2019,6,3301,1.0649999999999999,8557,9113,null,null,"Arcus T","FP","Není v databázi"]
["Achleitner & Rass",null,null,null,null,"EGC 2019 - Duo 20m","PL",2019,7,3095,1.0649999999999999,7908,8422,null,null,"ASG 32 Mi","GA","Není v databázi"]
["Scarlat & Kessler",null,null,null,null,"EGC 2019 - Duo 20m","PL",2019,8,3039,1.0649999999999999,7563,8055,null,null,"Arcus M","V9","Není v databázi"]
["Motuza & Volkov",null,null,null,null,"EGC 2019 - Duo 20m","PL",2019,9,2881,1.0649999999999999,7011,7467,null,null,"ASG 32 Mi","IV","Není v databázi"]
["Michal Lesinger",{"$f":"VLOOKUP(A253,Pilot,2,0)","v":1966},{"$f":"VLOOKUP(A253,Pilot,5,0)","v":"M"},{"$f":"VLOOKUP(A253,Pilot,3,0)","v":"Moravská Třebová"},{"$f":"VLOOKUP(A253,Pilot,4,0)","v":"CZ/M"},"EGC 2019 - Duo 20m","PL",2019,10,2714,1.0649999999999999,{"$f":"ROUND(J253/MAX($J$244:$J$257)*10000*0.7+(MAX($I$244:$I$257)-I253)/(MAX($I$244:$I$257)-1)*10000*0.3,0)","v":6441},6860,null,null,"Twin Shark","TS",""]
["Szabadfi & Szabadfi",null,null,null,null,"EGC 2019 - Duo 20m","PL",2019,11,2653,1.0649999999999999,6086,6482,null,null,"Arcus T","AB","Není v databázi"]
["Larsen & Pedersen",null,null,null,null,"EGC 2019 - Duo 20m","PL",2019,12,2514,1.0649999999999999,5573,5935,null,null,"Duo Discus T","V4","Není v databázi"]
["Timoshenko & Rudenko",null,null,null,null,"EGC 2019 - Duo 20m","PL",2019,13,2065,1.0649999999999999,4429,4717,null,null,"Arcus M","AP","Není v databázi"]
["Käppeli & Koch",null,null,null,null,"EGC 2019 - Duo 20m","PL",2019,14,1855,1.0649999999999999,3771,4016,null,null,"Arcus M",1,"Není v databázi"]
["Tom Arscott",null,null,"United Kingdom",null,"EGC 2019 - Klub","SK",2019,1,9907,1.105,{"$f":"ROUND(J258/MAX($J$258:$J$288)*10000*0.7+(MAX($I$258:$I$288)-I258)/(MAX($I$258:$I$288)-1)*10000*0.3,0)","v":10000},{"$f":"ROUND(K258*L258,0)","v":11050},null,null,"LS 7",768,"Není v databázi"]
["Gerrard G Dale",null,null,"United Kingdom",null,"EGC 2019 - Klub","SK",2019,2,9619,1.105,{"$f":"ROUND(J259/MAX($J$258:$J$288)*10000*0.7+(MAX($I$258:$I$288)-I259)/(MAX($I$258:$I$288)-1)*10000*0.3,0)","v":9697},10715,null,null,"ASW 24","E2","Není v databázi"]
["Uwe Wahlig",null,null,"Germany",null,"EGC 2019 - Klub","SK",2019,3,9563,1.105,9557,10560,null,null,"LS 3","SN","Není v databázi"]
["Ivan Novak",{"$f":"VLOOKUP(A261,Pilot,2,0)","v":1962},{"$f":"VLOOKUP(A261,Pilot,5,0)","v":"M"},{"$f":"VLOOKUP(A261,Pilot,3,0)","v":"Mladá Boleslav"},{"$f":"VLOOKUP(A261,Pilot,4,0)","v":"CZ/C1"},"EGC 2019 - Klub","SK",2019,4,9339,1.105,9299,10275,"x",null,"LS 4b","IX",""]
["Ferenc Tamas",null,null,"Hungary",null,"EGC 2019 - Klub","SK",2019,5,9319,1.105,9185,10149,null,null,"LS 3","1A","Není v databázi"]
["Jozef Kozar",null,null,"Slovakia",null,"EGC 2019 - Klub","SK",2019,6,9306,1.105,9075,10028,null,null,"LS 1f","MF","Není v databázi"]
["Adrien Henry",null,null,"France",null,"EGC 2019 - Klub","SK",2019,7,9212,1.105,8909,9844,null,null,"Std. Cirrus",19,"Není v databázi"]
["Jaroslav Tomana",{"$f":"VLOOKUP(A265,Pilot,2,0)","v":1975},{"$f":"VLOOKUP(A265,Pilot,5,0)","v":"M"},{"$f":"VLOOKUP(A265,Pilot,3,0)","v":"Zbraslavice"},{"$f":"VLOOKUP(A265,Pilot,4,0)","v":"CZ/C1"},"EGC 2019 - Klub","SK",2019,8,9200,1.105,{"$f":"ROUND(J265/MAX($J$258:$J$288)*10000*0.7+(MAX($I$258:$I$288)-I265)/(MAX($I$258:$I$288)-1)*10000*0.3,0)","v":8800},9724,"x",null,"Pegase 101 BC/WL","RT",""]
["Per Carlin",null,null,"Sweden",null,"EGC 2019 - Klub","SK",2019,9,8900,1.105,8488,9379,null,null,"LS 1f","G7","Není v databázi"]
["Arturas Pilvinis",null,null,"Lithuania",null,"EGC 2019 - Klub","SK",2019,10,8639,1.105,8204,9065,null,null,"SZD 55-1","AP","Není v databázi"]
["Marek Sawczuk",null,null,"Poland",null,"EGC 2019 - Klub","SK",2019,11,8605,1.105,8080,8928,null,null,"ASW 20F","SB","Není v databázi"]
["Darius Liaugaudas",null,null,"Lithuania",null,"EGC 2019 - Klub","SK",2019,12,8602,1.105,7978,8816,null,null,"Pegase 101A","PL","Není v databázi"]
["Paul Altrichter",null,null,"Austria",null,"EGC 2019 - Klub","SK",2019,13,8508,1.105,7812,8632,null,null,"LS 4","TAX","Není v databázi"]
["Sakari Pyorre",null,null,"Finland",null,"EGC 2019 - Klub","SK",2019,14,8432,1.105,7658,8462,null,null,"LS 7","PF","Není v databázi"]
["Felix Hoffmann",null,null,"Germany",null,"EGC 2019 - Klub","SK",2019,15,8389,1.105,7527,8317,null,null,"ASW 20","5B","Není v databázi"]
["Sandor Laurinyecz",null,null,"Hungary",null,"EGC 2019 - Klub","SK",2019,16,8245,1.105,7326,8095,null,null,"LS 1f","V2","Není v databázi"]
["Miroslaw Izydorczak",null,null,"Poland",null,"EGC 2019 - Klub","SK",2019,17,8215,1.105,{"$f":"ROUND(J274/MAX($J$258:$J$288)*10000*0.7+(MAX($I$258:$I$288)-I274)/(MAX($I$258:$I$288)-1)*10000*0.3,0)","v":7204},7960,null,null,"ASW 20 L","MM","Není v databázi"]
["Fréderic Hoyeau",null,null,"France",null,"EGC 2019 - Klub","SK",2019,18,7981,1.105,6939,7668,null,null,"C11","C11","Není v databázi"]
["Boris Zorz",null,null,"Slovenia",null,"EGC 2019 - Klub","SK",2019,19,7836,1.105,6737,7444,null,null,"Std. Cirrus","IPF","Není v databázi"]
["Simone Selvini",null,null,"Italy",null,"EGC 2019 - Klub","SK",2019,20,7540,1.105,6428,7103,null,null,"Std.Cirrus","2S","Není v databázi"]
["Ales Fink",null,null,"Slovenia",null,"EGC 2019 - Klub","SK",2019,21,7141,1.105,6046,6681,null,null,"DG 300","KO","Není v databázi"]
["Giacomo Dall'Olio",null,null,"Italy",null,"EGC 2019 - Klub","SK",2019,22,7021,1.105,5861,6476,null,null,"Std. Cirrus","DM","Není v databázi"]
["Sergey Serov",null,null,"Russian Federation",null,"EGC 2019 - Klub","SK",2019,23,6767,1.105,5581,6167,null,null,"ASW20","EW","Není v databázi"]
["Sergi Pujol Rodriguez",null,null,"Spain",null,"EGC 2019 - Klub","SK",2019,24,6722,1.105,5450,6022,null,null,"MiniNimbus","JJ","Není v databázi"]
["Frantisek Sobek",null,null,"Slovakia",null,"EGC 2019 - Klub","SK",2019,25,6663,1.105,5308,5865,null,null,"DG 100","G1","Není v databázi"]
["Oliver Andersson",null,null,"Sweden",null,"EGC 2019 - Klub","SK",2019,26,6550,1.105,5128,5666,null,null,"LS 1f","R4","Není v databázi"]
["Frane Franic",null,null,"Croatia",null,"EGC 2019 - Klub","SK",2019,27,4787,1.105,3782,4179,null,null,"Jantar Std. 3","HR1","Není v databázi"]
["Davide Giovanelli",null,null,"Switzerland",null,"EGC 2019 - Klub","SK",2019,28,4590,1.105,3543,3915,null,null,"Std. Cirrus",96,"Není v databázi"]
["Bruno Herencic",null,null,"Croatia",null,"EGC 2019 - Klub","SK",2019,29,3710,1.105,2821,3117,null,null,"DG 200","BC","Není v databázi"]
["Mykhailo Grytsenko",null,null,"Ukraine",null,"EGC 2019 - Klub","SK",2019,30,3294,1.105,2427,2682,null,null,"Jantar std. 3",89,"Není v databázi"]
["Juha Vainikka",null,null,"Finland",null,"EGC 2019 - Klub","SK",2019,31,2853,1.105,2016,2228,null,null,"SZD 55-1","WB","Není v databázi"]
["Petr Tichy",{"$f":"VLOOKUP(A289,Pilot,2,0)","v":1973},{"$f":"VLOOKUP(A289,Pilot,5,0)","v":"M"},{"$f":"VLOOKUP(A289,Pilot,3,0)","v":"Zbraslavice"},{"$f":"VLOOKUP(A289,Pilot,4,0)","v":"CZ/C1"},"EGC 2019 - Open","PL",2019,1,3748,1.0599999999999998,{"$f":"ROUND(J289/MAX($J$289:$J$305)*10000*0.7+(MAX($I$289:$I$305)-I289)/(MAX($I$289:$I$305)-1)*10000*0.3,0)","v":10000},10600,"x",null,"EB 29 R","IEX",""]
["Riccardo Brigliadori",null,null,null,null,"EGC 2019 - Open","PL",2019,2,3720,1.0599999999999998,{"$f":"ROUND(J290/MAX($J$289:$J$305)*10000*0.7+(MAX($I$289:$I$305)-I290)/(MAX($I$289:$I$305)-1)*10000*0.3,0)","v":9760},10346,null,null,"JS1c-21","LEO","Není v databázi"]
["Markus Frank",null,null,null,null,"EGC 2019 - Open","PL",2019,3,3629,1.0599999999999998,9403,9967,null,null,"EB 29","FB","Není v databázi"]
["Philippe de Péchy",null,null,null,null,"EGC 2019 - Open","PL",2019,4,3490,1.0599999999999998,8956,9493,null,null,"JS1c-21","EJ","Není v databázi"]
["Eric Bernard",null,null,null,null,"EGC 2019 - Open","PL",2019,5,3487,1.0599999999999998,8763,9289,null,null,"JS1c-21","EB","Není v databázi"]
["Łukasz Wójcik",null,null,null,null,"EGC 2019 - Open","PL",2019,6,3472,1.0599999999999998,8547,9060,null,null,"JS1c-21","P","Není v databázi"]
["Russell Cheetham",null,null,null,null,"EGC 2019 - Open","PL",2019,7,3470,1.0599999999999998,8356,8857,null,null,"EB 29 DR","DD","Není v databázi"]
["Pierre de Broqueville",null,null,null,null,"EGC 2019 - Open","PL",2019,8,3379,{"$f":"VLOOKUP(F296,Soutez,12,0)","v":1.0599999999999998},7998,8478,null,null,"EB 29 DR","IP3",{"$f":"IF(ISERROR(VLOOKUP(A296,Pilot,6,0)),\"Není v databázi\",VLOOKUP(A296,Pilot,6,0))","v":"Není v databázi"}]
["Petr Krejcirik",{"$f":"VLOOKUP(A297,Pilot,2,0)","v":1960},{"$f":"VLOOKUP(A297,Pilot,5,0)","v":"M"},{"$f":"VLOOKUP(A297,Pilot,3,0)","v":"Hranice"},{"$f":"VLOOKUP(A297,Pilot,4,0)","v":"CZ/M"},"EGC 2019 - Open","PL",2019,9,3250,1.0599999999999998,{"$f":"ROUND(J297/MAX($J$289:$J$305)*10000*0.7+(MAX($I$289:$I$305)-I297)/(MAX($I$289:$I$305)-1)*10000*0.3,0)","v":7570},8024,null,null,"JS1c-21","ZF",""]
["Oliver Binder",null,null,null,null,"EGC 2019 - Open","PL",2019,10,3238,1.0599999999999998,7360,7802,null,null,"EB 29 DR","WB","Není v databázi"]
["Zdzisław Bednarczuk",null,null,null,null,"EGC 2019 - Open","PL",2019,11,3173,1.0599999999999998,{"$f":"ROUND(J299/MAX($J$289:$J$305)*10000*0.7+(MAX($I$289:$I$305)-I299)/(MAX($I$289:$I$305)-1)*10000*0.3,0)","v":7051},7474,null,null,"JS1c-21","B52","Není v databázi"]
["Bas Seijffert",null,null,null,null,"EGC 2019 - Open","PL",2019,12,3134,1.0599999999999998,6791,7198,null,null,"JS1c-21","BJ","Není v databázi"]
["Tim Jenkinson",null,null,null,null,"EGC 2019 - Open","PL",2019,13,2888,1.0599999999999998,6144,6513,null,null,"JS1c-21","SB","Není v databázi"]
["Alberto Sironi",null,null,null,null,"EGC 2019 - Open","PL",2019,14,2817,1.0599999999999998,5824,6173,null,null,"Quintus M","AS","Není v databázi"]
["Laszlo Halasz",null,null,null,null,"EGC 2019 - Open","PL",2019,15,2624,1.0599999999999998,5276,5593,null,null,"JS1c-21","HAB","Není v databázi"]
["Riku Rissanen",null,null,null,null,"EGC 2019 - Open","PL",2019,16,2227,1.0599999999999998,4347,4608,null,null,"EB 28 Edition","EX","Není v databázi"]
["Juha Silvennoinen",null,null,null,null,"EGC 2019 - Open","PL",2019,17,1684,1.0599999999999998,3145,3334,null,null,"LAK-20T","3G","Není v databázi"]
["Pavel Louzecky",{"$f":"VLOOKUP(A306,Pilot,2,0)","v":1957},{"$f":"VLOOKUP(A306,Pilot,5,0)","v":"M"},{"$f":"VLOOKUP(A306,Pilot,3,0)","v":"Přibyslav"},{"$f":"VLOOKUP(A306,Pilot,4,0)","v":"CZ/C2"},"EGC 2019 - Std","SK",2019,1,9992,1.105,{"$f":"ROUND(J306/MAX($J$306:$J$334)*10000*0.7+(MAX($I$306:$I$334)-I306)/(MAX($I$306:$I$334)-1)*10000*0.3,0)","v":10000},11050,"x",null,"LS-8 / 15m","FX",""]
["Robert Schroeder",null,null,"Germany",null,"EGC 2019 - Std","SK",2019,2,9937,1.105,{"$f":"ROUND(J307/MAX($J$306:$J$334)*10000*0.7+(MAX($I$306:$I$334)-I307)/(MAX($I$306:$I$334)-1)*10000*0.3,0)","v":9854},10889,null,null,"LS-8 neo / 15m","S2","Není v databázi"]
["Miloslav Cink",{"$f":"VLOOKUP(A308,Pilot,2,0)","v":1987},{"$f":"VLOOKUP(A308,Pilot,5,0)","v":"M"},{"$f":"VLOOKUP(A308,Pilot,3,0)","v":"Letkov"},{"$f":"VLOOKUP(A308,Pilot,4,0)","v":"CZ/C1"},"EGC 2019 - Std","SK",2019,3,9849,1.105,9686,10703,"x",null,"LS-8b / 15m","JB",""]
["Tomas Suchanek",{"$f":"VLOOKUP(A309,Pilot,2,0)","v":1964},{"$f":"VLOOKUP(A309,Pilot,5,0)","v":"M"},{"$f":"VLOOKUP(A309,Pilot,3,0)","v":"GAC Benešov"},{"$f":"VLOOKUP(A309,Pilot,4,0)","v":"CZ/C1"},"EGC 2019 - Std","SK",2019,4,9676,1.105,{"$f":"ROUND(J309/MAX($J$306:$J$334)*10000*0.7+(MAX($I$306:$I$334)-I309)/(MAX($I$306:$I$334)-1)*10000*0.3,0)","v":9457},10450,"x",null,"Discus 2a / 15m","GX",""]
["Lukasz Błaszczyk",null,null,"Poland",null,"EGC 2019 - Std","SK",2019,5,9634,1.105,9321,10300,null,null,"Discus 2a / 15m","I","Není v databázi"]
["Sebastian Naegel",null,null,"Germany",null,"EGC 2019 - Std","SK",2019,6,9586,1.105,9180,10144,null,null,"Discus 2ax / 15m","XN","Není v databázi"]
["Benjamin Néglais",null,null,"France",null,"EGC 2019 - Std","SK",2019,7,9397,1.105,8940,9879,null,null,"Discus 2a / 15m","ET","Není v databázi"]
["Maros Divok",null,null,"Slovakia",null,"EGC 2019 - Std","SK",2019,8,9103,1.105,8627,9533,null,null,"Discus 2b / 15m","DI","Není v databázi"]
["Filip Bojanowski",null,null,"Denmark",null,"EGC 2019 - Std","SK",2019,9,9081,1.105,8505,9398,null,null,"Discus 2a / 15m","IAX","Není v databázi"]
["Lucas Delobel",null,null,"France",null,"EGC 2019 - Std","SK",2019,10,9047,1.105,8374,9253,null,null,"Discus 2a / 15m","JPA","Není v databázi"]
["Tamas Vamosi",null,null,"Hungary",null,"EGC 2019 - Std","SK",2019,11,8770,1.105,8072,8920,null,null,"Discus 2ax / 15m","HUN","Není v databázi"]
["Alex Pop",null,null,"Romania",null,"EGC 2019 - Std","SK",2019,12,8725,1.105,7934,8767,null,null,"Discus 2a / 15m","YA","Není v databázi"]
["Dmitriy Timoshenko",null,null,"Russian Federation",null,"EGC 2019 - Std","SK",2019,13,8553,1.105,7706,8515,null,null,"Discus 2a / 15m","DT","Není v databázi"]
["Anton Minskiy",null,null,"Russian Federation",null,"EGC 2019 - Std","SK",2019,14,8460,1.105,7534,8325,null,null,"Discus 2a / 15m",2,"Není v databázi"]
["Paul Fritche",null,null,"United Kingdom",null,"EGC 2019 - Std","SK",2019,15,8363,1.105,7359,8132,null,null,"LS-8 / 15m","L4","Není v databázi"]
["Jacek Flis",null,null,"Poland",null,"EGC 2019 - Std","SK",2019,16,8348,1.105,7241,8001,null,null,"Discus 2a / 15m","Y","Není v databázi"]
["Howard Jones",null,null,"United Kingdom",null,"EGC 2019 - Std","SK",2019,17,8265,1.105,7076,{"$f":"ROUND(K322*L322,0)","v":7819},null,null,"Discus 2a / 15m",6,"Není v databázi"]
["Luca Urbani",null,null,"Italy",null,"EGC 2019 - Std","SK",2019,18,8246,1.105,6955,7685,null,null,"Discus 2a / 15m","LR","Není v databázi"]
["Juha Sorri",null,null,"Finland",null,"EGC 2019 - Std","SK",2019,19,8229,1.105,6836,7554,null,null,"Discus 2b / 15m","JS","Není v databázi"]
["Aku Jaakkola",null,null,"Finland",null,"EGC 2019 - Std","SK",2019,20,7805,1.105,6432,7107,null,null,"Discus 2a / 15m","AJ","Není v databázi"]
["Daniel Arday",null,null,"Hungary",null,"EGC 2019 - Std","SK",2019,21,7378,1.105,6026,6659,null,null,"Discus 2a","HAL","Není v databázi"]
["Dominik Jancik",null,null,"Slovakia",null,"EGC 2019 - Std","SK",2019,22,7082,1.105,5711,6311,null,null,"LS-8 / 15m","SI","Není v databázi"]
["Guido Dalla Rosa Prati",null,null,"Italy",null,"EGC 2019 - Std","SK",2019,23,7002,1.105,5548,6131,null,null,"LS-8 / 15m","GG","Není v databázi"]
["Poul Kim Larsen",null,null,"Denmark",null,"EGC 2019 - Std","SK",2019,24,6995,1.105,5436,6007,null,null,"Discus 2a / 15m","D2","Není v databázi"]
["Jef Kell",null,null,"Belgium",null,"EGC 2019 - Std","SK",2019,25,6555,1.105,5021,5548,null,null,"Discus 2b / 15m","YU","Není v databázi"]
["Andrius Tamulenas",null,null,"Lithuania",null,"EGC 2019 - Std","SK",2019,26,6477,1.105,4859,5369,null,null,"LS-8 / 15m","H8","Není v databázi"]
["Pascal Brunner",null,null,"Switzerland",null,"EGC 2019 - Std","SK",2019,27,3974,1.105,2998,3313,null,null,"Discus 2b / 15m","ST","Není v databázi"]
["Norbert Scarlat",null,null,"Romania",null,"EGC 2019 - Std","SK",2019,28,3265,1.105,2394,2645,null,null,"Discus 2a / 15m","YB","Není v databázi"]
["Dani Zaninovic",null,null,"Croatia",null,"EGC 2019 - Std","SK",2019,29,101,1.105,71,78,null,null,"ASW 24 WL","HR3","Není v databázi"]
["Martin Pirker",null,null,"FRA Wr. Neustadt",null,"Alpe Adria Cup 2019 - Klub","AT",2019,1,2129,0.73,{"$f":"ROUND(J335/MAX($J$335:$J$354)*10000*0.7+(MAX($I$335:$I$354)-I335)/(MAX($I$335:$I$354)-1)*10000*0.3,0)","v":10000},7300,null,null,"Ventus Cm","PM","Není v databázi"]
["Eduard Supersperger",null,null,"SMBC Kirchdorf-Micheldorf",null,"Alpe Adria Cup 2019 - Klub","AT",2019,2,2031,0.73,{"$f":"ROUND(J336/MAX($J$335:$J$354)*10000*0.7+(MAX($I$335:$I$354)-I336)/(MAX($I$335:$I$354)-1)*10000*0.3,0)","v":9520},6950,null,null,"Duo-Discus XL","M1","Není v databázi"]
["Georg Falkensammer",null,null,"FSV Feldkirchen/Ossiachersee",null,"Alpe Adria Cup 2019 - Klub","AT",2019,3,1944,0.73,9076,6625,null,null,"Discus 2b","D2","Není v databázi"]
["Herwig Wagner",null,null,"St. Flugsportunion",null,"Alpe Adria Cup 2019 - Klub","AT",2019,4,1770,0.73,8346,6093,null,null,"SZD55","KE","Není v databázi"]
["Alessandro Giaiotti",null,null,"CVNE",null,"Alpe Adria Cup 2019 - Klub","AT",2019,5,1587,0.73,7586,5538,null,null,"Ventus2b","D","Není v databázi"]
["Roman Buehler",null,null,"SG Säntis",null,"Alpe Adria Cup 2019 - Klub","AT",2019,6,1437,0.73,6935,5063,null,null,"Ventus cM","AC","Není v databázi"]
["Josef Scheiber",null,null,"SVA",null,"Alpe Adria Cup 2019 - Klub","AT",2019,7,1404,0.73,6669,4868,null,null,"Duo XLT","KPG","Není v databázi"]
["Bernd Sauter",null,null,"Deutschland",null,"Alpe Adria Cup 2019 - Klub","AT",2019,8,1382,0.73,6439,4700,null,null,"Duo Discus","W","Není v databázi"]
["Florian Forcher",null,null,"SFC Pinkafeld",null,"Alpe Adria Cup 2019 - Klub","AT",2019,9,1380,0.73,6274,4580,null,null,"DG 300 WL","N1","Není v databázi"]
["Peter Schneeweis",null,null,"ASKÖ Flugsportverein Linz",null,"Alpe Adria Cup 2019 - Klub","AT",2019,10,1294,0.73,5834,4259,null,null,"Duo Discus XT","L","Není v databázi"]
["Friedrich Hofinger",null,null,"SMBC Kirchdorf Micheldorf",null,"Alpe Adria Cup 2019 - Klub","AT",2019,11,1196,0.73,5353,3908,null,null,"Discus 2ct","KN","Není v databázi"]
["Petr Malcek",{"$f":"VLOOKUP(A346,Pilot,2,0)","v":1965},{"$f":"VLOOKUP(A346,Pilot,5,0)","v":"M"},{"$f":"VLOOKUP(A346,Pilot,3,0)","v":"Letňany"},{"$f":"VLOOKUP(A346,Pilot,4,0)","v":"CZ/C1"},"Alpe Adria Cup 2019 - Klub","AT",2019,12,1128,0.73,4972,3630,null,null,"Duo Discus",777,""]
["Tizian Steiger",null,null,"SG Lägern",null,"Alpe Adria Cup 2019 - Klub","AT",2019,13,1125,0.73,4804,3507,null,null,"Discus 2a","O2","Není v databázi"]
["Jan Kotan",{"$f":"VLOOKUP(A348,Pilot,2,0)","v":1982},{"$f":"VLOOKUP(A348,Pilot,5,0)","v":"M"},{"$f":"VLOOKUP(A348,Pilot,3,0)","v":"Letňany"},{"$f":"VLOOKUP(A348,Pilot,4,0)","v":"CZ/C1"},"Alpe Adria Cup 2019 - Klub","AT",2019,14,1087,0.73,{"$f":"ROUND(J348/MAX($J$335:$J$354)*10000*0.7+(MAX($I$335:$I$354)-I348)/(MAX($I$335:$I$354)-1)*10000*0.3,0)","v":4521},3300,null,null,"ASW-19","WT",""]
["Martin Bühlmann",null,null,"SG Lägern",null,"Alpe Adria Cup 2019 - Klub","AT",2019,15,1066,0.73,4294,3135,null,null,"Discus 2b","2S","Není v databázi"]
["Klaus Porod",null,null,"FSV-Feldkirchen",null,"Alpe Adria Cup 2019 - Klub","AT",2019,16,974,0.73,3834,2799,null,null,"Discus 2cT","PSI","Není v databázi"]
["Herbert Pirker",null,null,"FAS",null,"Alpe Adria Cup 2019 - Klub","AT",2019,17,839,0.73,3232,2359,null,null,"ASG 29 E","MD","Není v databázi"]
["Gösta Worf",null,null,"LSR Aalen",null,"Alpe Adria Cup 2019 - Klub","AT",2019,18,746,0.73,2769,2021,null,null,"Ventus cM","GW","Není v databázi"]
["Ute Baranowski",null,null,"Alpenflugzentrum Unterwössen e.V.",null,"Alpe Adria Cup 2019 - Klub","AT",2019,19,550,0.73,1966,1435,null,null,"Ventus 2ax","IB","Není v databázi"]
["Philipp Wittwer",null,null,"SFG Dornbirn",null,"Alpe Adria Cup 2019 - Klub","AT",2019,20,60,0.73,197,144,null,null,"LS 8","ZL","Není v databázi"]
["Reinhard Haggenmueller",null,null,null,null,"Alpe Adria Cup 2019 - Kombi","AT",2019,1,2725,0.73,{"$f":"ROUND(J355/MAX($J$355:$J$377)*10000*0.7+(MAX($I$355:$I$377)-I355)/(MAX($I$355:$I$377)-1)*10000*0.3,0)","v":10000},7300,null,null,"ASG29 18E","RR","Není v databázi"]
["Sven Kolb",null,null,"SFG-Dornbirn",null,"Alpe Adria Cup 2019 - Kombi","AT",2019,2,2705,0.73,{"$f":"ROUND(J356/MAX($J$355:$J$377)*10000*0.7+(MAX($I$355:$I$377)-I356)/(MAX($I$355:$I$377)-1)*10000*0.3,0)","v":9812},7163,null,null,"Antares LF20e","ZF","Není v databázi"]
["Thomas Krüger",null,null,"AC Bad Neustadt",null,"Alpe Adria Cup 2019 - Kombi","AT",2019,3,2505,0.73,9162,6688,null,null,"EB 29","TK","Není v databázi"]
["Guido Halter",null,null,"SG Säntis",null,"Alpe Adria Cup 2019 - Kombi","AT",2019,4,2460,0.73,8910,6504,null,null,"ASH25M","HU","Není v databázi"]
["Roland Henz",null,null,"AFZ Unterwössen",null,"Alpe Adria Cup 2019 - Kombi","AT",2019,5,2352,0.73,8496,6202,null,null,"Ventus 2cxT","T3","Není v databázi"]
["Paul Bernhard",null,null,"Steirische Flugsportunion",null,"Alpe Adria Cup 2019 - Kombi","AT",2019,6,2314,{"$f":"VLOOKUP(F360,Soutez,12,0)","v":0.73},8262,6031,null,null,"ASH25Mi","NG",{"$f":"IF(ISERROR(VLOOKUP(A360,Pilot,6,0)),\"Není v databázi\",VLOOKUP(A360,Pilot,6,0))","v":"Není v databázi"}]
["Volker Polhaus",null,null,"Deutschland",null,"Alpe Adria Cup 2019 - Kombi","AT",2019,7,2275,0.73,8026,5859,null,null,"ASH26E","BV","Není v databázi"]
["Wolfgang Falkensammer",null,null,"FSV Feldkirchen/Ossiachersee",null,"Alpe Adria Cup 2019 - Kombi","AT",2019,8,2259,0.73,7848,5729,null,null,"Antares 18T","FW","Není v databázi"]
["Karel Krobath",null,null,"SFC Tulln",null,"Alpe Adria Cup 2019 - Kombi","AT",2019,9,2107,0.73,7322,5345,null,null,"HPH 304 MS","Q","Není v databázi"]
["Michael Wolff",null,null,"Direktmitglied",null,"Alpe Adria Cup 2019 - Kombi","AT",2019,10,2037,0.73,7005,5114,null,null,"Ventus 3M","WZ","Není v databázi"]
["Erich Niedl",null,null,"USFC Tulln",null,"Alpe Adria Cup 2019 - Kombi","AT",2019,11,1895,0.73,6504,4748,null,null,"Ventus 2cxT","CX","Není v databázi"]
["Joachim Hirt",null,null,"LSV Schwarzwald Baar e.v.",null,"Alpe Adria Cup 2019 - Kombi","AT",2019,12,1529,0.73,5428,3962,null,null,"Nimbus 3DM","MM","Není v databázi"]
["Gerold Auerbach",null,null,"LSV Salzburg",null,"Alpe Adria Cup 2019 - Kombi","AT",2019,13,1474,0.73,5150,3760,null,null,"ASH 31","FT","Není v databázi"]
["René Schönmann",null,null,"SGBF Segelfluggruppe Basel Fricktal",null,"Alpe Adria Cup 2019 - Kombi","AT",2019,14,1423,0.73,4883,3565,null,null,"JS1 C 21m","LI","Není v databázi"]
["Franz Salomon",null,null,"Steirische Flugsportunion",null,"Alpe Adria Cup 2019 - Kombi","AT",2019,15,1407,0.73,4705,3435,null,null,"Arcus M","FS","Není v databázi"]
["Alexander Schütz",null,null,"AFZ Unterwössen",null,"Alpe Adria Cup 2019 - Kombi","AT",2019,16,1395,0.73,4538,3313,null,null,"Ventus2cT","AI","Není v databázi"]
["Fridolin Hauser",null,null,"Lägern",null,"Alpe Adria Cup 2019 - Kombi","AT",2019,17,1329,0.73,4232,3089,null,null,"ASG 32 MI","HM","Není v databázi"]
["Konrad Feichter",null,null,"FSV Feldkirchen",null,"Alpe Adria Cup 2019 - Kombi","AT",2019,18,1328,0.73,4093,2988,null,null,"Arcus-T","UHM","Není v databázi"]
["Wolfgang Zimmermann",null,null,"Flugring Austria Wr. Neustadt",null,"Alpe Adria Cup 2019 - Kombi","AT",2019,19,1174,0.73,{"$f":"ROUND(J373/MAX($J$355:$J$377)*10000*0.7+(MAX($I$355:$I$377)-I373)/(MAX($I$355:$I$377)-1)*10000*0.3,0)","v":3561},2600,null,null,"Ventus 2cxm","XM","Není v databázi"]
["Werner Danz",null,null,"SG Glarnerland",null,"Alpe Adria Cup 2019 - Kombi","AT",2019,20,1001,0.73,2980,2175,null,null,"Antares 18T","BT","Není v databázi"]
["Raoul Flicker",null,null,"SFC Tulln",null,"Alpe Adria Cup 2019 - Kombi","AT",2019,21,870,0.73,2508,1831,null,null,"Ventus","FF","Není v databázi"]
["Markus Zacherl",null,null,"AFZ Unterwössen",null,"Alpe Adria Cup 2019 - Kombi","AT",2019,22,537,0.73,1516,1107,null,null,"ASH 25 M","HG","Není v databázi"]
["Aurel Hallbrucker",null,null,"ISV",null,"Alpe Adria Cup 2019 - Kombi","AT",2019,23,445,0.73,1143,834,null,null,"Arcus M",2,"Není v databázi"]
["Milan Surovcik",null,null,"AK Zilina",null,"MAM 2019 - Klub","SK",2019,1,6069,0.77500000000000002,{"$f":"ROUND(J378/MAX($J$378:$J$411)*10000*0.7+(MAX($I$378:$I$411)-I378)/(MAX($I$378:$I$411)-1)*10000*0.3,0)","v":10000},7750,null,null,"Pegase","EL","Není v databázi"]
["Milos Srank",null,null,"AK Nove Zamky",null,"MAM 2019 - Klub","SK",2019,2,5953,0.77500000000000002,{"$f":"ROUND(J379/MAX($J$378:$J$411)*10000*0.7+(MAX($I$378:$I$411)-I379)/(MAX($I$378:$I$411)-1)*10000*0.3,0)","v":9775},7576,null,null,"ASW 24A WL","CK","Není v databázi"]
["Marek Straka",null,null,"AK Trencin",null,"MAM 2019 - Klub","SK",2019,3,5894,0.77500000000000002,9616,7452,null,null,"LS 3","AI","Není v databázi"]
["Bohumil Vasek",null,null,"AK Partizanske",null,"MAM 2019 - Klub","SK",2019,4,5880,0.77500000000000002,9509,7369,null,null,"Pegase","LL","Není v databázi"]
["Jozef Sopirjak",null,null,"AK Kosice",null,"MAM 2019 - Klub","SK",2019,5,5436,0.77500000000000002,8906,6902,null,null,"DG 101","SX","Není v databázi"]
["Dusan Zubak",null,null,"AK Partizanske",null,"MAM 2019 - Klub","SK",2019,6,5284,0.77500000000000002,8640,6696,null,null,"vso-10","M8","Není v databázi"]
["Pavlinsky & Belusko",null,null,"AK Presov",null,"MAM 2019 - Klub","SK",2019,7,5110,0.77500000000000002,8348,6470,null,null,"Marianne","AM","Není v databázi"]
["Samuel Posluch",null,null,"SGC Martin",null,"MAM 2019 - Klub","SK",2019,8,5065,0.77500000000000002,8206,6360,null,null,"Std. Cirrus WL","LX","Není v databázi"]
["Martin Toman",null,null,"AK Presosv",null,"MAM 2019 - Klub","SK",2019,9,4968,0.77500000000000002,8003,{"$f":"ROUND(K386*L386,0)","v":6202},null,null,"Std. Cirrus","MJ","Není v databázi"]
["Marek Seman",null,null,"AK Presov",null,"MAM 2019 - Klub","SK",2019,10,4796,0.77500000000000002,7714,5978,null,null,"Std. Cirrus","CV","Není v databázi"]
["Erik Mikulas",null,null,"AK Partizanske",null,"MAM 2019 - Klub","SK",2019,11,4647,0.77500000000000002,7451,5775,null,null,"LS 1 f","LS","Není v databázi"]
["Anton Zelenaj",null,null,"AK Nove Zamky",null,"MAM 2019 - Klub","SK",2019,12,4558,0.77500000000000002,7257,5624,null,null,"ASW 15 b","TZ","Není v databázi"]
["Jan Zubak",null,null,"AK Partizanske",null,"MAM 2019 - Klub","SK",2019,13,4209,0.77500000000000002,6764,5242,null,null,"vso-10",82,"Není v databázi"]
["Peter Hupka",null,null,"AK Nitra",null,"MAM 2019 - Klub","SK",2019,14,4024,0.77500000000000002,6459,5006,null,null,"Pegase",101,"Není v databázi"]
["Mlynarik & Mlynarikova",null,null,"AK Banska Bystrica",null,"MAM 2019 - Klub","SK",2019,15,3956,0.77500000000000002,6290,4875,null,null,"Twin Astir 1","VLT","Není v databázi"]
["Stefan Liska",null,null,"AK Trnava",null,"MAM 2019 - Klub","SK",2019,16,3939,0.77500000000000002,6180,4790,null,null,"Pegase","H","Není v databázi"]
["Ludovit Homola",null,null,"AK Bratislava",null,"MAM 2019 - Klub","SK",2019,17,3851,0.77500000000000002,5987,4640,null,null,"ASW 20","II","Není v databázi"]
["Peter Klepac",null,null,"AK Nitra",null,"MAM 2019 - Klub","SK",2019,18,3670,0.77500000000000002,5688,4408,null,null,"astir CS",78,"Není v databázi"]
["Juraj Vysny",null,null,"AK Senica",null,"MAM 2019 - Klub","SK",2019,19,3665,0.77500000000000002,5591,4333,null,null,"Mosquito","JS","Není v databázi"]
["Jozef Vyletel",null,null,"AK Ocova",null,"MAM 2019 - Klub","SK",2019,20,3576,0.77500000000000002,5397,4183,null,null,"VSO-10",18,"Není v databázi"]
["Juraj Borcha",null,null,"AK PARTIZANSKE",null,"MAM 2019 - Klub","SK",2019,21,3493,0.77500000000000002,5211,4039,null,null,"Std. Cirrus WL","SZ","Není v databázi"]
["Peter Gosanyi",null,null,"AK Nove Zamky",null,"MAM 2019 - Klub","SK",2019,22,3450,0.77500000000000002,5070,3929,null,null,"Discus 2a","VP","Není v databázi"]
["Ivan Chabada",null,null,"AK Banska Bystrica",null,"MAM 2019 - Klub","SK",2019,23,3415,0.77500000000000002,4939,3828,null,null,"PIK 20 B","KM","Není v databázi"]
["Jan Jagos",null,null,"AK Banska Bystrica",null,"MAM 2019 - Klub","SK",2019,24,3035,0.77500000000000002,4410,3418,null,null,"PIK 20 D","F1","Není v databázi"]
["Rastislav Krak",null,null,"AK Poprad",null,"MAM 2019 - Klub","SK",2019,25,2773,0.77500000000000002,4017,3113,null,null,"Twin Astir RG","TAT","Není v databázi"]
["Marek Kuban",null,null,"AK Bratislava",null,"MAM 2019 - Klub","SK",2019,26,2572,0.77500000000000002,3694,2863,null,null,"ASW 19b","BA6","Není v databázi"]
["Bohuslav Vanik",null,null,"AK Ocova",null,"MAM 2019 - Klub","SK",2019,27,2441,0.77500000000000002,3452,2675,null,null,"vso-10","M1","Není v databázi"]
["Frantisek Michalik",null,null,"AK Trencin",null,"MAM 2019 - Klub","SK",2019,28,2429,0.77500000000000002,{"$f":"ROUND(J405/MAX($J$378:$J$411)*10000*0.7+(MAX($I$378:$I$411)-I405)/(MAX($I$378:$I$411)-1)*10000*0.3,0)","v":3347},2594,null,null,"DG 300","FM","Není v databázi"]
["Marian Szabo",null,null,"AK Partizanske",null,"MAM 2019 - Klub","SK",2019,29,1888,0.77500000000000002,2632,2040,null,null,"VT-116 Orlik 2",84,"Není v databázi"]
["Peter Usiak",null,null,"AK Banska Bystrica",null,"MAM 2019 - Klub","SK",2019,30,1765,0.77500000000000002,2399,1859,null,null,"Astir CS 77","WW","Není v databázi"]
["Lubomir Beno",null,null,"AK PARTIZANSKE",null,"MAM 2019 - Klub","SK",2019,31,1469,0.77500000000000002,1967,1524,null,null,"vso-10","H6","Není v databázi"]
["Maros Okos",null,null,"AK Presov",null,"MAM 2019 - Klub","SK",2019,32,1190,0.77500000000000002,1554,1204,null,null,"vso-10",75,"Není v databázi"]
["Martin Marincak",null,null,"AK Presov",null,"MAM 2019 - Klub","SK",2019,33,61,0.77500000000000002,161,125,null,null,"vso-10",10,"Není v databázi"]
["Katarina Golc",null,null,"AK Murska Sobota",null,"MAM 2019 - Klub","SK",2019,34,49,0.77500000000000002,57,44,null,null,"vso-10","I5","Není v databázi"]
["Kotvas & Simoncic",null,null,"AK Bratislava",null,"MAM 2019 - Kombi","SK",2019,1,5968,0.77500000000000002,{"$f":"ROUND(J412/MAX($J$412:$J$422)*10000*0.7+(MAX($I$412:$I$422)-I412)/(MAX($I$412:$I$422)-1)*10000*0.3,0)","v":10000},7750,null,null,"DG 1000 T 20m","NIT","Není v databázi"]
["Kromka & Kollar",null,null,"AK Poprad",null,"MAM 2019 - Kombi","SK",2019,2,5877,0.77500000000000002,{"$f":"ROUND(J413/MAX($J$412:$J$422)*10000*0.7+(MAX($I$412:$I$422)-I413)/(MAX($I$412:$I$422)-1)*10000*0.3,0)","v":9560},7409,null,null,"Arcus M","TA3","Není v databázi"]
["Spaniel & Skrabalek",null,null,"AK Bratislava",null,"MAM 2019 - Kombi","SK",2019,3,5343,0.77500000000000002,8600,6665,null,null,"Duo Discus","2X","Není v databázi"]
["Dusan Bernat",null,null,"SGC Martin",null,"MAM 2019 - Kombi","SK",2019,4,5185,0.77500000000000002,8082,6264,null,null,"Ventus 17.6m","AD","Není v databázi"]
["Milan Lojdl",null,null,"AK Martin",null,"MAM 2019 - Kombi","SK",2019,5,4784,0.77500000000000002,7278,5640,null,null,"Ventus 2cxa 18m","MJ1","Není v databázi"]
["Benedikt Laho",null,null,"AK Trnava",null,"MAM 2019 - Kombi","SK",2019,6,4677,0.77500000000000002,6819,5285,null,null,"Discus 2ct /18m","JH","Není v databázi"]
["Viktoria Divokova",null,null,"Spišska Nová Ves",null,"MAM 2019 - Kombi","SK",2019,7,4234,0.77500000000000002,5966,4624,null,null,"Discus b","3D","Není v databázi"]
["Lubomir Doupal",{"$f":"VLOOKUP(A419,Pilot,2,0)","v":1975},{"$f":"VLOOKUP(A419,Pilot,5,0)","v":"M"},{"$f":"VLOOKUP(A419,Pilot,3,0)","v":"Kroměříž"},{"$f":"VLOOKUP(A419,Pilot,4,0)","v":"CZ/M"},"MAM 2019 - Kombi","SK",2019,8,3745,0.77500000000000002,{"$f":"ROUND(J419/MAX($J$412:$J$422)*10000*0.7+(MAX($I$412:$I$422)-I419)/(MAX($I$412:$I$422)-1)*10000*0.3,0)","v":5059},3921,"x",null,"LS 8 /18 m","YF",""]
["Peter Abonyi",null,null,"SGC Martin",null,"MAM 2019 - Kombi","SK",2019,9,3357,0.77500000000000002,4271,3310,null,null,"Ventus c 17,6","SF","Není v databázi"]
["Daniel Kronek",null,null,"SGC Martin",null,"MAM 2019 - Kombi","SK",2019,10,2910,0.77500000000000002,3413,2645,null,null,"Ventus bT 17.6m","DK","Není v databázi"]
["Miroslav Belilansky",null,null,"AK Patrizanske",null,"MAM 2019 - Kombi","SK",2019,"HC",1897,0.77500000000000002,null,0,null,null,"LS 8t 15m","TC","Není v databázi"]
["Tilo Holighaus",null,null,null,null,"WSGP Final 2019 - 18m GP","SP",2019,1,49,1.08,{"$f":"ROUND((MAX($I$423:$I$441)-I423)/(MAX($I$423:$I$441)-1)*10000,0)","v":10000},10800,null,null,"Ventus-3T","3V","Není v databázi"]
["Sebastian Kawa",null,null,null,null,"WSGP Final 2019 - 18m GP","SP",2019,2,35,{"$f":"VLOOKUP(F424,Soutez,12,0)","v":1.08},{"$f":"ROUND((MAX($I$423:$I$441)-I424)/(MAX($I$423:$I$441)-1)*10000,0)","v":9444},10200,null,null,"JS3","JS3",{"$f":"IF(ISERROR(VLOOKUP(A424,Pilot,6,0)),\"Není v databázi\",VLOOKUP(A424,Pilot,6,0))","v":"Není v databázi"}]
["Louis Bouderlique",null,null,null,null,"WSGP Final 2019 - 18m GP","SP",2019,3,28,1.08,8889,9600,null,null,"JS3","FQ","Není v databázi"]
["Didier Hauss",null,null,null,null,"WSGP Final 2019 - 18m GP","SP",2019,4,23,1.08,8333,9000,null,null,"JS 1","FD","Není v databázi"]
["Maximilian Seis",null,null,null,null,"WSGP Final 2019 - 18m GP","SP",2019,5,22,1.08,7778,8400,null,null,"JS 3","FM","Není v databázi"]
["Christoph Limpert",null,null,null,null,"WSGP Final 2019 - 18m GP","SP",2019,6,21,1.08,7222,7800,null,null,"ASG29Es","CC","Není v databázi"]
["Pete Temple",null,null,null,null,"WSGP Final 2019 - 18m GP","SP",2019,7,19,1.08,6667,7200,null,null,"ASG29E","BS","Není v databázi"]
["Gintas Zube",null,null,null,null,"WSGP Final 2019 - 18m GP","SP",2019,8,16,1.08,6111,6600,null,null,"ASG29","AR","Není v databázi"]
["Gilles Navas",null,null,null,null,"WSGP Final 2019 - 18m GP","SP",2019,9,15,1.08,5556,6000,null,null,"JS-MD3","AX","Není v databázi"]
["Łukasz Wójcik",null,null,null,null,"WSGP Final 2019 - 18m GP","SP",2019,10,12,1.08,5000,5400,null,null,"Ventus 3","AT","Není v databázi"]
["Jon Gatfield",null,null,null,null,"WSGP Final 2019 - 18m GP","SP",2019,11,12,1.08,4444,4800,null,null,"ASG 29Es","YO","Není v databázi"]
["Mike Young",null,null,null,null,"WSGP Final 2019 - 18m GP","SP",2019,12,10,1.08,{"$f":"ROUND((MAX($I$423:$I$441)-I434)/(MAX($I$423:$I$441)-1)*10000,0)","v":3889},4200,null,null,"Ventus 3",120,"Není v databázi"]
["Petr Krejcirik",{"$f":"VLOOKUP(A435,Pilot,2,0)","v":1960},{"$f":"VLOOKUP(A435,Pilot,5,0)","v":"M"},{"$f":"VLOOKUP(A435,Pilot,3,0)","v":"Hranice"},{"$f":"VLOOKUP(A435,Pilot,4,0)","v":"CZ/M"},"WSGP Final 2019 - 18m GP","SP",2019,13,10,1.08,{"$f":"ROUND((MAX($I$423:$I$441)-I435)/(MAX($I$423:$I$441)-1)*10000,0)","v":3333},3600,null,null,"JS-MD3","ZF",""]
["Thomas Gostner",null,null,null,null,"WSGP Final 2019 - 18m GP","SP",2019,14,4,1.08,2778,3000,null,null,"Ventus 3T","GT","Není v databázi"]
["Adam Czeladzki",null,null,null,null,"WSGP Final 2019 - 18m GP","SP",2019,15,1,1.08,2222,2400,null,null,"JS1 c evo jet","GOL","Není v databázi"]
["Evgeny Zlobin",null,null,null,null,"WSGP Final 2019 - 18m GP","SP",2019,16,0,1.08,1667,1800,null,null,"JS 1b","IGC","Není v databázi"]
["Graham Parker",null,null,null,null,"WSGP Final 2019 - 18m GP","SP",2019,17,0,1.08,1111,1200,null,null,"ASG29E",70,"Není v databázi"]
["Aldo Rodriguez",null,null,null,null,"WSGP Final 2019 - 18m GP","SP",2019,18,0,1.08,556,600,null,null,"Lak 17A","LE","Není v databázi"]
["Vladimir Radovskiy",null,null,null,null,"WSGP Final 2019 - 18m GP","SP",2019,19,0,1.08,0,0,null,null,"JS 1","MD","Není v databázi"]
["Jan Ratz",{"$f":"VLOOKUP(A442,Pilot,2,0)","v":1987},{"$f":"VLOOKUP(A442,Pilot,5,0)","v":"M"},{"$f":"VLOOKUP(A442,Pilot,3,0)","v":"Zbraslavice"},{"$f":"VLOOKUP(A442,Pilot,4,0)","v":"CZ/C1"},"Adrenalin GP 2019 - Klub GP","CZ",2019,1,49,0.91500000000000004,{"$f":"ROUND((MAX($I$442:$I$453)-I442)/(MAX($I$442:$I$453)-1)*10000,0)","v":10000},9150,"x",null,"Std. Cirrus","REX",""]
["Zdenek Balcarek",{"$f":"VLOOKUP(A443,Pilot,2,0)","v":1967},{"$f":"VLOOKUP(A443,Pilot,5,0)","v":"M"},{"$f":"VLOOKUP(A443,Pilot,3,0)","v":"Kroměříž"},{"$f":"VLOOKUP(A443,Pilot,4,0)","v":"CZ/M"},"Adrenalin GP 2019 - Klub GP","CZ",2019,2,35,0.91500000000000004,{"$f":"ROUND((MAX($I$442:$I$453)-I443)/(MAX($I$442:$I$453)-1)*10000,0)","v":9091},8318,null,null,"Std. Cirrus","ZL",""]
["Roman Stoklasa",{"$f":"VLOOKUP(A444,Pilot,2,0)","v":1984},{"$f":"VLOOKUP(A444,Pilot,5,0)","v":"M"},{"$f":"VLOOKUP(A444,Pilot,3,0)","v":"Medlánky"},{"$f":"VLOOKUP(A444,Pilot,4,0)","v":"CZ/M"},"Adrenalin GP 2019 - Klub GP","CZ",2019,3,27,0.91500000000000004,8182,7487,"x",null,"Std. Cirrus","MS",""]
["Jan Sponer",{"$f":"VLOOKUP(A445,Pilot,2,0)","v":1988},{"$f":"VLOOKUP(A445,Pilot,5,0)","v":"M"},{"$f":"VLOOKUP(A445,Pilot,3,0)","v":"Medlánky"},{"$f":"VLOOKUP(A445,Pilot,4,0)","v":"CZ/M"},"Adrenalin GP 2019 - Klub GP","CZ",2019,4,18,0.91500000000000004,7273,6655,"x",null,"Std. Cirrus","MI",""]
["Marek Niewiadomy",null,"M","Bielsko-Bialski","PL","Adrenalin GP 2019 - Klub GP","CZ",2019,5,17,0.91500000000000004,6364,5823,null,null,"SZD-48 Jantar Std. 2","FK","Není v databázi"]
["Rostislav Stryk",{"$f":"VLOOKUP(A447,Pilot,2,0)","v":1972},{"$f":"VLOOKUP(A447,Pilot,5,0)","v":"M"},{"$f":"VLOOKUP(A447,Pilot,3,0)","v":"Frýdlant"},{"$f":"VLOOKUP(A447,Pilot,4,0)","v":"CZ/M"},"Adrenalin GP 2019 - Klub GP","CZ",2019,6,16,0.91500000000000004,{"$f":"ROUND((MAX($I$442:$I$453)-I447)/(MAX($I$442:$I$453)-1)*10000,0)","v":5455},4991,"x",null,"Std. Cirrus",22,""]
["Radim Zielinski",1969,"M","Frýdlant","CZ/M","Adrenalin GP 2019 - Klub GP","CZ",2019,7,9,0.91500000000000004,4545,4159,"x",null,"LS 1f","EM",""]
["Stanislav Doskocil",1978,"M","Medlánky","CZ/M","Adrenalin GP 2019 - Klub GP","CZ",2019,8,8,0.91500000000000004,3636,3327,null,null,"Std. Cirrus","SD",""]
["Vit Prokop",1987,"M","Medlánky","CZ/M","Adrenalin GP 2019 - Klub GP","CZ",2019,9,3,0.91500000000000004,2727,{"$f":"ROUND(K450*L450,0)","v":2495},null,null,"Std. Cirrus","A7",""]
["Jan Matejovsky",1972,"M","Hranice","CZ/M","Adrenalin GP 2019 - Klub GP","CZ",2019,10,1,0.91500000000000004,1818,1663,null,null,"Std. Cirrus","BY",""]
["Martin Svacina",1965,"M","Frýdlant","CZ/M","Adrenalin GP 2019 - Klub GP","CZ",2019,10,1,0.91500000000000004,1818,1663,"x",null,"Std. Cirrus","E",""]
["Petr Brezina",1963,"M","Frýdlant","CZ/M","Adrenalin GP 2019 - Klub GP","CZ",2019,12,0,0.91500000000000004,0,0,null,null,"G 102 Club Astir","BH",""]
["Zdenek Balcarek",1967,"M","Kroměříž","CZ/M","AZ Cup 2019 - Klub","CZ",2019,1,3186,0.91500000000000004,{"$f":"ROUND(J454/MAX($J$454:$J$490)*10000*0.7+(MAX($I$454:$I$490)-I454)/(MAX($I$454:$I$490)-1)*10000*0.3,0)","v":10000},9150,"x",null,"Std. Cirrus","ZL",""]
["Ivan Harasta 65",1965,"M","Toužim","CZ/C1","AZ Cup 2019 - Klub","CZ",2019,2,3093,0.91500000000000004,{"$f":"ROUND(J455/MAX($J$454:$J$490)*10000*0.7+(MAX($I$454:$I$490)-I455)/(MAX($I$454:$I$490)-1)*10000*0.3,0)","v":9712},{"$f":"ROUND(K455*L455,0)","v":8886},"x",null,"ASW-15B","HI",""]
["David Sachl",1978,"M","Kralupy","CZ/C1","AZ Cup 2019 - Klub","CZ",2019,3,3075,0.91500000000000004,9589,8774,"x",null,"DG 300","BK",""]
["Barbora Moravcova",1994,"F","Zbraslavice","CZ/C1","AZ Cup 2019 - Klub","CZ",2019,4,2999,0.91500000000000004,9339,8545,null,null,"ASW-19B","CF",""]
["Zdenek Boruvka 86",1986,"M","Jičín","CZ/C2","AZ Cup 2019 - Klub","CZ",2019,5,2960,0.91500000000000004,9170,8391,"x",null,"Std. Cirrus","BJ",""]
["Frantisek Filandr",1956,"M","Most","CZ/C2","AZ Cup 2019 - Klub","CZ",2019,6,2799,0.91500000000000004,8733,7991,"x",null,"Std. Cirrus","FF",""]
["Vojtech Novotny",1992,"M","Kralupy","CZ/C1","AZ Cup 2019 - Klub","CZ",2019,7,2709,0.91500000000000004,8452,7734,null,null,"LS-1f","EF",""]
["Lukas Koukal",1991,"M","Letkov","CZ/C1","AZ Cup 2019 - Klub","CZ",2019,8,2687,0.91500000000000004,8320,7613,null,null,"ASW-15B","T1",""]
["Martin Urban",1971,"M","Frýdlant","CZ/M","AZ Cup 2019 - Klub","CZ",2019,9,2681,0.91500000000000004,8224,7525,"x",null,"LS 3a 15m","SJ",""]
["Jan Ratz",1987,"M","Zbraslavice","CZ/C1","AZ Cup 2019 - Klub","CZ",2019,10,2671,0.91500000000000004,8118,7428,null,null,"Std. Cirrus","REX",""]
["Jakub Kmosek",1978,"M","Zbraslavice","CZ/C1","AZ Cup 2019 - Klub","CZ",2019,11,2570,0.91500000000000004,7813,7149,"x",null,"Std. Cirrus","ST",""]
["Oldrich Houzvicka",1975,"M","Frýdlant","CZ/M","AZ Cup 2019 - Klub","CZ",2019,12,2537,0.91500000000000004,7657,7006,"x",null,"ASW-24 WL",76,""]
["Martin Grmela",1989,"M","Zbraslavice","CZ/C1","AZ Cup 2019 - Klub","CZ",2019,13,2526,0.91500000000000004,7550,6908,"x",null,"Std. Cirrus","C1",""]
["Simon Siska",null,"M","SGC Martin","SK","AZ Cup 2019 - Klub","CZ",2019,14,2487,0.91500000000000004,{"$f":"ROUND(J467/MAX($J$454:$J$490)*10000*0.7+(MAX($I$454:$I$490)-I467)/(MAX($I$454:$I$490)-1)*10000*0.3,0)","v":7381},6754,null,null,"ASW-19B","A11","Není v databázi"]
["Martin Piskacek",{"$f":"VLOOKUP(A468,Pilot,2,0)","v":1991},{"$f":"VLOOKUP(A468,Pilot,5,0)","v":"M"},{"$f":"VLOOKUP(A468,Pilot,3,0)","v":"Křižanov"},{"$f":"VLOOKUP(A468,Pilot,4,0)","v":"CZ/M"},"AZ Cup 2019 - Klub","CZ",2019,15,2400,0.91500000000000004,7106,6502,"x",null,"Std. Cirrus",75,""]
["Martin Fric",1967,"M","Raná","CZ/C2","AZ Cup 2019 - Klub","CZ",2019,16,2390,0.91500000000000004,7001,6406,null,null,"ASW-19","FR",""]
["Katerina Vojtova",1983,"F","Slaný","CZ/C1","AZ Cup 2019 - Klub","CZ",2019,17,2321,0.91500000000000004,6766,6191,"x","x","Std. Cirrus","KAC",""]
["Anna Bordovska",1989,"F","Mladá Boleslav","CZ/C1","AZ Cup 2019 - Klub","CZ",2019,18,2254,0.91500000000000004,6536,5980,"x","x","Std. Cirrus","BW",""]
["Jan Pubec",1979,"M","Plzeň Bory","CZ/C1","AZ Cup 2019 - Klub","CZ",2019,19,2227,0.91500000000000004,6393,5850,null,null,"Std. Cirrus","LM",""]
["Jiri Fousek",1990,"M","Raná","CZ/C2","AZ Cup 2019 - Klub","CZ",2019,20,2219,0.91500000000000004,6292,5757,"x",null,"Std. Cirrus","LW",""]
["Matej Krestes",1986,"M","Slaný","CZ/C1","AZ Cup 2019 - Klub","CZ",2019,21,2180,0.91500000000000004,6123,5603,"x",null,"Std. Cirrus","CON",""]
["Tomas Jung",1950,"M","Zbraslavice","CZ/C1","AZ Cup 2019 - Klub","CZ",2019,22,2160,0.91500000000000004,5996,5486,"x",null,"ASW-19B","O2",""]
["Jan Zahradka",1981,"M","Hodkovice","CZ/C2","AZ Cup 2019 - Klub","CZ",2019,23,2146,0.91500000000000004,5882,5382,null,null,"Std. Cirrus","AR",""]
["Jan Hruska",1988,"M","Tábor","CZ/C1","AZ Cup 2019 - Klub","CZ",2019,24,1946,0.91500000000000004,5359,4903,"x",null,"ASW-15B","LF",""]
["Jiri Vondracek",1989,"M","Kladno","CZ/C1","AZ Cup 2019 - Klub","CZ",2019,25,1834,0.91500000000000004,5030,4602,"x",null,"ASW-19B","V",""]
["Viktor Becan",1979,"M","GAC Benešov","CZ/C1","AZ Cup 2019 - Klub","CZ",2019,26,1722,0.91500000000000004,4700,4301,"x",null,"LS-1d","VB",""]
["Petr Brezina",1963,"M","Frýdlant","CZ/M","AZ Cup 2019 - Klub","CZ",2019,27,1707,0.91500000000000004,4584,4194,"x",null,"G 102 Astir CS","BH",""]
["Linda Vasatova",1990,"F","Mladá Boleslav","CZ/C1","AZ Cup 2019 - Klub","CZ",2019,28,1630,0.91500000000000004,4331,3963,"x","x","ASW-19B","AH",""]
["Jan Smekal",1976,"M","Zbraslavice","CZ/C1","AZ Cup 2019 - Klub","CZ",2019,29,1616,0.91500000000000004,4217,3859,"x",null,"ASW-19","FY",""]
["Ales Holoubek",1966,"M","Jičín","CZ/C2","AZ Cup 2019 - Klub","CZ",2019,30,1195,0.91500000000000004,3209,2936,null,null,"ASW-15B NG","T",""]
["Jiri Hodan",1959,"M","Zbraslavice","CZ/C1","AZ Cup 2019 - Klub","CZ",2019,31,1165,0.91500000000000004,3060,2800,"x",null,"G 103 Twin Astir","RB",""]
["Kristina Santruckova",1996,"F","Podhořany","CZ/C2","AZ Cup 2019 - Klub","CZ",2019,32,1106,0.91500000000000004,2847,2605,null,null,"ASW-15B WL","KS",""]
["Tomas Hlavacek",1984,"M","Mladá Boleslav","CZ/C1","AZ Cup 2019 - Klub","CZ",2019,33,954,0.91500000000000004,2429,2223,"x",null,"Std. Cirrus","FU",""]
["Dalibor Pek",1968,"M","Raná","CZ/C2","AZ Cup 2019 - Klub","CZ",2019,34,902,0.91500000000000004,2232,2042,null,null,"Std. Cirrus","A1",""]
["Lukas Kotek",1994,"M","Frýdlant","CZ/M","AZ Cup 2019 - Klub","CZ",2019,35,808,{"$f":"VLOOKUP(F488,Soutez,12,0)","v":0.91500000000000004},1942,1777,null,null,"DG-200","AK",{"$f":"IF(ISERROR(VLOOKUP(A488,Pilot,6,0)),\"Není v databázi\",VLOOKUP(A488,Pilot,6,0))","v":""}]
["Pavel Svrcek",1972,"M","Frýdlant","CZ/M","AZ Cup 2019 - Klub","CZ",2019,36,508,0.91500000000000004,1199,1097,"x",null,"LS 3a 15m","TX",""]
["Jan Mittner",1986,"M","Zbraslavice","CZ/C1","AZ Cup 2019 - Klub","CZ",2019,37,415,0.91500000000000004,912,834,"x",null,"DG-101G","RR",""]
["Ondrej Dupal",1966,"M","GAC Benešov","CZ/C1","AZ Cup 2019 - Kombi","CZ",2019,1,3505,0.93500000000000005,{"$f":"ROUND(J491/MAX($J$491:$J$520)*10000*0.7+(MAX($I$491:$I$520)-I491)/(MAX($I$491:$I$520)-1)*10000*0.3,0)","v":10000},{"$f":"ROUND(K491*L491,0)","v":9350},null,null,"ASG 29E 18m","GO",""]
["Tomas Suchanek",1964,"M","GAC Benešov","CZ/C1","AZ Cup 2019 - Kombi","CZ",2019,2,3446,0.93500000000000005,{"$f":"ROUND(J492/MAX($J$491:$J$520)*10000*0.7+(MAX($I$491:$I$520)-I492)/(MAX($I$491:$I$520)-1)*10000*0.3,0)","v":9779},9143,null,null,"Ventus c 17.6m","UP",""]
["Alena Netusilova",1970,"F","Zbraslavice","CZ/C1","AZ Cup 2019 - Kombi","CZ",2019,3,3335,0.93500000000000005,9454,8839,null,null,"JS1-18m","JX",""]
["Radek Kucirek",1973,"M","Havlíčkův Brod","CZ/C2","AZ Cup 2019 - Kombi","CZ",2019,4,3303,0.93500000000000005,9286,8682,null,null,"EB 28 edition 28.3m","NA",""]
["Petr Koutny",1971,"M","Křižanov","CZ/M","AZ Cup 2019 - Kombi","CZ",2019,5,3268,0.93500000000000005,9113,8521,null,null,"LS-8-18 18m","SK",""]
["Martin Hrivna",1978,"M","Zbraslavice","CZ/C1","AZ Cup 2019 - Kombi","CZ",2019,6,3191,0.93500000000000005,8856,8280,"x",null,"ASG 29E 18m","NX",""]
["Tomas Rendla",1973,"M","Zbraslavice","CZ/C1","AZ Cup 2019 - Kombi","CZ",2019,7,3083,0.93500000000000005,8537,7982,null,null,"Arcus M","EY",""]
["Lenka Kuthanova",1960,"F","Tábor","CZ/C1","AZ Cup 2019 - Kombi","CZ",2019,8,3033,0.93500000000000005,8333,7791,"x","x","JS1-18m","LX",""]
["Jan Boruvka",1984,"M","Jičín","CZ/C2","AZ Cup 2019 - Kombi","CZ",2019,9,3019,0.93500000000000005,8202,7669,null,null,"Ventus c 17.6m","EG",""]
["Petr Starek",1974,"M","Zbraslavice","CZ/C1","AZ Cup 2019 - Kombi","CZ",2019,10,2959,0.93500000000000005,7979,7460,"x",null,"HPH 304 SJ 18m 573kg",66,""]
["Martin Vnoucek",1972,"M","Vlašim","CZ/C1","AZ Cup 2019 - Kombi","CZ",2019,11,2940,0.93500000000000005,7837,7328,"x",null,"ASG 29E 18m","QX",""]
["Jaromir Jedlicka",1972,"M","Letňany","CZ/C1","AZ Cup 2019 - Kombi","CZ",2019,12,2804,0.93500000000000005,7462,6977,"x",null,"Hph 304MS 18m 600kg","TJ",""]
["Jan Dersak 69",1969,"M","Kralupy","CZ/C1","AZ Cup 2019 - Kombi","CZ",2019,13,2495,0.93500000000000005,6742,6304,null,null,"HPH 304 SJ 18m 573kg","DJ",""]
["Karel Krobath",null,"M","SFC Tulln","AT","AZ Cup 2019 - Kombi","CZ",2019,14,2472,0.93500000000000005,6592,6164,null,null,"Hph 304MS 18m 600kg","Q","Není v databázi"]
["Jan Zapletal",{"$f":"VLOOKUP(A505,Pilot,2,0)","v":1997},{"$f":"VLOOKUP(A505,Pilot,5,0)","v":"M"},{"$f":"VLOOKUP(A505,Pilot,3,0)","v":"Břeclav"},{"$f":"VLOOKUP(A505,Pilot,4,0)","v":"CZ/M"},"AZ Cup 2019 - Kombi","CZ",2019,15,2451,0.93500000000000005,6447,6028,null,null,"LS-8-18 15m","JS","Junior v roce 2022"]
["Jan Viskot",1995,"M","Břeclav","CZ/M","AZ Cup 2019 - Kombi","CZ",2019,16,2312,0.93500000000000005,6066,5672,null,null,"Discus 2a","GX",""]
["Karel Benisek 76",1976,"M","Toužim","CZ/C1","AZ Cup 2019 - Kombi","CZ",2019,17,2176,0.93500000000000005,5691,5321,null,null,"Ventus ct 17.6m","KB",""]
["Jan Horak",1971,"M","Zbraslavice","CZ/C1","AZ Cup 2019 - Kombi","CZ",2019,18,2173,0.93500000000000005,5581,5218,null,null,"ASW-20A WL","WX",""]
["Petr Jiranek 63",1962,"M","Toužim","CZ/C1","AZ Cup 2019 - Kombi","CZ",2019,19,2087,0.93500000000000005,5306,4961,"x",null,"Ventus ct 17.6m","EB",""]
["Ivo Burda",1962,"M","Zbraslavice","CZ/C1","AZ Cup 2019 - Kombi","CZ",2019,20,1837,0.93500000000000005,4703,4397,"x",null,"Ventus 2cxm 18m 565kg","IB",""]
["Jiri Pelucha",1984,"M","Frýdlant","CZ/M","AZ Cup 2019 - Kombi","CZ",2019,21,1721,0.93500000000000005,4368,4084,null,null,"Duo Discus 700kg",777,""]
["Dusan Bernat",null,"M","LSV Kreis Pinneberg","DE","AZ Cup 2019 - Kombi","CZ",2019,22,1715,0.93500000000000005,4253,3977,null,null,"Ventus c 17.6m","AD","Není v databázi"]
["David Zapletal",{"$f":"VLOOKUP(A513,Pilot,2,0)","v":1970},{"$f":"VLOOKUP(A513,Pilot,5,0)","v":"M"},{"$f":"VLOOKUP(A513,Pilot,3,0)","v":"Mladá Boleslav"},{"$f":"VLOOKUP(A513,Pilot,4,0)","v":"CZ/C1"},"AZ Cup 2019 - Kombi","CZ",2019,23,1683,0.93500000000000005,4085,3819,null,null,"Ventus c 17.6m","PUP",""]
["Karl Schiffleithner",null,"M","SFC Tulln","AT","AZ Cup 2019 - Kombi","CZ",2019,24,1624,0.93500000000000005,3864,3613,null,null,"Duo Discus T 700kg","MM","Není v databázi"]
["David Popovsky",{"$f":"VLOOKUP(A515,Pilot,2,0)","v":1976},{"$f":"VLOOKUP(A515,Pilot,5,0)","v":"M"},{"$f":"VLOOKUP(A515,Pilot,3,0)","v":"Rakovník"},{"$f":"VLOOKUP(A515,Pilot,4,0)","v":"CZ/C1"},"AZ Cup 2019 - Kombi","CZ",2019,25,1352,0.93500000000000005,3217,3008,"x",null,"Ventus b 16.6m WL","JET",""]
["Vaclav Svoboda",{"$f":"VLOOKUP(A516,Pilot,2,0)","v":1970},{"$f":"VLOOKUP(A516,Pilot,5,0)","v":"M"},{"$f":"VLOOKUP(A516,Pilot,3,0)","v":"Letkov"},{"$f":"VLOOKUP(A516,Pilot,4,0)","v":"CZ/C1"},"AZ Cup 2019 - Kombi","CZ",2019,26,1249,0.93500000000000005,2908,2719,null,null,"LS-8-18 18m",301,""]
["Roman Lanzendorf",{"$f":"VLOOKUP(A517,Pilot,2,0)","v":1964},{"$f":"VLOOKUP(A517,Pilot,5,0)","v":"M"},{"$f":"VLOOKUP(A517,Pilot,3,0)","v":"Letkov"},{"$f":"VLOOKUP(A517,Pilot,4,0)","v":"CZ/C1"},"AZ Cup 2019 - Kombi","CZ",2019,27,1235,0.93500000000000005,2777,2596,null,null,"Ventus ct 17.6m","AW",""]
["Petr Bartak",{"$f":"VLOOKUP(A518,Pilot,2,0)","v":1984},{"$f":"VLOOKUP(A518,Pilot,5,0)","v":"M"},{"$f":"VLOOKUP(A518,Pilot,3,0)","v":"Letkov"},{"$f":"VLOOKUP(A518,Pilot,4,0)","v":"CZ/C1"},"AZ Cup 2019 - Kombi","CZ",2019,28,1203,0.93500000000000005,2609,2439,null,null,"LS-6c 18m WL","BL",""]
["Milan Lojdl",null,"M","Martin","SK","AZ Cup 2019 - Kombi","CZ",2019,29,1065,0.93500000000000005,{"$f":"ROUND(J519/MAX($J$491:$J$520)*10000*0.7+(MAX($I$491:$I$520)-I519)/(MAX($I$491:$I$520)-1)*10000*0.3,0)","v":2230},2085,null,null,"Ventus 2cx","MJ1","Není v databázi"]
["Lubomir Doupal",{"$f":"VLOOKUP(A520,Pilot,2,0)","v":1975},{"$f":"VLOOKUP(A520,Pilot,5,0)","v":"M"},{"$f":"VLOOKUP(A520,Pilot,3,0)","v":"Kroměříž"},{"$f":"VLOOKUP(A520,Pilot,4,0)","v":"CZ/M"},"AZ Cup 2019 - Kombi","CZ",2019,30,437,0.93500000000000005,873,816,null,null,"LS-8-18 18m","YF",""]
["Tom Arscott",null,null,"Lasham Gliding Society",null,"FCC 2019 - Klub","SK",2019,1,3594,0.96500000000000008,{"$f":"ROUND(J521/MAX($J$521:$J$559)*10000*0.7+(MAX($I$521:$I$559)-I521)/(MAX($I$521:$I$559)-1)*10000*0.3,0)","v":10000},9650,null,null,"LS 7 WL",768,"Není v databázi"]
["Gerrard Dale",null,null,"Lasham and Omarama Gliding Club",null,"FCC 2019 - Klub","SK",2019,2,3587,0.96500000000000008,{"$f":"ROUND(J522/MAX($J$521:$J$559)*10000*0.7+(MAX($I$521:$I$559)-I522)/(MAX($I$521:$I$559)-1)*10000*0.3,0)","v":9907},9560,null,null,"ASW-24(\"A\") WL","E2","Není v databázi"]
["Uwe Wahlig",null,null,"Segelfluggruppe Bensheim e.V.",null,"FCC 2019 - Klub","SK",2019,3,3422,0.96500000000000008,9507,9174,null,null,"lLS-3 /15 M WL","SN","Není v databázi"]
["Arkadiusz Downar",null,null,null,null,"FCC 2019 - Klub","SK",2019,4,3299,0.96500000000000008,9189,8867,null,null,"Pegase C101 a","EMi","Není v databázi"]
["Tim Milner",null,null,"Wolds gliding Club",null,"FCC 2019 - Klub","SK",2019,5,3135,0.96500000000000008,8790,8482,null,null,"LS-3 /15m","LS5","Není v databázi"]
["Jaroslav Tomana",{"$f":"VLOOKUP(A526,Pilot,2,0)","v":1975},{"$f":"VLOOKUP(A526,Pilot,5,0)","v":"M"},{"$f":"VLOOKUP(A526,Pilot,3,0)","v":"Zbraslavice"},{"$f":"VLOOKUP(A526,Pilot,4,0)","v":"CZ/C1"},"FCC 2019 - Klub","SK",2019,6,3009,0.96500000000000008,8466,8170,null,null,"Pegase 101.BC-W","RT",""]
["Boris Zorz",null,null,"Lesce",null,"FCC 2019 - Klub","SK",2019,7,3008,0.96500000000000008,8385,8092,null,null,"Std. Cirrus WL","IPF","Není v databázi"]
["Lubomir Motl",{"$f":"VLOOKUP(A528,Pilot,2,0)","v":1959},{"$f":"VLOOKUP(A528,Pilot,5,0)","v":"M"},{"$f":"VLOOKUP(A528,Pilot,3,0)","v":"Kyjov"},{"$f":"VLOOKUP(A528,Pilot,4,0)","v":"CZ/M"},"FCC 2019 - Klub","SK",2019,8,2978,0.96500000000000008,8248,7959,null,null,"LS-1f","G2",""]
["Ivan Novak",{"$f":"VLOOKUP(A529,Pilot,2,0)","v":1962},{"$f":"VLOOKUP(A529,Pilot,5,0)","v":"M"},{"$f":"VLOOKUP(A529,Pilot,3,0)","v":"Mladá Boleslav"},{"$f":"VLOOKUP(A529,Pilot,4,0)","v":"CZ/C1"},"FCC 2019 - Klub","SK",2019,9,2943,0.96500000000000008,8100,7817,null,null,"LS 4","IX",""]
["Nico Le Roux",null,null,"Cape Gliding Club",null,"FCC 2019 - Klub","SK",2019,10,2889,0.96500000000000008,7916,7639,null,null,"Libelle H201","YI","Není v databázi"]
["Adam Woolley",null,null,"Kingaroy",null,"FCC 2019 - Klub","SK",2019,11,2821,0.96500000000000008,7705,7435,null,null,"Std. Cirrus","XII","Není v databázi"]
["Joanna Biedermann",null,null,"Aeroclub Nadwislanski",null,"FCC 2019 - Klub","SK",2019,12,2731,0.96500000000000008,7451,7190,null,null,"LS-4","OG","Není v databázi"]
["Marek Sawczuk",null,null,"Aeroklub Warszawski",null,"FCC 2019 - Klub","SK",2019,13,2714,0.96500000000000008,7339,7082,null,null,"ASW-20F","SB","Není v databázi"]
["Ferenc Tamas",null,null,"Szeged Aero Club (DAC-1930)",null,"FCC 2019 - Klub","SK",2019,14,2648,0.96500000000000008,7131,6881,null,null,"LS 3/15","1A","Není v databázi"]
["Sergey Serov",null,null,"Usman",null,"FCC 2019 - Klub","SK",2019,15,2539,0.96500000000000008,6840,6601,null,null,"Std. Cirrus","AM","Není v databázi"]
["Oliver Sven",null,null,"Cape Gliding Club",null,"FCC 2019 - Klub","SK",2019,16,2518,0.96500000000000008,6720,6485,null,null,"Std. Cirrus","UY","Není v databázi"]
["Lumir Motyka",{"$f":"VLOOKUP(A537,Pilot,2,0)","v":1955},{"$f":"VLOOKUP(A537,Pilot,5,0)","v":"M"},{"$f":"VLOOKUP(A537,Pilot,3,0)","v":"Frýdlant"},{"$f":"VLOOKUP(A537,Pilot,4,0)","v":"CZ/M"},"FCC 2019 - Klub","SK",2019,17,2420,0.96500000000000008,6450,6224,null,null,"LS-1f","EM",""]
["Stanislaw Biela",null,null,"Nowy Targ",null,"FCC 2019 - Klub","SK",2019,18,2324,0.96500000000000008,6184,5968,null,null,"SZD 55-1","BS","Není v databázi"]
["Miroslaw Izydorczak",null,null,"Warszawa",null,"FCC 2019 - Klub","SK",2019,19,2275,0.96500000000000008,6010,5800,null,null,"LIBELLE STD H 201 B",4040,"Není v databázi"]
["Slavomir Piskaty 84",{"$f":"VLOOKUP(A540,Pilot,2,0)","v":1984},{"$f":"VLOOKUP(A540,Pilot,5,0)","v":"M"},{"$f":"VLOOKUP(A540,Pilot,3,0)","v":"Kunovice"},{"$f":"VLOOKUP(A540,Pilot,4,0)","v":"CZ/M"},"FCC 2019 - Klub","SK",2019,20,2262,0.96500000000000008,{"$f":"ROUND(J540/MAX($J$521:$J$559)*10000*0.7+(MAX($I$521:$I$559)-I540)/(MAX($I$521:$I$559)-1)*10000*0.3,0)","v":5906},5699,null,null,"Std. Cirrus","PIF",""]
["Arturas Pilvinis",null,null,"Telsiu",null,"FCC 2019 - Klub","SK",2019,21,2238,0.96500000000000008,5780,5578,null,null,"SZD-55 Promyk","AP","Není v databázi"]
["Murati & Gonczi",null,null,null,null,"FCC 2019 - Klub","SK",2019,22,2185,0.96500000000000008,5598,5402,null,null,"Janus C (FG)","DD","Není v databázi"]
["Kamil Wojcik",null,null,"Wroclawek",null,"FCC 2019 - Klub","SK",2019,23,2165,0.96500000000000008,5480,5288,null,null,"LS-4","WW","Není v databázi"]
["Marek Herbreder",null,null,"Szcecin",null,"FCC 2019 - Klub","SK",2019,24,2041,0.96500000000000008,5159,4978,null,null,"SZD-55 Promyk","TK","Není v databázi"]
["Wojciech Izdebski",null,null,"Gdansk",null,"FCC 2019 - Klub","SK",2019,25,1911,0.96500000000000008,4827,4658,null,null,"DG 101G","G1","Není v databázi"]
["Arkadiusz Bajura",null,null,"Czestochowa",null,"FCC 2019 - Klub","SK",2019,26,1892,0.96500000000000008,4711,4546,null,null,"Mini-Nimbus c","CC","Není v databázi"]
["Konrad Jaczkowski",null,null,"Częstochowski",null,"FCC 2019 - Klub","SK",2019,27,1879,0.96500000000000008,4607,4446,null,null,"Discus b WL","VE","Není v databázi"]
["Alexey Kucherov",null,null,"Shevlino",null,"FCC 2019 - Klub","SK",2019,28,1761,0.96500000000000008,4298,4148,null,null,"ASW 20","EW","Není v databázi"]
["Rafal Siankowski",null,null,"Radomski",null,"FCC 2019 - Klub","SK",2019,29,1737,0.96500000000000008,4173,4027,null,null,"SZD-48 Jantar std. 3","AA","Není v databázi"]
["Dani Zaninovic",null,null,"Split",null,"FCC 2019 - Klub","SK",2019,30,1695,0.96500000000000008,4012,3872,null,null,"ASW-24(\"A\") WL","HR3","Není v databázi"]
["Marek Bialy",null,null,"Radom",null,"FCC 2019 - Klub","SK",2019,31,1678,0.96500000000000008,3900,3764,null,null,"SZD-48 Jantar std. 3","W2","Není v databázi"]
["Marius Rachwal",null,null,"Ziemi Zamojskiej",null,"FCC 2019 - Klub","SK",2019,32,1547,{"$f":"VLOOKUP(F552,Soutez,12,0)","v":0.96500000000000008},3566,3441,null,null,"SZD-48 Jantar std. 3","VI",{"$f":"IF(ISERROR(VLOOKUP(A552,Pilot,6,0)),\"Není v databázi\",VLOOKUP(A552,Pilot,6,0))","v":"Není v databázi"}]
["Andrzej Szczerba",null,null,"Leszcznski",null,"FCC 2019 - Klub","SK",2019,33,1460,0.96500000000000008,3317,3201,null,null,"SZD-48 Jantar std. 2","MZ","Není v databázi"]
["Aleksandar Diklic",null,null,"Zrenjanin",null,"FCC 2019 - Klub","SK",2019,34,1303,0.96500000000000008,2933,2830,null,null,"DG-100",30,"Není v databázi"]
["Agata Kaszczuk",null,null,"Wrocław",null,"FCC 2019 - Klub","SK",2019,35,1168,0.96500000000000008,2591,{"$f":"ROUND(K555*L555,0)","v":2500},null,null,"LS-1f","MR","Není v databázi"]
["Juraj Sidor",null,null,"AK Holic",null,"FCC 2019 - Klub","SK",2019,36,1029,0.96500000000000008,2241,2163,null,null,"Std. Cirrus","NM","Není v databázi"]
["Frane Franic",null,null,"Vitar",null,"FCC 2019 - Klub","SK",2019,37,995,0.96500000000000008,2096,2023,null,null,"Jantar STD 3","HR1","Není v databázi"]
["Neil McLaughlin",null,null,"Lasham, UK",null,"FCC 2019 - Klub","SK",2019,38,872,0.96500000000000008,1777,1715,null,null,"Mini-Nimbus",2,"Není v databázi"]
["Jerzy Mikolajczyk",null,null,"AZM Plock",null,"FCC 2019 - Klub","SK",2019,39,742,0.96500000000000008,1445,1394,null,null,"LS-4","YL","Není v databázi"]
["Poul Kim Larsen",null,null,"Midtsjallands Svaveflyveklub",null,"FCC 2019 - Kombi 15m","SK",2019,1,3137,0.98,{"$f":"ROUND(J560/MAX($J$560:$J$597)*10000*0.7+(MAX($I$560:$I$597)-I560)/(MAX($I$560:$I$597)-1)*10000*0.3,0)","v":10000},9800,null,null,"Discus 2a","D2","Není v databázi"]
["Miloslav Cink",{"$f":"VLOOKUP(A561,Pilot,2,0)","v":1987},{"$f":"VLOOKUP(A561,Pilot,5,0)","v":"M"},{"$f":"VLOOKUP(A561,Pilot,3,0)","v":"Letkov"},{"$f":"VLOOKUP(A561,Pilot,4,0)","v":"CZ/C1"},"FCC 2019 - Kombi 15m","SK",2019,2,3035,0.98,{"$f":"ROUND(J561/MAX($J$560:$J$597)*10000*0.7+(MAX($I$560:$I$597)-I561)/(MAX($I$560:$I$597)-1)*10000*0.3,0)","v":9691},9497,null,null,"LS-8b","JB",""]
["Jacek Flis",null,null,"Ziemi Zamojskiej / KKGT",null,"FCC 2019 - Kombi 15m","SK",2019,3,3028,0.98,9595,9403,null,null,"Discus 2a","Y","Není v databázi"]
["Marius Pluscauskas",null,null,"Vilnius aeroclub",null,"FCC 2019 - Kombi 15m","SK",2019,4,2903,0.98,9235,9050,null,null,"Ventus 2 ax","XY","Není v databázi"]
["Jana Veprekova",{"$f":"VLOOKUP(A564,Pilot,2,0)","v":1961},{"$f":"VLOOKUP(A564,Pilot,5,0)","v":"F"},{"$f":"VLOOKUP(A564,Pilot,3,0)","v":"Dvůr Králové"},{"$f":"VLOOKUP(A564,Pilot,4,0)","v":"CZ/C2"},"FCC 2019 - Kombi 15m","SK",2019,5,2879,0.98,9100,8918,"x","x","LS 8","W8",""]
["Jiri Kusbach",{"$f":"VLOOKUP(A565,Pilot,2,0)","v":1959},{"$f":"VLOOKUP(A565,Pilot,5,0)","v":"M"},{"$f":"VLOOKUP(A565,Pilot,3,0)","v":"Luhačovice"},{"$f":"VLOOKUP(A565,Pilot,4,0)","v":"CZ/M"},"FCC 2019 - Kombi 15m","SK",2019,6,2829,0.98,8907,8729,null,null,"KKB 15E-FES","B",""]
["Pavel Louzecky",{"$f":"VLOOKUP(A566,Pilot,2,0)","v":1957},{"$f":"VLOOKUP(A566,Pilot,5,0)","v":"M"},{"$f":"VLOOKUP(A566,Pilot,3,0)","v":"Přibyslav"},{"$f":"VLOOKUP(A566,Pilot,4,0)","v":"CZ/C2"},"FCC 2019 - Kombi 15m","SK",2019,7,2797,0.98,8755,8580,null,null,"LS-8","FX",""]
["Zdun & RAWECKI",null,null,null,null,"FCC 2019 - Kombi 15m","SK",2019,8,2794,0.98,8667,8494,null,null,"Duo Discus XL","POL","Není v databázi"]
["Slavomir Valecko",{"$f":"VLOOKUP(A568,Pilot,2,0)","v":1960},{"$f":"VLOOKUP(A568,Pilot,5,0)","v":"M"},{"$f":"VLOOKUP(A568,Pilot,3,0)","v":"Hranice"},{"$f":"VLOOKUP(A568,Pilot,4,0)","v":"CZ/M"},"FCC 2019 - Kombi 15m","SK",2019,9,2787,0.98,8570,8399,"x",null,"Discus CS","IYB",""]
["Dana Novakova",{"$f":"VLOOKUP(A569,Pilot,2,0)","v":1965},{"$f":"VLOOKUP(A569,Pilot,5,0)","v":"F"},{"$f":"VLOOKUP(A569,Pilot,3,0)","v":"Mladá Boleslav"},{"$f":"VLOOKUP(A569,Pilot,4,0)","v":"CZ/C1"},"FCC 2019 - Kombi 15m","SK",2019,10,2767,0.98,8445,8276,null,null,"LS-8","AU",""]
["Lukasz Grabowski",null,null,"Aeroklub Wloclawski",null,"FCC 2019 - Kombi 15m","SK",2019,11,2695,0.98,8203,8039,null,null,"SZD-56-2 Diana-2","RP","Není v databázi"]
["Zoltan Hamar",null,null,"Vario SE",null,"FCC 2019 - Kombi 15m","SK",2019,12,2681,0.98,8091,7929,null,null,"Ventus 2xa 15m","5A","Není v databázi"]
["Maros Divok",null,null,"SNV",null,"FCC 2019 - Kombi 15m","SK",2019,13,2678,0.98,8003,7843,null,null,"Discus 2b","DI","Není v databázi"]
["Filip Bojanowski",null,null,"ØSF",null,"FCC 2019 - Kombi 15m","SK",2019,14,2625,0.98,7803,7647,null,null,"Discus 2a","AX","Není v databázi"]
["Pavel Trojan",{"$f":"VLOOKUP(A574,Pilot,2,0)","v":1960},{"$f":"VLOOKUP(A574,Pilot,5,0)","v":"M"},{"$f":"VLOOKUP(A574,Pilot,3,0)","v":"Chrudim"},{"$f":"VLOOKUP(A574,Pilot,4,0)","v":"CZ/C2"},"FCC 2019 - Kombi 15m","SK",2019,15,2610,0.98,7689,7535,"x",null,"Duo Discus T (700kg)","ZS",""]
["Joris Vainius",null,null,"Vilnius",null,"FCC 2019 - Kombi 15m","SK",2019,16,2579,0.98,7539,7388,null,null,"ASG 29","M7","Není v databázi"]
["Oliver Springer",null,null,"Luftsportverein Oldenburg-Bad Zwischenahn e.V.",null,"FCC 2019 - Kombi 15m","SK",2019,17,2527,0.98,7342,7195,null,null,"ASG 29 Es","OS","Není v databázi"]
["Ondrej Bordovsky",{"$f":"VLOOKUP(A577,Pilot,2,0)","v":1983},{"$f":"VLOOKUP(A577,Pilot,5,0)","v":"M"},{"$f":"VLOOKUP(A577,Pilot,3,0)","v":"Krnov"},{"$f":"VLOOKUP(A577,Pilot,4,0)","v":"CZ/M"},"FCC 2019 - Kombi 15m","SK",2019,18,2511,0.98,7225,7081,null,null,"VENTUS 2AX","AXi",""]
["Alex Pop",null,null,"Romanian Airclub",null,"FCC 2019 - Kombi 15m","SK",2019,19,2406,0.98,6909,6771,null,null,"Discus 2a /15m","YB","Není v databázi"]
["Dariusz Czech",null,null,"Stalowowolski",null,"FCC 2019 - Kombi 15m","SK",2019,20,2356,0.98,6717,6583,null,null,"LAK 19 15m","DC","Není v databázi"]
["Jana Treslova",{"$f":"VLOOKUP(A580,Pilot,2,0)","v":1963},{"$f":"VLOOKUP(A580,Pilot,5,0)","v":"F"},{"$f":"VLOOKUP(A580,Pilot,3,0)","v":"Raná"},{"$f":"VLOOKUP(A580,Pilot,4,0)","v":"CZ/C2"},"FCC 2019 - Kombi 15m","SK",2019,21,2320,0.98,6555,6424,null,null,"Ventus bT15m","VT",""]
["Radek Krejcirik",{"$f":"VLOOKUP(A581,Pilot,2,0)","v":1991},{"$f":"VLOOKUP(A581,Pilot,5,0)","v":"M"},{"$f":"VLOOKUP(A581,Pilot,3,0)","v":"Hranice"},{"$f":"VLOOKUP(A581,Pilot,4,0)","v":"CZ/M"},"FCC 2019 - Kombi 15m","SK",2019,22,2277,0.98,6378,6250,null,null,"ASG 29E 15m 525kg","QZ",""]
["Simon Brown",null,null,"Lasham",null,"FCC 2019 - Kombi 15m","SK",2019,23,2245,0.98,6226,6101,null,null,"LS-8 15 m","Bi","Není v databázi"]
["Petr Carter",null,null,"Lasham",null,"FCC 2019 - Kombi 15m","SK",2019,24,2179,0.98,5997,5877,null,null,"LS-8 15 m",95,"Není v databázi"]
["Dawid Pretorius",null,null,"Cape Gliding Club",null,"FCC 2019 - Kombi 15m","SK",2019,25,2143,0.98,5836,5719,null,null,"LS-8","VZ","Není v databázi"]
["Lukasz Blaszczyk",null,null,"Ostrow",null,"FCC 2019 - Kombi 15m","SK",2019,26,2121,0.98,5706,5592,null,null,"Discus 2a","I","Není v databázi"]
["Piotr Jarysz",null,null,"Aeroklub Koninski",null,"FCC 2019 - Kombi 15m","SK",2019,27,2070,0.98,5511,5401,null,null,"Ls-6","BB","Není v databázi"]
["Hana Treslova",{"$f":"VLOOKUP(A587,Pilot,2,0)","v":1991},{"$f":"VLOOKUP(A587,Pilot,5,0)","v":"F"},{"$f":"VLOOKUP(A587,Pilot,3,0)","v":"Raná"},{"$f":"VLOOKUP(A587,Pilot,4,0)","v":"CZ/C2"},"FCC 2019 - Kombi 15m","SK",2019,28,1898,0.98,5046,4945,null,null,"LS 8a","EU",""]
["Dimitry Timoshenko",null,null,"Shevlino",null,"FCC 2019 - Kombi 15m","SK",2019,29,1887,0.98,4940,4841,null,null,"Discus 2a","DT","Není v databázi"]
["Oldrich Bartonik",{"$f":"VLOOKUP(A589,Pilot,2,0)","v":1961},{"$f":"VLOOKUP(A589,Pilot,5,0)","v":"M"},{"$f":"VLOOKUP(A589,Pilot,3,0)","v":"Luhačovice"},{"$f":"VLOOKUP(A589,Pilot,4,0)","v":"CZ/M"},"FCC 2019 - Kombi 15m","SK",2019,30,1835,0.98,4743,4648,"x",null,"KKB 15","N1",""]
["Aldo CERNEZZI",null,null,"ACAO Varese",null,"FCC 2019 - Kombi 15m","SK",2019,31,1596,0.98,4129,4046,null,null,"DG-600M 15m WL","DW","Není v databázi"]
["Judyta Czyż",null,null,"Bielsko Bialski",null,"FCC 2019 - Kombi 15m","SK",2019,32,1426,0.98,3669,3596,null,null,"LS-8 15 m","LOT","Není v databázi"]
["Iakov Shrage",null,null,"Neboshevlino",null,"FCC 2019 - Kombi 15m","SK",2019,33,777,0.98,2139,2096,null,null,"LS 8T","TC","Není v databázi"]
["Guido Dalla Rosa Prati",null,null,"Parma",null,"FCC 2019 - Kombi 15m","SK",2019,34,749,0.98,1996,1956,null,null,"LS-8 15 m","GG","Není v databázi"]
["Slavomir Piskaty 58",{"$f":"VLOOKUP(A594,Pilot,2,0)","v":1958},{"$f":"VLOOKUP(A594,Pilot,5,0)","v":"M"},{"$f":"VLOOKUP(A594,Pilot,3,0)","v":"Kunovice"},{"$f":"VLOOKUP(A594,Pilot,4,0)","v":"CZ/M"},"FCC 2019 - Kombi 15m","SK",2019,35,692,0.98,{"$f":"ROUND(J594/MAX($J$560:$J$597)*10000*0.7+(MAX($I$560:$I$597)-I594)/(MAX($I$560:$I$597)-1)*10000*0.3,0)","v":1787},1751,null,null,"Discus CS","KAL",""]
["Luca Urbani",null,null,"ACCVV Rieti",null,"FCC 2019 - Kombi 15m","SK",2019,36,655,0.98,1624,1592,null,null,"Discus 2a","LR","Není v databázi"]
["Jan Keher",null,null,"Prievidza",null,"FCC 2019 - Kombi 15m","SK",2019,37,498,0.98,1192,1168,null,null,"Discus CS","DR","Není v databázi"]
["Istvan Reti",null,null,"Alfoldi Repülőklub",null,"FCC 2019 - Kombi 15m","SK",2019,38,206,0.98,460,451,null,null,"Ventus 2a /15m","IR","Není v databázi"]
["Scarlat & Kessler",null,null,"Romanian Airclub",null,"FCC 2019 - Kombi Open","SK",2019,1,3384,0.93500000000000005,{"$f":"ROUND(J598/MAX($J$598:$J$624)*10000*0.7+(MAX($I$598:$I$624)-I598)/(MAX($I$598:$I$624)-1)*10000*0.3,0)","v":10000},9350,null,null,"Arcus M","V9","Není v databázi"]
["Danes Grula",{"$f":"VLOOKUP(A599,Pilot,2,0)","v":1961},{"$f":"VLOOKUP(A599,Pilot,5,0)","v":"M"},{"$f":"VLOOKUP(A599,Pilot,3,0)","v":"Medlánky"},{"$f":"VLOOKUP(A599,Pilot,4,0)","v":"CZ/M"},"FCC 2019 - Kombi Open","SK",2019,2,3303,0.93500000000000005,{"$f":"ROUND(J599/MAX($J$598:$J$624)*10000*0.7+(MAX($I$598:$I$624)-I599)/(MAX($I$598:$I$624)-1)*10000*0.3,0)","v":9717},9085,null,null,"ASG 29E 18m","DX",""]
["Andrzej Smielkiewicz",null,null,"Leszno",null,"FCC 2019 - Kombi Open","SK",2019,3,3249,0.93500000000000005,9490,8873,null,null,"ASG-29E /18m","A2","Není v databázi"]
["Tomasz Dul",null,null,"LSV Dinslaken",null,"FCC 2019 - Kombi Open","SK",2019,4,3236,0.93500000000000005,9348,8740,null,null,"ASG-29E /18m","DTi","Není v databázi"]
["Gintas Zube",null,null,"LT/KLAIPEDA",null,"FCC 2019 - Kombi Open","SK",2019,5,3093,0.93500000000000005,8937,8356,null,null,"ASG-29 /18m","AR","Není v databázi"]
["Vytautas Rasimavicius",null,null,"Pociunai",null,"FCC 2019 - Kombi Open","SK",2019,6,3004,0.93500000000000005,8637,8076,null,null,"JS1A-18","LRi","Není v databázi"]
["Pawel Frackowiak",null,null,"Aeroklub Poznanski",null,"FCC 2019 - Kombi Open","SK",2019,7,2949,0.93500000000000005,8408,7861,null,null,"LAK 17B FES /18m",77,"Není v databázi"]
["Petr Krejcirik",{"$f":"VLOOKUP(A605,Pilot,2,0)","v":1960},{"$f":"VLOOKUP(A605,Pilot,5,0)","v":"M"},{"$f":"VLOOKUP(A605,Pilot,3,0)","v":"Hranice"},{"$f":"VLOOKUP(A605,Pilot,4,0)","v":"CZ/M"},"FCC 2019 - Kombi Open","SK",2019,8,2778,0.93500000000000005,{"$f":"ROUND(J605/MAX($J$598:$J$624)*10000*0.7+(MAX($I$598:$I$624)-I605)/(MAX($I$598:$I$624)-1)*10000*0.3,0)","v":7939},7423,null,null,"JS MD Single","ZF",""]
["Jerzey Kolasinski",null,null,"Aeroklub Poznanski/KKGT",null,"FCC 2019 - Kombi Open","SK",2019,9,2699,0.93500000000000005,7660,7162,null,null,"JS1-CTJ 18 EVO",56,"Není v databázi"]
["Vitaliy Borovik",null,null,"Novosibirsk",null,"FCC 2019 - Kombi Open","SK",2019,10,2650,0.93500000000000005,7443,6959,null,null,"Nimbus-4M","VB","Není v databázi"]
["Adam Czeladzki",null,null,"Aeroklub Warszawski KKGT",null,"FCC 2019 - Kombi Open","SK",2019,11,2568,0.93500000000000005,7158,6693,null,null,"JS1-CTJ 18 m","GOL","Není v databázi"]
["Leszek Staryszak",null,null,"Warsaw",null,"FCC 2019 - Kombi Open","SK",2019,12,2482,0.93500000000000005,6865,6419,null,null,"ASG29E","BG","Není v databázi"]
["Lukas Benedikt",null,null,"Trnava",null,"FCC 2019 - Kombi Open","SK",2019,13,2453,0.93500000000000005,6690,6255,null,null,"Ventus 3F - 18m","LB","Není v databázi"]
["Zdislaw Bednarczuk",null,null,"Bielsko-Biala",null,"FCC 2019 - Kombi Open","SK",2019,14,2404,0.93500000000000005,6473,6052,null,null,"JS1-18 m EVO","B52","Není v databázi"]
["Jan Divok",null,null,"Aeroklub SNV",null,"FCC 2019 - Kombi Open","SK",2019,15,2301,0.93500000000000005,6144,5745,null,null,"Discus 2T /18m","DJ","Není v databázi"]
["Conrad Hartter",null,null,"FSV Tübingen",null,"FCC 2019 - Kombi Open","SK",2019,16,2262,0.93500000000000005,5948,5561,null,null,"JS1-C 21","OT","Není v databázi"]
["Thomas Bonsack",null,null,"LSV Oldenburg Bad Zwischenahn e.v",null,"FCC 2019 - Kombi Open","SK",2019,17,2198,0.93500000000000005,5701,5330,null,null,"ASG-29E /18m","KT","Není v databázi"]
["Herbert Pirker",null,null,"FAS-Wien",null,"FCC 2019 - Kombi Open","SK",2019,18,2182,0.93500000000000005,5552,5191,null,null,"ASG 29E 18m","MD","Není v databázi"]
["Laurens Goudriaan",null,null,"Cape Gliding Club",null,"FCC 2019 - Kombi Open","SK",2019,19,2167,{"$f":"VLOOKUP(F616,Soutez,12,0)","v":0.93500000000000005},5406,5055,null,null,"ASG 32 MI","LO",{"$f":"IF(ISERROR(VLOOKUP(A616,Pilot,6,0)),\"Není v databázi\",VLOOKUP(A616,Pilot,6,0))","v":"Není v databázi"}]
["Sickert & Weidlich",null,null,null,null,"FCC 2019 - Kombi Open","SK",2019,20,2139,0.93500000000000005,5232,4892,null,null,"Arcus T","YA","Není v databázi"]
["Klaus Kalmbach",null,null,"FSV Tuebingen e.V.",null,"FCC 2019 - Kombi Open","SK",2019,21,1866,0.93500000000000005,4552,4256,null,null,"JS3-18 m","CT","Není v databázi"]
["Michele Wolff",null,null,"Omarama Gliding Club",null,"FCC 2019 - Kombi Open","SK",2019,22,1455,0.93500000000000005,3587,{"$f":"ROUND(K619*L619,0)","v":3354},null,null,"Arcus M",4,"Není v databázi"]
["Luka Znidarsic",null,null,"AK Postojna",null,"FCC 2019 - Kombi Open","SK",2019,23,1282,0.93500000000000005,3113,2911,null,null,"Ventus 3F - 18m","LZ","Není v databázi"]
["Botond Szabadfi",null,null,"MALEV Aeroclub",null,"FCC 2019 - Kombi Open","SK",2019,24,1272,0.93500000000000005,2977,2783,null,null,"Arcus T","AB","Není v databázi"]
["Jan Paepke",null,null,"SFC Riesa-Canitz",null,"FCC 2019 - Kombi Open","SK",2019,25,1249,0.93500000000000005,2814,2631,null,null,"LAK 17 AT 18m","AKI","Není v databázi"]
["Arkadiusz Stefańczyk",null,null,"Aeroklub Kielecki",null,"FCC 2019 - Kombi Open","SK",2019,26,770,0.93500000000000005,1708,1597,null,null,"ASG-29E /18m","HE","Není v databázi"]
["Tomasz Chudoment",null,null,"Podhalanski",null,"FCC 2019 - Kombi Open","SK",2019,27,0,0.93500000000000005,0,0,null,null,"JS3","JS3","Není v databázi"]
["Jaroslav Buryan",{"$f":"VLOOKUP(A625,Pilot,2,0)","v":1953},{"$f":"VLOOKUP(A625,Pilot,5,0)","v":"M"},{"$f":"VLOOKUP(A625,Pilot,3,0)","v":"Zábřeh"},{"$f":"VLOOKUP(A625,Pilot,4,0)","v":"CZ/M"},"FL 2019 - Kombi","CZ",2019,1,3387,0.76500000000000001,{"$f":"ROUND(J625/MAX($J$625:$J$638)*10000*0.7+(MAX($I$625:$I$638)-I625)/(MAX($I$625:$I$638)-1)*10000*0.3,0)","v":10000},7650,"x",null,"ASW 20","NS",""]
["Milos Matejka",1956,"M","Beroun","CZ/C1","FL 2019 - Kombi","CZ",2019,2,3309,0.76500000000000001,{"$f":"ROUND(J626/MAX($J$625:$J$638)*10000*0.7+(MAX($I$625:$I$638)-I626)/(MAX($I$625:$I$638)-1)*10000*0.3,0)","v":9608},7350,"x",null,"Discus bM","SH",""]
["Lumir Motyka",1955,"M","Frýdlant","CZ/M","FL 2019 - Kombi","CZ",2019,3,3246,0.76500000000000001,9247,7074,"x",null,"LAK 12","DE",""]
["Miroslav Koci",1961,"M","Žamberk","CZ/C2","FL 2019 - Kombi","CZ",2019,4,3168,0.76500000000000001,8855,6774,null,null,"Ventus 2c/18m","E8",""]
["Jiri Pelucha",1984,"M","Frýdlant","CZ/M","FL 2019 - Kombi","CZ",2019,5,3116,0.76500000000000001,8517,6516,"x",null,"Arcus M","FJ",""]
["Miroslav Sklenar",1964,"M","Žamberk","CZ/C2","FL 2019 - Kombi","CZ",2019,6,2884,0.76500000000000001,7807,5972,null,null,"Duo Discus T","VP",""]
["Matej Plch",1987,"M","Letkov","CZ/C1","FL 2019 - Kombi","CZ",2019,7,2758,0.76500000000000001,7315,5596,"x",null,"LS 8/18m","EJ",""]
["Frantisek Vancura",1966,"M","Hranice","CZ/M","FL 2019 - Kombi","CZ",2019,8,2715,0.76500000000000001,6996,5352,null,null,"Nimbus 3T/24.5m","A1",""]
["Zdenek Schenk",1972,"M","Hranice","CZ/M","FL 2019 - Kombi","CZ",2019,9,2713,0.76500000000000001,6761,5172,null,null,"Ventus cm 17.6m","ŠNeK",""]
["Jan Kristof",1962,"M","Frýdlant","CZ/M","FL 2019 - Kombi","CZ",2019,10,2137,0.76500000000000001,{"$f":"ROUND(J634/MAX($J$625:$J$638)*10000*0.7+(MAX($I$625:$I$638)-I634)/(MAX($I$625:$I$638)-1)*10000*0.3,0)","v":5340},4085,"x",null,"LS 3","TX",""]
["Martin Suchy",1969,"M","Hranice","CZ/M","FL 2019 - Kombi","CZ",2019,11,2078,0.76500000000000001,4987,3815,"x",null,"Duo Discus","OK",""]
["Roman Cerny",1971,"M","Hranice","CZ/M","FL 2019 - Kombi","CZ",2019,12,1610,0.76500000000000001,3789,2899,null,null,"LAK 17/18m","B2",""]
["Martin Urban",1971,"M","Frýdlant","CZ/M","FL 2019 - Kombi","CZ",2019,13,846,0.76500000000000001,1979,1514,null,null,"LS 3a","SJ",""]
["Vit Grossmann",1977,"M","Hranice","CZ/M","FL 2019 - Kombi","CZ",2019,14,117,0.76500000000000001,242,185,"x",null,"Ventus c 17,6m","FC",""]
["Karel Novak",1993,"M","Mladá Boleslav","CZ/C1","GGP MB 2019 - Klub GP","CZ",2019,1,45,0,{"$f":"ROUND((MAX($I$639:$I$648)-I639)/(MAX($I$639:$I$648)-1)*10000,0)","v":10000},0,null,null,"Std. Cirrus","DI",""]
["Michal Kratochvil",1984,"M","Slaný","CZ/C1","GGP MB 2019 - Klub GP","CZ",2019,2,31,0,{"$f":"ROUND((MAX($I$639:$I$648)-I640)/(MAX($I$639:$I$648)-1)*10000,0)","v":8571},0,null,null,"Std. Cirrus","BW",""]
["Jan Hruska",1988,"M","Tábor","CZ/C1","GGP MB 2019 - Klub GP","CZ",2019,3,24,0,7143,0,null,null,"ASW 15","LF",""]
["Jan Jindra",1981,"M","Roudnice","CZ/C2","GGP MB 2019 - Klub GP","CZ",2019,4,21,0,5714,0,null,null,"Std. Cirrus","FD",""]
["Jan Zahradka",1981,"M","Hodkovice","CZ/C2","GGP MB 2019 - Klub GP","CZ",2019,5,19,0,4286,0,null,null,"Std. Cirrus","AR",""]
["Katerina Vojtova",1983,"F","Slaný","CZ/C1","GGP MB 2019 - Klub GP","CZ",2019,6,18,0,2857,0,null,null,"Std. Cirrus","KAC",""]
["Linda Vasatova",1990,"F","Mladá Boleslav","CZ/C1","GGP MB 2019 - Klub GP","CZ",2019,7,16,0,1429,0,null,null,"ASW 19","OI",""]
["Jan Zezula",1979,"M","Letňany","CZ/C1","GGP MB 2019 - Klub GP","CZ",2019,8,7,0,0,0,null,null,"ASW 19","HD",""]
["Tomas Hlavacek",1984,"M","Mladá Boleslav","CZ/C1","GGP MB 2019 - Klub GP","CZ",2019,8,7,0,{"$f":"ROUND((MAX($I$639:$I$648)-I647)/(MAX($I$639:$I$648)-1)*10000,0)","v":0},0,null,null,"Std. Cirrus","FU",""]
["Zdenek Buben",1978,"M","Hodkovice","CZ/C2","GGP MB 2019 - Klub GP","CZ",2019,"HC",0,0,null,0,null,null,"ASW 15","B","","Nenastoupil do soutěže"]
["Martin Soucek",1975,"M","Mladá Boleslav","CZ/C1","GGP MB 2019 - Pohár MV - Kombi","CZ",2019,1,3644,0,{"$f":"ROUND(J649/MAX($J$649:$J$654)*10000*0.7+(MAX($I$649:$I$654)-I649)/(MAX($I$649:$I$654)-1)*10000*0.3,0)","v":10000},0,null,null,"DG 200/17","MS",""]
["Dana Novakova",1965,"F","Mladá Boleslav","CZ/C1","GGP MB 2019 - Pohár MV - Kombi","CZ",2019,2,3353,0,{"$f":"ROUND(J650/MAX($J$649:$J$654)*10000*0.7+(MAX($I$649:$I$654)-I650)/(MAX($I$649:$I$654)-1)*10000*0.3,0)","v":8841},0,null,null,"LS-8/15m","AU",""]
["Jan Smaha",1958,"M","Česká Lípa","CZ/C2","GGP MB 2019 - Pohár MV - Kombi","CZ",2019,3,3235,0,8014,0,null,null,"ASW 15B","CW",""]
["Ondrej Sindelar",1979,"M","Mladá Boleslav","CZ/C1","GGP MB 2019 - Pohár MV - Kombi","CZ",2019,4,3005,0,6973,0,null,null,"ASW 15 B","MB",""]
["Libor Kovarnik",1968,"M","Mladá Boleslav","CZ/C1","GGP MB 2019 - Pohár MV - Kombi","CZ",2019,5,1688,0,3843,0,null,null,"VSO-10","C3",""]
["Bedrich Honzicek",1972,"M","Letňany","CZ/C1","GGP MB 2019 - Pohár MV - Kombi","CZ",2019,6,1252,0,{"$f":"ROUND(J654/MAX($J$649:$J$654)*10000*0.7+(MAX($I$649:$I$654)-I654)/(MAX($I$649:$I$654)-1)*10000*0.3,0)","v":2405},0,null,null,"DG 200","RZ",""]
["Wolfgang Janowitsch",null,null,"FRA-Wr.Neustadt",null,"OSS 2019 - 18m","AT",2019,1,3803,0.91500000000000004,{"$f":"ROUND(J655/MAX($J$655:$J$673)*10000*0.7+(MAX($I$655:$I$673)-I655)/(MAX($I$655:$I$673)-1)*10000*0.3,0)","v":10000},9150,null,null,"Ventus 3T","WO","Není v databázi"]
["Michael Rass",null,null,"FC ST.JOHANN IN TIROL",null,"OSS 2019 - 18m","AT",2019,2,3685,0.91500000000000004,{"$f":"ROUND(J656/MAX($J$655:$J$673)*10000*0.7+(MAX($I$655:$I$673)-I656)/(MAX($I$655:$I$673)-1)*10000*0.3,0)","v":9616},8799,null,null,"ASG 29 ES","MR","Není v databázi"]
["Andreas Lutz",null,null,"SFC Ried",null,"OSS 2019 - 18m","AT",2019,3,3660,0.91500000000000004,9403,8604,null,null,"Ventus 3","A","Není v databázi"]
["Andreas Sandhöfner",null,null,"FSK Sturmvogel",null,"OSS 2019 - 18m","AT",2019,4,3574,0.91500000000000004,9078,8306,null,null,"ASG29 Es","AY","Není v databázi"]
["Martin Pirker",null,null,"FRA Wr. Neustadt",null,"OSS 2019 - 18m","AT",2019,5,3451,0.91500000000000004,8685,7947,null,null,"Ventus cM","PM","Není v databázi"]
["Heimo Demmerer",null,null,"SFC Mariazell",null,"OSS 2019 - 18m","AT",2019,6,3355,0.91500000000000004,8342,7633,null,null,"Ventus 2CM","OD","Není v databázi"]
["Werner Amann",null,null,"SFG-Hohenems",null,"OSS 2019 - 18m","AT",2019,7,3092,0.91500000000000004,7691,7037,null,null,"ASG 29","WG","Není v databázi"]
["Friedrich Hofinger",null,null,"SMBC Kirchdorf Micheldorf",null,"OSS 2019 - 18m","AT",2019,8,3091,0.91500000000000004,7523,6884,null,null,"Discus 2ct","KN","Není v databázi"]
["Joachim Krais",null,null,"FLG Blaubeuren",null,"OSS 2019 - 18m","AT",2019,9,2978,0.91500000000000004,7148,6540,null,null,"Ventus 2cxM","IKK","Není v databázi"]
["Reinhard Haggenmüller",null,null,"Fliegerclub St.Johann T.",null,"OSS 2019 - 18m","AT",2019,10,2946,0.91500000000000004,6923,6335,null,null,"ASG 29 E","RR","Není v databázi"]
["Kurt Sautter",null,null,"LSV Rossfeld",null,"OSS 2019 - 18m","AT",2019,11,2713,0.91500000000000004,6327,5789,null,null,"Ventus 2cxM","IKI","Není v databázi"]
["Erich Niedl",null,null,"USFC Tulln",null,"OSS 2019 - 18m","AT",2019,12,2544,0.91500000000000004,5849,5352,null,null,"Ventus 2cxT","CX","Není v databázi"]
["Karel Krobath",null,null,"SFC Tulln",null,"OSS 2019 - 18m","AT",2019,13,2495,0.91500000000000004,5592,5117,null,null,"HPH 304MS","Q","Není v databázi"]
["Bernhard Leitner",null,null,"ISV",null,"OSS 2019 - 18m","AT",2019,14,2490,0.91500000000000004,5417,4957,null,null,"Ventus 2cxM","LV","Není v databázi"]
["Ondrej Dupal",{"$f":"VLOOKUP(A669,Pilot,2,0)","v":1966},{"$f":"VLOOKUP(A669,Pilot,5,0)","v":"M"},{"$f":"VLOOKUP(A669,Pilot,3,0)","v":"GAC Benešov"},{"$f":"VLOOKUP(A669,Pilot,4,0)","v":"CZ/C1"},"OSS 2019 - 18m","AT",2019,15,2470,0.91500000000000004,{"$f":"ROUND(J669/MAX($J$655:$J$673)*10000*0.7+(MAX($I$655:$I$673)-I669)/(MAX($I$655:$I$673)-1)*10000*0.3,0)","v":5213},4770,null,null,"ASG29E","GO",""]
["Andreas Klugsberger",null,null,"SCMB Kirchdorf Micheldorf",null,"OSS 2019 - 18m","AT",2019,16,2461,0.91500000000000004,5030,4602,null,null,"ASH 26","HF","Není v databázi"]
["Daniel Feilmeier",null,null,null,null,"OSS 2019 - 18m","AT",2019,17,2344,0.91500000000000004,4648,4253,null,null,"Discus 2c FES","UL","Není v databázi"]
["Andrej Kolar",null,null,"ALC Lesce",null,"OSS 2019 - 18m","AT",2019,18,2328,0.91500000000000004,4452,4074,null,null,"Ventus 3M","WZ","Není v databázi"]
["Raoul Flicker",null,null,"SFC Tulln",null,"OSS 2019 - 18m","AT",2019,19,2232,0.91500000000000004,4108,3759,null,null,"Ventus 2cxT","IX","Není v databázi"]
["David Richter-Trummer",null,null,"SMBC Kirchdorf-Micheldorf",null,"OSS 2019 - Klub","AT",2019,1,3229,0.90500000000000003,{"$f":"ROUND(J674/MAX($J$674:$J$689)*10000*0.7+(MAX($I$674:$I$689)-I674)/(MAX($I$674:$I$689)-1)*10000*0.3,0)","v":10000},9050,null,null,"H301","RT","Není v databázi"]
["Paul Altrichter",null,null,"Union Fliegergruppe Waldveirtel",null,"OSS 2019 - Klub","AT",2019,2,3038,0.90500000000000003,{"$f":"ROUND(J675/MAX($J$674:$J$689)*10000*0.7+(MAX($I$674:$I$689)-I675)/(MAX($I$674:$I$689)-1)*10000*0.3,0)","v":9386},8494,null,null,"LS4","AX","Není v databázi"]
["Miguel Schwan",null,null,"SFC Tulln",null,"OSS 2019 - Klub","AT",2019,3,2970,0.90500000000000003,9039,8180,null,null,"LS4 WL","T5","Není v databázi"]
["Erich Hinterholzer",null,null,"FC St.Johann i.T.",null,"OSS 2019 - Klub","AT",2019,4,2928,0.90500000000000003,8747,7916,null,null,"ASW24 WL","LX","Není v databázi"]
["Jan Jagiello",null,null,"FSTO",null,"OSS 2019 - Klub","AT",2019,5,2907,0.90500000000000003,8502,7694,null,null,"Std. Libelle",25,"Není v databázi"]
["Helmut Köglbauer",null,null,"SFC-Ried",null,"OSS 2019 - Klub","AT",2019,6,2877,0.90500000000000003,8237,7454,null,null,"Std. Cirrus WL","4ME","Není v databázi"]
["Vinzenz Neuwirth",null,null,"FRA Wr. Neustadt",null,"OSS 2019 - Klub","AT",2019,7,2755,{"$f":"VLOOKUP(F680,Soutez,12,0)","v":0.90500000000000003},7772,7034,null,null,"LS7 WL","3O",{"$f":"IF(ISERROR(VLOOKUP(A680,Pilot,6,0)),\"Není v databázi\",VLOOKUP(A680,Pilot,6,0))","v":"Není v databázi"}]
["Gerald Moser-Fürst",null,null,"USFC Krems",null,"OSS 2019 - Klub","AT",2019,8,2685,0.90500000000000003,7421,6716,null,null,"Discus CS","K1","Není v databázi"]
["Simon Lemmerer",null,null,"HFSG Grimming",null,"OSS 2019 - Klub","AT",2019,9,2473,0.90500000000000003,6761,6119,null,null,"Standard Libelle 201B","SL","Není v databázi"]
["Arnold Fauner",null,null,"Akaflieg Graz",null,"OSS 2019 - Klub","AT",2019,10,2372,0.90500000000000003,6342,{"$f":"ROUND(K683*L683,0)","v":5740},null,null,"DG300","IPW","Není v databázi"]
["Jakob Pühringer",null,null,"FRA Wiener Neustadt",null,"OSS 2019 - Klub","AT",2019,11,2052,0.90500000000000003,5448,4930,null,null,"Ls4","F4","Není v databázi"]
["Rudolf Huber",null,null,"BSV Voith St. Pölten",null,"OSS 2019 - Klub","AT",2019,12,1966,0.90500000000000003,5062,4581,null,null,"Std. Cirrus WL","SI","Není v databázi"]
["Stefan Krummholz",null,null,"USFC Krems",null,"OSS 2019 - Klub","AT",2019,13,1924,0.90500000000000003,4771,4318,null,null,"Kestrel","KS","Není v databázi"]
["Georg Donner",null,null,"Flugsportgruppe Union Linz",null,"OSS 2019 - Klub","AT",2019,14,1896,0.90500000000000003,4510,4082,null,null,"DG-101G","HX","Není v databázi"]
["Rainer Wanko",null,null,"FG Waldviertel",null,"OSS 2019 - Klub","AT",2019,15,1246,0.90500000000000003,{"$f":"ROUND(J688/MAX($J$674:$J$689)*10000*0.7+(MAX($I$674:$I$689)-I688)/(MAX($I$674:$I$689)-1)*10000*0.3,0)","v":2901},2625,null,null,"Discus","MB","Není v databázi"]
["Constantin Jakobljevich",null,null,"SFG Ybbs",null,"OSS 2019 - Klub","AT",2019,16,1224,0.90500000000000003,2653,2401,null,null,"Discus CS","CJ","Není v databázi"]
["Achleitner & Haslinger",null,null,null,null,"OSS 2019 - Kombi","AT",2019,1,3833,0.9,{"$f":"ROUND(J690/MAX($J$690:$J$700)*10000*0.7+(MAX($I$690:$I$700)-I690)/(MAX($I$690:$I$700)-1)*10000*0.3,0)","v":10000},9000,null,null,"ASG 32 Mi","GA","Není v databázi"]
["Martin Schwab",null,null,"FG Waldviertel",null,"OSS 2019 - Kombi","AT",2019,2,3755,0.9,{"$f":"ROUND(J691/MAX($J$690:$J$700)*10000*0.7+(MAX($I$690:$I$700)-I691)/(MAX($I$690:$I$700)-1)*10000*0.3,0)","v":9558},8602,null,null,"Discus 2T","FUN","Není v databázi"]
["Supersperger & Federlehner",null,null,null,null,"OSS 2019 - Kombi","AT",2019,3,3604,0.9,8982,8084,null,null,"Arcus M","PS","Není v databázi"]
["Schneeweis & Mayrhofer",null,null,"ASKÖ Flugsportverein Linz",null,"OSS 2019 - Kombi","AT",2019,4,3012,0.9,7601,6841,null,null,"Duo Discus XT","L","Není v databázi"]
["Thomas Hynek",null,null,"Flugschule ASKÖ Wien",null,"OSS 2019 - Kombi","AT",2019,5,2967,0.9,7218,6496,null,null,"Ventus 2b","CC","Není v databázi"]
["Scheiber & Schneider",null,null,"Segelflugverein Außerfern",null,"OSS 2019 - Kombi","AT",2019,6,2966,0.9,6917,6225,null,null,"Duo-Discus XLT","KPG","Není v databázi"]
["Embacher & Olinger",null,null,null,null,"OSS 2019 - Kombi","AT",2019,7,2839,0.9,6385,5747,null,null,"Duo Discus T","JOY","Není v databázi"]
["Artner & Meindlhumer",null,null,"ASKÖ Flugsportverein Linz",null,"OSS 2019 - Kombi","AT",2019,8,2485,0.9,{"$f":"ROUND(J697/MAX($J$690:$J$700)*10000*0.7+(MAX($I$690:$I$700)-I697)/(MAX($I$690:$I$700)-1)*10000*0.3,0)","v":5438},4894,null,null,"Duo-Discus","8Y","Není v databázi"]
["Wolfgang Zimmermann",null,null,"Flugring Austria Wiener Neustadt",null,"OSS 2019 - Kombi","AT",2019,9,2422,0.9,5023,4521,null,null,"Ventus2b","GI","Není v databázi"]
["Philipp Wittwer",null,null,"SFG Dornbirn",null,"OSS 2019 - Kombi","AT",2019,10,2288,0.9,4478,4030,null,null,"LS 8","ZL","Není v databázi"]
["Thomas Aigner",null,null,"SFC Ried",null,"OSS 2019 - Kombi","AT",2019,11,2039,0.9,3724,3352,null,null,"Ventus 2B","TOM","Není v databázi"]
["Peter Hartmann",null,null,"ASKÖ Flugsportverein Linz",null,"OSS 2019 - Open","AT",2019,1,3725,0,{"$f":"ROUND(J701/MAX($J$701:$J$708)*10000*0.7+(MAX($I$701:$I$708)-I701)/(MAX($I$701:$I$708)-1)*10000*0.3,0)","v":10000},0,null,null,"Antares 23T","PC","Není v databázi"]
["Alexander Müller",null,null,"LSC Bayreuth e.V.",null,"OSS 2019 - Open","AT",2019,2,3409,0,{"$f":"ROUND(J702/MAX($J$701:$J$708)*10000*0.7+(MAX($I$701:$I$708)-I702)/(MAX($I$701:$I$708)-1)*10000*0.3,0)","v":8978},0,null,null,"EB 29","AM","Není v databázi"]
["Sven Kolb",null,null,"SFG-Dornbirn",null,"OSS 2019 - Open","AT",2019,3,3031,0,7839,0,null,null,"Antares LF20e","ZF","Není v databázi"]
["Christian Hynek",null,null,"steckenflug.at",null,"OSS 2019 - Open","AT",2019,4,2905,0,7173,0,null,null,"EB 29 DR","DD","Není v databázi"]
["Benno Beesten",null,null,"LSG Fallersleben",null,"OSS 2019 - Open","AT",2019,5,2766,0,6484,0,null,null,"Nimbus 4M","TEX","Není v databázi"]
["Christian Derold",null,null,"ISV",null,"OSS 2019 - Open","AT",2019,6,2215,0,5020,0,null,null,"Antares 23E","LS","Není v databázi"]
["Rüdiger Spann",null,null,"LSV Salzburg",null,"OSS 2019 - Open","AT",2019,7,2029,0,{"$f":"ROUND(J707/MAX($J$701:$J$708)*10000*0.7+(MAX($I$701:$I$708)-I707)/(MAX($I$701:$I$708)-1)*10000*0.3,0)","v":4241},0,null,null,"Antares 23E","RS","Není v databázi"]
["Gerold Auerbach",null,null,"Österreich",null,"OSS 2019 - Open","AT",2019,8,1868,0,3510,0,null,null,"ASH 31 MI","FT","Není v databázi"]
["David Mach",{"$f":"VLOOKUP(A709,Pilot,2,0)","v":1994},{"$f":"VLOOKUP(A709,Pilot,5,0)","v":"M"},{"$f":"VLOOKUP(A709,Pilot,3,0)","v":"Hronov"},{"$f":"VLOOKUP(A709,Pilot,4,0)","v":"CZ/C2"},"PMČR 2019 - Klub","CZ",2019,1,3902,1.0649999999999999,{"$f":"ROUND(J709/MAX($J$709:$J$736)*10000*0.7+(MAX($I$709:$I$736)-I709)/(MAX($I$709:$I$736)-1)*10000*0.3,0)","v":10000},10650,"x",null,"LS-4 (102.1)","IX",""]
["Karel Novak",1993,"M","Mladá Boleslav","CZ/C1","PMČR 2019 - Klub","CZ",2019,2,3585,1.0649999999999999,{"$f":"ROUND(J710/MAX($J$709:$J$736)*10000*0.7+(MAX($I$709:$I$736)-I710)/(MAX($I$709:$I$736)-1)*10000*0.3,0)","v":9320},9926,"x",null,"Std. Cirrus (98.6)","DI",""]
["Tomas Suchanek",1964,"M","GAC Benešov","CZ/C1","PMČR 2019 - Klub","CZ",2019,3,3518,1.0649999999999999,9089,9680,null,null,"LS 1-d","VB",""]
["Ivan Novak",1962,"M","Mladá Boleslav","CZ/C1","PMČR 2019 - Klub","CZ",2019,4,3478,1.0649999999999999,8906,9485,null,null,"Std. Cirrus (98.6)","XC",""]
["Jan Louda",1986,"M","Mladá Boleslav","CZ/C1","PMČR 2019 - Klub","CZ",2019,5,3465,1.0649999999999999,8772,9342,null,null,"ASW-19. ASW-19B (100.2)","OI",""]
["Michal Lesinger",1966,"M","Moravská Třebová","CZ/M","PMČR 2019 - Klub","CZ",2019,6,3214,1.0649999999999999,8210,8744,null,null,"ASW-19. ASW-19B (100.2)","LL",""]
["Petr Stepanek",1989,"M","Moravská Třebová","CZ/M","PMČR 2019 - Klub","CZ",2019,7,3210,1.0649999999999999,8092,8618,"x",null,"ASW-19. ASW-19B (100.2)","AE",""]
["Lubomir Motl",1959,"M","Kyjov","CZ/M","PMČR 2019 - Klub","CZ",2019,8,3200,1.0649999999999999,7963,8481,"x",null,"LS-1f. LS-1f (45) (100.1)","G2",""]
["Pavel Trybenekr",1990,"M","Hořice","CZ/C2","PMČR 2019 - Klub","CZ",2019,9,3193,1.0649999999999999,7839,8349,"x",null,"LS-4 (102.1)","PF",""]
["David Sachl",1978,"M","Kralupy","CZ/C1","PMČR 2019 - Klub","CZ",2019,10,3015,1.0649999999999999,7409,7891,null,null,"DG-300 (103.7)","BK",""]
["Slavomir Piskaty 84",1984,"M","Kunovice","CZ/M","PMČR 2019 - Klub","CZ",2019,11,2942,1.0649999999999999,7167,7633,"x",null,"Std. Cirrus (98.6)","PIF",""]
["Jan Ratz",1987,"M","Zbraslavice","CZ/C1","PMČR 2019 - Klub","CZ",2019,12,2931,1.0649999999999999,7036,7493,null,null,"Std. Cirrus (98.6)","REX",""]
["Tereza Koubkova",1999,"F","Vysoké Mýto","CZ/C2","PMČR 2019 - Klub","CZ",2019,13,2850,1.0649999999999999,6779,7220,null,null,"Std. Cirrus (98.6)","WY","Junior v roce 2022"]
["Ivan Harasta 65",1965,"M","Toužim","CZ/C1","PMČR 2019 - Klub","CZ",2019,14,2837,1.0649999999999999,6645,7077,null,null,"ASW-15B (97.9)","HI",""]
["Ivan Tvrdik",1997,"M","Letňany","CZ/C1","PMČR 2019 - Klub","CZ",2019,15,2790,1.0649999999999999,6450,6869,null,null,"ASW-19. ASW-19B (100.2)","KZ","Junior v roce 2022"]
["Pavlina Horackova",1965,"F","Šumperk","CZ/M","PMČR 2019 - Klub","CZ",2019,16,2778,1.0649999999999999,6317,6728,"x","x","SZD-48 Jantar std. 2 (3) (99.9)","SU",""]
["Petr Valenta 94",1994,"M","Kunovice","CZ/M","PMČR 2019 - Klub","CZ",2019,17,2709,1.0649999999999999,6082,6477,null,null,"Std. Cirrus (98.6)","OK",""]
["Petra Piskata",1989,"F","Luhačovice","CZ/M","PMČR 2019 - Klub","CZ",2019,18,2672,1.0649999999999999,5905,6289,"x",null,"LS-4 (102.1)","FP",""]
["Petr Panek",1975,"M","Dvůr Králové","CZ/C2","PMČR 2019 - Klub","CZ",2019,19,2661,1.0649999999999999,5774,6149,null,null,"Std. Cirrus WL","YU",""]
["Barbora Moravcova",1994,"F","Zbraslavice","CZ/C1","PMČR 2019 - Klub","CZ",2019,20,2587,1.0649999999999999,5530,5889,null,null,"ASW-19. ASW-19B (100.2)","CF",""]
["Jakub Kohn",1992,"M","Prostějov","CZ/M","PMČR 2019 - Klub","CZ",2019,21,2491,1.0649999999999999,5247,5588,"x",null,"ASW-15B (97.9)","FK",""]
["Frantisek Filandr",1956,"M","Most","CZ/C2","PMČR 2019 - Klub","CZ",2019,22,2469,1.0649999999999999,5096,5427,null,null,"Std. Cirrus (98.6)","FF",""]
["Lumir Motyka",1955,"M","Frýdlant","CZ/M","PMČR 2019 - Klub","CZ",2019,23,2372,1.0649999999999999,{"$f":"ROUND(J731/MAX($J$709:$J$736)*10000*0.7+(MAX($I$709:$I$736)-I731)/(MAX($I$709:$I$736)-1)*10000*0.3,0)","v":4811},5124,null,null,"LS-1f. LS-1f (45) (100.1)","EM",""]
["Zdenek Balcarek",1967,"M","Kroměříž","CZ/M","PMČR 2019 - Klub","CZ",2019,24,2078,1.0649999999999999,4172,4443,null,null,"Std. Cirrus (98.6)","ZL",""]
["Marek Svancara",1976,"M","GAC Benešov","CZ/C1","PMČR 2019 - Klub","CZ",2019,25,1991,1.0649999999999999,3905,4159,"x",null,"Std. Cirrus (98.6)","GT",""]
["Vojtech Hajek",1987,"M","Mladá Boleslav","CZ/C1","PMČR 2019 - Klub","CZ",2019,26,1865,1.0649999999999999,3568,3800,"x",null,"Std. Cirrus (98.6)","BW",""]
["Ondrej Dvorak 98",1998,"M","Mladá Boleslav","CZ/C1","PMČR 2019 - Klub","CZ",2019,27,1611,1.0649999999999999,3001,3196,null,null,"ASW-15B (97,9)","MB","Junior v roce 2022"]
["Klara Teichmannova",1993,"F","Hronov","CZ/C2","PMČR 2019 - Klub","CZ",2019,28,1574,1.0649999999999999,2824,3008,null,null,"LS-3 /15m (104.4)","EI",""]
["Miloslav Cink",1987,"M","Letkov","CZ/C1","PMČR 2019 - Kombi 15m","CZ",2019,1,3524,1.07,{"$f":"ROUND(J737/MAX($J$737:$J$749)*10000*0.7+(MAX($I$737:$I$749)-I737)/(MAX($I$737:$I$749)-1)*10000*0.3,0)","v":10000},10700,null,null,"LS-8. LS-8a. LS-8b. LS-8s. LS-8-18. LS-8s. LS-8st /15m (s vodou) (111.7)","JB",""]
["Pavel Louzecky",1957,"M","Přibyslav","CZ/C2","PMČR 2019 - Kombi 15m","CZ",2019,2,3500,1.07,{"$f":"ROUND(J738/MAX($J$737:$J$749)*10000*0.7+(MAX($I$737:$I$749)-I738)/(MAX($I$737:$I$749)-1)*10000*0.3,0)","v":9702},10381,null,null,"LS-8. LS-8a. LS-8b. LS-8s. LS-8-18. LS-8s. LS-8st /15m (s vodou) (111.7)","AU",""]
["Petr Koutny",1971,"M","Křižanov","CZ/M","PMČR 2019 - Kombi 15m","CZ",2019,3,3263,1.07,{"$f":"ROUND(J739/MAX($J$737:$J$749)*10000*0.7+(MAX($I$737:$I$749)-I739)/(MAX($I$737:$I$749)-1)*10000*0.3,0)","v":8982},9611,"x",null,"LS-8. LS-8a. LS-8b. LS-8s. LS-8-18. LS-8s. LS-8st /15m (s vodou) (111.7)","SK",""]
["Radek Krejcirik",1991,"M","Hranice","CZ/M","PMČR 2019 - Kombi 15m","CZ",2019,4,3236,1.07,8678,9285,null,null,"Ventus 2a /15m (s vodou) (117.1)","AX",""]
["Jiri Kusbach",{"$f":"VLOOKUP(A741,Pilot,2,0)","v":1959},{"$f":"VLOOKUP(A741,Pilot,5,0)","v":"M"},{"$f":"VLOOKUP(A741,Pilot,3,0)","v":"Luhačovice"},{"$f":"VLOOKUP(A741,Pilot,4,0)","v":"CZ/M"},"PMČR 2019 - Kombi 15m","CZ",2019,5,3103,1.07,8164,8735,"x",null,"KKB 15E-FES (s vodou) (108.8)","B",""]
["Jana Veprekova",1961,"F","Dvůr Králové","CZ/C2","PMČR 2019 - Kombi 15m","CZ",2019,6,2800,1.07,7312,7824,null,null,"LS-8. LS-8a. LS-8b. LS-8s. LS-8-18. LS-8s. LS-8st /15m (s vodou) (111.7)","W8",""]
["Jan Pavlik",1987,"M","Křižanov","CZ/M","PMČR 2019 - Kombi 15m","CZ",2019,7,2737,1.07,6937,7423,null,null,"LS-8. LS-8a. LS-8b. LS-8s. LS-8-18. LS-8s. LS-8st /15m (s vodou) (111.7)","JW",""]
["Jan Viskot",1995,"M","Břeclav","CZ/M","PMČR 2019 - Kombi 15m","CZ",2019,8,2613,{"$f":"VLOOKUP(F744,Soutez,12,0)","v":1.07},6440,6891,null,null,"Discus 2a /15m (s vodou) (112.6)","GX",{"$f":"IF(ISERROR(VLOOKUP(A744,Pilot,6,0)),\"Není v databázi\",VLOOKUP(A744,Pilot,6,0))","v":""}]
["Hana Treslova",1991,"F","Raná","CZ/C2","PMČR 2019 - Kombi 15m","CZ",2019,9,2549,1.07,6063,6487,null,null,"LS-8. LS-8a. LS-8b. LS-8s. LS-8-18. LS-8s. LS-8st /15m (s vodou) (111.7)","EU",""]
["Jan Boruvka",1984,"M","Jičín","CZ/C2","PMČR 2019 - Kombi 15m","CZ",2019,10,2404,1.07,5525,5912,null,null,"Ventus c /15m WL (s vodou) (114.4)","EG",""]
["Dana Novakova",1965,"F","Mladá Boleslav","CZ/C1","PMČR 2019 - Kombi 15m","CZ",2019,11,2276,1.07,5021,{"$f":"ROUND(K747*L747,0)","v":5372},null,null,"LS-8. LS-8a. LS-8b. LS-8s. LS-8-18. LS-8s. LS-8st /15m (s vodou) (111.7)","FX",""]
["Radek Zima 78",1978,"M","Hodkovice","CZ/C2","PMČR 2019 - Kombi 15m","CZ",2019,12,2097,1.07,4415,4724,null,null,"Ventus b /15m WL -500 kg (s vodou) (113.3)","7F",""]
["Slavomir Piskaty 58",1958,"M","Kunovice","CZ/M","PMČR 2019 - Kombi 15m","CZ",2019,13,998,1.07,1982,2121,null,null,"Discus b WL (s vodou) (109.2)","KAL",""]
["Ondrej Dupal",1966,"M","GAC Benešov","CZ/C1","PMČR 2019 - Kombi Open","CZ",2019,1,3219,1.0299999999999998,{"$f":"ROUND(J750/MAX($J$750:$J$762)*10000*0.7+(MAX($I$750:$I$762)-I750)/(MAX($I$750:$I$762)-1)*10000*0.3,0)","v":10000},10300,"x",null,"ASG-29. ASG-29E /18m (s vodou) (120.9)","GO",""]
["Alena Netusilova",1970,"F","Zbraslavice","CZ/C1","PMČR 2019 - Kombi Open","CZ",2019,2,3189,1.0299999999999998,{"$f":"ROUND(J751/MAX($J$750:$J$762)*10000*0.7+(MAX($I$750:$I$762)-I751)/(MAX($I$750:$I$762)-1)*10000*0.3,0)","v":9685},9976,"x","x","JS1-C 18 EVO. JS1-CTJ 18 EVO (s vodou) (121.6)","JX",""]
["Danes Grula",1961,"M","Medlánky","CZ/M","PMČR 2019 - Kombi Open","CZ",2019,3,3044,1.0299999999999998,9119,9393,"x",null,"ASG-29. ASG-29E /18m (s vodou) (120.9)","DX",""]
["Jana Treslova",1963,"F","Raná","CZ/C2","PMČR 2019 - Kombi Open","CZ",2019,4,2956,1.0299999999999998,8678,8938,"x","x","JS3. JS3 TJ-18m (s vodou) (122.7)","ZE",""]
["Tomas Rendla",1973,"M","Zbraslavice","CZ/C1","PMČR 2019 - Kombi Open","CZ",2019,5,2733,1.0299999999999998,7943,8181,null,null,"Arcus E. Arcus M. Arcus S. Arcus T (s vodou) (117.1)","EY",""]
["Radek Kucirek",1973,"M","Havlíčkův Brod","CZ/C2","PMČR 2019 - Kombi Open","CZ",2019,6,2714,1.0299999999999998,7652,7882,null,null,"EB-28 edition 28.3m (s vodou) (125.3)","NA",""]
["Petr Krejcirik",1960,"M","Hranice","CZ/M","PMČR 2019 - Kombi Open","CZ",2019,7,2592,1.0299999999999998,7137,7351,null,null,"JS1-CTJ 18 EVO","ZF",""]
["Lenka Kuthanova",1960,"F","Tábor","CZ/C1","PMČR 2019 - Kombi Open","CZ",2019,8,2489,1.0299999999999998,6663,6863,null,null,"JS1-C 18 EVO. JS1-CTJ 18 EVO (s vodou) (121.6)","LX",""]
["Jiri Steiger",1969,"M","Olomouc","CZ/M","PMČR 2019 - Kombi Open","CZ",2019,9,2488,1.0299999999999998,6410,6602,null,null,"Ventus 2ct /18m 600 kg (s vodou) (120.3)","JS",""]
["Eva Cerna",1964,"F","Příbram","CZ/C1","PMČR 2019 - Kombi Open","CZ",2019,10,2372,1.0299999999999998,5908,6085,"x","x","HpH 304M SHARK /18m 600kg","EP",""]
["Karel Mares",1974,"M","Slaný","CZ/C1","PMČR 2019 - Kombi Open","CZ",2019,11,2282,1.0299999999999998,5462,5626,null,null,"Nimbus 2","MR",""]
["Lukas Benedikt",null,"M","Trnava","SK","PMČR 2019 - Kombi Open","CZ",2019,12,1984,1.0299999999999998,{"$f":"ROUND(J761/MAX($J$750:$J$762)*10000*0.7+(MAX($I$750:$I$762)-I761)/(MAX($I$750:$I$762)-1)*10000*0.3,0)","v":4564},4701,null,null,"Ventus 3F - 18m (s vodou) (119.8)","LB","Není v databázi"]
["Martin Hrivna",{"$f":"VLOOKUP(A762,Pilot,2,0)","v":1978},{"$f":"VLOOKUP(A762,Pilot,5,0)","v":"M"},{"$f":"VLOOKUP(A762,Pilot,3,0)","v":"Zbraslavice"},{"$f":"VLOOKUP(A762,Pilot,4,0)","v":"CZ/C1"},"PMČR 2019 - Kombi Open","CZ",2019,13,1819,1.0299999999999998,{"$f":"ROUND(J762/MAX($J$750:$J$762)*10000*0.7+(MAX($I$750:$I$762)-I762)/(MAX($I$750:$I$762)-1)*10000*0.3,0)","v":3956},4075,null,null,"ASG-29. ASG-29E /18m (s vodou) (120.9)","NX",""]
["David Mach",1994,"M","Hronov","CZ/C2","PMČRj 2019 - Klub","CZ",2019,1,5324,0.92500000000000004,{"$f":"ROUND(J763/MAX($J$763:$J$793)*10000*0.7+(MAX($I$763:$I$793)-I763)/(MAX($I$763:$I$793)-1)*10000*0.3,0)","v":10000},9250,null,null,"Std. Cirrus","XC",""]
["Daniel Ryba",1994,"M","Dvůr Králové","CZ/C2","PMČRj 2019 - Klub","CZ",2019,2,4993,0.92500000000000004,{"$f":"ROUND(J764/MAX($J$763:$J$793)*10000*0.7+(MAX($I$763:$I$793)-I764)/(MAX($I$763:$I$793)-1)*10000*0.3,0)","v":9465},8755,null,null,"ASW 19B","L7",""]
["Barbora Moravcova",1994,"F","Zbraslavice","CZ/C1","PMČRj 2019 - Klub","CZ",2019,3,4955,0.92500000000000004,9315,8616,"x","x","ASW 19B","CF",""]
["Jaromir Macoun",1999,"M","Jičín","CZ/C2","PMČRj 2019 - Klub","CZ",2019,4,4654,0.92500000000000004,8819,8158,null,null,"LS 8 15 m","EU","Junior v roce 2022"]
["Petr Valenta 94",1994,"M","Kunovice","CZ/M","PMČRj 2019 - Klub","CZ",2019,5,4576,0.92500000000000004,8617,7971,"x",null,"Std. Cirrus","PIF",""]
["Vit Morkovsky",2000,"M","Polička","CZ/C2","PMČRj 2019 - Klub","CZ",2019,6,4322,0.92500000000000004,8183,7569,null,null,"ASW-24A bez TN8","SM","Junior v roce 2022"]
["Ivan Tvrdik",1997,"M","Letňany","CZ/C1","PMČRj 2019 - Klub","CZ",2019,7,4161,0.92500000000000004,7871,7281,"x",null,"Discus b","LH","Junior v roce 2022"]
["Jan Vozeh",1995,"M","Rakovník","CZ/C1","PMČRj 2019 - Klub","CZ",2019,8,3904,0.92500000000000004,7433,6876,"x",null,"Std. Cirrus","OG",""]
["Tomas Jilek",1995,"M","Raná","CZ/C2","PMČRj 2019 - Klub","CZ",2019,9,3685,0.92500000000000004,7045,6517,"x",null,"ASW 15","PI",""]
["Tereza Koubkova",1999,"F","Vysoké Mýto","CZ/C2","PMČRj 2019 - Klub","CZ",2019,10,3573,0.92500000000000004,6798,6288,null,null,"Std. Cirrus","WY","Junior v roce 2022"]
["David Rozporka",1994,"M","Hronov","CZ/C2","PMČRj 2019 - Klub","CZ",2019,11,3316,0.92500000000000004,6360,5883,"x",null,"Std. Cirrus","LY",""]
["Vladimir Hammer",2000,"M","Letkov","CZ/C1","PMČRj 2019 - Klub","CZ",2019,12,3196,0.92500000000000004,6102,5644,null,null,"Std. Cirrus","2U","Junior v roce 2022"]
["Tomas Moravec",2000,"M","Žamberk","CZ/C2","PMČRj 2019 - Klub","CZ",2019,13,3098,0.92500000000000004,5873,5433,"x",null,"Std. Cirrus WL","OK6","Junior v roce 2022"]
["Jan Beran",1999,"M","Kladno","CZ/C1","PMČRj 2019 - Klub","CZ",2019,14,3094,0.92500000000000004,5768,5335,"x",null,"ASW 15B","2P","Junior v roce 2022"]
["Tibor Hezina",2002,"M","Křižanov","CZ/M","PMČRj 2019 - Klub","CZ",2019,15,2912,0.92500000000000004,5429,5022,"x",null,"Std. Cirrus","IJ","Junior v roce 2022"]
["Marek Loukota",2000,"M","Letkov","CZ/C1","PMČRj 2019 - Klub","CZ",2019,16,2879,0.92500000000000004,5285,4889,"x",null,"Std. Cirrus","SB","Junior v roce 2022"]
["Jan Stastny",2003,"M","Medlánky","CZ/M","PMČRj 2019 - Klub","CZ",2019,17,2841,0.92500000000000004,5135,4750,null,null,"ASW 15B","TW","Junior v roce 2022"]
["Lukas Maly",1998,"M","Vysoké Mýto","CZ/C2","PMČRj 2019 - Klub","CZ",2019,18,2824,0.92500000000000004,5013,4637,null,null,"VSO-10","VM","Junior v roce 2022"]
["Jiri Maier 99",1999,"M","Raná","CZ/C2","PMČRj 2019 - Klub","CZ",2019,19,2807,0.92500000000000004,4891,4524,null,null,"Std. Cirrus","CI","Junior v roce 2022"]
["Marek Pechar",1995,"M","Chrudim","CZ/C2","PMČRj 2019 - Klub","CZ",2019,20,2736,0.92500000000000004,4697,4345,"x",null,"Std. Cirrus WL","JE",""]
["Josef Hlusek",1993,"M","Kunovice","CZ/M","PMČRj 2019 - Klub","CZ",2019,21,2684,0.92500000000000004,4529,4189,"x",null,"Std. Cirrus","WO",""]
["Jakub Malik",1999,"M","Letňany","CZ/C1","PMČRj 2019 - Klub","CZ",2019,22,2581,0.92500000000000004,{"$f":"ROUND(J784/MAX($J$763:$J$793)*10000*0.7+(MAX($I$763:$I$793)-I784)/(MAX($I$763:$I$793)-1)*10000*0.3,0)","v":4294},3972,"x",null,"VSO-10","L5","Junior v roce 2022"]
["Tomas Hulmak",1999,"M","Hosín","CZ/C1","PMČRj 2019 - Klub","CZ",2019,23,2576,0.92500000000000004,{"$f":"ROUND(J785/MAX($J$763:$J$793)*10000*0.7+(MAX($I$763:$I$793)-I785)/(MAX($I$763:$I$793)-1)*10000*0.3,0)","v":4187},3873,null,null,"ASW 15B","HH","Junior v roce 2022"]
["Michal Coufal",1999,"M","Jičín","CZ/C2","PMČRj 2019 - Klub","CZ",2019,24,2553,0.92500000000000004,{"$f":"ROUND(J786/MAX($J$763:$J$793)*10000*0.7+(MAX($I$763:$I$793)-I786)/(MAX($I$763:$I$793)-1)*10000*0.3,0)","v":4057},3753,"x",null,"Std. Cirrus","FS","Junior v roce 2022"]
["Michaela Krizova",2001,"F","Přibyslav","CZ/C2","PMČRj 2019 - Klub","CZ",2019,25,2335,0.92500000000000004,3670,3395,null,null,"ASW 15B","BE","Junior v roce 2022"]
["Lukas Kotek",1994,"M","Frýdlant","CZ/M","PMČRj 2019 - Klub","CZ",2019,26,2268,0.92500000000000004,3482,3221,"x",null,"DG-200 15m","AK",""]
["Jakub Koudelka",2000,"M","Křižanov","CZ/M","PMČRj 2019 - Klub","CZ",2019,27,1984,0.92500000000000004,3009,2783,"x",null,"ASW 15B",17,"Junior v roce 2022"]
["Eliska Bohunovska",2001,"F","Hranice","CZ/M","PMČRj 2019 - Klub","CZ",2019,28,1476,0.92500000000000004,2241,2073,"x","x","Std. Cirrus","HC","Junior v roce 2022"]
["Sabina Vitova",1998,"F","Kroměříž","CZ/M","PMČRj 2019 - Klub","CZ",2019,29,1434,0.92500000000000004,2085,1929,null,null,"Astir CS Jeans","2Y","Junior v roce 2022"]
["Lukas Zemek",1994,"M","Letkov","CZ/C1","PMČRj 2019 - Klub","CZ",2019,30,1007,0.92500000000000004,1424,1317,"x",null,"LS 1-c","VY",""]
["Tomas Ondrusek",1994,"M","Letkov","CZ/C1","PMČRj 2019 - Klub","CZ",2019,31,0,0.92500000000000004,0,0,null,null,"Discus b","SJ",""]
["Karel Novak",{"$f":"VLOOKUP(A794,Pilot,2,0)","v":1993},{"$f":"VLOOKUP(A794,Pilot,5,0)","v":"M"},{"$f":"VLOOKUP(A794,Pilot,3,0)","v":"Mladá Boleslav"},{"$f":"VLOOKUP(A794,Pilot,4,0)","v":"CZ/C1"},"PMRg 2019 - Klub","CZ",2019,1,7016,0.93500000000000005,{"$f":"ROUND(J794/MAX($J$794:$J$817)*10000*0.7+(MAX($I$794:$I$817)-I794)/(MAX($I$794:$I$817)-1)*10000*0.3,0)","v":10000},9350,null,null,"Std. Cirrus","DI",""]
["Michal Lesinger",1966,"M","Moravská Třebová","CZ/M","PMRg 2019 - Klub","CZ",2019,2,6536,0.93500000000000005,{"$f":"ROUND(J795/MAX($J$794:$J$817)*10000*0.7+(MAX($I$794:$I$817)-I795)/(MAX($I$794:$I$817)-1)*10000*0.3,0)","v":9391},8781,null,null,"ASW-19B","LL",""]
["Vojtech Novotny",1992,"M","Kralupy","CZ/C1","PMRg 2019 - Klub","CZ",2019,3,6445,0.93500000000000005,9169,8573,"x",null,"LS 1f","EF",""]
["Jiri Stepanek",1956,"M","Moravská Třebová","CZ/M","PMRg 2019 - Klub","CZ",2019,4,6307,0.93500000000000005,8901,8322,"x",null,"ASW-15B","LE",""]
["Jan Zahradka",1981,"M","Hodkovice","CZ/C2","PMRg 2019 - Klub","CZ",2019,5,6168,0.93500000000000005,8632,8071,"x",null,"Std. Cirrus","AR",""]
["Zdenek Boruvka 86",1986,"M","Jičín","CZ/C2","PMRg 2019 - Klub","CZ",2019,6,6082,0.93500000000000005,8416,7869,null,null,"Std. Cirrus","BJ",""]
["Michal Krupicka",1975,"M","Most","CZ/C2","PMRg 2019 - Klub","CZ",2019,7,5981,0.93500000000000005,8185,7653,"x",null,"Std. Cirrus","K",""]
["Jan Vavrin",1987,"M","Vysoké Mýto","CZ/C2","PMRg 2019 - Klub","CZ",2019,8,5958,0.93500000000000005,8031,7509,"x",null,"ASW-15B","IG",""]
["Tereza Koubkova",1999,"F","Vysoké Mýto","CZ/C2","PMRg 2019 - Klub","CZ",2019,9,5495,0.93500000000000005,7439,6955,null,null,"Std. Cirrus","WY","Junior v roce 2022"]
["Vaclav Marel",1974,"M","Jaroměř","CZ/C2","PMRg 2019 - Klub","CZ",2019,10,5399,0.93500000000000005,7213,6744,null,null,"Std. Cirrus","IF",""]
["Jindrich Hruska",1986,"M","Soběslav","CZ/C1","PMRg 2019 - Klub","CZ",2019,11,5336,0.93500000000000005,7019,6563,"x",null,"303 Mosquito","UFO",""]
["Jan Vozeh",1995,"M","Rakovník","CZ/C1","PMRg 2019 - Klub","CZ",2019,12,5287,0.93500000000000005,6840,6395,null,null,"Std. Cirrus","OG",""]
["Lukas Plocek",1990,"M","Mladá Boleslav","CZ/C1","PMRg 2019 - Klub","CZ",2019,13,5284,0.93500000000000005,6707,6271,"x",null,"ASW-19B","AH",""]
["Pavlina Horackova",1965,"F","Šumperk","CZ/M","PMRg 2019 - Klub","CZ",2019,14,5256,0.93500000000000005,6548,6122,null,null,"SZD-48 Jantar Std. 2(3)","SU",""]
["Jan Smaha",1958,"M","Česká Lípa","CZ/C2","PMRg 2019 - Klub","CZ",2019,15,4916,{"$f":"VLOOKUP(F808,Soutez,12,0)","v":0.93500000000000005},6079,5684,null,null,"ASW-15B","CW",{"$f":"IF(ISERROR(VLOOKUP(A808,Pilot,6,0)),\"Není v databázi\",VLOOKUP(A808,Pilot,6,0))","v":""}]
["Martin Stepanek",1987,"M","Moravská Třebová","CZ/M","PMRg 2019 - Klub","CZ",2019,16,4840,0.93500000000000005,5872,5490,"x",null,"ASW-15B","ZP",""]
["Lukas Maly",1998,"M","Vysoké Mýto","CZ/C2","PMRg 2019 - Klub","CZ",2019,17,4697,0.93500000000000005,{"$f":"ROUND(J810/MAX($J$794:$J$817)*10000*0.7+(MAX($I$794:$I$817)-I810)/(MAX($I$794:$I$817)-1)*10000*0.3,0)","v":5599},5235,"x",null,"ASW-15B","AM","Junior v roce 2022"]
["Ladislav Jozsa",1981,"M","Medlánky","CZ/M","PMRg 2019 - Klub","CZ",2019,18,4541,0.93500000000000005,5313,{"$f":"ROUND(K811*L811,0)","v":4968},null,null,"Std. Cirrus","LJ",""]
["Vaclav Zak",1962,"M","GAC Benešov","CZ/C1","PMRg 2019 - Klub","CZ",2019,19,4256,0.93500000000000005,4898,4580,"x",null,"Std. Cirrus","TS",""]
["Karel Knotek",1961,"M","Soběslav","CZ/C1","PMRg 2019 - Klub","CZ",2019,20,4021,0.93500000000000005,4534,4239,"x",null,"ASW-19","SO",""]
["Josef Hlusek",1993,"M","Kunovice","CZ/M","PMRg 2019 - Klub","CZ",2019,21,3831,0.93500000000000005,4214,3940,null,null,"Std. Cirrus G","WO",""]
["Jan Florian",1992,"M","Zbraslavice","CZ/C1","PMRg 2019 - Klub","CZ",2019,22,3824,0.93500000000000005,4076,3811,null,null,"Std. Cirrus","C1",""]
["Petr Velek",1975,"M","GAC Benešov","CZ/C1","PMRg 2019 - Klub","CZ",2019,23,3398,0.93500000000000005,3521,3292,"x",null,"LS 1c","I",""]
["Kristina Santruckova",1996,"F","Podhořany","CZ/C2","PMRg 2019 - Klub","CZ",2019,24,2941,0.93500000000000005,2934,2743,"x","x","ASW-15B WL","KS",""]
["Jan Louda",1986,"M","Mladá Boleslav","CZ/C1","PMRg 2019 - Kombi","CZ",2019,1,6191,0.93500000000000005,{"$f":"ROUND(J818/MAX($J$818:$J$830)*10000*0.7+(MAX($I$818:$I$830)-I818)/(MAX($I$818:$I$830)-1)*10000*0.3,0)","v":10000},9350,"x",null,"Ventus a 15m WL 500kg (voda)","FW",""]
["Karel Mares",1974,"M","Slaný","CZ/C1","PMRg 2019 - Kombi","CZ",2019,2,6041,0.93500000000000005,{"$f":"ROUND(J819/MAX($J$818:$J$830)*10000*0.7+(MAX($I$818:$I$830)-I819)/(MAX($I$818:$I$830)-1)*10000*0.3,0)","v":9580},8957,"x",null,"Ventus b 16.6m WL","7F",""]
["Hana Treslova",1991,"F","Raná","CZ/C2","PMRg 2019 - Kombi","CZ",2019,3,5887,0.93500000000000005,9156,8561,"x","x","LS 8 15m (voda)","AU",""]
["Zdenek Boruvka 54",1954,"M","Jičín","CZ/C2","PMRg 2019 - Kombi","CZ",2019,4,5813,0.93500000000000005,8823,8250,"x",null,"LS 8 15m (voda)","ZB",""]
["Dana Novakova",1965,"F","Mladá Boleslav","CZ/C1","PMRg 2019 - Kombi","CZ",2019,5,5693,0.93500000000000005,8437,7889,null,null,"LS 8 15m (voda)","FX",""]
["Miroslav Koci",1961,"M","Žamberk","CZ/C2","PMRg 2019 - Kombi","CZ",2019,6,5213,0.93500000000000005,7644,7147,"x",null,"Ventus 2cxm 18m 565kg (voda)","E8",""]
["Jana Treslova",1963,"F","Raná","CZ/C2","PMRg 2019 - Kombi","CZ",2019,7,5029,0.93500000000000005,7186,6719,null,null,"JS-3, TJ 18m (voda)","ZE",""]
["Jiri Slemr",1979,"M","Vysoké Mýto","CZ/C2","PMRg 2019 - Kombi","CZ",2019,8,4840,0.93500000000000005,6722,6285,"x",null,"Discus b (voda)",65,""]
["Lenka Kuthanova",{"$f":"VLOOKUP(A826,Pilot,2,0)","v":1960},"F","Tábor","CZ/C1","PMRg 2019 - Kombi","CZ",2019,9,4767,0.93500000000000005,6390,5975,null,null,"JS-1C (TJ) 18m EVO","LX",""]
["Barbora Kubickova",1993,"F","Medlánky","CZ/M","PMRg 2019 - Kombi","CZ",2019,10,4477,0.93500000000000005,5812,5434,"x","x","LAK 17 A 18m WL","BI",""]
["Petr Frycek",1960,"M","Most","CZ/C2","PMRg 2019 - Kombi","CZ",2019,11,3755,0.93500000000000005,{"$f":"ROUND(J828/MAX($J$818:$J$830)*10000*0.7+(MAX($I$818:$I$830)-I828)/(MAX($I$818:$I$830)-1)*10000*0.3,0)","v":4746},4438,"x",null,"Nimbus 3 (25,5m, 700kg) (voda)","F",""]
["Slavomir Piskaty 58",1958,"M","Kunovice","CZ/M","PMRg 2019 - Kombi","CZ",2019,12,3547,0.93500000000000005,4260,3983,"x",null,"Discus b (voda) WL","KAL",""]
["Ladislav Prokes",1954,"M","Vrchlabí","CZ/C2","PMRg 2019 - Kombi","CZ",2019,13,3314,0.93500000000000005,3747,3503,null,null,"Discus b (voda)","VR",""]
["Josef Kozar",null,null,"Aeroklub Martin",null,"PMSR 2019 - Klub","SK",2019,1,5690,0.92,{"$f":"ROUND(J831/MAX($J$831:$J$854)*10000*0.7+(MAX($I$831:$I$854)-I831)/(MAX($I$831:$I$854)-1)*10000*0.3,0)","v":10000},9200,null,null,"LS 1 f","MF","Není v databázi"]
["Milan ml. Surovcik",null,null,"AK Žilina",null,"PMSR 2019 - Klub","SK",2019,2,5114,0.92,{"$f":"ROUND(J832/MAX($J$831:$J$854)*10000*0.7+(MAX($I$831:$I$854)-I832)/(MAX($I$831:$I$854)-1)*10000*0.3,0)","v":9161},8428,null,null,"C-101A Pegase","EL","Není v databázi"]
["Martin Snirc",null,null,"AK Nitra",null,"PMSR 2019 - Klub","SK",2019,3,5015,0.92,8909,8196,null,null,"DG 400 17m",400,"Není v databázi"]
["Jan Kovalcik",null,null,"AK Bratislava",null,"PMSR 2019 - Klub","SK",2019,4,4974,0.92,8728,8030,null,null,"C-101A Pegase","OI","Není v databázi"]
["Filip Pechac",null,null,"AK Nitra",null,"PMSR 2019 - Klub","SK",2019,5,4921,0.92,8532,7849,null,null,"ASW 20A","EW","Není v databázi"]
["Radoslav Cagala",null,null,"AK Nitra",null,"PMSR 2019 - Klub","SK",2019,6,4879,0.92,8350,7682,null,null,"DG 400 17m","RD","Není v databázi"]
["Karol Benedikovic",null,null,"Air Sympatia",null,"PMSR 2019 - Klub","SK",2019,7,4736,0.92,8044,7400,null,null,"Std. Cirrus","AM","Není v databázi"]
["Simon Siska",null,null,"SGC Martin",null,"PMSR 2019 - Klub","SK",2019,8,4681,0.92,7846,7218,null,null,"ASW 19B","A1","Není v databázi"]
["Frantisek Sobek",null,null,"AK Sabinov",null,"PMSR 2019 - Klub","SK",2019,9,4584,0.92,7596,6988,null,null,"DG 100","G1","Není v databázi"]
["Martin Jurovic",null,null,"AK Bratislava",null,"PMSR 2019 - Klub","SK",2019,10,4492,0.92,7352,6764,null,null,"C-101A Pegase","J2","Není v databázi"]
["Samuel Posluch",null,null,"SGC Martin",null,"PMSR 2019 - Klub","SK",2019,11,4433,0.92,7149,6577,null,null,"Std. Cirrus WL","LX","Není v databázi"]
["Tibor Noga",null,null,"SGC Martin",null,"PMSR 2019 - Klub","SK",2019,12,4171,0.92,6697,6161,null,null,"ASW 19B","A4","Není v databázi"]
["Daniel Smolka",null,null,"AK Prievidza",null,"PMSR 2019 - Klub","SK",2019,13,4020,0.92,6380,5870,null,null,"ASW 20A","MP","Není v databázi"]
["Edmund Schuller",null,null,"Ak Lucenec",null,"PMSR 2019 - Klub","SK",2019,14,4003,0.92,6229,5731,null,null,"ASW 24WL","ZS","Není v databázi"]
["Marek Straka",null,null,"AK Trencin",null,"PMSR 2019 - Klub","SK",2019,15,3932,0.92,6011,5530,null,null,"LS 3","AI","Není v databázi"]
["Martin Picka",{"$f":"VLOOKUP(A846,Pilot,2,0)","v":1974},{"$f":"VLOOKUP(A846,Pilot,5,0)","v":"M"},{"$f":"VLOOKUP(A846,Pilot,3,0)","v":"Tábor"},{"$f":"VLOOKUP(A846,Pilot,4,0)","v":"CZ/C1"},"PMSR 2019 - Klub","SK",2019,16,3489,0.92,5336,4909,null,null,"ASW 19B","BU",""]
["Adam Kacvinsky",null,null,"AK Bratislava",null,"PMSR 2019 - Klub","SK",2019,17,3423,0.92,5124,4714,null,null,"ASW 19","BA4","Není v databázi"]
["Jan Hlinka",null,null,"AK Martin",null,"PMSR 2019 - Klub","SK",2019,18,3300,0.92,4842,4455,null,null,"Std. Cirrus","DZ","Není v databázi"]
["Jan Vavrin",{"$f":"VLOOKUP(A849,Pilot,2,0)","v":1987},{"$f":"VLOOKUP(A849,Pilot,5,0)","v":"M"},{"$f":"VLOOKUP(A849,Pilot,3,0)","v":"Vysoké Mýto"},{"$f":"VLOOKUP(A849,Pilot,4,0)","v":"CZ/C2"},"PMSR 2019 - Klub","SK",2019,19,3298,0.92,{"$f":"ROUND(J849/MAX($J$831:$J$854)*10000*0.7+(MAX($I$831:$I$854)-I849)/(MAX($I$831:$I$854)-1)*10000*0.3,0)","v":4709},4332,null,null,"ASW 15B","IG",""]
["Viktor Hnata",null,null,"Aeroklub Holíč",null,"PMSR 2019 - Klub","SK",2019,20,3294,0.92,4574,4208,null,null,"Std. Cirrus","V1","Není v databázi"]
["Matej Petrik",null,null,"Aeroklub Sabinov",null,"PMSR 2019 - Klub","SK",2019,21,2558,0.92,3538,3255,null,null,"Std. Cirrus","XII","Není v databázi"]
["Peter Abonyi",null,null,"Ružomberok",null,"PMSR 2019 - Klub","SK",2019,22,2136,0.92,2889,2658,null,null,"ASW-15","MB","Není v databázi"]
["Peter Sedmak",null,null,"Aeroklub Martin",null,"PMSR 2019 - Klub","SK",2019,23,1654,0.92,2165,1992,null,null,"LS 4","BM","Není v databázi"]
["Alberto Rizzi",null,null,"AK Holic",null,"PMSR 2019 - Klub","SK",2019,24,1173,0.92,1443,1328,null,null,"DG 202 17m","SJ","Není v databázi"]
["Jan Pavlik",{"$f":"VLOOKUP(A855,Pilot,2,0)","v":1987},{"$f":"VLOOKUP(A855,Pilot,5,0)","v":"M"},{"$f":"VLOOKUP(A855,Pilot,3,0)","v":"Křižanov"},{"$f":"VLOOKUP(A855,Pilot,4,0)","v":"CZ/M"},"PMSR 2019 - Kombi 15m","SK",2019,1,5824,0.93,{"$f":"ROUND(J855/MAX($J$855:$J$864)*10000*0.7+(MAX($I$854:$I$864)-I855)/(MAX($I$854:$I$864)-1)*10000*0.3,0)","v":10000},9300,"x",null,"LS 8a","JW",""]
["Maros Divok",null,null,"Spišská Nová Ves",null,"PMSR 2019 - Kombi 15m","SK",2019,2,5182,0.93,{"$f":"ROUND(J856/MAX($J$855:$J$864)*10000*0.7+(MAX($I$854:$I$864)-I856)/(MAX($I$854:$I$864)-1)*10000*0.3,0)","v":9098},8461,null,null,"Discus 2","DI","Není v databázi"]
["Jiri Kusbach",{"$f":"VLOOKUP(A857,Pilot,2,0)","v":1959},{"$f":"VLOOKUP(A857,Pilot,5,0)","v":"M"},{"$f":"VLOOKUP(A857,Pilot,3,0)","v":"Luhačovice"},{"$f":"VLOOKUP(A857,Pilot,4,0)","v":"CZ/M"},"PMSR 2019 - Kombi 15m","SK",2019,3,4613,0.93,8284,7704,null,null,"KKB-15 FES","B",""]
["Dominik Jancik",null,null,"AK Nitra",null,"PMSR 2019 - Kombi 15m","SK",2019,4,4574,0.93,8106,7539,null,null,"LS 8s","SI","Není v databázi"]
["Tibor Arpas",null,null,"AK Nitra",null,"PMSR 2019 - Kombi 15m","SK",2019,5,4569,0.93,7970,7412,null,null,"LS 8T/15m","HM","Není v databázi"]
["Radek Krejcirik",{"$f":"VLOOKUP(A860,Pilot,2,0)","v":1991},{"$f":"VLOOKUP(A860,Pilot,5,0)","v":"M"},{"$f":"VLOOKUP(A860,Pilot,3,0)","v":"Hranice"},{"$f":"VLOOKUP(A860,Pilot,4,0)","v":"CZ/M"},"PMSR 2019 - Kombi 15m","SK",2019,6,4450,0.93,7696,7157,null,null,"JS 3 15m","ZE",""]
["Hana Treslova",{"$f":"VLOOKUP(A861,Pilot,2,0)","v":1991},{"$f":"VLOOKUP(A861,Pilot,5,0)","v":"F"},{"$f":"VLOOKUP(A861,Pilot,3,0)","v":"Raná"},{"$f":"VLOOKUP(A861,Pilot,4,0)","v":"CZ/C2"},"PMSR 2019 - Kombi 15m","SK",2019,7,4220,0.93,7290,6780,null,null,"LS 8a","W8",""]
["Jana Treslova",{"$f":"VLOOKUP(A862,Pilot,2,0)","v":1963},{"$f":"VLOOKUP(A862,Pilot,5,0)","v":"F"},{"$f":"VLOOKUP(A862,Pilot,3,0)","v":"Raná"},{"$f":"VLOOKUP(A862,Pilot,4,0)","v":"CZ/C2"},"PMSR 2019 - Kombi 15m","SK",2019,8,3684,0.93,{"$f":"ROUND(J862/MAX($J$855:$J$864)*10000*0.7+(MAX($I$854:$I$864)-I862)/(MAX($I$854:$I$864)-1)*10000*0.3,0)","v":6515},6059,null,null,"ASG 29E 15m","QZ",""]
["Miroslav Beliansky",null,null,"AK Partizánske",null,"PMSR 2019 - Kombi 15m","SK",2019,9,3393,0.93,6035,5613,null,null,"LS 8T/15m","TC","Není v databázi"]
["Tibor Fratrik",null,null,"SGC Martin",null,"PMSR 2019 - Kombi 15m","SK",2019,10,2530,0.93,4867,4526,null,null,"Ls 6a","GI","Není v databázi"]
["Viliam Kubovcik",null,null,"AK Poprad",null,"PMSR 2019 - Kombi Open","SK",2019,1,4953,0.92,{"$f":"ROUND(J865/MAX($J$865:$J$878)*10000*0.7+(MAX($I$865:$I$878)-I865)/(MAX($I$865:$I$878)-1)*10000*0.3,0)","v":10000},9200,null,null,"Ventus 2cxT 18m","VV","Není v databázi"]
["Petr Krejcirik",{"$f":"VLOOKUP(A866,Pilot,2,0)","v":1960},{"$f":"VLOOKUP(A866,Pilot,5,0)","v":"M"},{"$f":"VLOOKUP(A866,Pilot,3,0)","v":"Hranice"},{"$f":"VLOOKUP(A866,Pilot,4,0)","v":"CZ/M"},"PMSR 2019 - Kombi Open","SK",2019,2,4841,0.92,{"$f":"ROUND(J866/MAX($J$865:$J$878)*10000*0.7+(MAX($I$865:$I$878)-I866)/(MAX($I$865:$I$878)-1)*10000*0.3,0)","v":9611},8842,"x",null,"JS-MD Single","ZF",""]
["Petr Hotovy",{"$f":"VLOOKUP(A867,Pilot,2,0)","v":1958},{"$f":"VLOOKUP(A867,Pilot,5,0)","v":"M"},{"$f":"VLOOKUP(A867,Pilot,3,0)","v":"Česká Lípa"},{"$f":"VLOOKUP(A867,Pilot,4,0)","v":"CZ/C2"},"PMSR 2019 - Kombi Open","SK",2019,3,4748,0.92,9249,8509,"x",null,"JS 1 B TJ","IGC",""]
["Branislav Jesensky",null,null,"SGC Martin",null,"PMSR 2019 - Kombi Open","SK",2019,4,4677,0.92,8918,8205,null,null,"Ventus 2cxT 18m","J","Není v databázi"]
["Jan Divok",null,null,"Spišská Nová Ves",null,"PMSR 2019 - Kombi Open","SK",2019,5,4346,0.92,8219,7561,null,null,"Discus 2CT/18m","DJ","Není v databázi"]
["Lukas Benedikt",null,null,"AK Trnava",null,"PMSR 2019 - Kombi Open","SK",2019,6,4310,0.92,7937,7302,null,null,"Ventus 3 Fes 18m","LB","Není v databázi"]
["Pavol Cerny",null,null,"SGC Martin",null,"PMSR 2019 - Kombi Open","SK",2019,7,4142,0.92,7469,6871,null,null,"HPH 304 Shark","EP","Není v databázi"]
["Martin Fürjes",null,null,"SGC Martin",null,"PMSR 2019 - Kombi Open","SK",2019,8,3907,{"$f":"VLOOKUP(F872,Soutez,12,0)","v":0.92},6906,6354,null,null,"JS 1C Revelation 21m","MD",{"$f":"IF(ISERROR(VLOOKUP(A872,Pilot,6,0)),\"Není v databázi\",VLOOKUP(A872,Pilot,6,0))","v":"Není v databázi"}]
["Niko & Darnady",null,null,"AK Prievidza",null,"PMSR 2019 - Kombi Open","SK",2019,9,3771,0.92,6483,5964,null,null,"Duo Discus",777,"Není v databázi"]
["Jozef Pesko",null,null,null,null,"PMSR 2019 - Kombi Open","SK",2019,10,3353,0.92,5662,5209,null,null,"DG-1000T","NIT","Není v databázi"]
["Jakubcak & Sulirova",null,null,"SGC Martin",null,"PMSR 2019 - Kombi Open","SK",2019,11,3254,0.92,5291,{"$f":"ROUND(K875*L875,0)","v":4868},null,null,"Arcus M","CAR","Není v databázi"]
["Milan Lojdl",null,null,"AK Martin",null,"PMSR 2019 - Kombi Open","SK",2019,12,3134,0.92,4891,4500,null,null,"Ventus 2cxT 18m","MJ1","Není v databázi"]
["Peter Pokorny",null,null,"AK Bratislava",null,"PMSR 2019 - Kombi Open","SK",2019,13,3064,0.92,4561,4196,null,null,"ASG 29E","9E","Není v databázi"]
["Ondrej Dupal",{"$f":"VLOOKUP(A878,Pilot,2,0)","v":1966},{"$f":"VLOOKUP(A878,Pilot,5,0)","v":"M"},{"$f":"VLOOKUP(A878,Pilot,3,0)","v":"GAC Benešov"},{"$f":"VLOOKUP(A878,Pilot,4,0)","v":"CZ/C1"},"PMSR 2019 - Kombi Open","SK",2019,14,2553,0.92,{"$f":"ROUND(J878/MAX($J$865:$J$878)*10000*0.7+(MAX($I$865:$I$878)-I878)/(MAX($I$865:$I$878)-1)*10000*0.3,0)","v":3608},3319,null,null,"ASG 29E","GO",""]
["Ilja Kopacek",1943,"M","Jičín","CZ/C2","Pohár Českého Ráje 2019 - Kombi","CZ",2019,1,1711,0.73,{"$f":"ROUND(J879/MAX($J$879:$J$890)*10000*0.7+(MAX($I$879:$I$890)-I879)/(MAX($I$879:$I$890)-1)*10000*0.3,0)","v":10000},7300,"x",null,"Std. Cirrus","XL",""]
["Ales Holoubek",1966,"M","Jičín","CZ/C2","Pohár Českého Ráje 2019 - Kombi","CZ",2019,2,1569,0.73,{"$f":"ROUND(J880/MAX($J$879:$J$890)*10000*0.7+(MAX($I$879:$I$890)-I880)/(MAX($I$879:$I$890)-1)*10000*0.3,0)","v":9146},6677,"x",null,"ASW 15b NG","T",""]
["Radek Tobolka",1977,"M","Jičín","CZ/C2","Pohár Českého Ráje 2019 - Kombi","CZ",2019,3,1493,0.73,8563,6251,"x",null,"St.Cirrus","SC",""]
["Milos Pajr",1966,"M","Jičín","CZ/C2","Pohár Českého Ráje 2019 - Kombi","CZ",2019,4,1400,0.73,7909,5774,null,null,"HPH_304MS","QS",""]
["Miroslav Trybucek",1965,"M","Jičín","CZ/C2","Pohár Českého Ráje 2019 - Kombi","CZ",2019,5,1394,0.73,7612,5557,"x",null,"Ventus 2cM/18m","OZ",""]
["Petr Rygl",1966,"M","Jičín","CZ/C2","Pohár Českého Ráje 2019 - Kombi","CZ",2019,6,1356,0.73,7184,5244,"x",null,"ASW 15","A18",""]
["Petr Kyzivat",1970,"M","Jičín","CZ/C2","Pohár Českého Ráje 2019 - Kombi","CZ",2019,7,1314,0.73,6739,4919,"x",null,"Std. Cirrus","FS",""]
["Petr Tax",1968,"M","Jičín","CZ/C2","Pohár Českého Ráje 2019 - Kombi","CZ",2019,8,1294,0.73,6385,4661,"x",null,"TEREJ","VIP",""]
["Vokrinek & Vokrinkova",null,null,"Hodkovice",null,"Pohár Českého Ráje 2019 - Kombi","CZ",2019,9,1178,0.73,{"$f":"ROUND(J887/MAX($J$879:$J$890)*10000*0.7+(MAX($I$879:$I$890)-I887)/(MAX($I$879:$I$890)-1)*10000*0.3,0)","v":5638},4116,null,null,"TWIN ASTIR","BL","Není v databázi"]
["Coufal & Jezek",null,null,"Jičín",null,"Pohár Českého Ráje 2019 - Kombi","CZ",2019,10,814,0.73,3876,2829,null,null,"Janus 18.2m","JC","Není v databázi"]
["Jiri Pixa",{"$f":"VLOOKUP(A889,Pilot,2,0)","v":1968},{"$f":"VLOOKUP(A889,Pilot,5,0)","v":"M"},{"$f":"VLOOKUP(A889,Pilot,3,0)","v":"Slaný"},{"$f":"VLOOKUP(A889,Pilot,4,0)","v":"CZ/C1"},"Pohár Českého Ráje 2019 - Kombi","CZ",2019,11,740,0.73,3300,2409,"x",null,"VSO-10","G9",""]
["Fuksa & dalsi",null,null,"Jičín",null,"Pohár Českého Ráje 2019 - Kombi","CZ",2019,12,601,0.73,2459,1795,null,null,"Duo Discus XL",88,"Není v databázi"]
["Jiri Holcman",{"$f":"VLOOKUP(A891,Pilot,2,0)","v":1976},{"$f":"VLOOKUP(A891,Pilot,5,0)","v":"M"},{"$f":"VLOOKUP(A891,Pilot,3,0)","v":"Hosín"},{"$f":"VLOOKUP(A891,Pilot,4,0)","v":"CZ/C1"},"PPV 2019 - Klub","CZ",2019,1,1986,0.9,{"$f":"ROUND(J891/MAX($J$891:$J$937)*10000*0.7+(MAX($I$891:$I$937)-I891)/(MAX($I$891:$I$937)-1)*10000*0.3,0)","v":10000},9000,"x",null,"ASW 19","BO",""]
["Josef Novotny",1983,"M","Přibyslav","CZ/C2","PPV 2019 - Klub","CZ",2019,2,1983,0.9,{"$f":"ROUND(J892/MAX($J$891:$J$937)*10000*0.7+(MAX($I$891:$I$937)-I892)/(MAX($I$891:$I$937)-1)*10000*0.3,0)","v":9924},8932,"x",null,"Cirrus Std.","AW",""]
["Jaromir Pauer",1974,"M","Hosín","CZ/C1","PPV 2019 - Klub","CZ",2019,3,1914,0.9,9616,8654,"x",null,"DG101G",78,""]
["Michal Kodousek",1983,"M","Jaroměř","CZ/C2","PPV 2019 - Klub","CZ",2019,4,1854,0.9,9339,8405,"x",null,"LS 3","RI",""]
["Radoslav Pur",1973,"M","Hosín","CZ/C1","PPV 2019 - Klub","CZ",2019,5,1847,0.9,9249,8324,"x",null,"DG200","EK",""]
["Karel Horalek",1976,"M","Olomouc","CZ/M","PPV 2019 - Klub","CZ",2019,6,1842,0.9,9166,8249,"x",null,"LS 3 15m","Y1",""]
["Martin Svarc",1981,"M","Olomouc","CZ/M","PPV 2019 - Klub","CZ",2019,7,1796,0.9,8939,8045,null,null,"DG101G","HE",""]
["Vaclav Marel",1974,"M","Jaroměř","CZ/C2","PPV 2019 - Klub","CZ",2019,8,1788,0.9,8846,7961,"x",null,"Cirrus Std.","IF",""]
["Petr Hofman",1984,"M","Letňany","CZ/C1","PPV 2019 - Klub","CZ",2019,9,1771,0.9,8720,7848,"x",null,"ASW 15B","MA",""]
["Jindrich Svorc",1978,"M","Letňany","CZ/C1","PPV 2019 - Klub","CZ",2019,10,1766,0.9,8638,7774,"x",null,"Cirrus Std.","IMI",""]
["Milan Svoboda 80",1980,"M","Havlíčkův Brod","CZ/C2","PPV 2019 - Klub","CZ",2019,10,1766,0.9,8638,7774,"x",null,"VT-116 Orlik 2",46,""]
["Juraj Dudas",1990,"M","Křižanov","CZ/M","PPV 2019 - Klub","CZ",2019,12,1755,0.9,8468,7621,"x",null,"Cirrus Std.","XII",""]
["Miloslav Hulmak",1963,"M","Hosín","CZ/C1","PPV 2019 - Klub","CZ",2019,13,1740,0.9,8350,7515,"x",null,"ASW 15B","I",""]
["Jaroslav Cempirek 77",1977,"M","Jihlava","CZ/M","PPV 2019 - Klub","CZ",2019,14,1736,0.9,8271,7444,"x",null,"VSO-10","G1",""]
["Josef Kolman",1983,"M","Letňany","CZ/C1","PPV 2019 - Klub","CZ",2019,15,1714,0.9,8128,7315,"x",null,"ASW-15B","BA4",""]
["Radek Zima 75",1975,"M","Břeclav","CZ/M","PPV 2019 - Klub","CZ",2019,16,1710,0.9,8049,7244,"x",null,"DG 100","M",""]
["Matous Schmidt",1981,"M","Letňany","CZ/C1","PPV 2019 - Klub","CZ",2019,17,1685,0.9,7896,7106,"x",null,"Discus b","LH",""]
["Pavel Liska",1965,"M","Roudnice","CZ/C2","PPV 2019 - Klub","CZ",2019,18,1666,0.9,7763,6987,"x",null,"VSO-10",6,""]
["Jan Oscatka",1990,"M","Jaroměř","CZ/C2","PPV 2019 - Klub","CZ",2019,19,1637,0.9,7596,6836,"x",null,"Cirrus Std.","GO",""]
["David Vrchota",1976,"M","Jaroměř","CZ/C2","PPV 2019 - Klub","CZ",2019,20,1634,0.9,7520,6768,"x",null,"Janus b","BV",""]
["Jan Beranek",1976,"M","Jihlava","CZ/M","PPV 2019 - Klub","CZ",2019,21,1625,0.9,7423,6681,"x",null,"ASW 19B","U2",""]
["Martin Urner",1974,"M","Letňany","CZ/C1","PPV 2019 - Klub","CZ",2019,22,1557,0.9,7118,6406,null,null,"ASW 15B","JJ",""]
["Petr Rozhon",1972,"M","Hosín","CZ/C1","PPV 2019 - Klub","CZ",2019,23,1552,0.9,7036,6332,"x",null,"VSO-10",9,""]
["Jiri Koudela",1974,"M","Vyškov","CZ/M","PPV 2019 - Klub","CZ",2019,24,1494,0.9,6766,6089,null,null,"ASW 19B","JK",""]
["Tomas Hulmak",1999,"M","Hosín","CZ/C1","PPV 2019 - Klub","CZ",2019,25,1466,0.9,6602,5942,"x",null,"ASW 15B","HH","Junior v roce 2022"]
["Tomas Ptacovsky",1981,"M","Letňany","CZ/C1","PPV 2019 - Klub","CZ",2019,26,1458,0.9,6509,5858,"x",null,"ASW 19B","WTF",""]
["Ivan Kuzelka",1945,"M","Havlíčkův Brod","CZ/C2","PPV 2019 - Klub","CZ",2019,27,1379,0.9,6165,5549,"x",null,"VT-116 Orlik 2",null,""]
["Ondrej Blaha",1976,"M","Letňany","CZ/C1","PPV 2019 - Klub","CZ",2019,28,1266,0.9,5701,5131,"x",null,"VT-116 Orlik 2",44,""]
["Roman Lengal",1987,"M","Břeclav","CZ/M","PPV 2019 - Klub","CZ",2019,29,1237,0.9,5534,4981,"x",null,"Cirrus - VTC",13,""]
["Vilem Riha",1990,"M","Letňany","CZ/C1","PPV 2019 - Klub","CZ",2019,30,1227,0.9,5433,4890,"x",null,"Cirrus Std.","YU",""]
["Libor Danhel",1966,"M","Kunovice","CZ/M","PPV 2019 - Klub","CZ",2019,31,1207,0.9,5298,4768,"x",null,"Cirrus Std.","OK",""]
["Ondrej Hart",1990,"M","Letňany","CZ/C1","PPV 2019 - Klub","CZ",2019,32,1191,0.9,5176,4658,"x",null,"VSO-10","M4",""]
["Libor Bednarik",{"$f":"VLOOKUP(A923,Pilot,2,0)","v":1972},{"$f":"VLOOKUP(A923,Pilot,5,0)","v":"M"},{"$f":"VLOOKUP(A923,Pilot,3,0)","v":"Kunovice"},{"$f":"VLOOKUP(A923,Pilot,4,0)","v":"CZ/M"},"PPV 2019 - Klub","CZ",2019,33,1175,0.9,5055,4550,"x",null,"Cirrus Std.","PIF",""]
["Vaclav Petru",1974,"M","Letňany","CZ/C1","PPV 2019 - Klub","CZ",2019,34,1159,0.9,4933,4440,"x",null,"TST-3TM","AI",""]
["Yvona Vyhnankova",1963,"F","Olomouc","CZ/M","PPV 2019 - Klub","CZ",2019,35,1129,0.9,4762,4286,null,null,"ASW 15","YZ",""]
["Petr Valenta 76",1976,"M","Jaroměř","CZ/C2","PPV 2019 - Klub","CZ",2019,36,1124,0.9,4679,4211,"x",null,"Discus b","JA",""]
["Jiri Dockal",1982,"M","Letňany","CZ/C1","PPV 2019 - Klub","CZ",2019,37,1097,0.9,4519,4067,"x",null,"VSO-10","L9",""]
["Lubomir Papezik",1951,"M","Luhačovice","CZ/M","PPV 2019 - Klub","CZ",2019,38,924,0.9,3844,3460,null,null,"LS 4","FP",""]
["Jan Zezula",1979,"M","Letňany","CZ/C1","PPV 2019 - Klub","CZ",2019,39,800,0.9,{"$f":"ROUND(J929/MAX($J$891:$J$937)*10000*0.7+(MAX($I$891:$I$937)-I929)/(MAX($I$891:$I$937)-1)*10000*0.3,0)","v":3341},3007,null,null,"ASW 19B","HD",""]
["Vaclav Ochotny",1966,"M","Kunovice","CZ/M","PPV 2019 - Klub","CZ",2019,40,608,0.9,2600,2340,"x",null,"DG 400 15m","VZ",""]
["Jiri Kohoutek",1983,"M","Olomouc","CZ/M","PPV 2019 - Klub","CZ",2019,41,571,0.9,2404,2164,"x",null,"DG101G","IL",""]
["Milos Hrabe",1979,"M","Letňany","CZ/C1","PPV 2019 - Klub","CZ",2019,42,542,0.9,2236,2012,"x",null,"VSO-10","L2",""]
["Lukas Zach",1987,"M","Vyškov","CZ/M","PPV 2019 - Klub","CZ",2019,43,417,0.9,1731,1558,null,null,"Grob Astir","AS",""]
["Stanislav John",1974,"M","Hosín","CZ/C1","PPV 2019 - Klub","CZ",2019,44,398,0.9,1598,1438,"x",null,"DG101G","H5",""]
["Michaela Sirmerova",2000,"F","Jihlava","CZ/M","PPV 2019 - Klub","CZ",2019,45,360,0.9,1399,1259,"x","x","ASW 15B","A5","Junior v roce 2022"]
["Antonin Pilat",1971,"M","Vyškov","CZ/M","PPV 2019 - Klub","CZ",2019,46,306,{"$f":"VLOOKUP(F936,Soutez,12,0)","v":0.9},1144,1030,null,null,"DG 200 - 15","JB",{"$f":"IF(ISERROR(VLOOKUP(A936,Pilot,6,0)),\"Není v databázi\",VLOOKUP(A936,Pilot,6,0))","v":""}]
["Jiri Janda",1966,"M","Letňany","CZ/C1","PPV 2019 - Klub","CZ",2019,47,122,0.9,430,387,"x",null,"Cirrus Std.","ZT",""]
["Jan Boruvka",1984,"M","Jičín","CZ/C2","PPV 2019 - Kombi","CZ",2019,1,2263,0.90500000000000003,{"$f":"ROUND(J938/MAX($J$938:$J$956)*10000*0.7+(MAX($I$938:$I$956)-I938)/(MAX($I$938:$I$956)-1)*10000*0.3,0)","v":10000},9050,"x",null,"Ventus C 17,6m","EG",""]
["Pavel Zima",1979,"M","Břeclav","CZ/M","PPV 2019 - Kombi","CZ",2019,2,2152,0.90500000000000003,{"$f":"ROUND(J939/MAX($J$938:$J$956)*10000*0.7+(MAX($I$938:$I$956)-I939)/(MAX($I$938:$I$956)-1)*10000*0.3,0)","v":9490},{"$f":"ROUND(K939*L939,0)","v":8588},"x",null,"Ventus CM 17.6m","RK",""]
["Radek Kucirek",1973,"M","Havlíčkův Brod","CZ/C2","PPV 2019 - Kombi","CZ",2019,3,2150,0.90500000000000003,9317,8432,null,null,"EB 28","NA",""]
["Petr Hotovy",1958,"M","Česká Lípa","CZ/C2","PPV 2019 - Kombi","CZ",2019,4,2070,0.90500000000000003,8903,8057,null,null,"JS1B TJ","IGC",""]
["Lukas Benedikt",null,"M","AK Trnava","SK","PPV 2019 - Kombi","CZ",2019,5,2055,0.90500000000000003,8690,7864,null,null,"Ventus 3F 17,6m","LB","Není v databázi"]
["Jan Kantor",{"$f":"VLOOKUP(A943,Pilot,2,0)","v":1983},{"$f":"VLOOKUP(A943,Pilot,5,0)","v":"M"},{"$f":"VLOOKUP(A943,Pilot,3,0)","v":"Letňany"},{"$f":"VLOOKUP(A943,Pilot,4,0)","v":"CZ/C1"},"PPV 2019 - Kombi","CZ",2019,6,2012,0.90500000000000003,8390,7593,"x",null,"Ventus C 17,6m","UČ",""]
["Josef Busek",1967,"M","Hosín","CZ/C1","PPV 2019 - Kombi","CZ",2019,7,1765,0.90500000000000003,7460,6751,"x",null,"DuoDiscus X","BB",""]
["Jan Dersak 69",1969,"M","Kralupy","CZ/C1","PPV 2019 - Kombi","CZ",2019,8,1740,0.90500000000000003,7216,6530,null,null,"HPH 304 SJ","DJ",""]
["Michael Fik",1972,"M","Strakonice","CZ/C1","PPV 2019 - Kombi","CZ",2019,9,1725,0.90500000000000003,7003,6338,"x",null,"Ventus C 17,6m","GE",""]
["Jan Kohout",1970,"M","Žamberk","CZ/C2","PPV 2019 - Kombi","CZ",2019,10,1688,0.90500000000000003,6721,6083,null,null,"LS 8","SK",""]
["Antonin Konicek",1973,"M","Kunovice","CZ/M","PPV 2019 - Kombi","CZ",2019,11,1606,0.90500000000000003,6301,5702,null,null,"HPH 304 MS","KK",""]
["Petr Babak",1973,"M","Hořice","CZ/C2","PPV 2019 - Kombi","CZ",2019,12,1527,0.90500000000000003,5890,5330,null,null,"Ventus C 17,6m","LS",""]
["David Zapletal",1970,"M","Mladá Boleslav","CZ/C1","PPV 2019 - Kombi","CZ",2019,13,1517,0.90500000000000003,5692,5151,"x",null,"Ventus C 17,6m","PUP",""]
["Jan Simon",1970,"M","Kralupy","CZ/C1","PPV 2019 - Kombi","CZ",2019,14,1509,0.90500000000000003,5501,4978,null,null,"Ventus CT 17.6m","KR",""]
["Petr Malcek",1965,"M","Letňany","CZ/C1","PPV 2019 - Kombi","CZ",2019,15,1207,0.90500000000000003,4400,3982,"x",null,"DuoDiscus XT","DD",""]
["Milos Mach",null,"M","Nove Zamky","SK","PPV 2019 - Kombi","CZ",2019,16,1204,0.90500000000000003,{"$f":"ROUND(J953/MAX($J$938:$J$956)*10000*0.7+(MAX($I$938:$I$956)-I953)/(MAX($I$938:$I$956)-1)*10000*0.3,0)","v":4224},3823,null,null,"Discus 2","JH","Není v databázi"]
["Michal Hemrle",{"$f":"VLOOKUP(A954,Pilot,2,0)","v":1974},{"$f":"VLOOKUP(A954,Pilot,5,0)","v":"M"},{"$f":"VLOOKUP(A954,Pilot,3,0)","v":"Česká Lípa"},{"$f":"VLOOKUP(A954,Pilot,4,0)","v":"CZ/C2"},"PPV 2019 - Kombi","CZ",2019,17,1128,0.90500000000000003,3823,3460,null,null,"Ventus C 17,6m","XE",""]
["Zdenek Boruvka 54",{"$f":"VLOOKUP(A955,Pilot,2,0)","v":1954},{"$f":"VLOOKUP(A955,Pilot,5,0)","v":"M"},{"$f":"VLOOKUP(A955,Pilot,3,0)","v":"Jičín"},{"$f":"VLOOKUP(A955,Pilot,4,0)","v":"CZ/C2"},"PPV 2019 - Kombi","CZ",2019,18,1074,0.90500000000000003,3489,3158,null,null,"LS 8","ZB",""]
["Pavel Haluza",{"$f":"VLOOKUP(A956,Pilot,2,0)","v":1966},{"$f":"VLOOKUP(A956,Pilot,5,0)","v":"M"},{"$f":"VLOOKUP(A956,Pilot,3,0)","v":"Prostějov"},{"$f":"VLOOKUP(A956,Pilot,4,0)","v":"CZ/M"},"PPV 2019 - Kombi","CZ",2019,19,669,0.90500000000000003,2069,1872,null,null,"Nimbus 2","HT",""]
["Briel & Levin",null,null,"LSV Homberg/Ohm",null,"Pribina Cup 2019 - Duo 20m","SK",2019,1,2977,0.92,{"$f":"ROUND(J957/MAX($J$957:$J$969)*10000*0.7+(MAX($I$957:$I$969)-I957)/(MAX($I$957:$I$969)-1)*10000*0.3,0)","v":10000},9200,null,null,"Duo Discus X","H1","Není v databázi"]
["Weidlich & Moeller",null,null,null,null,"Pribina Cup 2019 - Duo 20m","SK",2019,2,2905,0.92,{"$f":"ROUND(J958/MAX($J$957:$J$969)*10000*0.7+(MAX($I$957:$I$969)-I958)/(MAX($I$957:$I$969)-1)*10000*0.3,0)","v":9581},8815,null,null,"Arcus","YA","Není v databázi"]
["Goralski & Holighaus",null,null,null,null,"Pribina Cup 2019 - Duo 20m","SK",2019,3,2872,0.92,9253,8513,null,null,"Arcus",20,"Není v databázi"]
["Buhlmann & Schlautmann",null,null,"FLC Schwandorf",null,"Pribina Cup 2019 - Duo 20m","SK",2019,4,2792,0.92,8815,8110,null,null,"Arcus","ES","Není v databázi"]
["Emmerich & Kretzschmar",null,null,"Aero Club Lichtenfels",null,"Pribina Cup 2019 - Duo 20m","SK",2019,5,2723,0.92,8403,7731,null,null,"Arcus T","ISP","Není v databázi"]
["Czeladzki & Biela",null,null,"Nowy Targ",null,"Pribina Cup 2019 - Duo 20m","SK",2019,6,2585,0.92,7828,7202,null,null,"Duo Discus (750kg)","POL","Není v databázi"]
["Corporaal & Corporaal",null,null,null,null,"Pribina Cup 2019 - Duo 20m","SK",2019,7,2362,0.92,7054,6490,null,null,"Duo Discus (750kg)","WO","Není v databázi"]
["Tourula & Kankare",null,null,"Helsingin Ilmailukerho",null,"Pribina Cup 2019 - Duo 20m","SK",2019,8,2341,0.92,6755,6215,null,null,"DG-1000T 20m","NIT","Není v databázi"]
["Fischer & Stahf",null,null,"FCC Berlin e.V.",null,"Pribina Cup 2019 - Duo 20m","SK",2019,9,2326,0.92,{"$f":"ROUND(J965/MAX($J$957:$J$969)*10000*0.7+(MAX($I$957:$I$969)-I965)/(MAX($I$957:$I$969)-1)*10000*0.3,0)","v":6469},5951,null,null,"Arcus","V8","Není v databázi"]
["de Boer & Ooijevaar",null,null,null,null,"Pribina Cup 2019 - Duo 20m","SK",2019,10,2124,0.92,5744,5284,null,null,"Duo Discus (750kg)","2T","Není v databázi"]
["Szabadfi & Tornyai",null,null,"MALEV Aeroclub",null,"Pribina Cup 2019 - Duo 20m","SK",2019,11,1907,0.92,4984,4585,null,null,"Arcus","AB","Není v databázi"]
["Gevad & Andersen",null,null,null,null,"Pribina Cup 2019 - Duo 20m","SK",2019,12,1814,0.92,4515,4154,null,null,"Duo Discus XL","MF","Není v databázi"]
["Schwan & Hudler",null,null,null,null,"Pribina Cup 2019 - Duo 20m","SK",2019,13,1468,0.92,3452,3176,null,null,"Duo Discus (700kg)","MM","Není v databázi"]
["Miroslaw Izydorczak",null,null,null,null,"Pribina Cup 2019 - Klub","SK",2019,"HC","3322",0.94500000000000006,null,{"$f":"ROUND(K970*L970,0)","v":0},null,null,"ASW 20 /15m","SB",{"$f":"IF(ISERROR(VLOOKUP(A970,Pilot,6,0)),\"Není v databázi\",VLOOKUP(A970,Pilot,6,0))","v":"Není v databázi"}]
["Mark Travner",null,null,"Aeroklub Celje",null,"Pribina Cup 2019 - Klub","SK",2019,1,3210,0.94500000000000006,{"$f":"ROUND(J971/MAX($J$970:$J$1013)*10000*0.7+(MAX($I$970:$I$1013)-I971)/(MAX($I$970:$I$1013)-1)*10000*0.3,0)","v":10000},9450,null,null,"DG 300","CE","Není v databázi"]
["Ales Kovac",null,null,null,null,"Pribina Cup 2019 - Klub","SK",2019,2,3194,0.94500000000000006,{"$f":"ROUND(J972/MAX($J$970:$J$1013)*10000*0.7+(MAX($I$970:$I$1013)-I972)/(MAX($I$970:$I$1013)-1)*10000*0.3,0)","v":9894},9350,null,null,"DG 300","CF","Není v databázi"]
["Tobias Pachowsky",null,null,null,null,"Pribina Cup 2019 - Klub","SK",2019,3,3158,0.94500000000000006,9744,9208,null,null,"LS-4","IGP","Není v databázi"]
["Hauke Schmoranzer",null,null,null,null,"Pribina Cup 2019 - Klub","SK",2019,4,3140,0.94500000000000006,9633,9103,null,null,"LS-4","P9","Není v databázi"]
["Uwe Wahlig",null,null,"Segelfluggruppe Bensheim e.V.",null,"Pribina Cup 2019 - Klub","SK",2019,5,3121,0.94500000000000006,9520,8996,null,null,"LS-3 /15m WL","SN","Není v databázi"]
["Pawel Glowacki",null,null,null,null,"Pribina Cup 2019 - Klub","SK",2019,6,2967,0.94500000000000006,9113,8612,null,null,"Pegase C101A","J7","Není v databázi"]
["Ales Fink",null,null,"KOROSKI AEROKLUB SLOVENJ GRADEC",null,"Pribina Cup 2019 - Klub","SK",2019,7,2953,0.94500000000000006,9011,8515,null,null,"DG 300","KO","Není v databázi"]
["Gerrit Feige",null,null,"LSV Gifhorn",null,"Pribina Cup 2019 - Klub","SK",2019,8,2861,0.94500000000000006,8739,8258,null,null,"LS-4","ILM","Není v databázi"]
["Martin Jurovic",null,null,null,null,"Pribina Cup 2019 - Klub","SK",2019,9,2857,0.94500000000000006,8659,8183,null,null,"Pegase C101A","J2","Není v databázi"]
["Jan Kovalcik",null,null,null,null,"Pribina Cup 2019 - Klub","SK",2019,10,2829,0.94500000000000006,8526,8057,null,null,"Pegase C101A","OI","Není v databázi"]
["Milan Surovcik",null,null,"Slovak national aeroclub",null,"Pribina Cup 2019 - Klub","SK",2019,11,2825,0.94500000000000006,8446,7981,null,null,"Pegase C101A","EL","Není v databázi"]
["Mindaugas Zaliukas",null,null,"Kaunas Aeroclub, Pociunai",null,"Pribina Cup 2019 - Klub","SK",2019,12,2804,0.94500000000000006,8329,7871,null,null,"HpH 304cz /15m","MZ","Není v databázi"]
["Markus Uhlig",null,null,"FC Grossrückerswalde",null,"Pribina Cup 2019 - Klub","SK",2019,13,2593,0.94500000000000006,7797,7368,null,null,"Jantar Std.3","M4","Není v databázi"]
["Felix Hoffmann",null,null,"Aero Club Buende e.V.",null,"Pribina Cup 2019 - Klub","SK",2019,14,2570,0.94500000000000006,7676,7254,null,null,"ASW 20 /15m","K2","Není v databázi"]
["Wolli Beyer",null,null,null,null,"Pribina Cup 2019 - Klub","SK",2019,15,2558,0.94500000000000006,7578,7161,null,null,"ASW 20 /15m","5B","Není v databázi"]
["Adam Kacvinsky",null,null,"AK Bratislava",null,"Pribina Cup 2019 - Klub","SK",2019,16,2541,0.94500000000000006,7470,7059,null,null,"ASW 19","BA4","Není v databázi"]
["Klara Teichmannova",{"$f":"VLOOKUP(A987,Pilot,2,0)","v":1993},{"$f":"VLOOKUP(A987,Pilot,5,0)","v":"F"},{"$f":"VLOOKUP(A987,Pilot,3,0)","v":"Hronov"},{"$f":"VLOOKUP(A987,Pilot,4,0)","v":"CZ/C2"},"Pribina Cup 2019 - Klub","SK",2019,17,2514,0.94500000000000006,7339,6935,"x","x","Std. Cirrus","LY",""]
["Marek Sawczuk",null,null,"Aeroklub Warszawski",null,"Pribina Cup 2019 - Klub","SK",2019,18,2513,0.94500000000000006,7266,6866,null,null,"Jantar Std.3","PT","Není v databázi"]
["Dominik Süß",null,null,null,null,"Pribina Cup 2019 - Klub","SK",2019,19,2482,0.94500000000000006,7127,6735,null,null,"H-201b Std. Libelle WL","ULI","Není v databázi"]
["Luka Ranđelović",null,null,"AK Celje",null,"Pribina Cup 2019 - Klub","SK",2019,20,2466,0.94500000000000006,7020,6634,null,null,"DG 300","Y3","Není v databázi"]
["Martin Picka",{"$f":"VLOOKUP(A991,Pilot,2,0)","v":1974},{"$f":"VLOOKUP(A991,Pilot,5,0)","v":"M"},{"$f":"VLOOKUP(A991,Pilot,3,0)","v":"Tábor"},{"$f":"VLOOKUP(A991,Pilot,4,0)","v":"CZ/C1"},"Pribina Cup 2019 - Klub","SK",2019,21,2423,0.94500000000000006,6855,6478,"x",null,"ASW-19B","BU",""]
["Ivan Novak",{"$f":"VLOOKUP(A992,Pilot,2,0)","v":1962},{"$f":"VLOOKUP(A992,Pilot,5,0)","v":"M"},{"$f":"VLOOKUP(A992,Pilot,3,0)","v":"Mladá Boleslav"},{"$f":"VLOOKUP(A992,Pilot,4,0)","v":"CZ/C1"},"Pribina Cup 2019 - Klub","SK",2019,22,2378,0.94500000000000006,6686,6318,null,null,"LS-4","IX",""]
["Paul Altrichter",null,null,null,null,"Pribina Cup 2019 - Klub","SK",2019,23,2334,0.94500000000000006,6518,6160,null,null,"LS-4","AK","Není v databázi"]
["Christoph Koch",null,null,"SFC Fürstenfeld",null,"Pribina Cup 2019 - Klub","SK",2019,24,2292,0.94500000000000006,6355,6005,null,null,"Discus CS","JB","Není v databázi"]
["Adam Kapuy",null,null,"MSE",null,"Pribina Cup 2019 - Klub","SK",2019,25,2265,0.94500000000000006,6225,5883,null,null,"LS-4","GJ","Není v databázi"]
["Florian Heilmann",null,null,"FC Kamenz",null,"Pribina Cup 2019 - Klub","SK",2019,26,2249,0.94500000000000006,6119,5782,null,null,"Jantar Std.3",9,"Není v databázi"]
["Zbigniew Górecki",null,null,"Łódź",null,"Pribina Cup 2019 - Klub","SK",2019,27,2211,0.94500000000000006,5964,5636,null,null,"LS-1f","C1","Není v databázi"]
["Ulrich Luta",null,null,"FVA Aachen / SFC Riedelbach",null,"Pribina Cup 2019 - Klub","SK",2019,28,2203,0.94500000000000006,5875,5552,null,null,"LS-4","ZU","Není v databázi"]
["Michal Lesinger",{"$f":"VLOOKUP(A999,Pilot,2,0)","v":1966},{"$f":"VLOOKUP(A999,Pilot,5,0)","v":"M"},{"$f":"VLOOKUP(A999,Pilot,3,0)","v":"Moravská Třebová"},{"$f":"VLOOKUP(A999,Pilot,4,0)","v":"CZ/M"},"Pribina Cup 2019 - Klub","SK",2019,29,2190,0.94500000000000006,5776,5458,null,null,"ASW 19","LL",""]
["Konrad Partyka",null,null,null,null,"Pribina Cup 2019 - Klub","SK",2019,30,2165,{"$f":"VLOOKUP(F1000,Soutez,12,0)","v":0.94500000000000006},5650,5339,null,null,"SZD-48-3 Brawo","BZ","Není v databázi"]
["Marek Bialy",null,null,"Radom",null,"Pribina Cup 2019 - Klub","SK",2019,31,2093,0.94500000000000006,5421,5123,null,null,"Jantar Std.3","W2",{"$f":"IF(ISERROR(VLOOKUP(A1001,Pilot,6,0)),\"Není v databázi\",VLOOKUP(A1001,Pilot,6,0))","v":"Není v databázi"}]
["Martynas Slizys",null,null,"Pociunai",null,"Pribina Cup 2019 - Klub","SK",2019,32,2036,0.94500000000000006,5226,4939,null,null,"Jantar Std.3","CT","Není v databázi"]
["Robert Toth",null,null,"Aero Club Szolnok, Hungary",null,"Pribina Cup 2019 - Klub","SK",2019,33,1957,0.94500000000000006,4982,4708,null,null,"Std. Libelle","PI","Není v databázi"]
["Edmund Schuller",null,null,null,null,"Pribina Cup 2019 - Klub","SK",2019,34,1887,0.94500000000000006,4758,{"$f":"ROUND(K1004*L1004,0)","v":4496},null,null,"ASW-24(A)+W","ZS","Není v databázi"]
["Marcin Bernaszuk",null,null,"Aeroklub Wrocławski",null,"Pribina Cup 2019 - Klub","SK",2019,35,1668,0.94500000000000006,4209,3978,null,null,"Jantar Std.3","EX","Není v databázi"]
["Miha Premrl",null,null,null,null,"Pribina Cup 2019 - Klub","SK",2019,36,1628,0.94500000000000006,4050,3827,null,null,"DG-100","I9","Není v databázi"]
["Maximilian Ebert",null,null,null,null,"Pribina Cup 2019 - Klub","SK",2019,37,1582,0.94500000000000006,3878,3665,null,null,"LS-1f","PM","Není v databázi"]
["Wojciech Kubiak",null,null,"Aeroklub Krakowski",null,"Pribina Cup 2019 - Klub","SK",2019,38,1387,0.94500000000000006,3382,3196,null,null,"SZD 55","W07","Není v databázi"]
["Niklas Unterrainer",null,null,"FC St. Johann in Tirol",null,"Pribina Cup 2019 - Klub","SK",2019,39,1202,0.94500000000000006,2907,2747,null,null,"LS-4","8F","Není v databázi"]
["Balazs Endrodi",null,null,"Aeroklub Farkashegy",null,"Pribina Cup 2019 - Klub","SK",2019,40,874,0.94500000000000006,2120,2003,null,null,"ASW 19","FH","Není v databázi"]
["Richard Vajda",null,null,null,null,"Pribina Cup 2019 - Klub","SK",2019,41,739,0.94500000000000006,1754,1658,null,null,"ASW 20 /15m","BAS","Není v databázi"]
["Milos Horvat",null,null,null,null,"Pribina Cup 2019 - Klub","SK",2019,42,701,0.94500000000000006,1600,1512,null,null,"ASW 20 /15m","H","Není v databázi"]
["Igor Cech",null,null,null,null,"Pribina Cup 2019 - Klub","SK",2019,43,14,0.94500000000000006,31,29,null,null,"Silent 2","ZI","Není v databázi"]
["Tomasz Hornik",null,null,"Aeroklub Nadwislanski",null,"Pribina Cup 2019 - Kombi 15m","SK",2019,1,3272,0.95000000000000007,{"$f":"ROUND(J1014/MAX($J$1014:$J$1050)*10000*0.7+(MAX($I$1014:$I$1050)-I1014)/(MAX($I$1014:$I$1050)-1)*10000*0.3,0)","v":10000},9500,null,null,"Discus 2a /15m","II","Není v databázi"]
["Radek Krejcirik",{"$f":"VLOOKUP(A1015,Pilot,2,0)","v":1991},{"$f":"VLOOKUP(A1015,Pilot,5,0)","v":"M"},{"$f":"VLOOKUP(A1015,Pilot,3,0)","v":"Hranice"},{"$f":"VLOOKUP(A1015,Pilot,4,0)","v":"CZ/M"},"Pribina Cup 2019 - Kombi 15m","SK",2019,2,3199,0.95000000000000007,{"$f":"ROUND(J1015/MAX($J$1014:$J$1050)*10000*0.7+(MAX($I$1014:$I$1050)-I1015)/(MAX($I$1014:$I$1050)-1)*10000*0.3,0)","v":9760},9272,null,null,"Ventus 2A","AX",""]
["Lukasz Grabowski",null,null,null,null,"Pribina Cup 2019 - Kombi 15m","SK",2019,3,2984,0.95000000000000007,9217,8756,null,null,"Diana 2","RP","Není v databázi"]
["Dana Novakova",{"$f":"VLOOKUP(A1017,Pilot,2,0)","v":1965},{"$f":"VLOOKUP(A1017,Pilot,5,0)","v":"F"},{"$f":"VLOOKUP(A1017,Pilot,3,0)","v":"Mladá Boleslav"},{"$f":"VLOOKUP(A1017,Pilot,4,0)","v":"CZ/C1"},"Pribina Cup 2019 - Kombi 15m","SK",2019,4,2866,0.95000000000000007,8881,8437,"x","x","LS 8/15m","AU",""]
["Nils Fecker",null,null,null,null,"Pribina Cup 2019 - Kombi 15m","SK",2019,5,2860,0.95000000000000007,8785,8346,null,null,"Ventus 2A","V","Není v databázi"]
["Jana Veprekova",{"$f":"VLOOKUP(A1019,Pilot,2,0)","v":1961},{"$f":"VLOOKUP(A1019,Pilot,5,0)","v":"F"},{"$f":"VLOOKUP(A1019,Pilot,3,0)","v":"Dvůr Králové"},{"$f":"VLOOKUP(A1019,Pilot,4,0)","v":"CZ/C2"},"Pribina Cup 2019 - Kombi 15m","SK",2019,6,2759,0.95000000000000007,8486,8062,null,null,"LS 8/15m","W8",""]
["Moritz Lukas Habschied",null,null,null,null,"Pribina Cup 2019 - Kombi 15m","SK",2019,7,2733,0.95000000000000007,8347,7930,null,null,"ASW-27B WL","N1","Není v databázi"]
["Philipp Lauer",null,null,null,null,"Pribina Cup 2019 - Kombi 15m","SK",2019,8,2672,0.95000000000000007,8133,7726,null,null,"LS 8/15m","OLC","Není v databázi"]
["Jan Pavlik",{"$f":"VLOOKUP(A1022,Pilot,2,0)","v":1987},{"$f":"VLOOKUP(A1022,Pilot,5,0)","v":"M"},{"$f":"VLOOKUP(A1022,Pilot,3,0)","v":"Křižanov"},{"$f":"VLOOKUP(A1022,Pilot,4,0)","v":"CZ/M"},"Pribina Cup 2019 - Kombi 15m","SK",2019,9,2665,0.95000000000000007,8035,7633,null,null,"LS-8a /15m","JW",""]
["Wolfgang Zimmermann",null,null,"Flugring Austria Wiener Neustadt",null,"Pribina Cup 2019 - Kombi 15m","SK",2019,10,2647,0.95000000000000007,7913,7517,null,null,"Ventus 2b /15m","CI","Není v databázi"]
["Jedrzej Sklodowski",null,null,"Aeroklub Kujawski",null,"Pribina Cup 2019 - Kombi 15m","SK",2019,11,2601,0.95000000000000007,7731,7344,null,null,"LS-6a /15m","VVI","Není v databázi"]
["Jana Treslova",{"$f":"VLOOKUP(A1025,Pilot,2,0)","v":1963},{"$f":"VLOOKUP(A1025,Pilot,5,0)","v":"F"},{"$f":"VLOOKUP(A1025,Pilot,3,0)","v":"Raná"},{"$f":"VLOOKUP(A1025,Pilot,4,0)","v":"CZ/C2"},"Pribina Cup 2019 - Kombi 15m","SK",2019,12,2577,0.95000000000000007,7596,7216,null,null,"Discus 2","GX",""]
["Karsten Leucker",null,null,"Aero-Club Ansbach",null,"Pribina Cup 2019 - Kombi 15m","SK",2019,13,2553,0.95000000000000007,7462,7089,null,null,"Discus 2b /15m","CX","Není v databázi"]
["Piotr Jarysz",null,null,"Aeroklub Koninski",null,"Pribina Cup 2019 - Kombi 15m","SK",2019,14,2514,0.95000000000000007,7295,6930,null,null,"LS-6","BB","Není v databázi"]
["Michael Wisbacher",null,null,null,null,"Pribina Cup 2019 - Kombi 15m","SK",2019,15,2492,0.95000000000000007,7165,6807,null,null,"LS-8a /15m","M1","Není v databázi"]
["Aldo Cernezzi",null,null,"Varese",null,"Pribina Cup 2019 - Kombi 15m","SK",2019,16,2433,0.95000000000000007,6955,6607,null,null,"DG 600/15m","DU","Není v databázi"]
["Wilhelm-Alexander Klomp",null,null,"LV Aachen",null,"Pribina Cup 2019 - Kombi 15m","SK",2019,17,2426,0.95000000000000007,6857,6514,null,null,"Discus 2b /15m","NW2","Není v databázi"]
["Martin Schwab",null,null,"FG Waldviertel",null,"Pribina Cup 2019 - Kombi 15m","SK",2019,18,2417,0.95000000000000007,6754,6416,null,null,"Discus 2T /15m","FUN","Není v databázi"]
["Hana Treslova",{"$f":"VLOOKUP(A1032,Pilot,2,0)","v":1991},{"$f":"VLOOKUP(A1032,Pilot,5,0)","v":"F"},{"$f":"VLOOKUP(A1032,Pilot,3,0)","v":"Raná"},{"$f":"VLOOKUP(A1032,Pilot,4,0)","v":"CZ/C2"},"Pribina Cup 2019 - Kombi 15m","SK",2019,19,2393,0.95000000000000007,{"$f":"ROUND(J1032/MAX($J$1014:$J$1050)*10000*0.7+(MAX($I$1014:$I$1050)-I1032)/(MAX($I$1014:$I$1050)-1)*10000*0.3,0)","v":6619},6288,null,null,"LS 8/15m","EU",""]
["Tibor Fratrik",null,null,"SGC Martin",null,"Pribina Cup 2019 - Kombi 15m","SK",2019,20,2241,0.95000000000000007,6211,5900,null,null,"LS-6","GI","Není v databázi"]
["Wiktor Czubski",null,null,null,null,"Pribina Cup 2019 - Kombi 15m","SK",2019,21,2230,0.95000000000000007,6104,5799,null,null,"LS-8a /15m","LOT","Není v databázi"]
["Lukas Schneeberger",null,null,null,null,"Pribina Cup 2019 - Kombi 15m","SK",2019,22,2189,0.95000000000000007,5933,5636,null,null,"Discus B","I","Není v databázi"]
["Istvan Magyar",null,null,null,null,"Pribina Cup 2019 - Kombi 15m","SK",2019,23,2080,0.95000000000000007,5617,5336,null,null,"ASG-29(E) 15m","PBI","Není v databázi"]
["Sandor Laurinyecz",null,null,null,null,"Pribina Cup 2019 - Kombi 15m","SK",2019,24,2011,0.95000000000000007,5386,5117,null,null,"Discus 2a /15m","HUN","Není v databázi"]
["Juliusz Pieniazek",null,null,"Aeroklub Podhalanski",null,"Pribina Cup 2019 - Kombi 15m","SK",2019,25,2008,0.95000000000000007,5296,5031,null,null,"Discus 2a /15m","Y","Není v databázi"]
["Christoph Kahler",null,null,null,null,"Pribina Cup 2019 - Kombi 15m","SK",2019,26,1975,0.95000000000000007,5142,4885,null,null,"Discus 2b /15m","NW1","Není v databázi"]
["Sebastian Pöchlauer",null,null,null,null,"Pribina Cup 2019 - Kombi 15m","SK",2019,27,1948,0.95000000000000007,5001,4751,null,null,"Discus 2a /15m","KG","Není v databázi"]
["Istvan Réti",null,null,null,null,"Pribina Cup 2019 - Kombi 15m","SK",2019,28,1856,0.95000000000000007,4721,4485,null,null,"Ventus 2A","IR","Není v databázi"]
["Miroslav Beliansky",null,null,null,null,"Pribina Cup 2019 - Kombi 15m","SK",2019,29,1853,0.95000000000000007,4631,4399,null,null,"LS-8s(t) /15m","TC","Není v databázi"]
["Pascal Brunner",null,null,"SG Zuerich",null,"Pribina Cup 2019 - Kombi 15m","SK",2019,30,1577,0.95000000000000007,3957,3759,null,null,"Discus 2b /15m","ST","Není v databázi"]
["Andrius Tamulenas",null,null,null,null,"Pribina Cup 2019 - Kombi 15m","SK",2019,31,1422,0.95000000000000007,3542,3365,null,null,"LS-8-18 /15m","H8","Není v databázi"]
["Ambrus Vancso",null,null,"Dunaferr",null,"Pribina Cup 2019 - Kombi 15m","SK",2019,32,1343,0.95000000000000007,3290,3126,null,null,"Ventus bT /15m","PB","Není v databázi"]
["Philip Joens",null,null,null,null,"Pribina Cup 2019 - Kombi 15m","SK",2019,33,1306,0.95000000000000007,3127,2971,null,null,"LS-7WL","AP","Není v databázi"]
["Laszlo Kapuy",null,null,null,null,"Pribina Cup 2019 - Kombi 15m","SK",2019,34,1280,0.95000000000000007,2988,2839,null,null,"Ventus 2cxm /15m 525kg","GE","Není v databázi"]
["Christoph S. Ackermann",null,null,"SG Freiburg",null,"Pribina Cup 2019 - Kombi 15m","SK",2019,35,892,0.95000000000000007,2075,1971,null,null,"Ventus B/15m (500kg)","AW","Není v databázi"]
["Marko Virtanen",null,null,null,null,"Pribina Cup 2019 - Kombi 15m","SK",2019,36,624,0.95000000000000007,1418,1347,null,null,"LS-8s /15m","SI","Není v databázi"]
["Jonas Pitschen",null,null,"SG Zuerich",null,"Pribina Cup 2019 - Kombi 15m","SK",2019,37,161,0.95000000000000007,344,327,null,null,"Discus 2b /15m","UB","Není v databázi"]
["Sebastian Kawa",null,null,"Aeroclub Bielsko Biala",null,"Pribina Cup 2019 - Kombi Open","SK",2019,1,3406,0.96500000000000008,{"$f":"ROUND(J1051/MAX($J$1051:$J$1086)*10000*0.7+(MAX($I$1051:$I$1086)-I1051)/(MAX($I$1051:$I$1086)-1)*10000*0.3,0)","v":10000},9650,null,null,"Diana 3 FES","D8","Není v databázi"]
["Karol Staryszak",null,null,"Mielec",null,"Pribina Cup 2019 - Kombi Open","SK",2019,2,3403,0.96500000000000008,{"$f":"ROUND(J1052/MAX($J$1051:$J$1086)*10000*0.7+(MAX($I$1051:$I$1086)-I1052)/(MAX($I$1051:$I$1086)-1)*10000*0.3,0)","v":9908},9561,null,null,"ASG-29 18m","PES","Není v databázi"]
["Petr Krejcirik",{"$f":"VLOOKUP(A1053,Pilot,2,0)","v":1960},{"$f":"VLOOKUP(A1053,Pilot,5,0)","v":"M"},{"$f":"VLOOKUP(A1053,Pilot,3,0)","v":"Hranice"},{"$f":"VLOOKUP(A1053,Pilot,4,0)","v":"CZ/M"},"Pribina Cup 2019 - Kombi Open","SK",2019,3,2996,0.96500000000000008,8986,8671,null,null,"JS1-C(TJ) 18 EVO","Z",""]
["Wolfgang Janowitsch",null,null,"FRA-Wiener Neustadt",null,"Pribina Cup 2019 - Kombi Open","SK",2019,4,2910,0.96500000000000008,8723,8418,null,null,"Arcus",3,"Není v databázi"]
["Ondrej Dupal",{"$f":"VLOOKUP(A1055,Pilot,2,0)","v":1966},{"$f":"VLOOKUP(A1055,Pilot,5,0)","v":"M"},{"$f":"VLOOKUP(A1055,Pilot,3,0)","v":"GAC Benešov"},{"$f":"VLOOKUP(A1055,Pilot,4,0)","v":"CZ/C1"},"Pribina Cup 2019 - Kombi Open","SK",2019,5,2862,0.96500000000000008,8539,8240,null,null,"ASG-29 18m","GO",""]
["Andreas Sandhöfner",null,null,"FSK Sturmvogel",null,"Pribina Cup 2019 - Kombi Open","SK",2019,6,2848,0.96500000000000008,8425,8130,null,null,"ASG 29/18m","AY","Není v databázi"]
["Zdislaw Bednarczuk",null,null,null,null,"Pribina Cup 2019 - Kombi Open","SK",2019,7,2833,0.96500000000000008,8308,8017,null,null,"JS1-C(TJ) 21","B52","Není v databázi"]
["Lukasz Wojcik",null,null,"Wloclawek",null,"Pribina Cup 2019 - Kombi Open","SK",2019,8,2810,0.96500000000000008,8175,7889,null,null,"JS1-C(TJ) 21m","P","Není v databázi"]
["Anton Sibanc",null,null,"Aeroklub Celje",null,"Pribina Cup 2019 - Kombi Open","SK",2019,9,2789,0.96500000000000008,8046,7764,null,null,"ASG 29/18m","E3","Není v databázi"]
["Heimo Demmerer",null,null,"SFC Mariazell",null,"Pribina Cup 2019 - Kombi Open","SK",2019,10,2720,0.96500000000000008,7819,7545,null,null,"Ventus 2cm /18m 525 kg","OD","Není v databázi"]
["Johannes Dibbern",null,null,null,null,"Pribina Cup 2019 - Kombi Open","SK",2019,11,2687,0.96500000000000008,7665,7397,null,null,"HPH 304ES Shark/18m (600kg)","D3","Není v databázi"]
["Andreas Lutz",null,null,"SFC-Ried; Akaflieg Muenchen; FG Wolf Hirth",null,"Pribina Cup 2019 - Kombi Open","SK",2019,12,2683,0.96500000000000008,7571,7306,null,null,"Ventus 3(T/M) /18m","WOI","Není v databázi"]
["Stefan Langer",null,null,"SFG Donauwoerth Monheim",null,"Pribina Cup 2019 - Kombi Open","SK",2019,13,2611,0.96500000000000008,7338,7081,null,null,"ASG-29 18m","SL","Není v databázi"]
["Viliam KubovCik",null,null,"AK Poprad",null,"Pribina Cup 2019 - Kombi Open","SK",2019,14,2605,{"$f":"VLOOKUP(F1064,Soutez,12,0)","v":0.96500000000000008},7240,6987,null,null,"Ventus 2cx(m/t) /18m 600kg","VV",{"$f":"IF(ISERROR(VLOOKUP(A1064,Pilot,6,0)),\"Není v databázi\",VLOOKUP(A1064,Pilot,6,0))","v":"Není v databázi"}]
["Pristavec & Avsenek",null,null,null,null,"Pribina Cup 2019 - Kombi Open","SK",2019,15,2559,0.96500000000000008,7059,6812,null,null,"EB 28 /28,3m",7,"Není v databázi"]
["Henning Kjersgaard Nielsen",null,null,"Midtsjaellands Svaeveflyveklub",null,"Pribina Cup 2019 - Kombi Open","SK",2019,16,2528,0.96500000000000008,6910,6668,null,null,"Ventus 2c /18m 525kg","T","Není v databázi"]
["Jan Hertrich",null,null,null,null,"Pribina Cup 2019 - Kombi Open","SK",2019,17,2451,0.96500000000000008,6666,{"$f":"ROUND(K1067*L1067,0)","v":6433},null,null,"LS-8-18 /18m","EO","Není v databázi"]
["Max Böswald",null,null,"FC Eichstätt",null,"Pribina Cup 2019 - Kombi Open","SK",2019,18,2432,0.96500000000000008,6541,6312,null,null,"Discus 2c FES /18m","FES","Není v databázi"]
["Joze Verdev",null,null,null,null,"Pribina Cup 2019 - Kombi Open","SK",2019,19,2425,0.96500000000000008,6441,6216,null,null,"JS1 /18m","DZ","Není v databázi"]
["Sorin Lingureanu",null,null,"Tampereen Ilmailuyhdistys",null,"Pribina Cup 2019 - Kombi Open","SK",2019,20,2385,0.96500000000000008,6273,6053,null,null,"Ventus 2c /18m 525kg","ZR","Není v databázi"]
["Sven Kolb",null,null,"SFG-Dornbirn",null,"Pribina Cup 2019 - Kombi Open","SK",2019,21,2277,0.96500000000000008,5965,5756,null,null,"Antares/20m","ZF","Není v databázi"]
["Marek Pechanec",{"$f":"VLOOKUP(A1072,Pilot,2,0)","v":1970},{"$f":"VLOOKUP(A1072,Pilot,5,0)","v":"M"},{"$f":"VLOOKUP(A1072,Pilot,3,0)","v":"Luhačovice"},{"$f":"VLOOKUP(A1072,Pilot,4,0)","v":"CZ/M"},"Pribina Cup 2019 - Kombi Open","SK",2019,21,2277,0.96500000000000008,5965,5756,null,null,"ASG 29(E) 18m","QZ",""]
["Werner Danz",null,null,null,null,"Pribina Cup 2019 - Kombi Open","SK",2019,23,2257,0.96500000000000008,5753,5552,null,null,"Antares 18S/T","BT","Není v databázi"]
["Kai Glatter",null,null,"AC Pirna",null,"Pribina Cup 2019 - Kombi Open","SK",2019,24,2158,0.96500000000000008,5464,5273,null,null,"JS1-C(TJ) 18 EVO","YE","Není v databázi"]
["Till Berthold",null,null,null,null,"Pribina Cup 2019 - Kombi Open","SK",2019,25,2128,0.96500000000000008,5316,5130,null,null,"Discus 2c/2T /18m","S2","Není v databázi"]
["Natalie Luebben",null,null,null,null,"Pribina Cup 2019 - Kombi Open","SK",2019,26,2127,0.96500000000000008,5229,5046,null,null,"ASH-31/Mi 21m",31,"Není v databázi"]
["Robin Sittmann",null,null,"Aero Club Rhein-Nahe",null,"Pribina Cup 2019 - Kombi Open","SK",2019,27,2042,0.96500000000000008,4968,4794,null,null,"Discus 2c/2T /18m","MA","Není v databázi"]
["Michal Lewczuk",null,null,"Warsaw Aero Club",null,"Pribina Cup 2019 - Kombi Open","SK",2019,28,1975,0.96500000000000008,4745,4579,null,null,"JS-1A/B/C(TJ) 18","GOL","Není v databázi"]
["Rene Schoenmann",null,null,null,null,"Pribina Cup 2019 - Kombi Open","SK",2019,29,1930,0.96500000000000008,4567,4407,null,null,"JS1-C(TJ) 21","LI","Není v databázi"]
["Mathias Muench",null,null,"Alpenflugzentrum Unterwossen",null,"Pribina Cup 2019 - Kombi Open","SK",2019,30,1772,0.96500000000000008,4156,4011,null,null,"DG-800 /18m","MU","Není v databázi"]
["Bogdan Dorozko",null,null,null,null,"Pribina Cup 2019 - Kombi Open","SK",2019,31,1604,0.96500000000000008,3725,3595,null,null,"ASG-29 18m","29L","Není v databázi"]
["Vytautas Maciulis",null,null,null,null,"Pribina Cup 2019 - Kombi Open","SK",2019,32,1278,0.96500000000000008,2969,2865,null,null,"LAK 17B FES /18m",77,"Není v databázi"]
["Jernej Lokovsek",null,null,"Aeroklub Ljubljana",null,"Pribina Cup 2019 - Kombi Open","SK",2019,33,1132,0.96500000000000008,2584,2494,null,null,"LAK 17A/18m","JL","Není v databázi"]
["Alexander Schuetz",null,null,"AFZ Unterwoessen",null,"Pribina Cup 2019 - Kombi Open","SK",2019,34,1062,0.96500000000000008,2354,2272,null,null,"Ventus 2cx(m/t) /18m 600kg","AI","Není v databázi"]
["Hannu Halonen",null,null,"Imatran Ilmailukerho",null,"Pribina Cup 2019 - Kombi Open","SK",2019,35,744,0.96500000000000008,1615,1558,null,null,"Ventus 3(T/M) /18m","3W","Není v databázi"]
["Carsten Rasmussen",null,null,"MSF",null,"Pribina Cup 2019 - Kombi Open","SK",2019,36,435,0.96500000000000008,894,863,null,null,"DG-800 /18m+W","DI","Není v databázi"]
["Radovan Otto",{"$f":"VLOOKUP(A1087,Pilot,2,0)","v":1968},{"$f":"VLOOKUP(A1087,Pilot,5,0)","v":"M"},{"$f":"VLOOKUP(A1087,Pilot,3,0)","v":"Ústí nad Labem"},{"$f":"VLOOKUP(A1087,Pilot,4,0)","v":"CZ/C2"},"Ranský Pohár 2019 - Kombi","CZ",2019,1,1651,0.73,{"$f":"ROUND(J1087/MAX($J$1087:$J$1102)*10000*0.7+(MAX($I$1087:$I$1102)-I1087)/(MAX($I$1087:$I$1102)-1)*10000*0.3,0)","v":10000},7300,"x",null,"TST-10 Atlas M",7,""]
["Jaromir Hendrych",1954,"M","Raná","CZ/C2","Ranský Pohár 2019 - Kombi","CZ",2019,2,1594,0.73,{"$f":"ROUND(J1088/MAX($J$1087:$J$1102)*10000*0.7+(MAX($I$1087:$I$1102)-I1088)/(MAX($I$1087:$I$1102)-1)*10000*0.3,0)","v":9558},6977,"x",null,"M-35",36,""]
["Eduard Svoboda",1957,"M","Raná","CZ/C2","Ranský Pohár 2019 - Kombi","CZ",2019,3,1558,0.73,9206,6720,"x",null,"ASW 15B","HL",""]
["Jiri Maier 66",1966,"M","Raná","CZ/C2","Ranský Pohár 2019 - Kombi","CZ",2019,4,1457,0.73,8577,6261,"x",null,"Discus bT","TAL",""]
["Jan Sustr 76",1976,"M","Raná","CZ/C2","Ranský Pohár 2019 - Kombi","CZ",2019,5,1395,0.73,8115,5924,"x",null,"DG 300","WL",""]
["Tomas Mezera",1973,"M","Raná","CZ/C2","Ranský Pohár 2019 - Kombi","CZ",2019,6,1337,0.73,7669,5598,"x",null,"Janus 18.2m","RA",""]
["Jaromir Vlk",1959,"M","Šumperk","CZ/M","Ranský Pohár 2019 - Kombi","CZ",2019,7,1325,0.73,7418,5415,null,null,"ASW 15B","R5",""]
["Jiri Maier 99",1999,"M","Raná","CZ/C2","Ranský Pohár 2019 - Kombi","CZ",2019,8,1187,0.73,6633,4842,"x",null,"Std. Cirrus","CI","Junior v roce 2022"]
["Jana Mezerova",1975,"F","Raná","CZ/C2","Ranský Pohár 2019 - Kombi","CZ",2019,9,1183,0.73,6416,4684,"x","x","VSO-10",59,""]
["Zbynek Bican",1961,"M","Raná","CZ/C2","Ranský Pohár 2019 - Kombi","CZ",2019,10,1011,0.73,5486,4005,"x",null,"LS 3","H1",""]
["Pavel Derda",1952,"M","Dvůr Králové","CZ/C2","Ranský Pohár 2019 - Kombi","CZ",2019,11,1005,0.73,5261,3841,null,null,"Cirrus/Cirrus VTC 17.74","VE",""]
["Sarka Lochova",1966,"F","Šumperk","CZ/M","Ranský Pohár 2019 - Kombi","CZ",2019,12,982,0.73,{"$f":"ROUND(J1098/MAX($J$1087:$J$1102)*10000*0.7+(MAX($I$1087:$I$1102)-I1098)/(MAX($I$1087:$I$1102)-1)*10000*0.3,0)","v":4964},3624,"x","x","ASW 15B","EZ",""]
["David Krcil",1976,"M","Raná","CZ/C2","Ranský Pohár 2019 - Kombi","CZ",2019,13,767,0.73,3852,2812,"x",null,"ASW15B","BE",""]
["Tereza Krcilova Spalenkova",1981,"F","Raná","CZ/C2","Ranský Pohár 2019 - Kombi","CZ",2019,14,622,0.73,3037,2217,"x","x","ASW15","TK",""]
["Michal Hemrle",1974,"M","Česká Lípa","CZ/C2","Ranský Pohár 2019 - Kombi","CZ",2019,15,613,0.73,2799,2043,null,null,"Ventus 17.6m","XE",""]
["Krystof Mimra",1992,"M","Most","CZ/C2","Ranský Pohár 2019 - Kombi","CZ",2019,16,451,0.73,1912,1396,null,null,"VSO-10",51,""]
["Ondrej Teichman",1984,"M","Dvůr Králové","CZ/C2","Safari 2019 - Duo Kombi","CZ",2019,1,4311,0.77,{"$f":"ROUND(J1103/MAX($J$1103:$J$1117)*10000*0.7+(MAX($I$1103:$I$1117)-I1103)/(MAX($I$1103:$I$1117)-1)*10000*0.3,0)","v":10000},7700,"x",null,"L-23 Blanik","KM",""]
["Jan Sindelar",1946,"M","Kunovice","CZ/M","Safari 2019 - Duo Kombi","CZ",2019,2,4247,0.77,{"$f":"ROUND(J1104/MAX($J$1103:$J$1117)*10000*0.7+(MAX($I$1103:$I$1117)-I1104)/(MAX($I$1103:$I$1117)-1)*10000*0.3,0)","v":9682},7455,"x",null,"L-13 Blanik","Z",""]
["Vojtech Pivonka",1976,"M","Vrchlabí","CZ/C2","Safari 2019 - Duo Kombi","CZ",2019,3,3768,0.77,8690,6691,"x",null,"L-13 Blanik","AY",""]
["Rostislav Broz",1968,"M","Vrchlabí","CZ/C2","Safari 2019 - Duo Kombi","CZ",2019,4,3329,0.77,7763,5978,"x",null,"L-13 Blanik","V",""]
["Petr Panek",1975,"M","Dvůr Králové","CZ/C2","Safari 2019 - Duo Kombi","CZ",2019,5,3321,0.77,7535,5802,null,null,"L-13 Blanik","XX",""]
["Vladimir Prihoda",1953,"M","Kralupy","CZ/C1","Safari 2019 - Duo Kombi","CZ",2019,6,3317,0.77,7315,5633,"x",null,"L-23 Super Blanik","I",""]
["Lukas Capek",1992,"M","Letňany","CZ/C1","Safari 2019 - Duo Kombi","CZ",2019,7,3273,0.77,{"$f":"ROUND(J1109/MAX($J$1103:$J$1117)*10000*0.7+(MAX($I$1103:$I$1117)-I1109)/(MAX($I$1103:$I$1117)-1)*10000*0.3,0)","v":7029},5412,"x",null,"L 13 Blanik","L",""]
["Petr Hybner",1951,"M","Liberec","CZ/C2","Safari 2019 - Duo Kombi","CZ",2019,8,3035,0.77,6428,4950,"x",null,"L-23 Super Blanik",23,""]
["Pavel Kuriscak",1987,"M","Beroun","CZ/C1","Safari 2019 - Duo Kombi","CZ",2019,9,2217,0.77,4886,3762,"x",null,"L-13 Blanik","BU",""]
["Martin Markl",1960,"M","Kolín","CZ/C1","Safari 2019 - Duo Kombi","CZ",2019,10,2001,0.77,4321,3327,"x",null,"L-13 Blanik","FL",""]
["Ivan Ladr",1940,"M","Dvůr Králové","CZ/C2","Safari 2019 - Duo Kombi","CZ",2019,11,1868,0.77,{"$f":"ROUND(J1113/MAX($J$1103:$J$1117)*10000*0.7+(MAX($I$1103:$I$1117)-I1113)/(MAX($I$1103:$I$1117)-1)*10000*0.3,0)","v":3890},2995,"x",null,"L-13 Blanik","LT",""]
["Jaroslav Nedorost",1986,"M","Letňany","CZ/C1","Safari 2019 - Duo Kombi","CZ",2019,12,1840,0.77,3631,2796,"x",null,"L-13 Blanik","BA",""]
["Martin Benesovsky",1900,"M","Kolín","CZ/C1","Safari 2019 - Duo Kombi","CZ",2019,13,759,0.77,1661,1279,"x",null,"L-13 Blanik","FI",""]
["Bohumir Zajdl",1950,"M","Dvůr Králové","CZ/C2","Safari 2019 - Duo Kombi","CZ",2019,14,661,0.77,{"$f":"ROUND(J1116/MAX($J$1103:$J$1117)*10000*0.7+(MAX($I$1103:$I$1117)-I1116)/(MAX($I$1103:$I$1117)-1)*10000*0.3,0)","v":1288},992,"x",null,"L-13","LT",""]
["Michal Richter",1983,"M","Kolín","CZ/C1","Safari 2019 - Duo Kombi","CZ",2019,15,597,0.77,969,746,"x",null,"L-13 Blanik","FI",""]
["Marek Kornec",1957,"M","Dvůr Králové","CZ/C2","Safari 2019 - Klub","CZ",2019,1,6191,0.76500000000000001,{"$f":"ROUND(J1118/MAX($J$1118:$J$1145)*10000*0.7+(MAX($I$1118:$I$1145)-I1118)/(MAX($I$1118:$I$1145)-1)*10000*0.3,0)","v":10000},7650,"x",null,"Janus C FG","KSS",""]
["Milan Dvorak",1965,"M","Liberec","CZ/C2","Safari 2019 - Klub","CZ",2019,2,6084,0.76500000000000001,{"$f":"ROUND(J1119/MAX($J$1118:$J$1145)*10000*0.7+(MAX($I$1118:$I$1145)-I1119)/(MAX($I$1118:$I$1145)-1)*10000*0.3,0)","v":9768},7473,"x",null,"HPH 304cz 15 m","IH",""]
["Wolfgang Sluka",1942,"M","Liberec","CZ/C2","Safari 2019 - Klub","CZ",2019,3,5746,0.76500000000000001,9275,7095,"x",null,"Std.Cirrus","KA",""]
["Jaroslav Sima",1972,"M","Chomutov","CZ/C2","Safari 2019 - Klub","CZ",2019,4,5567,0.76500000000000001,8961,6855,"x",null,"G-104 Speed Astir II","V2",""]
["Jan Hybner",1977,"M","Liberec","CZ/C2","Safari 2019 - Klub","CZ",2019,5,5548,0.76500000000000001,8829,6754,"x",null,"HPH 304cz 15 m","LB",""]
["Tomas Kulhavy",2001,"M","Liberec","CZ/C2","Safari 2019 - Klub","CZ",2019,6,5470,0.76500000000000001,8629,6601,"x",null,"VSO-10",78,"Junior v roce 2022"]
["Krzysztof Pienkowski",null,"M","Bialsko-Biala","PL","Safari 2019 - Klub","CZ",2019,7,5412,0.76500000000000001,8453,6467,null,null,"LS4","KP","Není v databázi"]
["Pavel Derda",{"$f":"VLOOKUP(A1125,Pilot,2,0)","v":1952},{"$f":"VLOOKUP(A1125,Pilot,5,0)","v":"M"},{"$f":"VLOOKUP(A1125,Pilot,3,0)","v":"Dvůr Králové"},{"$f":"VLOOKUP(A1125,Pilot,4,0)","v":"CZ/C2"},"Safari 2019 - Klub","CZ",2019,8,5022,0.76500000000000001,7900,6044,"x",null,"Cirrus VTC","VE",""]
["Vaclav Sehnal",{"$f":"VLOOKUP(A1126,Pilot,2,0)","v":1962},{"$f":"VLOOKUP(A1126,Pilot,5,0)","v":"M"},{"$f":"VLOOKUP(A1126,Pilot,3,0)","v":"Kolín"},{"$f":"VLOOKUP(A1126,Pilot,4,0)","v":"CZ/C1"},"Safari 2019 - Klub","CZ",2019,9,4674,0.76500000000000001,7396,5658,"x",null,"ASK-21 duo","SFC",""]
["Jarmila Zatykova",{"$f":"VLOOKUP(A1127,Pilot,2,0)","v":1959},{"$f":"VLOOKUP(A1127,Pilot,5,0)","v":"F"},{"$f":"VLOOKUP(A1127,Pilot,3,0)","v":"Kralupy"},{"$f":"VLOOKUP(A1127,Pilot,4,0)","v":"CZ/C1"},"Safari 2019 - Klub","CZ",2019,10,4667,0.76500000000000001,7277,5567,"x","x","Discus b","JD",""]
["Martin Cicvarek",{"$f":"VLOOKUP(A1128,Pilot,2,0)","v":1966},{"$f":"VLOOKUP(A1128,Pilot,5,0)","v":"M"},{"$f":"VLOOKUP(A1128,Pilot,3,0)","v":"Liberec"},{"$f":"VLOOKUP(A1128,Pilot,4,0)","v":"CZ/C2"},"Safari 2019 - Klub","CZ",2019,11,4556,{"$f":"VLOOKUP(F1128,Soutez,12,0)","v":0.76500000000000001},7040,5386,"x",null,"DG-400 15 m","AC",{"$f":"IF(ISERROR(VLOOKUP(A1128,Pilot,6,0)),\"Není v databázi\",VLOOKUP(A1128,Pilot,6,0))","v":""}]
["Marek Malinsky",{"$f":"VLOOKUP(A1129,Pilot,2,0)","v":1985},{"$f":"VLOOKUP(A1129,Pilot,5,0)","v":"M"},{"$f":"VLOOKUP(A1129,Pilot,3,0)","v":"Chrudim"},{"$f":"VLOOKUP(A1129,Pilot,4,0)","v":"CZ/C2"},"Safari 2019 - Klub","CZ",2019,12,4057,0.76500000000000001,6365,4869,"x",null,"Std. Cirrus","A",""]
["Leszek Wolosowicz",null,"M","Lublin/KSS","PL","Safari 2019 - Klub","CZ",2019,13,4022,0.76500000000000001,6214,4754,null,null,"PW-5","CU","Není v databázi"]
["Artur Szlachta",null,"M","LSV Seligensstadt-Zellhausen","DE","Safari 2019 - Klub","CZ",2019,14,3811,0.76500000000000001,5865,{"$f":"ROUND(K1131*L1131,0)","v":4487},null,null,"LS 4","V4","Není v databázi"]
["Petr Doubek",{"$f":"VLOOKUP(A1132,Pilot,2,0)","v":1974},{"$f":"VLOOKUP(A1132,Pilot,5,0)","v":"M"},{"$f":"VLOOKUP(A1132,Pilot,3,0)","v":"Kralupy"},{"$f":"VLOOKUP(A1132,Pilot,4,0)","v":"CZ/C1"},"Safari 2019 - Klub","CZ",2019,15,3644,0.76500000000000001,5565,4257,"x",null,"ASW-20(A)+F 15m","Y5",""]
["Petr Lonsky",{"$f":"VLOOKUP(A1133,Pilot,2,0)","v":1965},{"$f":"VLOOKUP(A1133,Pilot,5,0)","v":"M"},{"$f":"VLOOKUP(A1133,Pilot,3,0)","v":"Toužim"},{"$f":"VLOOKUP(A1133,Pilot,4,0)","v":"CZ/C1"},"Safari 2019 - Klub","CZ",2019,16,3376,0.76500000000000001,5150,3940,null,null,"LS 1d","CL",""]
["Karel Ertl",{"$f":"VLOOKUP(A1134,Pilot,2,0)","v":1939},{"$f":"VLOOKUP(A1134,Pilot,5,0)","v":"M"},{"$f":"VLOOKUP(A1134,Pilot,3,0)","v":"LK Břeclav"},{"$f":"VLOOKUP(A1134,Pilot,4,0)","v":"CZ/M"},"Safari 2019 - Klub","CZ",2019,17,3359,0.76500000000000001,{"$f":"ROUND(J1134/MAX($J$1118:$J$1145)*10000*0.7+(MAX($I$1118:$I$1145)-I1134)/(MAX($I$1118:$I$1145)-1)*10000*0.3,0)","v":5020},3840,"x",null,"TST-10M Atlas","KE",""]
["Jiri Skarka",{"$f":"VLOOKUP(A1135,Pilot,2,0)","v":1965},{"$f":"VLOOKUP(A1135,Pilot,5,0)","v":"M"},{"$f":"VLOOKUP(A1135,Pilot,3,0)","v":"Chomutov"},{"$f":"VLOOKUP(A1135,Pilot,4,0)","v":"CZ/C2"},"Safari 2019 - Klub","CZ",2019,18,3061,0.76500000000000001,4572,3498,"x",null,"ASW-19","HK",""]
["Piotr Ligwinski",null,"M","Czestochowa","PL","Safari 2019 - Klub","CZ",2019,19,3035,0.76500000000000001,4432,3390,null,null,"SZD 48 Jantar std 2,3","DA","Není v databázi"]
["Tereza Novakova",{"$f":"VLOOKUP(A1137,Pilot,2,0)","v":1993},{"$f":"VLOOKUP(A1137,Pilot,5,0)","v":"F"},{"$f":"VLOOKUP(A1137,Pilot,3,0)","v":"Chrudim"},{"$f":"VLOOKUP(A1137,Pilot,4,0)","v":"CZ/C2"},"Safari 2019 - Klub","CZ",2019,20,2930,0.76500000000000001,4202,3215,"x","x","Std Cirrus","FF",""]
["Lukas Hykl",{"$f":"VLOOKUP(A1138,Pilot,2,0)","v":1985},{"$f":"VLOOKUP(A1138,Pilot,5,0)","v":"M"},{"$f":"VLOOKUP(A1138,Pilot,3,0)","v":"Kolín"},{"$f":"VLOOKUP(A1138,Pilot,4,0)","v":"CZ/C1"},"Safari 2019 - Klub","CZ",2019,21,1590,0.76500000000000001,2576,1971,"x",null,"SZD-48 Jantar Std.2(3) WL","VS",""]
["Petr Omelka",{"$f":"VLOOKUP(A1139,Pilot,2,0)","v":1970},{"$f":"VLOOKUP(A1139,Pilot,5,0)","v":"M"},{"$f":"VLOOKUP(A1139,Pilot,3,0)","v":"Vyškov"},{"$f":"VLOOKUP(A1139,Pilot,4,0)","v":"CZ/M"},"Safari 2019 - Klub","CZ",2019,22,1363,0.76500000000000001,2208,1689,"x",null,"G-104 Speed Astir II b","KF",""]
["Krzysztof Kostka",null,"M","Jelenia Gora","PL","Safari 2019 - Klub","CZ",2019,23,1005,0.76500000000000001,1692,1294,null,null,"DG 300 Club Elan WL","N5","Není v databázi"]
["Ryszard Bendkowski",null,"M","Warszawa","PL","Safari 2019 - Klub","CZ",2019,24,919,0.76500000000000001,1484,1135,null,null,"SZD-48 Jantar std. 2(3)","Fili","Není v databázi"]
["Jiri Donat",{"$f":"VLOOKUP(A1142,Pilot,2,0)","v":1983},{"$f":"VLOOKUP(A1142,Pilot,5,0)","v":"M"},{"$f":"VLOOKUP(A1142,Pilot,3,0)","v":"Chrudim"},{"$f":"VLOOKUP(A1142,Pilot,4,0)","v":"CZ/C2"},"Safari 2019 - Klub","CZ",2019,25,887,0.76500000000000001,1336,1022,"x",null,"G-103 Twin Basic dvojí","VT",""]
["Leos Nosek",{"$f":"VLOOKUP(A1143,Pilot,2,0)","v":1958},{"$f":"VLOOKUP(A1143,Pilot,5,0)","v":"M"},{"$f":"VLOOKUP(A1143,Pilot,3,0)","v":"Křižanov"},{"$f":"VLOOKUP(A1143,Pilot,4,0)","v":"CZ/M"},"Safari 2019 - Klub","CZ",2019,26,688,0.76500000000000001,1000,765,null,null,"G-104 Speed Astir II b","KF",""]
["Romuald Dorofieczyk",null,"M","Jelenia Gora","PL","Safari 2019 - Klub","CZ",2019,27,303,0.76500000000000001,454,347,null,null,"DG-300 Club ELAN WL","N5","Není v databázi"]
["Aleksander Jedrosz",null,"M","Jelenia Gora","PL","Safari 2019 - Klub","CZ",2019,28,0,0.76500000000000001,0,0,null,null,"Centrair C 101A,B Pegas","AJ","Není v databázi"]
["Jana Veprekova",{"$f":"VLOOKUP(A1146,Pilot,2,0)","v":1961},{"$f":"VLOOKUP(A1146,Pilot,5,0)","v":"F"},{"$f":"VLOOKUP(A1146,Pilot,3,0)","v":"Dvůr Králové"},{"$f":"VLOOKUP(A1146,Pilot,4,0)","v":"CZ/C2"},"Safari 2019 - Kombi","CZ",2019,1,6283,0.77,{"$f":"ROUND(J1146/MAX($J$1146:$J$1156)*10000*0.7+(MAX($I$1146:$I$1156)-I1146)/(MAX($I$1146:$I$1156)-1)*10000*0.3,0)","v":10000},7700,null,null,"LS 8, a,b,s,st 15m voda","W8",""]
["Lukas Hynek",1979,"M","Dvůr Králové","CZ/C2","Safari 2019 - Kombi","CZ",2019,2,6117,0.77,{"$f":"ROUND(J1147/MAX($J$1146:$J$1156)*10000*0.7+(MAX($I$1146:$I$1156)-I1147)/(MAX($I$1146:$I$1156)-1)*10000*0.3,0)","v":9515},7327,"x",null,"DG 200 17m voda","IQ",""]
["Jan Nyc",1943,"M","Dvůr Králové","CZ/C2","Safari 2019 - Kombi","CZ",2019,3,6069,0.77,9162,7055,"x",null,"DuoDiscus T 700 kg voda","ZS",""]
["Milan Meisner",1961,"M","Dvůr Králové","CZ/C2","Safari 2019 - Kombi","CZ",2019,4,5690,0.77,8439,6498,"x",null,"Ventus c 17,6 m voda","VV",""]
["Jan Dersak 69",1969,"M","Kralupy","CZ/C1","Safari 2019 - Kombi","CZ",2019,5,5429,0.77,7849,6044,null,null,"HPH 304JS /18m 573 kg voda","DJ",""]
["Ladislav Prokes",1954,"M","Vrchlabí","CZ/C2","Safari 2019 - Kombi","CZ",2019,6,4397,0.77,6399,4927,"x",null,"Discus b voda","VR",""]
["Slavomir Tanglmajer",1966,"M","Chomutov","CZ/C2","Safari 2019 - Kombi","CZ",2019,7,3577,0.77,5185,3992,"x",null,"DG-400 17 m","ST",""]
["Karel Policky",1950,"M","Kolín","CZ/C1","Safari 2019 - Kombi","CZ",2019,8,2826,0.77,{"$f":"ROUND(J1153/MAX($J$1146:$J$1156)*10000*0.7+(MAX($I$1146:$I$1156)-I1153)/(MAX($I$1146:$I$1156)-1)*10000*0.3,0)","v":4048},3117,"x",null,"DuoDiscus 700 kg voda",777,""]
["Jan Pazour",1979,"M","Dvůr Králové","CZ/C2","Safari 2019 - Kombi","CZ",2019,9,2770,0.77,3686,2838,"x",null,"ASW-20L+FL 16,6 m bez v","JP",""]
["Tomas Ditrt",1969,"M","Podhořany","CZ/C2","Safari 2019 - Kombi","CZ",2019,10,2372,0.77,2943,2266,"x",null,"ASW 20 x+ F 15 m","LS",""]
["Maciej Walasek",null,"M","Krakow","PL","Safari 2019 - Kombi","CZ",2019,11,918,0.77,1023,788,null,null,"LS 6c 18m WL","KK","Není v databázi"]
["Gintas Zube",null,null,null,null,"SGP 2019 BH - 18m GP","BH",2019,1,37,0.92500000000000004,{"$f":"ROUND((MAX($I$1157:$I$1171)-I1157)/(MAX($I$1157:$I$1171)-1)*10000,0)","v":10000},9250,null,null,"ASG-29 18m","AR","Není v databázi"]
["Bostjan Pristavec",null,null,null,null,"SGP 2019 BH - 18m GP","BH",2019,2,35,0.92500000000000004,{"$f":"ROUND((MAX($I$1157:$I$1171)-I1158)/(MAX($I$1157:$I$1171)-1)*10000,0)","v":9286},8590,null,null,"JS3 - 18m Jet","AX","Není v databázi"]
["Petr Panek",{"$f":"VLOOKUP(A1159,Pilot,2,0)","v":1975},{"$f":"VLOOKUP(A1159,Pilot,5,0)","v":"M"},{"$f":"VLOOKUP(A1159,Pilot,3,0)","v":"Dvůr Králové"},{"$f":"VLOOKUP(A1159,Pilot,4,0)","v":"CZ/C2"},"SGP 2019 BH - 18m GP","BH",2019,3,28,0.92500000000000004,{"$f":"ROUND((MAX($I$1157:$I$1171)-I1159)/(MAX($I$1157:$I$1171)-1)*10000,0)","v":8571},7928,"x",null,"JS-1 TJ Revelation 18m","IGC",""]
["Stefan Langer",null,null,null,null,"SGP 2019 BH - 18m GP","BH",2019,4,25,0.92500000000000004,7857,7268,null,null,"ASG29","SL","Není v databázi"]
["Joze Verdev",null,null,null,null,"SGP 2019 BH - 18m GP","BH",2019,5,20,0.92500000000000004,7143,6607,null,null,"JS-1 TJ Revelation 18m","DZ","Není v databázi"]
["Gilles Navas",null,null,null,null,"SGP 2019 BH - 18m GP","BH",2019,6,20,0.92500000000000004,6429,5947,null,null,"ASG-29E 18m","1L","Není v databázi"]
["Luka znidarsiC",null,null,null,null,"SGP 2019 BH - 18m GP","BH",2019,7,20,0.92500000000000004,5714,5285,null,null,"Ventus 3","LZ","Není v databázi"]
["Uros Krasovic",null,null,null,null,"SGP 2019 BH - 18m GP","BH",2019,8,20,0.92500000000000004,5000,4625,null,null,"Ventus 3","EM","Není v databázi"]
["Jürgen Wenzel",null,null,null,null,"SGP 2019 BH - 18m GP","BH",2019,9,15,0.92500000000000004,4286,3965,null,null,"ASG-29E 18m","OS","Není v databázi"]
["Zdzisław Bednarczuk",null,null,null,null,"SGP 2019 BH - 18m GP","BH",2019,10,15,0.92500000000000004,{"$f":"ROUND((MAX($I$1157:$I$1171)-I1166)/(MAX($I$1157:$I$1171)-1)*10000,0)","v":3571},3303,null,null,"JS3 JET","JS3","Není v databázi"]
["Klaus Kalmbach",null,null,null,null,"SGP 2019 BH - 18m GP","BH",2019,11,15,0.92500000000000004,2857,2643,null,null,"JS-1 TJ Revelation 18m","OT","Není v databázi"]
["Jon Gatfield",null,null,null,null,"SGP 2019 BH - 18m GP","BH",2019,12,9,0.92500000000000004,2143,1982,null,null,"ASG-29E 18m","YO","Není v databázi"]
["Milan Petkovic",null,null,null,null,"SGP 2019 BH - 18m GP","BH",2019,13,9,0.92500000000000004,1429,1322,null,null,"ASG29 ES","E3","Není v databázi"]
["Jernej Lokovsek",null,null,null,null,"SGP 2019 BH - 18m GP","BH",2019,14,0,0.92500000000000004,714,660,null,null,"LAK 17AT","JL","Není v databázi"]
["Goesta Worf",null,null,null,null,"SGP 2019 BH - 18m GP","BH",2019,15,0,0.92500000000000004,0,0,null,null,"Ventus cM 17.6m","GW","Není v databázi"]
["Petr Panek",{"$f":"VLOOKUP(A1172,Pilot,2,0)","v":1975},{"$f":"VLOOKUP(A1172,Pilot,5,0)","v":"M"},{"$f":"VLOOKUP(A1172,Pilot,3,0)","v":"Dvůr Králové"},{"$f":"VLOOKUP(A1172,Pilot,4,0)","v":"CZ/C2"},"Šariš Cup 2019 - Klub","SK",2019,1,2000,0.75,{"$f":"ROUND(J1172/MAX($J$1172:$J$1186)*10000*0.7+(MAX($I$1172:$I$1186)-I1172)/(MAX($I$1172:$I$1186)-1)*10000*0.3,0)","v":10000},7500,null,null,"Std. Cirrus WL","YU",""]
["Frantisek Sobek",null,null,"AK Sabinov",null,"Šariš Cup 2019 - Klub","SK",2019,2,1986,0.75,{"$f":"ROUND(J1173/MAX($J$1172:$J$1186)*10000*0.7+(MAX($I$1172:$I$1186)-I1173)/(MAX($I$1172:$I$1186)-1)*10000*0.3,0)","v":9701},7276,null,null,"DG 100","G1","Není v databázi"]
["Martin snirc",null,null,"AK Nitra",null,"Šariš Cup 2019 - Klub","SK",2019,3,1937,0.75,9280,6960,null,null,"DG 400/17",400,"Není v databázi"]
["Karol BenedikoviC",null,null,"Air Sympatia",null,"Šariš Cup 2019 - Klub","SK",2019,4,1932,0.75,9012,6759,null,null,"Std. Cirrus","AM","Není v databázi"]
["Jozef Sobek",null,null,"AK Prešov",null,"Šariš Cup 2019 - Klub","SK",2019,5,1846,0.75,8461,6346,null,null,"Std. Cirrus","MJ","Není v databázi"]
["Marek Straka",null,null,"AK Trenčín",null,"Šariš Cup 2019 - Klub","SK",2019,6,1836,0.75,8176,6132,null,null,"LS 3","AI","Není v databázi"]
["Marek Seman",null,null,"AK Prešov",null,"Šariš Cup 2019 - Klub","SK",2019,7,1694,0.75,7429,5572,null,null,"Std. Cirrus","CV","Není v databázi"]
["Jozef Sopirjak",null,null,"AK Košice",null,"Šariš Cup 2019 - Klub","SK",2019,8,1472,0.75,6402,4802,null,null,"DG 101G Elan","SX","Není v databázi"]
["Matej Petrik",null,null,"AK Sabinov",null,"Šariš Cup 2019 - Klub","SK",2019,9,1076,0.75,{"$f":"ROUND(J1180/MAX($J$1172:$J$1186)*10000*0.7+(MAX($I$1172:$I$1186)-I1180)/(MAX($I$1172:$I$1186)-1)*10000*0.3,0)","v":4766},3575,null,null,"Std. Cirrus","XII","Není v databázi"]
["Vladimir Macek",null,null,"Aeroklub Košice",null,"Šariš Cup 2019 - Klub","SK",2019,10,795,0.75,3533,2650,null,null,"VSO-10",45,"Není v databázi"]
["Jan Puk",null,null,"Aeroklub Poprad Tatry",null,"Šariš Cup 2019 - Klub","SK",2019,11,619,0.75,2667,2000,null,null,"G 103 Twin II","TAT","Není v databázi"]
["Maros Okos",null,null,"AK Prešov",null,"Šariš Cup 2019 - Klub","SK",2019,12,38,0.75,383,287,null,null,"VSO-10",75,"Není v databázi"]
["Lubomir ziduliak",null,null,"AK Košice",null,"Šariš Cup 2019 - Klub","SK",2019,13,0,0.75,0,0,null,null,"VSO-10","M6","Není v databázi"]
["Frantisek Sopko",null,null,"AK Prešov",null,"Šariš Cup 2019 - Klub","SK",2019,13,0,0.75,0,0,null,null,"Marianne",null,"Není v databázi"]
["Tomas Hlavacek",{"$f":"VLOOKUP(A1186,Pilot,2,0)","v":1984},{"$f":"VLOOKUP(A1186,Pilot,5,0)","v":"M"},{"$f":"VLOOKUP(A1186,Pilot,3,0)","v":"Mladá Boleslav"},{"$f":"VLOOKUP(A1186,Pilot,4,0)","v":"CZ/C1"},"Šariš Cup 2019 - Klub","SK",2019,13,0,0.75,{"$f":"ROUND(J1186/MAX($J$1172:$J$1186)*10000*0.7+(MAX($I$1172:$I$1186)-I1186)/(MAX($I$1172:$I$1186)-1)*10000*0.3,0)","v":0},0,null,null,"Std. Cirrus",null,""]
["Viliam Kubovcik",null,null,"AK Poprad Tatry",null,"Šariš Cup 2019 - Kombi","SK",2019,1,3667,0,{"$f":"ROUND(J1187/MAX($J$1187:$J$1192)*10000*0.7+(MAX($I$1187:$I$1192)-I1187)/(MAX($I$1187:$I$1192)-1)*10000*0.3,0)","v":10000},0,null,null,"Ventus 2cxt","VV","Není v databázi"]
["Lukas Benedikt",null,null,"AK Trnava",null,"Šariš Cup 2019 - Kombi","SK",2019,2,2717,0,{"$f":"ROUND(J1188/MAX($J$1187:$J$1192)*10000*0.7+(MAX($I$1187:$I$1192)-I1188)/(MAX($I$1187:$I$1192)-1)*10000*0.3,0)","v":7587},0,null,null,"Ventus 3f","LB","Není v databázi"]
["Jaroslav Buryan",{"$f":"VLOOKUP(A1189,Pilot,2,0)","v":1953},{"$f":"VLOOKUP(A1189,Pilot,5,0)","v":"M"},"AK Zábřeh",{"$f":"VLOOKUP(A1189,Pilot,4,0)","v":"CZ/M"},"Šariš Cup 2019 - Kombi","SK",2019,3,2679,0,6914,0,null,null,"ASW 20 15mW","NS",""]
["Ľubik Jakubcak",null,null,"SGC Martin",null,"Šariš Cup 2019 - Kombi","SK",2019,4,2277,0,{"$f":"ROUND(J1190/MAX($J$1187:$J$1192)*10000*0.7+(MAX($I$1187:$I$1192)-I1190)/(MAX($I$1187:$I$1192)-1)*10000*0.3,0)","v":5547},0,null,null,"Arcus M","CAR","Není v databázi"]
["Jan Moravec",{"$f":"VLOOKUP(A1191,Pilot,2,0)","v":1979},{"$f":"VLOOKUP(A1191,Pilot,5,0)","v":"M"},"AK Zábřeh",{"$f":"VLOOKUP(A1191,Pilot,4,0)","v":"CZ/M"},"Šariš Cup 2019 - Kombi","SK",2019,5,965,0,2442,0,null,null,"ASW-20 CL 16,59m",96,""]
["Braňo Jesensky",null,null,"SGC Martin",null,"Šariš Cup 2019 - Kombi","SK",2019,6,0,{"$f":"VLOOKUP(F1192,Soutez,12,0)","v":0},0,0,null,null,"Ventus 2cxt",null,{"$f":"IF(ISERROR(VLOOKUP(A1192,Pilot,6,0)),\"Není v databázi\",VLOOKUP(A1192,Pilot,6,0))","v":"Není v databázi"}]
["Hornak & Sitar",null,null,null,null,"Top Gun 2019 - Kombi","SK",2019,1,1930,0.73,{"$f":"ROUND(J1193/MAX($J$1193:$J$1202)*10000*0.7+(MAX($I$1193:$I$1202)-I1193)/(MAX($I$1193:$I$1202)-1)*10000*0.3,0)","v":10000},7300,null,null,"Duo Discus XL","DUO","Není v databázi"]
["Kromka & Kollar",null,null,null,null,"Top Gun 2019 - Kombi","SK",2019,2,1838,0.73,{"$f":"ROUND(J1194/MAX($J$1193:$J$1202)*10000*0.7+(MAX($I$1193:$I$1202)-I1194)/(MAX($I$1193:$I$1202)-1)*10000*0.3,0)","v":9333},6813,null,null,"Arcus M","TA3","Není v databázi"]
["Peter Pokorny",null,null,null,null,"Top Gun 2019 - Kombi","SK",2019,3,1835,0.73,8989,{"$f":"ROUND(K1195*L1195,0)","v":6562},null,null,"ASG 29/18m","9E","Není v databázi"]
["Vladimir Jirka",{"$f":"VLOOKUP(A1196,Pilot,2,0)","v":1965},{"$f":"VLOOKUP(A1196,Pilot,5,0)","v":"M"},{"$f":"VLOOKUP(A1196,Pilot,3,0)","v":"Zábřeh"},{"$f":"VLOOKUP(A1196,Pilot,4,0)","v":"CZ/M"},"Top Gun 2019 - Kombi","SK",2019,4,1767,0.73,{"$f":"ROUND(J1196/MAX($J$1193:$J$1202)*10000*0.7+(MAX($I$1193:$I$1202)-I1196)/(MAX($I$1193:$I$1202)-1)*10000*0.3,0)","v":8409},6139,"x",null,"Ventus 2cM/18m","VJ",""]
["Trojan & Blatak",null,null,null,null,"Top Gun 2019 - Kombi","SK",2019,5,1576,0.73,7383,5390,null,null,"Duo Discus T","ZS","Není v databázi"]
["Miroslav Tapuska",null,null,null,null,"Top Gun 2019 - Kombi","SK",2019,6,1405,0.73,6429,4693,null,null,"Discus 2T/18m","AL","Není v databázi"]
["Jakubcak & Sulirova",null,null,null,null,"Top Gun 2019 - Kombi","SK",2019,7,1321,0.73,5791,4227,null,null,"Arcus M","CAR","Není v databázi"]
["Jozef Snirc",null,null,null,null,"Top Gun 2019 - Kombi","SK",2019,8,1017,0.73,4355,3179,null,null,"Discus 2T/18m","AE","Není v databázi"]
["Jan Keher",null,null,null,null,"Top Gun 2019 - Kombi","SK",2019,9,981,0.73,3891,2840,null,null,"Discus CS","DR","Není v databázi"]
["Vaclav Hruza",{"$f":"VLOOKUP(A1202,Pilot,2,0)","v":1965},{"$f":"VLOOKUP(A1202,Pilot,5,0)","v":"M"},{"$f":"VLOOKUP(A1202,Pilot,3,0)","v":"Břeclav"},{"$f":"VLOOKUP(A1202,Pilot,4,0)","v":"CZ/M"},"Top Gun 2019 - Kombi","SK",2019,10,0,0.73,0,0,null,null,"HPH 304S Shark","TBD",""]
["Jan Pubec",1979,"M","Plzeň Bory","CZ/C1","Toužim Cup 2019 - Klub","CZ",2019,1,3734,0.91,{"$f":"ROUND(J1203/MAX($J$1203:$J$1233)*10000*0.7+(MAX($I$1203:$I$1233)-I1203)/(MAX($I$1203:$I$1233)-1)*10000*0.3,0)","v":10000},9100,"x",null,"Std. Cirrus","LM",""]
["Lukas Koukal",1991,"M","Letkov","CZ/C1","Toužim Cup 2019 - Klub","CZ",2019,2,3655,0.91,{"$f":"ROUND(J1204/MAX($J$1203:$J$1233)*10000*0.7+(MAX($I$1203:$I$1233)-I1204)/(MAX($I$1203:$I$1233)-1)*10000*0.3,0)","v":9752},8874,"x",null,"ASW-15B","T1",""]
["Petr Jiranek 91",1991,"M","Toužim","CZ/C1","Toužim Cup 2019 - Klub","CZ",2019,3,3577,0.91,9506,8650,"x",null,"G-102 Astir cs","PJ",""]
["Martin Zahalka",1987,"M","Staňkov","CZ/C1","Toužim Cup 2019 - Klub","CZ",2019,4,3544,0.91,9344,8503,"x",null,"DG-100,101G","8B",""]
["Roman Jokl",1979,"M","Letkov","CZ/C1","Toužim Cup 2019 - Klub","CZ",2019,5,3517,0.91,9193,8366,"x",null,"ASW-19B","JL",""]
["Michal Drab",1969,"M","Letkov","CZ/C1","Toužim Cup 2019 - Klub","CZ",2019,6,3459,0.91,8984,8175,"x",null,"LS 1d","S3",""]
["Pavel Jiranek",1993,"M","Toužim","CZ/C1","Toužim Cup 2019 - Klub","CZ",2019,7,3414,0.91,8800,8008,"x",null,"Std. Cirrus","IYD",""]
["Ladislav Jozsa",1981,"M","Medlánky","CZ/M","Toužim Cup 2019 - Klub","CZ",2019,8,3376,0.91,8629,7852,"x",null,"Std. Cirrus","LJ",""]
["Jan Hlavacek",1965,"M","Rakovník","CZ/C1","Toužim Cup 2019 - Klub","CZ",2019,9,3369,0.91,8516,7750,"x",null,"Discus b","SJ",""]
["Martin Fric",1967,"M","Raná","CZ/C2","Toužim Cup 2019 - Klub","CZ",2019,10,3261,0.91,8213,7474,"x",null,"LS 3 15m","H1",""]
["Ivan Harasta 98",1998,"M","Toužim","CZ/C1","Toužim Cup 2019 - Klub","CZ",2019,11,3117,0.91,7843,7137,"x",null,"ASW-15B","HI","Junior v roce 2022"]
["Ivan Harasta 65",1965,"M","Toužim","CZ/C1","Toužim Cup 2019 - Klub","CZ",2019,12,3063,0.91,7642,6954,null,null,"ASW-15B","TT",""]
["Tomas Talanda",1988,"M","Křižanov","CZ/M","Toužim Cup 2019 - Klub","CZ",2019,13,2772,0.91,6997,6367,"x",null,"LS 1f","DP",""]
["Martin Valenta",1969,"M","Toužim","CZ/C1","Toužim Cup 2019 - Klub","CZ",2019,14,2753,0.91,6861,6244,"x",null,"LS 1c","P2",""]
["Petr Lonsky",1965,"M","Toužim","CZ/C1","Toužim Cup 2019 - Klub","CZ",2019,15,2743,0.91,6742,6135,"x",null,"LS 1d","CL",""]
["Lubomir Motl",1959,"M","Kyjov","CZ/M","Toužim Cup 2019 - Klub","CZ",2019,16,2634,0.91,6438,5859,null,null,"LS 1f","G2",""]
["Josef Kreutzer",1992,"M","Letkov","CZ/C1","Toužim Cup 2019 - Klub","CZ",2019,17,2461,0.91,6014,5473,"x",null,"Std. Cirrus","AL",""]
["Rostislav Fric",1973,"M","Raná","CZ/C2","Toužim Cup 2019 - Klub","CZ",2019,18,2377,0.91,5756,5238,"x",null,"ASW-19","FR",""]
["Jan Heroudek",1970,"M","Rakovník","CZ/C1","Toužim Cup 2019 - Klub","CZ",2019,19,2285,0.91,5484,4990,"x",null,"DG-100,101G",75,""]
["Stanislav Doskocil",1978,"M","Medlánky","CZ/M","Toužim Cup 2019 - Klub","CZ",2019,20,2106,0.91,5048,4594,"x",null,"Std. Cirrus","SD",""]
["Tomas Seifert",1972,"M","Raná","CZ/C2","Toužim Cup 2019 - Klub","CZ",2019,21,2058,0.91,4858,4421,"x",null,"ASW-15B","MC",""]
["Martin Nejezchleb",1979,"M","Plzeň Bory","CZ/C1","Toužim Cup 2019 - Klub","CZ",2019,22,1847,0.91,4363,3970,"x",null,"Twin III","TO",""]
["Tomas Jung",1950,"M","Zbraslavice","CZ/C1","Toužim Cup 2019 - Klub","CZ",2019,23,1682,0.91,3953,3597,null,null,"ASW-19 Club","O2",""]
["Jan Zanda",1983,"M","Letkov","CZ/C1","Toužim Cup 2019 - Klub","CZ",2019,24,1563,0.91,3630,3303,"x",null,"LS 1c","AN",""]
["Vit Prokop",1987,"M","Medlánky","CZ/M","Toužim Cup 2019 - Klub","CZ",2019,25,1467,0.91,3350,3049,"x",null,"Std. Cirrus","MF",""]
["Jiri Cincera",1966,"M","Toužim","CZ/C1","Toužim Cup 2019 - Klub","CZ",2019,26,1413,0.91,3149,2866,"x",null,"G-102 Astir cs","LS",""]
["Frantisek Brozman",1960,"M","Tachov","CZ/C1","Toužim Cup 2019 - Klub","CZ",2019,27,1169,0.91,{"$f":"ROUND(J1229/MAX($J$1203:$J$1233)*10000*0.7+(MAX($I$1203:$I$1233)-I1229)/(MAX($I$1203:$I$1233)-1)*10000*0.3,0)","v":2591},2358,"x",null,"VT116 Orlik II","TI",""]
["Vaclav Halek",1966,"M","Toužim","CZ/C1","Toužim Cup 2019 - Klub","CZ",2019,28,1048,0.91,2265,2061,"x",null,"G-102 Astir cs","PB",""]
["Vaclav Hrdina",1984,"M","Letkov","CZ/C1","Toužim Cup 2019 - Klub","CZ",2019,29,815,0.91,1728,1572,"x",null,"Std. Cirrus","SB",""]
["Jan Konecny",1972,"M","Rakovník","CZ/C1","Toužim Cup 2019 - Klub","CZ",2019,30,665,0.91,1347,1226,"x",null,"LS 7",72,""]
["Frantisek Kriz",1961,"M","Toužim","CZ/C1","Toužim Cup 2019 - Klub","CZ",2019,31,514,0.91,964,877,"x",null,"LS 1d","FK",""]
["Tomas Rendla",1973,"M","Zbraslavice","CZ/C1","Toužim Cup 2019 - Kombi","CZ",2019,1,3751,0.90500000000000003,{"$f":"ROUND(J1234/MAX($J$1234:$J$1255)*10000*0.7+(MAX($I$1234:$I$1255)-I1234)/(MAX($I$1234:$I$1255)-1)*10000*0.3,0)","v":10000},9050,"x",null,"Arcus M","EY",""]
["Vratislav Sram",1966,"M","Broumov","CZ/C2","Toužim Cup 2019 - Kombi","CZ",2019,2,3324,0.90500000000000003,{"$f":"ROUND(J1235/MAX($J$1234:$J$1255)*10000*0.7+(MAX($I$1234:$I$1255)-I1235)/(MAX($I$1234:$I$1255)-1)*10000*0.3,0)","v":9060},8199,null,null,"Nimbus 2, 2b,2M (voda)","NB",""]
["Ondrej Dupal",1966,"M","GAC Benešov","CZ/C1","Toužim Cup 2019 - Kombi","CZ",2019,3,3280,0.90500000000000003,8835,7996,null,null,"ASG 29E 18m 600kg (voda)","GO",""]
["Karel Benisek 76",1976,"M","Toužim","CZ/C1","Toužim Cup 2019 - Kombi","CZ",2019,4,3187,0.90500000000000003,8519,7710,"x",null,"Ventus ct 17,6m (voda)","KB",""]
["Andreas Frech",null,"M","SFC Tulln","AT","Toužim Cup 2019 - Kombi","CZ",2019,5,3055,0.90500000000000003,8130,7358,null,null,"Duo Discus T","TWO","Není v databázi"]
["Daniel Novak",{"$f":"VLOOKUP(A1239,Pilot,2,0)","v":1971},{"$f":"VLOOKUP(A1239,Pilot,5,0)","v":"M"},{"$f":"VLOOKUP(A1239,Pilot,3,0)","v":"Letkov"},{"$f":"VLOOKUP(A1239,Pilot,4,0)","v":"CZ/C1"},"Toužim Cup 2019 - Kombi","CZ",2019,6,3020,0.90500000000000003,7922,7169,"x",null,"Nimbus 3/24.5m",12,""]
["Zdenek Schenk",1972,"M","Hranice","CZ/M","Toužim Cup 2019 - Kombi","CZ",2019,7,2966,0.90500000000000003,7678,6949,null,null,"Ventus cm 17,6m","ŠNeK",""]
["Jaroslav Hot",1965,"M","Toužim","CZ/C1","Toužim Cup 2019 - Kombi","CZ",2019,8,2837,0.90500000000000003,7294,6601,"x",null,"Ventus cm 17,6m (voda)","SW",""]
["Roman Lanzendorf",1964,"M","Letkov","CZ/C1","Toužim Cup 2019 - Kombi","CZ",2019,9,2807,0.90500000000000003,7095,6421,"x",null,"Ventus ct 17,6m","AW",""]
["Milos Pajr",1966,"M","Jičín","CZ/C2","Toužim Cup 2019 - Kombi","CZ",2019,10,2786,0.90500000000000003,6913,6256,"x",null,"HPH 304M Shark 560kg 18m (voda)","HPH",""]
["Tomas Profeld",1964,"M","Jičín","CZ/C2","Toužim Cup 2019 - Kombi","CZ",2019,11,2738,0.90500000000000003,6681,6046,"x",null,"Ventus 2 cm 18m 525kg (voda)","OZ",""]
["Jiri Prochazka",1971,"M","Toužim","CZ/C1","Toužim Cup 2019 - Kombi","CZ",2019,12,2697,0.90500000000000003,6462,5848,null,null,"DG-500 22m","SR",""]
["Petr Bartak",1984,"M","Letkov","CZ/C1","Toužim Cup 2019 - Kombi","CZ",2019,13,2627,0.90500000000000003,6188,5600,"x",null,"LS 6c 18m+W (voda)","BL",""]
["Frantisek Myska",1968,"M","Most","CZ/C2","Toužim Cup 2019 - Kombi","CZ",2019,14,2612,0.90500000000000003,6017,5445,"x",null,"Ventus bt 16,6m","SK",""]
["Karl Schiffleithner",null,"M","SFC Tulln","AT","Toužim Cup 2019 - Kombi","CZ",2019,15,2574,0.90500000000000003,5804,5253,null,null,"Ventus 2cxt 18m 600kg","IX","Není v databázi"]
["Petr Jiranek 63",{"$f":"VLOOKUP(A1249,Pilot,2,0)","v":1962},{"$f":"VLOOKUP(A1249,Pilot,5,0)","v":"M"},{"$f":"VLOOKUP(A1249,Pilot,3,0)","v":"Toužim"},{"$f":"VLOOKUP(A1249,Pilot,4,0)","v":"CZ/C1"},"Toužim Cup 2019 - Kombi","CZ",2019,16,2463,0.90500000000000003,{"$f":"ROUND(J1249/MAX($J$1234:$J$1255)*10000*0.7+(MAX($I$1234:$I$1255)-I1249)/(MAX($I$1234:$I$1255)-1)*10000*0.3,0)","v":5454},4936,null,null,"Ventus ct 17,6m (voda)","EB",""]
["Vaclav Svoboda",{"$f":"VLOOKUP(A1250,Pilot,2,0)","v":1970},{"$f":"VLOOKUP(A1250,Pilot,5,0)","v":"M"},{"$f":"VLOOKUP(A1250,Pilot,3,0)","v":"Letkov"},{"$f":"VLOOKUP(A1250,Pilot,4,0)","v":"CZ/C1"},"Toužim Cup 2019 - Kombi","CZ",2019,17,2090,0.90500000000000003,4615,4177,"x",null,"LS 8b,t,18 18m (voda)",301,""]
["Olga Mokosova",{"$f":"VLOOKUP(A1251,Pilot,2,0)","v":1970},{"$f":"VLOOKUP(A1251,Pilot,5,0)","v":"F"},{"$f":"VLOOKUP(A1251,Pilot,3,0)","v":"Jihlava"},{"$f":"VLOOKUP(A1251,Pilot,4,0)","v":"CZ/M"},"Toužim Cup 2019 - Kombi","CZ",2019,18,1993,0.90500000000000003,4291,3883,"x","x","LS 6c 18m+W (voda)","MM",""]
["Uwe Tolkmitt",null,"M","LSV Greiz","DE","Toužim Cup 2019 - Kombi","CZ",2019,19,1707,0.90500000000000003,3614,3271,null,null,"DG-400 17m","JO","Není v databázi"]
["Jaroslav Cejka",{"$f":"VLOOKUP(A1253,Pilot,2,0)","v":1952},{"$f":"VLOOKUP(A1253,Pilot,5,0)","v":"M"},{"$f":"VLOOKUP(A1253,Pilot,3,0)","v":"Letkov"},{"$f":"VLOOKUP(A1253,Pilot,4,0)","v":"CZ/C1"},"Toužim Cup 2019 - Kombi","CZ",2019,20,1643,0.90500000000000003,3352,3034,"x",null,"LS 8/18m","EJ",""]
["Roman Michalek",{"$f":"VLOOKUP(A1254,Pilot,2,0)","v":1974},{"$f":"VLOOKUP(A1254,Pilot,5,0)","v":"M"},{"$f":"VLOOKUP(A1254,Pilot,3,0)","v":"Toužim"},{"$f":"VLOOKUP(A1254,Pilot,4,0)","v":"CZ/C1"},"Toužim Cup 2019 - Kombi","CZ",2019,21,1527,0.90500000000000003,2992,2708,"x",null,"DG-400 17m","TK",""]
["Raul Flicker",null,"M","SFC Tulln","AT","Toužim Cup 2019 - Kombi","CZ",2019,22,1426,0.90500000000000003,2661,2408,null,null,"Ventus 2CM","FF","Není v databázi"]
["Alena Netusilova",{"$f":"VLOOKUP(A1256,Pilot,2,0)","v":1970},{"$f":"VLOOKUP(A1256,Pilot,5,0)","v":"F"},{"$f":"VLOOKUP(A1256,Pilot,3,0)","v":"Zbraslavice"},{"$f":"VLOOKUP(A1256,Pilot,4,0)","v":"CZ/C1"},"Zbraslavický bludišťák 2019 - Kombi","CZ",2019,1,605,{"$f":"VLOOKUP(F1256,Soutez,12,0)","v":0},{"$f":"ROUND(J1256/MAX($J$1256:$J$1274)*10000*0.7+(MAX($I$1256:$I$1274)-I1256)/(MAX($I$1256:$I$1274)-1)*10000*0.3,0)","v":10000},0,null,null,"JS 3","ZE",{"$f":"IF(ISERROR(VLOOKUP(A1256,Pilot,6,0)),\"Není v databázi\",VLOOKUP(A1256,Pilot,6,0))","v":""}]
["Jan Ratz",1987,"M","Zbraslavice","CZ/C1","Zbraslavický bludišťák 2019 - Kombi","CZ",2019,2,514,0,{"$f":"ROUND(J1257/MAX($J$1256:$J$1274)*10000*0.7+(MAX($I$1256:$I$1274)-I1257)/(MAX($I$1256:$I$1274)-1)*10000*0.3,0)","v":8780},0,null,null,"Std. Cirrus","REX",""]
["Martin Chovan",1973,"M","Zbraslavice","CZ/C1","Zbraslavický bludišťák 2019 - Kombi","CZ",2019,3,495,0,8394,0,null,null,"Std. Cirrus","C1",""]
["Jakub Kmosek",1978,"M","Zbraslavice","CZ/C1","Zbraslavický bludišťák 2019 - Kombi","CZ",2019,4,365,0,6723,{"$f":"ROUND(K1259*L1259,0)","v":0},null,null,"Std. Cirrus","ST",""]
["Richard Jensen",1965,"M","Zbraslavice","CZ/C1","Zbraslavický bludišťák 2019 - Kombi","CZ",2019,5,358,0,6475,0,null,null,"VSO-10",47,""]
["Barbora Moravcova",1994,"F","Zbraslavice","CZ/C1","Zbraslavický bludišťák 2019 - Kombi","CZ",2019,6,357,0,6297,0,null,null,"ASW 19B","CF",""]
["Vojtech Svoboda",1994,"M","Zbraslavice","CZ/C1","Zbraslavický bludišťák 2019 - Kombi","CZ",2019,7,324,0,5749,0,null,null,"VSO-10","F2",""]
["Jiri Balak",1978,"M","Zbraslavice","CZ/C1","Zbraslavický bludišťák 2019 - Kombi","CZ",2019,8,320,0,5536,0,null,null,"G 102 Club Astir","MW",""]
["Jiri Hodan",1959,"M","Zbraslavice","CZ/C1","Zbraslavický bludišťák 2019 - Kombi","CZ",2019,9,279,0,4895,0,null,null,"G 103 Twin II","RB",""]
["Jan Smekal",1976,"M","Zbraslavice","CZ/C1","Zbraslavický bludišťák 2019 - Kombi","CZ",2019,10,271,0,4636,0,null,null,"ASW 20","NW",""]
["Petr Starek",1974,"M","Zbraslavice","CZ/C1","Zbraslavický bludišťák 2019 - Kombi","CZ",2019,11,223,0,3913,0,null,null,"HPH 304 Shark",66,""]
["Rudolf Jung",1954,"M","Zbraslavice","CZ/C1","Zbraslavický bludišťák 2019 - Kombi","CZ",2019,12,167,0,3099,0,null,null,"VSM-40","D",""]
["Milan Riha",1973,"M","Zbraslavice","CZ/C1","Zbraslavický bludišťák 2019 - Kombi","CZ",2019,13,151,0,{"$f":"ROUND(J1268/MAX($J$1256:$J$1274)*10000*0.7+(MAX($I$1256:$I$1274)-I1268)/(MAX($I$1256:$I$1274)-1)*10000*0.3,0)","v":2747},0,null,null,"ASW 19B","O2",""]
["David Darnady",null,"M",null,"SK","Zbraslavický bludišťák 2019 - Kombi","CZ",2019,14,127,0,2303,0,null,null,"ASW 20",null,"Není v databázi"]
["Ondrej Prazsky",{"$f":"VLOOKUP(A1270,Pilot,2,0)","v":1978},{"$f":"VLOOKUP(A1270,Pilot,5,0)","v":"M"},{"$f":"VLOOKUP(A1270,Pilot,3,0)","v":"Zbraslavice"},{"$f":"VLOOKUP(A1270,Pilot,4,0)","v":"CZ/C1"},"Zbraslavický bludišťák 2019 - Kombi","CZ",2019,15,119,0,2044,0,null,null,"Std. Cirrus","P2",""]
["Jan Bejdl",1978,"M","Zbraslavice","CZ/C1","Zbraslavický bludišťák 2019 - Kombi","CZ",2019,16,93,0,1576,0,null,null,"G 102 Club Astir","J1",""]
["Michaela Rendlova",2004,"F","Toužim","CZ/C1","Zbraslavický bludišťák 2019 - Kombi","CZ",2019,17,46,0,866,0,null,null,"JS 1 Revelation","VX","Junior v roce 2022"]
["Lenka Kuthanova",1960,"F","Tábor","CZ/C1","Zbraslavický bludišťák 2019 - Kombi","CZ",2019,18,45,0,687,0,null,null,"JS 1 Revelation","LX",""]
["David Sachl",1978,"M","Kralupy","CZ/C1","Zbraslavický bludišťák 2019 - Kombi","CZ",2019,19,16,0,185,0,null,null,"DG 300",null,""]
["Vojtech Novotny",1992,"M","Kralupy","CZ/C1","JPJ 2020 - Klub","CZ",2020,1,5131,0.91,{"$f":"ROUND(J1275/MAX($J$1275:$J$1307)*10000*0.7+(MAX($I$1275:$I$1307)-I1275)/(MAX($I$1275:$I$1307)-1)*10000*0.3,0)","v":10000},9100,"x",null,"LS-1f","EF",""]
["Josef Novotny",1983,"M","Přibyslav","CZ/C2","JPJ 2020 - Klub","CZ",2020,2,5093,0.91,{"$f":"ROUND(J1276/MAX($J$1275:$J$1307)*10000*0.7+(MAX($I$1275:$I$1307)-I1276)/(MAX($I$1275:$I$1307)-1)*10000*0.3,0)","v":9854},8967,"x",null,"Std. Cirrus","AW",""]
["Jindrich Svorc",1978,"M","Letňany","CZ/C1","JPJ 2020 - Klub","CZ",2020,3,4998,0.91,9631,8764,"x",null,"Std. Cirrus","IMI",""]
["Martin Ficnar",1971,"M","Šumperk","CZ/M","JPJ 2020 - Klub","CZ",2020,4,4951,0.91,9473,8620,"x",null,"LS-3a 15m","S20",""]
["Martin Urner",1974,"M","Letňany","CZ/C1","JPJ 2020 - Klub","CZ",2020,5,4917,0.91,9333,8493,"x",null,"ASW-15B","JJ",""]
["Petr Kolomaznik",1981,"M","Šumperk","CZ/M","JPJ 2020 - Klub","CZ",2020,6,4491,0.91,8658,7879,"x",null,"LS-1f","LS",""]
["Antonin Novotny",1972,"M","Luhačovice","CZ/M","JPJ 2020 - Klub","CZ",2020,7,4462,0.91,8525,7758,"x",null,"Std. Cirrus","SP",""]
["Petr Valenta 94",1994,"M","Kunovice","CZ/M","JPJ 2020 - Klub","CZ",2020,8,4433,0.91,8391,7636,"x",null,"Astir CS","BU",""]
["Josef Novak",1981,"M","Kunovice","CZ/M","JPJ 2020 - Klub","CZ",2020,9,4284,0.91,8094,7366,"x",null,"LS-1f","JT",""]
["Petr Havrlant",1965,"M","Šumperk","CZ/M","JPJ 2020 - Klub","CZ",2020,10,4150,0.91,7818,7114,"x",null,"ASW-15B","Q1",""]
["Libor Bednarik",1972,"M","Kunovice","CZ/M","JPJ 2020 - Klub","CZ",2020,11,4109,0.91,7668,6978,"x",null,"Std. Cirrus","PIF",""]
["Michaela Krizova",2001,"F","Přibyslav","CZ/C2","JPJ 2020 - Klub","CZ",2020,12,4088,0.91,7546,6867,"x","x","ASW-15B","BE","Junior v roce 2022"]
["Rene Hudak",1972,"M","Kunovice","CZ/M","JPJ 2020 - Klub","CZ",2020,13,4087,0.91,7451,6780,"x",null,"Std. Cirrus WL","NK",""]
["Martin Svarc",1981,"M","Olomouc","CZ/M","JPJ 2020 - Klub","CZ",2020,14,3935,0.91,7150,6507,"x",null,"DG-101 G","HE",""]
["Jiri Koudela",1974,"M","Vyškov","CZ/M","JPJ 2020 - Klub","CZ",2020,15,3905,0.91,7015,6384,"x",null,"ASW-19B","JK",""]
["Petr Kolacek",1965,"M","Šumperk","CZ/M","JPJ 2020 - Klub","CZ",2020,16,3354,0.91,6169,5614,"x",null,"SZD-48 Jantar std. 3","IX",""]
["Roman Schotli",1970,"M","Hranice","CZ/M","JPJ 2020 - Klub","CZ",2020,17,3343,0.91,6061,5516,"x",null,"ASW-19B",19,""]
["Karel Horalek",1976,"M","Olomouc","CZ/M","JPJ 2020 - Klub","CZ",2020,18,3229,0.91,5811,5288,"x",null,"LS-3 15m","Y1",""]
["Stepan Obrovsky",1990,"M","Frýdlant","CZ/M","JPJ 2020 - Klub","CZ",2020,19,3150,0.91,5610,5105,"x",null,"Std. Cirrus",22,""]
["Josef Hlusek",1993,"M","Kunovice","CZ/M","JPJ 2020 - Klub","CZ",2020,20,3138,0.91,5500,5005,"x",null,"Std. Cirrus","WO",""]
["Peter Kaspar",1980,"M","Vyškov","CZ/M","JPJ 2020 - Klub","CZ",2020,21,3111,0.91,5369,4886,"x",null,"Astir CS 77","AP",""]
["Pavel Simek",1957,"M","Vyškov","CZ/M","JPJ 2020 - Klub","CZ",2020,22,2989,0.91,5109,4649,"x",null,"DG-1000S 18m",66,""]
["Jan Pokluda",1973,"M","Šumperk","CZ/M","JPJ 2020 - Klub","CZ",2020,23,2868,0.91,4850,4414,"x",null,"ASW-15B WL","JG",""]
["Lukas Petrzela",1987,"M","Olomouc","CZ/M","JPJ 2020 - Klub","CZ",2020,24,2349,0.91,4048,3684,"x",null,"Astir CS","AL",""]
["Ludek Mikl",1963,"M","Kroměříž","CZ/M","JPJ 2020 - Klub","CZ",2020,25,1806,0.91,3214,2925,"x",null,"Astir CS Jeans","L1",""]
["Yvona Vyhnankova",1963,"F","Olomouc","CZ/M","JPJ 2020 - Klub","CZ",2020,26,1650,0.91,2907,2645,"x","x","ASW-15","YZ",""]
["Petr Lonsky",1965,"M","Toužim","CZ/C1","JPJ 2020 - Klub","CZ",2020,27,1585,0.91,{"$f":"ROUND(J1301/MAX($J$1275:$J$1307)*10000*0.7+(MAX($I$1275:$I$1307)-I1301)/(MAX($I$1275:$I$1307)-1)*10000*0.3,0)","v":2725},2480,null,null,"Cirrus VTC","JP",""]
["Jan Zezula",{"$f":"VLOOKUP(A1302,Pilot,2,0)","v":1979},{"$f":"VLOOKUP(A1302,Pilot,5,0)","v":"M"},{"$f":"VLOOKUP(A1302,Pilot,3,0)","v":"Letňany"},{"$f":"VLOOKUP(A1302,Pilot,4,0)","v":"CZ/C1"},"JPJ 2020 - Klub","CZ",2020,28,1455,0.91,2454,2233,null,null,"ASW-19B","HD",""]
["Viktor Zimcik",1976,"M","Kunovice","CZ/M","JPJ 2020 - Klub","CZ",2020,29,738,0.91,1382,1258,"x",null,"Astir CS","O5",""]
["Jan Podhrazsky",1976,"M","Šumperk","CZ/M","JPJ 2020 - Klub","CZ",2020,30,696,0.91,1231,1120,"x",null,"Astir CS 77","NZ",""]
["Karel Ertl",1939,"M","LK Břeclav","CZ/M","JPJ 2020 - Klub","CZ",2020,31,695,0.91,1136,1034,null,null,"TST-10M Atlas","KE",""]
["Libor Danhel",1966,"M","Kunovice","CZ/M","JPJ 2020 - Klub","CZ",2020,32,300,0.91,503,458,"x",null,"Std. Cirrus","OK",""]
["Pavel Handl",1971,"M","Kroměříž","CZ/M","JPJ 2020 - Klub","CZ",2020,33,279,0.91,381,347,"x",null,"Phoebus A1","P1",""]
["Frantisek Vancura",1966,"M","Hranice","CZ/M","JPJ 2020 - Kombi","CZ",2020,1,4741,0.91,{"$f":"ROUND(J1308/MAX($J$1308:$J$1328)*10000*0.7+(MAX($I$1308:$I$1328)-I1308)/(MAX($I$1308:$I$1328)-1)*10000*0.3,0)","v":10000},9100,"x",null,"Nimbus 3T 24,5m WL 750kg","A1",""]
["Marek Blatak",1969,"M","Šumperk","CZ/M","JPJ 2020 - Kombi","CZ",2020,2,4740,0.91,{"$f":"ROUND(J1309/MAX($J$1308:$J$1328)*10000*0.7+(MAX($I$1308:$I$1328)-I1309)/(MAX($I$1308:$I$1328)-1)*10000*0.3,0)","v":9849},8963,"x",null,"Duo Discus T 700kg","ZS",""]
["Kamil Sohr",1973,"M","Šumperk","CZ/M","JPJ 2020 - Kombi","CZ",2020,3,4645,0.91,9558,8698,"x",null,"Ventus c 17,6m","W",""]
["Jiri Steiger",1969,"M","Olomouc","CZ/M","JPJ 2020 - Kombi","CZ",2020,4,4451,0.91,9122,8301,"x",null,"Duo Discus XLT","JIM",""]
["Michal Cechmanek",1978,"M","Luhačovice","CZ/M","JPJ 2020 - Kombi","CZ",2020,5,4371,0.91,8854,8057,"x",null,"ASW-20 L +FL 16,6m","MK",""]
["Jan Dersak 69",1969,"M","Kralupy","CZ/C1","JPJ 2020 - Kombi","CZ",2020,6,4344,0.91,8664,7884,"x",null,"HpH 304JS SHARK 18m 573kg","DJ",""]
["Miroslav Koci",1961,"M","Žamberk","CZ/C2","JPJ 2020 - Kombi","CZ",2020,7,4315,0.91,8471,7709,"x",null,"Ventus 2cxm 18m 565kg","E8",""]
["Tomas Prikryl",1973,"M","Vyškov","CZ/M","JPJ 2020 - Kombi","CZ",2020,8,4070,0.91,7959,7243,"x",null,"Ventus 2cm 18m 525kg","FN",""]
["Zdenek Schenk",1972,"M","Hranice","CZ/M","JPJ 2020 - Kombi","CZ",2020,9,3921,0.91,{"$f":"ROUND(J1316/MAX($J$1308:$J$1328)*10000*0.7+(MAX($I$1308:$I$1328)-I1316)/(MAX($I$1308:$I$1328)-1)*10000*0.3,0)","v":7589},6906,"x",null,"Ventus cm 17,6m","ŠNeK",""]
["Jaroslav Buryan",1953,"M","Zábřeh","CZ/M","JPJ 2020 - Kombi","CZ",2020,10,3872,0.91,7367,6704,"x",null,"ASW-20 (A)+F 15m WL","NS",""]
["Jan Simon",1970,"M","Kralupy","CZ/C1","JPJ 2020 - Kombi","CZ",2020,11,3730,0.91,7007,6376,"x",null,"Ventus ct 17,6m","KR",""]
["Ladislav Jozsa",1981,"M","Medlánky","CZ/M","JPJ 2020 - Kombi","CZ",2020,12,3666,0.91,6763,6154,"x",null,"Ventus c 17.6m","WW",""]
["Miroslav Sklenar",1964,"M","Žamberk","CZ/C2","JPJ 2020 - Kombi","CZ",2020,13,3582,{"$f":"VLOOKUP(F1320,Soutez,12,0)","v":0.91},6489,5905,"x",null,"Duo Discus 700kg","VP",{"$f":"IF(ISERROR(VLOOKUP(A1320,Pilot,6,0)),\"Není v databázi\",VLOOKUP(A1320,Pilot,6,0))","v":""}]
["Roman Cerny",1971,"M","Hranice","CZ/M","JPJ 2020 - Kombi","CZ",2020,14,3089,0.91,5611,5106,"x",null,"LAK-17AT 18m","B2",""]
["Pavel Haluza",1966,"M","Prostějov","CZ/M","JPJ 2020 - Kombi","CZ",2020,15,2817,0.91,5059,4604,"x",null,"Nimbus 2b","HT",""]
["Vit Grossmann",1977,"M","Hranice","CZ/M","JPJ 2020 - Kombi","CZ",2020,16,2783,0.91,4859,{"$f":"ROUND(K1323*L1323,0)","v":4422},"x",null,"Duo Discus 700kg","OK",""]
["Tomas Profeld",1964,"M","Jičín","CZ/C2","JPJ 2020 - Kombi","CZ",2020,17,2577,0.91,4405,4009,null,null,"Ventus 2cm 18m 525kg","OZ",""]
["Martin Kriz",1968,"M","Přibyslav","CZ/C2","JPJ 2020 - Kombi","CZ",2020,18,2528,0.91,4183,3807,"x",null,"ASW-20 (A)+F 15m WL",67,""]
["Albrecht Beat",1953,"M","Šumperk","CZ/M","JPJ 2020 - Kombi","CZ",2020,19,2176,0.91,3513,3197,"x",null,"LS-8 15m","GL",""]
["Vladimir Spilka",1940,"M","Hranice","CZ/M","JPJ 2020 - Kombi","CZ",2020,20,1712,0.91,2678,2437,"x",null,"Nimbus 2b","AY",""]
["Antonin Kutalek",1943,"M","Zábřeh","CZ/M","JPJ 2020 - Kombi","CZ",2020,21,1439,0.91,2125,1934,null,null,"Mini-Nimbus c","GLk",""]
["Klara Teichmannova",1993,"F","Hronov","CZ/C2","HOP 2020 - Klub","CZ",2020,1,3803,0.755,{"$f":"ROUND(J1329/MAX($J$1329:$J$1354)*10000*0.7+(MAX($I$1329:$I$1354)-I1329)/(MAX($I$1329:$I$1354)-1)*10000*0.3,0)","v":10000},7550,"x","x","VT-116 Orlik 2",5509,""]
["Michal Janda",1972,"M","Broumov","CZ/C2","HOP 2020 - Klub","CZ",2020,2,3743,0.755,{"$f":"ROUND(J1330/MAX($J$1329:$J$1354)*10000*0.7+(MAX($I$1329:$I$1354)-I1330)/(MAX($I$1329:$I$1354)-1)*10000*0.3,0)","v":9770},7376,"x",null,"VT-116 Orlik 2",7402,""]
["Oldrich Slavicek",1959,"M","Hronov","CZ/C2","HOP 2020 - Klub","CZ",2020,3,3647,0.755,9473,7152,"x",null,"VT-116 Orlik 2",4310,""]
["Milan Svoboda 80",1980,"M","Havlíčkův Brod","CZ/C2","HOP 2020 - Klub","CZ",2020,4,3533,0.755,9143,6903,"x",null,"VT-116 Orlik 2",6446,""]
["Miroslav Stepan",1955,"M","Žamberk","CZ/C2","HOP 2020 - Klub","CZ",2020,5,3450,0.755,8870,6697,"x",null,"VT-116 Orlik 2",8412,""]
["Wolfgang Sluka",{"$f":"VLOOKUP(A1334,Pilot,2,0)","v":1942},"M","Liberec","CZ/C2","HOP 2020 - Klub","CZ",2020,6,3386,0.755,8632,6517,"x",null,"VT-116 Orlik 2",8425,""]
["Tomas Mezera",1973,"M","Raná","CZ/C2","HOP 2020 - Klub","CZ",2020,7,3095,0.755,7977,6023,"x",null,"VT-116 Orlik 2",8401,""]
["Josef Linhart, Milos Dedera",null,"M","AK Medlánky",null,"HOP 2020 - Klub","CZ",2020,8,2950,0.755,7590,5730,null,null,"Ka 6 E",9781,"Není v databázi"]
["Jaromir Vlk",{"$f":"VLOOKUP(A1337,Pilot,2,0)","v":1959},{"$f":"VLOOKUP(A1337,Pilot,5,0)","v":"M"},{"$f":"VLOOKUP(A1337,Pilot,3,0)","v":"Šumperk"},{"$f":"VLOOKUP(A1337,Pilot,4,0)","v":"CZ/M"},"HOP 2020 - Klub","CZ",2020,9,2829,0.755,7247,5471,"x",null,"VT-116 Orlik 2",6907,""]
["Ondrej Teichman",1984,"M","Dvůr Králové","CZ/C2","HOP 2020 - Klub","CZ",2020,10,2678,0.755,6849,5171,null,null,"VT-116 Orlik 2",6445,""]
["Jaromir Hendrych",1954,"M","Raná","CZ/C2","HOP 2020 - Klub","CZ",2020,11,2603,0.755,6591,4976,"x",null,"M-35",2403,""]
["Michal Nutil",1966,"M","Náchod","CZ/C2","HOP 2020 - Klub","CZ",2020,12,2510,0.755,6300,4757,"x",null,"VT-116 Orlik 2",7424,""]
["Vaclav Kysilka",1979,"M","GAC Benešov","CZ/C1","HOP 2020 - Klub","CZ",2020,13,2509,0.755,6178,4664,"x",null,"VT-116 Orlik 2",8430,""]
["Petr Vezda",1974,"M","Medlánky","CZ/M","HOP 2020 - Klub","CZ",2020,14,2312,0.755,{"$f":"ROUND(J1342/MAX($J$1329:$J$1354)*10000*0.7+(MAX($I$1329:$I$1354)-I1342)/(MAX($I$1329:$I$1354)-1)*10000*0.3,0)","v":5696},4300,"x",null,"VT-116 Orlik 2",4321,""]
["Oldrich Hlavacek",1973,"M","Medlánky","CZ/M","HOP 2020 - Klub","CZ",2020,15,2261,0.755,5482,4139,"x",null,"VT-116 Orlik 2",4307,""]
["Jana Mezerova",1975,"F","Raná","CZ/C2","HOP 2020 - Klub","CZ",2020,16,2245,0.755,5332,4026,"x","x","VT-116 Orlik 2",7425,""]
["Matej Jelinek",1999,"M","Hronov","CZ/C2","HOP 2020 - Klub","CZ",2020,17,2172,0.755,5078,3834,"x",null,"VT-116 Orlik 2",6922,"Junior v roce 2022"]
["Krystof Mimra",1992,"M","Most","CZ/C2","HOP 2020 - Klub","CZ",2020,18,2135,0.755,{"$f":"ROUND(J1346/MAX($J$1329:$J$1354)*10000*0.7+(MAX($I$1329:$I$1354)-I1346)/(MAX($I$1329:$I$1354)-1)*10000*0.3,0)","v":4890},3692,"x",null,"VT-116 Orlik 2",7413,""]
["Petr Seibrt",1974,"M","Náchod","CZ/C2","HOP 2020 - Klub","CZ",2020,19,2134,0.755,4768,3600,"x",null,"VT-16 Orlik",2412,""]
["Milos Hrabe",1979,"M","Letňany","CZ/C1","HOP 2020 - Klub","CZ",2020,20,2019,0.755,4436,3349,"x",null,"VT-116 Orlik 2",6444,""]
["Miroslav Major",1968,"M","Kralupy","CZ/C1","HOP 2020 - Klub","CZ",2020,21,1923,0.755,4140,3126,"x",null,"VT-116 Orlik 2",7403,""]
["Petr Vlasak",1974,"M","Medlánky","CZ/M","HOP 2020 - Klub","CZ",2020,22,1563,0.755,3357,2535,"x",null,"VT-16 Orlik",2909,""]
["sarka Lochova",1966,"F","Šumperk","CZ/M","HOP 2020 - Klub","CZ",2020,23,1561,0.755,3233,2441,null,null,"VT-116 Orlik 2",7445,""]
["Tomas Holenda",1956,"M","Havlíčkův Brod","CZ/C2","HOP 2020 - Klub","CZ",2020,24,1378,0.755,2776,2096,"x",null,"VT-116 Orlik 2",4314,""]
["Jiri Klicnar",1965,"M","Medlánky","CZ/M","HOP 2020 - Klub","CZ",2020,25,1316,0.755,2542,1919,"x",null,"M-28",2903,""]
["Martin Adamec",1971,"M","Medlánky","CZ/M","HOP 2020 - Klub","CZ",2020,26,723,0.755,1331,1005,"x",null,"VT-116 Orlik 2",8406,""]
["David Mach",1994,"M","Hronov","CZ/C2","HOP 2020 - Kombi","CZ",2020,1,4289,0.76,{"$f":"ROUND(J1355/MAX($J$1355:$J$1373)*10000*0.7+(MAX($I$1355:$I$1373)-I1355)/(MAX($I$1355:$I$1373)-1)*10000*0.3,0)","v":10000},7600,null,null,"ASG 29/18m (voda)","QZ",""]
["Sebastian Bode",null,"M","FSV Eisenhüttenstadt","DE","HOP 2020 - Kombi","CZ",2020,2,3315,0.76,{"$f":"ROUND(J1356/MAX($J$1355:$J$1373)*10000*0.7+(MAX($I$1355:$I$1373)-I1356)/(MAX($I$1355:$I$1373)-1)*10000*0.3,0)","v":8244},6265,null,null,"HPH 304S Shark (voda)","AY","Není v databázi"]
["Martin Koci",{"$f":"VLOOKUP(A1357,Pilot,2,0)","v":1975},{"$f":"VLOOKUP(A1357,Pilot,5,0)","v":"M"},{"$f":"VLOOKUP(A1357,Pilot,3,0)","v":"Ústí nad Orlicí"},{"$f":"VLOOKUP(A1357,Pilot,4,0)","v":"CZ/C2"},"HOP 2020 - Kombi","CZ",2020,3,3267,0.76,7999,6079,"x",null,"Discus b (bez vody)","XE",""]
["Zdenek Schenk",1972,"M","Hranice","CZ/M","HOP 2020 - Kombi","CZ",2020,4,3181,0.76,7692,5846,null,null,"Ventus cm 17,6m (bez vody)","SNeK",""]
["Zdenek Boruvka 54",1954,"M","Jičín","CZ/C2","HOP 2020 - Kombi","CZ",2020,5,3160,0.76,7491,5693,null,null,"LS 8 15 m (voda)","ZB",""]
["Vratislav Sram",1966,"M","Broumov","CZ/C2","HOP 2020 - Kombi","CZ",2020,6,3150,0.76,7308,5554,null,null,"Janus b (bez vody)","KG",""]
["Petr Fisar",1974,"M","Ústí nad Orlicí","CZ/C2","HOP 2020 - Kombi","CZ",2020,7,3142,0.76,7128,5417,"x",null,"Mosquito b (bez vody)","PF",""]
["Jan Kohout",1970,"M","Žamberk","CZ/C2","HOP 2020 - Kombi","CZ",2020,8,3091,0.76,6878,5227,"x",null,"LS 8 15 m (voda)","SK",""]
["Michal Maly",1982,"M","Broumov","CZ/C2","HOP 2020 - Kombi","CZ",2020,9,2954,0.76,6488,4931,"x",null,"Ventus c 17,6 (voda)","JN",""]
["Petr Babak",1973,"M","Hořice","CZ/C2","HOP 2020 - Kombi","CZ",2020,10,2905,0.76,6241,4743,null,null,"Ventus c 17,6 (voda)","LS",""]
["Vaclav Kult",1973,"M","Broumov","CZ/C2","HOP 2020 - Kombi","CZ",2020,11,2837,0.76,5964,4533,"x",null,"Nimbus 2 b WL (voda)","VK",""]
["Christian Rakowski",null,"M","FSV Eisenhüttenstadt","DE","HOP 2020 - Kombi","CZ",2020,12,2820,0.76,5769,4384,null,null,"ASW 24 WL (bez vody)","TD","Není v databázi"]
["Timo+George Jakl",null,"M","AK Ústí nad Orlicí","CZ/DE","HOP 2020 - Kombi","CZ",2020,13,2770,0.76,5521,4196,null,null,"Janus b (bez vody)","GJ","Není v databázi"]
["Jan Rott",{"$f":"VLOOKUP(A1368,Pilot,2,0)","v":1962},{"$f":"VLOOKUP(A1368,Pilot,5,0)","v":"M"},{"$f":"VLOOKUP(A1368,Pilot,3,0)","v":"Hronov"},{"$f":"VLOOKUP(A1368,Pilot,4,0)","v":"CZ/C2"},"HOP 2020 - Kombi","CZ",2020,14,2767,0.76,5349,4065,"x",null,"HPH 304 cz 17,4 (bez vody)","Jou",""]
["Jan Cerveny",{"$f":"VLOOKUP(A1369,Pilot,2,0)","v":1984},{"$f":"VLOOKUP(A1369,Pilot,5,0)","v":"M"},{"$f":"VLOOKUP(A1369,Pilot,3,0)","v":"Jaroměř"},{"$f":"VLOOKUP(A1369,Pilot,4,0)","v":"CZ/C2"},"HOP 2020 - Kombi","CZ",2020,15,2690,0.76,5057,3843,"x",null,"LS 3a (bez vody)","EI",""]
["Miloslav Cindr",{"$f":"VLOOKUP(A1370,Pilot,2,0)","v":1974},{"$f":"VLOOKUP(A1370,Pilot,5,0)","v":"M"},{"$f":"VLOOKUP(A1370,Pilot,3,0)","v":"Ústí nad Orlicí"},{"$f":"VLOOKUP(A1370,Pilot,4,0)","v":"CZ/C2"},"HOP 2020 - Kombi","CZ",2020,16,2306,0.76,4264,3241,"x",null,"Ventus c 17,6 (bez vody)","MC",""]
["Jiri Suchomel",{"$f":"VLOOKUP(A1371,Pilot,2,0)","v":1950},{"$f":"VLOOKUP(A1371,Pilot,5,0)","v":"M"},{"$f":"VLOOKUP(A1371,Pilot,3,0)","v":"Broumov"},{"$f":"VLOOKUP(A1371,Pilot,4,0)","v":"CZ/C2"},"HOP 2020 - Kombi","CZ",2020,17,2203,0.76,3929,2986,"x",null,"Janus b (bez vody)","V1",""]
["Miroslav+Josef Plechac",null,"M","AK Hronov","CZ/C2","HOP 2020 - Kombi","CZ",2020,18,2138,0.76,{"$f":"ROUND(J1372/MAX($J$1355:$J$1373)*10000*0.7+(MAX($I$1355:$I$1373)-I1372)/(MAX($I$1355:$I$1373)-1)*10000*0.3,0)","v":3656},2779,null,null,"Nimbus 2 WL (voda)","PM","Není v databázi"]
["Milos Novotny",{"$f":"VLOOKUP(A1373,Pilot,2,0)","v":1973},{"$f":"VLOOKUP(A1373,Pilot,5,0)","v":"M"},{"$f":"VLOOKUP(A1373,Pilot,3,0)","v":"Hronov"},{"$f":"VLOOKUP(A1373,Pilot,4,0)","v":"CZ/C2"},"HOP 2020 - Kombi","CZ",2020,19,1757,0.76,2868,2180,"x",null,"Ventus b 16.6m (bez vody)","VeV",""]
["Friedrich Hofinger",null,"M","SMBC Kirchdorf Micheldorf",null,"Alpe Adria Cup 2020 - Kombi 106","AT",2020,1,4989,0.76500000000000001,{"$f":"ROUND(J1374/MAX($J$1374:$J$1394)*10000*0.7+(MAX($I$1374:$I$1394)-I1374)/(MAX($I$1374:$I$1394)-1)*10000*0.3,0)","v":10000},7650,null,null,"Discus 2ct","KN","Není v databázi"]
["Supersperger & Puhl",null,null,"SMBC Kirchdorf/Micheldorf",null,"Alpe Adria Cup 2020 - Kombi 106","AT",2020,2,4988,0.76500000000000001,{"$f":"ROUND(J1375/MAX($J$1374:$J$1394)*10000*0.7+(MAX($I$1374:$I$1394)-I1375)/(MAX($I$1374:$I$1394)-1)*10000*0.3,0)","v":9849},7534,null,null,"DUO Discus","M1","Není v databázi"]
["Jan Jagiello",null,"M","Österreich",null,"Alpe Adria Cup 2020 - Kombi 106","AT",2020,3,4625,0.76500000000000001,9189,7030,null,null,"Ventus CM","SN","Není v databázi"]
["Achleitner & Haslinger",null,null,"Österreich",null,"Alpe Adria Cup 2020 - Kombi 106","AT",2020,4,4560,0.76500000000000001,8948,6845,null,null,"ASG32Mi","GA","Není v databázi"]
["Petr Malcek",{"$f":"VLOOKUP(A1378,Pilot,2,0)","v":1965},{"$f":"VLOOKUP(A1378,Pilot,5,0)","v":"M"},{"$f":"VLOOKUP(A1378,Pilot,3,0)","v":"Letňany"},{"$f":"VLOOKUP(A1378,Pilot,4,0)","v":"CZ/C1"},"Alpe Adria Cup 2020 - Kombi 106","AT",2020,5,4331,0.76500000000000001,{"$f":"ROUND(J1378/MAX($J$1374:$J$1394)*10000*0.7+(MAX($I$1374:$I$1394)-I1378)/(MAX($I$1374:$I$1394)-1)*10000*0.3,0)","v":8477},6485,"x",null,"LS6c-18w","F5",""]
["Herbert Pirker",null,"M","FAS",null,"Alpe Adria Cup 2020 - Kombi 106","AT",2020,6,4269,0.76500000000000001,8240,6304,null,null,"Ventus Cm","PM","Není v databázi"]
["van Houweninge & Hallbrucker",null,null,"ISV",null,"Alpe Adria Cup 2020 - Kombi 106","AT",2020,7,4218,0.76500000000000001,8018,6134,null,null,"Arcus M",3,"Není v databázi"]
["Klaus Porod",null,"M","FSV Feldkirchen",null,"Alpe Adria Cup 2020 - Kombi 106","AT",2020,8,4073,0.76500000000000001,7665,5864,null,null,"Discus 2cT","PSI","Není v databázi"]
["Philipp Wittwer",null,"M","Österreich",null,"Alpe Adria Cup 2020 - Kombi 106","AT",2020,9,4060,0.76500000000000001,7497,5735,null,null,"LS 8","ZL","Není v databázi"]
["Sauter & Hecht",null,null,"FSG Wangen",null,"Alpe Adria Cup 2020 - Kombi 106","AT",2020,10,3684,0.76500000000000001,6819,5217,null,null,"Arcus M","EW","Není v databázi"]
["Herwig Wagner",null,"M","St. Flugsportunion",null,"Alpe Adria Cup 2020 - Kombi 106","AT",2020,11,3325,{"$f":"VLOOKUP(F1384,Soutez,12,0)","v":0.76500000000000001},6165,4716,null,null,"SZD 55","KE",{"$f":"IF(ISERROR(VLOOKUP(A1384,Pilot,6,0)),\"Není v databázi\",VLOOKUP(A1384,Pilot,6,0))","v":"Není v databázi"}]
["Florian Forcher",null,"M","SFC Pinkafeld",null,"Alpe Adria Cup 2020 - Kombi 106","AT",2020,11,3325,0.76500000000000001,6165,4716,null,null,"DG 300 WL","N1","Není v databázi"]
["Schneeweis & Mayrhofer",null,null,"ASKÖ Flugsportverein Linz",null,"Alpe Adria Cup 2020 - Kombi 106","AT",2020,13,2946,0.76500000000000001,5333,4080,null,null,"Duo Discus","L","Není v databázi"]
["Feichter & Treffner",null,null,"Österreich",null,"Alpe Adria Cup 2020 - Kombi 106","AT",2020,14,2944,0.76500000000000001,5181,{"$f":"ROUND(K1387*L1387,0)","v":3963},null,null,"Arcus-T","UHM","Není v databázi"]
["Ute Baranowski",null,"M","Alpenflugzentrum Unterwössen e.V.",null,"Alpe Adria Cup 2020 - Kombi 106","AT",2020,15,2406,0.76500000000000001,4276,3271,null,null,"Ventus 2ax","IB","Není v databázi"]
["Tomasz Królik",null,"M",null,null,"Alpe Adria Cup 2020 - Kombi 106","AT",2020,16,2258,0.76500000000000001,3918,2997,null,null,"Ventus a","TT","Není v databázi"]
["Karl Ortner",null,"M","SMBC",null,"Alpe Adria Cup 2020 - Kombi 106","AT",2020,17,1960,0.76500000000000001,3350,2563,null,null,"Ventus2b","M3","Není v databázi"]
["Hauser & Wöckner",null,null,"Lägern",null,"Alpe Adria Cup 2020 - Kombi 106","AT",2020,18,1756,0.76500000000000001,2914,2229,null,null,"ASG32 Mi","HM","Není v databázi"]
["Flicker & Frech",null,null,null,null,"Alpe Adria Cup 2020 - Kombi 106","AT",2020,19,1528,0.76500000000000001,2444,1870,null,null,"Duo Discus","MM","Není v databázi"]
["Alexander Lukasik",null,"M","Deutschland",null,"Alpe Adria Cup 2020 - Kombi 106","AT",2020,20,1476,0.76500000000000001,2221,1699,null,null,"SZD-55","FY","Není v databázi"]
["Salomon & Dawkins",null,null,"Steirische Flugsportunion",null,"Alpe Adria Cup 2020 - Kombi 106","AT",2020,21,640,0.76500000000000001,898,687,null,null,"Arcus M","FS","Není v databázi"]
["Wolfgang Janowitsch",null,"M","FRA-Wr.Neustadt",null,"Alpe Adria Cup 2020 - Kombi Open","AT",2020,1,5992,0.77500000000000002,{"$f":"ROUND(J1395/MAX($J$1395:$J$1418)*10000*0.7+(MAX($I$1395:$I$1418)-I1395)/(MAX($I$1395:$I$1418)-1)*10000*0.3,0)","v":10000},7750,null,null,"Ventus 3T","WO","Není v databázi"]
["Heimo Demmerer",null,"M","SFC-Mariazell",null,"Alpe Adria Cup 2020 - Kombi Open","AT",2020,2,5820,0.77500000000000002,{"$f":"ROUND(J1396/MAX($J$1395:$J$1418)*10000*0.7+(MAX($I$1395:$I$1418)-I1396)/(MAX($I$1395:$I$1418)-1)*10000*0.3,0)","v":9669},7493,null,null,"Ventus 2CM","OD","Není v databázi"]
["Stefan Sidler",null,"M","SG Knonaueramt",null,"Alpe Adria Cup 2020 - Kombi Open","AT",2020,3,5597,0.77500000000000002,9278,7190,null,null,"ASG 29","KF","Není v databázi"]
["Sven Kolb",null,"M","HGSV",null,"Alpe Adria Cup 2020 - Kombi Open","AT",2020,4,5294,0.77500000000000002,8793,6815,null,null,"Antares LF20e","ZF","Není v databázi"]
["Michael Rass",null,"M","St.Johann",null,"Alpe Adria Cup 2020 - Kombi Open","AT",2020,5,5267,0.77500000000000002,8631,6689,null,null,"Ventus 2cT","HA","Není v databázi"]
["Thomas Krüger",null,"M","Deutschland",null,"Alpe Adria Cup 2020 - Kombi Open","AT",2020,6,5148,0.77500000000000002,8362,6481,null,null,"EB 29","TK","Není v databázi"]
["Andreas Lutz",null,"M","SFC Ried/ FGWH",null,"Alpe Adria Cup 2020 - Kombi Open","AT",2020,7,5140,0.77500000000000002,8222,6372,null,null,"Ventus 3","A","Není v databázi"]
["Werner Danz",null,"M","SG Glarnerland",null,"Alpe Adria Cup 2020 - Kombi Open","AT",2020,8,5124,0.77500000000000002,8073,6257,null,null,"Antares 18T","BT","Není v databázi"]
["Dominik Mauchle",null,"M","SG Bad Ragaz",null,"Alpe Adria Cup 2020 - Kombi Open","AT",2020,9,4948,0.77500000000000002,7737,5996,null,null,"DG-808C","D","Není v databázi"]
["Klaus Kalmbach",null,"M","FSV Tübingen e.V.",null,"Alpe Adria Cup 2020 - Kombi Open","AT",2020,10,4834,0.77500000000000002,7473,5792,null,null,"Nimbus4M","OL","Není v databázi"]
["Christoph Limpert",null,"M","Rhönflug Gersfeld",null,"Alpe Adria Cup 2020 - Kombi Open","AT",2020,11,4617,0.77500000000000002,7089,5494,null,null,"ASG29","CC","Není v databázi"]
["Christian Hynek",null,"M","streckenflug.at",null,"Alpe Adria Cup 2020 - Kombi Open","AT",2020,12,4553,0.77500000000000002,6884,5335,null,null,"EB29DR","DD","Není v databázi"]
["Andreas Klugsberger",null,"M",null,null,"Alpe Adria Cup 2020 - Kombi Open","AT",2020,13,4435,0.77500000000000002,6616,5127,null,null,"ASH26E","HF","Není v databázi"]
["Georg Falkensammer",null,"M","FSV Feldkirchen/Ossiachersee",null,"Alpe Adria Cup 2020 - Kombi Open","AT",2020,14,4075,0.77500000000000002,6065,4700,null,null,"Antares 18T","FW","Není v databázi"]
["Rainer Cronjäger",null,"M","SG Knonaueramt",null,"Alpe Adria Cup 2020 - Kombi Open","AT",2020,15,4041,0.77500000000000002,5895,4569,null,null,"ASH 31MI","I","Není v databázi"]
["Matthias Hölzl",null,"M","AFZ Unterwössen",null,"Alpe Adria Cup 2020 - Kombi Open","AT",2020,16,3953,0.77500000000000002,5661,4387,null,null,"ASG29e","HNO","Není v databázi"]
["Thomas Hynek",null,"M","Flugschule ASKÖ Wioen",null,"Alpe Adria Cup 2020 - Kombi Open","AT",2020,17,3848,0.77500000000000002,5408,4191,null,null,"Ventus 2cm","HU","Není v databázi"]
["Wolfgang Zimmermann",null,"M","Flugring Wr. Neustadt",null,"Alpe Adria Cup 2020 - Kombi Open","AT",2020,18,3736,0.77500000000000002,5147,3989,null,null,"Ventus3M","WZ","Není v databázi"]
["Rene Schönmann",null,"M","Segelfluggruppe Basel Fricktal",null,"Alpe Adria Cup 2020 - Kombi Open","AT",2020,19,3489,0.77500000000000002,{"$f":"ROUND(J1413/MAX($J$1395:$J$1418)*10000*0.7+(MAX($I$1395:$I$1418)-I1413)/(MAX($I$1395:$I$1418)-1)*10000*0.3,0)","v":4728},3664,null,null,"JS1-C 18m","LI","Není v databázi"]
["Conrad Hartter",null,"M","FSV Tuebingen",null,"Alpe Adria Cup 2020 - Kombi Open","AT",2020,20,3000,0.77500000000000002,4026,3120,null,null,"JS1c 18m","OT","Není v databázi"]
["Gerold Auerbach",null,"M","LSV Salzburg",null,"Alpe Adria Cup 2020 - Kombi Open","AT",2020,21,2211,0.77500000000000002,2974,2305,null,null,"ASH 31","FT","Není v databázi"]
["Karel Krobath",null,"M","SFC Tulln",null,"Alpe Adria Cup 2020 - Kombi Open","AT",2020,22,1993,0.77500000000000002,2589,2006,null,null,"HPH 304MS","Q","Není v databázi"]
["Erich Niedl",null,"M","USFC Tulln",null,"Alpe Adria Cup 2020 - Kombi Open","AT",2020,23,1019,0.77500000000000002,1321,1024,null,null,"Ventus 2cxT","CX","Není v databázi"]
["Alexander Schütz",null,"M","AFZ Unterwössen",null,"Alpe Adria Cup 2020 - Kombi Open","AT",2020,24,0,0.77500000000000002,0,0,null,null,"Ventus 2cT","AI","Není v databázi"]
["Michal Cupak",{"$f":"VLOOKUP(A1419,Pilot,2,0)","v":1991},{"$f":"VLOOKUP(A1419,Pilot,5,0)","v":"M"},{"$f":"VLOOKUP(A1419,Pilot,3,0)","v":"Medlánky"},{"$f":"VLOOKUP(A1419,Pilot,4,0)","v":"CZ/M"},"Adrenalin GP 2020 - Klub GP","CZ",2020,1,7,0,{"$f":"ROUND((MAX($I$1419:$I$1427)-I1419)/(MAX($I$1419:$I$1427)-1)*10000,0)","v":10000},0,null,null,"Std. Cirrus","A7",""]
["Jan Mareth",1979,"M","Frýdlant","CZ/M","Adrenalin GP 2020 - Klub GP","CZ",2020,2,5,0,{"$f":"ROUND((MAX($I$1419:$I$1427)-I1420)/(MAX($I$1419:$I$1427)-1)*10000,0)","v":8000},0,null,null,"ASW 15b","PA",""]
["Stepan Obrovsky",1990,"M","Frýdlant","CZ/M","Adrenalin GP 2020 - Klub GP","CZ",2020,2,5,0,8000,0,null,null,"Std. Cirrus",75,""]
["Rostislav Stryk",1972,"M","Frýdlant","CZ/M","Adrenalin GP 2020 - Klub GP","CZ",2020,4,1,0,{"$f":"ROUND((MAX($I$1419:$I$1427)-I1422)/(MAX($I$1419:$I$1427)-1)*10000,0)","v":4000},0,null,null,"Std. Cirrus",22,""]
["Vit Prokop",1987,"M","Medlánky","CZ/M","Adrenalin GP 2020 - Klub GP","CZ",2020,4,1,0,4000,0,null,null,"Std. Cirrus","MF",""]
["Lukas Kotek",1994,"M","Frýdlant","CZ/M","Adrenalin GP 2020 - Klub GP","CZ",2020,6,0,0,0,0,null,null,"Astir CS","BH",""]
["Stanislav Doskocil",1978,"M","Medlánky","CZ/M","Adrenalin GP 2020 - Klub GP","CZ",2020,6,0,0,0,0,null,null,"Std. Cirrus","SD",""]
["Oldrich Houzvicka",1975,"M","Frýdlant","CZ/M","Adrenalin GP 2020 - Klub GP","CZ",2020,6,0,0,0,0,null,null,"LS 1 f","EM",""]
["Martin Svacina",1965,"M","Frýdlant","CZ/M","Adrenalin GP 2020 - Klub GP","CZ",2020,6,0,0,0,0,null,null,"Std. Cirrus","E",""]
["Ivan Novak",1962,"M","Mladá Boleslav","CZ/C1","AZ Cup 2020 - Klub","CZ",2020,1,2366,0.90500000000000003,{"$f":"ROUND(J1428/MAX($J$1428:$J$1454)*10000*0.7+(MAX($I$1428:$I$1454)-I1428)/(MAX($I$1428:$I$1454)-1)*10000*0.3,0)","v":10000},9050,null,null,"LS-4","IX",""]
["Jaroslav Tomana",1975,"M","Zbraslavice","CZ/C1","AZ Cup 2020 - Klub","CZ",2020,2,2342,0.90500000000000003,{"$f":"ROUND(J1429/MAX($J$1428:$J$1454)*10000*0.7+(MAX($I$1428:$I$1454)-I1429)/(MAX($I$1428:$I$1454)-1)*10000*0.3,0)","v":9814},8882,"x",null,"Pegase 101 BC","RT",""]
["Zdenek Boruvka 86",1986,"M","Jičín","CZ/C2","AZ Cup 2020 - Klub","CZ",2020,3,2109,0.90500000000000003,9009,8153,null,null,"Std. Cirrus","BJ",""]
["Vojtech Novotny",1992,"M","Kralupy","CZ/C1","AZ Cup 2020 - Klub","CZ",2020,4,1844,0.90500000000000003,8109,7339,"x",null,"LS1-f","EF",""]
["David Sachl",1978,"M","Kralupy","CZ/C1","AZ Cup 2020 - Klub","CZ",2020,5,1806,0.90500000000000003,7882,7133,null,null,"DG-300 Elan","BK",""]
["Jakub Kmosek",1978,"M","Zbraslavice","CZ/C1","AZ Cup 2020 - Klub","CZ",2020,6,1731,0.90500000000000003,7544,6827,"x",null,"Std. Cirrus","ST",""]
["Martin Urban",1971,"M","Frýdlant","CZ/M","AZ Cup 2020 - Klub","CZ",2020,7,1726,0.90500000000000003,7414,6710,"x",null,"LS3a","SJ",""]
["David Popovsky",1976,"M","Rakovník","CZ/C1","AZ Cup 2020 - Klub","CZ",2020,8,1720,0.90500000000000003,7281,6589,"x",null,"ASW 24(A)",76,""]
["Dalibor Pek",1968,"M","Raná","CZ/C2","AZ Cup 2020 - Klub","CZ",2020,9,1718,0.90500000000000003,7160,6480,"x",null,"STD. CIRRUS","GP",""]
["Jan Zahradka",1981,"M","Hodkovice","CZ/C2","AZ Cup 2020 - Klub","CZ",2020,10,1667,0.90500000000000003,6893,6238,null,null,"Std.Cirrus","AR",""]
["Zdenek Balcarek",1967,"M","Kroměříž","CZ/M","AZ Cup 2020 - Klub","CZ",2020,11,1663,0.90500000000000003,6766,6123,null,null,"Std. Cirrus","ZL",""]
["David Vrchota",1976,"M","Jaroměř","CZ/C2","AZ Cup 2020 - Klub","CZ",2020,12,1593,0.90500000000000003,6444,5832,null,null,"Janus B dvojí","BV",""]
["Lumir Motyka",1955,"M","Frýdlant","CZ/M","AZ Cup 2020 - Klub","CZ",2020,13,1526,0.90500000000000003,6130,5548,"x",null,"Std. Cirrus",22,""]
["Jan Florian",1992,"M","Zbraslavice","CZ/C1","AZ Cup 2020 - Klub","CZ",2020,14,1494,0.90500000000000003,5920,5358,"x",null,"Std. Cirrus","C1",""]
["Jiri Hodan",1959,"M","Zbraslavice","CZ/C1","AZ Cup 2020 - Klub","CZ",2020,15,1487,0.90500000000000003,5784,5235,"x",null,"Twin Astir G 103","RB",""]
["Matous Schmidt",1981,"M","Letňany","CZ/C1","AZ Cup 2020 - Klub","CZ",2020,16,1459,0.90500000000000003,5586,5055,"x",null,"Std.Cirrus","IMI",""]
["Tomas Moravec",2000,"M","Žamberk","CZ/C2","AZ Cup 2020 - Klub","CZ",2020,17,1458,0.90500000000000003,5467,4948,null,null,"Std.Cirrus WL","OK6","Junior v roce 2022"]
["Jan Ratz",1987,"M","Zbraslavice","CZ/C1","AZ Cup 2020 - Klub","CZ",2020,18,1414,0.90500000000000003,5222,4726,null,null,"Std. Cirrus","REX",""]
["Jan Oscatka",1990,"M","Jaroměř","CZ/C2","AZ Cup 2020 - Klub","CZ",2020,19,1398,0.90500000000000003,5059,4578,"x",null,"Discus b","JA",""]
["Tomas Jung",1950,"M","Zbraslavice","CZ/C1","AZ Cup 2020 - Klub","CZ",2020,20,1313,0.90500000000000003,4692,4246,"x",null,"ASW 19","O2",""]
["Robin Förster",null,"M","BAeC-Mitte","DE","AZ Cup 2020 - Klub","CZ",2020,21,1235,{"$f":"VLOOKUP(F1448,Soutez,12,0)","v":0.90500000000000003},{"$f":"ROUND(J1448/MAX($J$1428:$J$1454)*10000*0.7+(MAX($I$1428:$I$1454)-I1448)/(MAX($I$1428:$I$1454)-1)*10000*0.3,0)","v":4346},3933,null,null,"ASW24 E WL","RF",{"$f":"IF(ISERROR(VLOOKUP(A1448,Pilot,6,0)),\"Není v databázi\",VLOOKUP(A1448,Pilot,6,0))","v":"Není v databázi"}]
["Juraj Dudas",{"$f":"VLOOKUP(A1449,Pilot,2,0)","v":1990},{"$f":"VLOOKUP(A1449,Pilot,5,0)","v":"M"},{"$f":"VLOOKUP(A1449,Pilot,3,0)","v":"Křižanov"},{"$f":"VLOOKUP(A1449,Pilot,4,0)","v":"CZ/M"},"AZ Cup 2020 - Klub","CZ",2020,22,967,0.90500000000000003,3438,3111,"x",null,"Pegase C101A","ZD",""]
["Petr Velek",1975,"M","GAC Benešov","CZ/C1","AZ Cup 2020 - Klub","CZ",2020,23,880,0.90500000000000003,3065,2774,null,null,"DG 400, 15m","HX",""]
["Jan Sustr 76",1976,"M","Raná","CZ/C2","AZ Cup 2020 - Klub","CZ",2020,24,690,0.90500000000000003,2388,{"$f":"ROUND(K1451*L1451,0)","v":2161},"x",null,"DG-300 ELAN","WL",""]
["Martin Grmela",1989,"M","Zbraslavice","CZ/C1","AZ Cup 2020 - Klub","CZ",2020,25,625,0.90500000000000003,2080,1882,"x",null,"ASW-19","FY",""]
["Petr Brezina",1963,"M","Frýdlant","CZ/M","AZ Cup 2020 - Klub","CZ",2020,26,308,0.90500000000000003,1027,929,"x",null,"DG 200","AK",""]
["Petr Lonsky",1965,"M","Toužim","CZ/C1","AZ Cup 2020 - Klub","CZ",2020,27,0,0.90500000000000003,0,0,null,null,"std Cirrus","FD",""]
["Jan Kotan",1982,"M","Letňany","CZ/C1","AZ Cup 2020 - Kombi A","CZ",2020,1,2474,0.9,{"$f":"ROUND(J1455/MAX($J$1455:$J$1474)*10000*0.7+(MAX($I$1455:$I$1474)-I1455)/(MAX($I$1455:$I$1474)-1)*10000*0.3,0)","v":10000},9000,"x",null,"Ventus 2bx 15m","YA",""]
["Ondrej Dvorak 87",1987,"M","Raná","CZ/C2","AZ Cup 2020 - Kombi A","CZ",2020,2,2352,0.9,{"$f":"ROUND(J1456/MAX($J$1455:$J$1474)*10000*0.7+(MAX($I$1455:$I$1474)-I1456)/(MAX($I$1455:$I$1474)-1)*10000*0.3,0)","v":9497},8547,"x",null,"Ventus A WL 500kg","FW",""]
["Michal Lesinger",1966,"M","Moravská Třebová","CZ/M","AZ Cup 2020 - Kombi A","CZ",2020,3,2247,0.9,9042,8138,null,null,"ASG 32 Mi","DX",""]
["Jana Veprekova",1961,"F","Dvůr Králové","CZ/C2","AZ Cup 2020 - Kombi A","CZ",2020,4,2240,0.9,8864,7978,"x","x","LS8","W8",""]
["Jan Horak",1971,"M","Zbraslavice","CZ/C1","AZ Cup 2020 - Kombi A","CZ",2020,5,2178,0.9,8531,7678,"x",null,"ASW-20","WX",""]
["Jan Smekal",1976,"M","Zbraslavice","CZ/C1","AZ Cup 2020 - Kombi A","CZ",2020,6,2077,0.9,8087,7278,"x",null,"ASW-20","NW",""]
["Jan Zapletal",1997,"M","Břeclav","CZ/M","AZ Cup 2020 - Kombi A","CZ",2020,7,2072,0.9,7915,7124,null,null,"LS8","JS","Junior v roce 2022"]
["Jan Pavlik",1987,"M","Křižanov","CZ/M","AZ Cup 2020 - Kombi A","CZ",2020,8,1955,0.9,7426,6683,null,null,"LS8a/15m","JW",""]
["Hana Treslova",1991,"F","Raná","CZ/C2","AZ Cup 2020 - Kombi A","CZ",2020,9,1922,0.9,7175,6458,null,null,"Ventus 2ax","AX",""]
["Barbora Moravcova",1994,"F","Zbraslavice","CZ/C1","AZ Cup 2020 - Kombi A","CZ",2020,10,1914,0.9,6994,6295,null,null,"LS8 15m","EU",""]
["Dana Novakova",1965,"F","Mladá Boleslav","CZ/C1","AZ Cup 2020 - Kombi A","CZ",2020,11,1890,0.9,6769,6092,null,null,"LS-8","AU",""]
["Eduard Niko",null,"M","Prievidza","SK","AZ Cup 2020 - Kombi A","CZ",2020,12,1865,0.9,{"$f":"ROUND(J1466/MAX($J$1455:$J$1474)*10000*0.7+(MAX($I$1455:$I$1474)-I1466)/(MAX($I$1455:$I$1474)-1)*10000*0.3,0)","v":6540},5886,null,null,"ASW-20","EW","Není v databázi"]
["Jana Treslova",{"$f":"VLOOKUP(A1467,Pilot,2,0)","v":1963},{"$f":"VLOOKUP(A1467,Pilot,5,0)","v":"F"},{"$f":"VLOOKUP(A1467,Pilot,3,0)","v":"Raná"},{"$f":"VLOOKUP(A1467,Pilot,4,0)","v":"CZ/C2"},"AZ Cup 2020 - Kombi A","CZ",2020,13,1819,0.9,6252,5627,null,null,"Discus 2a","GX",""]
["Jiri Kusbach",1959,"M","Luhačovice","CZ/M","AZ Cup 2020 - Kombi A","CZ",2020,14,1555,0.9,5347,4812,null,null,"KKB 15FES","B",""]
["Jan Kohout",1970,"M","Žamberk","CZ/C2","AZ Cup 2020 - Kombi A","CZ",2020,15,1481,0.9,4980,4482,null,null,"LS 8A","SK",""]
["Tomas Rendla",1973,"M","Zbraslavice","CZ/C1","AZ Cup 2020 - Kombi A","CZ",2020,16,1424,0.9,4661,4195,null,null,"Arcus M","EY",""]
["Martin Pekar",1973,"M","Šumperk","CZ/M","AZ Cup 2020 - Kombi A","CZ",2020,17,1403,0.9,4443,3999,"x",null,"304 TS TwinShark","TS",""]
["Radek Zima 78",1978,"M","Hodkovice","CZ/C2","AZ Cup 2020 - Kombi A","CZ",2020,18,1299,0.9,3991,3592,null,null,"Ventus b/15m WL","7F",""]
["Ladislav Jozsa",1981,"M","Medlánky","CZ/M","AZ Cup 2020 - Kombi A","CZ",2020,19,1222,0.9,3615,3254,null,null,"Ventus C 15m WL","WW",""]
["Petr Starek",1974,"M","Zbraslavice","CZ/C1","AZ Cup 2020 - Kombi A","CZ",2020,20,1090,0.9,3084,2776,"x",null,"304 TS TwinShark","DL",""]
["Radek Kucirek",1973,"M","Havlíčkův Brod","CZ/C2","AZ Cup 2020 - Kombi B","CZ",2020,1,2179,0.93,{"$f":"ROUND(J1475/MAX($J$1475:$J$1495)*10000*0.7+(MAX($I$1475:$I$1495)-I1475)/(MAX($I$1475:$I$1495)-1)*10000*0.3,0)","v":10000},9300,"x",null,"EB 28 Edition","NA",""]
["Petr Tichy",1973,"M","Zbraslavice","CZ/C1","AZ Cup 2020 - Kombi B","CZ",2020,2,2106,0.93,{"$f":"ROUND(J1476/MAX($J$1475:$J$1495)*10000*0.7+(MAX($I$1475:$I$1495)-I1476)/(MAX($I$1475:$I$1495)-1)*10000*0.3,0)","v":9615},8942,"x",null,"ASG-29E","AJ",""]
["Roman Mracek",1980,"M","Letkov","CZ/C1","AZ Cup 2020 - Kombi B","CZ",2020,3,2028,0.93,9215,8570,null,null,"LS8-18","EJ",""]
["Tomas Suchanek",1964,"M","GAC Benešov","CZ/C1","AZ Cup 2020 - Kombi B","CZ",2020,4,1995,0.93,8959,8332,null,null,"LS - 8 18m","FX",""]
["Ondrej Dupal",1966,"M","GAC Benešov","CZ/C1","AZ Cup 2020 - Kombi B","CZ",2020,5,1977,0.93,8751,8138,null,null,"ASG 29E","GO",""]
["Radek Krejcirik",1991,"M","Hranice","CZ/M","AZ Cup 2020 - Kombi B","CZ",2020,6,1965,0.93,8563,7964,null,null,"JS1C EVO","ZF",""]
["Alena Netusilova",1970,"F","Zbraslavice","CZ/C1","AZ Cup 2020 - Kombi B","CZ",2020,7,1918,0.93,8262,7684,null,null,"JS1 EVO 18m","JX",""]
["Jan Louda",1986,"M","Mladá Boleslav","CZ/C1","AZ Cup 2020 - Kombi B","CZ",2020,8,1832,0.93,7835,7287,"x",null,"JS-3","ZE",""]
["David Mach",1994,"M","Hronov","CZ/C2","AZ Cup 2020 - Kombi B","CZ",2020,9,1813,0.93,7624,7090,null,null,"JS3","XM",""]
["Lukas Benedikt",null,"M","AK Trnava","SK","AZ Cup 2020 - Kombi B","CZ",2020,10,1528,0.93,{"$f":"ROUND(J1484/MAX($J$1475:$J$1495)*10000*0.7+(MAX($I$1475:$I$1495)-I1484)/(MAX($I$1475:$I$1495)-1)*10000*0.3,0)","v":6559},6100,null,null,"Ventus 3 f","LB","Není v databázi"]
["Pavel Opat",{"$f":"VLOOKUP(A1485,Pilot,2,0)","v":1975},{"$f":"VLOOKUP(A1485,Pilot,5,0)","v":"M"},{"$f":"VLOOKUP(A1485,Pilot,3,0)","v":"Rakovník"},{"$f":"VLOOKUP(A1485,Pilot,4,0)","v":"CZ/C1"},"AZ Cup 2020 - Kombi B","CZ",2020,11,1451,0.93,6161,5730,"x",null,"DG-800s 18m+W","HC",""]
["Martin Hrivna",1978,"M","Zbraslavice","CZ/C1","AZ Cup 2020 - Kombi B","CZ",2020,12,1310,0.93,5558,5169,null,null,"ASG 29E","NX",""]
["Lenka Kuthanova",1960,"F","Tábor","CZ/C1","AZ Cup 2020 - Kombi B","CZ",2020,13,1304,0.93,5389,5012,null,null,"JS1 EVO18m","LX",""]
["Ivo Burda",1962,"M","Zbraslavice","CZ/C1","AZ Cup 2020 - Kombi B","CZ",2020,14,1270,0.93,5130,4771,"x",null,"Ventus2cxM","IB",""]
["Petr Krejcirik",1960,"M","Hranice","CZ/M","AZ Cup 2020 - Kombi B","CZ",2020,15,1096,0.93,4421,4112,null,null,"ASG 29E","QZ",""]
["Jan Dersak 69",1969,"M","Kralupy","CZ/C1","AZ Cup 2020 - Kombi B","CZ",2020,16,1016,0.93,4014,3733,null,null,"HPH 304 JS","DJ",""]
["Petr Jiranek 63",1962,"M","Toužim","CZ/C1","AZ Cup 2020 - Kombi B","CZ",2020,17,894,0.93,3472,3229,"x",null,"Ventus cT 17,6","EB",""]
["Jaroslav Potmesil",1964,"M","Zbraslavice","CZ/C1","AZ Cup 2020 - Kombi B","CZ",2020,18,802,0.93,3026,2814,"x",null,"HPH 304MS",61,""]
["Pavel Jiranek",1993,"M","Toužim","CZ/C1","AZ Cup 2020 - Kombi B","CZ",2020,19,799,0.93,2867,2666,null,null,"Ventus cM 17,6","SW",""]
["Michaela Rendlova",2004,"F","Toužim","CZ/C1","AZ Cup 2020 - Kombi B","CZ",2020,20,790,0.93,2688,2500,null,null,"JS1 EVO","VX","Junior v roce 2022"]
["Michal Posluzny",1968,"M","Medlánky","CZ/M","AZ Cup 2020 - Kombi B","CZ",2020,21,646,0.93,2075,1930,"x",null,"JS3","QX1",""]
["Jiri Kusbach",1959,"M","Luhačovice","CZ/M","Fatraglide 2020 - Klub","SK",2020,1,987,0.73,{"$f":"ROUND(J1496/MAX($J$1496:$J$1505)*10000*0.7+(MAX($I$1496:$I$1505)-I1496)/(MAX($I$1496:$I$1505)-1)*10000*0.3,0)","v":10000},7300,null,null,"KKB-15E-FES","B",""]
["Milan Surovcik Jr.",null,"M","Žilina",null,"Fatraglide 2020 - Klub","SK",2020,2,950,0.73,{"$f":"ROUND(J1497/MAX($J$1496:$J$1505)*10000*0.7+(MAX($I$1496:$I$1505)-I1497)/(MAX($I$1496:$I$1505)-1)*10000*0.3,0)","v":9404},6865,null,null,"Centrair C-101A Pegase","EL","Není v databázi"]
["Tibor Noga",null,"M","SGC Martin",null,"Fatraglide 2020 - Klub","SK",2020,3,929,0.73,8922,6513,null,null,"ASW-19B","A4","Není v databázi"]
["Gabor Bors",null,"M","Opitz",null,"Fatraglide 2020 - Klub","SK",2020,4,593,0.73,6206,4530,null,null,"Mini-Nimbus","SU","Není v databázi"]
["Peter Sedmak",null,"M","Martin",null,"Fatraglide 2020 - Klub","SK",2020,5,563,0.73,5660,4132,null,null,"Centrair C-101A Pegase","MT","Není v databázi"]
["Peter Gossanyi",null,"M","Nové Zámky",null,"Fatraglide 2020 - Klub","SK",2020,6,438,0.73,{"$f":"ROUND(J1501/MAX($J$1496:$J$1505)*10000*0.7+(MAX($I$1496:$I$1505)-I1501)/(MAX($I$1496:$I$1505)-1)*10000*0.3,0)","v":4440},3241,null,null,"Discus CS","VP","Není v databázi"]
["Marek Seman",null,"M","Prešov",null,"Fatraglide 2020 - Klub","SK",2020,7,317,0.73,3248,2371,null,null,"Std. Cirrus","CV","Není v databázi"]
["Jozef Zabka",null,"M","Partizánske",null,"Fatraglide 2020 - Klub","SK",2020,8,223,0.73,2248,1641,null,null,"Std. Cirrus","LX","Není v databázi"]
["Peter Gasparovic",null,"M","SGC Martin",null,"Fatraglide 2020 - Klub","SK",2020,9,103,0.73,1064,777,null,null,"G-103 Twin Astir dvojí (zatahovací podvozek)","VLT","Není v databázi"]
["Ivan Chabada",null,"M","Banská Bystrica",null,"Fatraglide 2020 - Klub","SK",2020,10,1,0.73,7,5,null,null,"Pik-20B","KM","Není v databázi"]
["Martin Fürjes",null,"M","SGC Martin",null,"Fatraglide 2020 - Kombi","SK",2020,1,2360,0.76,{"$f":"ROUND(J1506/MAX($J$1506:$J$1523)*10000*0.7+(MAX($I$1506:$I$1523)-I1506)/(MAX($I$1506:$I$1523)-1)*10000*0.3,0)","v":10000},7600,null,null,"JS3, JS3 TJ-18m",3,"Není v databázi"]
["Jan Divok",null,"M","SNV",null,"Fatraglide 2020 - Kombi","SK",2020,2,2337,0.76,{"$f":"ROUND(J1507/MAX($J$1506:$J$1523)*10000*0.7+(MAX($I$1506:$I$1523)-I1507)/(MAX($I$1506:$I$1523)-1)*10000*0.3,0)","v":9755},7414,null,null,"Discus 2T /18m","DJ","Není v databázi"]
["Branislav Jesensky",null,"M","SGC Martin",null,"Fatraglide 2020 - Kombi","SK",2020,3,2193,0.76,9152,6956,null,null,"Ventus 2cxt /18m -600 kg","J","Není v databázi"]
["Viktoria Divokova",null,"F","Spišska Nová Ves",null,"Fatraglide 2020 - Kombi","SK",2020,4,2125,0.76,8774,6668,null,null,"LS-8-18 / 18m","SI","Není v databázi"]
["Maros Divok",null,"M","SNV",null,"Fatraglide 2020 - Kombi","SK",2020,5,2119,0.76,8579,6520,null,null,"Ventus c /17,6m","D3","Není v databázi"]
["Petr Hotovy",{"$f":"VLOOKUP(A1511,Pilot,2,0)","v":1958},{"$f":"VLOOKUP(A1511,Pilot,5,0)","v":"M"},{"$f":"VLOOKUP(A1511,Pilot,3,0)","v":"Česká Lípa"},{"$f":"VLOOKUP(A1511,Pilot,4,0)","v":"CZ/C2"},"Fatraglide 2020 - Kombi","SK",2020,6,2054,0.76,8210,6240,null,null,"JS1-BTJ 18","IGC",""]
["Samuel Posluch",null,"M","Martin",null,"Fatraglide 2020 - Kombi","SK",2020,7,1995,{"$f":"VLOOKUP(F1512,Soutez,12,0)","v":0.76},7859,5973,null,null,"Ventus 2b 15m","VI",{"$f":"IF(ISERROR(VLOOKUP(A1512,Pilot,6,0)),\"Není v databázi\",VLOOKUP(A1512,Pilot,6,0))","v":"Není v databázi"}]
["Peter Pokorny",null,"M","Bratislava",null,"Fatraglide 2020 - Kombi","SK",2020,8,1918,0.76,7454,5665,null,null,"ASG-29E /18m","9E","Není v databázi"]
["Lukas Benedikt",null,"M","Trnava",null,"Fatraglide 2020 - Kombi","SK",2020,9,1620,0.76,6393,4859,null,null,"Ventus 3F - 18m","LB","Není v databázi"]
["Kromka & Kollar",null,"M",null,null,"Fatraglide 2020 - Kombi","SK",2020,10,1577,0.76,6089,{"$f":"ROUND(K1515*L1515,0)","v":4628},null,null,"Arcus M","TA3","Není v databázi"]
["Vaclav Hruza",{"$f":"VLOOKUP(A1516,Pilot,2,0)","v":1965},{"$f":"VLOOKUP(A1516,Pilot,5,0)","v":"M"},{"$f":"VLOOKUP(A1516,Pilot,3,0)","v":"Břeclav"},{"$f":"VLOOKUP(A1516,Pilot,4,0)","v":"CZ/M"},"Fatraglide 2020 - Kombi","SK",2020,11,1191,0.76,4768,3624,"x",null,"HpH 304MS SHARK","TH",""]
["Milan Lojdl",null,"M","Martin",null,"Fatraglide 2020 - Kombi","SK",2020,12,1188,0.76,4583,3483,null,null,"Ventus 2cxt /18m 600kg","MJ1","Není v databázi"]
["Lubomir Jakubcak",null,"M","SGC Martin",null,"Fatraglide 2020 - Kombi","SK",2020,13,1056,0.76,4015,3051,null,null,"Arcus M","CÁR","Není v databázi"]
["Jozef Pesko",null,"M","Nitra",null,"Fatraglide 2020 - Kombi","SK",2020,14,997,0.76,3663,2784,null,null,"LS-8t /18m","HM","Není v databázi"]
["Lubomir Doupal",{"$f":"VLOOKUP(A1520,Pilot,2,0)","v":1975},{"$f":"VLOOKUP(A1520,Pilot,5,0)","v":"M"},{"$f":"VLOOKUP(A1520,Pilot,3,0)","v":"Kroměříž"},{"$f":"VLOOKUP(A1520,Pilot,4,0)","v":"CZ/M"},"Fatraglide 2020 - Kombi","SK",2020,15,995,0.76,{"$f":"ROUND(J1520/MAX($J$1506:$J$1523)*10000*0.7+(MAX($I$1506:$I$1523)-I1520)/(MAX($I$1506:$I$1523)-1)*10000*0.3,0)","v":3481},2646,"x",null,"Ventus 2cxt /18m -600 kg","LD",""]
["Peter Abonyi",null,"M",null,null,"Fatraglide 2020 - Kombi","SK",2020,16,789,0.76,2693,2047,null,null,"Ventus c /17,6m","PA","Není v databázi"]
["Dusan Bernat",null,"M","SGC Martin",null,"Fatraglide 2020 - Kombi","SK",2020,17,705,0.76,2268,1724,null,null,"Ventus c /17,6m","AD","Není v databázi"]
["Daniel Kronek",null,"M","SGC Martin",null,"Fatraglide 2020 - Kombi","SK",2020,18,52,0.76,154,117,null,null,"Ventus bt /17,6m","DK","Není v databázi"]
["Lubomir Motl",{"$f":"VLOOKUP(A1524,Pilot,2,0)","v":1959},{"$f":"VLOOKUP(A1524,Pilot,5,0)","v":"M"},{"$f":"VLOOKUP(A1524,Pilot,3,0)","v":"Kyjov"},{"$f":"VLOOKUP(A1524,Pilot,4,0)","v":"CZ/M"},"FCC 2020 - Klub","SK",2020,1,7094,0.92500000000000004,{"$f":"ROUND(J1524/MAX($J$1524:$J$1534)*10000*0.7+(MAX($I$1524:$I$1534)-I1524)/(MAX($I$1524:$I$1534)-1)*10000*0.3,0)","v":10000},9250,"x",null,"LS-1f","G2",""]
["Petra Piskata",{"$f":"VLOOKUP(A1525,Pilot,2,0)","v":1989},{"$f":"VLOOKUP(A1525,Pilot,5,0)","v":"F"},{"$f":"VLOOKUP(A1525,Pilot,3,0)","v":"Luhačovice"},{"$f":"VLOOKUP(A1525,Pilot,4,0)","v":"CZ/M"},"FCC 2020 - Klub","SK",2020,2,7018,0.92500000000000004,{"$f":"ROUND(J1525/MAX($J$1524:$J$1534)*10000*0.7+(MAX($I$1524:$I$1534)-I1525)/(MAX($I$1524:$I$1534)-1)*10000*0.3,0)","v":9625},8903,"x","x","LS-4","FP",""]
["Lumir Motyka",{"$f":"VLOOKUP(A1526,Pilot,2,0)","v":1955},{"$f":"VLOOKUP(A1526,Pilot,5,0)","v":"M"},{"$f":"VLOOKUP(A1526,Pilot,3,0)","v":"Frýdlant"},{"$f":"VLOOKUP(A1526,Pilot,4,0)","v":"CZ/M"},"FCC 2020 - Klub","SK",2020,3,6930,0.92500000000000004,9238,8545,"x",null,"LS-1f","EM",""]
["Attila Korom",null,"M","ARK",null,"FCC 2020 - Klub","SK",2020,4,6344,0.92500000000000004,8360,7733,null,null,"ASW-20 (A)+F /15m WL","MC","Není v databázi"]
["Jakub Kos",null,"M","Bialsko-Biala",null,"FCC 2020 - Klub","SK",2020,5,5896,0.92500000000000004,7618,7047,null,null,"SZD-48 Jantar std. 3","ZAR","Není v databázi"]
["Bernard Dobre",null,"M","Aeroklub Postojna",null,"FCC 2020 - Klub","SK",2020,6,5855,0.92500000000000004,7277,6731,null,null,"DG-101 G","GO","Není v databázi"]
["Stanislaw Biela",null,"M","Nowy Targ",null,"FCC 2020 - Klub","SK",2020,7,5687,0.92500000000000004,6812,6301,null,null,"SZD-55 Promyk","BS","Není v databázi"]
["Krzysztof Kotarski",null,"M","Nadwislanski",null,"FCC 2020 - Klub","SK",2020,8,5383,0.92500000000000004,6212,5746,null,null,"ASW 19B","J1","Není v databázi"]
["Gonczi",null,"M","Malév",null,"FCC 2020 - Klub","SK",2020,9,5149,0.92500000000000004,5681,5255,null,null,"Janus C (FG)","DD","Není v databázi"]
["Jan Keher",null,"M","Prievidza",null,"FCC 2020 - Klub","SK",2020,10,3974,0.92500000000000004,4221,3904,null,null,"Discus CS","DR","Není v databázi"]
["Slavomir Piskaty 58",{"$f":"VLOOKUP(A1534,Pilot,2,0)","v":1958},{"$f":"VLOOKUP(A1534,Pilot,5,0)","v":"M"},{"$f":"VLOOKUP(A1534,Pilot,3,0)","v":"Kunovice"},{"$f":"VLOOKUP(A1534,Pilot,4,0)","v":"CZ/M"},"FCC 2020 - Klub","SK",2020,11,3373,0.92500000000000004,{"$f":"ROUND(J1534/MAX($J$1524:$J$1534)*10000*0.7+(MAX($I$1524:$I$1534)-I1534)/(MAX($I$1524:$I$1534)-1)*10000*0.3,0)","v":3328},3078,"x",null,"Discus CS","KAL",""]
["Lukasz Grabowski",null,"M","Włocławski",null,"FCC 2020 - Kombi","SK",2020,1,7635,0.94500000000000006,{"$f":"ROUND(J1535/MAX($J$1535:$J$1551)*10000*0.7+(MAX($I$1535:$I$1551)-I1535)/(MAX($I$1535:$I$1551)-1)*10000*0.3,0)","v":10000},9450,null,null,"JS1-C 18 EVO","P","Není v databázi"]
["Gintas Zube",null,"M","LT/KLAIPEDA",null,"FCC 2020 - Kombi","SK",2020,2,7368,0.94500000000000006,{"$f":"ROUND(J1536/MAX($J$1535:$J$1551)*10000*0.7+(MAX($I$1535:$I$1551)-I1536)/(MAX($I$1535:$I$1551)-1)*10000*0.3,0)","v":9568},9042,null,null,"ASG-29E /18m","AR","Není v databázi"]
["Luka Znidarsic",null,"M","AK Postojna",null,"FCC 2020 - Kombi","SK",2020,3,7109,0.94500000000000006,9143,8640,null,null,"Ventus 3F - 18m","LZ","Není v databázi"]
["Joze Verdev",null,"M","Šaleški Aeroklub",null,"FCC 2020 - Kombi","SK",2020,4,6910,0.94500000000000006,8773,8290,null,null,"JS1-CTJ 18","DZ","Není v databázi"]
["Jernej Lokovsek",null,"M","ALC",null,"FCC 2020 - Kombi","SK",2020,5,6582,0.94500000000000006,8285,7829,null,null,"JS3 TJ-18m","NL","Není v databázi"]
["Teet Jagomagi",null,"M","Ridali",null,"FCC 2020 - Kombi","SK",2020,6,6300,0.94500000000000006,7839,7408,null,null,"JS1-B 18","TP","Není v databázi"]
["Judyta Czyz",null,"F","Bielsko Bialski",null,"FCC 2020 - Kombi","SK",2020,7,5848,0.94500000000000006,7237,6839,null,null,"ASG-29E /18m","PL","Není v databázi"]
["Zoltan Hamar",null,"M","Vario SE",null,"FCC 2020 - Kombi","SK",2020,8,5841,0.94500000000000006,7043,6656,null,null,"Ventus 2cxa, 15m","5A","Není v databázi"]
["Janos Sindely",null,"M","Alfoldi Repülőklub",null,"FCC 2020 - Kombi","SK",2020,9,5704,0.94500000000000006,6730,6360,null,null,"JS1-C 21","RZ","Není v databázi"]
["Adam Czeladzki",null,"M","Aeroklub Warszawski KKGT",null,"FCC 2020 - Kombi","SK",2020,10,5619,0.94500000000000006,6464,6108,null,null,"Duo Discus XLT","POL","Není v databázi"]
["Peter Harsfalvi",null,"M","Albatrosz Nyíregyháza",null,"FCC 2020 - Kombi","SK",2020,11,4725,0.94500000000000006,5457,5157,null,null,"JS1-C 21","AAD","Není v databázi"]
["Drahos Sitar",null,"M","Aeroklub Prievidza",null,"FCC 2020 - Kombi","SK",2020,12,4255,0.94500000000000006,4839,4573,null,null,"ASG-29E /18m","LK","Není v databázi"]
["Jan Paepke",null,"M","SFC Riesa-Canitz",null,"FCC 2020 - Kombi","SK",2020,13,3743,0.94500000000000006,{"$f":"ROUND(J1547/MAX($J$1535:$J$1551)*10000*0.7+(MAX($I$1535:$I$1551)-I1547)/(MAX($I$1535:$I$1551)-1)*10000*0.3,0)","v":4182},3952,null,null,"LAK 17 AT 18m","AK","Není v databázi"]
["Tornyai & Szabadfi",null,"M","Malev Aeroclub LHDK",null,"FCC 2020 - Kombi","SK",2020,14,3689,0.94500000000000006,3945,3728,null,null,"Arcus T","AB","Není v databázi"]
["Benedikt Laho",null,"M","Trnava",null,"FCC 2020 - Kombi","SK",2020,15,2942,0.94500000000000006,3072,2903,null,null,"Discus 2T /18m","JH","Není v databázi"]
["Arkadiusz Stefańczyk",null,"M","Aeroklub Kielecki/SGT",null,"FCC 2020 - Kombi","SK",2020,16,2304,0.94500000000000006,2300,2174,null,null,"ASH 31 Mi 21m","ME","Není v databázi"]
["Istvan Reti",null,"M","Alfoldi Repülőklub",null,"FCC 2020 - Kombi","SK",2020,17,1695,0.94500000000000006,1554,1469,null,null,"ASG-29E /18m","IR","Není v databázi"]
["Frantisek Vancura",{"$f":"VLOOKUP(A1552,Pilot,2,0)","v":1966},{"$f":"VLOOKUP(A1552,Pilot,5,0)","v":"M"},{"$f":"VLOOKUP(A1552,Pilot,3,0)","v":"Hranice"},{"$f":"VLOOKUP(A1552,Pilot,4,0)","v":"CZ/M"},"FL 2020 - Kombi","CZ",2020,1,809,0,{"$f":"ROUND(J1552/MAX($J$1552:$J$1562)*10000*0.7+(MAX($I$1552:$I$1562)-I1552)/(MAX($I$1552:$I$1562)-1)*10000*0.3,0)","v":10000},0,null,null,"Nimbus 3T/24.5m","A1",""]
["Lumir Motyka",1955,"M","Frýdlant","CZ/M","FL 2020 - Kombi","CZ",2020,2,782,0,{"$f":"ROUND(J1553/MAX($J$1552:$J$1562)*10000*0.7+(MAX($I$1552:$I$1562)-I1553)/(MAX($I$1552:$I$1562)-1)*10000*0.3,0)","v":9466},0,null,null,"LAK 12","DE",""]
["Pavel Foldyna",1976,"M","Frýdlant","CZ/M","FL 2020 - Kombi","CZ",2020,3,709,0,8535,0,null,null,"Arcus M","FJ",""]
["Jaroslav Buryan",1953,"M","Zábřeh","CZ/M","FL 2020 - Kombi","CZ",2020,4,694,0,8105,0,null,null,"ASW 20","NS",""]
["Radim Hahn",1972,"M","Zábřeh","CZ/M","FL 2020 - Kombi","CZ",2020,5,602,0,7009,0,null,null,"ASH 26E","I",""]
["Milos Matejka",1956,"M","Beroun","CZ/C1","FL 2020 - Kombi","CZ",2020,6,537,0,6146,0,null,null,"Discus b","SH",""]
["Martin Suchy",1969,"M","Hranice","CZ/M","FL 2020 - Kombi","CZ",2020,7,375,0,4445,0,null,null,"Duo Discus","OK",""]
["Petr Brezina",1963,"M","Frýdlant","CZ/M","FL 2020 - Kombi","CZ",2020,8,241,0,{"$f":"ROUND(J1559/MAX($J$1552:$J$1562)*10000*0.7+(MAX($I$1552:$I$1562)-I1559)/(MAX($I$1552:$I$1562)-1)*10000*0.3,0)","v":2985},0,null,null,"DG 200","AK",""]
["Jan Kristof",1962,"M","Frýdlant","CZ/M","FL 2020 - Kombi","CZ",2020,9,234,0,2625,0,null,null,"LS 3","TX",""]
["Antonin Kutalek",1943,"M","Zábřeh","CZ/M","FL 2020 - Kombi","CZ",2020,10,53,0,759,0,null,null,"Mini Nimbus c","GL",""]
["Vit Grossmann",1977,"M","Hranice","CZ/M","FL 2020 - Kombi","CZ",2020,11,0,0,0,0,null,null,"Ventus c 17.6m","FC",""]
["Viktor Romacik",null,"M",null,null,"Oldtimer Pribina Star 2020 - Klub","SK",2020,1,861,0.75,{"$f":"ROUND(J1563/MAX($J$1563:$J$1579)*10000*0.7+(MAX($I$1563:$I$1579)-I1563)/(MAX($I$1563:$I$1579)-1)*10000*0.3,0)","v":10000},7500,null,null,"H-201B Libelle","RR","Není v databázi"]
["Ludovit Homola",null,"M",null,null,"Oldtimer Pribina Star 2020 - Klub","SK",2020,2,822,0.75,{"$f":"ROUND(J1564/MAX($J$1563:$J$1579)*10000*0.7+(MAX($I$1563:$I$1579)-I1564)/(MAX($I$1563:$I$1579)-1)*10000*0.3,0)","v":9452},7089,null,null,"VSO-10","I5","Není v databázi"]
["Vladimir Abraham",{"$f":"VLOOKUP(A1565,Pilot,2,0)","v":1962},{"$f":"VLOOKUP(A1565,Pilot,5,0)","v":"M"},{"$f":"VLOOKUP(A1565,Pilot,3,0)","v":"Raná"},{"$f":"VLOOKUP(A1565,Pilot,4,0)","v":"CZ/C2"},"Oldtimer Pribina Star 2020 - Klub","SK",2020,3,800,0.75,9043,6782,"x",null,"K6 Cr","YZ",""]
["Radovan Uhelsky",null,"M",null,null,"Oldtimer Pribina Star 2020 - Klub","SK",2020,4,721,0.75,8169,6127,null,null,"VT-16 Orlik","m24","Není v databázi"]
["Juraj Vysny",null,"M",null,null,"Oldtimer Pribina Star 2020 - Klub","SK",2020,5,719,0.75,7922,5942,null,null,"Mosquito B","JS","Není v databázi"]
["Milan Boros",null,"M",null,null,"Oldtimer Pribina Star 2020 - Klub","SK",2020,6,714,0.75,7651,5738,null,null,"VSO-10","KO","Není v databázi"]
["Ivana Jurovicova",null,"F",null,null,"Oldtimer Pribina Star 2020 - Klub","SK",2020,7,660,0.75,6981,5236,null,null,"Libelle","J3","Není v databázi"]
["Marian Szabó",null,"M",null,null,"Oldtimer Pribina Star 2020 - Klub","SK",2020,8,659,0.75,6742,5057,null,null,"VT-116 Orlik 2","m84","Není v databázi"]
["Vaclav cerny",{"$f":"VLOOKUP(A1571,Pilot,2,0)","v":1949},{"$f":"VLOOKUP(A1571,Pilot,5,0)","v":"M"},{"$f":"VLOOKUP(A1571,Pilot,3,0)","v":"Slaný"},{"$f":"VLOOKUP(A1571,Pilot,4,0)","v":"CZ/C1"},"Oldtimer Pribina Star 2020 - Klub","SK",2020,9,616,0.75,6162,4622,null,null,"VT-125 Sohaj","V",""]
["Norbert Karolyi",null,"M",null,null,"Oldtimer Pribina Star 2020 - Klub","SK",2020,10,558,0.75,5460,4095,null,null,"SZD 36 Cobra 15","k29","Není v databázi"]
["Frantisek Ehn",null,"M",null,null,"Oldtimer Pribina Star 2020 - Klub","SK",2020,11,517,0.75,4896,3672,null,null,"VSO-10","m65","Není v databázi"]
["Jaroslav Kares",{"$f":"VLOOKUP(A1574,Pilot,2,0)","v":1962},{"$f":"VLOOKUP(A1574,Pilot,5,0)","v":"M"},{"$f":"VLOOKUP(A1574,Pilot,3,0)","v":"Olomouc"},{"$f":"VLOOKUP(A1574,Pilot,4,0)","v":"CZ/M"},"Oldtimer Pribina Star 2020 - Klub","SK",2020,12,479,0.75,{"$f":"ROUND(J1574/MAX($J$1563:$J$1579)*10000*0.7+(MAX($I$1563:$I$1579)-I1574)/(MAX($I$1563:$I$1579)-1)*10000*0.3,0)","v":4356},3267,"x",null,"SF-27A Scheibe","k14",""]
["Zdeno Hrcka",null,"M",null,null,"Oldtimer Pribina Star 2020 - Klub","SK",2020,13,198,0.75,1841,1381,null,null,"C101 PEGASE","H","Není v databázi"]
["Michal Baxa",null,"M",null,null,"Oldtimer Pribina Star 2020 - Klub","SK",2020,14,0,{"$f":"VLOOKUP(F1576,Soutez,12,0)","v":0.75},0,0,null,null,"VSO-10","m35",{"$f":"IF(ISERROR(VLOOKUP(A1576,Pilot,6,0)),\"Není v databázi\",VLOOKUP(A1576,Pilot,6,0))","v":"Není v databázi"}]
["Oto Gese",null,"M",null,null,"Oldtimer Pribina Star 2020 - Klub","SK",2020,14,0,0.75,0,0,null,null,"L 13 Blanik","m17","Není v databázi"]
["Igor Ott",null,"M",null,null,"Oldtimer Pribina Star 2020 - Klub","SK",2020,14,0,0.75,0,0,null,null,"LG-425 SOHAJ","N","Není v databázi"]
["Józi Ott",null,"M",null,null,"Oldtimer Pribina Star 2020 - Klub","SK",2020,"HC",0,0.75,null,{"$f":"ROUND(K1579*L1579,0)","v":0},null,null,"Z-23 HONZA","m56","Není v databázi"]
["Ondrej Bordovsky",{"$f":"VLOOKUP(A1580,Pilot,2,0)","v":1983},{"$f":"VLOOKUP(A1580,Pilot,5,0)","v":"M"},{"$f":"VLOOKUP(A1580,Pilot,3,0)","v":"Krnov"},{"$f":"VLOOKUP(A1580,Pilot,4,0)","v":"CZ/M"},"PMČR 2020 - Klub","CZ",2020,1,7555,1.085,{"$f":"ROUND(J1580/MAX($J$1580:$J$1604)*10000*0.7+(MAX($I$1580:$I$1604)-I1580)/(MAX($I$1580:$I$1604)-1)*10000*0.3,0)","v":10000},10850,"x",null,"Std.Cirrus","BW",""]
["Jan Ratz",{"$f":"VLOOKUP(A1581,Pilot,2,0)","v":1987},{"$f":"VLOOKUP(A1581,Pilot,5,0)","v":"M"},{"$f":"VLOOKUP(A1581,Pilot,3,0)","v":"Zbraslavice"},{"$f":"VLOOKUP(A1581,Pilot,4,0)","v":"CZ/C1"},"PMČR 2020 - Klub","CZ",2020,2,7424,1.085,{"$f":"ROUND(J1581/MAX($J$1580:$J$1604)*10000*0.7+(MAX($I$1580:$I$1604)-I1581)/(MAX($I$1580:$I$1604)-1)*10000*0.3,0)","v":9754},10583,"x",null,"Std.Cirrus","REX",""]
["Finn Sleigh",null,"M","Gliding Now","UK","PMČR 2020 - Klub","CZ",2020,3,7280,1.085,9495,10302,null,null,"ASW20",5,"Není v databázi"]
["Daniel Ryba",{"$f":"VLOOKUP(A1583,Pilot,2,0)","v":1994},{"$f":"VLOOKUP(A1583,Pilot,5,0)","v":"M"},{"$f":"VLOOKUP(A1583,Pilot,3,0)","v":"Dvůr Králové"},{"$f":"VLOOKUP(A1583,Pilot,4,0)","v":"CZ/C2"},"PMČR 2020 - Klub","CZ",2020,4,7228,1.085,9322,10114,"x",null,"ASW19B","L7",""]
["Jaroslav Tomana",{"$f":"VLOOKUP(A1584,Pilot,2,0)","v":1975},{"$f":"VLOOKUP(A1584,Pilot,5,0)","v":"M"},{"$f":"VLOOKUP(A1584,Pilot,3,0)","v":"Zbraslavice"},{"$f":"VLOOKUP(A1584,Pilot,4,0)","v":"CZ/C1"},"PMČR 2020 - Klub","CZ",2020,5,7213,1.085,9183,9964,"x",null,"Pegase 101 BC","RT",""]
["Michal Lesinger",{"$f":"VLOOKUP(A1585,Pilot,2,0)","v":1966},{"$f":"VLOOKUP(A1585,Pilot,5,0)","v":"M"},{"$f":"VLOOKUP(A1585,Pilot,3,0)","v":"Moravská Třebová"},{"$f":"VLOOKUP(A1585,Pilot,4,0)","v":"CZ/M"},"PMČR 2020 - Klub","CZ",2020,6,7082,1.085,8937,9697,"x",null,"ASW19B","LL",""]
["Pavel Trybenekr",{"$f":"VLOOKUP(A1586,Pilot,2,0)","v":1990},{"$f":"VLOOKUP(A1586,Pilot,5,0)","v":"M"},{"$f":"VLOOKUP(A1586,Pilot,3,0)","v":"Hořice"},{"$f":"VLOOKUP(A1586,Pilot,4,0)","v":"CZ/C2"},"PMČR 2020 - Klub","CZ",2020,7,7037,1.085,8770,9515,"x",null,"LS4","PF",""]
["Toby Freeland",null,"M","Imperial College - Lasham","UK","PMČR 2020 - Klub","CZ",2020,8,6922,1.085,8539,9265,null,null,"ASW24 WL",96,"Není v databázi"]
["Ivan Novak",{"$f":"VLOOKUP(A1588,Pilot,2,0)","v":1962},{"$f":"VLOOKUP(A1588,Pilot,5,0)","v":"M"},{"$f":"VLOOKUP(A1588,Pilot,3,0)","v":"Mladá Boleslav"},{"$f":"VLOOKUP(A1588,Pilot,4,0)","v":"CZ/C1"},"PMČR 2020 - Klub","CZ",2020,9,6777,1.085,8279,8983,null,null,"LS4","IX",""]
["Pavel Rericha",{"$f":"VLOOKUP(A1589,Pilot,2,0)","v":1967},{"$f":"VLOOKUP(A1589,Pilot,5,0)","v":"M"},{"$f":"VLOOKUP(A1589,Pilot,3,0)","v":"Moravská Třebová"},{"$f":"VLOOKUP(A1589,Pilot,4,0)","v":"CZ/M"},"PMČR 2020 - Klub","CZ",2020,10,6731,1.085,8112,8802,"x",null,"ASW19B","NO",""]
["Vit Morkovsky",{"$f":"VLOOKUP(A1590,Pilot,2,0)","v":2000},{"$f":"VLOOKUP(A1590,Pilot,5,0)","v":"M"},{"$f":"VLOOKUP(A1590,Pilot,3,0)","v":"Polička"},{"$f":"VLOOKUP(A1590,Pilot,4,0)","v":"CZ/C2"},"PMČR 2020 - Klub","CZ",2020,11,6532,1.085,7802,8465,"x",null,"ASW24","SM","Junior v roce 2022"]
["Henry Inigo-Jones",null,"M","Lasham","UK","PMČR 2020 - Klub","CZ",2020,12,6373,1.085,7530,8170,null,null,"DG 300",950,"Není v databázi"]
["Zdenek Boruvka 86",{"$f":"VLOOKUP(A1592,Pilot,2,0)","v":1986},{"$f":"VLOOKUP(A1592,Pilot,5,0)","v":"M"},{"$f":"VLOOKUP(A1592,Pilot,3,0)","v":"Jičín"},{"$f":"VLOOKUP(A1592,Pilot,4,0)","v":"CZ/C2"},"PMČR 2020 - Klub","CZ",2020,13,6320,1.085,7356,7981,null,null,"Std.Cirrus","BJ",""]
["Jan Hruska",{"$f":"VLOOKUP(A1593,Pilot,2,0)","v":1988},{"$f":"VLOOKUP(A1593,Pilot,5,0)","v":"M"},{"$f":"VLOOKUP(A1593,Pilot,3,0)","v":"Tábor"},{"$f":"VLOOKUP(A1593,Pilot,4,0)","v":"CZ/C1"},"PMČR 2020 - Klub","CZ",2020,14,6124,1.085,7049,7648,"x",null,"ASW15B","LF",""]
["Zdenek Balcarek",{"$f":"VLOOKUP(A1594,Pilot,2,0)","v":1967},{"$f":"VLOOKUP(A1594,Pilot,5,0)","v":"M"},{"$f":"VLOOKUP(A1594,Pilot,3,0)","v":"Kroměříž"},{"$f":"VLOOKUP(A1594,Pilot,4,0)","v":"CZ/M"},"PMČR 2020 - Klub","CZ",2020,15,5703,1.085,6534,7089,"x",null,"Std.Cirrus","ZL",""]
["Lukas Schneeberger",null,"M","SMBC Eferding","AT","PMČR 2020 - Klub","CZ",2020,16,5575,1.085,6290,6825,null,null,"ASW19","I","Není v databázi"]
["Jiri Stepanek",{"$f":"VLOOKUP(A1596,Pilot,2,0)","v":1956},{"$f":"VLOOKUP(A1596,Pilot,5,0)","v":"M"},{"$f":"VLOOKUP(A1596,Pilot,3,0)","v":"Moravská Třebová"},{"$f":"VLOOKUP(A1596,Pilot,4,0)","v":"CZ/M"},"PMČR 2020 - Klub","CZ",2020,17,5563,1.085,6154,6677,"x",null,"ASW15b","LE",""]
["Martin Stepanek",{"$f":"VLOOKUP(A1597,Pilot,2,0)","v":1987},{"$f":"VLOOKUP(A1597,Pilot,5,0)","v":"M"},{"$f":"VLOOKUP(A1597,Pilot,3,0)","v":"Moravská Třebová"},{"$f":"VLOOKUP(A1597,Pilot,4,0)","v":"CZ/M"},"PMČR 2020 - Klub","CZ",2020,18,5421,1.085,5898,6399,"x",null,"ASW15B","ZP",""]
["Petr Stepanek",{"$f":"VLOOKUP(A1598,Pilot,2,0)","v":1989},{"$f":"VLOOKUP(A1598,Pilot,5,0)","v":"M"},{"$f":"VLOOKUP(A1598,Pilot,3,0)","v":"Moravská Třebová"},{"$f":"VLOOKUP(A1598,Pilot,4,0)","v":"CZ/M"},"PMČR 2020 - Klub","CZ",2020,19,5341,1.085,5699,6183,"x",null,"ASW19B","AE",""]
["Edmund Schuller",null,"M","Lučenec","SK","PMČR 2020 - Klub","CZ",2020,20,5306,1.085,5541,6012,null,null,"ASW24 WL","ZS","Není v databázi"]
["Pavlina Horackova",{"$f":"VLOOKUP(A1600,Pilot,2,0)","v":1965},{"$f":"VLOOKUP(A1600,Pilot,5,0)","v":"F"},{"$f":"VLOOKUP(A1600,Pilot,3,0)","v":"Šumperk"},{"$f":"VLOOKUP(A1600,Pilot,4,0)","v":"CZ/M"},"PMČR 2020 - Klub","CZ",2020,21,5146,1.085,5268,5716,null,null,"SZD 48 Jantar Std. 2","SU",""]
["Ivan Harasta 65",{"$f":"VLOOKUP(A1601,Pilot,2,0)","v":1965},{"$f":"VLOOKUP(A1601,Pilot,5,0)","v":"M"},{"$f":"VLOOKUP(A1601,Pilot,3,0)","v":"Toužim"},{"$f":"VLOOKUP(A1601,Pilot,4,0)","v":"CZ/C1"},"PMČR 2020 - Klub","CZ",2020,22,5130,1.085,5128,5564,null,null,"ASW 19b","KZ",""]
["Ivan Tvrdik",{"$f":"VLOOKUP(A1602,Pilot,2,0)","v":1997},{"$f":"VLOOKUP(A1602,Pilot,5,0)","v":"M"},{"$f":"VLOOKUP(A1602,Pilot,3,0)","v":"Letňany"},{"$f":"VLOOKUP(A1602,Pilot,4,0)","v":"CZ/C1"},"PMČR 2020 - Klub","CZ",2020,23,5104,1.085,4979,5402,null,null,"Discus CS","LH","Junior v roce 2022"]
["Szymon Bartus",null,"M","Lasham GS","UK","PMČR 2020 - Klub","CZ",2020,24,4414,1.085,4215,4573,null,null,"Discus b",296,"Není v databázi"]
["Tomas Moravec",{"$f":"VLOOKUP(A1604,Pilot,2,0)","v":2000},{"$f":"VLOOKUP(A1604,Pilot,5,0)","v":"M"},{"$f":"VLOOKUP(A1604,Pilot,3,0)","v":"Žamberk"},{"$f":"VLOOKUP(A1604,Pilot,4,0)","v":"CZ/C2"},"PMČR 2020 - Klub","CZ",2020,25,4136,1.085,3832,4158,null,null,"Std. Cirrus WL","OK6","Junior v roce 2022"]
["Petr Koutny",1971,"M","Křižanov","CZ/M","PMČR 2020 - Kombi 15m","CZ",2020,1,7466,1.0899999999999999,{"$f":"ROUND(J1605/MAX($J$1605:$J$1626)*10000*0.7+(MAX($I$1605:$I$1626)-I1605)/(MAX($I$1605:$I$1626)-1)*10000*0.3,0)","v":10000},10900,"x",null,"LS8 15m","SK",""]
["Jan Pavlik",1987,"M","Křižanov","CZ/M","PMČR 2020 - Kombi 15m","CZ",2020,2,7421,1.0899999999999999,{"$f":"ROUND(J1606/MAX($J$1605:$J$1626)*10000*0.7+(MAX($I$1605:$I$1626)-I1606)/(MAX($I$1605:$I$1626)-1)*10000*0.3,0)","v":9815},10698,"x",null,"LS8a 15m","JW",""]
["Miloslav Cink",1987,"M","Letkov","CZ/C1","PMČR 2020 - Kombi 15m","CZ",2020,3,6950,1.0899999999999999,9230,10061,"x",null,"LS8b 15m","JB",""]
["Pavel Louzecky",1957,"M","Přibyslav","CZ/C2","PMČR 2020 - Kombi 15m","CZ",2020,4,6751,1.0899999999999999,8901,9702,"x",null,"LS8 15m","FX",""]
["Karel Novak",1993,"M","Mladá Boleslav","CZ/C1","PMČR 2020 - Kombi 15m","CZ",2020,5,6578,1.0899999999999999,8596,9370,"x",null,"JS3 15m","XM",""]
["Jiri Kusbach",1959,"M","Luhačovice","CZ/M","PMČR 2020 - Kombi 15m","CZ",2020,6,6548,1.0899999999999999,8425,9183,"x",null,"KKB-15E","B",""]
["Jan Zapletal",1997,"M","Břeclav","CZ/M","PMČR 2020 - Kombi 15m","CZ",2020,7,6542,1.0899999999999999,8277,9022,"x",null,"LS8 15m","JS","Junior v roce 2022"]
["Petr Krejcirik",1960,"M","Hranice","CZ/M","PMČR 2020 - Kombi 15m","CZ",2020,8,6252,1.0899999999999999,7862,8570,"x",null,"JS MD3 15m","VB",""]
["Hana Treslova",1991,"F","Raná","CZ/C2","PMČR 2020 - Kombi 15m","CZ",2020,9,6243,1.0899999999999999,7710,8404,"x",null,"Ventus 2ax 15m","AX",""]
["Jan Kotan",1982,"M","Letňany","CZ/C1","PMČR 2020 - Kombi 15m","CZ",2020,10,6188,1.0899999999999999,7516,8192,"x",null,"Ventus 2bx 15m","YA",""]
["Jan Vavrin",1987,"M","Vysoké Mýto","CZ/C2","PMČR 2020 - Kombi 15m","CZ",2020,11,6171,1.0899999999999999,7357,8019,"x",null,"DuoDiscus T 700kg",777,""]
["Barbora Moravcova",1994,"F","Zbraslavice","CZ/C1","PMČR 2020 - Kombi 15m","CZ",2020,12,6114,1.0899999999999999,7161,7805,"x","x","LS8a 15m","EU",""]
["Zdenek Boruvka 54",1954,"M","Jičín","CZ/C2","PMČR 2020 - Kombi 15m","CZ",2020,13,6085,1.0899999999999999,6991,7620,"x",null,"LS8 15m","ZB",""]
["Jan Boruvka",1984,"M","Jičín","CZ/C2","PMČR 2020 - Kombi 15m","CZ",2020,14,6043,1.0899999999999999,6809,7422,null,null,"Ventus c 15m","EG",""]
["Jan Horak",1971,"M","Zbraslavice","CZ/C1","PMČR 2020 - Kombi 15m","CZ",2020,15,5930,1.0899999999999999,6560,7150,"x",null,"ASW20 (A) 15m + WL","WX",""]
["Radek Zima 78",1978,"M","Hodkovice","CZ/C2","PMČR 2020 - Kombi 15m","CZ",2020,16,5803,1.0899999999999999,6298,6865,null,null,"Ventus b WL 15m 500kg","7F",""]
["Jana Treslova",1963,"F","Raná","CZ/C2","PMČR 2020 - Kombi 15m","CZ",2020,17,5740,1.0899999999999999,6096,6645,null,null,"Discus 2a 15m","GX",""]
["Dana Novakova",1965,"F","Mladá Boleslav","CZ/C1","PMČR 2020 - Kombi 15m","CZ",2020,18,5663,1.0899999999999999,5881,6410,"x",null,"LS8 15m","AU",""]
["Lukas Kirchberger",null,"M","SFC Mariazell","AT","PMČR 2020 - Kombi 15m","CZ",2020,19,5622,1.0899999999999999,5700,6213,null,null,"LS 7 WL","LK","Není v databázi"]
["Matthew Scutter",null,"M","Adelaide Soaring Club","AU","PMČR 2020 - Kombi 15m","CZ",2020,20,5242,1.0899999999999999,5201,5669,null,null,"Diana 2 FES","LI","Není v databázi"]
["Jan Louda",{"$f":"VLOOKUP(A1625,Pilot,2,0)","v":1986},{"$f":"VLOOKUP(A1625,Pilot,5,0)","v":"M"},{"$f":"VLOOKUP(A1625,Pilot,3,0)","v":"Mladá Boleslav"},{"$f":"VLOOKUP(A1625,Pilot,4,0)","v":"CZ/C1"},"PMČR 2020 - Kombi 15m","CZ",2020,21,5008,1.0899999999999999,{"$f":"ROUND(J1625/MAX($J$1605:$J$1626)*10000*0.7+(MAX($I$1605:$I$1626)-I1625)/(MAX($I$1605:$I$1626)-1)*10000*0.3,0)","v":4838},5273,null,null,"JS3 15m","ZE",""]
["Jana Veprekova",1961,"F","Dvůr Králové","CZ/C2","PMČR 2020 - Kombi 15m","CZ",2020,22,624,1.0899999999999999,585,638,null,null,"LS8 15m","W8",""]
["David Mach",1994,"M","Hronov","CZ/C2","PMČR 2020 - Kombi Open","CZ",2020,1,7261,1.0699999999999998,{"$f":"ROUND(J1627/MAX($J$1627:$J$1647)*10000*0.7+(MAX($I$1627:$I$1647)-I1627)/(MAX($I$1627:$I$1647)-1)*10000*0.3,0)","v":10000},10700,"x",null,"ASG29e","QZ",""]
["Tomas Suchanek",1964,"M","GAC Benešov","CZ/C1","PMČR 2020 - Kombi Open","CZ",2020,2,7146,1.0699999999999998,{"$f":"ROUND(J1628/MAX($J$1627:$J$1647)*10000*0.7+(MAX($I$1627:$I$1647)-I1628)/(MAX($I$1627:$I$1647)-1)*10000*0.3,0)","v":9739},10421,"x",null,"Ventus C 17.6","UP",""]
["Radek Krejcirik",1991,"M","Hranice","CZ/M","PMČR 2020 - Kombi Open","CZ",2020,3,6983,1.0699999999999998,9432,10092,"x",null,"JS1 c 18m","ZF",""]
["Roman Mracek",1980,"M","Letkov","CZ/C1","PMČR 2020 - Kombi Open","CZ",2020,4,6789,1.0699999999999998,9095,9732,"x",null,"LS8 s 18m","EJ",""]
["Radek Kucirek",1973,"M","Havlíčkův Brod","CZ/C2","PMČR 2020 - Kombi Open","CZ",2020,5,6709,1.0699999999999998,8868,9489,"x",null,"EB 28 28,3m","NA",""]
["Ondrej Dupal",1966,"M","GAC Benešov","CZ/C1","PMČR 2020 - Kombi Open","CZ",2020,6,6625,1.0699999999999998,8637,9242,"x",null,"ASG29E","GO",""]
["Alena Netusilova",1970,"F","Zbraslavice","CZ/C1","PMČR 2020 - Kombi Open","CZ",2020,7,6534,1.0699999999999998,8399,8987,"x","x","JS1 c 21m","JX",""]
["Petr Tichy",1973,"M","Zbraslavice","CZ/C1","PMČR 2020 - Kombi Open","CZ",2020,8,6531,1.0699999999999998,8246,8823,"x",null,"ASG29 E","AJ",""]
["Danes Grula",1961,"M","Medlánky","CZ/M","PMČR 2020 - Kombi Open","CZ",2020,9,6338,1.0699999999999998,7910,8464,"x",null,"ASG29E","DX",""]
["Tomas Rendla",1973,"M","Zbraslavice","CZ/C1","PMČR 2020 - Kombi Open","CZ",2020,10,6240,1.0699999999999998,7666,8203,null,null,"EB29R","EX",""]
["Vladimir Foltin",null,"M","Aeroklub Nitra","SK","PMČR 2020 - Kombi Open","CZ",2020,11,6045,1.0699999999999998,7328,7841,null,null,"JS3",3,"Není v databázi"]
["Petr Panek",{"$f":"VLOOKUP(A1638,Pilot,2,0)","v":1975},{"$f":"VLOOKUP(A1638,Pilot,5,0)","v":"M"},{"$f":"VLOOKUP(A1638,Pilot,3,0)","v":"Dvůr Králové"},{"$f":"VLOOKUP(A1638,Pilot,4,0)","v":"CZ/C2"},"PMČR 2020 - Kombi Open","CZ",2020,12,5888,1.0699999999999998,7026,7518,"x",null,"JS1 b 18m","IGC",""]
["Michaela Rendlova",{"$f":"VLOOKUP(A1639,Pilot,2,0)","v":2004},{"$f":"VLOOKUP(A1639,Pilot,5,0)","v":"F"},{"$f":"VLOOKUP(A1639,Pilot,3,0)","v":"Toužim"},{"$f":"VLOOKUP(A1639,Pilot,4,0)","v":"CZ/C1"},"PMČR 2020 - Kombi Open","CZ",2020,13,5786,1.0699999999999998,6778,7252,"x","x","JS1c 18m","VX","Junior v roce 2022"]
["Martin Hrivna",{"$f":"VLOOKUP(A1640,Pilot,2,0)","v":1978},{"$f":"VLOOKUP(A1640,Pilot,5,0)","v":"M"},{"$f":"VLOOKUP(A1640,Pilot,3,0)","v":"Zbraslavice"},{"$f":"VLOOKUP(A1640,Pilot,4,0)","v":"CZ/C1"},"PMČR 2020 - Kombi Open","CZ",2020,14,5493,{"$f":"VLOOKUP(F1640,Soutez,12,0)","v":1.0699999999999998},6346,6790,"x",null,"ASG29E","NX",{"$f":"IF(ISERROR(VLOOKUP(A1640,Pilot,6,0)),\"Není v databázi\",VLOOKUP(A1640,Pilot,6,0))","v":""}]
["Christian Hynek",null,"M","ASKÖ Flugsport Wien","AT","PMČR 2020 - Kombi Open","CZ",2020,15,5476,1.0699999999999998,{"$f":"ROUND(J1641/MAX($J$1627:$J$1647)*10000*0.7+(MAX($I$1627:$I$1647)-I1641)/(MAX($I$1627:$I$1647)-1)*10000*0.3,0)","v":6179},6612,null,null,"EB29 DR","DD","Není v databázi"]
["Lenka Kuthanova",{"$f":"VLOOKUP(A1642,Pilot,2,0)","v":1960},{"$f":"VLOOKUP(A1642,Pilot,5,0)","v":"F"},{"$f":"VLOOKUP(A1642,Pilot,3,0)","v":"Tábor"},{"$f":"VLOOKUP(A1642,Pilot,4,0)","v":"CZ/C1"},"PMČR 2020 - Kombi Open","CZ",2020,16,5219,1.0699999999999998,5781,6186,null,null,"JS1 c 21m","LX",""]
["Martin Picka",1974,"M","Tábor","CZ/C1","PMČR 2020 - Kombi Open","CZ",2020,17,4874,1.0699999999999998,5299,{"$f":"ROUND(K1643*L1643,0)","v":5670},"x",null,"Ventus 2C 18m","CX",""]
["Petr Bartak",1984,"M","Letkov","CZ/C1","PMČR 2020 - Kombi Open","CZ",2020,18,4848,1.0699999999999998,5124,5483,null,null,"LS6 18W","BL",""]
["Eva Cerna",1964,"F","Příbram","CZ/C1","PMČR 2020 - Kombi Open","CZ",2020,19,4444,1.0699999999999998,4584,4905,"x","x","Ventus 2cxt","FR",""]
["Karel Mares",1974,"M","Slaný","CZ/C1","PMČR 2020 - Kombi Open","CZ",2020,20,4159,1.0699999999999998,4160,4451,"x",null,"Ventus C","YF",""]
["Vaclav Svoboda",1970,"M","Letkov","CZ/C1","PMČR 2020 - Kombi Open","CZ",2020,21,3919,1.0699999999999998,3778,4042,"x",null,"LS8 18m",301,""]
["Jan Viskot",1995,"M","Břeclav","CZ/M","PMČRj 2020 - Klub","CZ",2020,1,7135,0.93,{"$f":"ROUND(J1648/MAX($J$1648:$J$1684)*10000*0.7+(MAX($I$1648:$I$1684)-I1648)/(MAX($I$1648:$I$1684)-1)*10000*0.3,0)","v":10000},9300,"x",null,"LS4b","6L",""]
["Jan Zapletal",1997,"M","Břeclav","CZ/M","PMČRj 2020 - Klub","CZ",2020,2,6733,0.93,{"$f":"ROUND(J1649/MAX($J$1648:$J$1684)*10000*0.7+(MAX($I$1648:$I$1684)-I1649)/(MAX($I$1648:$I$1684)-1)*10000*0.3,0)","v":9522},8855,null,null,"LS8","JS","Junior v roce 2022"]
["Jaromir Macoun",1999,"M","Jičín","CZ/C2","PMČRj 2020 - Klub","CZ",2020,3,6635,0.93,9343,8689,"x",null,"LS-8","EU","Junior v roce 2022"]
["Vit Morkovsky",2000,"M","Polička","CZ/C2","PMČRj 2020 - Klub","CZ",2020,4,6547,0.93,9173,8531,"x",null,"ASW-24","SM","Junior v roce 2022"]
["Toby Freeland",null,"M","Imperial College - Lasham","UK","PMČRj 2020 - Klub","CZ",2020,5,6466,0.93,9010,8379,null,null,"ASW24 W",96,"Není v databázi"]
["Ivan Tvrdik",{"$f":"VLOOKUP(A1653,Pilot,2,0)","v":1997},{"$f":"VLOOKUP(A1653,Pilot,5,0)","v":"M"},{"$f":"VLOOKUP(A1653,Pilot,3,0)","v":"Letňany"},{"$f":"VLOOKUP(A1653,Pilot,4,0)","v":"CZ/C1"},"PMČRj 2020 - Klub","CZ",2020,6,6263,0.93,8728,8117,"x",null,"ASW-19b","KZ","Junior v roce 2022"]
["Tereza Koubkova",{"$f":"VLOOKUP(A1654,Pilot,2,0)","v":1999},{"$f":"VLOOKUP(A1654,Pilot,5,0)","v":"F"},{"$f":"VLOOKUP(A1654,Pilot,3,0)","v":"Vysoké Mýto"},{"$f":"VLOOKUP(A1654,Pilot,4,0)","v":"CZ/C2"},"PMČRj 2020 - Klub","CZ",2020,7,6177,0.93,8560,7961,"x","x","Std. Cirrus","WY","Junior v roce 2022"]
["Michaela Krizova",{"$f":"VLOOKUP(A1655,Pilot,2,0)","v":2001},{"$f":"VLOOKUP(A1655,Pilot,5,0)","v":"F"},{"$f":"VLOOKUP(A1655,Pilot,3,0)","v":"Přibyslav"},{"$f":"VLOOKUP(A1655,Pilot,4,0)","v":"CZ/C2"},"PMČRj 2020 - Klub","CZ",2020,8,6176,0.93,8476,7883,"x","x","ASW 15b","BE","Junior v roce 2022"]
["Henry Inigo-Jones",null,"M","Lasham Gliding Society","UK","PMČRj 2020 - Klub","CZ",2020,9,6147,0.93,{"$f":"ROUND(J1656/MAX($J$1648:$J$1684)*10000*0.7+(MAX($I$1648:$I$1684)-I1656)/(MAX($I$1648:$I$1684)-1)*10000*0.3,0)","v":8364},7779,null,null,"DG 300 Club",950,"Není v databázi"]
["Tibor Hezina",{"$f":"VLOOKUP(A1657,Pilot,2,0)","v":2002},{"$f":"VLOOKUP(A1657,Pilot,5,0)","v":"M"},{"$f":"VLOOKUP(A1657,Pilot,3,0)","v":"Křižanov"},{"$f":"VLOOKUP(A1657,Pilot,4,0)","v":"CZ/M"},"PMČRj 2020 - Klub","CZ",2020,10,5872,0.93,8011,7450,"x",null,"Std.Cirrus","IJ","Junior v roce 2022"]
["Jan Stastny",2003,"M","Medlánky","CZ/M","PMČRj 2020 - Klub","CZ",2020,11,5826,0.93,7882,7330,"x",null,"ASW-15B","TW","Junior v roce 2022"]
["Tomas Jilek",1995,"M","Raná","CZ/C2","PMČRj 2020 - Klub","CZ",2020,12,5793,0.93,7767,7223,"x",null,"ASW 15A","PI",""]
["Daniel Suchy",1995,"M","Hranice","CZ/M","PMČRj 2020 - Klub","CZ",2020,13,5792,0.93,7682,7144,"x",null,"Astir CS","W7",""]
["Tomas Hulmak",1999,"M","Hosín","CZ/C1","PMČRj 2020 - Klub","CZ",2020,14,5757,0.93,7565,7035,"x",null,"ASW-15b","HH","Junior v roce 2022"]
["Lukas Kriz",2003,"M","Křižanov","CZ/M","PMČRj 2020 - Klub","CZ",2020,15,5751,0.93,7476,6953,null,null,"Std.Cirrus","EJ","Junior v roce 2022"]
["Tomas Kulhavy",2001,"M","Liberec","CZ/C2","PMČRj 2020 - Klub","CZ",2020,16,5654,0.93,7297,6786,"x",null,"HpH G304CZ","IH","Junior v roce 2022"]
["Lukas Maly",1998,"M","Vysoké Mýto","CZ/C2","PMČRj 2020 - Klub","CZ",2020,17,5646,0.93,7206,6702,"x",null,"ASW-15B","AM","Junior v roce 2022"]
["Vladimir Hammer",2000,"M","Letkov","CZ/C1","PMČRj 2020 - Klub","CZ",2020,18,5552,0.93,7030,6538,"x",null,"Std. Cirrus","XII","Junior v roce 2022"]
["Lukas Volek",2004,"M","Hodkovice","CZ/C2","PMČRj 2020 - Klub","CZ",2020,19,5290,0.93,6690,6222,"x",null,"ASW-15B","BF","Junior v roce 2022"]
["Tomas Hynek",2002,"M","Dvůr Králové","CZ/C2","PMČRj 2020 - Klub","CZ",2020,20,5249,0.93,6566,6106,null,null,"DG-200","IQ","Junior v roce 2022"]
["Petr Gebauer",1999,"M","Mladá Boleslav","CZ/C1","PMČRj 2020 - Klub","CZ",2020,21,5125,0.93,6361,5916,"x",null,"ASW-19","AH","Junior v roce 2022"]
["Ondrej Dvorak 98",1998,"M","Mladá Boleslav","CZ/C1","PMČRj 2020 - Klub","CZ",2020,22,5124,0.93,6277,5838,"x",null,"ASW-15b","MB","Junior v roce 2022"]
["Tomas Moravec",2000,"M","Žamberk","CZ/C2","PMČRj 2020 - Klub","CZ",2020,23,4857,0.93,5932,5517,"x",null,"Std.CirrusWL","OK6","Junior v roce 2022"]
["Marek Pechar",1995,"M","Chrudim","CZ/C2","PMČRj 2020 - Klub","CZ",2020,24,4797,0.93,5790,5385,"x",null,"Std. Cirrus","JE",""]
["Jan Vozeh",1995,"M","Rakovník","CZ/C1","PMČRj 2020 - Klub","CZ",2020,25,4752,0.93,5662,5266,"x",null,"Std. Cirrus","OG",""]
["Jan Beran",1999,"M","Kladno","CZ/C1","PMČRj 2020 - Klub","CZ",2020,26,4656,0.93,5485,5101,"x",null,"ASW - 19B","HB","Junior v roce 2022"]
["Jiri Maier 99",1999,"M","Raná","CZ/C2","PMČRj 2020 - Klub","CZ",2020,27,4437,0.93,5186,4823,null,null,"Discus bT WL","TAL","Junior v roce 2022"]
["Jakub Malik",1999,"M","Letňany","CZ/C1","PMČRj 2020 - Klub","CZ",2020,28,4046,0.93,4719,4389,"x",null,"VSO-10","L5","Junior v roce 2022"]
["Jan Adam",2002,"M","Podhořany","CZ/C2","PMČRj 2020 - Klub","CZ",2020,29,3982,0.93,4573,4253,"x",null,"Std. Cirrus","YX","Junior v roce 2022"]
["Katerina Vancurova",2002,"F","Hranice","CZ/M","PMČRj 2020 - Klub","CZ",2020,30,3693,0.93,4206,3912,"x","x","Std.Cirrus","HC","Junior v roce 2022"]
["Jan Cibulka",2002,"M","Letňany","CZ/C1","PMČRj 2020 - Klub","CZ",2020,31,3243,0.93,3682,3424,"x",null,"VSO-10","L2","Junior v roce 2022"]
["Jan Camr",2002,"M","Jaroměř","CZ/C2","PMČRj 2020 - Klub","CZ",2020,32,3174,0.93,3531,3284,"x",null,"VSO-10",31,"Junior v roce 2022"]
["Zuzana Markesova",2001,"F","Medlánky","CZ/M","PMČRj 2020 - Klub","CZ",2020,33,2996,0.93,3273,3044,"x","x","Std.Cirrus","MP","Junior v roce 2022"]
["Michal Coufal",1999,"M","Jičín","CZ/C2","PMČRj 2020 - Klub","CZ",2020,34,2800,0.93,2997,2787,"x",null,"Std.Cirrus","FS","Junior v roce 2022"]
["Filip Vita",2001,"M","Kroměříž","CZ/M","PMČRj 2020 - Klub","CZ",2020,35,2687,0.93,2803,2607,"x",null,"Astir","2Y","Junior v roce 2022"]
["Jakub Koudelka",2000,"M","Křižanov","CZ/M","PMČRj 2020 - Klub","CZ",2020,36,2608,0.93,2642,2457,"x",null,"ASW-19b","A1","Junior v roce 2022"]
["Tim Raasch",2000,"M","Polička","CZ/C2","PMČRj 2020 - Klub","CZ",2020,37,983,0.93,964,897,"x",null,"VSO-10","H5","Junior v roce 2022"]
["Michal Lesinger",1966,"M","Moravská Třebová","CZ/M","PMRg 2020 - Klub","CZ",2020,1,4243,0.91500000000000004,{"$f":"ROUND(J1685/MAX($J$1685:$J$1708)*10000*0.7+(MAX($I$1685:$I$1708)-I1685)/(MAX($I$1685:$I$1708)-1)*10000*0.3,0)","v":10000},9150,"x",null,"ASW 19B","LL",""]
["Zdenek Boruvka 86",1986,"M","Jičín","CZ/C2","PMRg 2020 - Klub","CZ",2020,2,4134,0.91500000000000004,{"$f":"ROUND(J1686/MAX($J$1685:$J$1708)*10000*0.7+(MAX($I$1685:$I$1708)-I1686)/(MAX($I$1685:$I$1708)-1)*10000*0.3,0)","v":9690},8866,"x",null,"STD. CIRRUS","BJ",""]
["Jan Zahradka",1981,"M","Hodkovice","CZ/C2","PMRg 2020 - Klub","CZ",2020,3,3619,0.91500000000000004,8710,7970,"x",null,"Std. Cirrus","AR",""]
["Marek Svancara",1976,"M","GAC Benešov","CZ/C1","PMRg 2020 - Klub","CZ",2020,4,3499,0.91500000000000004,8381,7669,"x",null,"Std. Cirrus","GT",""]
["Jan Stastny",{"$f":"VLOOKUP(A1689,Pilot,2,0)","v":2003},{"$f":"VLOOKUP(A1689,Pilot,5,0)","v":"M"},{"$f":"VLOOKUP(A1689,Pilot,3,0)","v":"Medlánky"},{"$f":"VLOOKUP(A1689,Pilot,4,0)","v":"CZ/M"},"PMRg 2020 - Klub","CZ",2020,5,3276,0.91500000000000004,7883,7213,"x",null,"ASW-15B","TW","Junior v roce 2022"]
["Jindrich Hruska",1986,"M","Soběslav","CZ/C1","PMRg 2020 - Klub","CZ",2020,6,3243,0.91500000000000004,7698,7044,"x",null,"Mosquito","UFO",""]
["Jiri Vondracek",1989,"M","Kladno","CZ/C1","PMRg 2020 - Klub","CZ",2020,7,3122,0.91500000000000004,7368,6742,"x",null,"ASW-15B","2P",""]
["Vladimir Hammer",2000,"M","Letkov","CZ/C1","PMRg 2020 - Klub","CZ",2020,8,3106,0.91500000000000004,7211,6598,"x",null,"Std. Cirrus","XII","Junior v roce 2022"]
["Miloslav Hulmak",1963,"M","Hosín","CZ/C1","PMRg 2020 - Klub","CZ",2020,9,3030,0.91500000000000004,6955,6364,"x",null,"ASW15B","HH",""]
["Pavlina Horackova",1965,"F","Šumperk","CZ/M","PMRg 2020 - Klub","CZ",2020,10,2891,0.91500000000000004,{"$f":"ROUND(J1694/MAX($J$1685:$J$1708)*10000*0.7+(MAX($I$1685:$I$1708)-I1694)/(MAX($I$1685:$I$1708)-1)*10000*0.3,0)","v":6596},6035,null,null,"SZD 48 Jantar Std. 2","SU",""]
["Jan Florian",1992,"M","Zbraslavice","CZ/C1","PMRg 2020 - Klub","CZ",2020,11,2831,0.91500000000000004,6366,5825,"x",null,"Std. Cirrus","C1",""]
["Tomas Hulmak",1999,"M","Hosín","CZ/C1","PMRg 2020 - Klub","CZ",2020,12,2823,0.91500000000000004,6223,5694,null,null,"ASW-15B","XI","Junior v roce 2022"]
["Jiri Holcman",1976,"M","Hosín","CZ/C1","PMRg 2020 - Klub","CZ",2020,13,2717,0.91500000000000004,5917,5414,"x",null,"ASW-19","BO",""]
["Petr Rozhon",1972,"M","Hosín","CZ/C1","PMRg 2020 - Klub","CZ",2020,14,2611,0.91500000000000004,5612,5135,"x",null,"vso-10",9,""]
["Pavel Koudelka",1973,"M","Křižanov","CZ/M","PMRg 2020 - Klub","CZ",2020,15,2442,0.91500000000000004,5203,4761,"x",null,"Std.Cirrus","ICQ",""]
["Michal Vranek",1993,"M","Hosín","CZ/C1","PMRg 2020 - Klub","CZ",2020,16,2440,0.91500000000000004,5069,4638,"x",null,"DG-100","8W",""]
["Jan Beran",1999,"M","Kladno","CZ/C1","PMRg 2020 - Klub","CZ",2020,17,2275,0.91500000000000004,4666,4269,null,null,"ASW 19","HB","Junior v roce 2022"]
["Martin Tison",2000,"M","Hosín","CZ/C1","PMRg 2020 - Klub","CZ",2020,18,2175,0.91500000000000004,4371,3999,"x",null,"ASW-15B","EZ","Junior v roce 2022"]
["Petr Velek",1975,"M","GAC Benešov","CZ/C1","PMRg 2020 - Klub","CZ",2020,19,2138,0.91500000000000004,4179,3824,"x",null,"DG400","HX",""]
["Lukas Plocek",1990,"M","Mladá Boleslav","CZ/C1","PMRg 2020 - Klub","CZ",2020,20,1896,{"$f":"VLOOKUP(F1704,Soutez,12,0)","v":0.91500000000000004},{"$f":"ROUND(J1704/MAX($J$1685:$J$1708)*10000*0.7+(MAX($I$1685:$I$1708)-I1704)/(MAX($I$1685:$I$1708)-1)*10000*0.3,0)","v":3650},3340,"x",null,"ASW-19B","AH",{"$f":"IF(ISERROR(VLOOKUP(A1704,Pilot,6,0)),\"Není v databázi\",VLOOKUP(A1704,Pilot,6,0))","v":""}]
["Vaclav Zak",1962,"M","GAC Benešov","CZ/C1","PMRg 2020 - Klub","CZ",2020,21,1721,0.91500000000000004,3231,2956,"x",null,"Std. Cirrus","TS",""]
["Jiri Krofta",1988,"M","Hosín","CZ/C1","PMRg 2020 - Klub","CZ",2020,22,1563,0.91500000000000004,2839,2598,"x",null,"Std. Cirrus","2U",""]
["Frantisek Suna",1983,"M","Hosín","CZ/C1","PMRg 2020 - Klub","CZ",2020,23,1461,0.91500000000000004,2541,{"$f":"ROUND(K1707*L1707,0)","v":2325},"x",null,"DG-100",78,""]
["Petr Sochor",1986,"M","Hosín","CZ/C1","PMRg 2020 - Klub","CZ",2020,24,1308,0.91500000000000004,2158,1975,"x",null,"ASW15B","6Y",""]
["Danes Grula",1961,"M","Medlánky","CZ/M","PMRg 2020 - Kombi","CZ",2020,1,4243,0.92,{"$f":"ROUND(J1709/MAX($J$1709:$J$1720)*10000*0.7+(MAX($I$1709:$I$1720)-I1709)/(MAX($I$1709:$I$1720)-1)*10000*0.3,0)","v":10000},9200,"x",null,"ASG29E","DX",""]
["Petr Hotovy",1958,"M","Česká Lípa","CZ/C2","PMRg 2020 - Kombi","CZ",2020,2,4106,0.92,{"$f":"ROUND(J1710/MAX($J$1709:$J$1720)*10000*0.7+(MAX($I$1709:$I$1720)-I1710)/(MAX($I$1709:$I$1720)-1)*10000*0.3,0)","v":9501},8741,"x",null,"JS1B 18m","IGC",""]
["Josef Busek",1967,"M","Hosín","CZ/C1","PMRg 2020 - Kombi","CZ",2020,3,3900,0.92,{"$f":"ROUND(J1711/MAX($J$1709:$J$1720)*10000*0.7+(MAX($I$1709:$I$1720)-I1711)/(MAX($I$1709:$I$1720)-1)*10000*0.3,0)","v":8889},8178,"x",null,"Duodiscus X 750kg","BB",""]
["Michael Fik",1972,"M","Strakonice","CZ/C1","PMRg 2020 - Kombi","CZ",2020,4,3722,0.92,8322,7656,"x",null,"Ventus C 17,6","GE",""]
["Hana Treslova",1991,"F","Raná","CZ/C2","PMRg 2020 - Kombi","CZ",2020,5,3460,0.92,7617,7008,null,null,"Ventus 2ax","AX",""]
["Jaromir Macoun",1999,"M","Jičín","CZ/C2","PMRg 2020 - Kombi","CZ",2020,6,3413,0.92,7267,6686,null,null,"LS 8","EU","Junior v roce 2022"]
["Jaromir Pauer",1974,"M","Hosín","CZ/C1","PMRg 2020 - Kombi","CZ",2020,7,3293,0.92,6796,6252,"x",null,"Ventus C 17,6m","XE",""]
["Karel Novak",1993,"M","Mladá Boleslav","CZ/C1","PMRg 2020 - Kombi","CZ",2020,8,3255,0.92,6461,5944,null,null,"JS-3","XM",""]
["Jaroslav Potmesil",1964,"M","Zbraslavice","CZ/C1","PMRg 2020 - Kombi","CZ",2020,9,2273,0.92,4568,4203,"x",null,"304TS TwinShark","DL",""]
["Radek Zima 78",1978,"M","Hodkovice","CZ/C2","PMRg 2020 - Kombi","CZ",2020,10,1751,0.92,3434,3159,null,null,"Ventus b 16,6m 430kg WL","7F",""]
["Jan Kohout",1970,"M","Žamberk","CZ/C2","PMRg 2020 - Kombi","CZ",2020,11,1320,0.92,{"$f":"ROUND(J1719/MAX($J$1709:$J$1720)*10000*0.7+(MAX($I$1709:$I$1720)-I1719)/(MAX($I$1709:$I$1720)-1)*10000*0.3,0)","v":2450},2254,null,null,"LS8a","SK",""]
["Radoslav Pur",1973,"M","Hosín","CZ/C1","PMRg 2020 - Kombi","CZ",2020,12,1147,0.92,{"$f":"ROUND(J1720/MAX($J$1709:$J$1720)*10000*0.7+(MAX($I$1709:$I$1720)-I1720)/(MAX($I$1709:$I$1720)-1)*10000*0.3,0)","v":1892},1741,"x",null,"DG-200","EK",""]
["Ivan Novak",{"$f":"VLOOKUP(A1721,Pilot,2,0)","v":1962},"M","Mladá Boleslav","CZ/C1","PMSR 2020 - Klub","SK",2020,1,7906,0.93500000000000005,{"$f":"ROUND(J1721/MAX($J$1721:$J$1745)*10000*0.7+(MAX($I$1721:$I$1745)-I1721)/(MAX($I$1721:$I$1745)-1)*10000*0.3,0)","v":10000},9350,"x",null,"LS-4","IX",""]
["Josef Kozar",null,"M","AK MARTIN",null,"PMSR 2020 - Klub","SK",2020,2,7804,0.93500000000000005,9785,9149,null,null,"LS1-f","MF","Není v databázi"]
["Milan Surovcik Ml.",null,"M","AK ZILINA",null,"PMSR 2020 - Klub","SK",2020,3,7612,0.93500000000000005,9490,8873,null,null,"C-101A Pegase","EL","Není v databázi"]
["Samuel Posluch",null,"M","AK MATRIN",null,"PMSR 2020 - Klub","SK",2020,4,7312,0.93500000000000005,9099,8508,null,null,"C101A Pegase","ZD","Není v databázi"]
["Jan Kovalcik",null,"M","AK BRATISLAVA",null,"PMSR 2020 - Klub","SK",2020,5,7299,0.93500000000000005,8963,8380,null,null,"C101A Pegase","OI","Není v databázi"]
["Martin Jurovic",null,"M","AK BRATISLAVA",null,"PMSR 2020 - Klub","SK",2020,6,7222,0.93500000000000005,8769,8199,null,null,"C101A Pegase","J2","Není v databázi"]
["Edmund Schuller",null,"M","AK LUCENEC",null,"PMSR 2020 - Klub","SK",2020,7,7204,0.93500000000000005,8628,8067,null,null,"ASW 24WL","ZS","Není v databázi"]
["Roman Petro",null,"M","AK NITRA",null,"PMSR 2020 - Klub","SK",2020,8,7064,0.93500000000000005,8379,7834,null,null,"C101A Pegase",101,"Není v databázi"]
["Tibor Noga",null,"M","SGC Martin",null,"PMSR 2020 - Klub","SK",2020,9,6987,0.93500000000000005,8186,7654,null,null,"ASW 19 B","A4","Není v databázi"]
["Martin Sabla",null,"M","AK Sp. Nova Ves",null,"PMSR 2020 - Klub","SK",2020,10,6938,0.93500000000000005,8018,7497,null,null,"Std. Cirrus","SA","Není v databázi"]
["Simon Siska",null,"M","AK Martin",null,"PMSR 2020 - Klub","SK",2020,11,6828,0.93500000000000005,7796,7289,null,null,"Ls-4","BM","Není v databázi"]
["Marek Straka",null,"M","AK TRENCIN",null,"PMSR 2020 - Klub","SK",2020,12,6743,0.93500000000000005,7595,7101,null,null,"LS 3","AI","Není v databázi"]
["Tibor Fratrik",null,"M","SGC Martin",null,"PMSR 2020 - Klub","SK",2020,13,6473,0.93500000000000005,7231,6761,null,null,"ASW-19","A1","Není v databázi"]
["Bohumil Vasek",null,"M","AK PARTIZANSKE",null,"PMSR 2020 - Klub","SK",2020,14,6399,0.93500000000000005,7041,6583,null,null,"C101AP Pegase","LL","Není v databázi"]
["Karol Benedikovic",null,"M","AIR SYMPATIA",null,"PMSR 2020 - Klub","SK",2020,15,6178,0.93500000000000005,6720,6283,null,null,"Std.Cirrus","AM","Není v databázi"]
["Jakub Kos",null,"M","GOrska Szkoła Szybowcowa Zar",null,"PMSR 2020 - Klub","SK",2020,16,6101,0.93500000000000005,6527,6103,null,null,"SZD-48 Jantar Standard 3","ZAR","Není v databázi"]
["Milos Srank",null,"M","AK NOVE ZAMKY",null,"PMSR 2020 - Klub","SK",2020,17,5845,0.93500000000000005,6175,5774,null,null,"ASW-24WL","CK","Není v databázi"]
["Jan Hlinka",null,"M","AK MARTIN",null,"PMSR 2020 - Klub","SK",2020,18,5790,0.93500000000000005,6001,5611,null,null,"C101A Pegase","MT","Není v databázi"]
["Jozef Sopirjak",null,"M","AK KOSICE",null,"PMSR 2020 - Klub","SK",2020,19,4965,0.93500000000000005,5146,4812,null,null,"DG 101G ELAN","SX","Není v databázi"]
["Lubomir Belusko",null,"M","AK PRESOV",null,"PMSR 2020 - Klub","SK",2020,20,4876,0.93500000000000005,4942,4621,null,null,"Centrair 201B Marianne","AMI","Není v databázi"]
["Anton Zelanaj",null,"M","AK NOVE ZAMKY",null,"PMSR 2020 - Klub","SK",2020,21,4589,0.93500000000000005,4563,4266,null,null,"ASW 15B","TZ","Není v databázi"]
["Erik Mikulas",null,"M","AK PARTIZANSKE",null,"PMSR 2020 - Klub","SK",2020,22,4532,0.93500000000000005,4388,4103,null,null,"LS 1 f","LS","Není v databázi"]
["Marek Seman",null,"M","AK PRESOV",null,"PMSR 2020 - Klub","SK",2020,23,4284,0.93500000000000005,4043,3780,null,null,"C101-D Pegase","HS","Není v databázi"]
["Branislav Studienka",null,"M","AK TRENCIN",null,"PMSR 2020 - Klub","SK",2020,24,4000,0.93500000000000005,3667,3429,null,null,"Std. Astir III",72,"Není v databázi"]
["Alberto Rizzi",null,"M","AK HOLIC",null,"PMSR 2020 - Klub","SK",2020,25,2090,0.93500000000000005,1850,1730,null,null,"DG-202","SJ","Není v databázi"]
["Maros Divok",null,"M","AK SPISKA NOVA VES",null,"PMSR 2020 - Kombi 15m","SK",2020,1,7678,0.93500000000000005,{"$f":"ROUND(J1746/MAX($J$1746:$J$1756)*10000*0.7+(MAX($I$1746:$I$1756)-I1746)/(MAX($I$1746:$I$1756)-1)*10000*0.3,0)","v":10000},9350,null,null,"Discus","3D","Není v databázi"]
["Dana Novakova",{"$f":"VLOOKUP(A1747,Pilot,2,0)","v":1965},{"$f":"VLOOKUP(A1747,Pilot,5,0)","v":"F"},{"$f":"VLOOKUP(A1747,Pilot,3,0)","v":"Mladá Boleslav"},{"$f":"VLOOKUP(A1747,Pilot,4,0)","v":"CZ/C1"},"PMSR 2020 - Kombi 15m","SK",2020,2,7608,0.93500000000000005,9636,9010,"x","x","LS-8","AU",""]
["Viktoria Divokova",null,"F","Spišska Nová Ves",null,"PMSR 2020 - Kombi 15m","SK",2020,3,7070,0.93500000000000005,8846,8271,null,null,"Discus 2b","DI","Není v databázi"]
["Jana Treslova",{"$f":"VLOOKUP(A1749,Pilot,2,0)","v":1963},{"$f":"VLOOKUP(A1749,Pilot,5,0)","v":"F"},{"$f":"VLOOKUP(A1749,Pilot,3,0)","v":"Raná"},{"$f":"VLOOKUP(A1749,Pilot,4,0)","v":"CZ/C2"},"PMSR 2020 - Kombi 15m","SK",2020,4,6939,0.93500000000000005,8426,7878,"x","x","Discus 2","GX",""]
["Dominik Jancik",null,"M","Nitra",null,"PMSR 2020 - Kombi 15m","SK",2020,5,6804,0.93500000000000005,8003,7483,null,null,"LS 8","SI","Není v databázi"]
["Jiri Kusbach",{"$f":"VLOOKUP(A1751,Pilot,2,0)","v":1959},{"$f":"VLOOKUP(A1751,Pilot,5,0)","v":"M"},{"$f":"VLOOKUP(A1751,Pilot,3,0)","v":"Luhačovice"},{"$f":"VLOOKUP(A1751,Pilot,4,0)","v":"CZ/M"},"PMSR 2020 - Kombi 15m","SK",2020,6,6723,0.93500000000000005,7629,7133,null,null,"KKB 15 FES","B",""]
["Tibor Arpas",null,"M","AK NITRA",null,"PMSR 2020 - Kombi 15m","SK",2020,7,6502,0.93500000000000005,7128,6665,null,null,"LS 8","TC","Není v databázi"]
["Slavomir Valecko",{"$f":"VLOOKUP(A1753,Pilot,2,0)","v":1960},{"$f":"VLOOKUP(A1753,Pilot,5,0)","v":"M"},{"$f":"VLOOKUP(A1753,Pilot,3,0)","v":"Hranice"},{"$f":"VLOOKUP(A1753,Pilot,4,0)","v":"CZ/M"},"PMSR 2020 - Kombi 15m","SK",2020,8,6421,0.93500000000000005,6754,6315,"x",null,"Discus CS","IYB",""]
["Peter Janoska",null,"M","AK NITRA",null,"PMSR 2020 - Kombi 15m","SK",2020,9,5823,0.93500000000000005,5909,5525,null,null,"LS- 6c/15m","N6","Není v databázi"]
["Oldrich Bartonik",{"$f":"VLOOKUP(A1755,Pilot,2,0)","v":1961},{"$f":"VLOOKUP(A1755,Pilot,5,0)","v":"M"},{"$f":"VLOOKUP(A1755,Pilot,3,0)","v":"Luhačovice"},{"$f":"VLOOKUP(A1755,Pilot,4,0)","v":"CZ/M"},"PMSR 2020 - Kombi 15m","SK",2020,10,4833,0.93500000000000005,4706,4400,"x",null,"KKB-15","N1",""]
["Jozef Pesko",null,"M","AK NITRA",null,"PMSR 2020 - Kombi 15m","SK",2020,11,4359,0.93500000000000005,3974,3716,null,null,"LS 8t","HM","Není v databázi"]
["Roman Mracek",{"$f":"VLOOKUP(A1757,Pilot,2,0)","v":1980},{"$f":"VLOOKUP(A1757,Pilot,5,0)","v":"M"},{"$f":"VLOOKUP(A1757,Pilot,3,0)","v":"Letkov"},{"$f":"VLOOKUP(A1757,Pilot,4,0)","v":"CZ/C1"},"PMSR 2020 - Kombi Open","SK",2020,1,7750,0.93500000000000005,{"$f":"ROUND(J1757/MAX($J$1757:$J$1776)*10000*0.7+(MAX($I$1757:$I$1776)-I1757)/(MAX($I$1757:$I$1776)-1)*10000*0.3,0)","v":10000},9350,null,null,"LS8-18","JB",""]
["Vladimir Foltin",null,"M","AK NITRA",null,"PMSR 2020 - Kombi Open","SK",2020,2,7325,0.93500000000000005,9449,8835,null,null,"JS3 18m",3,"Není v databázi"]
["Tomas Bobok",null,"M","Prievidza",null,"PMSR 2020 - Kombi Open","SK",2020,3,6739,0.93500000000000005,8754,8185,null,null,"Discus 2ct","AL","Není v databázi"]
["Lukas Benedikt",null,"M","AK Trnava",null,"PMSR 2020 - Kombi Open","SK",2020,4,6516,0.93500000000000005,8385,7840,null,null,"Ventus 3 fes","LB","Není v databázi"]
["Kollar & KROMKA",null,"M","AK POPRAD",null,"PMSR 2020 - Kombi Open","SK",2020,5,5900,0.93500000000000005,7662,7164,null,null,"Arcus M","TA3","Není v databázi"]
["Jan Divok",null,"M","AK SPISKA NOVA VES",null,"PMSR 2020 - Kombi Open","SK",2020,6,5768,0.93500000000000005,7376,6897,null,null,"Discus 2cT","DJ","Není v databázi"]
["Aldo Cernezzi",null,"M","Varese",null,"PMSR 2020 - Kombi Open","SK",2020,7,5684,0.93500000000000005,7134,6670,null,null,"DG800B","TI","Není v databázi"]
["Gabriela Belakova",null,"F","AK PRIEVIDZA",null,"PMSR 2020 - Kombi Open","SK",2020,8,5627,0.93500000000000005,6916,6466,null,null,"Discus 2cT","EF","Není v databázi"]
["Jakubcak & SULIROVA",null,null,"SGC MARTIN",null,"PMSR 2020 - Kombi Open","SK",2020,9,5615,0.93500000000000005,6738,6300,null,null,"Arcus M","CÁR","Není v databázi"]
["Eduard Niko",null,"M","Aeroclub Prievidza",null,"PMSR 2020 - Kombi Open","SK",2020,10,5472,0.93500000000000005,6442,6023,null,null,"Discus 2ct","AE","Není v databázi"]
["Skrabalek & Simoncic",null,"M","AK BRATISLAVA",null,"PMSR 2020 - Kombi Open","SK",2020,11,5225,0.93500000000000005,6053,5660,null,null,"Duo Discus","2X","Není v databázi"]
["Petr Krejcirik",{"$f":"VLOOKUP(A1768,Pilot,2,0)","v":1960},{"$f":"VLOOKUP(A1768,Pilot,5,0)","v":"M"},{"$f":"VLOOKUP(A1768,Pilot,3,0)","v":"Hranice"},{"$f":"VLOOKUP(A1768,Pilot,4,0)","v":"CZ/M"},"PMSR 2020 - Kombi Open","SK",2020,12,4716,{"$f":"VLOOKUP(F1768,Soutez,12,0)","v":0.93500000000000005},5426,5073,null,null,"JS 1 Revelation","ZF",{"$f":"IF(ISERROR(VLOOKUP(A1768,Pilot,6,0)),\"Není v databázi\",VLOOKUP(A1768,Pilot,6,0))","v":""}]
["Pavol Cerny",null,"M","SGC Martin",null,"PMSR 2020 - Kombi Open","SK",2020,13,4681,0.93500000000000005,5228,4888,null,null,"Ventus 2CxT","FR","Není v databázi"]
["Benedikt Laho",null,"M","AK TRNAVA",null,"PMSR 2020 - Kombi Open","SK",2020,14,4430,0.93500000000000005,4835,4521,null,null,"Discus 2ct","JH","Není v databázi"]
["Peter Abonyi",null,"M","AK RUZOMBEROK",null,"PMSR 2020 - Kombi Open","SK",2020,15,4253,0.93500000000000005,4508,{"$f":"ROUND(K1771*L1771,0)","v":4215},null,null,"Ventus C; 17,6m","PA","Není v databázi"]
["Hupka & HOLAK",null,"M","AK NITRA",null,"PMSR 2020 - Kombi Open","SK",2020,16,4143,0.93500000000000005,4242,3966,null,null,"DG-1000T","NIT","Není v databázi"]
["Lubomir Doupal",{"$f":"VLOOKUP(A1773,Pilot,2,0)","v":1975},{"$f":"VLOOKUP(A1773,Pilot,5,0)","v":"M"},{"$f":"VLOOKUP(A1773,Pilot,3,0)","v":"Kroměříž"},{"$f":"VLOOKUP(A1773,Pilot,4,0)","v":"CZ/M"},"PMSR 2020 - Kombi Open","SK",2020,17,3725,0.93500000000000005,3698,3458,"x",null,"VENTUS 2cxT","LD",""]
["Milan Lojdl",null,"M","AK MARTIN",null,"PMSR 2020 - Kombi Open","SK",2020,18,3416,0.93500000000000005,3252,3041,null,null,"VENTUS 2cxT","MJ1","Není v databázi"]
["Peter Pokorny",null,"M","AK BRATISLAVA",null,"PMSR 2020 - Kombi Open","SK",2020,19,0,0.93500000000000005,0,0,null,null,"ASG29E","9E","Není v databázi"]
["Petr Hotovy",{"$f":"VLOOKUP(A1776,Pilot,2,0)","v":1958},{"$f":"VLOOKUP(A1776,Pilot,5,0)","v":"M"},{"$f":"VLOOKUP(A1776,Pilot,3,0)","v":"Česká Lípa"},{"$f":"VLOOKUP(A1776,Pilot,4,0)","v":"CZ/C2"},"PMSR 2020 - Kombi Open","SK",2020,19,0,0.93500000000000005,0,0,null,null,"JS1 B TJ","IGC",""]
["Michal Coufal",1999,"M","Jičín","CZ/C2","Pohár Českého Ráje 2020 - Kombi","CZ",2020,1,1855,0,{"$f":"ROUND(J1777/MAX($J$1777:$J$1786)*10000*0.7+(MAX($I$1777:$I$1786)-I1777)/(MAX($I$1777:$I$1786)-1)*10000*0.3,0)","v":10000},0,null,null,"Std. Cirrus","FS","Junior v roce 2022"]
["Petr Tax",1968,"M","Jičín","CZ/C2","Pohár Českého Ráje 2020 - Kombi","CZ",2020,2,1562,0,{"$f":"ROUND(J1778/MAX($J$1777:$J$1786)*10000*0.7+(MAX($I$1777:$I$1786)-I1778)/(MAX($I$1777:$I$1786)-1)*10000*0.3,0)","v":8519},0,null,null,"Terej","VIP",""]
["Zbynek Fuksa",1956,"M","Jičín","CZ/C2","Pohár Českého Ráje 2020 - Kombi","CZ",2020,3,1437,0,{"$f":"ROUND(J1779/MAX($J$1777:$J$1786)*10000*0.7+(MAX($I$1777:$I$1786)-I1779)/(MAX($I$1777:$I$1786)-1)*10000*0.3,0)","v":7673},0,null,null,"Duo Discus XL",88,""]
["Radek Tobolka",1977,"M","Jičín","CZ/C2","Pohár Českého Ráje 2020 - Kombi","CZ",2020,4,1244,0,{"$f":"ROUND(J1780/MAX($J$1777:$J$1786)*10000*0.7+(MAX($I$1777:$I$1786)-I1780)/(MAX($I$1777:$I$1786)-1)*10000*0.3,0)","v":6569},0,null,null,"Std. cirrus","XL",""]
["Petr Kyzivat",1970,"M","Jičín","CZ/C2","Pohár Českého Ráje 2020 - Kombi","CZ",2020,5,1156,0,{"$f":"ROUND(J1781/MAX($J$1777:$J$1786)*10000*0.7+(MAX($I$1777:$I$1786)-I1781)/(MAX($I$1777:$I$1786)-1)*10000*0.3,0)","v":5862},0,null,null,"std. cirrus","SC",""]
["Lukas Jezek",{"$f":"VLOOKUP(A1782,Pilot,2,0)","v":1975},"M",{"$f":"VLOOKUP(A1782,Pilot,3,0)","v":"Jičín"},{"$f":"VLOOKUP(A1782,Pilot,4,0)","v":"CZ/C2"},"Pohár Českého Ráje 2020 - Kombi","CZ",2020,"HC",1142,0,null,{"$f":"ROUND(K1782*L1782,0)","v":0},null,null,"L-13",null,{"$f":"IF(ISERROR(VLOOKUP(A1782,Pilot,6,0)),\"Není v databázi\",VLOOKUP(A1782,Pilot,6,0))","v":""}]
["Ilja Kopacek",1943,"M","Jičín","CZ/C2","Pohár Českého Ráje 2020 - Kombi","CZ",2020,6,1091,0,{"$f":"ROUND(J1783/MAX($J$1777:$J$1786)*10000*0.7+(MAX($I$1777:$I$1786)-I1783)/(MAX($I$1777:$I$1786)-1)*10000*0.3,0)","v":5242},0,null,null,"Janus 18.2m","JC",""]
["Pavel Kyzivat",1973,"M","Zbraslavice","CZ/C1","Pohár Českého Ráje 2020 - Kombi","CZ",2020,7,561,0,{"$f":"ROUND(J1784/MAX($J$1777:$J$1786)*10000*0.7+(MAX($I$1777:$I$1786)-I1784)/(MAX($I$1777:$I$1786)-1)*10000*0.3,0)","v":2867},0,null,null,"ASW 19","PM",""]
["Miroslav Trybucek",1965,"M","Jičín","CZ/C2","Pohár Českého Ráje 2020 - Kombi","CZ",2020,8,548,0,{"$f":"ROUND(J1785/MAX($J$1777:$J$1786)*10000*0.7+(MAX($I$1777:$I$1786)-I1785)/(MAX($I$1777:$I$1786)-1)*10000*0.3,0)","v":2443},0,null,null,"Ventus 2cM/18m","OZ",""]
["Jiri Pixa",1968,"M","Slaný","CZ/C1","Pohár Českého Ráje 2020 - Kombi","CZ",2020,9,184,0,{"$f":"ROUND(J1786/MAX($J$1777:$J$1786)*10000*0.7+(MAX($I$1777:$I$1786)-I1786)/(MAX($I$1777:$I$1786)-1)*10000*0.3,0)","v":694},0,null,null,"VSO-10","G9",""]
["Jan Ratz",1987,"M","Zbraslavice","CZ/C1","Pozdní sběr 2020 - Kombi","CZ",2020,1,524,0,{"$f":"ROUND(J1787/MAX($J$1787:$J$1793)*10000*0.7+(MAX($I$1787:$I$1793)-I1787)/(MAX($I$1787:$I$1793)-1)*10000*0.3,0)","v":10000},0,null,null,"Cirrus Std.","REX",""]
["Jan Smekal",1976,"M","Zbraslavice","CZ/C1","Pozdní sběr 2020 - Kombi","CZ",2020,2,396,0,7790,0,null,null,"ASW 20","NW",""]
["Martin Grmela",1989,"M","Zbraslavice","CZ/C1","Pozdní sběr 2020 - Kombi","CZ",2020,3,306,0,6088,0,null,null,"ASW 19","FY",""]
["Jakub Kmosek",1978,"M","Zbraslavice","CZ/C1","Pozdní sběr 2020 - Kombi","CZ",2020,4,302,0,5534,0,null,null,"Std. Cirrus","ST",""]
["Alena Netusilova",1970,"F","Zbraslavice","CZ/C1","Pozdní sběr 2020 - Kombi","CZ",2020,5,279,0,4727,0,null,null,"ASG 29E 18m","AJ",""]
["Petr Havelka",1997,"M","Zbraslavice","CZ/C1","Pozdní sběr 2020 - Kombi","CZ",2020,6,159,0,2624,0,null,null,"ASW 19","IS","Junior v roce 2022"]
["Tomas Turek",1988,"M","Zbraslavice","CZ/C1","Pozdní sběr 2020 - Kombi","CZ",2020,7,94,0,1256,0,null,null,"Std. Cirrus","C1",""]
["Robert Hribersek",null,"M","Maribor","SI","Ranský Pohár 2020 - Kombi","CZ",2020,1,3363,0.76,{"$f":"ROUND(J1794/MAX($J$1794:$J$1817)*10000*0.7+(MAX($I$1794:$I$1817)-I1794)/(MAX($I$1794:$I$1817)-1)*10000*0.3,0)","v":10000},7600,null,null,"Std. Cirrus 75","TR","Není v databázi"]
["Jiri Maier 99",{"$f":"VLOOKUP(A1795,Pilot,2,0)","v":1999},{"$f":"VLOOKUP(A1795,Pilot,5,0)","v":"M"},{"$f":"VLOOKUP(A1795,Pilot,3,0)","v":"Raná"},{"$f":"VLOOKUP(A1795,Pilot,4,0)","v":"CZ/C2"},"Ranský Pohár 2020 - Kombi","CZ",2020,2,3113,0.76,{"$f":"ROUND(J1795/MAX($J$1794:$J$1817)*10000*0.7+(MAX($I$1794:$I$1817)-I1795)/(MAX($I$1794:$I$1817)-1)*10000*0.3,0)","v":9349},7105,"x",null,"Discus bT WL","TAL","Junior v roce 2022"]
["Martin Zvonicek",1972,"M","Raná","CZ/C2","Ranský Pohár 2020 - Kombi","CZ",2020,3,3096,0.76,9183,6979,"x",null,"ASW 15","EET",""]
["Jan Smaha",1958,"M","Česká Lípa","CZ/C2","Ranský Pohár 2020 - Kombi","CZ",2020,4,3022,0.76,8899,6763,"x",null,"ASW 15B","CW",""]
["Tomas Novak",1974,"M","Česká Lípa","CZ/C2","Ranský Pohár 2020 - Kombi","CZ",2020,5,2956,0.76,8631,6560,"x",null,"Std. Cirrus","CV",""]
["Krystof Mimra",1992,"M","Most","CZ/C2","Ranský Pohár 2020 - Kombi","CZ",2020,6,2866,0.76,8313,6318,"x",null,"VSO-10",51,""]
["Jiri Maier 66",1966,"M","Raná","CZ/C2","Ranský Pohár 2020 - Kombi","CZ",2020,7,2791,0.76,8027,6101,"x",null,"ASW 24E","JM",""]
["Ludek Souhrada",1974,"M","Raná","CZ/C2","Ranský Pohár 2020 - Kombi","CZ",2020,8,2634,0.76,7570,5753,"x",null,"Janus 18.2m","RA",""]
["Dalibor Pek",1968,"M","Raná","CZ/C2","Ranský Pohár 2020 - Kombi","CZ",2020,9,2630,0.76,7431,5648,"x",null,"Std. Cirrus","GP",""]
["Jaroslav Vancata",1985,"M","Raná","CZ/C2","Ranský Pohár 2020 - Kombi","CZ",2020,10,2609,0.76,7257,5515,"x",null,"LS 7 WL","2B",""]
["Eduard Svoboda",1957,"M","Raná","CZ/C2","Ranský Pohár 2020 - Kombi","CZ",2020,11,2542,0.76,6987,5310,"x",null,"ASW 15B","HL",""]
["Michal Hemrle",1974,"M","Česká Lípa","CZ/C2","Ranský Pohár 2020 - Kombi","CZ",2020,12,2332,0.76,6419,4878,"x",null,"ASG 29E","ET",""]
["Pavel Derda",1952,"M","Dvůr Králové","CZ/C2","Ranský Pohár 2020 - Kombi","CZ",2020,13,2219,0.76,6054,4601,null,null,"Cirrus VTC 17.74","VE",""]
["Tomas Mezera",1973,"M","Raná","CZ/C2","Ranský Pohár 2020 - Kombi","CZ",2020,14,2064,0.76,{"$f":"ROUND(J1807/MAX($J$1794:$J$1817)*10000*0.7+(MAX($I$1794:$I$1817)-I1807)/(MAX($I$1794:$I$1817)-1)*10000*0.3,0)","v":5601},4257,null,null,"VSO-10",59,""]
["Sarka Lochova",1966,"F","Šumperk","CZ/M","Ranský Pohár 2020 - Kombi","CZ",2020,15,2050,0.76,5441,4135,"x","x","M-35",35,""]
["Jana Mezerova",1975,"F","Raná","CZ/C2","Ranský Pohár 2020 - Kombi","CZ",2020,16,1992,0.76,5190,3944,"x","x","LS 1-0","AL",""]
["Jan Sustr 76",1976,"M","Raná","CZ/C2","Ranský Pohár 2020 - Kombi","CZ",2020,17,1940,0.76,4951,3763,"x",null,"DG 300","WL",""]
["Jaromir Vlk",1959,"M","Šumperk","CZ/M","Ranský Pohár 2020 - Kombi","CZ",2020,18,1516,0.76,3938,2993,null,null,"ASW 15B","R5",""]
["Zbynek Bican",1961,"M","Raná","CZ/C2","Ranský Pohár 2020 - Kombi","CZ",2020,19,1484,0.76,3741,2843,"x",null,"LS 3","H1",""]
["Jaromir Hendrych",1954,"M","Raná","CZ/C2","Ranský Pohár 2020 - Kombi","CZ",2020,20,1463,0.76,3567,2711,null,null,"M-35",36,""]
["Tereza Krcilova Spalenkova",1981,"F","Raná","CZ/C2","Ranský Pohár 2020 - Kombi","CZ",2020,21,1448,0.76,3405,2588,"x","x","ASW 15","KA",""]
["Vojtech Kostejn",1974,"M","Česká Lípa","CZ/C2","Ranský Pohár 2020 - Kombi","CZ",2020,22,1444,0.76,3267,2483,"x",null,"ASW 15B","I",""]
["Stanislav Vrabec",1975,"M","Česká Lípa","CZ/C2","Ranský Pohár 2020 - Kombi","CZ",2020,23,1266,0.76,2766,2102,"x",null,"G-102 Astir CS","X",""]
["David Krcil",1976,"M","Raná","CZ/C2","Ranský Pohár 2020 - Kombi","CZ",2020,24,1011,0.76,2104,1599,"x",null,"ASW 15B","BE",""]
["Rostislav Broz",1968,"M","Vrchlabí","CZ/C2","Safari 2020 - Duo Kombi","CZ",2020,1,632,0,{"$f":"ROUND(J1818/MAX($J$1818:$J$1831)*10000*0.7+(MAX($I$1818:$I$1831)-I1818)/(MAX($I$1818:$I$1831)-1)*10000*0.3,0)","v":10000},0,null,null,"L13 Blanik","V",""]
["Vladimir Prihoda",1953,"M","Kralupy","CZ/C1","Safari 2020 - Duo Kombi","CZ",2020,1,632,0,{"$f":"ROUND(J1819/MAX($J$1818:$J$1831)*10000*0.7+(MAX($I$1818:$I$1831)-I1819)/(MAX($I$1818:$I$1831)-1)*10000*0.3,0)","v":10000},0,null,null,"L-23 Super Blanik dvoji","X",""]
["Petr Hosek",2001,"M","Beroun","CZ/C1","Safari 2020 - Duo Kombi","CZ",2020,3,591,0,9000,0,null,null,"L13 Blanik","BU","Junior v roce 2022"]
["Jan Hybner",1977,"M","Liberec","CZ/C2","Safari 2020 - Duo Kombi","CZ",2020,4,493,0,7642,0,null,null,"L-23 Super Blanik",23,""]
["Petr Panek",1975,"M","Dvůr Králové","CZ/C2","Safari 2020 - Duo Kombi","CZ",2020,5,490,0,7336,0,null,null,"L-23 Super Blanik","Y",""]
["Jaroslav Rapac",1977,"M","Dvůr Králové","CZ/C2","Safari 2020 - Duo Kombi","CZ",2020,6,443,0,6543,0,null,null,"L-23 Super Blanik","KM",""]
["Vojtech Pivonka",1976,"M","Vrchlabí","CZ/C2","Safari 2020 - Duo Kombi","CZ",2020,7,429,0,6115,0,null,null,"L-13 Blanik","AY",""]
["Martin Sehnoutka",1970,"M","Dvůr Králové","CZ/C2","Safari 2020 - Duo Kombi","CZ",2020,8,369,0,{"$f":"ROUND(J1825/MAX($J$1818:$J$1831)*10000*0.7+(MAX($I$1818:$I$1831)-I1825)/(MAX($I$1818:$I$1831)-1)*10000*0.3,0)","v":5178},0,null,null,"L 13 Blanik","VF",""]
["Vladislav Cadsky",null,"M",null,"SK","Safari 2020 - Duo Kombi","CZ",2020,9,257,0,3665,0,null,null,"L-13 Blanik","FI",""]
["Kuk",{"$f":"VLOOKUP(A1827,Pilot,2,0)","v":1900},{"$f":"VLOOKUP(A1827,Pilot,5,0)","v":"M"},{"$f":"VLOOKUP(A1827,Pilot,3,0)","v":"Dvůr Králové"},{"$f":"VLOOKUP(A1827,Pilot,4,0)","v":"CZ/C2"},"Safari 2020 - Duo Kombi","CZ",2020,10,210,0,2871,0,null,null,"L-13 Blanik dvoji","ET",""]
["Martin Markl",1960,"M","Kolín","CZ/C1","Safari 2020 - Duo Kombi","CZ",2020,11,87,0,1236,0,null,null,"L 13 Blanik dvoji","FL",""]
["Martin Benesovsky",1900,"M","Kolín","CZ/C1","Safari 2020 - Duo Kombi","CZ",2020,12,0,0,0,0,null,null,"L 13 Blanik dvoji","FI",""]
["Pavel Kuriscak",1987,"M","Beroun","CZ/C1","Safari 2020 - Duo Kombi","CZ",2020,12,0,0,0,0,null,null,"L13 Blanik","BU",""]
["Jan Karnik",1976,"M","Letkov","CZ/C1","Safari 2020 - Duo Kombi","CZ",2020,12,0,0,0,0,null,null,"L-23 Super Blanik","LR",""]
["Petr Lonsky",1965,"M","Toužim","CZ/C1","Safari 2020 - Klub","CZ",2020,1,1919,{"$f":"VLOOKUP(F1832,Soutez,12,0)","v":0.75},{"$f":"ROUND(J1832/MAX($J$1832:$J$1857)*10000*0.7+(MAX($I$1832:$I$1857)-I1832)/(MAX($I$1832:$I$1857)-1)*10000*0.3,0)","v":10000},7500,"x",null,"Cirrus VTC","JP",{"$f":"IF(ISERROR(VLOOKUP(A1832,Pilot,6,0)),\"Není v databázi\",VLOOKUP(A1832,Pilot,6,0))","v":""}]
["Marek Kornec",1957,"M","Dvůr Králové","CZ/C2","Safari 2020 - Klub","CZ",2020,2,1911,0.75,{"$f":"ROUND(J1833/MAX($J$1832:$J$1857)*10000*0.7+(MAX($I$1832:$I$1857)-I1833)/(MAX($I$1832:$I$1857)-1)*10000*0.3,0)","v":9851},7388,"x",null,"Janus C (FG)","KSS",""]
["David Tejnora",1982,"M","Jaroměř","CZ/C2","Safari 2020 - Klub","CZ",2020,3,1904,0.75,9705,7279,"x",null,"Std. Cirrus",17,""]
["Jan Hybner",1977,"M","Liberec","CZ/C2","Safari 2020 - Klub","CZ",2020,4,1868,0.75,9454,{"$f":"ROUND(K1835*L1835,0)","v":7091},"x",null,"HpH 304cz /15m","LB",""]
["Wolfgang Sluka",1942,"M","Liberec","CZ/C2","Safari 2020 - Klub","CZ",2020,5,1847,0.75,9257,6943,"x",null,"Std. Cirrus","KA",""]
["Milan Dvorak",1965,"M","Liberec","CZ/C2","Safari 2020 - Klub","CZ",2020,6,1675,0.75,8510,6383,"x",null,"HpH 304cz /15m","IH",""]
["Tomas Kulhavy",2001,"M","Liberec","CZ/C2","Safari 2020 - Klub","CZ",2020,7,1552,0.75,7941,5956,null,null,"VSO-10",78,"Junior v roce 2022"]
["Martin Cicvarek",1966,"M","Liberec","CZ/C2","Safari 2020 - Klub","CZ",2020,8,1467,0.75,7511,5633,"x",null,"DG-400 15m","AC",""]
["Pavel Derda",1952,"M","Dvůr Králové","CZ/C2","Safari 2020 - Klub","CZ",2020,9,1382,0.75,7081,5311,"x",null,"Cirrus VTC","VE",""]
["Jan Zezula",1979,"M","Letňany","CZ/C1","Safari 2020 - Klub","CZ",2020,10,1148,0.75,6108,4581,"x",null,"ASW-19B","HD",""]
["Tomas Hynek",2002,"M","Dvůr Králové","CZ/C2","Safari 2020 - Klub","CZ",2020,11,1047,0.75,5619,4214,null,null,"DG-200 15m","IQ","Junior v roce 2022"]
["Marek Malinsky",1985,"M","Chrudim","CZ/C2","Safari 2020 - Klub","CZ",2020,12,959,0.75,5178,3884,"x",null,"Std. Cirrus","EX",""]
["Vaclav Sehnal",1962,"M","Kolín","CZ/C1","Safari 2020 - Klub","CZ",2020,13,936,0.75,4974,3731,"x",null,"ASK-21 dvojí","E7",""]
["Artur Szlachta",null,"M","KSS/LSV Zellhausen","DE","Safari 2020 - Klub","CZ",2020,14,920,0.75,4796,3597,null,null,"LS-4","V4","Není v databázi"]
["Jaroslav Sima",{"$f":"VLOOKUP(A1846,Pilot,2,0)","v":1972},{"$f":"VLOOKUP(A1846,Pilot,5,0)","v":"M"},{"$f":"VLOOKUP(A1846,Pilot,3,0)","v":"Chomutov"},{"$f":"VLOOKUP(A1846,Pilot,4,0)","v":"CZ/C2"},"Safari 2020 - Klub","CZ",2020,15,917,0.75,4665,3499,"x",null,"G-104 Speed Astir II","V2",""]
["Petr Velek",{"$f":"VLOOKUP(A1847,Pilot,2,0)","v":1975},{"$f":"VLOOKUP(A1847,Pilot,5,0)","v":"M"},{"$f":"VLOOKUP(A1847,Pilot,3,0)","v":"GAC Benešov"},{"$f":"VLOOKUP(A1847,Pilot,4,0)","v":"CZ/C1"},"Safari 2020 - Klub","CZ",2020,16,910,0.75,4519,3389,"x",null,"DG-400 15m","HX",""]
["Jerzy Mikolajczyk",null,"M","SAZM Plock","PL","Safari 2020 - Klub","CZ",2020,17,893,0.75,4337,3253,null,null,"LS-4","YL","Není v databázi"]
["Jiri Skarka",{"$f":"VLOOKUP(A1849,Pilot,2,0)","v":1965},{"$f":"VLOOKUP(A1849,Pilot,5,0)","v":"M"},{"$f":"VLOOKUP(A1849,Pilot,3,0)","v":"Chomutov"},{"$f":"VLOOKUP(A1849,Pilot,4,0)","v":"CZ/C2"},"Safari 2020 - Klub","CZ",2020,18,822,0.75,{"$f":"ROUND(J1849/MAX($J$1832:$J$1857)*10000*0.7+(MAX($I$1832:$I$1857)-I1849)/(MAX($I$1832:$I$1857)-1)*10000*0.3,0)","v":3958},2969,"x",null,"ASW-19","HK",""]
["Jiri Donat",{"$f":"VLOOKUP(A1850,Pilot,2,0)","v":1983},{"$f":"VLOOKUP(A1850,Pilot,5,0)","v":"M"},{"$f":"VLOOKUP(A1850,Pilot,3,0)","v":"Chrudim"},{"$f":"VLOOKUP(A1850,Pilot,4,0)","v":"CZ/C2"},"Safari 2020 - Klub","CZ",2020,19,711,0.75,3434,2576,"x",null,"Std. Cirrus WL","JE",""]
["Lukas Hykl",{"$f":"VLOOKUP(A1851,Pilot,2,0)","v":1985},{"$f":"VLOOKUP(A1851,Pilot,5,0)","v":"M"},{"$f":"VLOOKUP(A1851,Pilot,3,0)","v":"Kolín"},{"$f":"VLOOKUP(A1851,Pilot,4,0)","v":"CZ/C1"},"Safari 2020 - Klub","CZ",2020,20,640,0.75,3055,2291,"x",null,"SZD-48 Jantar std. 2 (3) WL","VS",""]
["Ryszard Bendkowski",null,"M","Warszawa","PL","Safari 2020 - Klub","CZ",2020,21,409,0.75,2092,1569,null,null,"SZD-41A Jantar std.","Fili","Není v databázi"]
["Karel Ertl",{"$f":"VLOOKUP(A1853,Pilot,2,0)","v":1939},{"$f":"VLOOKUP(A1853,Pilot,5,0)","v":"M"},{"$f":"VLOOKUP(A1853,Pilot,3,0)","v":"LK Břeclav"},{"$f":"VLOOKUP(A1853,Pilot,4,0)","v":"CZ/M"},"Safari 2020 - Klub","CZ",2020,22,349,0.75,1753,1315,null,null,"TST-10M Atlas","KE",""]
["Jiri Tomicek",{"$f":"VLOOKUP(A1854,Pilot,2,0)","v":1947},{"$f":"VLOOKUP(A1854,Pilot,5,0)","v":"M"},{"$f":"VLOOKUP(A1854,Pilot,3,0)","v":"Dvůr Králové"},{"$f":"VLOOKUP(A1854,Pilot,4,0)","v":"CZ/C2"},"Safari 2020 - Klub","CZ",2020,23,344,0.75,1615,1211,"x",null,"G-103 Twin Astir solo",5,""]
["Romuald Dorofieczyk",null,"M","Jelenia Gora","PL","Safari 2020 - Klub","CZ",2020,24,140,0.75,751,563,null,null,"DG-300 WL","N5","Není v databázi"]
["Petr Omelka",{"$f":"VLOOKUP(A1856,Pilot,2,0)","v":1970},{"$f":"VLOOKUP(A1856,Pilot,5,0)","v":"M"},{"$f":"VLOOKUP(A1856,Pilot,3,0)","v":"Vyškov"},{"$f":"VLOOKUP(A1856,Pilot,4,0)","v":"CZ/M"},"Safari 2020 - Klub","CZ",2020,25,113,0.75,532,399,"x",null,"DG-400 15m","MR",""]
["Leos Nosek",1958,"M","Křižanov","CZ/M","Safari 2020 - Klub","CZ",2020,26,18,0.75,66,50,"x",null,"G-104 Speed Astir II b","LE",""]
["Jana Veprekova",1961,"F","Dvůr Králové","CZ/C2","Safari 2020 - Kombi","CZ",2020,1,3481,0.76500000000000001,{"$f":"ROUND(J1858/MAX($J$1858:$J$1869)*10000*0.7+(MAX($I$1858:$I$1869)-I1858)/(MAX($I$1858:$I$1869)-1)*10000*0.3,0)","v":10000},7650,"x",null,"LS8 a,b,s,18 /15m (voda)","W8",""]
["Lukas Hynek",1979,"M","Dvůr Králové","CZ/C2","Safari 2020 - Kombi","CZ",2020,2,3330,0.76500000000000001,{"$f":"ROUND(J1859/MAX($J$1858:$J$1869)*10000*0.7+(MAX($I$1858:$I$1869)-I1859)/(MAX($I$1858:$I$1869)-1)*10000*0.3,0)","v":9424},7209,null,null,"Nimbus 3 /22,9m WL -750kg (voda)","HS",""]
["Milan Meisner",1961,"M","Dvůr Králové","CZ/C2","Safari 2020 - Kombi","CZ",2020,3,3319,0.76500000000000001,9129,6984,"x",null,"Ventus c /17,6m (voda)","VV",""]
["David Mach",1994,"M","Hronov","CZ/C2","Safari 2020 - Kombi","CZ",2020,4,3161,0.76500000000000001,8538,6532,null,null,"JS3 TJ - 18m (voda)","XM",""]
["Jan Simon",1970,"M","Kralupy","CZ/C1","Safari 2020 - Kombi","CZ",2020,5,3147,0.76500000000000001,8237,6301,null,null,"Duo Discus T (700kg) (voda)","ZS",""]
["Ladislav Prokes",1954,"M","Vrchlabí","CZ/C2","Safari 2020 - Kombi","CZ",2020,6,2995,0.76500000000000001,7659,5859,"x",null,"Discus b (voda)","VR",""]
["Zdenek Boruvka 54",1954,"M","Jičín","CZ/C2","Safari 2020 - Kombi","CZ",2020,7,2817,0.76500000000000001,7028,5376,null,null,"LS8 a,b,s,18 /15m (voda)","ZB",""]
["Jan Pazour",1979,"M","Dvůr Králové","CZ/C2","Safari 2020 - Kombi","CZ",2020,8,2456,0.76500000000000001,6030,4613,"x",null,"ASW-20 L+FL /16,6m","JP",""]
["Tomas Ditrt",1969,"M","Podhořany","CZ/C2","Safari 2020 - Kombi","CZ",2020,9,2371,0.76500000000000001,{"$f":"ROUND(J1866/MAX($J$1858:$J$1869)*10000*0.7+(MAX($I$1858:$I$1869)-I1866)/(MAX($I$1858:$I$1869)-1)*10000*0.3,0)","v":5586},4273,"x",null,"ASW-20 (A)+F /15m","LS",""]
["Jan Dersak 69",1969,"M","Kralupy","CZ/C1","Safari 2020 - Kombi","CZ",2020,10,1962,0.76500000000000001,4491,3436,null,null,"HpH 304JS SHARK /18m (573kg) (voda)","DJ",""]
["Slavomir Tanglmajer",1966,"M","Chomutov","CZ/C2","Safari 2020 - Kombi","CZ",2020,11,1762,0.76500000000000001,3816,2919,"x",null,"DG-400 17m","ST",""]
["Karel Policky",1950,"M","Kolín","CZ/C1","Safari 2020 - Kombi","CZ",2020,12,912,0.76500000000000001,1834,1403,null,null,"Duo Discus XL",777,""]
["Benedikt & Cerny",null,"M","SGC Martin",null,"Septembrova cena 2020 - Kombi","SK",2020,1,76,0,{"$f":"ROUND(J1870/MAX($J$1870:$J$1881)*10000*0.7+(MAX($I$1870:$I$1881)-I1870)/(MAX($I$1870:$I$1881)-1)*10000*0.3,0)","v":10000},0,null,null,"Janus CFM","T","Není v databázi"]
["Jan Kovalcik",null,"M","Bratislava",null,"Septembrova cena 2020 - Kombi","SK",2020,2,65,0,{"$f":"ROUND(J1871/MAX($J$1870:$J$1881)*10000*0.7+(MAX($I$1870:$I$1881)-I1871)/(MAX($I$1870:$I$1881)-1)*10000*0.3,0)","v":8714},0,null,null,"Discusc 2c /18m","Z","Není v databázi"]
["Zdeno Hrcka",null,"M","Trnava",null,"Septembrova cena 2020 - Kombi","SK",2020,3,42,0,6323,0,null,null,"Centrair C-101A Pegase","H","Není v databázi"]
["Beliansky & Karolyiova",null,"M","Bratislava",null,"Septembrova cena 2020 - Kombi","SK",2020,4,39,0,5774,0,null,null,"G-103 Twin Trainer dvojí","BA3","Není v databázi"]
["Juraj Dudas",{"$f":"VLOOKUP(A1874,Pilot,2,0)","v":1990},{"$f":"VLOOKUP(A1874,Pilot,5,0)","v":"M"},{"$f":"VLOOKUP(A1874,Pilot,3,0)","v":"Křižanov"},{"$f":"VLOOKUP(A1874,Pilot,4,0)","v":"CZ/M"},"Septembrova cena 2020 - Kombi","SK",2020,5,31,0,{"$f":"ROUND(J1874/MAX($J$1870:$J$1881)*10000*0.7+(MAX($I$1870:$I$1881)-I1874)/(MAX($I$1870:$I$1881)-1)*10000*0.3,0)","v":4764},0,null,null,"Centrair C-101A Pegase","ZD",""]
["Marek Kuban",null,"M","Bratislava",null,"Septembrova cena 2020 - Kombi","SK",2020,6,29,0,4307,0,null,null,"ASW-19","BA6","Není v databázi"]
["Oldrich Spaniel",null,"M","Bratislava",null,"Septembrova cena 2020 - Kombi","SK",2020,7,28,0,3943,0,null,null,"ASW-19","BA4","Není v databázi"]
["Marek Mikula",null,"M","Trnava",null,"Septembrova cena 2020 - Kombi","SK",2020,7,28,0,3943,0,null,null,"ASW-15","X1","Není v databázi"]
["Benedikt Laho",null,"M","Trnava",null,"Septembrova cena 2020 - Kombi","SK",2020,9,27,0,3305,0,null,null,"Discus 2cT /18m","JH","Není v databázi"]
["Ivana Jurovicova",null,"F","Bratislava",null,"Septembrova cena 2020 - Kombi","SK",2020,10,22,0,2572,0,null,null,"H-201 Std. Libelle WL","J3","Není v databázi"]
["Stefan Simoncic",null,"M","Bratislava",null,"Septembrova cena 2020 - Kombi","SK",2020,11,19,0,2023,0,null,null,"Duo Discus (700 kg),","2X","Není v databázi"]
["Branislav Jankech",null,"M","AEROCLUB BRATISLAVA",null,"Septembrova cena 2020 - Kombi","SK",2020,12,17,0,1566,0,null,null,"ASW-15","BA5","Není v databázi"]
["Jozef Sobek",null,"M","AK Prešov",null,"Šariš Cup 2020 - Klub","SK",2020,1,4763,0.76500000000000001,{"$f":"ROUND(J1882/MAX($J$1882:$J$1892)*10000*0.7+(MAX($I$1882:$I$1892)-I1882)/(MAX($I$1882:$I$1892)-1)*10000*0.3,0)","v":10000},7650,null,null,"Std. Cirrus","MJ","Není v databázi"]
["Frantisek Sobek",null,"M","AK Sabinov",null,"Šariš Cup 2020 - Klub","SK",2020,2,4723,0.76500000000000001,{"$f":"ROUND(J1883/MAX($J$1882:$J$1892)*10000*0.7+(MAX($I$1882:$I$1892)-I1883)/(MAX($I$1882:$I$1892)-1)*10000*0.3,0)","v":9641},7375,null,null,"DG 100","G1","Není v databázi"]
["Miroslav stempeľ",null,"M","AK Prešov",null,"Šariš Cup 2020 - Klub","SK",2020,3,3777,0.76500000000000001,7951,6083,null,null,"Std. Cirrus","CV","Není v databázi"]
["Juraj Sidor",null,"M","AK Holíč",null,"Šariš Cup 2020 - Klub","SK",2020,4,3523,0.76500000000000001,7278,5568,null,null,"Std. Cirrus","L4","Není v databázi"]
["Marek Imrich",null,"M","AK Sabinov",null,"Šariš Cup 2020 - Klub","SK",2020,5,3485,0.76500000000000001,6922,5295,null,null,"VSO-10","M9","Není v databázi"]
["Matej Petrik",null,"M","AK Sabinov",null,"Šariš Cup 2020 - Klub","SK",2020,6,3020,0.76500000000000001,5938,4543,null,null,"VSO-10",45,"Není v databázi"]
["Alberto Rizzi",null,"M","AK Holíč",null,"Šariš Cup 2020 - Klub","SK",2020,7,2543,0.76500000000000001,4937,3777,null,null,"DG 202","SJ","Není v databázi"]
["Jozef Sopirjak",null,"M","AK Košice",null,"Šariš Cup 2020 - Klub","SK",2020,8,2334,0.76500000000000001,4330,3312,null,null,"DG 101 G Elan","SX","Není v databázi"]
["Macek Macek",null,"M","AK Košice",null,"Šariš Cup 2020 - Klub","SK",2020,9,1317,0.76500000000000001,2536,1940,null,null,"L 23 Super Blanik",24,"Není v databázi"]
["Petr Velek",{"$f":"VLOOKUP(A1891,Pilot,2,0)","v":1975},{"$f":"VLOOKUP(A1891,Pilot,5,0)","v":"M"},{"$f":"VLOOKUP(A1891,Pilot,3,0)","v":"GAC Benešov"},{"$f":"VLOOKUP(A1891,Pilot,4,0)","v":"CZ/C1"},"Šariš Cup 2020 - Klub","SK",2020,10,1227,0.76500000000000001,{"$f":"ROUND(J1891/MAX($J$1882:$J$1892)*10000*0.7+(MAX($I$1882:$I$1892)-I1891)/(MAX($I$1882:$I$1892)-1)*10000*0.3,0)","v":2103},1609,null,null,"DG 400","HX",""]
["Ivana Sidorova",null,"F","AK Holíč",null,"Šariš Cup 2020 - Klub","SK",2020,11,320,0.76500000000000001,470,360,null,null,"Std. Cirrus","NM","Není v databázi"]
["Jan Viskot",{"$f":"VLOOKUP(A1893,Pilot,2,0)","v":1995},{"$f":"VLOOKUP(A1893,Pilot,5,0)","v":"M"},{"$f":"VLOOKUP(A1893,Pilot,3,0)","v":"Břeclav"},{"$f":"VLOOKUP(A1893,Pilot,4,0)","v":"CZ/M"},"Toužim Cup 2020 - Klub","CZ",2020,1,4190,0.91500000000000004,{"$f":"ROUND(J1893/MAX($J$1893:$J$1922)*10000*0.7+(MAX($I$1893:$I$1922)-I1893)/(MAX($I$1893:$I$1922)-1)*10000*0.3,0)","v":10000},9150,"x",null,"Std. Cirrus","W",""]
["Lukas Koukal",1991,"M","Letkov","CZ/C1","Toužim Cup 2020 - Klub","CZ",2020,2,3927,0.91500000000000004,{"$f":"ROUND(J1894/MAX($J$1893:$J$1922)*10000*0.7+(MAX($I$1893:$I$1922)-I1894)/(MAX($I$1893:$I$1922)-1)*10000*0.3,0)","v":9457},8653,"x",null,"ASW 15B","T1",""]
["Martin Zahalka",1987,"M","Staňkov","CZ/C1","Toužim Cup 2020 - Klub","CZ",2020,3,3878,0.91500000000000004,9272,8484,"x",null,"DG 100","8B",""]
["Jan Pubec",1979,"M","Plzeň Bory","CZ/C1","Toužim Cup 2020 - Klub","CZ",2020,4,3840,{"$f":"VLOOKUP(F1896,Soutez,12,0)","v":0.91500000000000004},9105,8331,"x",null,"Std. Cirrus","LM",{"$f":"IF(ISERROR(VLOOKUP(A1896,Pilot,6,0)),\"Není v databázi\",VLOOKUP(A1896,Pilot,6,0))","v":""}]
["Ivan Harasta 65",1965,"M","Toužim","CZ/C1","Toužim Cup 2020 - Klub","CZ",2020,5,3763,0.91500000000000004,8873,8119,"x",null,"ASW 19","KZ",""]
["Petr Jiranek 91",1991,"M","Toužim","CZ/C1","Toužim Cup 2020 - Klub","CZ",2020,6,3701,0.91500000000000004,8666,7929,"x",null,"Astir CS","PJ",""]
["Pavel Jiranek",1993,"M","Toužim","CZ/C1","Toužim Cup 2020 - Klub","CZ",2020,7,3623,0.91500000000000004,8432,{"$f":"ROUND(K1899*L1899,0)","v":7715},"x",null,"Std. Cirrus","IYD",""]
["Lubomir Motl",1959,"M","Kyjov","CZ/M","Toužim Cup 2020 - Klub","CZ",2020,8,3605,0.91500000000000004,8299,7594,"x",null,"LS 1 f","G2",""]
["Michal Drab",1969,"M","Letkov","CZ/C1","Toužim Cup 2020 - Klub","CZ",2020,9,3571,0.91500000000000004,8138,7446,"x",null,"LS 1-d","S3",""]
["Michal Cupak",1991,"M","Medlánky","CZ/M","Toužim Cup 2020 - Klub","CZ",2020,10,3537,0.91500000000000004,7978,7300,"x",null,"Std. Cirrus","A7",""]
["Roman Jokl",1979,"M","Letkov","CZ/C1","Toužim Cup 2020 - Klub","CZ",2020,11,3456,0.91500000000000004,7739,7081,"x",null,"ASW 19","JL",""]
["Daniel Dvorak",1980,"M","Letkov","CZ/C1","Toužim Cup 2020 - Klub","CZ",2020,12,3449,0.91500000000000004,7624,6976,"x",null,"Std. Cirrus","LD",""]
["Tomas Talanda",1988,"M","Křižanov","CZ/M","Toužim Cup 2020 - Klub","CZ",2020,13,3273,0.91500000000000004,7227,6613,"x",null,"ASW 19","DS",""]
["Jiri Prochazka",1971,"M","Toužim","CZ/C1","Toužim Cup 2020 - Klub","CZ",2020,14,3225,0.91500000000000004,7043,6444,"x",null,"Janus CM ohne EZ","J59",""]
["Ivan Harasta 98",1998,"M","Toužim","CZ/C1","Toužim Cup 2020 - Klub","CZ",2020,15,3084,0.91500000000000004,6704,6134,"x",null,"ASW 15B","HI","Junior v roce 2022"]
["Petr Lonsky",1965,"M","Toužim","CZ/C1","Toužim Cup 2020 - Klub","CZ",2020,16,2753,0.91500000000000004,6048,5534,"x",null,"Cirrus / VTC 17,74m","JP",""]
["Tomas Jung",1950,"M","Zbraslavice","CZ/C1","Toužim Cup 2020 - Klub","CZ",2020,17,2538,0.91500000000000004,5585,5110,"x",null,"ASW 19","O2",""]
["Jiri Cincera",1966,"M","Toužim","CZ/C1","Toužim Cup 2020 - Klub","CZ",2020,18,2456,0.91500000000000004,5344,4890,"x",null,"ASW 15B","TT",""]
["Martin Valenta",1969,"M","Toužim","CZ/C1","Toužim Cup 2020 - Klub","CZ",2020,19,2416,0.91500000000000004,5174,4734,"x",null,"LS 1-c","T2",""]
["Josef Kreutzer",1992,"M","Letkov","CZ/C1","Toužim Cup 2020 - Klub","CZ",2020,20,2151,0.91500000000000004,{"$f":"ROUND(J1912/MAX($J$1893:$J$1922)*10000*0.7+(MAX($I$1893:$I$1922)-I1912)/(MAX($I$1893:$I$1922)-1)*10000*0.3,0)","v":4628},4235,"x",null,"Std. Cirrus","AL",""]
["Tomas Seifert",1972,"M","Raná","CZ/C2","Toužim Cup 2020 - Klub","CZ",2020,21,2034,0.91500000000000004,4329,3961,"x",null,"ASW 15B","MC",""]
["Rudolf Jung",1954,"M","Zbraslavice","CZ/C1","Toužim Cup 2020 - Klub","CZ",2020,22,2012,0.91500000000000004,4189,3833,"x",null,"Twin Astir","TO",""]
["Vaclav Halek",1966,"M","Toužim","CZ/C1","Toužim Cup 2020 - Klub","CZ",2020,23,1948,0.91500000000000004,3979,3641,"x",null,"LS 1-d","CL",""]
["Vit Prokop",1987,"M","Medlánky","CZ/M","Toužim Cup 2020 - Klub","CZ",2020,24,1945,0.91500000000000004,3870,3541,"x",null,"Std. Cirrus","MF",""]
["Martin Fric",1967,"M","Raná","CZ/C2","Toužim Cup 2020 - Klub","CZ",2020,25,1862,0.91500000000000004,3628,3320,"x",null,"Janus 18,2m","RA",""]
["Martin Nejezchleb",1979,"M","Plzeň Bory","CZ/C1","Toužim Cup 2020 - Klub","CZ",2020,26,1733,0.91500000000000004,3309,3028,"x",null,"ASW 15B",90,""]
["Petr Cernicky",1974,"M","Toužim","CZ/C1","Toužim Cup 2020 - Klub","CZ",2020,27,1659,0.91500000000000004,3082,2820,"x",null,"Astir CS","LS",""]
["Frantisek Kriz",1961,"M","Toužim","CZ/C1","Toužim Cup 2020 - Klub","CZ",2020,28,1563,0.91500000000000004,2818,2578,"x",null,"LS 1-d","FK",""]
["Vaclav Hrdina",1984,"M","Letkov","CZ/C1","Toužim Cup 2020 - Klub","CZ",2020,29,798,0.91500000000000004,1437,1315,"x",null,"LS 1-c","AN",""]
["Frantisek Brozman",1960,"M","Tachov","CZ/C1","Toužim Cup 2020 - Klub","CZ",2020,30,399,0.91500000000000004,667,610,"x",null,"Astir CS Jeans","FB",""]
["Ondrej Dupal",1966,"M","GAC Benešov","CZ/C1","Toužim Cup 2020 - Kombi","CZ",2020,1,4021,0.91,{"$f":"ROUND(J1923/MAX($J$1923:$J$1945)*10000*0.7+(MAX($I$1923:$I$1945)-I1923)/(MAX($I$1923:$I$1945)-1)*10000*0.3,0)","v":10000},9100,"x",null,"ASG 29 18m","GO",""]
["Vratislav Sram",1966,"M","Broumov","CZ/C2","Toužim Cup 2020 - Kombi","CZ",2020,2,3650,0.91,{"$f":"ROUND(J1924/MAX($J$1923:$J$1945)*10000*0.7+(MAX($I$1923:$I$1945)-I1924)/(MAX($I$1923:$I$1945)-1)*10000*0.3,0)","v":9218},8388,"x",null,"Nimbus 2M","NB",""]
["Marek Blatak",1969,"M","Šumperk","CZ/M","Toužim Cup 2020 - Kombi","CZ",2020,3,3551,0.91,{"$f":"ROUND(J1925/MAX($J$1923:$J$1945)*10000*0.7+(MAX($I$1923:$I$1945)-I1925)/(MAX($I$1923:$I$1945)-1)*10000*0.3,0)","v":8909},8107,null,null,"Duo Discus T","ZS",""]
["Karel Benisek 76",1976,"M","Toužim","CZ/C1","Toužim Cup 2020 - Kombi","CZ",2020,4,3467,0.91,{"$f":"ROUND(J1926/MAX($J$1923:$J$1945)*10000*0.7+(MAX($I$1923:$I$1945)-I1926)/(MAX($I$1923:$I$1945)-1)*10000*0.3,0)","v":8626},7850,"x",null,"Ventus cT 17,6m","KB",""]
["Tomas Rendla",1973,"M","Zbraslavice","CZ/C1","Toužim Cup 2020 - Kombi","CZ",2020,5,3432,0.91,8429,7670,null,null,"EB 29","EX",""]
["Karel Krobath",null,"M","SFC Tulln","AT","Toužim Cup 2020 - Kombi","CZ",2020,6,3373,0.91,8190,7453,null,null,"HPH 304 Shark","Q","Není v databázi"]
["Zdenek Schenk",{"$f":"VLOOKUP(A1929,Pilot,2,0)","v":1972},{"$f":"VLOOKUP(A1929,Pilot,5,0)","v":"M"},{"$f":"VLOOKUP(A1929,Pilot,3,0)","v":"Hranice"},{"$f":"VLOOKUP(A1929,Pilot,4,0)","v":"CZ/M"},"Toužim Cup 2020 - Kombi","CZ",2020,7,3228,0.91,7801,7099,"x",null,"Ventus cM 17,6m","ŠNeK",""]
["Frantisek Myska",1968,"M","Most","CZ/C2","Toužim Cup 2020 - Kombi","CZ",2020,8,3172,0.91,7567,6886,"x",null,"Ventus bT 16,6m","SK",""]
["Michaela Rendlova",2004,"F","Toužim","CZ/C1","Toužim Cup 2020 - Kombi","CZ",2020,9,3150,0.91,7393,6728,null,null,"JS 1 Revelation 18m","VX","Junior v roce 2022"]
["Petr Bartak",1984,"M","Letkov","CZ/C1","Toužim Cup 2020 - Kombi","CZ",2020,10,2876,0.91,6779,6169,"x",null,"LS 6 18m","BL",""]
["Jaroslav Hot",1965,"M","Toužim","CZ/C1","Toužim Cup 2020 - Kombi","CZ",2020,11,2838,0.91,6577,5985,"x",null,"Ventus cM 17,6m","SW",""]
["Vaclav Svoboda",1970,"M","Letkov","CZ/C1","Toužim Cup 2020 - Kombi","CZ",2020,12,2805,0.91,6383,5809,"x",null,"LS 8 18m",301,""]
["Petr Jiranek 63",1962,"M","Toužim","CZ/C1","Toužim Cup 2020 - Kombi","CZ",2020,13,2793,0.91,6226,5666,"x",null,"Ventus cT 17,6m","EB",""]
["Tomas Profeld",1964,"M","Jičín","CZ/C2","Toužim Cup 2020 - Kombi","CZ",2020,14,2785,0.91,6076,5529,"x",null,"Ventus 2c / M / T 18m","OZ",""]
["Jan Zanda",1983,"M","Letkov","CZ/C1","Toužim Cup 2020 - Kombi","CZ",2020,15,2766,0.91,5906,5374,"x",null,"Duo Discus","DL",""]
["Karl Schiffleithner",null,"M","SFC Tulln",null,"Toužim Cup 2020 - Kombi","CZ",2020,16,2684,0.91,{"$f":"ROUND(J1938/MAX($J$1923:$J$1945)*10000*0.7+(MAX($I$1923:$I$1945)-I1938)/(MAX($I$1923:$I$1945)-1)*10000*0.3,0)","v":5627},5121,null,null,"Ventus 2c / M / T 18m","WG","Není v databázi"]
["Roman Lanzendorf",{"$f":"VLOOKUP(A1939,Pilot,2,0)","v":1964},{"$f":"VLOOKUP(A1939,Pilot,5,0)","v":"M"},{"$f":"VLOOKUP(A1939,Pilot,3,0)","v":"Letkov"},{"$f":"VLOOKUP(A1939,Pilot,4,0)","v":"CZ/C1"},"Toužim Cup 2020 - Kombi","CZ",2020,17,2541,0.91,5242,4770,"x",null,"Ventus cT 17,6m","AW",""]
["Olga Mokosova",{"$f":"VLOOKUP(A1940,Pilot,2,0)","v":1970},{"$f":"VLOOKUP(A1940,Pilot,5,0)","v":"F"},{"$f":"VLOOKUP(A1940,Pilot,3,0)","v":"Jihlava"},{"$f":"VLOOKUP(A1940,Pilot,4,0)","v":"CZ/M"},"Toužim Cup 2020 - Kombi","CZ",2020,18,2503,0.91,5039,4585,"x","x","LS 6 18m","MM",""]
["Antonin Kutalek",{"$f":"VLOOKUP(A1941,Pilot,2,0)","v":1943},{"$f":"VLOOKUP(A1941,Pilot,5,0)","v":"M"},{"$f":"VLOOKUP(A1941,Pilot,3,0)","v":"Zábřeh"},{"$f":"VLOOKUP(A1941,Pilot,4,0)","v":"CZ/M"},"Toužim Cup 2020 - Kombi","CZ",2020,19,2405,0.91,4732,4306,"x",null,"Mini Nimbus","GL",""]
["Ludek Kluger",{"$f":"VLOOKUP(A1942,Pilot,2,0)","v":1963},{"$f":"VLOOKUP(A1942,Pilot,5,0)","v":"M"},{"$f":"VLOOKUP(A1942,Pilot,3,0)","v":"Tábor"},{"$f":"VLOOKUP(A1942,Pilot,4,0)","v":"CZ/C1"},"Toužim Cup 2020 - Kombi","CZ",2020,20,1987,0.91,3868,3520,"x",null,"HPH 304S Shark","LK",""]
["Milos Pajr",{"$f":"VLOOKUP(A1943,Pilot,2,0)","v":1966},{"$f":"VLOOKUP(A1943,Pilot,5,0)","v":"M"},{"$f":"VLOOKUP(A1943,Pilot,3,0)","v":"Jičín"},{"$f":"VLOOKUP(A1943,Pilot,4,0)","v":"CZ/C2"},"Toužim Cup 2020 - Kombi","CZ",2020,21,1907,0.91,3593,3270,"x",null,"HPH 304S Shark","MS",""]
["Uwe Tolkmitt",null,"M","LSV Greiz",null,"Toužim Cup 2020 - Kombi","CZ",2020,22,1894,0.91,3434,3125,null,null,"DG-400 17m","JO","Není v databázi"]
["Roman Michalek",{"$f":"VLOOKUP(A1945,Pilot,2,0)","v":1974},{"$f":"VLOOKUP(A1945,Pilot,5,0)","v":"M"},{"$f":"VLOOKUP(A1945,Pilot,3,0)","v":"Toužim"},{"$f":"VLOOKUP(A1945,Pilot,4,0)","v":"CZ/C1"},"Toužim Cup 2020 - Kombi","CZ",2020,23,1682,0.91,2928,2664,"x",null,"DG-400 17m","TK",""]
["Ulf Kern",{"$f":"VLOOKUP(A1946,Pilot,2,0)","v":1958},{"$f":"VLOOKUP(A1946,Pilot,5,0)","v":"M"},{"$f":"VLOOKUP(A1946,Pilot,3,0)","v":"Raná"},{"$f":"VLOOKUP(A1946,Pilot,4,0)","v":"CZ/C2"},"Závody Šohajů 2020 - Klub","CZ",2020,1,549,0,{"$f":"ROUND(J1946/MAX($J$1946:$J$1960)*10000*0.7+(MAX($I$1946:$I$1960)-I1946)/(MAX($I$1946:$I$1960)-1)*10000*0.3,0)","v":10000},0,null,null,"VT-125 Sohaj","L",""]
["Sarka Lochova",{"$f":"VLOOKUP(A1947,Pilot,2,0)","v":1966},{"$f":"VLOOKUP(A1947,Pilot,5,0)","v":"F"},{"$f":"VLOOKUP(A1947,Pilot,3,0)","v":"Šumperk"},{"$f":"VLOOKUP(A1947,Pilot,4,0)","v":"CZ/M"},"Závody Šohajů 2020 - Klub","CZ",2020,2,412,0,{"$f":"ROUND(J1947/MAX($J$1946:$J$1960)*10000*0.7+(MAX($I$1946:$I$1960)-I1947)/(MAX($I$1946:$I$1960)-1)*10000*0.3,0)","v":8039},0,null,null,"Ka 6",22,""]
["Johannes Fischer, Jiri Lenik",null,null,null,"DE/CZ","Závody Šohajů 2020 - Klub","CZ",2020,3,393,0,7582,0,null,null,"Nord 2000","N","Není v databázi"]
["Petr Seibrt",{"$f":"VLOOKUP(A1949,Pilot,2,0)","v":1974},{"$f":"VLOOKUP(A1949,Pilot,5,0)","v":"M"},{"$f":"VLOOKUP(A1949,Pilot,3,0)","v":"Náchod"},{"$f":"VLOOKUP(A1949,Pilot,4,0)","v":"CZ/C2"},"Závody Šohajů 2020 - Klub","CZ",2020,4,383,0,7241,0,null,null,"Bergfalke IV","RZ2",""]
["Miroslav Mitrus",{"$f":"VLOOKUP(A1950,Pilot,2,0)","v":1972},{"$f":"VLOOKUP(A1950,Pilot,5,0)","v":"M"},{"$f":"VLOOKUP(A1950,Pilot,3,0)","v":"GAC Benešov"},{"$f":"VLOOKUP(A1950,Pilot,4,0)","v":"CZ/C1"},"Závody Šohajů 2020 - Klub","CZ",2020,4,383,0,7241,0,null,null,"VT-125 Sohaj","F",""]
["Jaromir Hendrych",{"$f":"VLOOKUP(A1951,Pilot,2,0)","v":1954},{"$f":"VLOOKUP(A1951,Pilot,5,0)","v":"M"},{"$f":"VLOOKUP(A1951,Pilot,3,0)","v":"Raná"},{"$f":"VLOOKUP(A1951,Pilot,4,0)","v":"CZ/C2"},"Závody Šohajů 2020 - Klub","CZ",2020,6,346,0,6340,0,null,null,"VT-125 Sohaj","H",""]
["Jiri Slouka, Jiri Klicnar",null,null,"Medlánky","CZ/M","Závody Šohajů 2020 - Klub","CZ",2020,7,333,0,5960,0,null,null,"Lunak LF 107",17,"Není v databázi"]
["Christian Gernot",null,"M",null,"DE","Závody Šohajů 2020 - Klub","CZ",2020,8,267,0,4904,0,null,null,"Ka 8",77,"Není v databázi"]
["Zbynek Bican",{"$f":"VLOOKUP(A1954,Pilot,2,0)","v":1961},{"$f":"VLOOKUP(A1954,Pilot,5,0)","v":"M"},{"$f":"VLOOKUP(A1954,Pilot,3,0)","v":"Raná"},{"$f":"VLOOKUP(A1954,Pilot,4,0)","v":"CZ/C2"},"Závody Šohajů 2020 - Klub","CZ",2020,9,233,0,4257,0,null,null,"VT-130","K",""]
["Michal Ondracek",{"$f":"VLOOKUP(A1955,Pilot,2,0)","v":1966},{"$f":"VLOOKUP(A1955,Pilot,5,0)","v":"M"},{"$f":"VLOOKUP(A1955,Pilot,3,0)","v":"Medlánky"},{"$f":"VLOOKUP(A1955,Pilot,4,0)","v":"CZ/M"},"Závody Šohajů 2020 - Klub","CZ",2020,10,213,0,{"$f":"ROUND(J1955/MAX($J$1946:$J$1960)*10000*0.7+(MAX($I$1946:$I$1960)-I1955)/(MAX($I$1946:$I$1960)-1)*10000*0.3,0)","v":3787},0,null,null,"Ka 6 E","2W",""]
["Reinhard Muller",null,"M",null,"DE","Závody Šohajů 2020 - Klub","CZ",2020,10,213,0,3787,0,null,null,"MG 23","MG","Není v databázi"]
["Vladimir Abraham",{"$f":"VLOOKUP(A1957,Pilot,2,0)","v":1962},{"$f":"VLOOKUP(A1957,Pilot,5,0)","v":"M"},{"$f":"VLOOKUP(A1957,Pilot,3,0)","v":"Raná"},{"$f":"VLOOKUP(A1957,Pilot,4,0)","v":"CZ/C2"},"Závody Šohajů 2020 - Klub","CZ",2020,12,194,0,3116,0,null,null,"Ka 6","YZ",""]
["Tomas Mezera, Josef Mezera",null,null,"Raná","CZ/C2","Závody Šohajů 2020 - Klub","CZ",2020,13,135,0,2150,0,null,null,"VT-425 Sohaj","T","Není v databázi"]
["Vaclav cerny",{"$f":"VLOOKUP(A1959,Pilot,2,0)","v":1949},{"$f":"VLOOKUP(A1959,Pilot,5,0)","v":"M"},{"$f":"VLOOKUP(A1959,Pilot,3,0)","v":"Slaný"},{"$f":"VLOOKUP(A1959,Pilot,4,0)","v":"CZ/C1"},"Závody Šohajů 2020 - Klub","CZ",2020,14,109,0,1604,0,null,null,"Lunak LF 107","W15",""]
["Edgar Kraus",null,"M",null,"DE","Závody Šohajů 2020 - Klub","CZ",2020,15,106,{"$f":"VLOOKUP(F1960,Soutez,12,0)","v":0},1352,0,null,null,"L-Spatz","L55","Není v databázi"]
["Michal Kratochvil",{"$f":"VLOOKUP(A1961,Pilot,2,0)","v":1984},{"$f":"VLOOKUP(A1961,Pilot,5,0)","v":"M"},{"$f":"VLOOKUP(A1961,Pilot,3,0)","v":"Slaný"},{"$f":"VLOOKUP(A1961,Pilot,4,0)","v":"CZ/C1"},"GGP MB 2020 - Gradient GP","CZ",2020,1,21,0.9,{"$f":"ROUND((MAX($I$1961:$I$1970)-I1961)/(MAX($I$1961:$I$1970)-1)*10000,0)","v":10000},{"$f":"ROUND(K1961*L1961,0)","v":9000},"x",null,"VSO-10",56,{"$f":"IF(ISERROR(VLOOKUP(A1961,Pilot,6,0)),\"Není v databázi\",VLOOKUP(A1961,Pilot,6,0))","v":""}]
["Jan Hejret",{"$f":"VLOOKUP(A1962,Pilot,2,0)","v":1976},{"$f":"VLOOKUP(A1962,Pilot,5,0)","v":"M"},{"$f":"VLOOKUP(A1962,Pilot,3,0)","v":"Jaroměř"},{"$f":"VLOOKUP(A1962,Pilot,4,0)","v":"CZ/C2"},"GGP MB 2020 - Gradient GP","CZ",2020,2,17,0.9,8889,{"$f":"ROUND(K1962*L1962,0)","v":8000},"x",null,"VSO-10","J6",""]
["Barbora Moravcova",{"$f":"VLOOKUP(A1963,Pilot,2,0)","v":1994},{"$f":"VLOOKUP(A1963,Pilot,5,0)","v":"F"},{"$f":"VLOOKUP(A1963,Pilot,3,0)","v":"Zbraslavice"},{"$f":"VLOOKUP(A1963,Pilot,4,0)","v":"CZ/C1"},"GGP MB 2020 - Gradient GP","CZ",2020,3,15,0.9,7778,7000,null,null,"VSO-10","F2",""]
["David Vrchota",{"$f":"VLOOKUP(A1964,Pilot,2,0)","v":1976},{"$f":"VLOOKUP(A1964,Pilot,5,0)","v":"M"},{"$f":"VLOOKUP(A1964,Pilot,3,0)","v":"Jaroměř"},{"$f":"VLOOKUP(A1964,Pilot,4,0)","v":"CZ/C2"},"GGP MB 2020 - Gradient GP","CZ",2020,4,10,0.9,6667,6000,"x",null,"VSO-10",60,""]
["Bednarik &",null,null,"Kunovice",null,"GGP MB 2020 - Gradient GP","CZ",2020,5,8,0.9,5556,5000,null,null,"VSO-10",94,"Není v databázi"]
["Martin Krizovic",{"$f":"VLOOKUP(A1966,Pilot,2,0)","v":1971},{"$f":"VLOOKUP(A1966,Pilot,5,0)","v":"M"},{"$f":"VLOOKUP(A1966,Pilot,3,0)","v":"Přibyslav"},{"$f":"VLOOKUP(A1966,Pilot,4,0)","v":"CZ/C2"},"GGP MB 2020 - Gradient GP","CZ",2020,5,8,0.9,5556,5000,"x",null,"VSO-10","G3",""]
["Jan Zdvorak",1980,"M","Roudnice","CZ/C2","GGP MB 2020 - Gradient GP","CZ",2020,7,4,0.9,3333,3000,"x",null,"VSO-10",6,""]
["Karel Policky",1950,"M","Kolín","CZ/C1","GGP MB 2020 - Gradient GP","CZ",2020,8,3,0.9,2222,2000,"x",null,"VSO-10",47,""]
["Libor Kovarnik",1968,"M","Mladá Boleslav","CZ/C1","GGP MB 2020 - Gradient GP","CZ",2020,9,2,0.9,1111,{"$f":"ROUND(K1969*L1969,0)","v":1000},"x",null,"VSO-10","C3",""]
["Jaroslav Kral",1961,"M","Přibyslav","CZ/C2","GGP MB 2020 - Gradient GP","CZ",2020,10,0,0.9,0,0,null,null,"VSO-10",3,""]
["Ondrej Bordovsky",1983,"M","Krnov","CZ/M","GGP MB 2020 - Klub GP","CZ",2020,1,32,0.92,{"$f":"ROUND((MAX($I$1971:$I$1983)-I1971)/(MAX($I$1971:$I$1983)-1)*10000,0)","v":10000},{"$f":"ROUND(K1971*L1971,0)","v":9200},"x",null,"Std. Cirrus","BW",""]
["Jaroslav Tomana",1975,"M","Zbraslavice","CZ/C1","GGP MB 2020 - Klub GP","CZ",2020,2,29,0.92,9091,{"$f":"ROUND(K1972*L1972,0)","v":8364},null,null,"C-101BC Pegase WL","RT",""]
["Lukas Hynek",1979,"M","Dvůr Králové","CZ/C2","GGP MB 2020 - Klub GP","CZ",2020,3,24,0.92,8182,7527,"x",null,"Cirrus/Cirrus VTC","2W",""]
["Jan Zahradka",1981,"M","Hodkovice","CZ/C2","GGP MB 2020 - Klub GP","CZ",2020,4,21,0.92,7273,6691,"x",null,"Std. Cirrus","AR",""]
["Ondrej Dvorak 98",1998,"M","Mladá Boleslav","CZ/C1","GGP MB 2020 - Klub GP","CZ",2020,4,21,0.92,{"$f":"ROUND((MAX($I$1971:$I$1983)-I1975)/(MAX($I$1971:$I$1983)-1)*10000,0)","v":7273},6691,"x",null,"ASW 15 b","MB","Junior v roce 2022"]
["Katerina Vojtova",1983,"F","Slaný","CZ/C1","GGP MB 2020 - Klub GP","CZ",2020,6,17,0.92,5455,5019,"x","x","Std. Cirrus","KAC",""]
["Linda Vasatova",1990,"F","Mladá Boleslav","CZ/C1","GGP MB 2020 - Klub GP","CZ",2020,7,15,0.92,4545,4181,"x","x","ASW 19","XS",""]
["Jan Zezula",1979,"M","Letňany","CZ/C1","GGP MB 2020 - Klub GP","CZ",2020,8,10,0.92,3636,3345,null,null,"ASW 19","HD",""]
["David Sachl",1978,"M","Kralupy","CZ/C1","GGP MB 2020 - Klub GP","CZ",2020,8,10,0.92,3636,3345,null,null,"DG 300 Club ELAN","BK",""]
["Jan Jindra",1981,"M","Roudnice","CZ/C2","GGP MB 2020 - Klub GP","CZ",2020,10,9,0.92,1818,1673,"x",null,"Std. Cirrus WL","FD",""]
["Matej Krestes",1986,"M","Slaný","CZ/C1","GGP MB 2020 - Klub GP","CZ",2020,11,8,0.92,909,{"$f":"ROUND(K1981*L1981,0)","v":836},null,null,"Std. Cirrus","CON",""]
["Tomas Hlavacek",1984,"M","Mladá Boleslav","CZ/C1","GGP MB 2020 - Klub GP","CZ",2020,12,0,0.92,0,0,null,null,"ASW 19 b","AH",""]
["Martin Marek",1967,"M","Roudnice","CZ/C2","GGP MB 2020 - Klub GP","CZ",2020,12,0,0.92,0,0,null,null,"Std. Cirrus","2X",""]
["Lenka Kuthanova",1960,"F","Tábor","CZ/C1","GGP MB 2020 - Pohár MV - Kombi","CZ",2020,1,2524,0.93,{"$f":"ROUND(J1984/MAX($J$1984:$J$2002)*10000*0.7+(MAX($I$1984:$I$2002)-I1984)/(MAX($I$1984:$I$2002)-1)*10000*0.3,0)","v":10000},{"$f":"ROUND(K1984*L1984,0)","v":9300},"x","x","JS1 CTJ 18 EVO","LX",""]
["Alena Netusilova",1970,"F","Zbraslavice","CZ/C1","GGP MB 2020 - Pohár MV - Kombi","CZ",2020,2,2446,0.93,9617,{"$f":"ROUND(K1985*L1985,0)","v":8944},"x",null,"JS 1 CTJ 18 EVO","JX",""]
["Karel Novak",1993,"M","Mladá Boleslav","CZ/C1","GGP MB 2020 - Pohár MV - Kombi","CZ",2020,3,2343,0.93,9165,8523,null,null,"LS 8, 15m","AU",""]
["Jan Dersak 69",1969,"M","Kralupy","CZ/C1","GGP MB 2020 - Pohár MV - Kombi","CZ",2020,4,2234,0.93,8696,8087,"x",null,"HPH 304SJ Shark","DJ",""]
["Radek Krejcirik",1991,"M","Hranice","CZ/M","GGP MB 2020 - Pohár MV - Kombi","CZ",2020,5,2215,0.93,8476,7883,null,null,"JS 1 CTJ 18 EVO","ZF",""]
["Ivan Novak",1962,"M","Mladá Boleslav","CZ/C1","GGP MB 2020 - Pohár MV - Kombi","CZ",2020,6,2167,0.93,8177,7605,null,null,"Std. Cirrus","DI",""]
["Vojtech Hajek",1987,"M","Mladá Boleslav","CZ/C1","GGP MB 2020 - Pohár MV - Kombi","CZ",2020,7,2139,0.93,7932,7377,"x",null,"Duo Discus 700kg",777,""]
["Hana Treslova",1991,"F","Raná","CZ/C2","GGP MB 2020 - Pohár MV - Kombi","CZ",2020,8,2062,0.93,7552,7023,null,null,"JS 3 18m","XM",""]
["Jan Smaha",1958,"M","Česká Lípa","CZ/C2","GGP MB 2020 - Pohár MV - Kombi","CZ",2020,9,2009,0.93,7238,6731,"x",null,"ASW-15B","CW",""]
["Antonin Bordovsky",1951,"M","Krnov","CZ/M","GGP MB 2020 - Pohár MV - Kombi","CZ",2020,10,1970,0.93,6964,6477,"x",null,"Ventus C 17,6","SEX",""]
["Zdenek Boruvka 54",1954,"M","Jičín","CZ/C2","GGP MB 2020 - Pohár MV - Kombi","CZ",2020,11,1772,0.93,6248,5811,"x",null,"LS 8, 15m","ZB",""]
["Martin Soucek",1975,"M","Mladá Boleslav","CZ/C1","GGP MB 2020 - Pohár MV - Kombi","CZ",2020,12,1691,0.93,5856,5446,"x",null,"DG200 17m","MS",""]
["Jiri Slemr",1979,"M","Vysoké Mýto","CZ/C2","GGP MB 2020 - Pohár MV - Kombi","CZ",2020,13,1647,0.93,5568,5178,"x",null,"Discus b voda",65,""]
["Jana Treslova",1963,"F","Raná","CZ/C2","GGP MB 2020 - Pohár MV - Kombi","CZ",2020,14,1586,0.93,5232,4866,null,null,"Ventus 2 a","AX",""]
["Daniela Frankova",1997,"M","Jaroměř","CZ/C2","GGP MB 2020 - Pohár MV - Kombi","CZ",2020,15,1512,0.93,4860,4520,"x",null,"Janus b 18.2m","BV","Junior v roce 2022"]
["Tomas Hynek",2002,"M","Dvůr Králové","CZ/C2","GGP MB 2020 - Pohár MV - Kombi","CZ",2020,16,1383,0.93,4336,{"$f":"ROUND(K1999*L1999,0)","v":4032},null,null,"DG-200 17m","IQ","Junior v roce 2022"]
["Marek Kornec",1957,"M","Dvůr Králové","CZ/C2","GGP MB 2020 - Pohár MV - Kombi","CZ",2020,17,1371,0.93,4136,3846,null,null,"Janus C FG-bez vody","KSS",""]
["Zbynek Kuchta",1976,"M","Klatovy","CZ/C1","GGP MB 2020 - Pohár MV - Kombi","CZ",2020,18,262,0.93,893,830,"x",null,"G102 CS77 bez vody","I",""]
["Milos Rejzl",1962,"M","Klatovy","CZ/C1","GGP MB 2020 - Pohár MV - Kombi","CZ",2020,19,209,{"$f":"VLOOKUP(F2002,Soutez,12,0)","v":0.93},{"$f":"ROUND(J2002/MAX($J$1984:$J$2002)*10000*0.7+(MAX($I$1984:$I$2002)-I2002)/(MAX($I$1984:$I$2002)-1)*10000*0.3,0)","v":580},{"$f":"ROUND(K2002*L2002,0)","v":539},"x",null,"Nimbus 2","MR",{"$f":"IF(ISERROR(VLOOKUP(A2002,Pilot,6,0)),\"Není v databázi\",VLOOKUP(A2002,Pilot,6,0))","v":""}]
["Elena Fergnani",null,null,"Italy",null,"WGC Women 2020 - Klub","AU",2020,1,7859,1.0549999999999999,{"$f":"ROUND(J2003/MAX($J$2003:$J$2019)*10000*0.7+(MAX($I$2003:$I$2019)-I2003)/(MAX($I$2003:$I$2019)-1)*10000*0.3,0)","v":10000},{"$f":"ROUND(K2003*L2003,0)","v":10550},null,null,"Discus",40,"Není v databázi"]
["Christine Grote",null,null,"Germany",null,"WGC Women 2020 - Klub","AU",2020,2,7735,1.0549999999999999,{"$f":"ROUND(J2004/MAX($J$2003:$J$2019)*10000*0.7+(MAX($I$2003:$I$2019)-I2004)/(MAX($I$2003:$I$2019)-1)*10000*0.3,0)","v":9702},{"$f":"ROUND(K2004*L2004,0)","v":10236},null,null,"LS 4","CQL","Není v databázi"]
["Céline Rault",null,null,"France",null,"WGC Women 2020 - Klub","AU",2020,3,7708,1.0549999999999999,9491,10013,null,null,"LS 4B","V57","Není v databázi"]
["Jo Davis",null,null,"Australia",null,"WGC Women 2020 - Klub","AU",2020,4,7703,1.0549999999999999,9299,9810,null,null,"ASW 20","IIC","Není v databázi"]
["Sabrina Vogt",null,null,"Germany",null,"WGC Women 2020 - Klub","AU",2020,5,7667,1.0549999999999999,9079,9578,null,null,"LS 4 WL","BM","Není v databázi"]
["Claudia Hill",null,null,"United Kingdom",null,"WGC Women 2020 - Klub","AU",2020,6,7402,1.0549999999999999,8655,9131,null,null,"LS 4","WH","Není v databázi"]
["Judyta Czyz",null,null,"Poland",null,"WGC Women 2020 - Klub","AU",2020,7,7378,1.0549999999999999,8447,8912,null,null,"ASW 19","J1","Není v databázi"]
["Kinga Tchorz",null,null,"Poland",null,"WGC Women 2020 - Klub","AU",2020,8,7324,1.0549999999999999,8211,8663,null,null,"SZD-48-3","BI","Není v databázi"]
["Barbora Moravcova",{"$f":"VLOOKUP(A2011,Pilot,2,0)","v":1994},{"$f":"VLOOKUP(A2011,Pilot,5,0)","v":"F"},{"$f":"VLOOKUP(A2011,Pilot,3,0)","v":"Zbraslavice"},{"$f":"VLOOKUP(A2011,Pilot,4,0)","v":"CZ/C1"},"WGC Women 2020 - Klub","AU",2020,9,7163,1.0549999999999999,7880,8313,null,"x","ASW 19B","UKE",""]
["Jenny Ganderton",null,null,"Australia",null,"WGC Women 2020 - Klub","AU",2020,10,7091,1.0549999999999999,{"$f":"ROUND(J2012/MAX($J$2003:$J$2019)*10000*0.7+(MAX($I$2003:$I$2019)-I2012)/(MAX($I$2003:$I$2019)-1)*10000*0.3,0)","v":7628},8048,null,null,"Mosquito","KW","Není v databázi"]
["Ines Engelhardt",null,null,"Germany",null,"WGC Women 2020 - Klub","AU",2020,11,7040,1.0549999999999999,7396,7803,null,null,"LS 4","AJ","Není v databázi"]
["Klara Teichmannova",{"$f":"VLOOKUP(A2014,Pilot,2,0)","v":1993},{"$f":"VLOOKUP(A2014,Pilot,5,0)","v":"F"},{"$f":"VLOOKUP(A2014,Pilot,3,0)","v":"Hronov"},{"$f":"VLOOKUP(A2014,Pilot,4,0)","v":"CZ/C2"},"WGC Women 2020 - Klub","AU",2020,12,7022,1.0549999999999999,7192,7588,null,"x","LS 4","CQO",""]
["Amélie Audier",null,null,"France",null,"WGC Women 2020 - Klub","AU",2020,13,6954,1.0549999999999999,6944,7326,null,null,"LS 4","SC","Není v databázi"]
["Kathryn Fosha",null,null,"USA",null,"WGC Women 2020 - Klub","AU",2020,14,6916,1.0549999999999999,6723,7093,null,null,"LS 1 f","MF","Není v databázi"]
["Petra Piskata",{"$f":"VLOOKUP(A2017,Pilot,2,0)","v":1989},{"$f":"VLOOKUP(A2017,Pilot,5,0)","v":"F"},{"$f":"VLOOKUP(A2017,Pilot,3,0)","v":"Luhačovice"},{"$f":"VLOOKUP(A2017,Pilot,4,0)","v":"CZ/M"},"WGC Women 2020 - Klub","AU",2020,15,6576,1.0549999999999999,6232,6575,null,"x","LS 1 f","JO",""]
["Sylvia Grandstaff",null,null,"USA",null,"WGC Women 2020 - Klub","AU",2020,16,6299,1.0549999999999999,5798,6117,null,null,"LS 7 WL","XJY","Není v databázi"]
["Kerrie Claffey",null,null,"Australia",null,"WGC Women 2020 - Klub","AU",2020,17,5668,1.0549999999999999,5048,5326,null,null,"SZD 55","T1","Není v databázi"]
["Sarah Arnold",null,null,"USA",null,"WGC Women 2020 - Std","AU",2020,1,7998,1.0699999999999998,{"$f":"ROUND(J2020/MAX($J$2020:$J$2035)*10000*0.7+(MAX($I$2020:$I$2035)-I2020)/(MAX($I$2020:$I$2035)-1)*10000*0.3,0)","v":10000},{"$f":"ROUND(K2020*L2020,0)","v":10700},null,null,"Discus 2","XBY","Není v databázi"]
["Aude Grangeray",null,null,"France",null,"WGC Women 2020 - Std","AU",2020,2,7932,1.0699999999999998,9742,{"$f":"ROUND(K2021*L2021,0)","v":10424},null,null,"Discus 2a","ET","Není v databázi"]
["Ayala Truelove",null,null,"United Kingdom",null,"WGC Women 2020 - Std","AU",2020,3,7601,1.0699999999999998,9253,9901,null,null,"LS 8","L7","Není v databázi"]
["Dana Novakova",{"$f":"VLOOKUP(A2023,Pilot,2,0)","v":1965},{"$f":"VLOOKUP(A2023,Pilot,5,0)","v":"F"},{"$f":"VLOOKUP(A2023,Pilot,3,0)","v":"Mladá Boleslav"},{"$f":"VLOOKUP(A2023,Pilot,4,0)","v":"CZ/C1"},"WGC Women 2020 - Std","AU",2020,4,7540,1.0699999999999998,8999,9629,null,"x","LS 8","FX",""]
["Hana Treslova",1991,"F","Raná","CZ/C2","WGC Women 2020 - Std","AU",2020,5,7526,1.0699999999999998,8787,9402,null,"x","LS 8","EU",""]
["Jana Veprekova",1961,"F","Dvůr Králové","CZ/C2","WGC Women 2020 - Std","AU",2020,6,7476,1.0699999999999998,8543,9141,null,"x","LS 8","W8",""]
["Lisa Trotter",null,null,"Australia",null,"WGC Women 2020 - Std","AU",2020,7,7418,1.0699999999999998,8292,8872,null,null,"LS 8","LT","Není v databázi"]
["Claire Scutter",null,null,"Australia",null,"WGC Women 2020 - Std","AU",2020,8,7325,1.0699999999999998,8011,8572,null,null,"LS 8","CC","Není v databázi"]
["Akemi Ichikawa",null,null,"Japan",null,"WGC Women 2020 - Std","AU",2020,9,7225,1.0699999999999998,7723,8264,null,null,"LS 8","1A","Není v databázi"]
["Aude Untersee",null,null,"France",null,"WGC Women 2020 - Std","AU",2020,10,7134,1.0699999999999998,7444,7965,null,null,"Discus 2a","JPA","Není v databázi"]
["Agata Kaszczuk",null,null,"Poland",null,"WGC Women 2020 - Std","AU",2020,11,7112,1.0699999999999998,7225,7731,null,null,"LS 8","P1","Není v databázi"]
["Serena Triebel",null,null,"Germany",null,"WGC Women 2020 - Std","AU",2020,12,7057,1.0699999999999998,6976,7464,null,null,"LS 8","PO","Není v databázi"]
["Ulrike Teichmann",null,null,"Germany",null,"WGC Women 2020 - Std","AU",2020,13,7047,1.0699999999999998,6768,7242,null,null,"LS 8","S7","Není v databázi"]
["Cornelia Schaich",null,null,"Germany",null,"WGC Women 2020 - Std","AU",2020,14,6897,1.0699999999999998,6436,6887,null,null,"LS 8T","FQF","Není v databázi"]
["Anna Piotrowska",null,null,"Poland",null,"WGC Women 2020 - Std","AU",2020,15,6819,1.0699999999999998,6168,6600,null,null,"LS 8","LOT","Není v databázi"]
["Catherine Conway",null,null,"Australia",null,"WGC Women 2020 - Std","AU",2020,16,5943,1.0699999999999998,5201,5565,null,null,"Discus 2b","XZ","Není v databázi"]
["Mélanie Gadoulet",null,null,"France",null,"WGC Women 2020 - 18m","AU",2020,1,8137,1.0599999999999998,{"$f":"ROUND(J2036/MAX($J$2036:$J$2049)*10000*0.7+(MAX($I$2036:$I$2049)-I2036)/(MAX($I$2036:$I$2049)-1)*10000*0.3,0)","v":10000},{"$f":"ROUND(K2036*L2036,0)","v":10600},null,null,"JS 3","FQ","Není v databázi"]
["Anne Ducarouge",null,null,"France",null,"WGC Women 2020 - 18m","AU",2020,2,8123,1.0599999999999998,9757,{"$f":"ROUND(K2037*L2037,0)","v":10342},null,null,"JS 3","FM","Není v databázi"]
["Katrin Senne",null,null,"Germany",null,"WGC Women 2020 - 18m","AU",2020,3,7829,1.0599999999999998,9273,9829,null,null,"JS 3","1B","Není v databázi"]
["Elizabeth Sparrow",null,null,"United Kingdom",null,"WGC Women 2020 - 18m","AU",2020,4,7739,1.0599999999999998,8965,9503,null,null,"ASG 29",51,"Není v databázi"]
["Alena Netusilova",{"$f":"VLOOKUP(A2040,Pilot,2,0)","v":1970},{"$f":"VLOOKUP(A2040,Pilot,5,0)","v":"F"},{"$f":"VLOOKUP(A2040,Pilot,3,0)","v":"Zbraslavice"},{"$f":"VLOOKUP(A2040,Pilot,4,0)","v":"CZ/C1"},"WGC Women 2020 - 18m","AU",2020,5,7466,1.0599999999999998,8500,9010,null,"x","JS 3","XM",""]
["Ailsa McMillan",null,null,"Australia",null,"WGC Women 2020 - 18m","AU",2020,6,7461,1.0599999999999998,8265,8761,null,null,"JS1","OG","Není v databázi"]
["Lisa Turner",null,null,"Australia",null,"WGC Women 2020 - 18m","AU",2020,7,7186,1.0599999999999998,7797,8265,null,null,"ASG 29","HS","Není v databázi"]
["Jana Treslova",{"$f":"VLOOKUP(A2043,Pilot,2,0)","v":1963},{"$f":"VLOOKUP(A2043,Pilot,5,0)","v":"F"},{"$f":"VLOOKUP(A2043,Pilot,3,0)","v":"Raná"},{"$f":"VLOOKUP(A2043,Pilot,4,0)","v":"CZ/C2"},"WGC Women 2020 - 18m","AU",2020,8,7036,1.0599999999999998,7437,7883,null,"x","JS 3","ZE",""]
["Joanna Biedermann",null,null,"Poland",null,"WGC Women 2020 - 18m","AU",2020,9,6658,1.0599999999999998,6882,7295,null,null,"JS1 C","P","Není v databázi"]
["Margherita Acquaderni",null,null,"Italy",null,"WGC Women 2020 - 18m","AU",2020,10,6587,1.0599999999999998,6590,6985,null,null,"Ventus 3",57,"Není v databázi"]
["Stefanie Mühl",null,null,"Germany",null,"WGC Women 2020 - 18m","AU",2020,11,6513,1.0599999999999998,6295,6673,null,null,"ASG 29","PT","Není v databázi"]
["Eva Cerna",{"$f":"VLOOKUP(A2047,Pilot,2,0)","v":1964},{"$f":"VLOOKUP(A2047,Pilot,5,0)","v":"F"},{"$f":"VLOOKUP(A2047,Pilot,3,0)","v":"Příbram"},{"$f":"VLOOKUP(A2047,Pilot,4,0)","v":"CZ/C1"},"WGC Women 2020 - 18m","AU",2020,12,6083,1.0599999999999998,5695,6037,null,"x","JS 1C","ZF",""]
["Jenny Thompson",null,null,"Australia",null,"WGC Women 2020 - 18m","AU",2020,13,5861,1.0599999999999998,5273,5589,null,null,"ASG 29","J7","Není v databázi"]
["Diana Schuit",null,null,"Luxembourg",null,"WGC Women 2020 - 18m","AU",2020,14,5552,1.0599999999999998,4776,5063,null,null,"JS 3","MM","Není v databázi"]
["Lukas Kriz",{"$f":"VLOOKUP(A2050,Pilot,2,0)","v":2003},{"$f":"VLOOKUP(A2050,Pilot,5,0)","v":"M"},{"$f":"VLOOKUP(A2050,Pilot,3,0)","v":"Křižanov"},{"$f":"VLOOKUP(A2050,Pilot,4,0)","v":"CZ/M"},"JPJ 2021 - Klub","CZ",2021,1,3547,{"$f":"VLOOKUP(F2050,Soutez,12,0)","v":0.90500000000000003},{"$f":"ROUND(J2050/MAX($J$2050:$J$2085)*10000*0.7+(MAX($I$2050:$I$2085)-I2050)/(MAX($I$2050:$I$2085)-1)*10000*0.3,0)","v":10000},{"$f":"ROUND(K2050*L2050,0)","v":9050},"x",null,"Std. Cirrus","EJ","Junior v roce 2022"]
["Josef Novotny",1983,"M","Přibyslav","CZ/C2","JPJ 2021 - Klub","CZ",2021,2,3464,0.90500000000000003,9750,{"$f":"ROUND(K2051*L2051,0)","v":8824},"x",null,"Std. Cirrus","AW",""]
["Marek Blatak",1969,"M","Šumperk","CZ/M","JPJ 2021 - Klub","CZ",2021,3,3388,0.90500000000000003,9515,8611,"x",null,"LS-1f","LS",""]
["David Sachl",1978,"M","Kralupy","CZ/C1","JPJ 2021 - Klub","CZ",2021,4,3362,0.90500000000000003,9378,8487,"x",null,"DG-300 Club ELAN WL","BK",""]
["Martin Ficnar",{"$f":"VLOOKUP(A2054,Pilot,2,0)","v":1971},{"$f":"VLOOKUP(A2054,Pilot,5,0)","v":"M"},{"$f":"VLOOKUP(A2054,Pilot,3,0)","v":"Šumperk"},{"$f":"VLOOKUP(A2054,Pilot,4,0)","v":"CZ/M"},"JPJ 2021 - Klub","CZ",2021,5,3311,0.90500000000000003,9191,8318,"x",null,"LS-3a 15m","S20",""]
["Jindrich Svorc",1978,"M","Letňany","CZ/C1","JPJ 2021 - Klub","CZ",2021,6,3214,0.90500000000000003,8914,8067,"x",null,"Std. Cirrus","IMI",""]
["Jan Mareth",1979,"M","Frýdlant","CZ/M","JPJ 2021 - Klub","CZ",2021,7,3209,0.90500000000000003,8819,7981,"x",null,"ASW-15B","PA",""]
["Martin Urner",1974,"M","Letňany","CZ/C1","JPJ 2021 - Klub","CZ",2021,8,3123,0.90500000000000003,8563,7750,"x",null,"ASW-15B","JJ",""]
["Josef Novak",1981,"M","Kunovice","CZ/M","JPJ 2021 - Klub","CZ",2021,9,3102,0.90500000000000003,8436,7635,"x",null,"Discus CS","CS",""]
["Rene Hudak",1972,"M","Kunovice","CZ/M","JPJ 2021 - Klub","CZ",2021,10,3074,0.90500000000000003,8295,7507,"x",null,"Std. Cirrus WL","NK",""]
["Petr Kolomaznik",1981,"M","Šumperk","CZ/M","JPJ 2021 - Klub","CZ",2021,11,3021,0.90500000000000003,8105,7335,"x",null,"Discus b","VE",""]
["Pavlina Horackova",1965,"F","Šumperk","CZ/M","JPJ 2021 - Klub","CZ",2021,12,2971,0.90500000000000003,7920,7168,"x","x","SZD-48 Jantar std. 2","SU",""]
["David Vrchota",1976,"M","Jaroměř","CZ/C2","JPJ 2021 - Klub","CZ",2021,13,2940,0.90500000000000003,7774,7035,"x",null,"Std. Cirrus","GO",""]
["Vaclav Marel",1974,"M","Jaroměř","CZ/C2","JPJ 2021 - Klub","CZ",2021,14,2871,0.90500000000000003,7552,6835,"x",null,"Std. Cirrus","IF",""]
["Petr Kolacek",1965,"M","Šumperk","CZ/M","JPJ 2021 - Klub","CZ",2021,15,2862,0.90500000000000003,7448,6740,"x",null,"SZD-48 Jantar std. 3","IX",""]
["Vojtech Novotny",1992,"M","Kralupy","CZ/C1","JPJ 2021 - Klub","CZ",2021,16,2771,0.90500000000000003,7183,6501,null,null,"LS-1f","EF",{"$f":"IF(ISERROR(VLOOKUP(A2065,Pilot,6,0)),\"Není v databázi\",VLOOKUP(A2065,Pilot,6,0))","v":""}]
["Peter Kaspar",1980,"M","Vyškov","CZ/M","JPJ 2021 - Klub","CZ",2021,17,2604,0.90500000000000003,6768,6125,"x",null,"G-102 Astir 77","AP",""]
["Martin Svarc",1981,"M","Olomouc","CZ/M","JPJ 2021 - Klub","CZ",2021,18,2435,0.90500000000000003,6348,5745,"x",null,"DG-101 G","HE",""]
["Jiri Koudela",1974,"M","Vyškov","CZ/M","JPJ 2021 - Klub","CZ",2021,19,2432,0.90500000000000003,6257,5663,"x",null,"ASW-19B","JK",""]
["Roman Schotli",1970,"M","Hranice","CZ/M","JPJ 2021 - Klub","CZ",2021,20,2338,0.90500000000000003,5985,5416,"x",null,"ASW-19B",19,""]
["Adam Sugl",1987,"M","Vyškov","CZ/M","JPJ 2021 - Klub","CZ",2021,21,2323,0.90500000000000003,5870,5312,"x",null,"G-102 Astir 77","AS",""]
["Jaromir Vlk",{"$f":"VLOOKUP(A2071,Pilot,2,0)","v":1959},{"$f":"VLOOKUP(A2071,Pilot,5,0)","v":"M"},{"$f":"VLOOKUP(A2071,Pilot,3,0)","v":"Šumperk"},{"$f":"VLOOKUP(A2071,Pilot,4,0)","v":"CZ/M"},"JPJ 2021 - Klub","CZ",2021,22,2301,0.90500000000000003,5741,5196,"x",null,"ASW-15B","R5",""]
["Petr Havrlant",1965,"M","Šumperk","CZ/M","JPJ 2021 - Klub","CZ",2021,23,2144,0.90500000000000003,5345,4837,"x",null,"ASW-15B","Q1",""]
["Stepan Obrovsky",1990,"M","Frýdlant","CZ/M","JPJ 2021 - Klub","CZ",2021,24,2135,0.90500000000000003,5242,4744,"x",null,"Std. Cirrus",22,""]
["Karel Horalek",1976,"M","Olomouc","CZ/M","JPJ 2021 - Klub","CZ",2021,25,2134,0.90500000000000003,5154,4664,"x",null,"LS-3 15m","Y1",""]
["Jan Zezula",1979,"M","Letňany","CZ/C1","JPJ 2021 - Klub","CZ",2021,26,2066,0.90500000000000003,4934,4465,"x",null,"ASW-19B","HD",""]
["Lukas Petrzela",1987,"M","Olomouc","CZ/M","JPJ 2021 - Klub","CZ",2021,27,1797,0.90500000000000003,4318,3908,"x",null,"G-102 Astir cs","AL",""]
["Petr Valenta 76",{"$f":"VLOOKUP(A2077,Pilot,2,0)","v":1976},{"$f":"VLOOKUP(A2077,Pilot,5,0)","v":"M"},{"$f":"VLOOKUP(A2077,Pilot,3,0)","v":"Jaroměř"},{"$f":"VLOOKUP(A2077,Pilot,4,0)","v":"CZ/C2"},"JPJ 2021 - Klub","CZ",2021,28,1580,0.90500000000000003,3804,3443,"x",null,"Discus b","JA",""]
["Petr Lonsky",1965,"M","Toužim","CZ/C1","JPJ 2021 - Klub","CZ",2021,29,1430,0.90500000000000003,3422,3097,null,null,"Cirrus","JP",""]
["Yvona Vyhnankova",1963,"F","Olomouc","CZ/M","JPJ 2021 - Klub","CZ",2021,30,1427,0.90500000000000003,3330,3014,"x","x","ASW-15","YZ",""]
["Karel Ertl",1939,"M","LK Břeclav","CZ/M","JPJ 2021 - Klub","CZ",2021,31,1071,0.90500000000000003,2542,2301,"x",null,"TST-10M Atlas","KE",""]
["Jan Pokluda",1973,"M","Šumperk","CZ/M","JPJ 2021 - Klub","CZ",2021,32,1028,0.90500000000000003,2372,2147,"x",null,"ASW-15B WL","JG",""]
["Lubomir Papezik",1951,"M","Luhačovice","CZ/M","JPJ 2021 - Klub","CZ",2021,33,899,{"$f":"VLOOKUP(F2082,Soutez,12,0)","v":0.90500000000000003},2031,1838,"x",null,"LS-4","FP",""]
["Michal Linhart",1982,"M","Vyškov","CZ/M","JPJ 2021 - Klub","CZ",2021,34,617,0.90500000000000003,1389,{"$f":"ROUND(K2083*L2083,0)","v":1257},"x",null,"VSO-10","B2",""]
["Ludek Mikl",1963,"M","Kroměříž","CZ/M","JPJ 2021 - Klub","CZ",2021,35,601,0.90500000000000003,1272,1151,"x",null,"Std. Cirrus",16,""]
["Albert Schneider",{"$f":"VLOOKUP(A2085,Pilot,2,0)","v":1967},{"$f":"VLOOKUP(A2085,Pilot,5,0)","v":"M"},{"$f":"VLOOKUP(A2085,Pilot,3,0)","v":"Hranice"},{"$f":"VLOOKUP(A2085,Pilot,4,0)","v":"CZ/M"},"JPJ 2021 - Klub","CZ",2021,36,580,0.90500000000000003,1145,1036,"x",null,"Mini-Nimbus c","I",""]
["Jan Sustr 76",{"$f":"VLOOKUP(A2086,Pilot,2,0)","v":1976},{"$f":"VLOOKUP(A2086,Pilot,5,0)","v":"M"},{"$f":"VLOOKUP(A2086,Pilot,3,0)","v":"Raná"},{"$f":"VLOOKUP(A2086,Pilot,4,0)","v":"CZ/C2"},"JPJ 2021 - Klub","CZ",2021,"DNS",0,0.90500000000000003,0,0,null,null,"DG-300 Club ELAN","WL",""]
["Pavel Skrabal",1969,"M","Šumperk","CZ/M","JPJ 2021 - Klub","CZ",2021,"DNS",0,0.90500000000000003,0,0,null,null,"L-13 Blaník dvojí","PAS",""]
["Radek Hybl",{"$f":"VLOOKUP(A2088,Pilot,2,0)","v":1980},{"$f":"VLOOKUP(A2088,Pilot,5,0)","v":"M"},{"$f":"VLOOKUP(A2088,Pilot,3,0)","v":"Šumperk"},{"$f":"VLOOKUP(A2088,Pilot,4,0)","v":"CZ/M"},"JPJ 2021 - Kombi","CZ",2021,1,3343,0.90500000000000003,{"$f":"ROUND(J2088/MAX($J$2088:$J$2112)*10000*0.7+(MAX($I$2088:$I$2112)-I2088)/(MAX($I$2088:$I$2112)-1)*10000*0.3,0)","v":10000},{"$f":"ROUND(K2088*L2088,0)","v":9050},"x",null,"Ventus cm 17,6m","IHH",""]
["Radek Zima 78",1978,"M","Hodkovice","CZ/C2","JPJ 2021 - Kombi","CZ",2021,2,3263,0.90500000000000003,9707,{"$f":"ROUND(K2089*L2089,0)","v":8785},"x",null,"ASG-29E 18m","XZ",""]
["Miroslav Koci",{"$f":"VLOOKUP(A2090,Pilot,2,0)","v":1961},{"$f":"VLOOKUP(A2090,Pilot,5,0)","v":"M"},{"$f":"VLOOKUP(A2090,Pilot,3,0)","v":"Žamberk"},{"$f":"VLOOKUP(A2090,Pilot,4,0)","v":"CZ/C2"},"JPJ 2021 - Kombi","CZ",2021,3,3119,0.90500000000000003,9281,8399,"x",null,"Ventus 2cxm 18m 565kg","E8",""]
["Frantisek Vancura",1966,"M","Hranice","CZ/M","JPJ 2021 - Kombi","CZ",2021,4,3015,0.90500000000000003,8938,8089,"x",null,"Nimbus 3T 24,5m WL 750kg","A1",""]
["Michal Cechmanek",1978,"M","Luhačovice","CZ/M","JPJ 2021 - Kombi","CZ",2021,5,2893,0.90500000000000003,8558,7745,"x",null,"ASW-20 (A)+F 15m WL","MK",""]
["Radim Hahn",1972,"M","Zábřeh","CZ/M","JPJ 2021 - Kombi","CZ",2021,6,2872,0.90500000000000003,8389,7592,"x",null,"Arcus","II",""]
["Jan Dersak 69",1969,"M","Kralupy","CZ/C1","JPJ 2021 - Kombi","CZ",2021,7,2843,0.90500000000000003,8203,7424,"x",null,"HpH 304JS SHARK 18m 573kg","DJ",""]
["Jaroslav Buryan",{"$f":"VLOOKUP(A2095,Pilot,2,0)","v":1953},{"$f":"VLOOKUP(A2095,Pilot,5,0)","v":"M"},{"$f":"VLOOKUP(A2095,Pilot,3,0)","v":"Zábřeh"},{"$f":"VLOOKUP(A2095,Pilot,4,0)","v":"CZ/M"},"JPJ 2021 - Kombi","CZ",2021,8,2809,0.90500000000000003,8007,7246,"x",null,"ASW-20 (A)+F 15m WL","NS",""]
["Jan Simon",1970,"M","Kralupy","CZ/C1","JPJ 2021 - Kombi","CZ",2021,9,2664,0.90500000000000003,7578,6858,"x",null,"Duo Discus T 700kg","ZS",""]
["Zdenek Schenk",1972,"M","Hranice","CZ/M","JPJ 2021 - Kombi","CZ",2021,10,2601,0.90500000000000003,7321,6626,null,null,"Ventus cm 17,6m","ŠNeK",""]
["Jan Kohout",1970,"M","Žamberk","CZ/C2","JPJ 2021 - Kombi","CZ",2021,11,2562,0.90500000000000003,7115,6439,"x",null,"LS-8 15m","SK",""]
["Jiri Steiger",1969,"M","Olomouc","CZ/M","JPJ 2021 - Kombi","CZ",2021,11,2562,0.90500000000000003,7115,6439,null,null,"Ventus 3M 18m","JS",""]
["Albrecht Beat",1953,"M","Šumperk","CZ/M","JPJ 2021 - Kombi","CZ",2021,13,2548,0.90500000000000003,6835,6186,"x",null,"LS-8-18 18m","GL",""]
["Ladislav Jozsa",1981,"M","Medlánky","CZ/M","JPJ 2021 - Kombi","CZ",2021,14,2522,0.90500000000000003,6656,6024,"x",null,"Ventus c 17,6m","WW",""]
["Tomas Prikryl",1973,"M","Vyškov","CZ/M","JPJ 2021 - Kombi","CZ",2021,15,2425,0.90500000000000003,6328,5727,"x",null,"Ventus 2cm 18m 525kg","FN",""]
["Vit Grossmann",1977,"M","Hranice","CZ/M","JPJ 2021 - Kombi","CZ",2021,16,2351,0.90500000000000003,6048,5473,"x",null,"Duo Discus 700kg","OK",""]
["Miroslav Sklenar",1964,"M","Žamberk","CZ/C2","JPJ 2021 - Kombi","CZ",2021,17,2282,0.90500000000000003,5778,5229,"x",null,"Duo Discus 700kg","VP",""]
["Pavel Haluza",1966,"M","Prostějov","CZ/M","JPJ 2021 - Kombi","CZ",2021,18,2212,0.90500000000000003,5507,4984,"x",null,"Nimbus 2b","HT",""]
["Roman Cerny",1971,"M","Hranice","CZ/M","JPJ 2021 - Kombi","CZ",2021,19,1991,0.90500000000000003,4919,4452,"x",null,"DG-500M 22m","T",""]
["Tomas Profeld",1964,"M","Jičín","CZ/C2","JPJ 2021 - Kombi","CZ",2021,20,1984,0.90500000000000003,4779,{"$f":"ROUND(K2107*L2107,0)","v":4325},null,null,"Ventus 2cm 18m 525kg","OZ",""]
["Kamil Sohr",1973,"M","Šumperk","CZ/M","JPJ 2021 - Kombi","CZ",2021,21,1915,0.90500000000000003,4510,4082,"x",null,"Ventus c 17,6m","W",""]
["Martin Kriz",1968,"M","Přibyslav","CZ/C2","JPJ 2021 - Kombi","CZ",2021,22,1825,0.90500000000000003,4196,3797,null,null,"ASW-20 (A)+F 15m WL",67,""]
["Antonin Kutalek",1943,"M","Zábřeh","CZ/M","JPJ 2021 - Kombi","CZ",2021,23,1818,0.90500000000000003,4057,3672,"x",null,"LAK-17AT 18m","GLK",""]
["Vladimir Spilka",1940,"M","Hranice","CZ/M","JPJ 2021 - Kombi","CZ",2021,24,1521,0.90500000000000003,3310,2996,"x",null,"Nimbus 2b","AY",""]
["Pavel Handl",1971,"M","Kroměříž","CZ/M","JPJ 2021 - Kombi","CZ",2021,25,285,0.90500000000000003,597,540,"x",null,"Ventus 2cm 18m 525kg","VJ",""]
["Toby Freeland",null,null,"Imperial Gliding College Club","GB","PMČR 2021 - Klub","CZ",2021,1,6518,1.05,{"$f":"ROUND(J2113/MAX($J$2113:$J$2128)*10000*0.7+(MAX($I$2113:$I$2128)-I2113)/(MAX($I$2113:$I$2128)-1)*10000*0.3,0)","v":10000},{"$f":"ROUND(K2113*L2113,0)","v":10500},null,null,"ASW20",212,"Není v databázi"]
["Jakub Hlavacek",{"$f":"VLOOKUP(A2114,Pilot,2,0)","v":1991},{"$f":"VLOOKUP(A2114,Pilot,5,0)","v":"M"},{"$f":"VLOOKUP(A2114,Pilot,3,0)","v":"Letkov"},{"$f":"VLOOKUP(A2114,Pilot,4,0)","v":"CZ/C1"},"PMČR 2021 - Klub","CZ",2021,2,6482,{"$f":"VLOOKUP(F2114,Soutez,12,0)","v":1.05},9761,{"$f":"ROUND(K2114*L2114,0)","v":10249},"x",null,"StdCirrus","SB",""]
["Finn Sleigh",null,null,"Lasham","GB","PMČR 2021 - Klub","CZ",2021,3,6390,1.05,9463,9936,null,null,"ASW 20",5,"Není v databázi"]
["Jan Ratz",{"$f":"VLOOKUP(A2116,Pilot,2,0)","v":1987},{"$f":"VLOOKUP(A2116,Pilot,5,0)","v":"M"},{"$f":"VLOOKUP(A2116,Pilot,3,0)","v":"Zbraslavice"},{"$f":"VLOOKUP(A2116,Pilot,4,0)","v":"CZ/C1"},"PMČR 2021 - Klub","CZ",2021,4,6335,1.05,9203,9663,"x",null,"StdCirrus","REX",""]
["Zdenek Boruvka 86",1986,"M","Jičín","CZ/C2","PMČR 2021 - Klub","CZ",2021,5,6321,1.05,8988,9437,"x",null,"StdCirrus","BJ",""]
["Michal Lesinger",{"$f":"VLOOKUP(A2118,Pilot,2,0)","v":1966},{"$f":"VLOOKUP(A2118,Pilot,5,0)","v":"M"},{"$f":"VLOOKUP(A2118,Pilot,3,0)","v":"Moravská Třebová"},{"$f":"VLOOKUP(A2118,Pilot,4,0)","v":"CZ/M"},"PMČR 2021 - Klub","CZ",2021,6,5699,1.05,8120,8526,null,null,"ASW19B","LL",""]
["Edmund Schuller",null,null,"Lucenec","SK","PMČR 2021 - Klub","CZ",2021,7,5427,1.05,7628,8009,null,null,"ASW24","ZS","Není v databázi"]
["Pavel Rericha",{"$f":"VLOOKUP(A2120,Pilot,2,0)","v":1967},{"$f":"VLOOKUP(A2120,Pilot,5,0)","v":"M"},{"$f":"VLOOKUP(A2120,Pilot,3,0)","v":"Moravská Třebová"},{"$f":"VLOOKUP(A2120,Pilot,4,0)","v":"CZ/M"},"PMČR 2021 - Klub","CZ",2021,8,5199,1.05,7183,7542,"x",null,"ASW19B","NO",""]
["Tibor Fratrik",null,null,"SGC Martin","SK","PMČR 2021 - Klub","CZ",2021,9,5010,1.05,6780,7119,null,null,"C101APegase","OI","Není v databázi"]
["Pawel Glowacki",null,null,"Leszno","PL","PMČR 2021 - Klub","CZ",2021,10,4911,1.05,6474,6798,null,null,"C101APegase","J7","Není v databázi"]
["Slavomir Piskaty 84",{"$f":"VLOOKUP(A2123,Pilot,2,0)","v":1984},{"$f":"VLOOKUP(A2123,Pilot,5,0)","v":"M"},{"$f":"VLOOKUP(A2123,Pilot,3,0)","v":"Kunovice"},{"$f":"VLOOKUP(A2123,Pilot,4,0)","v":"CZ/M"},"PMČR 2021 - Klub","CZ",2021,11,4360,1.05,5682,5966,"x",null,"Discus cs","KAL",""]
["Karol Snapko",null,null,"Nadwislanski","PL","PMČR 2021 - Klub","CZ",2021,12,4190,1.05,5300,{"$f":"ROUND(K2124*L2124,0)","v":5565},null,null,"SZD48 JantarStd2/3","BZ","Není v databázi"]
["Petra Piskata",{"$f":"VLOOKUP(A2125,Pilot,2,0)","v":1989},{"$f":"VLOOKUP(A2125,Pilot,5,0)","v":"F"},{"$f":"VLOOKUP(A2125,Pilot,3,0)","v":"Luhačovice"},{"$f":"VLOOKUP(A2125,Pilot,4,0)","v":"CZ/M"},"PMČR 2021 - Klub","CZ",2021,13,4187,1.05,5097,5352,null,null,"LS 4","FP",""]
["Lukas Plocek",1990,"M","Mladá Boleslav","CZ/C1","PMČR 2021 - Klub","CZ",2021,14,3369,1.05,4018,4219,"x",null,"ASW19B","AH",""]
["Marek Pechanec",1970,"M","Luhačovice","CZ/M","PMČR 2021 - Klub","CZ",2021,15,3233,1.05,3672,3856,"x",null,"StdCirrus","SJ",{"$f":"IF(ISERROR(VLOOKUP(A2127,Pilot,6,0)),\"Není v databázi\",VLOOKUP(A2127,Pilot,6,0))","v":""}]
["Jakub Kos",null,null,"Bielsko-Bialski","PL","PMČR 2021 - Klub","CZ",2021,16,3081,1.05,3309,3474,null,null,"SZD48 Jantar std3","ZAR","Není v databázi"]
["Petr Koutny",{"$f":"VLOOKUP(A2129,Pilot,2,0)","v":1971},{"$f":"VLOOKUP(A2129,Pilot,5,0)","v":"M"},{"$f":"VLOOKUP(A2129,Pilot,3,0)","v":"Křižanov"},{"$f":"VLOOKUP(A2129,Pilot,4,0)","v":"CZ/M"},"PMČR 2021 - Kombi 15m","CZ",2021,1,6225,1.0599999999999998,{"$f":"ROUND(J2129/MAX($J$2129:$J$2144)*10000*0.7+(MAX($I$2129:$I$2144)-I2129)/(MAX($I$2129:$I$2144)-1)*10000*0.3,0)","v":10000},{"$f":"ROUND(K2129*L2129,0)","v":10600},"x",null,"LS8 15m","SK",""]
["Jan Zapletal",1997,"M","Břeclav","CZ/M","PMČR 2021 - Kombi 15m","CZ",2021,2,6126,1.0599999999999998,9689,{"$f":"ROUND(K2130*L2130,0)","v":10270},"x",null,"LS8","JS","Junior v roce 2022"]
["Jan Pavlik",1987,"M","Křižanov","CZ/M","PMČR 2021 - Kombi 15m","CZ",2021,3,6112,1.0599999999999998,9473,10041,"x",null,"LS8","JW",""]
["Pavel Louzecky",1957,"M","Přibyslav","CZ/C2","PMČR 2021 - Kombi 15m","CZ",2021,4,6074,1.0599999999999998,9230,9784,"x",null,"LS8","FX",""]
["Miloslav Cink",1987,"M","Letkov","CZ/C1","PMČR 2021 - Kombi 15m","CZ",2021,5,6073,1.0599999999999998,9029,9571,null,null,"LS8","JB",""]
["Henry Inigo-Jones",null,null,"Lasham Gliding Society",null,"PMČR 2021 - Kombi 15m","CZ",2021,6,5785,1.0599999999999998,8505,9015,null,null,"LS8",95,"Není v databázi"]
["Thomas Pavis",null,null,"York Gliding Centre",null,"PMČR 2021 - Kombi 15m","CZ",2021,7,5444,1.0599999999999998,7922,8397,null,null,"Discus2a",235,"Není v databázi"]
["Jan Horak",{"$f":"VLOOKUP(A2136,Pilot,2,0)","v":1971},{"$f":"VLOOKUP(A2136,Pilot,5,0)","v":"M"},{"$f":"VLOOKUP(A2136,Pilot,3,0)","v":"Zbraslavice"},{"$f":"VLOOKUP(A2136,Pilot,4,0)","v":"CZ/C1"},"PMČR 2021 - Kombi 15m","CZ",2021,8,5372,1.0599999999999998,7641,8099,"x",null,"ASW 20 WL","WX",""]
["Hana Treslova",1991,"F","Raná","CZ/C2","PMČR 2021 - Kombi 15m","CZ",2021,9,5335,1.0599999999999998,7399,7843,null,null,"Ventus2ax","AX",""]
["Barbora Moravcova",1994,"F","Zbraslavice","CZ/C1","PMČR 2021 - Kombi 15m","CZ",2021,10,5329,1.0599999999999998,7192,7624,"x",null,"LS8","EU",""]
["Jiri Kusbach",1959,"M","Luhačovice","CZ/M","PMČR 2021 - Kombi 15m","CZ",2021,11,4688,1.0599999999999998,6272,6648,null,null,"KKB 15E FES","B",""]
["Jan Kotan",1982,"M","Letňany","CZ/C1","PMČR 2021 - Kombi 15m","CZ",2021,12,4674,1.0599999999999998,6056,{"$f":"ROUND(K2140*L2140,0)","v":6419},null,null,"Ventus2bx","YA",""]
["Jana Veprekova",1961,"F","Dvůr Králové","CZ/C2","PMČR 2021 - Kombi 15m","CZ",2021,13,4663,1.0599999999999998,5844,6195,null,null,"LS8","W8",""]
["Jana Treslova",1963,"F","Raná","CZ/C2","PMČR 2021 - Kombi 15m","CZ",2021,14,4607,1.0599999999999998,5581,5916,null,null,"Discus2a","GX",""]
["Dana Novakova",1965,"F","Mladá Boleslav","CZ/C1","PMČR 2021 - Kombi 15m","CZ",2021,15,4498,1.0599999999999998,5258,5573,null,null,"LS8","AU",""]
["Zdenek Balcarek",1967,"M","Kroměříž","CZ/M","PMČR 2021 - Kombi 15m","CZ",2021,16,4401,1.0599999999999998,4949,5246,null,null,"DiscusB","OS",""]
["Roman Mracek",{"$f":"VLOOKUP(A2145,Pilot,2,0)","v":1980},{"$f":"VLOOKUP(A2145,Pilot,5,0)","v":"M"},{"$f":"VLOOKUP(A2145,Pilot,3,0)","v":"Letkov"},{"$f":"VLOOKUP(A2145,Pilot,4,0)","v":"CZ/C1"},"PMČR 2021 - Kombi Open","CZ",2021,1,6274,{"$f":"VLOOKUP(F2145,Soutez,12,0)","v":1.0549999999999999},{"$f":"ROUND(J2145/MAX($J$2145:$J$2164)*10000*0.7+(MAX($I$2145:$I$2164)-I2145)/(MAX($I$2145:$I$2164)-1)*10000*0.3,0)","v":10000},{"$f":"ROUND(K2145*L2145,0)","v":10550},"x",null,"JS3 18M","ZE",""]
["Radek Krejcirik",1991,"M","Hranice","CZ/M","PMČR 2021 - Kombi Open","CZ",2021,2,6065,1.0549999999999999,{"$f":"ROUND(J2146/MAX($J$2145:$J$2164)*10000*0.7+(MAX($I$2145:$I$2164)-I2146)/(MAX($I$2145:$I$2164)-1)*10000*0.3,0)","v":9609},{"$f":"ROUND(K2146*L2146,0)","v":10137},"x",null,"JS1 C EVO","ZF",""]
["Jan Boruvka",1984,"M","Jičín","CZ/C2","PMČR 2021 - Kombi Open","CZ",2021,3,5635,1.0549999999999999,8971,9464,"x",null,"VentusC","EG",""]
["Radek Kucirek",1973,"M","Havlíčkův Brod","CZ/C2","PMČR 2021 - Kombi Open","CZ",2021,4,5525,1.0549999999999999,8691,9169,"x",null,"EB28Edition","NA",""]
["Martin Hrivna",1978,"M","Zbraslavice","CZ/C1","PMČR 2021 - Kombi Open","CZ",2021,5,5434,1.0549999999999999,8431,8895,"x",null,"ASG29E","NX",""]
["Tomas Rendla",1973,"M","Zbraslavice","CZ/C1","PMČR 2021 - Kombi Open","CZ",2021,6,5401,1.0549999999999999,8237,8690,"x",null,"EB29R","EX",""]
["Radek Zima 78",1978,"M","Hodkovice","CZ/C2","PMČR 2021 - Kombi Open","CZ",2021,7,5336,1.0549999999999999,8006,8446,"x",null,"ASG29E","XZ",""]
["Ondrej Dupal",{"$f":"VLOOKUP(A2152,Pilot,2,0)","v":1966},{"$f":"VLOOKUP(A2152,Pilot,5,0)","v":"M"},{"$f":"VLOOKUP(A2152,Pilot,3,0)","v":"GAC Benešov"},{"$f":"VLOOKUP(A2152,Pilot,4,0)","v":"CZ/C1"},"PMČR 2021 - Kombi Open","CZ",2021,8,5326,1.0549999999999999,7837,8268,null,null,"ASG29E","GO",""]
["David Mach",1994,"M","Hronov","CZ/C2","PMČR 2021 - Kombi Open","CZ",2021,9,5323,1.0549999999999999,7676,8098,"x",null,"JS3 18M","XM",""]
["Petr Krejcirik",1960,"M","Hranice","CZ/M","PMČR 2021 - Kombi Open","CZ",2021,10,5249,1.0549999999999999,7435,7844,null,null,"JS3 18M","VB",""]
["Petr Hotovy",1958,"M","Česká Lípa","CZ/C2","PMČR 2021 - Kombi Open","CZ",2021,11,5213,1.0549999999999999,7237,7635,"x",null,"JS1 18m EVO","IGC",""]
["Michaela Rendlova",2004,"F","Toužim","CZ/C1","PMČR 2021 - Kombi Open","CZ",2021,12,5193,1.0549999999999999,7057,7445,"x","x","ASG29E","QX","Junior v roce 2022"]
["Ivan Novak",1962,"M","Mladá Boleslav","CZ/C1","PMČR 2021 - Kombi Open","CZ",2021,13,5131,1.0549999999999999,6830,7206,null,null,"ASG29E","QZ",""]
["Alena Netusilova",1970,"F","Zbraslavice","CZ/C1","PMČR 2021 - Kombi Open","CZ",2021,14,5089,1.0549999999999999,6625,6989,null,null,"JS 1 C EVO","JX",""]
["Lenka Kuthanova",{"$f":"VLOOKUP(A2159,Pilot,2,0)","v":1960},{"$f":"VLOOKUP(A2159,Pilot,5,0)","v":"F"},{"$f":"VLOOKUP(A2159,Pilot,3,0)","v":"Tábor"},{"$f":"VLOOKUP(A2159,Pilot,4,0)","v":"CZ/C1"},"PMČR 2021 - Kombi Open","CZ",2021,15,4805,1.0549999999999999,6150,6488,"x","x","JS1 18EVO","LX",""]
["Jan Kovalcik",null,null,"Bratislava",null,"PMČR 2021 - Kombi Open","CZ",2021,16,4720,1.0549999999999999,5898,6222,null,null,"DISCUS2CFES","ZI","Není v databázi"]
["Martin Picka",{"$f":"VLOOKUP(A2161,Pilot,2,0)","v":1974},{"$f":"VLOOKUP(A2161,Pilot,5,0)","v":"M"},{"$f":"VLOOKUP(A2161,Pilot,3,0)","v":"Tábor"},{"$f":"VLOOKUP(A2161,Pilot,4,0)","v":"CZ/C1"},"PMČR 2021 - Kombi Open","CZ",2021,17,4543,1.0549999999999999,5542,5847,"x",null,"Ventus2C","CX",""]
["Petr Bartak",1984,"M","Letkov","CZ/C1","PMČR 2021 - Kombi Open","CZ",2021,18,4539,1.0549999999999999,{"$f":"ROUND(J2162/MAX($J$2145:$J$2164)*10000*0.7+(MAX($I$2145:$I$2164)-I2162)/(MAX($I$2145:$I$2164)-1)*10000*0.3,0)","v":5380},5676,"x",null,"LS6c-18W","BL",""]
["Lukas Benedikt",null,null,"Trnava",null,"PMČR 2021 - Kombi Open","CZ",2021,19,4468,1.0549999999999999,5143,{"$f":"ROUND(K2163*L2163,0)","v":5426},null,null,"Ventus3f-18m","LB","Není v databázi"]
["Ivan Harasta 65",{"$f":"VLOOKUP(A2164,Pilot,2,0)","v":1965},{"$f":"VLOOKUP(A2164,Pilot,5,0)","v":"M"},{"$f":"VLOOKUP(A2164,Pilot,3,0)","v":"Toužim"},{"$f":"VLOOKUP(A2164,Pilot,4,0)","v":"CZ/C1"},"PMČR 2021 - Kombi Open","CZ",2021,20,1819,1.0549999999999999,2029,2141,null,null,"Nimbus 3/25.5m",12,""]
["Jan Louda",{"$f":"VLOOKUP(A2165,Pilot,2,0)","v":1986},{"$f":"VLOOKUP(A2165,Pilot,5,0)","v":"M"},{"$f":"VLOOKUP(A2165,Pilot,3,0)","v":"Mladá Boleslav"},{"$f":"VLOOKUP(A2165,Pilot,4,0)","v":"CZ/C1"},"PMRg 2021 - Klub","CZ",2021,1,5782,{"$f":"VLOOKUP(F2165,Soutez,12,0)","v":0.94000000000000006},{"$f":"ROUND(J2165/MAX($J$2165:$J$2190)*10000*0.7+(MAX($I$2165:$I$2190)-I2165)/(MAX($I$2165:$I$2190)-1)*10000*0.3,0)","v":10000},{"$f":"ROUND(K2165*L2165,0)","v":9400},"x",null,"ASW-19B","XS",""]
["Pavel Jiranek",1993,"M","Toužim","CZ/C1","PMRg 2021 - Klub","CZ",2021,2,5754,0.94000000000000006,9846,{"$f":"ROUND(K2166*L2166,0)","v":9255},"x",null,"Std. Cirrus","IYD",""]
["Pavel Trybenekr",1990,"M","Hořice","CZ/C2","PMRg 2021 - Klub","CZ",2021,3,5741,0.94000000000000006,9710,9127,"x",null,"LS-4","PF",""]
["Hana Treslova",1991,"F","Raná","CZ/C2","PMRg 2021 - Klub","CZ",2021,4,5404,0.94000000000000006,9182,8631,"x","x","Std. Cirrus","CI",""]
["Jiri Stepanek",1956,"M","Moravská Třebová","CZ/M","PMRg 2021 - Klub","CZ",2021,5,5331,0.94000000000000006,8974,8436,"x",null,"VSO-10","H9",""]
["Martin Stepanek",1987,"M","Moravská Třebová","CZ/M","PMRg 2021 - Klub","CZ",2021,6,5267,0.94000000000000006,8777,8250,"x",null,"ASW-15B","LE",""]
["Petr Stepanek",1989,"M","Moravská Třebová","CZ/M","PMRg 2021 - Klub","CZ",2021,7,5104,0.94000000000000006,8459,7951,"x",null,"ASW-15B","ZP",""]
["Zdenek Balcarek",1967,"M","Kroměříž","CZ/M","PMRg 2021 - Klub","CZ",2021,8,4662,0.94000000000000006,7804,7336,"x",null,"Discus b","OS",""]
["Zdenek Boruvka 86",1986,"M","Jičín","CZ/C2","PMRg 2021 - Klub","CZ",2021,9,4641,0.94000000000000006,7659,7199,null,null,"Std. Cirrus","BJ",""]
["Petr Valenta 94",{"$f":"VLOOKUP(A2174,Pilot,2,0)","v":1994},{"$f":"VLOOKUP(A2174,Pilot,5,0)","v":"M"},{"$f":"VLOOKUP(A2174,Pilot,3,0)","v":"Kunovice"},{"$f":"VLOOKUP(A2174,Pilot,4,0)","v":"CZ/M"},"PMRg 2021 - Klub","CZ",2021,10,4371,0.94000000000000006,7212,6779,"x",null,"Std. Cirrus","OK",""]
["Pavlina Horackova",1965,"F","Šumperk","CZ/M","PMRg 2021 - Klub","CZ",2021,11,4345,0.94000000000000006,7060,6636,"x","x","SZD-48 Jantar std. 2 (3)","SU",""]
["Jiri Vondracek",1989,"M","Kladno","CZ/C1","PMRg 2021 - Klub","CZ",2021,12,4337,0.94000000000000006,6931,6515,"x",null,"ASW-15B","2P",""]
["Jiri Maier 66",1966,"M","Raná","CZ/C2","PMRg 2021 - Klub","CZ",2021,13,4311,0.94000000000000006,6779,6372,"x",null,"ASW-24E","JM",""]
["Martin Kriz",{"$f":"VLOOKUP(A2178,Pilot,2,0)","v":1968},{"$f":"VLOOKUP(A2178,Pilot,5,0)","v":"M"},{"$f":"VLOOKUP(A2178,Pilot,3,0)","v":"Přibyslav"},{"$f":"VLOOKUP(A2178,Pilot,4,0)","v":"CZ/C2"},"PMRg 2021 - Klub","CZ",2021,14,4245,0.94000000000000006,6579,6184,"x",null,"ASW-20 (A)+F /15m WL",67,""]
["Jan Florian",1992,"M","Zbraslavice","CZ/C1","PMRg 2021 - Klub","CZ",2021,15,3748,0.94000000000000006,5858,5507,"x",null,"Std. Cirrus","C1",""]
["Pavel Liska",1965,"M","Roudnice","CZ/C2","PMRg 2021 - Klub","CZ",2021,15,3748,0.94000000000000006,5858,5507,"x",null,"ASW-19B","RCE",""]
["Michal Lesinger",1966,"M","Moravská Třebová","CZ/M","PMRg 2021 - Klub","CZ",2021,17,3527,0.94000000000000006,5350,5029,null,null,"ASW-19B","LL",""]
["Pavel Koudelka",1973,"M","Křižanov","CZ/M","PMRg 2021 - Klub","CZ",2021,18,3320,0.94000000000000006,4979,4680,"x",null,"Std. Cirrus","ZL",""]
["Petr Prichystal",1973,"M","Moravská Třebová","CZ/M","PMRg 2021 - Klub","CZ",2021,19,3256,0.94000000000000006,4782,4495,"x",null,"ASW-19B","AE",""]
["Jan Vozeh",1995,"M","Rakovník","CZ/C1","PMRg 2021 - Klub","CZ",2021,20,3074,0.94000000000000006,4442,4175,"x",null,"Std. Cirrus","OG",""]
["Jakub Kohn",1992,"M","Prostějov","CZ/M","PMRg 2021 - Klub","CZ",2021,21,2944,0.94000000000000006,4164,3914,"x",null,"ASW-15B","FK",""]
["Josef Hlusek",1993,"M","Kunovice","CZ/M","PMRg 2021 - Klub","CZ",2021,22,2433,0.94000000000000006,3426,3220,"x",null,"Std. Cirrus","WO",""]
["Petr Kubik 75",1975,"M","Moravská Třebová","CZ/M","PMRg 2021 - Klub","CZ",2021,23,2399,0.94000000000000006,3264,{"$f":"ROUND(K2187*L2187,0)","v":3068},"x",null,"ASW-19B","NO",""]
["Marek Pechar",{"$f":"VLOOKUP(A2188,Pilot,2,0)","v":1995},{"$f":"VLOOKUP(A2188,Pilot,5,0)","v":"M"},{"$f":"VLOOKUP(A2188,Pilot,3,0)","v":"Chrudim"},{"$f":"VLOOKUP(A2188,Pilot,4,0)","v":"CZ/C2"},"PMRg 2021 - Klub","CZ",2021,24,1755,0.94000000000000006,2365,2223,"x",null,"Std. Cirrus","JE",{"$f":"IF(ISERROR(VLOOKUP(A2188,Pilot,6,0)),\"Není v databázi\",VLOOKUP(A2188,Pilot,6,0))","v":""}]
["Jiri Krofta",1988,"M","Hosín","CZ/C1","PMRg 2021 - Klub","CZ",2021,25,1748,0.94000000000000006,2236,2102,"x",null,"Std. Cirrus","YU",""]
["Zuzana Kutilkova",1993,"F","Křižanov","CZ/M","PMRg 2021 - Klub","CZ",2021,26,813,0.94000000000000006,984,925,"x","x","LS-1f","DP",""]
["Tomas Rendla",{"$f":"VLOOKUP(A2191,Pilot,2,0)","v":1973},{"$f":"VLOOKUP(A2191,Pilot,5,0)","v":"M"},{"$f":"VLOOKUP(A2191,Pilot,3,0)","v":"Zbraslavice"},{"$f":"VLOOKUP(A2191,Pilot,4,0)","v":"CZ/C1"},"PMRg 2021 - Kombi","CZ",2021,1,5477,0.93,{"$f":"ROUND(J2191/MAX($J$2191:$J$2203)*10000*0.7+(MAX($I$2191:$I$2203)-I2191)/(MAX($I$2191:$I$2203)-1)*10000*0.3,0)","v":10000},{"$f":"ROUND(K2191*L2191,0)","v":9300},"x",null,"EB-29R","EX",""]
["Radek Kucirek",1973,"M","Havlíčkův Brod","CZ/C2","PMRg 2021 - Kombi","CZ",2021,2,5461,0.93,9730,{"$f":"ROUND(K2192*L2192,0)","v":9049},null,null,"EB-28 edition","NA",""]
["Jan Boruvka",1984,"M","Jičín","CZ/C2","PMRg 2021 - Kombi","CZ",2021,3,5225,0.93,9178,8536,"x",null,"Ventus C 17.6m","EG",""]
["Michaela Rendlova",2004,"F","Toužim","CZ/C1","PMRg 2021 - Kombi","CZ",2021,4,4833,0.93,8427,7837,"x","x","ASG 29/18m","NX","Junior v roce 2022"]
["Radek Zima 78",1978,"M","Hodkovice","CZ/C2","PMRg 2021 - Kombi","CZ",2021,5,4825,0.93,8167,7595,"x",null,"ASG 29/18m","XZ",""]
["Jiri Steiger",{"$f":"VLOOKUP(A2196,Pilot,2,0)","v":1969},{"$f":"VLOOKUP(A2196,Pilot,5,0)","v":"M"},{"$f":"VLOOKUP(A2196,Pilot,3,0)","v":"Olomouc"},{"$f":"VLOOKUP(A2196,Pilot,4,0)","v":"CZ/M"},"PMRg 2021 - Kombi","CZ",2021,6,4284,0.93,7225,6719,"x",null,"Ventus 3M 18m","JSI",""]
["Jaromir Macoun",1999,"M","Jičín","CZ/C2","PMRg 2021 - Kombi","CZ",2021,7,4128,0.93,6776,6302,null,null,"LS-8 15m","AU","Junior v roce 2022"]
["Miroslav Koci",1961,"M","Žamberk","CZ/C2","PMRg 2021 - Kombi","CZ",2021,8,3695,0.93,5972,5554,null,null,"Ventus 2cxm","E8",""]
["Vit Morkovsky",2000,"M","Polička","CZ/C2","PMRg 2021 - Kombi","CZ",2021,9,3438,0.93,5394,{"$f":"ROUND(K2199*L2199,0)","v":5016},null,null,"Discus 2a","GX","Junior v roce 2022"]
["Ivan Tvrdik",1997,"M","Letňany","CZ/C1","PMRg 2021 - Kombi","CZ",2021,10,2951,0.93,4522,4205,null,null,"LS-8 15m","EU","Junior v roce 2022"]
["Jan Zapletal",1997,"M","Břeclav","CZ/M","PMRg 2021 - Kombi","CZ",2021,11,2697,0.93,3947,3671,null,null,"LS-8 15m","JS","Junior v roce 2022"]
["Antonin Kutalek",1943,"M","Zábřeh","CZ/M","PMRg 2021 - Kombi","CZ",2021,12,1816,0.93,2571,2391,"x",null,"LAK-17AT 18m","GL",""]
["Petr Panek",1975,"M","Dvůr Králové","CZ/C2","PMRg 2021 - Kombi","CZ",2021,13,495,0.93,633,589,"x",null,"JS1B EVO 18m","IGC",""]
["Jan Stastny",{"$f":"VLOOKUP(A2204,Pilot,2,0)","v":2003},{"$f":"VLOOKUP(A2204,Pilot,5,0)","v":"M"},{"$f":"VLOOKUP(A2204,Pilot,3,0)","v":"Medlánky"},{"$f":"VLOOKUP(A2204,Pilot,4,0)","v":"CZ/M"},"PMČRj 2021 - Klub","CZ",2021,1,4704,0.91500000000000004,{"$f":"ROUND(J2204/MAX($J$2204:$J$2232)*10000*0.7+(MAX($I$2204:$I$2232)-I2204)/(MAX($I$2204:$I$2232)-1)*10000*0.3,0)","v":10000},{"$f":"ROUND(K2204*L2204,0)","v":9150},"x",null,"ASW-15B","TW","Junior v roce 2022"]
["Lukas Kriz",2003,"M","Křižanov","CZ/M","PMČRj 2021 - Klub","CZ",2021,2,4628,0.91500000000000004,{"$f":"ROUND(J2205/MAX($J$2204:$J$2232)*10000*0.7+(MAX($I$2204:$I$2232)-I2205)/(MAX($I$2204:$I$2232)-1)*10000*0.3,0)","v":9780},{"$f":"ROUND(K2205*L2205,0)","v":8949},"x",null,"Std. Cirrus","EJ","Junior v roce 2022"]
["Vladimir Hammer",2000,"M","Letkov","CZ/C1","PMČRj 2021 - Klub","CZ",2021,3,4200,0.91500000000000004,9036,8268,"x",null,"Std. Cirrus","UB","Junior v roce 2022"]
["Tereza Koubkova",1999,"F","Vysoké Mýto","CZ/C2","PMČRj 2021 - Klub","CZ",2021,4,4051,0.91500000000000004,8707,7967,"x","x","Std. Cirrus","WY","Junior v roce 2022"]
["Tomas Hynek",2002,"M","Dvůr Králové","CZ/C2","PMČRj 2021 - Klub","CZ",2021,5,4043,0.91500000000000004,8588,7858,"x",null,"Std. Cirrus","HT","Junior v roce 2022"]
["Tomas Hulmak",1999,"M","Hosín","CZ/C1","PMČRj 2021 - Klub","CZ",2021,6,3781,0.91500000000000004,8091,7403,"x",null,"ASW-15B","HH","Junior v roce 2022"]
["Lukas Volek",{"$f":"VLOOKUP(A2210,Pilot,2,0)","v":2004},{"$f":"VLOOKUP(A2210,Pilot,5,0)","v":"M"},{"$f":"VLOOKUP(A2210,Pilot,3,0)","v":"Hodkovice"},{"$f":"VLOOKUP(A2210,Pilot,4,0)","v":"CZ/C2"},"PMČRj 2021 - Klub","CZ",2021,7,3675,0.91500000000000004,7826,7161,"x",null,"ASW-15B","B","Junior v roce 2022"]
["Petr Havelka",1997,"M","Zbraslavice","CZ/C1","PMČRj 2021 - Klub","CZ",2021,8,3484,0.91500000000000004,7435,6803,"x",null,"ASW-19B","PH","Junior v roce 2022"]
["Tomas Moravec",2000,"M","Žamberk","CZ/C2","PMČRj 2021 - Klub","CZ",2021,9,3375,0.91500000000000004,7165,6556,"x",null,"Std. Cirrus","OK6","Junior v roce 2022"]
["Lukas Maly",1998,"M","Vysoké Mýto","CZ/C2","PMČRj 2021 - Klub","CZ",2021,10,3355,0.91500000000000004,7028,6431,"x",null,"ASW-15B","AM","Junior v roce 2022"]
["Vit Tvrdik",2000,"M","Letňany","CZ/C1","PMČRj 2021 - Klub","CZ",2021,11,3329,0.91500000000000004,6882,6297,"x",null,"ASW-19B","HDI","Junior v roce 2022"]
["Ondrej Dvorak 98",1998,"M","Mladá Boleslav","CZ/C1","PMČRj 2021 - Klub","CZ",2021,12,3305,0.91500000000000004,6740,6167,"x",null,"ASW-19B","AH","Junior v roce 2022"]
["Jan Cibulka",{"$f":"VLOOKUP(A2216,Pilot,2,0)","v":2002},{"$f":"VLOOKUP(A2216,Pilot,5,0)","v":"M"},{"$f":"VLOOKUP(A2216,Pilot,3,0)","v":"Letňany"},{"$f":"VLOOKUP(A2216,Pilot,4,0)","v":"CZ/C1"},"PMČRj 2021 - Klub","CZ",2021,13,3194,0.91500000000000004,6467,5917,"x",null,"ASW-19B","KZ","Junior v roce 2022"]
["Petr Hosek",{"$f":"VLOOKUP(A2217,Pilot,2,0)","v":2001},{"$f":"VLOOKUP(A2217,Pilot,5,0)","v":"M"},{"$f":"VLOOKUP(A2217,Pilot,3,0)","v":"Beroun"},{"$f":"VLOOKUP(A2217,Pilot,4,0)","v":"CZ/C1"},"PMČRj 2021 - Klub","CZ",2021,14,3186,0.91500000000000004,6348,5808,"x",null,"VSO-10","B1","Junior v roce 2022"]
["Matej Jelinek",1999,"M","Hronov","CZ/C2","PMČRj 2021 - Klub","CZ",2021,15,3152,0.91500000000000004,6190,5664,"x",null,"Std. Cirrus","ZF","Junior v roce 2022"]
["Michaela Krizova",2001,"F","Přibyslav","CZ/C2","PMČRj 2021 - Klub","CZ",2021,16,3092,0.91500000000000004,5994,5485,null,null,"Std. Cirrus","XC","Junior v roce 2022"]
["Jakub Malik",1999,"M","Letňany","CZ/C1","PMČRj 2021 - Klub","CZ",2021,17,3075,0.91500000000000004,5862,5364,"x",null,"Discus b WL","DP","Junior v roce 2022"]
["Michal Coufal",{"$f":"VLOOKUP(A2221,Pilot,2,0)","v":1999},{"$f":"VLOOKUP(A2221,Pilot,5,0)","v":"M"},{"$f":"VLOOKUP(A2221,Pilot,3,0)","v":"Jičín"},{"$f":"VLOOKUP(A2221,Pilot,4,0)","v":"CZ/C2"},"PMČRj 2021 - Klub","CZ",2021,18,3066,0.91500000000000004,5741,5253,"x",null,"Std. Cirrus","FS","Junior v roce 2022"]
["Jan Beran",1999,"M","Kladno","CZ/C1","PMČRj 2021 - Klub","CZ",2021,19,2977,0.91500000000000004,5501,5033,"x",null,"ASW-19B","HB","Junior v roce 2022"]
["Tibor Hezina",2002,"M","Křižanov","CZ/M","PMČRj 2021 - Klub","CZ",2021,20,2897,0.91500000000000004,5275,4827,"x",null,"Std. Cirrus","IJ","Junior v roce 2022"]
["Jan Adam",2002,"M","Podhořany","CZ/C2","PMČRj 2021 - Klub","CZ",2021,21,2878,0.91500000000000004,5140,4703,"x",null,"Std. Cirrus","YX","Junior v roce 2022"]
["Jiri Maier 99",1999,"M","Raná","CZ/C2","PMČRj 2021 - Klub","CZ",2021,22,2561,0.91500000000000004,4561,4173,null,null,"Discus bT","TAL","Junior v roce 2022"]
["Premysl Chvoj",{"$f":"VLOOKUP(A2226,Pilot,2,0)","v":2003},{"$f":"VLOOKUP(A2226,Pilot,5,0)","v":"M"},{"$f":"VLOOKUP(A2226,Pilot,3,0)","v":"Zbraslavice"},{"$f":"VLOOKUP(A2226,Pilot,4,0)","v":"CZ/C1"},"PMČRj 2021 - Klub","CZ",2021,23,2341,0.91500000000000004,4126,3775,"x",null,"G-102 Astir cs","MV","Junior v roce 2022"]
["Katerina Vancurova",{"$f":"VLOOKUP(A2227,Pilot,2,0)","v":2002},{"$f":"VLOOKUP(A2227,Pilot,5,0)","v":"F"},{"$f":"VLOOKUP(A2227,Pilot,3,0)","v":"Hranice"},{"$f":"VLOOKUP(A2227,Pilot,4,0)","v":"CZ/M"},"PMČRj 2021 - Klub","CZ",2021,24,2263,{"$f":"VLOOKUP(F2227,Soutez,12,0)","v":0.91500000000000004},3903,3571,"x","x","Discus b","HD","Junior v roce 2022"]
["Matej Bartos",1998,"M","Hodkovice","CZ/C2","PMČRj 2021 - Klub","CZ",2021,25,2167,0.91500000000000004,3653,3342,"x",null,"Std. Cirrus","KA","Junior v roce 2022"]
["Jakub Koudelka",2000,"M","Křižanov","CZ/M","PMČRj 2021 - Klub","CZ",2021,26,1992,0.91500000000000004,3286,3007,"x",null,"ASW-19B","A1","Junior v roce 2022"]
["Kristina Santruckova",1996,"F","Podhořany","CZ/C2","PMČRj 2021 - Klub","CZ",2021,27,1687,0.91500000000000004,2725,2493,"x","x","ASW-15B WL","KS",""]
["Filip Malik",2001,"M","Letňany","CZ/C1","PMČRj 2021 - Klub","CZ",2021,28,1654,0.91500000000000004,2568,2350,"x",null,"VSO-10","L5","Junior v roce 2022"]
["Tim Raasch",{"$f":"VLOOKUP(A2232,Pilot,2,0)","v":2000},{"$f":"VLOOKUP(A2232,Pilot,5,0)","v":"M"},{"$f":"VLOOKUP(A2232,Pilot,3,0)","v":"Polička"},{"$f":"VLOOKUP(A2232,Pilot,4,0)","v":"CZ/C2"},"PMČRj 2021 - Klub","CZ",2021,29,617,0.91500000000000004,918,840,"x",null,"VSO-10","H5","Junior v roce 2022"]
["Michal Kratochvil",{"$f":"VLOOKUP(A2233,Pilot,2,0)","v":1984},{"$f":"VLOOKUP(A2233,Pilot,5,0)","v":"M"},{"$f":"VLOOKUP(A2233,Pilot,3,0)","v":"Slaný"},{"$f":"VLOOKUP(A2233,Pilot,4,0)","v":"CZ/C1"},"GGP MB 2021 - Gradient GP","CZ",2021,1,14,0,{"$f":"ROUND((MAX($I$2233:$I$2241)-I2233)/(MAX($I$2233:$I$2241)-1)*10000,0)","v":10000},{"$f":"ROUND(K2233*L2233,0)","v":0},null,null,"VSO-10",56,""]
["David Vrchota",{"$f":"VLOOKUP(A2234,Pilot,2,0)","v":1976},{"$f":"VLOOKUP(A2234,Pilot,5,0)","v":"M"},{"$f":"VLOOKUP(A2234,Pilot,3,0)","v":"Jaroměř"},{"$f":"VLOOKUP(A2234,Pilot,4,0)","v":"CZ/C2"},"GGP MB 2021 - Gradient GP","CZ",2021,2,12,0,{"$f":"ROUND((MAX($I$2233:$I$2241)-I2234)/(MAX($I$2233:$I$2241)-1)*10000,0)","v":8750},{"$f":"ROUND(K2234*L2234,0)","v":0},null,null,"VSO-10","J6",""]
["Jan Hejret",1976,"M","Jaroměř","CZ/C2","GGP MB 2021 - Gradient GP","CZ",2021,3,9,0,7500,0,null,null,"VSO-10","C3",""]
["Libor Bednarik",1972,"M","Kunovice","CZ/M","GGP MB 2021 - Gradient GP","CZ",2021,4,6,0,6250,0,null,null,"VSO-10",94,""]
["Karel Policky",{"$f":"VLOOKUP(A2237,Pilot,2,0)","v":1950},{"$f":"VLOOKUP(A2237,Pilot,5,0)","v":"M"},{"$f":"VLOOKUP(A2237,Pilot,3,0)","v":"Kolín"},{"$f":"VLOOKUP(A2237,Pilot,4,0)","v":"CZ/C1"},"GGP MB 2021 - Gradient GP","CZ",2021,4,6,0,{"$f":"ROUND((MAX($I$2233:$I$2241)-I2237)/(MAX($I$2233:$I$2241)-1)*10000,0)","v":6250},0,null,null,"VSO-10",93,""]
["David Kaspar",1993,"M","Jaroměř","CZ/C2","GGP MB 2021 - Gradient GP","CZ",2021,6,5,0,3750,{"$f":"ROUND(K2238*L2238,0)","v":0},null,null,"VSO-10",31,""]
["Martin Krizovic",{"$f":"VLOOKUP(A2239,Pilot,2,0)","v":1971},{"$f":"VLOOKUP(A2239,Pilot,5,0)","v":"M"},{"$f":"VLOOKUP(A2239,Pilot,3,0)","v":"Přibyslav"},{"$f":"VLOOKUP(A2239,Pilot,4,0)","v":"CZ/C2"},"GGP MB 2021 - Gradient GP","CZ",2021,7,2,0,2500,{"$f":"ROUND(K2239*L2239,0)","v":0},null,null,"VSO-10","G3",""]
["Jan Zdvorak",1980,"M","Roudnice","CZ/C2","GGP MB 2021 - Gradient GP","CZ",2021,8,1,0,1250,0,null,null,"VSO-10",6,""]
["Jiri Pixa",1968,"M","Slaný","CZ/C1","GGP MB 2021 - Gradient GP","CZ",2021,9,0,0,0,0,null,null,"VSO-10","G8",""]
["Lukas Kriz",{"$f":"VLOOKUP(A2242,Pilot,2,0)","v":2003},{"$f":"VLOOKUP(A2242,Pilot,5,0)","v":"M"},{"$f":"VLOOKUP(A2242,Pilot,3,0)","v":"Křižanov"},{"$f":"VLOOKUP(A2242,Pilot,4,0)","v":"CZ/M"},"GGP MB 2021 - Klub GP","CZ",2021,1,19,0.88,{"$f":"ROUND((MAX($I$2242:$I$2258)-I2242)/(MAX($I$2242:$I$2258)-1)*10000,0)","v":10000},{"$f":"ROUND(K2242*L2242,0)","v":8800},"x",null,"Std. Cirrus","EJ","Junior v roce 2022"]
["Matej Krestes",1986,"M","Slaný","CZ/C1","GGP MB 2021 - Klub GP","CZ",2021,1,19,0.88,{"$f":"ROUND((MAX($I$2242:$I$2258)-I2243)/(MAX($I$2242:$I$2258)-1)*10000,0)","v":10000},{"$f":"ROUND(K2243*L2243,0)","v":8800},"x",null,"Std. Cirrus","CO",""]
["David Sachl",1978,"M","Kralupy","CZ/C1","GGP MB 2021 - Klub GP","CZ",2021,3,18,0.88,8333,7333,"x",null,"DG 300 WL","BK",""]
["Tomas Hynek",{"$f":"VLOOKUP(A2245,Pilot,2,0)","v":2002},{"$f":"VLOOKUP(A2245,Pilot,5,0)","v":"M"},{"$f":"VLOOKUP(A2245,Pilot,3,0)","v":"Dvůr Králové"},{"$f":"VLOOKUP(A2245,Pilot,4,0)","v":"CZ/C2"},"GGP MB 2021 - Klub GP","CZ",2021,3,18,0.88,8333,7333,"x",null,"Std. Cirrus","HT","Junior v roce 2022"]
["Jan Cibulka",2002,"M","Letňany","CZ/C1","GGP MB 2021 - Klub GP","CZ",2021,5,16,0.88,6667,5867,"x",null,"ASW 19","KZ","Junior v roce 2022"]
["Ondrej Dvorak 98",{"$f":"VLOOKUP(A2247,Pilot,2,0)","v":1998},{"$f":"VLOOKUP(A2247,Pilot,5,0)","v":"M"},{"$f":"VLOOKUP(A2247,Pilot,3,0)","v":"Mladá Boleslav"},{"$f":"VLOOKUP(A2247,Pilot,4,0)","v":"CZ/C1"},"GGP MB 2021 - Klub GP","CZ",2021,6,14,0.88,5833,5133,null,null,"ASW 19","AH","Junior v roce 2022"]
["Linda Vasatova",{"$f":"VLOOKUP(A2248,Pilot,2,0)","v":1990},{"$f":"VLOOKUP(A2248,Pilot,5,0)","v":"F"},{"$f":"VLOOKUP(A2248,Pilot,3,0)","v":"Mladá Boleslav"},{"$f":"VLOOKUP(A2248,Pilot,4,0)","v":"CZ/C1"},"GGP MB 2021 - Klub GP","CZ",2021,7,13,0.88,5000,4400,"x","x","ASW 19b","XS",{"$f":"IF(ISERROR(VLOOKUP(A2248,Pilot,6,0)),\"Není v databázi\",VLOOKUP(A2248,Pilot,6,0))","v":""}]
["Martin Fric",1967,"M","Raná","CZ/C2","GGP MB 2021 - Klub GP","CZ",2021,8,6,0.88,4167,3667,"x",null,"DG 100","E2",""]
["Fabian Curda",2004,"M","Zábřeh","CZ/M","GGP MB 2021 - Klub GP","CZ",2021,9,2,0.88,3333,2933,"x",null,"Std. Cirrus","MJ","Junior v roce 2022"]
["Katerina Vojtova",{"$f":"VLOOKUP(A2251,Pilot,2,0)","v":1983},{"$f":"VLOOKUP(A2251,Pilot,5,0)","v":"F"},{"$f":"VLOOKUP(A2251,Pilot,3,0)","v":"Slaný"},{"$f":"VLOOKUP(A2251,Pilot,4,0)","v":"CZ/C1"},"GGP MB 2021 - Klub GP","CZ",2021,9,2,0.88,{"$f":"ROUND((MAX($I$2242:$I$2258)-I2251)/(MAX($I$2242:$I$2258)-1)*10000,0)","v":3333},2933,"x","x","Std. Cirrus","KAC",""]
["Jan Zahradka",1981,"M","Hodkovice","CZ/C2","GGP MB 2021 - Klub GP","CZ",2021,11,1,0.88,1667,1467,null,null,"Std. Cirrus","AR",""]
["Jan Florian",1992,"M","Zbraslavice","CZ/C1","GGP MB 2021 - Klub GP","CZ",2021,11,1,0.88,{"$f":"ROUND((MAX($I$2242:$I$2258)-I2253)/(MAX($I$2242:$I$2258)-1)*10000,0)","v":1667},1467,null,null,"Std. Cirrus","C1",""]
["Tomas Talanda",1988,"M","Křižanov","CZ/M","GGP MB 2021 - Klub GP","CZ",2021,13,0,0.88,0,0,null,null,"ASW 19","DS",""]
["Martin Marek",1967,"M","Roudnice","CZ/C2","GGP MB 2021 - Klub GP","CZ",2021,13,0,0.88,0,0,null,null,"Std. Cirrus","2X",""]
["Jan Hruska",1988,"M","Tábor","CZ/C1","GGP MB 2021 - Klub GP","CZ",2021,13,0,0.88,0,0,null,null,"ASW 15b","LF",""]
["Jan Zezula",1979,"M","Letňany","CZ/C1","GGP MB 2021 - Klub GP","CZ",2021,13,0,0.88,0,0,null,null,"ASW 19","HD",""]
["Filip Sirc",1993,"M","Letňany","CZ/C1","GGP MB 2021 - Klub GP","CZ",2021,13,0,0.88,0,0,null,null,"ASW 19","WT",""]
["Tomas Suchanek",{"$f":"VLOOKUP(A2259,Pilot,2,0)","v":1964},{"$f":"VLOOKUP(A2259,Pilot,5,0)","v":"M"},{"$f":"VLOOKUP(A2259,Pilot,3,0)","v":"GAC Benešov"},{"$f":"VLOOKUP(A2259,Pilot,4,0)","v":"CZ/C1"},"GGP MB 2021 - Pohár MV - Kombi","CZ",2021,1,1874,0.89,{"$f":"ROUND(J2259/MAX($J$2259:$J$2269)*10000*0.7+(MAX($I$2259:$I$2269)-I2259)/(MAX($I$2259:$I$2269)-1)*10000*0.3,0)","v":10000},{"$f":"ROUND(K2259*L2259,0)","v":8900},"x",null,"Ventus c 17.6m","UP",""]
["Ivan Novak",1962,"M","Mladá Boleslav","CZ/C1","GGP MB 2021 - Pohár MV - Kombi","CZ",2021,2,1501,0.89,{"$f":"ROUND(J2260/MAX($J$2259:$J$2269)*10000*0.7+(MAX($I$2259:$I$2269)-I2260)/(MAX($I$2259:$I$2269)-1)*10000*0.3,0)","v":8307},{"$f":"ROUND(K2260*L2260,0)","v":7393},null,null,"ASG 29(E) 18m","QZ",""]
["Ivan Harasta 65",1965,"M","Toužim","CZ/C1","GGP MB 2021 - Pohár MV - Kombi","CZ",2021,3,1427,0.89,7730,6880,"x",null,"Nimbus 3/24.5m",12,""]
["Martin Soucek",{"$f":"VLOOKUP(A2262,Pilot,2,0)","v":1975},{"$f":"VLOOKUP(A2262,Pilot,5,0)","v":"M"},{"$f":"VLOOKUP(A2262,Pilot,3,0)","v":"Mladá Boleslav"},{"$f":"VLOOKUP(A2262,Pilot,4,0)","v":"CZ/C1"},"GGP MB 2021 - Pohár MV - Kombi","CZ",2021,4,1391,0.89,7296,6493,"x",null,"DG 200/17","MS",""]
["Radek Zima 78",1978,"M","Hodkovice","CZ/C2","GGP MB 2021 - Pohár MV - Kombi","CZ",2021,5,1364,0.89,6895,6137,null,null,"ASG 29(E) 18m","XZ",""]
["Vojtech Hajek",{"$f":"VLOOKUP(A2264,Pilot,2,0)","v":1987},{"$f":"VLOOKUP(A2264,Pilot,5,0)","v":"M"},{"$f":"VLOOKUP(A2264,Pilot,3,0)","v":"Mladá Boleslav"},{"$f":"VLOOKUP(A2264,Pilot,4,0)","v":"CZ/C1"},"GGP MB 2021 - Pohár MV - Kombi","CZ",2021,6,1296,0.89,6341,5643,"x",null,"Duo Discus T 700kg",77,""]
["Lukas Hynek",1979,"M","Dvůr Králové","CZ/C2","GGP MB 2021 - Pohár MV - Kombi","CZ",2021,7,1247,0.89,5858,5214,null,null,"DG 200/17","HL",""]
["Antonin Bordovsky",1951,"M","Krnov","CZ/M","GGP MB 2021 - Pohár MV - Kombi","CZ",2021,8,927,0.89,4363,3883,"x",null,"Ventus C 17,6m","AD",""]
["Barbora Moravcova",1994,"F","Zbraslavice","CZ/C1","GGP MB 2021 - Pohár MV - Kombi","CZ",2021,9,898,0.89,3954,3519,null,null,"LS 8 15m","EU",""]
["Jan Dersak 69",1969,"M","Kralupy","CZ/C1","GGP MB 2021 - Pohár MV - Kombi","CZ",2021,10,767,0.89,3165,2817,null,null,"HpH 304JS Shark/18m(573kg)","DJ",""]
["David Zapletal",1970,"M","Mladá Boleslav","CZ/C1","GGP MB 2021 - Pohár MV - Kombi","CZ",2021,11,539,0.89,2013,1792,"x",null,"Duo Discus T","XH",""]
["Jakub Kmosek",{"$f":"VLOOKUP(A2270,Pilot,2,0)","v":1978},{"$f":"VLOOKUP(A2270,Pilot,5,0)","v":"M"},{"$f":"VLOOKUP(A2270,Pilot,3,0)","v":"Zbraslavice"},{"$f":"VLOOKUP(A2270,Pilot,4,0)","v":"CZ/C1"},"Rakovnická Dlaždice 2021 - Kombi","CZ",2021,1,528,0,{"$f":"ROUND(J2270/MAX($J$2270:$J$2281)*10000*0.7+(MAX($I$2270:$I$2281)-I2270)/(MAX($I$2270:$I$2281)-1)*10000*0.3,0)","v":10000},{"$f":"ROUND(K2270*L2270,0)","v":0},null,null,"Std. Cirrus","ST",""]
["Jan Konecny",1972,"M","Rakovník","CZ/C1","Rakovnická Dlaždice 2021 - Kombi","CZ",2021,2,509,0,9415,{"$f":"ROUND(K2271*L2271,0)","v":0},null,null,"LS 7",72,""]
["Jan Hlavacek",1965,"M","Rakovník","CZ/C1","Rakovnická Dlaždice 2021 - Kombi","CZ",2021,3,500,0,8962,0,null,null,"Discus","SJ",""]
["Pavel Opat",1975,"M","Rakovník","CZ/C1","Rakovnická Dlaždice 2021 - Kombi","CZ",2021,4,451,0,7979,0,null,null,"DG 800S/18m","HC",""]
["Jiri Bulanek",1983,"M","Rakovník","CZ/C1","Rakovnická Dlaždice 2021 - Kombi","CZ",2021,5,416,0,7182,0,null,null,"DG 101G",null,""]
["Miroslav Macik",1983,"M","Rakovník","CZ/C1","Rakovnická Dlaždice 2021 - Kombi","CZ",2021,6,324,0,5629,0,null,null,"Std. Cirrus","OG",""]
["Petr sindelar 45",1945,"M","Rakovník","CZ/C1","Rakovnická Dlaždice 2021 - Kombi","CZ",2021,7,121,0,2604,0,null,null,"LS 1-d","HV",""]
["Petr Sindelar 80",1980,"M","Rakovník","CZ/C1","Rakovnická Dlaždice 2021 - Kombi","CZ",2021,8,65,0,1528,0,null,null,"DG 300 WL","U4",""]
["Adam Pergner",2002,"M","Rakovník","CZ/C1","Rakovnická Dlaždice 2021 - Kombi","CZ",2021,9,1,0,347,0,null,null,"VSO-10",79,"Junior v roce 2022"]
["Jan Vozeh",1995,"M","Rakovník","CZ/C1","Rakovnická Dlaždice 2021 - Kombi","CZ",2021,10,0,0,0,{"$f":"ROUND(K2279*L2279,0)","v":0},null,null,"Twin Astir RG","T19",""]
["Viktor Tvrdik",1977,"M","Rakovník","CZ/C1","Rakovnická Dlaždice 2021 - Kombi","CZ",2021,10,0,0,0,0,null,null,"DG 800S/18m","HF",""]
["Jan Heroudek",1970,"M","Rakovník","CZ/C1","Rakovnická Dlaždice 2021 - Kombi","CZ",2021,10,0,0,0,0,null,null,"DG 100",75,""]
["David Mach",{"$f":"VLOOKUP(A2282,Pilot,2,0)","v":1994},{"$f":"VLOOKUP(A2282,Pilot,5,0)","v":"M"},{"$f":"VLOOKUP(A2282,Pilot,3,0)","v":"Hronov"},{"$f":"VLOOKUP(A2282,Pilot,4,0)","v":"CZ/C2"},"HOP 2021 - Klub","CZ",2021,1,2618,0.76500000000000001,{"$f":"ROUND(J2282/MAX($J$2282:$J$2307)*10000*0.7+(MAX($I$2282:$I$2307)-I2282)/(MAX($I$2282:$I$2307)-1)*10000*0.3,0)","v":10000},{"$f":"ROUND(K2282*L2282,0)","v":7650},null,null,"VT-116 Orlik 2",6922,""]
["Oldrich Slavicek",1959,"M","Hronov","CZ/C2","HOP 2021 - Klub","CZ",2021,2,2571,0.76500000000000001,9754,{"$f":"ROUND(K2283*L2283,0)","v":7462},"x",null,"VT-116 Orlik 2",4310,""]
["Milan Svoboda 80",1980,"M","Havlíčkův Brod","CZ/C2","HOP 2021 - Klub","CZ",2021,3,2366,0.76500000000000001,9086,6951,"x",null,"VT-116 Orlik 2",6446,""]
["Michal Janda",{"$f":"VLOOKUP(A2285,Pilot,2,0)","v":1972},{"$f":"VLOOKUP(A2285,Pilot,5,0)","v":"M"},{"$f":"VLOOKUP(A2285,Pilot,3,0)","v":"Broumov"},{"$f":"VLOOKUP(A2285,Pilot,4,0)","v":"CZ/C2"},"HOP 2021 - Klub","CZ",2021,4,2105,0.76500000000000001,8268,6325,"x",null,"VT-116 Orlik 2",7402,""]
["Klara Teichmannova",1993,"F","Hronov","CZ/C2","HOP 2021 - Klub","CZ",2021,5,2052,{"$f":"VLOOKUP(F2286,Soutez,12,0)","v":0.76500000000000001},8007,6125,"x",null,"SZD 30 Pirat",6800,""]
["Miroslav Stepan",1955,"M","Žamberk","CZ/C2","HOP 2021 - Klub","CZ",2021,6,2011,0.76500000000000001,7777,5949,"x",null,"VT-116 Orlik 2",8412,""]
["Wolfgang Sluka",{"$f":"VLOOKUP(A2288,Pilot,2,0)","v":1942},{"$f":"VLOOKUP(A2288,Pilot,5,0)","v":"M"},{"$f":"VLOOKUP(A2288,Pilot,3,0)","v":"Liberec"},{"$f":"VLOOKUP(A2288,Pilot,4,0)","v":"CZ/C2"},"HOP 2021 - Klub","CZ",2021,7,1954,0.76500000000000001,7505,5741,null,null,"VT-116 Orlik 2",8425,""]
["Ondrej Teichman",1984,"M","Dvůr Králové","CZ/C2","HOP 2021 - Klub","CZ",2021,8,1929,0.76500000000000001,7318,5598,"x",null,"VT-116 Orlik 2",6445,""]
["Michal Nutil",1966,"M","Náchod","CZ/C2","HOP 2021 - Klub","CZ",2021,9,1894,0.76500000000000001,7104,5435,"x",null,"VT-116 Orlik 2",7424,""]
["Ondrej Blaha",1976,"M","Letňany","CZ/C1","HOP 2021 - Klub","CZ",2021,10,1784,0.76500000000000001,6690,5118,"x",null,"VT-116 Orlik 2",6444,""]
["Ivan Kuzelka",1945,"M","Havlíčkův Brod","CZ/C2","HOP 2021 - Klub","CZ",2021,11,1760,0.76500000000000001,6506,4977,"x",null,"VT-116 Orlik 2",4314,""]
["Vaclav Kysilka",1979,"M","GAC Benešov","CZ/C1","HOP 2021 - Klub","CZ",2021,12,1728,0.76500000000000001,6300,4820,"x",null,"VT-116 Orlik 2",8436,""]
["J.Vojta / L.Vyhlid / O.Kuchar",null,null,"AK Kroměříž",null,"HOP 2021 - Klub","CZ",2021,13,1713,0.76500000000000001,6140,4697,null,null,"VT-116 Orlik 2",8431,"Není v databázi"]
["Tomas Mezera",{"$f":"VLOOKUP(A2295,Pilot,2,0)","v":1973},{"$f":"VLOOKUP(A2295,Pilot,5,0)","v":"M"},{"$f":"VLOOKUP(A2295,Pilot,3,0)","v":"Raná"},{"$f":"VLOOKUP(A2295,Pilot,4,0)","v":"CZ/C2"},"HOP 2021 - Klub","CZ",2021,13,1713,0.76500000000000001,6140,4697,"x",null,"VT-116 Orlik 2",8401,""]
["Petr Seibrt",1974,"M","Náchod","CZ/C2","HOP 2021 - Klub","CZ",2021,15,1684,0.76500000000000001,5823,4455,"x",null,"VT-16 Orlik",2412,""]
["Jaromir Hendrych",1954,"M","Raná","CZ/C2","HOP 2021 - Klub","CZ",2021,16,1502,0.76500000000000001,5216,3990,"x",null,"M-35",2403,""]
["Sarka Lochova",1966,"F","Šumperk","CZ/M","HOP 2021 - Klub","CZ",2021,17,1462,0.76500000000000001,4989,3817,"x","x","VT-116 Orlik 2",7445,""]
["Miroslav Major",{"$f":"VLOOKUP(A2299,Pilot,2,0)","v":1968},{"$f":"VLOOKUP(A2299,Pilot,5,0)","v":"M"},{"$f":"VLOOKUP(A2299,Pilot,3,0)","v":"Kralupy"},{"$f":"VLOOKUP(A2299,Pilot,4,0)","v":"CZ/C1"},"HOP 2021 - Klub","CZ",2021,18,1446,0.76500000000000001,4826,3692,"x",null,"VT-116 Orlik 2",8430,""]
["Jana Mezerova",1975,"F","Raná","CZ/C2","HOP 2021 - Klub","CZ",2021,19,1431,0.76500000000000001,4666,3569,null,null,"VT-116 Orlik 2",7425,""]
["Petr Vezda",1974,"M","Medlánky","CZ/M","HOP 2021 - Klub","CZ",2021,20,1234,0.76500000000000001,4019,3075,"x",null,"VT-116 Orlik 2",4321,""]
["Tomas Holenda",1956,"M","Havlíčkův Brod","CZ/C2","HOP 2021 - Klub","CZ",2021,21,1121,0.76500000000000001,3597,2752,"x",null,"VT-116 Orlik 2",8424,""]
["Petr Vlasak",1974,"M","Medlánky","CZ/M","HOP 2021 - Klub","CZ",2021,22,1036,0.76500000000000001,3250,2486,"x",null,"VT-16 Orlik",2909,""]
["Martin Adamec",1971,"M","Medlánky","CZ/M","HOP 2021 - Klub","CZ",2021,23,954,0.76500000000000001,2911,{"$f":"ROUND(K2304*L2304,0)","v":2227},"x",null,"VT-116 Orlik 2",8406,""]
["M.Ondracek / J.Linhart",null,null,"AK Medlánky",null,"HOP 2021 - Klub","CZ",2021,24,763,0.76500000000000001,2280,1744,null,null,"Ka 6 E",9781,"Není v databázi"]
["Gabriela Cervena",{"$f":"VLOOKUP(A2306,Pilot,2,0)","v":1966},{"$f":"VLOOKUP(A2306,Pilot,5,0)","v":"F"},{"$f":"VLOOKUP(A2306,Pilot,3,0)","v":"Jaroměř"},{"$f":"VLOOKUP(A2306,Pilot,4,0)","v":"CZ/C2"},"HOP 2021 - Klub","CZ",2021,25,248,0.76500000000000001,783,599,"x","x","VT-116 Orlik 2",7413,""]
["Jaromir Vlk",1959,"M","Šumperk","CZ/M","HOP 2021 - Klub","CZ",2021,26,0,0.76500000000000001,0,0,null,null,"VT-116 Orlik 2",6907,""]
["Vratislav Sram",{"$f":"VLOOKUP(A2308,Pilot,2,0)","v":1966},{"$f":"VLOOKUP(A2308,Pilot,5,0)","v":"M"},{"$f":"VLOOKUP(A2308,Pilot,3,0)","v":"Broumov"},{"$f":"VLOOKUP(A2308,Pilot,4,0)","v":"CZ/C2"},"HOP 2021 - Kombi","CZ",2021,1,2934,0.76,{"$f":"ROUND(J2308/MAX($J$2308:$J$2324)*10000*0.7+(MAX($I$2308:$I$2324)-I2308)/(MAX($I$2308:$I$2324)-1)*10000*0.3,0)","v":10000},{"$f":"ROUND(K2308*L2308,0)","v":7600},"x",null,"Duo Discus XT ( bez vody )","DD",{"$f":"IF(ISERROR(VLOOKUP(A2308,Pilot,6,0)),\"Není v databázi\",VLOOKUP(A2308,Pilot,6,0))","v":""}]
["Jan Cerveny",1984,"M","Jaroměř","CZ/C2","HOP 2021 - Kombi","CZ",2021,2,2786,0.76,9459,{"$f":"ROUND(K2309*L2309,0)","v":7189},"x",null,"LS 3a (bez vody)","EI",""]
["Martin Koci",{"$f":"VLOOKUP(A2310,Pilot,2,0)","v":1975},{"$f":"VLOOKUP(A2310,Pilot,5,0)","v":"M"},{"$f":"VLOOKUP(A2310,Pilot,3,0)","v":"Ústí nad Orlicí"},{"$f":"VLOOKUP(A2310,Pilot,4,0)","v":"CZ/C2"},"HOP 2021 - Kombi","CZ",2021,3,2729,0.76,9136,6943,"x",null,"Discus b (bez vody)","XE",""]
["Petr Fisar",1974,"M","Ústí nad Orlicí","CZ/C2","HOP 2021 - Kombi","CZ",2021,4,2705,0.76,8891,6757,"x",null,"Mosquito b (bez vody)","PF",""]
["Vaclav Kult",1973,"M","Broumov","CZ/C2","HOP 2021 - Kombi","CZ",2021,5,2496,0.76,8205,6236,"x",null,"Nimbus 2 b WL (voda)","VK",""]
["Michal Maly",1982,"M","Broumov","CZ/C2","HOP 2021 - Kombi","CZ",2021,6,2425,0.76,7848,5964,"x",null,"Ventus c 17,6 (voda)","JN",""]
["Zdenek Boruvka 54",1954,"M","Jičín","CZ/C2","HOP 2021 - Kombi","CZ",2021,7,2417,0.76,7642,5808,null,null,"LS 8 15 m (voda)","ZB",""]
["Zdenek Schenk",{"$f":"VLOOKUP(A2315,Pilot,2,0)","v":1972},{"$f":"VLOOKUP(A2315,Pilot,5,0)","v":"M"},{"$f":"VLOOKUP(A2315,Pilot,3,0)","v":"Hranice"},{"$f":"VLOOKUP(A2315,Pilot,4,0)","v":"CZ/M"},"HOP 2021 - Kombi","CZ",2021,8,2369,0.76,7340,5578,null,null,"Ventus cm 17,6m (bez vody)","SNeK",""]
["Petr Babak",1973,"M","Hořice","CZ/C2","HOP 2021 - Kombi","CZ",2021,9,2352,0.76,7111,5404,"x",null,"Ventus c 17,6 (voda)","LS",""]
["M.+J. Plechac",null,null,"AK Hronov",null,"HOP 2021 - Kombi","CZ",2021,10,2050,0.76,6203,4714,null,null,"Nimbus 2 WL ( voda )","PM","Není v databázi"]
["Christian Rakowski",null,null,"FSV Eisenhüttenstadt",null,"HOP 2021 - Kombi","CZ",2021,11,1805,0.76,5431,4128,null,null,"ASW 24 WL ( voda )","TD","Není v databázi"]
["Sebastian Bode",null,null,"FSV Eisenhüttenstadt",null,"HOP 2021 - Kombi","CZ",2021,12,1781,0.76,5187,3942,null,null,"HPH 304S Shark (voda)","AY","Není v databázi"]
["Miloslav Cindr",{"$f":"VLOOKUP(A2320,Pilot,2,0)","v":1974},{"$f":"VLOOKUP(A2320,Pilot,5,0)","v":"M"},{"$f":"VLOOKUP(A2320,Pilot,3,0)","v":"Ústí nad Orlicí"},{"$f":"VLOOKUP(A2320,Pilot,4,0)","v":"CZ/C2"},"HOP 2021 - Kombi","CZ",2021,13,1596,0.76,4558,{"$f":"ROUND(K2320*L2320,0)","v":3464},"x",null,"Ventus c 17,6 (bez vody)","MC",""]
["Zdenek Mach",{"$f":"VLOOKUP(A2321,Pilot,2,0)","v":1976},{"$f":"VLOOKUP(A2321,Pilot,5,0)","v":"M"},{"$f":"VLOOKUP(A2321,Pilot,3,0)","v":"Broumov"},{"$f":"VLOOKUP(A2321,Pilot,4,0)","v":"CZ/C2"},"HOP 2021 - Kombi","CZ",2021,14,1454,0.76,4031,3064,"x",null,"LS 1-d ( bez vody)","FK",""]
["Jan Kohout",1970,"M","Žamberk","CZ/C2","HOP 2021 - Kombi","CZ",2021,15,1300,0.76,3477,2643,null,null,"LS 8 15 m (voda)","SK",""]
["Pilotky UO / G.Jakl",null,null,"AK Ústí nad Orlicí",null,"HOP 2021 - Kombi","CZ",2021,16,1006,0.76,2588,1967,null,null,"Janus 18.2m ( bez vody)","GJ","Není v databázi"]
["Jan Rott",{"$f":"VLOOKUP(A2324,Pilot,2,0)","v":1962},{"$f":"VLOOKUP(A2324,Pilot,5,0)","v":"M"},{"$f":"VLOOKUP(A2324,Pilot,3,0)","v":"Hronov"},{"$f":"VLOOKUP(A2324,Pilot,4,0)","v":"CZ/C2"},"HOP 2021 - Kombi","CZ",2021,17,594,0.76,1417,1077,"x",null,"HPH 304 cz 17,4 (bez vody)","Jou",""]
["Radek Tobolka",{"$f":"VLOOKUP(A2325,Pilot,2,0)","v":1977},{"$f":"VLOOKUP(A2325,Pilot,5,0)","v":"M"},{"$f":"VLOOKUP(A2325,Pilot,3,0)","v":"Jičín"},{"$f":"VLOOKUP(A2325,Pilot,4,0)","v":"CZ/C2"},"Pohár Českého Ráje 2021 - Kombi","CZ",2021,1,398,0.73,{"$f":"ROUND(J2325/MAX($J$2325:$J$2336)*10000*0.7+(MAX($I$2325:$I$2336)-I2325)/(MAX($I$2325:$I$2336)-1)*10000*0.3,0)","v":10000},{"$f":"ROUND(K2325*L2325,0)","v":7300},"x",null,"TST-10M Atlas",10,""]
["Petr Rygl",1966,"M","Jičín","CZ/C2","Pohár Českého Ráje 2021 - Kombi","CZ",2021,2,373,0.73,9288,{"$f":"ROUND(K2326*L2326,0)","v":6780},"x",null,"ASW-15","A18",""]
["Tomas Profeld",1964,"M","Jičín","CZ/C2","Pohár Českého Ráje 2021 - Kombi","CZ",2021,3,359,0.73,8769,6401,"x",null,"Ventus 2cM/18m / 500 kg","OZ",""]
["Zbynek Fuksa",{"$f":"VLOOKUP(A2328,Pilot,2,0)","v":1956},{"$f":"VLOOKUP(A2328,Pilot,5,0)","v":"M"},{"$f":"VLOOKUP(A2328,Pilot,3,0)","v":"Jičín"},{"$f":"VLOOKUP(A2328,Pilot,4,0)","v":"CZ/C2"},"Pohár Českého Ráje 2021 - Kombi","CZ",2021,4,341,0.73,8179,5971,"x",null,"Duo Discus XL",88,""]
["Petr Kyzivat",1970,"M","Jičín","CZ/C2","Pohár Českého Ráje 2021 - Kombi","CZ",2021,5,331,0.73,7731,5644,"x",null,"Std. Cirrus","SC",""]
["Ales Holoubek",1966,"M","Jičín","CZ/C2","Pohár Českého Ráje 2021 - Kombi","CZ",2021,6,294,0.73,6807,4969,"x",null,"ASW-15b NG","T",""]
["Ilja Kopacek",1943,"M","Jičín","CZ/C2","Pohár Českého Ráje 2021 - Kombi","CZ",2021,7,246,0.73,5690,4154,"x",null,"Std. Cirrus","XL",""]
["Kamil Hejda",{"$f":"VLOOKUP(A2332,Pilot,2,0)","v":1973},{"$f":"VLOOKUP(A2332,Pilot,5,0)","v":"M"},{"$f":"VLOOKUP(A2332,Pilot,3,0)","v":"Jičín"},{"$f":"VLOOKUP(A2332,Pilot,4,0)","v":"CZ/C2"},"Pohár Českého Ráje 2021 - Kombi","CZ",2021,8,197,0.73,4556,3326,"x",null,"Janus b","JC",""]
["Stepan Capek",{"$f":"VLOOKUP(A2333,Pilot,2,0)","v":1960},{"$f":"VLOOKUP(A2333,Pilot,5,0)","v":"M"},{"$f":"VLOOKUP(A2333,Pilot,3,0)","v":"Jičín"},{"$f":"VLOOKUP(A2333,Pilot,4,0)","v":"CZ/C2"},"Pohár Českého Ráje 2021 - Kombi","CZ",2021,9,144,0.73,3351,2446,"x",null,"Banjo 2","ZF",""]
["Dusan Patocka",1972,"M","Vrchlabí","CZ/C2","Pohár Českého Ráje 2021 - Kombi","CZ",2021,10,107,0.73,2427,1772,"x",null,"VT-116 Orlik 2",null,""]
["Lukas Jezek",{"$f":"VLOOKUP(A2335,Pilot,2,0)","v":1975},{"$f":"VLOOKUP(A2335,Pilot,5,0)","v":"M"},{"$f":"VLOOKUP(A2335,Pilot,3,0)","v":"Jičín"},{"$f":"VLOOKUP(A2335,Pilot,4,0)","v":"CZ/C2"},"Pohár Českého Ráje 2021 - Kombi","CZ",2021,11,43,0.73,1029,{"$f":"ROUND(K2335*L2335,0)","v":751},"x",null,"L-13",null,""]
["Jiri Pixa",{"$f":"VLOOKUP(A2336,Pilot,2,0)","v":1968},{"$f":"VLOOKUP(A2336,Pilot,5,0)","v":"M"},{"$f":"VLOOKUP(A2336,Pilot,3,0)","v":"Slaný"},{"$f":"VLOOKUP(A2336,Pilot,4,0)","v":"CZ/C1"},"Pohár Českého Ráje 2021 - Kombi","CZ",2021,12,16,0.73,281,205,"x",null,"VSO-10","G9",""]
["David Riha",{"$f":"VLOOKUP(A2337,Pilot,2,0)","v":1983},{"$f":"VLOOKUP(A2337,Pilot,5,0)","v":"M"},{"$f":"VLOOKUP(A2337,Pilot,3,0)","v":"Vlašim"},{"$f":"VLOOKUP(A2337,Pilot,4,0)","v":"CZ/C1"},"Ranský pohár 2021 - Kombi","CZ",2021,1,2928,0.75,{"$f":"ROUND(J2337/MAX($J$2337:$J$2355)*10000*0.7+(MAX($I$2337:$I$2355)-I2337)/(MAX($I$2337:$I$2355)-1)*10000*0.3,0)","v":10000},{"$f":"ROUND(K2337*L2337,0)","v":7500},"x",null,"ASW 15 B","XE",""]
["Jan Smaha",1958,"M","Česká Lípa","CZ/C2","Ranský pohár 2021 - Kombi","CZ",2021,2,2542,0.75,8911,{"$f":"ROUND(K2338*L2338,0)","v":6683},"x",null,"ASW 15 B","CW",""]
["Tomas Novak",1974,"M","Česká Lípa","CZ/C2","Ranský pohár 2021 - Kombi","CZ",2021,3,2444,0.75,8510,6383,"x",null,"Ventus C 17,6m","XE",""]
["Jiri Maier 99",1999,"M","Raná","CZ/C2","Ranský pohár 2021 - Kombi","CZ",2021,4,2406,0.75,8252,6189,"x",null,"Discus bT WL","TAL","Junior v roce 2022"]
["Vojtech Kostejn",{"$f":"VLOOKUP(A2341,Pilot,2,0)","v":1974},{"$f":"VLOOKUP(A2341,Pilot,5,0)","v":"M"},{"$f":"VLOOKUP(A2341,Pilot,3,0)","v":"Česká Lípa"},{"$f":"VLOOKUP(A2341,Pilot,4,0)","v":"CZ/C2"},"Ranský pohár 2021 - Kombi","CZ",2021,5,2377,0.75,8016,6012,"x",null,"ASW 15 B","I",""]
["Pavel Derda",{"$f":"VLOOKUP(A2342,Pilot,2,0)","v":1952},{"$f":"VLOOKUP(A2342,Pilot,5,0)","v":"M"},{"$f":"VLOOKUP(A2342,Pilot,3,0)","v":"Dvůr Králové"},{"$f":"VLOOKUP(A2342,Pilot,4,0)","v":"CZ/C2"},"Ranský pohár 2021 - Kombi","CZ",2021,6,2357,0.75,7802,5852,"x",null,"Cirrus/Cirrus VTC 17.74","VE",""]
["Jiri Maier 66",1966,"M","Raná","CZ/C2","Ranský pohár 2021 - Kombi","CZ",2021,7,2354,0.75,7628,5721,null,null,"ASW 24E WL","JM",""]
["Martin Zvonicek",{"$f":"VLOOKUP(A2344,Pilot,2,0)","v":1972},{"$f":"VLOOKUP(A2344,Pilot,5,0)","v":"M"},{"$f":"VLOOKUP(A2344,Pilot,3,0)","v":"Raná"},{"$f":"VLOOKUP(A2344,Pilot,4,0)","v":"CZ/C2"},"Ranský pohár 2021 - Kombi","CZ",2021,8,2345,0.75,7440,5580,"x",null,"ASW 15","ET",""]
["Zbynek Bican",1961,"M","Raná","CZ/C2","Ranský pohár 2021 - Kombi","CZ",2021,9,2014,0.75,6482,4862,"x",null,"LS 3 WL","H1",""]
["Krystof Mimra",1992,"M","Most","CZ/C2","Ranský pohár 2021 - Kombi","CZ",2021,10,1889,0.75,6016,4512,"x",null,"VSO-10",51,""]
["Dalibor Pek",1968,"M","Raná","CZ/C2","Ranský pohár 2021 - Kombi","CZ",2021,11,1830,{"$f":"VLOOKUP(F2347,Soutez,12,0)","v":0.75},5708,4281,"x",null,"Std. Cirrus","GP",""]
["Jaroslav Vancata",1985,"M","Raná","CZ/C2","Ranský pohár 2021 - Kombi","CZ",2021,12,1761,0.75,5377,4033,"x",null,"LS 7 WL","2B",""]
["Michal Hemrle",1974,"M","Česká Lípa","CZ/C2","Ranský pohár 2021 - Kombi","CZ",2021,13,1739,0.75,5157,{"$f":"ROUND(K2349*L2349,0)","v":3868},"x",null,"ASG 29E 18m","EET",""]
["Jana Mezerova",1975,"F","Raná","CZ/C2","Ranský pohár 2021 - Kombi","CZ",2021,14,1602,0.75,4663,3497,null,null,"LS 1-0","AL",""]
["Jaromir Hendrych",1954,"M","Raná","CZ/C2","Ranský pohár 2021 - Kombi","CZ",2021,15,1495,0.75,4241,3181,null,null,"M-35",36,""]
["Martin Fric",1967,"M","Raná","CZ/C2","Ranský pohár 2021 - Kombi","CZ",2021,16,1457,0.75,3983,2987,null,null,"Janus B","RA",""]
["Daniel Devecka",{"$f":"VLOOKUP(A2353,Pilot,2,0)","v":1981},{"$f":"VLOOKUP(A2353,Pilot,5,0)","v":"M"},{"$f":"VLOOKUP(A2353,Pilot,3,0)","v":"Vlašim"},{"$f":"VLOOKUP(A2353,Pilot,4,0)","v":"CZ/C1"},"Ranský pohár 2021 - Kombi","CZ",2021,17,1237,0.75,3291,2468,"x",null,"VSO-10 C","V3",""]
["Tomas Mezera",1973,"M","Raná","CZ/C2","Ranský pohár 2021 - Kombi","CZ",2021,18,1001,0.75,2560,1920,null,null,"VSO-10",59,""]
["Stanislav Vrabec",1975,"M","Česká Lípa","CZ/C2","Ranský pohár 2021 - Kombi","CZ",2021,19,699,0.75,{"$f":"ROUND(J2355/MAX($J$2337:$J$2355)*10000*0.7+(MAX($I$2337:$I$2355)-I2355)/(MAX($I$2337:$I$2355)-1)*10000*0.3,0)","v":1671},{"$f":"ROUND(K2355*L2355,0)","v":1253},"x",null,"Std. Cirrus","CV",""]
["Jakub Hlavacek",{"$f":"VLOOKUP(A2356,Pilot,2,0)","v":1991},{"$f":"VLOOKUP(A2356,Pilot,5,0)","v":"M"},{"$f":"VLOOKUP(A2356,Pilot,3,0)","v":"Letkov"},{"$f":"VLOOKUP(A2356,Pilot,4,0)","v":"CZ/C1"},"Cirrus GP 2021 - Std. Cirrus","CZ",2021,1,43,0.76,{"$f":"ROUND((MAX($I$2356:$I$2369)-I2356)/(MAX($I$2356:$I$2369)-1)*10000,0)","v":10000},{"$f":"ROUND(K2356*L2356,0)","v":7600},"x",null,"Std. Cirrus","SB",""]
["Michal Navratil",1985,"M","Křižanov","CZ/M","Cirrus GP 2021 - Std. Cirrus","CZ",2021,2,34,0.76,9231,{"$f":"ROUND(K2357*L2357,0)","v":7016},"x",null,"Std. Cirrus","IJ",""]
["Pavel Jiranek",1993,"M","Toužim","CZ/C1","Cirrus GP 2021 - Std. Cirrus","CZ",2021,3,29,0.76,8462,6431,null,null,"Std. Cirrus","IYD",""]
["Jan Zahradka",1981,"M","Hodkovice","CZ/C2","Cirrus GP 2021 - Std. Cirrus","CZ",2021,4,28,0.76,7692,5846,null,null,"Std. Cirrus","AR",""]
["Jan Hruska",1988,"M","Tábor","CZ/C1","Cirrus GP 2021 - Std. Cirrus","CZ",2021,5,23,0.76,6923,5261,"x",null,"Std. Cirrus",75,""]
["Fousek & Dvorak",null,null,"Raná",null,"Cirrus GP 2021 - Std. Cirrus","CZ",2021,6,19,0.76,6154,{"$f":"ROUND(K2361*L2361,0)","v":4677},null,null,"Std. Cirrus","LW","Není v databázi"]
["Jan Ratz",{"$f":"VLOOKUP(A2362,Pilot,2,0)","v":1987},{"$f":"VLOOKUP(A2362,Pilot,5,0)","v":"M"},{"$f":"VLOOKUP(A2362,Pilot,3,0)","v":"Zbraslavice"},{"$f":"VLOOKUP(A2362,Pilot,4,0)","v":"CZ/C1"},"Cirrus GP 2021 - Std. Cirrus","CZ",2021,7,16,0.76,5385,4093,null,null,"Std. Cirrus","REX",""]
["Hana Treslova",1991,"F","Raná","CZ/C2","Cirrus GP 2021 - Std. Cirrus","CZ",2021,8,15,0.76,4615,3507,null,null,"Std. Cirrus","CI",""]
["Katerina Vojtova",1983,"F","Slaný","CZ/C1","Cirrus GP 2021 - Std. Cirrus","CZ",2021,9,7,0.76,3846,2923,null,null,"Std. Cirrus","KAC",""]
["Matej Krestes",1986,"M","Slaný","CZ/C1","Cirrus GP 2021 - Std. Cirrus","CZ",2021,10,6,0.76,3077,2339,"x",null,"Std. Cirrus","CON",""]
["Jiri Hula",1973,"M","Slaný","CZ/C1","Cirrus GP 2021 - Std. Cirrus","CZ",2021,11,4,0.76,2308,1754,"x",null,"Std.Cirrus","IT",""]
["Michal Fortik",1976,"M","Točná","CZ/C1","Cirrus GP 2021 - Std. Cirrus","CZ",2021,11,4,0.76,2308,1754,"x",null,"Std. Cirrus","AC",""]
["Jan Platenik",1981,"M","Krnov","CZ/M","Cirrus GP 2021 - Std. Cirrus","CZ",2021,13,3,0.76,769,584,"x",null,"Std. Cirrus","SX",""]
["Bordovska & Bordovsky",null,null,"Krnov",null,"Cirrus GP 2021 - Std. Cirrus","CZ",2021,14,1,0.76,0,0,null,null,"Std. Cirrus","BB",{"$f":"IF(ISERROR(VLOOKUP(A2369,Pilot,6,0)),\"Není v databázi\",VLOOKUP(A2369,Pilot,6,0))","v":"Není v databázi"}]
["Uwe Wahlig",null,null,"GER",null,"WGC 2021 - Klub","FR",2021,1,4614,1.105,{"$f":"ROUND(J2370/MAX($J$2370:$J$2405)*10000*0.7+(MAX($I$2370:$I$2405)-I2370)/(MAX($I$2370:$I$2405)-1)*10000*0.3,0)","v":10000},{"$f":"ROUND(K2370*L2370,0)","v":11050},null,null,"LS 3","SN","Není v databázi"]
["Thies Bruins",null,null,"NDL",null,"WGC 2021 - Klub","FR",2021,2,4499,1.105,9740,{"$f":"ROUND(K2371*L2371,0)","v":10763},null,null,"ASW 20","IV","Není v databázi"]
["Stefan Langer",null,null,"GER",null,"WGC 2021 - Klub","FR",2021,3,4457,1.105,9590,10597,null,null,"LS 3","SF","Není v databázi"]
["Tom Arscott",null,null,"GBR",null,"WGC 2021 - Klub","FR",2021,4,4450,1.105,9494,10491,null,null,"LS 7 WL",768,"Není v databázi"]
["Ferenc Tamas",null,null,"HUN",null,"WGC 2021 - Klub","FR",2021,5,4435,1.105,9386,10372,null,null,"LS 3","1A","Není v databázi"]
["Robin Smit",null,null,"NDL",null,"WGC 2021 - Klub","FR",2021,6,4388,1.105,9229,10198,null,null,"LS 4","RSM","Není v databázi"]
["Jake Brattle",null,null,"GBR",null,"WGC 2021 - Klub","FR",2021,7,4318,1.105,9037,9986,null,null,"LS 7 WL",25,"Není v databázi"]
["Jakub Barszcz",null,null,"POL",null,"WGC 2021 - Klub","FR",2021,8,4163,1.105,8716,9631,null,null,"Mini Nimbus","CC","Není v databázi"]
["Mark Travner",null,null,"SLO",null,"WGC 2021 - Klub","FR",2021,9,4061,1.105,8475,9365,null,null,"DG 300","CF","Není v databázi"]
["Darius Gudziunas",null,null,"LTU",null,"WGC 2021 - Klub","FR",2021,10,4048,1.105,8370,9249,null,null,"ASW 20","FL1","Není v databázi"]
["Lukasz Kornacki",null,null,"POL",null,"WGC 2021 - Klub","FR",2021,11,3981,1.105,8183,9042,null,null,"Mini Nimbus","CH","Není v databázi"]
["Simon Gantner",null,null,"CHE",null,"WGC 2021 - Klub","FR",2021,12,3964,1.105,8071,8918,null,null,"LS 4","MN","Není v databázi"]
["Rasmus Ørskov",null,null,"DEN",null,"WGC 2021 - Klub","FR",2021,13,3957,1.105,7975,8812,null,null,"ASW 20","LH","Není v databázi"]
["Eric Bernard",null,null,"FRA",null,"WGC 2021 - Klub","FR",2021,14,3876,1.105,7766,8581,null,null,"LS 7 WL","HG","Není v databázi"]
["Killian Walbrou",null,null,"FRA",null,"WGC 2021 - Klub","FR",2021,15,3834,1.105,7617,8417,null,null,"LS 7 WL","AG","Není v databázi"]
["Andrej Lebedev",null,null,"LTU",null,"WGC 2021 - Klub","FR",2021,16,3805,1.105,7487,8273,null,null,"ASW 20","WU","Není v databázi"]
["Tomas Suchanek",{"$f":"VLOOKUP(A2386,Pilot,2,0)","v":1964},{"$f":"VLOOKUP(A2386,Pilot,5,0)","v":"M"},{"$f":"VLOOKUP(A2386,Pilot,3,0)","v":"GAC Benešov"},{"$f":"VLOOKUP(A2386,Pilot,4,0)","v":"CZ/C1"},"WGC 2021 - Klub","FR",2021,17,3755,1.105,7325,8094,null,null,"ASW 20","CP",""]
["Frédéric De Groote",null,null,"BEL",null,"WGC 2021 - Klub","FR",2021,18,3735,1.105,7209,7966,null,null,"Std. Libelle","FB","Není v databázi"]
["Giacomo Dall'Olio",null,null,"ITA",null,"WGC 2021 - Klub","FR",2021,19,3724,1.105,7107,7853,null,null,"ASW 20","B6","Není v databázi"]
["Anton Minskiy",null,null,"FAS",null,"WGC 2021 - Klub","FR",2021,20,3714,1.105,7006,7742,null,null,"ASW 20","RZ","Není v databázi"]
["Paul Altrichter",null,null,"AUT",null,"WGC 2021 - Klub","FR",2021,21,3686,1.105,6878,7600,null,null,"LS 4 WL","IAX","Není v databázi"]
["Jan Pavlik",{"$f":"VLOOKUP(A2391,Pilot,2,0)","v":1987},{"$f":"VLOOKUP(A2391,Pilot,5,0)","v":"M"},{"$f":"VLOOKUP(A2391,Pilot,3,0)","v":"Křižanov"},{"$f":"VLOOKUP(A2391,Pilot,4,0)","v":"CZ/M"},"WGC 2021 - Klub","FR",2021,22,3679,1.105,6781,7493,null,null,"LS 4","6L",""]
["Sven Sprunger",null,null,"CHE",null,"WGC 2021 - Klub","FR",2021,23,3631,1.105,6623,7318,null,null,"LS 4","WG","Není v databázi"]
["Miguel Schwan",null,null,"AUT",null,"WGC 2021 - Klub","FR",2021,24,3540,1.105,6399,{"$f":"ROUND(K2393*L2393,0)","v":7071},null,null,"LS 4 WL","T5","Není v databázi"]
["Daniel Sazhin",null,null,"USA",null,"WGC 2021 - Klub","FR",2021,25,3529,1.105,6297,6958,null,null,"ASW 20","WA","Není v databázi"]
["Sami Rissanen",null,null,"FIN",null,"WGC 2021 - Klub","FR",2021,26,3474,1.105,6128,6771,null,null,"LS 7","GE","Není v databázi"]
["Vojko Starovic",null,null,"SLO",null,"WGC 2021 - Klub","FR",2021,27,3418,1.105,5957,6582,null,null,"DG 300","CE","Není v databázi"]
["Geert De Palmenaer",null,null,"BEL",null,"WGC 2021 - Klub","FR",2021,28,3400,1.105,5844,6458,null,null,"LS 4","LV","Není v databázi"]
["Frane Franic",null,null,"CRO",null,"WGC 2021 - Klub","FR",2021,29,3338,1.105,5664,6259,null,null,"ASW 24","HR3","Není v databázi"]
["James P. Stewart",null,null,"USA",null,"WGC 2021 - Klub","FR",2021,30,3293,1.105,5510,6089,null,null,"ASW 20","IRS","Není v databázi"]
["Oleg Rzhondkovskyi",null,null,"UKR",null,"WGC 2021 - Klub","FR",2021,31,3213,1.105,5303,5860,null,null,"Discus",762,"Není v databázi"]
["Gerrard G Dale",null,null,"GBR",null,"WGC 2021 - Klub","FR",2021,32,3138,1.105,5104,5640,null,null,"ASW 24",247,"Není v databázi"]
["Morten Hoeck Petersen",null,null,"DEN",null,"WGC 2021 - Klub","FR",2021,33,3040,1.105,4869,5380,null,null,"Glasflugel 304","G","Není v databázi"]
["Attila Korom",null,null,"HUN",null,"WGC 2021 - Klub","FR",2021,34,3003,1.105,4727,5223,null,null,"ASW 20","MC","Není v databázi"]
["Mykhailo Grytsenko",null,null,"UKR",null,"WGC 2021 - Klub","FR",2021,35,1390,1.105,2195,2425,null,null,"Jantar Std. 3",89,"Není v databázi"]
["Markku Valkama",null,null,"FIN",null,"WGC 2021 - Klub","FR",2021,36,657,1.105,997,1102,null,null,"PIK 20 A","MV","Není v databázi"]
["Simon Schröder",null,null,"GER",null,"WGC 2021 - Std","FR",2021,1,4609,1.085,{"$f":"ROUND(J2406/MAX($J$2406:$J$2435)*10000*0.7+(MAX($I$2406:$I$2435)-I2406)/(MAX($I$2406:$I$2435)-1)*10000*0.3,0)","v":10000},{"$f":"ROUND(K2406*L2406,0)","v":10850},null,null,"LS 8","S2","Není v databázi"]
["Jan Omsels",null,null,"GER",null,"WGC 2021 - Std","FR",2021,2,4504,1.085,9737,{"$f":"ROUND(K2407*L2407,0)","v":10565},null,null,"Discus 2a","V","Není v databázi"]
["Dennis Huybreckx",null,null,"BEL",null,"WGC 2021 - Std","FR",2021,3,4390,{"$f":"VLOOKUP(F2408,Soutez,12,0)","v":1.085},9460,10264,null,null,"LS 8","CM","Není v databázi"]
["Jeremy Hood",null,null,"GBR",null,"WGC 2021 - Std","FR",2021,4,4229,1.085,9113,9888,null,null,"LS 8",352,"Není v databázi"]
["Norbert Scarlat",null,null,"ROM",null,"WGC 2021 - Std","FR",2021,5,4168,1.085,8916,9674,null,null,"Discus 2a","Y1","Není v databázi"]
["Jeroen Jennen",null,null,"BEL",null,"WGC 2021 - Std","FR",2021,6,4159,1.085,8799,9547,null,null,"LS 8","LT","Není v databázi"]
["Sjaak Selen",null,null,"NDL",null,"WGC 2021 - Std","FR",2021,7,4129,1.085,8650,9385,null,null,"Discus 2a","2SI","Není v databázi"]
["Enrique Levin",null,null,"GER",null,"WGC 2021 - Std","FR",2021,8,4105,1.085,8510,9233,null,null,"Discus 2a","FL","Není v databázi"]
["Robbie Seton",null,null,"NDL",null,"WGC 2021 - Std","FR",2021,9,3947,1.085,8167,8861,null,null,"LS 8","SR","Není v databázi"]
["David Leemann",null,null,"CHE",null,"WGC 2021 - Std","FR",2021,10,3932,1.085,8041,8724,null,null,"LS 8","4B","Není v databázi"]
["Lukasz Blaszczyk",null,null,"POL",null,"WGC 2021 - Std","FR",2021,11,3872,1.085,7846,8513,null,null,"Discus 2a","I","Není v databázi"]
["Benjamin Néglais",null,null,"FRA",null,"WGC 2021 - Std","FR",2021,12,3827,1.085,7674,8326,null,null,"Discus 2a","ET","Není v databázi"]
["Filip Bojanowski",null,null,"DEN",null,"WGC 2021 - Std","FR",2021,13,3764,1.085,7475,8110,null,null,"Discus 2a","LAX","Není v databázi"]
["Howard Jones",null,null,"GBR",null,"WGC 2021 - Std","FR",2021,14,3716,1.085,7299,{"$f":"ROUND(K2419*L2419,0)","v":7919},null,null,"Discus 2a",6,"Není v databázi"]
["Méric Morel",null,null,"FRA",null,"WGC 2021 - Std","FR",2021,15,3711,1.085,7188,7799,null,null,"Discus 2a","JPA","Není v databázi"]
["Jacek Flis",null,null,"POL",null,"WGC 2021 - Std","FR",2021,16,3705,1.085,7075,7676,null,null,"Discus 2a","Y","Není v databázi"]
["Miloslav Cink",{"$f":"VLOOKUP(A2422,Pilot,2,0)","v":1987},{"$f":"VLOOKUP(A2422,Pilot,5,0)","v":"M"},{"$f":"VLOOKUP(A2422,Pilot,3,0)","v":"Letkov"},{"$f":"VLOOKUP(A2422,Pilot,4,0)","v":"CZ/C1"},"WGC 2021 - Std","FR",2021,17,3607,1.085,6823,7403,null,null,"LS 8","J3",""]
["Nico Jaegli",null,null,"CHE",null,"WGC 2021 - Std","FR",2021,18,3574,1.085,6669,7236,null,null,"Discus 2","2S","Není v databázi"]
["Sarah Arnold",null,null,"USA",null,"WGC 2021 - Std","FR",2021,19,3468,1.085,6405,6949,null,null,"Discus 2a","ALB","Není v databázi"]
["Pavel Louzecky",{"$f":"VLOOKUP(A2425,Pilot,2,0)","v":1957},{"$f":"VLOOKUP(A2425,Pilot,5,0)","v":"M"},{"$f":"VLOOKUP(A2425,Pilot,3,0)","v":"Přibyslav"},{"$f":"VLOOKUP(A2425,Pilot,4,0)","v":"CZ/C2"},"WGC 2021 - Std","FR",2021,20,3403,1.085,6203,6730,null,null,"LS 8","FX",""]
["Jan Brandt Jorgensen",null,null,"DEN",null,"WGC 2021 - Std","FR",2021,21,3397,1.085,6090,6608,null,null,"LS 8","JB","Není v databázi"]
["Luca Urbani",null,null,"ITA",null,"WGC 2021 - Std","FR",2021,22,3214,1.085,5709,6194,null,null,"Discus 2a","LR","Není v databázi"]
["Tamas Vamosi",null,null,"HUN",null,"WGC 2021 - Std","FR",2021,23,3207,1.085,5595,6071,null,null,"Discus 2a","HAL","Není v databázi"]
["Tom Holloran",null,null,"USA",null,"WGC 2021 - Std","FR",2021,24,3108,1.085,5341,5795,null,null,"LS 8","MY","Není v databázi"]
["Alex Pop",null,null,"ROM",null,"WGC 2021 - Std","FR",2021,25,3107,1.085,5236,5681,null,null,"Discus 2a","YB","Není v databázi"]
["Martin Schwab",null,null,"AUT",null,"WGC 2021 - Std","FR",2021,26,3022,1.085,5004,5429,null,null,"Discus 2T","FUN",{"$f":"IF(ISERROR(VLOOKUP(A2431,Pilot,6,0)),\"Není v databázi\",VLOOKUP(A2431,Pilot,6,0))","v":"Není v databázi"}]
["Péter Banki",null,null,"HUN",null,"WGC 2021 - Std","FR",2021,27,2732,1.085,4460,4839,null,null,"Discus 2a","HUN","Není v databázi"]
["Lorenzo Monti",null,null,"ITA",null,"WGC 2021 - Std","FR",2021,28,2355,1.085,3784,4106,null,null,"LAK 19/15m","B9","Není v databázi"]
["Serge Leclercq",null,null,"ESP",null,"WGC 2021 - Std","FR",2021,29,1933,1.085,3039,3297,null,null,"LS 8",220,"Není v databázi"]
["Arturas Pilvinis",null,null,"LTU",null,"WGC 2021 - Std","FR",2021,30,279,1.085,424,460,null,null,"LS 8","H8","Není v databázi"]
["Sebastian Kawa",null,null,"POL",null,"WGC 2021 - 15m","FR",2021,1,4470,1.075,{"$f":"ROUND(J2436/MAX($J$2436:$J$2464)*10000*0.7+(MAX($I$2436:$I$2464)-I2436)/(MAX($I$2436:$I$2464)-1)*10000*0.3,0)","v":10000},{"$f":"ROUND(K2436*L2436,0)","v":10750},null,null,"Diana 2","RP","Není v databázi"]
["Lukasz Grabowski",null,null,"POL",null,"WGC 2021 - 15m","FR",2021,2,4286,1.075,9605,{"$f":"ROUND(K2437*L2437,0)","v":10325},null,null,"Diana 2","BB","Není v databázi"]
["Matthew Scutter",null,null,"AUS",null,"WGC 2021 - 15m","FR",2021,3,4220,1.075,9394,10099,null,null,"Diana 2","D2","Není v databázi"]
["Hadriaan van Nes",null,null,"NDL",null,"WGC 2021 - 15m","FR",2021,4,4176,1.075,9218,9909,null,null,"JS 3",3,"Není v databázi"]
["Karel Novak",{"$f":"VLOOKUP(A2440,Pilot,2,0)","v":1993},{"$f":"VLOOKUP(A2440,Pilot,5,0)","v":"M"},{"$f":"VLOOKUP(A2440,Pilot,3,0)","v":"Mladá Boleslav"},{"$f":"VLOOKUP(A2440,Pilot,4,0)","v":"CZ/C1"},"WGC 2021 - 15m","FR",2021,5,4049,1.075,8912,9580,"x",null,"JS 3","XM",""]
["Riccardo Brigliadori",null,null,"ITA",null,"WGC 2021 - 15m","FR",2021,6,4017,1.075,8755,9412,null,null,"JS 3","LEO","Není v databázi"]
["Laurent Aboulin",null,null,"FRA",null,"WGC 2021 - 15m","FR",2021,7,3982,1.075,8593,9237,null,null,"JS 3","KW","Není v databázi"]
["David Bauder",null,null,"GER",null,"WGC 2021 - 15m","FR",2021,8,3923,1.075,8393,9022,null,null,"Ventus 3","3V","Není v databázi"]
["Steffen Schwarzer",null,null,"GER",null,"WGC 2021 - 15m","FR",2021,9,3891,1.075,8236,8854,null,null,"Ventus 3","A7","Není v databázi"]
["Daan Spruyt",null,null,"BEL",null,"WGC 2021 - 15m","FR",2021,10,3873,1.075,8101,8709,null,null,"Ventus 2 ax","FS","Není v databázi"]
["Jeroen Verkuijl",null,null,"NDL",null,"WGC 2021 - 15m","FR",2021,11,3855,1.075,7965,8562,null,null,"JS 3","JV","Není v databázi"]
["Roman Mracek",{"$f":"VLOOKUP(A2447,Pilot,2,0)","v":1980},{"$f":"VLOOKUP(A2447,Pilot,5,0)","v":"M"},{"$f":"VLOOKUP(A2447,Pilot,3,0)","v":"Letkov"},{"$f":"VLOOKUP(A2447,Pilot,4,0)","v":"CZ/C1"},"WGC 2021 - 15m","FR",2021,12,3836,1.075,7829,8416,null,null,"JS 3","ZE",""]
["Timothy A. Taylor",null,null,"USA",null,"WGC 2021 - 15m","FR",2021,13,3752,1.075,7590,8159,null,null,"Ventus 2 ax","VV","Není v databázi"]
["Maximilian Seis",null,null,"FRA",null,"WGC 2021 - 15m","FR",2021,14,3725,1.075,7440,7998,null,null,"JS 3","LB","Není v databázi"]
["Thomas Grove",null,null,"DEN",null,"WGC 2021 - 15m","FR",2021,15,3674,1.075,7253,{"$f":"ROUND(K2450*L2450,0)","v":7797},null,null,"ASG 29",29,"Není v databázi"]
["Zoltan Hamar",null,null,"HUN",null,"WGC 2021 - 15m","FR",2021,16,3622,1.075,7065,7595,null,null,"JS 3","7A","Není v databázi"]
["Mark Käppeli",null,null,"CHE",null,"WGC 2021 - 15m","FR",2021,17,3479,1.075,6734,7239,null,null,"JS 3","AX","Není v databázi"]
["Sean Murphy",null,null,"USA",null,"WGC 2021 - 15m","FR",2021,18,3431,1.075,6552,7043,null,null,"JS 3","XC","Není v databázi"]
["Morten Hugo Bennick",null,null,"DEN",null,"WGC 2021 - 15m","FR",2021,19,3360,1.075,6333,6808,null,null,"Ventus 2cT","RJ","Není v databázi"]
["Yves Gerster",null,null,"CHE",null,"WGC 2021 - 15m","FR",2021,20,3052,1.075,5744,6175,null,null,"JS 3",73,"Není v databázi"]
["Bruno Herencic",null,null,"CRO",null,"WGC 2021 - 15m","FR",2021,21,2902,1.075,5402,5807,null,null,"Diana 2","BH","Není v databázi"]
["Vitaliy Borovik",null,null,"FAS",null,"WGC 2021 - 15m","FR",2021,22,2565,1.075,4767,5125,null,null,"JS 3","VB","Není v databázi"]
["Oscar Marqués",null,null,"ESP",null,"WGC 2021 - 15m","FR",2021,23,2550,1.075,4636,4984,null,null,"LS 6","CB","Není v databázi"]
["Szabolcs Veigli",null,null,"HUN",null,"WGC 2021 - 15m","FR",2021,24,2327,1.075,4180,4494,null,null,"JS 3","HAB","Není v databázi"]
["Nik Salej",null,null,"SLO",null,"WGC 2021 - 15m","FR",2021,25,2265,1.075,3976,4274,null,null,"JS 3","XD","Není v databázi"]
["Diana Schuit",null,null,"LUX",null,"WGC 2021 - 15m","FR",2021,26,2248,1.075,3842,4130,null,null,"JS 3","MM","Není v databázi"]
["A. M. Litt",null,null,"BEL",null,"WGC 2021 - 15m","FR",2021,27,2245,1.075,3730,4010,null,null,"JS 3","MMI","Není v databázi"]
["Mykhaylo Kruglyakov",null,null,"UKR",null,"WGC 2021 - 15m","FR",2021,28,1465,1.075,2401,2581,null,null,"DG 400","BU","Není v databázi"]
["Jurado Navas Miguel",null,null,"ESP",null,"WGC 2021 - 15m","FR",2021,29,0,1.075,0,0,null,null,"Ventus 1",45,"Není v databázi"]
["Ivan Novak",{"$f":"VLOOKUP(A2465,Pilot,2,0)","v":1962},{"$f":"VLOOKUP(A2465,Pilot,5,0)","v":"M"},{"$f":"VLOOKUP(A2465,Pilot,3,0)","v":"Mladá Boleslav"},{"$f":"VLOOKUP(A2465,Pilot,4,0)","v":"CZ/C1"},"FCC Gliding 2021 - Klub","SK",2021,1,6045,0.93500000000000005,{"$f":"ROUND(J2465/MAX($J$2465:$J$2474)*10000*0.7+(MAX($I$2465:$I$2474)-I2465)/(MAX($I$2465:$I$2474)-1)*10000*0.3,0)","v":10000},{"$f":"ROUND(K2465*L2465,0)","v":9350},"x",null,"Std. Cirrus","DI",""]
["Stanislaw Biela",null,null,"Nowy Targ",null,"FCC Gliding 2021 - Klub","SK",2021,2,5253,0.93500000000000005,8750,{"$f":"ROUND(K2466*L2466,0)","v":8181},null,null,"SZD-55 Promyk","BS","Není v databázi"]
["Milan Surovcik Jr.",null,null,"Žilina",null,"FCC Gliding 2021 - Klub","SK",2021,3,5227,0.93500000000000005,8386,7841,null,null,"Centrair C-101A Pegase","EL","Není v databázi"]
["Petra Piskata",{"$f":"VLOOKUP(A2468,Pilot,2,0)","v":1989},{"$f":"VLOOKUP(A2468,Pilot,5,0)","v":"F"},{"$f":"VLOOKUP(A2468,Pilot,3,0)","v":"Luhačovice"},{"$f":"VLOOKUP(A2468,Pilot,4,0)","v":"CZ/M"},"FCC Gliding 2021 - Klub","SK",2021,4,5067,0.93500000000000005,7867,7356,"x","x","LS-4","FP",""]
["Judit Murati",null,null,"Malev",null,"FCC Gliding 2021 - Klub","SK",2021,5,5014,0.93500000000000005,7473,6987,null,null,"ASW-20 C /15m","J","Není v databázi"]
["Wojciech Domanski",null,null,"Nowy Targ",null,"FCC Gliding 2021 - Klub","SK",2021,6,4976,{"$f":"VLOOKUP(F2470,Soutez,12,0)","v":0.93500000000000005},7095,6634,null,null,"LS-4","WW","Není v databázi"]
["Peter Gonczi",null,null,"Malév",null,"FCC Gliding 2021 - Klub","SK",2021,7,4723,0.93500000000000005,6469,6049,null,null,"Janus C (FG)","DD","Není v databázi"]
["Olgierd Urbanczyk",null,null,"AOS Bezmiechowa",null,"FCC Gliding 2021 - Klub","SK",2021,8,4565,0.93500000000000005,5953,{"$f":"ROUND(K2472*L2472,0)","v":5566},null,null,"Janus dvojí","KI","Není v databázi"]
["Stas Stankovic",null,null,"Aeroklub Novo mesto",null,"FCC Gliding 2021 - Klub","SK",2021,9,3492,0.93500000000000005,4377,4092,null,null,"DG-100","GO","Není v databázi"]
["Ryszard Bendkowski",null,null,"Warszawa",null,"FCC Gliding 2021 - Klub","SK",2021,10,415,0.93500000000000005,481,450,null,null,"SZD-48 Jantar Std. 2","Filip","Není v databázi"]
["Jan Kotan",{"$f":"VLOOKUP(A2475,Pilot,2,0)","v":1982},{"$f":"VLOOKUP(A2475,Pilot,5,0)","v":"M"},{"$f":"VLOOKUP(A2475,Pilot,3,0)","v":"Letňany"},{"$f":"VLOOKUP(A2475,Pilot,4,0)","v":"CZ/C1"},"FCC Gliding 2021 - Kombi 15m","SK",2021,1,5644,0.94500000000000006,{"$f":"ROUND(J2475/MAX($J$2475:$J$2484)*10000*0.7+(MAX($I$2475:$I$2484)-I2475)/(MAX($I$2475:$I$2484)-1)*10000*0.3,0)","v":10000},{"$f":"ROUND(K2475*L2475,0)","v":9450},"x",null,"Ventus 2b 15m","YA",""]
["Czeladzki & Czubski",null,null,"Warszawski/KKGT",null,"FCC Gliding 2021 - Kombi 15m","SK",2021,2,5303,0.94500000000000006,9244,{"$f":"ROUND(K2476*L2476,0)","v":8736},null,null,"Duo Discus XLT","POL","Není v databázi"]
["Jiri Kusbach",{"$f":"VLOOKUP(A2477,Pilot,2,0)","v":1959},{"$f":"VLOOKUP(A2477,Pilot,5,0)","v":"M"},{"$f":"VLOOKUP(A2477,Pilot,3,0)","v":"Luhačovice"},{"$f":"VLOOKUP(A2477,Pilot,4,0)","v":"CZ/M"},"FCC Gliding 2021 - Kombi 15m","SK",2021,3,5019,0.94500000000000006,8558,8087,"x",null,"KKB 15E-FES","B",""]
["Jana Treslova",1963,"F","Raná","CZ/C2","FCC Gliding 2021 - Kombi 15m","SK",2021,4,4821,0.94500000000000006,7979,7540,"x",null,"Ventus 2ax","AX",""]
["Jana Veprekova",1961,"F","Dvůr Králové","CZ/C2","FCC Gliding 2021 - Kombi 15m","SK",2021,5,4634,0.94500000000000006,7414,7006,null,null,"LS-8","W8",""]
["Slavomir Valecko",1960,"M","Hranice","CZ/M","FCC Gliding 2021 - Kombi 15m","SK",2021,6,4066,0.94500000000000006,6376,6025,"x",null,"Discus CS","IYB",""]
["Oldrich Bartonik",1961,"M","Luhačovice","CZ/M","FCC Gliding 2021 - Kombi 15m","SK",2021,7,3403,0.94500000000000006,5221,4934,"x",null,"KKB 15","N1",""]
["Maciej Walasek",null,null,"Aeroklub Krakowski",null,"FCC Gliding 2021 - Kombi 15m","SK",2021,8,2680,0.94500000000000006,3991,{"$f":"ROUND(K2482*L2482,0)","v":3771},null,null,"LS-6","KK","Není v databázi"]
["Jan Keher",null,null,"Prievidza",null,"FCC Gliding 2021 - Kombi 15m","SK",2021,9,2293,0.94500000000000006,3177,3002,null,null,"Discus CS","DR","Není v databázi"]
["Benedikt Laho",null,null,"Trnava",null,"FCC Gliding 2021 - Kombi 15m","SK",2021,10,1474,0.94500000000000006,1828,1727,null,null,"Discus 2T /15m","JH","Není v databázi"]
["Michael Streit",null,null,"LSC Burg Feuertein",null,"FCC Gliding 2021 - Kombi Open","SK",2021,1,5592,0.94500000000000006,{"$f":"ROUND(J2485/MAX($J$2485:$J$2502)*10000*0.7+(MAX($I$2485:$I$2502)-I2485)/(MAX($I$2485:$I$2502)-1)*10000*0.3,0)","v":10000},{"$f":"ROUND(K2485*L2485,0)","v":9450},null,null,"AS 33 /18m","M","Není v databázi"]
["Miroslaw Izydorczak",null,null,"Warszawa",null,"FCC Gliding 2021 - Kombi Open","SK",2021,2,5461,0.94500000000000006,9660,{"$f":"ROUND(K2486*L2486,0)","v":9129},null,null,"JS-1C 21","P","Není v databázi"]
["Radek Krejcirik",{"$f":"VLOOKUP(A2487,Pilot,2,0)","v":1991},{"$f":"VLOOKUP(A2487,Pilot,5,0)","v":"M"},{"$f":"VLOOKUP(A2487,Pilot,3,0)","v":"Hranice"},{"$f":"VLOOKUP(A2487,Pilot,4,0)","v":"CZ/M"},"FCC Gliding 2021 - Kombi Open","SK",2021,3,5181,0.94500000000000006,9133,8631,null,null,"JS1-C 21","ZF",""]
["Andre Weidlich",null,null,"LSV Ruhr-Lenne Iserlohn",null,"FCC Gliding 2021 - Kombi Open","SK",2021,4,5084,0.94500000000000006,8835,8349,null,null,"Arcus T","YAI","Není v databázi"]
["Joze Verdev",null,null,"Šaleški Aeroklub",null,"FCC Gliding 2021 - Kombi Open","SK",2021,5,4746,0.94500000000000006,8235,7782,null,null,"JS1-CTJ 18","DZ","Není v databázi"]
["Jakubcak & Sulirova",null,null,null,null,"FCC Gliding 2021 - Kombi Open","SK",2021,6,4470,0.94500000000000006,7713,7289,null,null,"Arcus M","CAR","Není v databázi"]
["Gintas Zube",null,null,"LT/LAK",null,"FCC Gliding 2021 - Kombi Open","SK",2021,7,4411,0.94500000000000006,7463,7053,null,null,"ASG-29E /18m","AR",{"$f":"IF(ISERROR(VLOOKUP(A2491,Pilot,6,0)),\"Není v databázi\",VLOOKUP(A2491,Pilot,6,0))","v":"Není v databázi"}]
["Kollar & Kromka",null,null,"Poprad",null,"FCC Gliding 2021 - Kombi Open","SK",2021,8,4249,0.94500000000000006,7084,6694,null,null,"Arcus M","TA3","Není v databázi"]
["Gabriela Belakova",null,null,"Prievidza",null,"FCC Gliding 2021 - Kombi Open","SK",2021,9,3825,0.94500000000000006,6376,6025,null,null,"Discus 2T /18m","EF","Není v databázi"]
["Zsolt Osi",null,null,"ACFH",null,"FCC Gliding 2021 - Kombi Open","SK",2021,10,3734,0.94500000000000006,6086,5751,null,null,"ASW-22BLE /26,58m (850 kg)","BY","Není v databázi"]
["Dana Novakova",{"$f":"VLOOKUP(A2495,Pilot,2,0)","v":1965},{"$f":"VLOOKUP(A2495,Pilot,5,0)","v":"F"},{"$f":"VLOOKUP(A2495,Pilot,3,0)","v":"Mladá Boleslav"},{"$f":"VLOOKUP(A2495,Pilot,4,0)","v":"CZ/C1"},"FCC Gliding 2021 - Kombi Open","SK",2021,11,3704,0.94500000000000006,5872,{"$f":"ROUND(K2495*L2495,0)","v":5549},null,null,"ASG-29E /18m","QZ",""]
["Janos Sindely",null,null,"Alfoldi Repülőklub",null,"FCC Gliding 2021 - Kombi Open","SK",2021,12,3616,0.94500000000000006,5585,5278,null,null,"JS1-C 18","RZ","Není v databázi"]
["Jan Paepke",null,null,"SFC Riesa-Canitz",null,"FCC Gliding 2021 - Kombi Open","SK",2021,13,3598,0.94500000000000006,5386,5090,null,null,"LAK 17 AT 18m WL","AK","Není v databázi"]
["Szabadfi & Toth",null,null,"Malev",null,"FCC Gliding 2021 - Kombi Open","SK",2021,14,3295,0.94500000000000006,4831,4565,null,null,"Arcus T","AB","Není v databázi"]
["Pavel Trojan",{"$f":"VLOOKUP(A2499,Pilot,2,0)","v":1960},{"$f":"VLOOKUP(A2499,Pilot,5,0)","v":"M"},{"$f":"VLOOKUP(A2499,Pilot,3,0)","v":"Chrudim"},{"$f":"VLOOKUP(A2499,Pilot,4,0)","v":"CZ/C2"},"FCC Gliding 2021 - Kombi Open","SK",2021,15,3080,0.94500000000000006,4385,4144,"x",null,"DG 808 C Competition WL","MS",""]
["Kapuy & Reti",null,null,"MSE",null,"FCC Gliding 2021 - Kombi Open","SK",2021,16,2898,0.94500000000000006,3981,3762,null,null,"EB-29D 28,3m","HB","Není v databázi"]
["Jirka & Doupal",null,null,"Zabreh",null,"FCC Gliding 2021 - Kombi Open","SK",2021,17,2881,0.94500000000000006,3783,3575,null,null,"HpH 304 TS Twin Shark MS (800 kg)",11,"Není v databázi"]
["Lukas Benedikt",null,null,"AK Trnava",null,"FCC Gliding 2021 - Kombi Open","SK",2021,18,1852,0.94500000000000006,2318,2191,null,null,"Ventus 3 F /18m","LB","Není v databázi"]
["Norbert Karolyi",null,null,"Bratislava",null,"Oldtimer Pribina Star 2021 - Klub","SK",2021,1,356,0.75,{"$f":"ROUND(J2503/MAX($J$2503:$J$2524)*10000*0.7+(MAX($I$2503:$I$2524)-I2503)/(MAX($I$2503:$I$2524)-1)*10000*0.3,0)","v":10000},{"$f":"ROUND(K2503*L2503,0)","v":7500},null,null,"SZD-36 Cobra","NK","Není v databázi"]
["Vladimir Abraham",{"$f":"VLOOKUP(A2504,Pilot,2,0)","v":1962},{"$f":"VLOOKUP(A2504,Pilot,5,0)","v":"M"},{"$f":"VLOOKUP(A2504,Pilot,3,0)","v":"Raná"},{"$f":"VLOOKUP(A2504,Pilot,4,0)","v":"CZ/C2"},"Oldtimer Pribina Star 2021 - Klub","SK",2021,2,325,0.75,9248,{"$f":"ROUND(K2504*L2504,0)","v":6936},"x",null,"KA6cr","YZ",""]
["Juraj Sidor",null,null,"Holíč",null,"Oldtimer Pribina Star 2021 - Klub","SK",2021,3,321,0.75,9026,6770,null,null,"Std Cirrus","LX","Není v databázi"]
["Ivana Jurovicova",null,null,"Bratislava",null,"Oldtimer Pribina Star 2021 - Klub","SK",2021,4,285,0.75,8175,6131,null,null,"Std Libelle","J3","Není v databázi"]
["Ludovit Homola",null,null,"Bratislava",null,"Oldtimer Pribina Star 2021 - Klub","SK",2021,5,271,0.75,7757,5818,null,null,"VSO-10","I5","Není v databázi"]
["Frantisek Ehn",null,null,"Nitra",null,"Oldtimer Pribina Star 2021 - Klub","SK",2021,6,269,0.75,7575,5681,null,null,"VSO-10",80,"Není v databázi"]
["Juraj Vysny",null,null,"Senica",null,"Oldtimer Pribina Star 2021 - Klub","SK",2021,7,268,0.75,7413,5560,null,null,"303 Mosquito",13,"Není v databázi"]
["Peter Horňak",null,null,"Senica",null,"Oldtimer Pribina Star 2021 - Klub","SK",2021,8,263,0.75,7171,5378,null,null,"VSO-10","K6","Není v databázi"]
["Viktor Romancik",null,null,"Bratislava",null,"Oldtimer Pribina Star 2021 - Klub","SK",2021,9,252,0.75,6812,5109,null,null,"STD LIBELLE","RR","Není v databázi"]
["Marian Szabo",null,null,"AirSympatia Trenčín",null,"Oldtimer Pribina Star 2021 - Klub","SK",2021,10,243,0.75,6492,4869,null,null,"VT-116",84,"Není v databázi"]
["Vaclav Cerny",{"$f":"VLOOKUP(A2513,Pilot,2,0)","v":1949},{"$f":"VLOOKUP(A2513,Pilot,5,0)","v":"M"},{"$f":"VLOOKUP(A2513,Pilot,3,0)","v":"Slaný"},{"$f":"VLOOKUP(A2513,Pilot,4,0)","v":"CZ/C1"},"Oldtimer Pribina Star 2021 - Klub","SK",2021,11,209,0.75,5681,{"$f":"ROUND(K2513*L2513,0)","v":4261},"x",null,"SOHAJ_2",null,""]
["Milan Boros",null,null,"Nitra",null,"Oldtimer Pribina Star 2021 - Klub","SK",2021,12,207,0.75,5499,4124,null,null,"VSO-10","D5","Není v databázi"]
["Radovan Uhelsky",null,null,"Nové Zámky",null,"Oldtimer Pribina Star 2021 - Klub","SK",2021,13,186,0.75,4943,3707,null,null,"VT-16",null,"Není v databázi"]
["Peter Pätoprsty",null,null,"Nitra-fan",null,"Oldtimer Pribina Star 2021 - Klub","SK",2021,13,186,0.75,4943,3707,null,null,"ASW 15B","RM","Není v databázi"]
["Ivana Sidorova",null,null,"Holíč",null,"Oldtimer Pribina Star 2021 - Klub","SK",2021,15,165,0.75,4244,3183,null,null,"Std Cirrus","NM","Není v databázi"]
["Jaroslav Kares",{"$f":"VLOOKUP(A2518,Pilot,2,0)","v":1962},{"$f":"VLOOKUP(A2518,Pilot,5,0)","v":"M"},{"$f":"VLOOKUP(A2518,Pilot,3,0)","v":"Olomouc"},{"$f":"VLOOKUP(A2518,Pilot,4,0)","v":"CZ/M"},"Oldtimer Pribina Star 2021 - Klub","SK",2021,16,139,0.75,3590,2693,"x",null,"SF27A",26,""]
["Lucia Uhelska",null,null,"Nové Zámky",null,"Oldtimer Pribina Star 2021 - Klub","SK",2021,17,133,0.75,3329,2497,null,null,"VT-116 Orlík 2",null,"Není v databázi"]
["Michal Baxa",null,null,"Nitra",null,"Oldtimer Pribina Star 2021 - Klub","SK",2021,18,132,0.75,3167,2375,null,null,"VSO-10","KO","Není v databázi"]
["Peter Fidler",null,null,"Partizánske",null,"Oldtimer Pribina Star 2021 - Klub","SK",2021,19,122,0.75,2827,2120,null,null,"Cirrus/Cirrus VTC 17.74","PF","Není v databázi"]
["Ľubos Benďak",null,null,"Nitra",null,"Oldtimer Pribina Star 2021 - Klub","SK",2021,20,58,0.75,1426,1070,null,null,"L 13 Blaník",null,"Není v databázi"]
["Jozef Ott",null,null,"Nitra",null,"Oldtimer Pribina Star 2021 - Klub","SK",2021,21,35,0.75,831,623,null,null,"Z-23 Honza",null,"Není v databázi"]
["Igor Ott",null,null,"Nitra",null,"Oldtimer Pribina Star 2021 - Klub","SK",2021,22,0,0.75,0,0,null,null,"LG-425 Šohaj","N","Není v databázi"]
["Tibor Fratrik",null,null,"SGC Martin",null,"PMSR 2021 - Klub","SK",2021,1,7982,0.94500000000000006,{"$f":"ROUND(J2525/MAX($J$2525:$J$2546)*10000*0.7+(MAX($I$2525:$I$2546)-I2525)/(MAX($I$2525:$I$2546)-1)*10000*0.3,0)","v":10000},{"$f":"ROUND(K2525*L2525,0)","v":9450},null,null,"Pegase C-101A","OI","Není v databázi"]
["Josef Kozar",null,null,"Martin",null,"PMSR 2021 - Klub","SK",2021,2,7867,0.94500000000000006,9756,{"$f":"ROUND(K2526*L2526,0)","v":9219},null,null,"LS 1 f","MF","Není v databázi"]
["Milan Surovcik Jr.",null,null,"Žilina",null,"PMSR 2021 - Klub","SK",2021,3,7754,0.94500000000000006,9514,8991,null,null,"Pegase C-101A","EL","Není v databázi"]
["Michal Lesinger",{"$f":"VLOOKUP(A2528,Pilot,2,0)","v":1966},{"$f":"VLOOKUP(A2528,Pilot,5,0)","v":"M"},{"$f":"VLOOKUP(A2528,Pilot,3,0)","v":"Moravská Třebová"},{"$f":"VLOOKUP(A2528,Pilot,4,0)","v":"CZ/M"},"PMSR 2021 - Klub","SK",2021,4,7716,0.94500000000000006,9338,8824,"x",null,"ASW 19B","LL",""]
["Samuel Posluch",null,null,"Martin",null,"PMSR 2021 - Klub","SK",2021,5,7467,0.94500000000000006,8977,{"$f":"ROUND(K2529*L2529,0)","v":8483},null,null,"LS 4","MA","Není v databázi"]
["Filip Pechac",null,null,"Nitra",null,"PMSR 2021 - Klub","SK",2021,6,7452,{"$f":"VLOOKUP(F2530,Soutez,12,0)","v":0.94500000000000006},8821,8336,null,null,"Pegase C-101A","J2","Není v databázi"]
["Martin Snirc",null,null,"Nitra",null,"PMSR 2021 - Klub","SK",2021,7,7358,0.94500000000000006,8596,8123,null,null,"DG 400/17m",400,"Není v databázi"]
["Martin Sabľa",null,null,"AK Sp. Nova Ves",null,"PMSR 2021 - Klub","SK",2021,8,7165,0.94500000000000006,8284,7828,null,null,"Std. Cirrus","SA","Není v databázi"]
["Radoslav cagala",null,null,"Nitra",null,"PMSR 2021 - Klub","SK",2021,9,7147,0.94500000000000006,8125,7678,null,null,"DG-400/17m","RD","Není v databázi"]
["Tibor Noga",null,null,"SGC Dražkovce",null,"PMSR 2021 - Klub","SK",2021,10,7084,0.94500000000000006,7927,7491,null,null,"ASW 19B","A4","Není v databázi"]
["Daniel Smolka",null,null,"Prievidza",null,"PMSR 2021 - Klub","SK",2021,11,7012,0.94500000000000006,7721,7296,null,null,"ASW 20","MP","Není v databázi"]
["Jiri Kusbach",{"$f":"VLOOKUP(A2536,Pilot,2,0)","v":1959},{"$f":"VLOOKUP(A2536,Pilot,5,0)","v":"M"},{"$f":"VLOOKUP(A2536,Pilot,3,0)","v":"Luhačovice"},{"$f":"VLOOKUP(A2536,Pilot,4,0)","v":"CZ/M"},"PMSR 2021 - Klub","SK",2021,12,6922,0.94500000000000006,7499,7087,null,null,"KKB-15FES","B",""]
["Edmund Schuller",null,null,"Lučenec",null,"PMSR 2021 - Klub","SK",2021,13,6474,0.94500000000000006,6963,6580,null,null,"ASW 24WL","ZS","Není v databázi"]
["Roman Petro",null,null,"Nitra",null,"PMSR 2021 - Klub","SK",2021,14,6323,0.94500000000000006,6688,6320,null,null,"Pegase C-101A",101,"Není v databázi"]
["Simon Siska",null,null,"Martin",null,"PMSR 2021 - Klub","SK",2021,15,6212,0.94500000000000006,6448,6093,null,null,"ASW 24WL","CK","Není v databázi"]
["Marek Straka",null,null,"Trenčín",null,"PMSR 2021 - Klub","SK",2021,16,4949,0.94500000000000006,5197,4911,null,null,"G 102 Astir Std III",72,"Není v databázi"]
["Juraj Sidor",null,null,"Holíč",null,"PMSR 2021 - Klub","SK",2021,17,4769,0.94500000000000006,4897,4628,null,null,"Std. Cirrus","NM","Není v databázi"]
["Juraj Dudas",{"$f":"VLOOKUP(A2542,Pilot,2,0)","v":1990},{"$f":"VLOOKUP(A2542,Pilot,5,0)","v":"M"},{"$f":"VLOOKUP(A2542,Pilot,3,0)","v":"Křižanov"},{"$f":"VLOOKUP(A2542,Pilot,4,0)","v":"CZ/M"},"PMSR 2021 - Klub","SK",2021,18,3058,0.94500000000000006,3253,3074,"x",null,"Pegase C-101A","ZD",""]
["Laho & Mikula",null,null,"Trnava",null,"PMSR 2021 - Klub","SK",2021,19,2468,0.94500000000000006,2593,2450,null,null,"Janus CM FG","T","Není v databázi"]
["Peter Klepac",null,null,"Nitra",null,"PMSR 2021 - Klub","SK",2021,20,2273,0.94500000000000006,2279,2154,null,null,"Grob Astir CS G102",78,"Není v databázi"]
["Jozef Dúc",null,null,"Nitra",null,"PMSR 2021 - Klub","SK",2021,21,1185,0.94500000000000006,1182,1117,null,null,"Std. Cirrus",99,"Není v databázi"]
["Zdeno Hrcka",null,null,"Trnava",null,"PMSR 2021 - Klub","SK",2021,22,880,0.94500000000000006,772,730,null,null,"Pegase C-101A","H","Není v databázi"]
["Miloslav Cink",{"$f":"VLOOKUP(A2547,Pilot,2,0)","v":1987},{"$f":"VLOOKUP(A2547,Pilot,5,0)","v":"M"},{"$f":"VLOOKUP(A2547,Pilot,3,0)","v":"Letkov"},{"$f":"VLOOKUP(A2547,Pilot,4,0)","v":"CZ/C1"},"PMSR 2021 - Kombi 15m","SK",2021,1,7976,{"$f":"VLOOKUP(F2547,Soutez,12,0)","v":0.96500000000000008},{"$f":"ROUND(J2547/MAX($J$2547:$J$2557)*10000*0.7+(MAX($I$2547:$I$2557)-I2547)/(MAX($I$2547:$I$2557)-1)*10000*0.3,0)","v":10000},{"$f":"ROUND(K2547*L2547,0)","v":9650},"x",null,"LS 8b","JB",""]
["Pavel Louzecky",1957,"M","Přibyslav","CZ/C2","PMSR 2021 - Kombi 15m","SK",2021,2,7431,0.96500000000000008,9222,{"$f":"ROUND(K2548*L2548,0)","v":8899},null,null,"LS 8","FX",""]
["Tibor Arpas",null,null,"Nitra",null,"PMSR 2021 - Kombi 15m","SK",2021,3,6793,0.96500000000000008,8362,8069,null,null,"LS 8t/15m","HM","Není v databázi"]
["Maros Divok",null,null,"Spišská Nová Ves",null,"PMSR 2021 - Kombi 15m","SK",2021,4,6739,0.96500000000000008,8014,7734,null,null,"Discus 2b","DI","Není v databázi"]
["Viktória Divokova",null,null,"Spišská Nová Ves",null,"PMSR 2021 - Kombi 15m","SK",2021,5,6667,0.96500000000000008,7651,7383,null,null,"LS 8","SI","Není v databázi"]
["Karel Novak",{"$f":"VLOOKUP(A2552,Pilot,2,0)","v":1993},{"$f":"VLOOKUP(A2552,Pilot,5,0)","v":"M"},{"$f":"VLOOKUP(A2552,Pilot,3,0)","v":"Mladá Boleslav"},{"$f":"VLOOKUP(A2552,Pilot,4,0)","v":"CZ/C1"},"PMSR 2021 - Kombi 15m","SK",2021,6,6514,0.96500000000000008,7217,6964,null,null,"JS 3/15m","XM",{"$f":"IF(ISERROR(VLOOKUP(A2552,Pilot,6,0)),\"Není v databázi\",VLOOKUP(A2552,Pilot,6,0))","v":""}]
["Peter Janoska",null,null,"Nitra",null,"PMSR 2021 - Kombi 15m","SK",2021,7,6436,0.96500000000000008,6848,6608,null,null,"LS 6c/15m","N6","Není v databázi"]
["Dominik Jancik",null,null,"Nitra",null,"PMSR 2021 - Kombi 15m","SK",2021,8,6371,0.96500000000000008,6491,{"$f":"ROUND(K2554*L2554,0)","v":6264},null,null,"Ventus 2b","VI","Není v databázi"]
["Dana Novakova",{"$f":"VLOOKUP(A2555,Pilot,2,0)","v":1965},{"$f":"VLOOKUP(A2555,Pilot,5,0)","v":"F"},{"$f":"VLOOKUP(A2555,Pilot,3,0)","v":"Mladá Boleslav"},{"$f":"VLOOKUP(A2555,Pilot,4,0)","v":"CZ/C1"},"PMSR 2021 - Kombi 15m","SK",2021,9,5966,0.96500000000000008,5836,5632,null,null,"LS 8/15m","AU",""]
["Jana Treslova",1963,"F","Raná","CZ/C2","PMSR 2021 - Kombi 15m","SK",2021,10,5910,0.96500000000000008,5487,5295,null,null,"Ventus 2ax","AX",""]
["Milos Mach",null,null,"Nové Zámky",null,"PMSR 2021 - Kombi 15m","SK",2021,11,2406,0.96500000000000008,2112,2038,null,null,"Discus 2c/15m","JH","Není v databázi"]
["Radek Krejcirik",{"$f":"VLOOKUP(A2558,Pilot,2,0)","v":1991},{"$f":"VLOOKUP(A2558,Pilot,5,0)","v":"M"},{"$f":"VLOOKUP(A2558,Pilot,3,0)","v":"Hranice"},{"$f":"VLOOKUP(A2558,Pilot,4,0)","v":"CZ/M"},"PMSR 2021 - Kombi Open","SK",2021,1,7507,{"$f":"VLOOKUP(F2558,Soutez,12,0)","v":0.95000000000000007},{"$f":"ROUND(J2558/MAX($J$2558:$J$2580)*10000*0.7+(MAX($I$2558:$I$2580)-I2558)/(MAX($I$2558:$I$2580)-1)*10000*0.3,0)","v":10000},{"$f":"ROUND(K2558*L2558,0)","v":9500},null,null,"JS1-C 21 EVO","ZF",""]
["Pavol Cerny",null,null,"SGC Martin",null,"PMSR 2021 - Kombi Open","SK",2021,2,7138,0.95000000000000007,9520,{"$f":"ROUND(K2559*L2559,0)","v":9044},null,null,"Shark 304MS","EP","Není v databázi"]
["Branislav Jesensky",null,null,"SGC Dražkovce",null,"PMSR 2021 - Kombi Open","SK",2021,3,6828,0.95000000000000007,9094,8639,null,null,"Ventus 2cxt/18m","J","Není v databázi"]
["Viliam Kubovcik",null,null,"AK Poprad",null,"PMSR 2021 - Kombi Open","SK",2021,4,6735,0.95000000000000007,8871,8427,null,null,"Ventus 2cxt/18m","W","Není v databázi"]
["Petr Krejcirik",{"$f":"VLOOKUP(A2562,Pilot,2,0)","v":1960},{"$f":"VLOOKUP(A2562,Pilot,5,0)","v":"M"},{"$f":"VLOOKUP(A2562,Pilot,3,0)","v":"Hranice"},{"$f":"VLOOKUP(A2562,Pilot,4,0)","v":"CZ/M"},"PMSR 2021 - Kombi Open","SK",2021,5,6506,0.95000000000000007,8521,8095,"x",null,"JS3/18m","VB",""]
["Ondrej Bordovsky",1983,"M","Krnov","CZ/M","PMSR 2021 - Kombi Open","SK",2021,6,6400,0.95000000000000007,8286,7872,"x",null,"Ventus c/17,6m","AD",""]
["Vladimir Foltin",null,null,"Nitra",null,"PMSR 2021 - Kombi Open","SK",2021,7,6378,0.95000000000000007,8129,7723,null,null,"JS3/18m",3,"Není v databázi"]
["Petr Hotovy",{"$f":"VLOOKUP(A2565,Pilot,2,0)","v":1958},{"$f":"VLOOKUP(A2565,Pilot,5,0)","v":"M"},{"$f":"VLOOKUP(A2565,Pilot,3,0)","v":"Česká Lípa"},{"$f":"VLOOKUP(A2565,Pilot,4,0)","v":"CZ/C2"},"PMSR 2021 - Kombi Open","SK",2021,8,6368,0.95000000000000007,7983,7584,null,null,"JS1-B 18m","IGC",""]
["Eduard Niko",null,null,"Prievidza",null,"PMSR 2021 - Kombi Open","SK",2021,9,5878,0.95000000000000007,7390,7021,null,null,"Discus 2cT/18m","AE","Není v databázi"]
["Jan Divok",null,null,"Spišská Nová Ves",null,"PMSR 2021 - Kombi Open","SK",2021,10,5410,0.95000000000000007,6817,6476,null,null,"Discus 2cT/18m","DJ","Není v databázi"]
["Ivan Novak",{"$f":"VLOOKUP(A2568,Pilot,2,0)","v":1962},{"$f":"VLOOKUP(A2568,Pilot,5,0)","v":"M"},{"$f":"VLOOKUP(A2568,Pilot,3,0)","v":"Mladá Boleslav"},{"$f":"VLOOKUP(A2568,Pilot,4,0)","v":"CZ/C1"},"PMSR 2021 - Kombi Open","SK",2021,11,5351,0.95000000000000007,6626,6295,null,null,"ASG-29/18m","QZ",""]
["Jan Kovalcik",null,null,"Bratislava",null,"PMSR 2021 - Kombi Open","SK",2021,12,5315,0.95000000000000007,6456,6133,null,null,"Discus 2c FES/18m","ZI","Není v databázi"]
["Peter Pokorny",null,null,"Bratislava",null,"PMSR 2021 - Kombi Open","SK",2021,13,5301,0.95000000000000007,6307,5992,null,null,"ASG 29E/18m","9E","Není v databázi"]
["Tomas Bobok",null,null,"Prievidza",null,"PMSR 2021 - Kombi Open","SK",2021,14,5143,0.95000000000000007,6023,5722,null,null,"Discus 2cT/18m","AL","Není v databázi"]
["Jakubcak & Kollar",null,null,"SGC Dražkovce",null,"PMSR 2021 - Kombi Open","SK",2021,15,4880,0.95000000000000007,5641,5359,null,null,"Arcus M","CAR","Není v databázi"]
["Gabriela Belakova",null,null,"Prievidza",null,"PMSR 2021 - Kombi Open","SK",2021,16,4758,0.95000000000000007,5391,{"$f":"ROUND(K2573*L2573,0)","v":5121},null,null,"Discus 2cT/18m","EF","Není v databázi"]
["Sitar & Horňak",null,null,"Prievidza",null,"PMSR 2021 - Kombi Open","SK",2021,17,4417,0.95000000000000007,4937,4690,null,null,"Duo Discus","DUO","Není v databázi"]
["Milan Lojdl",null,null,"Martin",null,"PMSR 2021 - Kombi Open","SK",2021,18,3608,0.95000000000000007,4046,3844,null,null,"Ventus 2cx/18m","MJ1","Není v databázi"]
["Jurovic & Maňka",null,null,"Bratislava",null,"PMSR 2021 - Kombi Open","SK",2021,19,2730,0.95000000000000007,3091,2936,null,null,"Duo Discus","2X","Není v databázi"]
["Hupka & Sadovsky",null,null,"Nitra",null,"PMSR 2021 - Kombi Open","SK",2021,20,2670,0.95000000000000007,2899,2754,null,null,"DG 1000T/20m","NIT","Není v databázi"]
["Lubomir Doupal",{"$f":"VLOOKUP(A2578,Pilot,2,0)","v":1975},{"$f":"VLOOKUP(A2578,Pilot,5,0)","v":"M"},{"$f":"VLOOKUP(A2578,Pilot,3,0)","v":"Kroměříž"},{"$f":"VLOOKUP(A2578,Pilot,4,0)","v":"CZ/M"},"PMSR 2021 - Kombi Open","SK",2021,21,2619,0.95000000000000007,2715,2579,null,null,"Ventus 2cxm/18m","LD",""]
["Peter Abonyi",null,null,"Ružomberok",null,"PMSR 2021 - Kombi Open","SK",2021,22,1954,0.95000000000000007,1958,1860,null,null,"Ventus c/17,6m","PA","Není v databázi"]
["Lukas Benedikt",null,null,"AK Trnava",null,"PMSR 2021 - Kombi Open","SK",2021,23,1877,0.95000000000000007,1750,1663,null,null,"Ventus 3 FES/18m","LB","Není v databázi"]
["Finn Sleigh",null,null,"United Kingdom",null,"JWGC 2021 - Klub","LT",2021,1,5341,{"$f":"VLOOKUP(F2581,Soutez,12,0)","v":1.0399999999999998},{"$f":"ROUND(J2581/MAX($J$2581:$J$2607)*10000*0.7+(MAX($I$2581:$I$2607)-I2581)/(MAX($I$2581:$I$2607)-1)*10000*0.3,0)","v":10000},{"$f":"ROUND(K2581*L2581,0)","v":10400},null,null,"ASW-20",5,"Není v databázi"]
["Lasse Edslev",null,null,"Denmark",null,"JWGC 2021 - Klub","LT",2021,1,5341,1.0399999999999998,10000,{"$f":"ROUND(K2582*L2582,0)","v":10400},null,null,"LS-4a WL","LE","Není v databázi"]
["Nils Fecker",null,null,"Germany",null,"JWGC 2021 - Klub","LT",2021,3,5329,1.0399999999999998,9754,10144,null,null,"LS-4b","2W","Není v databázi"]
["Lars Van Breemen",null,null,"Netherlands",null,"JWGC 2021 - Klub","LT",2021,4,5256,1.0399999999999998,9542,9924,null,null,"LS-4 neo","S4","Není v databázi"]
["Simon van den Eijkel",null,null,"Netherlands",null,"JWGC 2021 - Klub","LT",2021,5,5200,1.0399999999999998,9354,9728,null,null,"LS-4","AU","Není v databázi"]
["Jelmer Vis",null,null,"Netherlands",null,"JWGC 2021 - Klub","LT",2021,6,5139,1.0399999999999998,9158,9524,null,null,"LS-4a","VIS","Není v databázi"]
["Toby Freeland",null,null,"United Kingdom",null,"JWGC 2021 - Klub","LT",2021,7,5112,1.0399999999999998,9008,9368,null,null,"ASW-20",212,"Není v databázi"]
["Tobias Pachowsky",null,null,"Germany",null,"JWGC 2021 - Klub","LT",2021,8,5089,1.0399999999999998,8862,9216,null,null,"LS-4a","IGP","Není v databázi"]
["Tereza Koubkova",{"$f":"VLOOKUP(A2589,Pilot,2,0)","v":1999},{"$f":"VLOOKUP(A2589,Pilot,5,0)","v":"F"},{"$f":"VLOOKUP(A2589,Pilot,3,0)","v":"Vysoké Mýto"},{"$f":"VLOOKUP(A2589,Pilot,4,0)","v":"CZ/C2"},"JWGC 2021 - Klub","LT",2021,9,5069,1.0399999999999998,8720,9069,"x","x","LS-4b","IX","Junior v roce 2022"]
["Markus Uhlig",null,null,"Germany",null,"JWGC 2021 - Klub","LT",2021,10,4988,1.0399999999999998,8499,8839,null,null,"Jantar Std. 3 WL","M4","Není v databázi"]
["Ivan Tvrdik",{"$f":"VLOOKUP(A2591,Pilot,2,0)","v":1997},{"$f":"VLOOKUP(A2591,Pilot,5,0)","v":"M"},{"$f":"VLOOKUP(A2591,Pilot,3,0)","v":"Letňany"},{"$f":"VLOOKUP(A2591,Pilot,4,0)","v":"CZ/C1"},"JWGC 2021 - Klub","LT",2021,11,4983,1.0399999999999998,8377,8712,"x",null,"ASW-19b","KZ","Junior v roce 2022"]
["Milan Surovcik",null,null,"Slovakia",null,"JWGC 2021 - Klub","LT",2021,12,4918,1.0399999999999998,8176,{"$f":"ROUND(K2592*L2592,0)","v":8503},null,null,"Pegase 101A","EL","Není v databázi"]
["Wiktor Łaciński",null,null,"Poland",null,"JWGC 2021 - Klub","LT",2021,13,4871,1.0399999999999998,7999,8319,null,null,"SZD-48-3M Bravo","BI","Není v databázi"]
["Michaela Krizova",{"$f":"VLOOKUP(A2594,Pilot,2,0)","v":2001},{"$f":"VLOOKUP(A2594,Pilot,5,0)","v":"F"},{"$f":"VLOOKUP(A2594,Pilot,3,0)","v":"Přibyslav"},{"$f":"VLOOKUP(A2594,Pilot,4,0)","v":"CZ/C2"},"JWGC 2021 - Klub","LT",2021,14,4822,1.0399999999999998,7820,8133,"x","x","LS-4b","6L","Junior v roce 2022"]
["Tudor Ionut",null,null,"Romania",null,"JWGC 2021 - Klub","LT",2021,15,4808,1.0399999999999998,7686,7993,null,null,"Jantar Std.","YE","Není v databázi"]
["Samuel Posluch",null,null,"Slovakia",null,"JWGC 2021 - Klub","LT",2021,16,4759,1.0399999999999998,7506,7806,null,null,"LS-4","MA","Není v databázi"]
["Jokūbas Motūza",null,null,"Lithuania",null,"JWGC 2021 - Klub","LT",2021,17,4676,1.0399999999999998,7282,7573,null,null,"Jantar Std.","JM","Není v databázi"]
["Maciej Kowalski",null,null,"Poland",null,"JWGC 2021 - Klub","LT",2021,18,4661,1.0399999999999998,7147,7433,null,null,"Jantar Std. 3","SO","Není v databázi"]
["Simon Siska",null,null,"Slovakia",null,"JWGC 2021 - Klub","LT",2021,19,4611,1.0399999999999998,6966,7245,null,null,"ASW-24b","CK","Není v databázi"]
["Karol Snapko",null,null,"Poland",null,"JWGC 2021 - Klub","LT",2021,20,4524,1.0399999999999998,6737,7006,null,null,"SZD-48-3M Bravo","BZ","Není v databázi"]
["Kim Toppari",null,null,"Finland",null,"JWGC 2021 - Klub","LT",2021,21,4468,1.0399999999999998,6548,6810,null,null,"LS-7","HV","Není v databázi"]
["Emil Dalboe-Pedersen",null,null,"Denmark",null,"JWGC 2021 - Klub","LT",2021,22,4447,1.0399999999999998,6405,6661,null,null,"LS-4","NE","Není v databázi"]
["Robert Alin Simion",null,null,"Romania",null,"JWGC 2021 - Klub","LT",2021,23,4323,1.0399999999999998,6127,6372,null,null,"Jantar Std. 2","YD","Není v databázi"]
["Titas Jovaisa",null,null,"Lithuania",null,"JWGC 2021 - Klub","LT",2021,24,4253,1.0399999999999998,5920,6157,null,null,"Jantar Std. 3","L","Není v databázi"]
["aron Érseki",null,null,"Hungary",null,"JWGC 2021 - Klub","LT",2021,25,3909,1.0399999999999998,5354,5568,null,null,"LS-1f","V2","Není v databázi"]
["Jens Andersen",null,null,"Denmark",null,"JWGC 2021 - Klub","LT",2021,26,3525,1.0399999999999998,4735,4924,null,null,"LS-4","PLU","Není v databázi"]
["Mikko Ylihärsilä",null,null,"Finland",null,"JWGC 2021 - Klub","LT",2021,27,3167,1.0399999999999998,4151,4317,null,null,"LS-7","GE","Není v databázi"]
["Simon Briel",null,null,"Germany",null,"JWGC 2021 - Std","LT",2021,1,4893,{"$f":"VLOOKUP(F2608,Soutez,12,0)","v":1.03},{"$f":"ROUND(J2608/MAX($J$2608:$J$2624)*10000*0.7+(MAX($I$2608:$I$2624)-I2608)/(MAX($I$2608:$I$2624)-1)*10000*0.3,0)","v":10000},{"$f":"ROUND(K2608*L2608,0)","v":10300},null,null,"Discus 2a","SB","Není v databázi"]
["Thomas Pavis",null,null,"United Kingdom",null,"JWGC 2021 - Std","LT",2021,2,4792,1.03,{"$f":"ROUND(J2609/MAX($J$2608:$J$2624)*10000*0.7+(MAX($I$2608:$I$2624)-I2609)/(MAX($I$2608:$I$2624)-1)*10000*0.3,0)","v":9668},{"$f":"ROUND(K2609*L2609,0)","v":9958},null,null,"Discus 2a",235,"Není v databázi"]
["Henry Inigo-Jones",null,null,"United Kingdom",null,"JWGC 2021 - Std","LT",2021,3,4776,1.03,9458,9742,null,null,"LS-8",95,"Není v databázi"]
["Jaromir Macoun",{"$f":"VLOOKUP(A2611,Pilot,2,0)","v":1999},{"$f":"VLOOKUP(A2611,Pilot,5,0)","v":"M"},{"$f":"VLOOKUP(A2611,Pilot,3,0)","v":"Jičín"},{"$f":"VLOOKUP(A2611,Pilot,4,0)","v":"CZ/C2"},"JWGC 2021 - Std","LT",2021,4,4712,1.03,9179,9454,"x",null,"LS-8","W8","Junior v roce 2022"]
["Jan Zapletal",1997,"M","Břeclav","CZ/M","JWGC 2021 - Std","LT",2021,5,4640,1.03,8888,9155,"x",null,"LS-8","JS","Junior v roce 2022"]
["Vit Morkovsky",2000,"M","Polička","CZ/C2","JWGC 2021 - Std","LT",2021,6,4595,1.03,8636,8895,"x",null,"Discus 2a","GX",{"$f":"IF(ISERROR(VLOOKUP(A2613,Pilot,6,0)),\"Není v databázi\",VLOOKUP(A2613,Pilot,6,0))","v":"Junior v roce 2022"}]
["Jacob Bøgelund Lassen",null,null,"Denmark",null,"JWGC 2021 - Std","LT",2021,7,4564,1.03,8404,8656,null,null,"Discus 2a","MK","Není v databázi"]
["Johannes Dibbern",null,null,"Germany",null,"JWGC 2021 - Std","LT",2021,8,4442,1.03,8042,8283,null,null,"LS-8 neo","S1","Není v databázi"]
["Philipp Lauer",null,null,"Germany",null,"JWGC 2021 - Std","LT",2021,9,4226,1.03,7546,7772,null,null,"LS-8 neo","GP","Není v databázi"]
["Nuutti Luukkonen",null,null,"Finland",null,"JWGC 2021 - Std","LT",2021,10,3940,1.03,6949,7157,null,null,"LS-8","HY","Není v databázi"]
["Mark van den Ham",null,null,"Netherlands",null,"JWGC 2021 - Std","LT",2021,11,3803,1.03,6566,6763,null,null,"LS-8","XK","Není v databázi"]
["Mathias Valentin Christiansen",null,null,"Denmark",null,"JWGC 2021 - Std","LT",2021,12,3728,1.03,6271,6459,null,null,"LS-8","LS8","Není v databázi"]
["Wiktor Czubski",null,null,"Poland",null,"JWGC 2021 - Std","LT",2021,13,3664,1.03,5992,6172,null,null,"LS-8","LOT","Není v databázi"]
["Nick Faber",null,null,"Netherlands",null,"JWGC 2021 - Std","LT",2021,14,3297,1.03,5279,5437,null,null,"Discus 2b","D2","Není v databázi"]
["Ignas Bitinaitis",null,null,"Lithuania",null,"JWGC 2021 - Std","LT",2021,15,489,1.03,1075,1107,null,null,"Discus 2a","VM","Není v databázi"]
["Miles Chalk Kjaer",null,null,"Denmark",null,"JWGC 2021 - Std","LT",2021,16,209,1.03,486,501,null,null,"LS-8","SE","Není v databázi"]
["Laurynas supinys",null,null,"Lithuania",null,"JWGC 2021 - Std","LT",2021,17,0,1.03,0,0,null,null,"LS-8","H8","Není v databázi"]
["Sebastian Kawa",null,null,null,null,"WSGP Final 2021 - 18m","FR",2021,1,39,{"$f":"VLOOKUP(F2625,Soutez,12,0)","v":1.07},{"$f":"ROUND((MAX($I$2625:$I$2644)-I2625)/(MAX($I$2625:$I$2644)-1)*10000,0)","v":10000},{"$f":"ROUND(K2625*L2625,0)","v":10700},null,null,"AS33","OS","Není v databázi"]
["Mario Kiessling",null,null,null,null,"WSGP Final 2021 - 18m","FR",2021,2,38,1.07,{"$f":"ROUND((MAX($I$2625:$I$2644)-I2626)/(MAX($I$2625:$I$2644)-1)*10000,0)","v":9444},{"$f":"ROUND(K2626*L2626,0)","v":10105},null,null,"Ventus-3TS","I","Není v databázi"]
["Maximilian Seis",null,null,null,null,"WSGP Final 2021 - 18m","FR",2021,3,30,1.07,8889,9511,null,null,"JS 3","LB","Není v databázi"]
["Katrin Senne",null,null,null,null,"WSGP Final 2021 - 18m","FR",2021,4,24,1.07,8333,8916,null,null,"JS 3","BK","Není v databázi"]
["Tilo Holighaus",null,null,null,null,"WSGP Final 2021 - 18m","FR",2021,5,19,1.07,7778,8322,null,null,"Ventus-3TS","3V","Není v databázi"]
["Bostjan Pristavec",null,null,null,null,"WSGP Final 2021 - 18m","FR",2021,6,16,1.07,7222,7728,null,null,"JS 1 Revelation","DZ","Není v databázi"]
["Louis Bouderlique",null,null,null,null,"WSGP Final 2021 - 18m","FR",2021,6,16,1.07,7222,7728,null,null,"Ventus-3TS","TL","Není v databázi"]
["Gilles Navas",null,null,null,null,"WSGP Final 2021 - 18m","FR",2021,8,15,1.07,6111,6539,null,null,"JS 3","KW","Není v databázi"]
["Christophe Abadie",null,null,null,null,"WSGP Final 2021 - 18m","FR",2021,9,14,1.07,5556,5945,null,null,"JS 3","2L","Není v databázi"]
["Marius Pluscauskas",null,null,null,null,"WSGP Final 2021 - 18m","FR",2021,10,12,1.07,5000,5350,null,null,"Asg 29","M7","Není v databázi"]
["Thomas Gostner",null,null,null,null,"WSGP Final 2021 - 18m","FR",2021,11,11,1.07,4444,4755,null,null,"Ventus-3TS","GT","Není v databázi"]
["Philippe de Péchy",null,null,null,null,"WSGP Final 2021 - 18m","FR",2021,12,9,1.07,3889,4161,null,null,"JS 1 Revelation","EJ","Není v databázi"]
["Sylvain Gerbaud",null,null,null,null,"WSGP Final 2021 - 18m","FR",2021,13,7,1.07,3333,3566,null,null,"JS 1 Revelation",72,"Není v databázi"]
["Oscar Goudriaan",null,null,null,null,"WSGP Final 2021 - 18m","FR",2021,13,7,1.07,3333,3566,null,null,"JS3","LG","Není v databázi"]
["Gintas Zube",null,null,null,null,"WSGP Final 2021 - 18m","FR",2021,15,6,1.07,2222,2378,null,null,"Asg 29","AR","Není v databázi"]
["Uli Schwenk",null,null,null,null,"WSGP Final 2021 - 18m","FR",2021,15,6,1.07,2222,2378,null,null,"Ventus-3TS",25,"Není v databázi"]
["Werner Amann",null,null,null,null,"WSGP Final 2021 - 18m","FR",2021,15,6,1.07,2222,2378,null,null,"AS33","WG","Není v databázi"]
["René Vidal",null,null,null,null,"WSGP Final 2021 - 18m","FR",2021,18,2,1.07,556,595,null,null,"Ventus-3TS",120,"Není v databázi"]
["Petr Panek",{"$f":"VLOOKUP(A2643,Pilot,2,0)","v":1975},{"$f":"VLOOKUP(A2643,Pilot,5,0)","v":"M"},{"$f":"VLOOKUP(A2643,Pilot,3,0)","v":"Dvůr Králové"},{"$f":"VLOOKUP(A2643,Pilot,4,0)","v":"CZ/C2"},"WSGP Final 2021 - 18m","FR",2021,19,0,1.07,0,0,null,null,"JS 1 Revelation","IGC",""]
["Mélanie Gadoulet",null,null,null,null,"WSGP Final 2021 - 18m","FR",2021,19,0,1.07,0,0,null,null,"JS 1 Revelation","FD","Není v databázi"]
["Tomas Kulhavy",{"$f":"VLOOKUP(A2645,Pilot,2,0)","v":2001},{"$f":"VLOOKUP(A2645,Pilot,5,0)","v":"M"},{"$f":"VLOOKUP(A2645,Pilot,3,0)","v":"Liberec"},{"$f":"VLOOKUP(A2645,Pilot,4,0)","v":"CZ/C2"},"Safari 2021 - Klub","CZ",2021,1,2391,0.75,{"$f":"ROUND(J2645/MAX($J$2645:$J$2677)*10000*0.7+(MAX($I$2645:$I$2677)-I2645)/(MAX($I$2645:$I$2677)-1)*10000*0.3,0)","v":10000},{"$f":"ROUND(K2645*L2645,0)","v":7500},"x",null,"LS-3a /15m","R9",{"$f":"IF(ISERROR(VLOOKUP(A2645,Pilot,6,0)),\"Není v databázi\",VLOOKUP(A2645,Pilot,6,0))","v":"Junior v roce 2022"}]
["Milan Dvorak",1965,"M","Liberec","CZ/C2","Safari 2021 - Klub","CZ",2021,2,2264,0.75,{"$f":"ROUND(J2646/MAX($J$2645:$J$2677)*10000*0.7+(MAX($I$2645:$I$2677)-I2646)/(MAX($I$2645:$I$2677)-1)*10000*0.3,0)","v":9531},{"$f":"ROUND(K2646*L2646,0)","v":7148},"x",null,"HpH 304cz /15m","IH",""]
["Jiri Slemr",1979,"M","Vysoké Mýto","CZ/C2","Safari 2021 - Klub","CZ",2021,2,2264,0.75,9531,7148,"x",null,"Discus b",65,""]
["David Tejnora",1982,"M","Jaroměř","CZ/C2","Safari 2021 - Klub","CZ",2021,4,2165,0.75,9048,6786,"x",null,"Std.Cirrus",17,""]
["Tomas Hynek",{"$f":"VLOOKUP(A2649,Pilot,2,0)","v":2002},{"$f":"VLOOKUP(A2649,Pilot,5,0)","v":"M"},{"$f":"VLOOKUP(A2649,Pilot,3,0)","v":"Dvůr Králové"},{"$f":"VLOOKUP(A2649,Pilot,4,0)","v":"CZ/C2"},"Safari 2021 - Klub","CZ",2021,5,2134,0.75,8860,6645,"x",null,"Std.Cirrus","HT","Junior v roce 2022"]
["Marek Kornec",1957,"M","Dvůr Králové","CZ/C2","Safari 2021 - Klub","CZ",2021,6,2121,0.75,8726,6545,"x",null,"Janus C (FG)","KSS",""]
["Vojtech Vach",1976,"M","Nové Město nad Metují","CZ/C2","Safari 2021 - Klub","CZ",2021,7,2053,0.75,8430,6323,"x",null,"Cirrus VTC","1W",""]
["Wolfgang Sluka",{"$f":"VLOOKUP(A2652,Pilot,2,0)","v":1942},{"$f":"VLOOKUP(A2652,Pilot,5,0)","v":"M"},{"$f":"VLOOKUP(A2652,Pilot,3,0)","v":"Liberec"},{"$f":"VLOOKUP(A2652,Pilot,4,0)","v":"CZ/C2"},"Safari 2021 - Klub","CZ",2021,8,1846,0.75,7727,5795,null,null,"VSO-10",78,""]
["Tomas Ditrt",1969,"M","Podhořany","CZ/C2","Safari 2021 - Klub","CZ",2021,9,1774,0.75,7419,5564,"x",null,"ASW-20 (A)+L+F /15m","TDi",""]
["Daniel Ryba",1994,"M","Dvůr Králové","CZ/C2","Safari 2021 - Klub","CZ",2021,10,1753,0.75,7261,5446,"x",null,"Janus, Janus b dvojí","V1",""]
["Martin Cicvarek",1966,"M","Liberec","CZ/C2","Safari 2021 - Klub","CZ",2021,11,1563,0.75,6608,4956,"x",null,"DG-400 15m","AC",""]
["Petr Lonsky",1965,"M","Toužim","CZ/C1","Safari 2021 - Klub","CZ",2021,12,1526,0.75,6403,4802,null,null,"Cirrus VTC","PB",""]
["Lukas Volek",2004,"M","Hodkovice","CZ/C2","Safari 2021 - Klub","CZ",2021,13,1293,0.75,5624,4218,"x",null,"ASW-15B","B","Junior v roce 2022"]
["Vojtech Kostejn",1974,"M","Česká Lípa","CZ/C2","Safari 2021 - Klub","CZ",2021,14,1170,0.75,5167,3875,"x",null,"ASW-15B","I",""]
["Filip Sirc",1993,"M","Letňany","CZ/C1","Safari 2021 - Klub","CZ",2021,15,1124,0.75,4936,3702,null,null,"ASW-19","WT",""]
["Pavel Derda",1952,"M","Dvůr Králové","CZ/C2","Safari 2021 - Klub","CZ",2021,16,1087,0.75,4731,3548,null,null,"Cirrus VTC","VE",""]
["Jaroslav Sima",1972,"M","Chomutov","CZ/C2","Safari 2021 - Klub","CZ",2021,17,1073,0.75,4593,3445,"x",null,"G-104 Speed Astir II","V2",""]
["Krzysztof Pienkowski",null,null,"Bielsko-Biala",null,"Safari 2021 - Klub","CZ",2021,18,1013,0.75,4321,3241,null,null,"LS-4","KP","Není v databázi"]
["Lukas Hykl",{"$f":"VLOOKUP(A2663,Pilot,2,0)","v":1985},{"$f":"VLOOKUP(A2663,Pilot,5,0)","v":"M"},{"$f":"VLOOKUP(A2663,Pilot,3,0)","v":"Kolín"},{"$f":"VLOOKUP(A2663,Pilot,4,0)","v":"CZ/C1"},"Safari 2021 - Klub","CZ",2021,19,993,0.75,4165,3124,"x",null,"Discus b","J2",""]
["Adam Hepal",{"$f":"VLOOKUP(A2664,Pilot,2,0)","v":2004},{"$f":"VLOOKUP(A2664,Pilot,5,0)","v":"M"},{"$f":"VLOOKUP(A2664,Pilot,3,0)","v":"Kolín"},{"$f":"VLOOKUP(A2664,Pilot,4,0)","v":"CZ/C1"},"Safari 2021 - Klub","CZ",2021,20,942,0.75,3919,2939,"x",null,"G-102 Astir Jeans","VI","Junior v roce 2022"]
["Leos Nosek",1958,"M","Křižanov","CZ/M","Safari 2021 - Klub","CZ",2021,21,808,0.75,3430,2573,"x",null,"G-104 Speed Astir II b","LE",""]
["Vojtech Flidr",{"$f":"VLOOKUP(A2666,Pilot,2,0)","v":2003},{"$f":"VLOOKUP(A2666,Pilot,5,0)","v":"M"},{"$f":"VLOOKUP(A2666,Pilot,3,0)","v":"Dvůr Králové"},{"$f":"VLOOKUP(A2666,Pilot,4,0)","v":"CZ/C2"},"Safari 2021 - Klub","CZ",2021,22,719,0.75,3073,2305,"x",null,"G-102 Astir cs 77",77,"Junior v roce 2022"]
["Vaclav Sehnal",{"$f":"VLOOKUP(A2667,Pilot,2,0)","v":1962},{"$f":"VLOOKUP(A2667,Pilot,5,0)","v":"M"},{"$f":"VLOOKUP(A2667,Pilot,3,0)","v":"Kolín"},{"$f":"VLOOKUP(A2667,Pilot,4,0)","v":"CZ/C1"},"Safari 2021 - Klub","CZ",2021,23,661,0.75,2806,2105,"x",null,"SZD-48 Jantar std. 2 (3) WL","VS",""]
["Artur Szlachta",null,null,"KSS/LSV Zellhausen",null,"Safari 2021 - Klub","CZ",2021,24,538,0.75,2349,1762,null,null,"LS-4","V4","Není v databázi"]
["Vojtech Sehnal",{"$f":"VLOOKUP(A2669,Pilot,2,0)","v":1994},{"$f":"VLOOKUP(A2669,Pilot,5,0)","v":"M"},{"$f":"VLOOKUP(A2669,Pilot,3,0)","v":"Kolín"},{"$f":"VLOOKUP(A2669,Pilot,4,0)","v":"CZ/C1"},"Safari 2021 - Klub","CZ",2021,25,525,0.75,2214,1661,"x",null,"G-104 Speed Astir II b","M2",""]
["Stanislav Vrabec",1975,"M","Česká Lípa","CZ/C2","Safari 2021 - Klub","CZ",2021,26,474,0.75,1968,1476,"x",null,"Std.Cirrus","CV",""]
["Karel Ertl",1939,"M","LK Břeclav","CZ/M","Safari 2021 - Klub","CZ",2021,27,439,0.75,1769,1327,"x",null,"TST-10M Atlas","KE",""]
["Krzystof Kostka",null,null,"Jelenia Góra",null,"Safari 2021 - Klub","CZ",2021,28,414,0.75,1599,1199,null,null,"DG-300 WL","N5","Není v databázi"]
["Martin Benesovsky",{"$f":"VLOOKUP(A2673,Pilot,2,0)","v":1900},{"$f":"VLOOKUP(A2673,Pilot,5,0)","v":"M"},{"$f":"VLOOKUP(A2673,Pilot,3,0)","v":"Kolín"},{"$f":"VLOOKUP(A2673,Pilot,4,0)","v":"CZ/C1"},"Safari 2021 - Klub","CZ",2021,29,384,0.75,1415,1061,"x",null,"G-104 Speed Astir II b","M2",""]
["Ryszard Bendkowski",null,null,"Warszawa",null,"Safari 2021 - Klub","CZ",2021,30,221,0.75,841,631,null,null,"SZD-41A Jantar std.","Fili","Není v databázi"]
["Vladislav Cadsky",{"$f":"VLOOKUP(A2675,Pilot,2,0)","v":1975},{"$f":"VLOOKUP(A2675,Pilot,5,0)","v":"M"},{"$f":"VLOOKUP(A2675,Pilot,3,0)","v":"Kolín"},{"$f":"VLOOKUP(A2675,Pilot,4,0)","v":"CZ/C1"},"Safari 2021 - Klub","CZ",2021,31,89,0.75,357,268,"x",null,"SZS-48 Jantar std.2","VS",""]
["Romuald Dorofieczyk",null,null,"Jelenia Góra",null,"Safari 2021 - Klub","CZ",2021,32,0,0.75,0,0,null,null,"DG-300 WL","N5","Není v databázi"]
["Michal Vorlicek",{"$f":"VLOOKUP(A2677,Pilot,2,0)","v":1995},{"$f":"VLOOKUP(A2677,Pilot,5,0)","v":"M"},{"$f":"VLOOKUP(A2677,Pilot,3,0)","v":"Kolín"},{"$f":"VLOOKUP(A2677,Pilot,4,0)","v":"CZ/C1"},"Safari 2021 - Klub","CZ",2021,32,0,0.75,0,0,null,null,"SZD-48 Jantar std. 2 (3) WL","VS",{"$f":"IF(ISERROR(VLOOKUP(A2677,Pilot,6,0)),\"Není v databázi\",VLOOKUP(A2677,Pilot,6,0))","v":""}]
["Lukas Hynek",{"$f":"VLOOKUP(A2678,Pilot,2,0)","v":1979},{"$f":"VLOOKUP(A2678,Pilot,5,0)","v":"M"},{"$f":"VLOOKUP(A2678,Pilot,3,0)","v":"Dvůr Králové"},{"$f":"VLOOKUP(A2678,Pilot,4,0)","v":"CZ/C2"},"Safari 2021 - Kombi","CZ",2021,1,2796,0.755,{"$f":"ROUND(J2678/MAX($J$2678:$J$2690)*10000*0.7+(MAX($I$2678:$I$2690)-I2678)/(MAX($I$2678:$I$2690)-1)*10000*0.3,0)","v":10000},{"$f":"ROUND(K2678*L2678,0)","v":7550},"x",null,"DG-200 17m (voda)","HL",""]
["Milan Meisner",1961,"M","Dvůr Králové","CZ/C2","Safari 2021 - Kombi","CZ",2021,2,2683,0.755,9467,{"$f":"ROUND(K2679*L2679,0)","v":7148},"x",null,"Ventus c /17,6m (voda)","VV",""]
["Jan Pazour",1979,"M","Dvůr Králové","CZ/C2","Safari 2021 - Kombi","CZ",2021,3,2664,0.755,9170,6923,"x",null,"ASW-20L +FL /16,6m","JP",""]
["Petr Babak",1973,"M","Hořice","CZ/C2","Safari 2021 - Kombi","CZ",2021,4,2486,0.755,8474,6398,"x",null,"Ventus c /17,6m (voda)","LS",""]
["Karel Policky",{"$f":"VLOOKUP(A2682,Pilot,2,0)","v":1950},{"$f":"VLOOKUP(A2682,Pilot,5,0)","v":"M"},{"$f":"VLOOKUP(A2682,Pilot,3,0)","v":"Kolín"},{"$f":"VLOOKUP(A2682,Pilot,4,0)","v":"CZ/C1"},"Safari 2021 - Kombi","CZ",2021,5,2300,0.755,7758,5857,"x",null,"Duo Discus T (700 kg) (voda)",777,""]
["Jaroslav Buryan",1953,"M","Zábřeh","CZ/M","Safari 2021 - Kombi","CZ",2021,6,2276,0.755,7448,5623,null,null,"ASW-20 (A)+F /15m WL (voda)","NS",""]
["Ladislav Prokes",1954,"M","Vrchlabí","CZ/C2","Safari 2021 - Kombi","CZ",2021,7,2149,0.755,6880,5194,"x",null,"Discus b (voda)","VR",""]
["Zdenek Boruvka 54",1954,"M","Jičín","CZ/C2","Safari 2021 - Kombi","CZ",2021,8,2110,0.755,6533,{"$f":"ROUND(K2685*L2685,0)","v":4932},null,null,"LS 8-18 /15m (voda)","ZB",""]
["Jan Kohout",{"$f":"VLOOKUP(A2686,Pilot,2,0)","v":1970},{"$f":"VLOOKUP(A2686,Pilot,5,0)","v":"M"},{"$f":"VLOOKUP(A2686,Pilot,3,0)","v":"Žamberk"},{"$f":"VLOOKUP(A2686,Pilot,4,0)","v":"CZ/C2"},"Safari 2021 - Kombi","CZ",2021,9,1944,0.755,5867,4430,null,null,"LS 8 /15m (voda)","SK",""]
["Slavomir Tanglmajer",1966,"M","Chomutov","CZ/C2","Safari 2021 - Kombi","CZ",2021,10,1754,{"$f":"VLOOKUP(F2687,Soutez,12,0)","v":0.755},5141,3881,"x",null,"DG-400 17m","ST",""]
["Michal Hemrle",1974,"M","Česká Lípa","CZ/C2","Safari 2021 - Kombi","CZ",2021,11,1678,0.755,4701,3549,null,null,"ASG-29E /18m 600kg (voda)","ET",""]
["Tomas Novak",1974,"M","Česká Lípa","CZ/C2","Safari 2021 - Kombi","CZ",2021,12,1675,0.755,4443,3354,"x",null,"Ventus c /17,6m (voda)","XE",""]
["Petr Omelka",1970,"M","Vyškov","CZ/M","Safari 2021 - Kombi","CZ",2021,13,856,0.755,2143,1618,"x",null,"DG 400 17m","MR",""]
["Vojtech Pivonka",{"$f":"VLOOKUP(A2691,Pilot,2,0)","v":1976},{"$f":"VLOOKUP(A2691,Pilot,5,0)","v":"M"},{"$f":"VLOOKUP(A2691,Pilot,3,0)","v":"Vrchlabí"},{"$f":"VLOOKUP(A2691,Pilot,4,0)","v":"CZ/C2"},"Safari 2021 - Duo Kombi","CZ",2021,1,1058,0.73,{"$f":"ROUND(J2691/MAX($J$2691:$J$2701)*10000*0.7+(MAX($I$2691:$I$2701)-I2691)/(MAX($I$2691:$I$2701)-1)*10000*0.3,0)","v":10000},{"$f":"ROUND(K2691*L2691,0)","v":7300},"x",null,"L-13 Blaník","AY",""]
["Ondrej Teichman",{"$f":"VLOOKUP(A2692,Pilot,2,0)","v":1984},{"$f":"VLOOKUP(A2692,Pilot,5,0)","v":"M"},{"$f":"VLOOKUP(A2692,Pilot,3,0)","v":"Dvůr Králové"},{"$f":"VLOOKUP(A2692,Pilot,4,0)","v":"CZ/C2"},"Safari 2021 - Duo Kombi","CZ",2021,2,894,0.73,8615,{"$f":"ROUND(K2692*L2692,0)","v":6289},"x",null,"L-23 Super Blaník","KM",""]
["Petr Masik",{"$f":"VLOOKUP(A2693,Pilot,2,0)","v":2001},{"$f":"VLOOKUP(A2693,Pilot,5,0)","v":"M"},{"$f":"VLOOKUP(A2693,Pilot,3,0)","v":"Zábřeh"},{"$f":"VLOOKUP(A2693,Pilot,4,0)","v":"CZ/M"},"Safari 2021 - Duo Kombi","CZ",2021,3,887,0.73,8269,6036,"x",null,"L-23 Super Blaník","T","Junior v roce 2022"]
["Jiri Kratochvil",{"$f":"VLOOKUP(A2694,Pilot,2,0)","v":2003},{"$f":"VLOOKUP(A2694,Pilot,5,0)","v":"M"},{"$f":"VLOOKUP(A2694,Pilot,3,0)","v":"Podhořany"},{"$f":"VLOOKUP(A2694,Pilot,4,0)","v":"CZ/C2"},"Safari 2021 - Duo Kombi","CZ",2021,4,825,0.73,7558,5517,"x",null,"L-23 Super Blaník","Y","Junior v roce 2022"]
["Vladimir Prihoda",{"$f":"VLOOKUP(A2695,Pilot,2,0)","v":1953},{"$f":"VLOOKUP(A2695,Pilot,5,0)","v":"M"},{"$f":"VLOOKUP(A2695,Pilot,3,0)","v":"Kralupy"},{"$f":"VLOOKUP(A2695,Pilot,4,0)","v":"CZ/C1"},"Safari 2021 - Duo Kombi","CZ",2021,5,807,0.73,7139,5211,"x",null,"L-23 Super Blaník","X",""]
["Petr Traeger",{"$f":"VLOOKUP(A2696,Pilot,2,0)","v":1983},{"$f":"VLOOKUP(A2696,Pilot,5,0)","v":"M"},{"$f":"VLOOKUP(A2696,Pilot,3,0)","v":"Vrchlabí"},{"$f":"VLOOKUP(A2696,Pilot,4,0)","v":"CZ/C2"},"Safari 2021 - Duo Kombi","CZ",2021,6,688,0.73,6052,4418,"x",null,"L-13 Blaník","V",""]
["Jan Hybner",1977,"M","Liberec","CZ/C2","Safari 2021 - Duo Kombi","CZ",2021,7,633,0.73,5388,{"$f":"ROUND(K2697*L2697,0)","v":3933},"x",null,"L-23 Super Blaník",23,""]
["Jiri Tomicek",{"$f":"VLOOKUP(A2698,Pilot,2,0)","v":1947},{"$f":"VLOOKUP(A2698,Pilot,5,0)","v":"M"},{"$f":"VLOOKUP(A2698,Pilot,3,0)","v":"Dvůr Králové"},{"$f":"VLOOKUP(A2698,Pilot,4,0)","v":"CZ/C2"},"Safari 2021 - Duo Kombi","CZ",2021,8,264,0.73,2647,1932,"x",null,"L-13 Blaník","VF",""]
["Martin Markl",1960,"M","Kolín","CZ/C1","Safari 2021 - Duo Kombi","CZ",2021,9,242,0.73,2201,1607,"x",null,"L-13 Blaník","FI",""]
["Vladislav Cadsky",1975,"M","Kolín","CZ/C1","Safari 2021 - Duo Kombi","CZ",2021,10,123,0.73,1114,813,"x",null,"L-13 Blaník","FL",""]
["A Hadacek",null,null,"Kolín",null,"Safari 2021 - Duo Kombi","CZ",2021,11,0,0.73,0,0,null,null,"L-13 Blaník","FL","Není v databázi"]

{"sheet":"Temp","index":6,"n_rows":1,"n_cols":19,"rows_kept":1,"cut":false,"hidden":true,"merged":[]}
["Jmeno","Rok narození","M/F","Aeroklub","Region","Soutěž","Stát","Rok","Pořadí ve třídě","Body ve třídě","Kinp","Bi","Bi×Kinp","G","W","Typ","CN","Junior","Poznámka"]

{"sheet":"Zebrik G","index":7,"n_rows":475,"n_cols":14,"rows_kept":475,"cut":false,"hidden":false,"merged":[]}
[null,{"$f":"\"Všeobecný Žebřík pilotů plachtařů PK AeČR \"&A6","v":"Všeobecný Žebřík pilotů plachtařů PK AeČR 2021"},null,null,null,null,null,null,{"$f":"Zmeny!A3","v":"2021-11-25"},"Rev.",{"$f":"Zmeny!B3","v":"00"},{"$f":"Zmeny!C3","v":"Základní verze"}]
[]
[null,"G","x",null,null,null,null,null,"Junior v roce:","Junior v roce:",{"$f":"\"Repre družstvo \"&I4","v":"Repre družstvo 2022"},{"$f":"\"Repre výběr \"&I4","v":"Repre výběr 2022"},{"$f":"\"W \"&L3","v":"W Repre výběr 2022"},"Poznámka"]
[null,null,null,null,null,null,null,null,{"$f":"A6+1","v":2022},{"$f":"I4+1","v":2023},"(RD)","(RV)","(WRV)"]
["Pořadí",null,null,null,null,null,"Data",null,{"$f":"COUNTIF(I7:I980,\"Junior v roce \"&$I$4)","v":51},{"$f":"COUNTIF(J7:J980,\"Junior v roce \"&$J$4)","v":47},{"$f":"COUNTIF(K7:K980,\"RD \"&$I$4)","v":0},{"$f":"COUNTIF(L7:L980,\"RV \"&$I$4)","v":32},{"$f":"COUNTIF(M7:M980,\"WRV \"&$I$4)","v":9},{"$f":"COUNTIF(N7:N980,\"<>\")","v":0}]
[2021,"Jméno","Rok narození","M/F","Aeroklub","Region","Součet z Bi×Kinp","Počet G"]
[{"$f":"RANK(G7,G:G)","v":1},"Petr Koutny",1971,"M","Křižanov","CZ/M",31111,3,{"$f":"IF(C7=\"(prázdné)\",\"\",IF(($I$4-C7)>25,\"\",\"Junior v roce \"&$I$4))","v":""},{"$f":"IF(C7=\"(prázdné)\",\"\",IF(($J$4-C7)>25,\"\",\"Junior v roce \"&$J$4))","v":""},null,"RV 2022",{"$f":"IF(ISERROR(VLOOKUP(B7,'Zebrik W'!$B$7:$L$998,11,0)),\"\",IF(VLOOKUP(B7,'Zebrik W'!$B$7:$L$998,11,0)=0,\"--\",VLOOKUP(B7,'Zebrik W'!$B$7:$L$998,11,0)))","v":""}]
[2,"Roman Mracek",1980,"M","Letkov","CZ/C1",30637,3,{"$f":"IF(C8=\"(prázdné)\",\"\",IF(($I$4-C8)>25,\"\",\"Junior v roce \"&$I$4))","v":""},{"$f":"IF(C8=\"(prázdné)\",\"\",IF(($J$4-C8)>25,\"\",\"Junior v roce \"&$J$4))","v":""},null,"RV 2022",{"$f":"IF(ISERROR(VLOOKUP(B8,'Zebrik W'!$B$7:$L$998,11,0)),\"\",IF(VLOOKUP(B8,'Zebrik W'!$B$7:$L$998,11,0)=0,\"--\",VLOOKUP(B8,'Zebrik W'!$B$7:$L$998,11,0)))","v":""}]
[3,"Pavel Louzecky",1957,"M","Přibyslav","CZ/C2",30536,3,{"$f":"IF(C9=\"(prázdné)\",\"\",IF(($I$4-C9)>25,\"\",\"Junior v roce \"&$I$4))","v":""},"",null,"RV 2022",{"$f":"IF(ISERROR(VLOOKUP(B9,'Zebrik W'!$B$7:$L$998,11,0)),\"\",IF(VLOOKUP(B9,'Zebrik W'!$B$7:$L$998,11,0)=0,\"--\",VLOOKUP(B9,'Zebrik W'!$B$7:$L$998,11,0)))","v":""}]
[4,"Miloslav Cink",1987,"M","Letkov","CZ/C1",30414,3,"","",null,"RV 2022",{"$f":"IF(ISERROR(VLOOKUP(B10,'Zebrik W'!$B$7:$L$998,11,0)),\"\",IF(VLOOKUP(B10,'Zebrik W'!$B$7:$L$998,11,0)=0,\"--\",VLOOKUP(B10,'Zebrik W'!$B$7:$L$998,11,0)))","v":""}]
[5,"Jan Pavlik",1987,"M","Křižanov","CZ/M",30039,3,"","",null,"RV 2022",{"$f":"IF(ISERROR(VLOOKUP(B11,'Zebrik W'!$B$7:$L$998,11,0)),\"\",IF(VLOOKUP(B11,'Zebrik W'!$B$7:$L$998,11,0)=0,\"--\",VLOOKUP(B11,'Zebrik W'!$B$7:$L$998,11,0)))","v":""}]
[6,"Radek Krejcirik",1991,"M","Hranice","CZ/M",30030,3,"","",null,"RV 2022",{"$f":"IF(ISERROR(VLOOKUP(B12,'Zebrik W'!$B$7:$L$998,11,0)),\"\",IF(VLOOKUP(B12,'Zebrik W'!$B$7:$L$998,11,0)=0,\"--\",VLOOKUP(B12,'Zebrik W'!$B$7:$L$998,11,0)))","v":""}]
[7,"Tomas Suchanek",1964,"M","GAC Benešov","CZ/C1",29771,3,"","",null,"RV 2022",{"$f":"IF(ISERROR(VLOOKUP(B13,'Zebrik W'!$B$7:$L$998,11,0)),\"\",IF(VLOOKUP(B13,'Zebrik W'!$B$7:$L$998,11,0)=0,\"--\",VLOOKUP(B13,'Zebrik W'!$B$7:$L$998,11,0)))","v":""}]
[8,"David Mach",1994,"M","Hronov","CZ/C2",29448,3,"","",null,"RV 2022",{"$f":"IF(ISERROR(VLOOKUP(B14,'Zebrik W'!$B$7:$L$998,11,0)),\"\",IF(VLOOKUP(B14,'Zebrik W'!$B$7:$L$998,11,0)=0,\"--\",VLOOKUP(B14,'Zebrik W'!$B$7:$L$998,11,0)))","v":""}]
[9,"Jan Ratz",1987,"M","Zbraslavice","CZ/C1",29396,3,"","",null,"RV 2022",{"$f":"IF(ISERROR(VLOOKUP(B15,'Zebrik W'!$B$7:$L$998,11,0)),\"\",IF(VLOOKUP(B15,'Zebrik W'!$B$7:$L$998,11,0)=0,\"--\",VLOOKUP(B15,'Zebrik W'!$B$7:$L$998,11,0)))","v":""}]
[10,"Ivan Novak",1962,"M","Mladá Boleslav","CZ/C1",28975,3,"","",null,"RV 2022",{"$f":"IF(ISERROR(VLOOKUP(B16,'Zebrik W'!$B$7:$L$998,11,0)),\"\",IF(VLOOKUP(B16,'Zebrik W'!$B$7:$L$998,11,0)=0,\"--\",VLOOKUP(B16,'Zebrik W'!$B$7:$L$998,11,0)))","v":""}]
[11,"Karel Novak",1993,"M","Mladá Boleslav","CZ/C1",28876,3,"","",null,"RV 2022",{"$f":"IF(ISERROR(VLOOKUP(B17,'Zebrik W'!$B$7:$L$998,11,0)),\"\",IF(VLOOKUP(B17,'Zebrik W'!$B$7:$L$998,11,0)=0,\"--\",VLOOKUP(B17,'Zebrik W'!$B$7:$L$998,11,0)))","v":""}]
[12,"Ondrej Dupal",1966,"M","GAC Benešov","CZ/C1",28642,3,"","",null,"RV 2022",{"$f":"IF(ISERROR(VLOOKUP(B18,'Zebrik W'!$B$7:$L$998,11,0)),\"\",IF(VLOOKUP(B18,'Zebrik W'!$B$7:$L$998,11,0)=0,\"--\",VLOOKUP(B18,'Zebrik W'!$B$7:$L$998,11,0)))","v":""}]
[13,"Jaroslav Tomana",1975,"M","Zbraslavice","CZ/C1",28570,3,"","",null,"RV 2022",{"$f":"IF(ISERROR(VLOOKUP(B19,'Zebrik W'!$B$7:$L$998,11,0)),\"\",IF(VLOOKUP(B19,'Zebrik W'!$B$7:$L$998,11,0)=0,\"--\",VLOOKUP(B19,'Zebrik W'!$B$7:$L$998,11,0)))","v":""}]
[14,"Jan Zapletal",1997,"M","Břeclav","CZ/M",28447,3,"Junior v roce 2022","",null,"RV 2022",{"$f":"IF(ISERROR(VLOOKUP(B20,'Zebrik W'!$B$7:$L$998,11,0)),\"\",IF(VLOOKUP(B20,'Zebrik W'!$B$7:$L$998,11,0)=0,\"--\",VLOOKUP(B20,'Zebrik W'!$B$7:$L$998,11,0)))","v":""}]
[15,"Petr Tichy",1973,"M","Zbraslavice","CZ/C1",28365,3,"","",null,"RV 2022",{"$f":"IF(ISERROR(VLOOKUP(B21,'Zebrik W'!$B$7:$L$998,11,0)),\"\",IF(VLOOKUP(B21,'Zebrik W'!$B$7:$L$998,11,0)=0,\"--\",VLOOKUP(B21,'Zebrik W'!$B$7:$L$998,11,0)))","v":""}]
[16,"Radek Kucirek",1973,"M","Havlíčkův Brod","CZ/C2",27958,3,"","",null,"RV 2022",{"$f":"IF(ISERROR(VLOOKUP(B22,'Zebrik W'!$B$7:$L$998,11,0)),\"\",IF(VLOOKUP(B22,'Zebrik W'!$B$7:$L$998,11,0)=0,\"--\",VLOOKUP(B22,'Zebrik W'!$B$7:$L$998,11,0)))","v":""}]
[17,"Ondrej Bordovsky",1983,"M","Krnov","CZ/M",27922,3,"","",null,"RV 2022",{"$f":"IF(ISERROR(VLOOKUP(B23,'Zebrik W'!$B$7:$L$998,11,0)),\"\",IF(VLOOKUP(B23,'Zebrik W'!$B$7:$L$998,11,0)=0,\"--\",VLOOKUP(B23,'Zebrik W'!$B$7:$L$998,11,0)))","v":""}]
[18,"Alena Netusilova",1970,"F","Zbraslavice","CZ/C1",27907,3,"","",null,"RV 2022",{"$f":"IF(ISERROR(VLOOKUP(B24,'Zebrik W'!$B$7:$L$998,11,0)),\"\",IF(VLOOKUP(B24,'Zebrik W'!$B$7:$L$998,11,0)=0,\"--\",VLOOKUP(B24,'Zebrik W'!$B$7:$L$998,11,0)))","v":"WRV 2022"}]
[19,"Michal Lesinger",1966,"M","Moravská Třebová","CZ/M",27671,3,"","",null,"RV 2022",{"$f":"IF(ISERROR(VLOOKUP(B25,'Zebrik W'!$B$7:$L$998,11,0)),\"\",IF(VLOOKUP(B25,'Zebrik W'!$B$7:$L$998,11,0)=0,\"--\",VLOOKUP(B25,'Zebrik W'!$B$7:$L$998,11,0)))","v":""}]
[20,"Jan Viskot",1995,"M","Břeclav","CZ/M",27070,3,{"$f":"IF(C26=\"(prázdné)\",\"\",IF(($I$4-C26)>25,\"\",\"Junior v roce \"&$I$4))","v":""},"",null,"RV 2022",{"$f":"IF(ISERROR(VLOOKUP(B26,'Zebrik W'!$B$7:$L$998,11,0)),\"\",IF(VLOOKUP(B26,'Zebrik W'!$B$7:$L$998,11,0)=0,\"--\",VLOOKUP(B26,'Zebrik W'!$B$7:$L$998,11,0)))","v":""}]
[21,"Danes Grula",1961,"M","Medlánky","CZ/M",27057,3,"","",null,null,{"$f":"IF(ISERROR(VLOOKUP(B27,'Zebrik W'!$B$7:$L$998,11,0)),\"\",IF(VLOOKUP(B27,'Zebrik W'!$B$7:$L$998,11,0)=0,\"--\",VLOOKUP(B27,'Zebrik W'!$B$7:$L$998,11,0)))","v":""}]
[22,"Jan Boruvka",1984,"M","Jičín","CZ/C2",27050,3,"","",null,null,{"$f":"IF(ISERROR(VLOOKUP(B28,'Zebrik W'!$B$7:$L$998,11,0)),\"\",IF(VLOOKUP(B28,'Zebrik W'!$B$7:$L$998,11,0)=0,\"--\",VLOOKUP(B28,'Zebrik W'!$B$7:$L$998,11,0)))","v":""}]
[23,"Tomas Rendla",1973,"M","Zbraslavice","CZ/C1",27040,3,"","",null,null,{"$f":"IF(ISERROR(VLOOKUP(B29,'Zebrik W'!$B$7:$L$998,11,0)),\"\",IF(VLOOKUP(B29,'Zebrik W'!$B$7:$L$998,11,0)=0,\"--\",VLOOKUP(B29,'Zebrik W'!$B$7:$L$998,11,0)))","v":""}]
[24,"Jaromir Macoun",1999,"M","Jičín","CZ/C2",27028,3,"Junior v roce 2022","Junior v roce 2023",null,"RV 2022",{"$f":"IF(ISERROR(VLOOKUP(B30,'Zebrik W'!$B$7:$L$998,11,0)),\"\",IF(VLOOKUP(B30,'Zebrik W'!$B$7:$L$998,11,0)=0,\"--\",VLOOKUP(B30,'Zebrik W'!$B$7:$L$998,11,0)))","v":""}]
[25,"Pavel Trybenekr",1990,"M","Hořice","CZ/C2",26991,3,"","",null,null,{"$f":"IF(ISERROR(VLOOKUP(B31,'Zebrik W'!$B$7:$L$998,11,0)),\"\",IF(VLOOKUP(B31,'Zebrik W'!$B$7:$L$998,11,0)=0,\"--\",VLOOKUP(B31,'Zebrik W'!$B$7:$L$998,11,0)))","v":""}]
[26,"Lukas Kriz",2003,"M","Křižanov","CZ/M",26799,3,"Junior v roce 2022","Junior v roce 2023",null,"RV 2022",{"$f":"IF(ISERROR(VLOOKUP(B32,'Zebrik W'!$B$7:$L$998,11,0)),\"\",IF(VLOOKUP(B32,'Zebrik W'!$B$7:$L$998,11,0)=0,\"--\",VLOOKUP(B32,'Zebrik W'!$B$7:$L$998,11,0)))","v":""}]
[27,"Josef Novotny",1983,"M","Přibyslav","CZ/C2",26723,3,"","",null,null,{"$f":"IF(ISERROR(VLOOKUP(B33,'Zebrik W'!$B$7:$L$998,11,0)),\"\",IF(VLOOKUP(B33,'Zebrik W'!$B$7:$L$998,11,0)=0,\"--\",VLOOKUP(B33,'Zebrik W'!$B$7:$L$998,11,0)))","v":""}]
[28,"Zdenek Boruvka 86",1986,"M","Jičín","CZ/C2",26694,3,"","",null,null,{"$f":"IF(ISERROR(VLOOKUP(B34,'Zebrik W'!$B$7:$L$998,11,0)),\"\",IF(VLOOKUP(B34,'Zebrik W'!$B$7:$L$998,11,0)=0,\"--\",VLOOKUP(B34,'Zebrik W'!$B$7:$L$998,11,0)))","v":""}]
[29,"Jan Kotan",1982,"M","Letňany","CZ/C1",26642,3,"","",null,null,{"$f":"IF(ISERROR(VLOOKUP(B35,'Zebrik W'!$B$7:$L$998,11,0)),\"\",IF(VLOOKUP(B35,'Zebrik W'!$B$7:$L$998,11,0)=0,\"--\",VLOOKUP(B35,'Zebrik W'!$B$7:$L$998,11,0)))","v":""}]
[30,"Frantisek Vancura",1966,"M","Hranice","CZ/M",26066,3,"","",null,null,{"$f":"IF(ISERROR(VLOOKUP(B36,'Zebrik W'!$B$7:$L$998,11,0)),\"\",IF(VLOOKUP(B36,'Zebrik W'!$B$7:$L$998,11,0)=0,\"--\",VLOOKUP(B36,'Zebrik W'!$B$7:$L$998,11,0)))","v":""}]
[31,"Jan Louda",1986,"M","Mladá Boleslav","CZ/C1",26037,3,"","",null,null,{"$f":"IF(ISERROR(VLOOKUP(B37,'Zebrik W'!$B$7:$L$998,11,0)),\"\",IF(VLOOKUP(B37,'Zebrik W'!$B$7:$L$998,11,0)=0,\"--\",VLOOKUP(B37,'Zebrik W'!$B$7:$L$998,11,0)))","v":""}]
[32,"Jiri Kusbach",1959,"M","Luhačovice","CZ/M",26005,3,"","",null,null,{"$f":"IF(ISERROR(VLOOKUP(B38,'Zebrik W'!$B$7:$L$998,11,0)),\"\",IF(VLOOKUP(B38,'Zebrik W'!$B$7:$L$998,11,0)=0,\"--\",VLOOKUP(B38,'Zebrik W'!$B$7:$L$998,11,0)))","v":""}]
[33,"Marek Blatak",1969,"M","Šumperk","CZ/M",25950,3,"","",null,null,{"$f":"IF(ISERROR(VLOOKUP(B39,'Zebrik W'!$B$7:$L$998,11,0)),\"\",IF(VLOOKUP(B39,'Zebrik W'!$B$7:$L$998,11,0)=0,\"--\",VLOOKUP(B39,'Zebrik W'!$B$7:$L$998,11,0)))","v":""}]
[34,"Vit Morkovsky",2000,"M","Polička","CZ/C2",25891,3,"Junior v roce 2022","Junior v roce 2023",null,"RV 2022",{"$f":"IF(ISERROR(VLOOKUP(B40,'Zebrik W'!$B$7:$L$998,11,0)),\"\",IF(VLOOKUP(B40,'Zebrik W'!$B$7:$L$998,11,0)=0,\"--\",VLOOKUP(B40,'Zebrik W'!$B$7:$L$998,11,0)))","v":""}]
[35,"Martin Ficnar",1971,"M","Šumperk","CZ/M",25745,3,"","",null,null,{"$f":"IF(ISERROR(VLOOKUP(B41,'Zebrik W'!$B$7:$L$998,11,0)),\"\",IF(VLOOKUP(B41,'Zebrik W'!$B$7:$L$998,11,0)=0,\"--\",VLOOKUP(B41,'Zebrik W'!$B$7:$L$998,11,0)))","v":""}]
[36,"Hana Treslova",1991,"F","Raná","CZ/C2",25596,3,"","",null,"RV 2022",{"$f":"IF(ISERROR(VLOOKUP(B42,'Zebrik W'!$B$7:$L$998,11,0)),\"\",IF(VLOOKUP(B42,'Zebrik W'!$B$7:$L$998,11,0)=0,\"--\",VLOOKUP(B42,'Zebrik W'!$B$7:$L$998,11,0)))","v":"WRV 2022"}]
[37,"Petr Krejcirik",1960,"M","Hranice","CZ/M",25507,3,"","",null,null,{"$f":"IF(ISERROR(VLOOKUP(B43,'Zebrik W'!$B$7:$L$998,11,0)),\"\",IF(VLOOKUP(B43,'Zebrik W'!$B$7:$L$998,11,0)=0,\"--\",VLOOKUP(B43,'Zebrik W'!$B$7:$L$998,11,0)))","v":""}]
[38,"Lubomir Motl",1959,"M","Kyjov","CZ/M",25325,3,{"$f":"IF(C44=\"(prázdné)\",\"\",IF(($I$4-C44)>25,\"\",\"Junior v roce \"&$I$4))","v":""},{"$f":"IF(C44=\"(prázdné)\",\"\",IF(($J$4-C44)>25,\"\",\"Junior v roce \"&$J$4))","v":""},null,null,{"$f":"IF(ISERROR(VLOOKUP(B44,'Zebrik W'!$B$7:$L$998,11,0)),\"\",IF(VLOOKUP(B44,'Zebrik W'!$B$7:$L$998,11,0)=0,\"--\",VLOOKUP(B44,'Zebrik W'!$B$7:$L$998,11,0)))","v":""}]
[39,"Vojtech Novotny",1992,"M","Kralupy","CZ/C1",25012,3,"","",null,null,{"$f":"IF(ISERROR(VLOOKUP(B45,'Zebrik W'!$B$7:$L$998,11,0)),\"\",IF(VLOOKUP(B45,'Zebrik W'!$B$7:$L$998,11,0)=0,\"--\",VLOOKUP(B45,'Zebrik W'!$B$7:$L$998,11,0)))","v":""}]
[40,"Tereza Koubkova",1999,"F","Vysoké Mýto","CZ/C2",24997,3,"Junior v roce 2022","Junior v roce 2023",null,"RV 2022",{"$f":"IF(ISERROR(VLOOKUP(B46,'Zebrik W'!$B$7:$L$998,11,0)),\"\",IF(VLOOKUP(B46,'Zebrik W'!$B$7:$L$998,11,0)=0,\"--\",VLOOKUP(B46,'Zebrik W'!$B$7:$L$998,11,0)))","v":"WRV 2022"}]
[41,"Pavel Jiranek",1993,"M","Toužim","CZ/C1",24978,3,"","",null,null,{"$f":"IF(ISERROR(VLOOKUP(B47,'Zebrik W'!$B$7:$L$998,11,0)),\"\",IF(VLOOKUP(B47,'Zebrik W'!$B$7:$L$998,11,0)=0,\"--\",VLOOKUP(B47,'Zebrik W'!$B$7:$L$998,11,0)))","v":""}]
[42,"Petr Hotovy",1958,"M","Česká Lípa","CZ/C2",24885,3,"","",null,null,{"$f":"IF(ISERROR(VLOOKUP(B48,'Zebrik W'!$B$7:$L$998,11,0)),\"\",IF(VLOOKUP(B48,'Zebrik W'!$B$7:$L$998,11,0)=0,\"--\",VLOOKUP(B48,'Zebrik W'!$B$7:$L$998,11,0)))","v":""}]
[43,"Radek Zima 78",1978,"M","Hodkovice","CZ/C2",24826,3,"","",null,null,{"$f":"IF(ISERROR(VLOOKUP(B49,'Zebrik W'!$B$7:$L$998,11,0)),\"\",IF(VLOOKUP(B49,'Zebrik W'!$B$7:$L$998,11,0)=0,\"--\",VLOOKUP(B49,'Zebrik W'!$B$7:$L$998,11,0)))","v":""}]
[44,"Martin Urner",1974,"M","Letňany","CZ/C1",24629,3,"","",null,null,{"$f":"IF(ISERROR(VLOOKUP(B50,'Zebrik W'!$B$7:$L$998,11,0)),\"\",IF(VLOOKUP(B50,'Zebrik W'!$B$7:$L$998,11,0)=0,\"--\",VLOOKUP(B50,'Zebrik W'!$B$7:$L$998,11,0)))","v":""}]
[45,"Vratislav Sram",1966,"M","Broumov","CZ/C2",24616,3,"","",null,null,{"$f":"IF(ISERROR(VLOOKUP(B51,'Zebrik W'!$B$7:$L$998,11,0)),\"\",IF(VLOOKUP(B51,'Zebrik W'!$B$7:$L$998,11,0)=0,\"--\",VLOOKUP(B51,'Zebrik W'!$B$7:$L$998,11,0)))","v":""}]
[46,"Jindrich Svorc",1978,"M","Letňany","CZ/C1",24605,3,"","",null,null,{"$f":"IF(ISERROR(VLOOKUP(B52,'Zebrik W'!$B$7:$L$998,11,0)),\"\",IF(VLOOKUP(B52,'Zebrik W'!$B$7:$L$998,11,0)=0,\"--\",VLOOKUP(B52,'Zebrik W'!$B$7:$L$998,11,0)))","v":""}]
[47,"David Sachl",1978,"M","Kralupy","CZ/C1",24594,3,"","",null,null,{"$f":"IF(ISERROR(VLOOKUP(B53,'Zebrik W'!$B$7:$L$998,11,0)),\"\",IF(VLOOKUP(B53,'Zebrik W'!$B$7:$L$998,11,0)=0,\"--\",VLOOKUP(B53,'Zebrik W'!$B$7:$L$998,11,0)))","v":""}]
[48,"Jana Veprekova",1961,"F","Dvůr Králové","CZ/C2",24546,3,"","",null,"RV 2022",{"$f":"IF(ISERROR(VLOOKUP(B54,'Zebrik W'!$B$7:$L$998,11,0)),\"\",IF(VLOOKUP(B54,'Zebrik W'!$B$7:$L$998,11,0)=0,\"--\",VLOOKUP(B54,'Zebrik W'!$B$7:$L$998,11,0)))","v":"WRV 2022"}]
[49,"Daniel Ryba",1994,"M","Dvůr Králové","CZ/C2",24464,3,"","",null,null,{"$f":"IF(ISERROR(VLOOKUP(B55,'Zebrik W'!$B$7:$L$998,11,0)),\"\",IF(VLOOKUP(B55,'Zebrik W'!$B$7:$L$998,11,0)=0,\"--\",VLOOKUP(B55,'Zebrik W'!$B$7:$L$998,11,0)))","v":""}]
[50,"Pavel Rericha",1967,"M","Moravská Třebová","CZ/M",24406,3,"","",null,null,{"$f":"IF(ISERROR(VLOOKUP(B56,'Zebrik W'!$B$7:$L$998,11,0)),\"\",IF(VLOOKUP(B56,'Zebrik W'!$B$7:$L$998,11,0)=0,\"--\",VLOOKUP(B56,'Zebrik W'!$B$7:$L$998,11,0)))","v":""}]
[51,"Jana Treslova",1963,"F","Raná","CZ/C2",24356,3,"","",null,"RV 2022",{"$f":"IF(ISERROR(VLOOKUP(B57,'Zebrik W'!$B$7:$L$998,11,0)),\"\",IF(VLOOKUP(B57,'Zebrik W'!$B$7:$L$998,11,0)=0,\"--\",VLOOKUP(B57,'Zebrik W'!$B$7:$L$998,11,0)))","v":"WRV 2022"}]
[52,"Ivan Tvrdik",1997,"M","Letňany","CZ/C1",24110,3,"Junior v roce 2022","",null,"RV 2022",{"$f":"IF(ISERROR(VLOOKUP(B58,'Zebrik W'!$B$7:$L$998,11,0)),\"\",IF(VLOOKUP(B58,'Zebrik W'!$B$7:$L$998,11,0)=0,\"--\",VLOOKUP(B58,'Zebrik W'!$B$7:$L$998,11,0)))","v":""}]
[53,"Barbora Moravcova",1994,"F","Zbraslavice","CZ/C1",24045,3,"","",null,"RV 2022",{"$f":"IF(ISERROR(VLOOKUP(B59,'Zebrik W'!$B$7:$L$998,11,0)),\"\",IF(VLOOKUP(B59,'Zebrik W'!$B$7:$L$998,11,0)=0,\"--\",VLOOKUP(B59,'Zebrik W'!$B$7:$L$998,11,0)))","v":"WRV 2022"}]
[54,"Martin Hrivna",1978,"M","Zbraslavice","CZ/C1",23965,3,"","",null,null,{"$f":"IF(ISERROR(VLOOKUP(B60,'Zebrik W'!$B$7:$L$998,11,0)),\"\",IF(VLOOKUP(B60,'Zebrik W'!$B$7:$L$998,11,0)=0,\"--\",VLOOKUP(B60,'Zebrik W'!$B$7:$L$998,11,0)))","v":""}]
[55,"Michal Cechmanek",1978,"M","Luhačovice","CZ/M",23920,3,"","",null,null,{"$f":"IF(ISERROR(VLOOKUP(B61,'Zebrik W'!$B$7:$L$998,11,0)),\"\",IF(VLOOKUP(B61,'Zebrik W'!$B$7:$L$998,11,0)=0,\"--\",VLOOKUP(B61,'Zebrik W'!$B$7:$L$998,11,0)))","v":""}]
[56,"Ivan Harasta 65",1965,"M","Toužim","CZ/C1",23885,3,"","",null,null,{"$f":"IF(ISERROR(VLOOKUP(B62,'Zebrik W'!$B$7:$L$998,11,0)),\"\",IF(VLOOKUP(B62,'Zebrik W'!$B$7:$L$998,11,0)=0,\"--\",VLOOKUP(B62,'Zebrik W'!$B$7:$L$998,11,0)))","v":""}]
[57,"Dana Novakova",1965,"F","Mladá Boleslav","CZ/C1",23857,3,"","",null,"RV 2022",{"$f":"IF(ISERROR(VLOOKUP(B63,'Zebrik W'!$B$7:$L$998,11,0)),\"\",IF(VLOOKUP(B63,'Zebrik W'!$B$7:$L$998,11,0)=0,\"--\",VLOOKUP(B63,'Zebrik W'!$B$7:$L$998,11,0)))","v":"WRV 2022"}]
[58,"Jan Stastny",2003,"M","Medlánky","CZ/M",23693,3,"Junior v roce 2022","Junior v roce 2023",null,null,{"$f":"IF(ISERROR(VLOOKUP(B64,'Zebrik W'!$B$7:$L$998,11,0)),\"\",IF(VLOOKUP(B64,'Zebrik W'!$B$7:$L$998,11,0)=0,\"--\",VLOOKUP(B64,'Zebrik W'!$B$7:$L$998,11,0)))","v":""}]
[59,"Lenka Kuthanova",1960,"F","Tábor","CZ/C1",23579,3,"","",null,"RV 2022",{"$f":"IF(ISERROR(VLOOKUP(B65,'Zebrik W'!$B$7:$L$998,11,0)),\"\",IF(VLOOKUP(B65,'Zebrik W'!$B$7:$L$998,11,0)=0,\"--\",VLOOKUP(B65,'Zebrik W'!$B$7:$L$998,11,0)))","v":"WRV 2022"}]
[60,"Zdenek Balcarek",1967,"M","Kroměříž","CZ/M",23575,3,"","",null,null,{"$f":"IF(ISERROR(VLOOKUP(B66,'Zebrik W'!$B$7:$L$998,11,0)),\"\",IF(VLOOKUP(B66,'Zebrik W'!$B$7:$L$998,11,0)=0,\"--\",VLOOKUP(B66,'Zebrik W'!$B$7:$L$998,11,0)))","v":""}]
[61,"Josef Novak",1981,"M","Kunovice","CZ/M",23510,3,"","",null,null,{"$f":"IF(ISERROR(VLOOKUP(B67,'Zebrik W'!$B$7:$L$998,11,0)),\"\",IF(VLOOKUP(B67,'Zebrik W'!$B$7:$L$998,11,0)=0,\"--\",VLOOKUP(B67,'Zebrik W'!$B$7:$L$998,11,0)))","v":""}]
[62,"Jiri Stepanek",1956,"M","Moravská Třebová","CZ/M",23435,3,"","",null,null,{"$f":"IF(ISERROR(VLOOKUP(B68,'Zebrik W'!$B$7:$L$998,11,0)),\"\",IF(VLOOKUP(B68,'Zebrik W'!$B$7:$L$998,11,0)=0,\"--\",VLOOKUP(B68,'Zebrik W'!$B$7:$L$998,11,0)))","v":""}]
[63,"Jan Dersak 69",1969,"M","Kralupy","CZ/C1",23395,3,"","",null,null,{"$f":"IF(ISERROR(VLOOKUP(B69,'Zebrik W'!$B$7:$L$998,11,0)),\"\",IF(VLOOKUP(B69,'Zebrik W'!$B$7:$L$998,11,0)=0,\"--\",VLOOKUP(B69,'Zebrik W'!$B$7:$L$998,11,0)))","v":""}]
[64,"Rene Hudak",1972,"M","Kunovice","CZ/M",23287,3,"","",null,null,{"$f":"IF(ISERROR(VLOOKUP(B70,'Zebrik W'!$B$7:$L$998,11,0)),\"\",IF(VLOOKUP(B70,'Zebrik W'!$B$7:$L$998,11,0)=0,\"--\",VLOOKUP(B70,'Zebrik W'!$B$7:$L$998,11,0)))","v":""}]
[{"$f":"RANK(G71,G:G)","v":65},"Miroslav Koci",1961,"M","Žamberk","CZ/C2",23255,3,"","",null,null,{"$f":"IF(ISERROR(VLOOKUP(B71,'Zebrik W'!$B$7:$L$998,11,0)),\"\",IF(VLOOKUP(B71,'Zebrik W'!$B$7:$L$998,11,0)=0,\"--\",VLOOKUP(B71,'Zebrik W'!$B$7:$L$998,11,0)))","v":""}]
[66,"Jiri Steiger",1969,"M","Olomouc","CZ/M",23138,3,"","",null,null,{"$f":"IF(ISERROR(VLOOKUP(B72,'Zebrik W'!$B$7:$L$998,11,0)),\"\",IF(VLOOKUP(B72,'Zebrik W'!$B$7:$L$998,11,0)=0,\"--\",VLOOKUP(B72,'Zebrik W'!$B$7:$L$998,11,0)))","v":""}]
[67,"Jan Horak",1971,"M","Zbraslavice","CZ/C1",22927,3,"","",null,null,{"$f":"IF(ISERROR(VLOOKUP(B73,'Zebrik W'!$B$7:$L$998,11,0)),\"\",IF(VLOOKUP(B73,'Zebrik W'!$B$7:$L$998,11,0)=0,\"--\",VLOOKUP(B73,'Zebrik W'!$B$7:$L$998,11,0)))","v":""}]
[68,"Michaela Krizova",2001,"F","Přibyslav","CZ/C2",22883,3,"Junior v roce 2022","Junior v roce 2023",null,"RV 2022",{"$f":"IF(ISERROR(VLOOKUP(B74,'Zebrik W'!$B$7:$L$998,11,0)),\"\",IF(VLOOKUP(B74,'Zebrik W'!$B$7:$L$998,11,0)=0,\"--\",VLOOKUP(B74,'Zebrik W'!$B$7:$L$998,11,0)))","v":"WRV 2022"}]
[69,"Petr Stepanek",1989,"M","Moravská Třebová","CZ/M",22752,3,"","",null,null,{"$f":"IF(ISERROR(VLOOKUP(B75,'Zebrik W'!$B$7:$L$998,11,0)),\"\",IF(VLOOKUP(B75,'Zebrik W'!$B$7:$L$998,11,0)=0,\"--\",VLOOKUP(B75,'Zebrik W'!$B$7:$L$998,11,0)))","v":""}]
[70,"Jan Zahradka",1981,"M","Hodkovice","CZ/C2",22732,3,"","",null,null,{"$f":"IF(ISERROR(VLOOKUP(B76,'Zebrik W'!$B$7:$L$998,11,0)),\"\",IF(VLOOKUP(B76,'Zebrik W'!$B$7:$L$998,11,0)=0,\"--\",VLOOKUP(B76,'Zebrik W'!$B$7:$L$998,11,0)))","v":""}]
[71,"Petra Piskata",1989,"F","Luhačovice","CZ/M",22548,3,"","",null,null,{"$f":"IF(ISERROR(VLOOKUP(B77,'Zebrik W'!$B$7:$L$998,11,0)),\"\",IF(VLOOKUP(B77,'Zebrik W'!$B$7:$L$998,11,0)=0,\"--\",VLOOKUP(B77,'Zebrik W'!$B$7:$L$998,11,0)))","v":"--"}]
[72,"Michaela Rendlova",2004,"F","Toužim","CZ/C1",22534,3,"Junior v roce 2022","Junior v roce 2023",null,null,{"$f":"IF(ISERROR(VLOOKUP(B78,'Zebrik W'!$B$7:$L$998,11,0)),\"\",IF(VLOOKUP(B78,'Zebrik W'!$B$7:$L$998,11,0)=0,\"--\",VLOOKUP(B78,'Zebrik W'!$B$7:$L$998,11,0)))","v":"--"}]
[73,"Petr Kolomaznik",1981,"M","Šumperk","CZ/M",22435,3,"","",null,null,{"$f":"IF(ISERROR(VLOOKUP(B79,'Zebrik W'!$B$7:$L$998,11,0)),\"\",IF(VLOOKUP(B79,'Zebrik W'!$B$7:$L$998,11,0)=0,\"--\",VLOOKUP(B79,'Zebrik W'!$B$7:$L$998,11,0)))","v":""}]
[74,"Lukas Hynek",1979,"M","Dvůr Králové","CZ/C2",22404,3,"","",null,null,{"$f":"IF(ISERROR(VLOOKUP(B80,'Zebrik W'!$B$7:$L$998,11,0)),\"\",IF(VLOOKUP(B80,'Zebrik W'!$B$7:$L$998,11,0)=0,\"--\",VLOOKUP(B80,'Zebrik W'!$B$7:$L$998,11,0)))","v":""}]
[75,"Petr Valenta 94",1994,"M","Kunovice","CZ/M",22386,3,"","",null,null,{"$f":"IF(ISERROR(VLOOKUP(B81,'Zebrik W'!$B$7:$L$998,11,0)),\"\",IF(VLOOKUP(B81,'Zebrik W'!$B$7:$L$998,11,0)=0,\"--\",VLOOKUP(B81,'Zebrik W'!$B$7:$L$998,11,0)))","v":""}]
[76,"Tomas Hynek",2002,"M","Dvůr Králové","CZ/C2",21836,3,"Junior v roce 2022","Junior v roce 2023",null,null,{"$f":"IF(ISERROR(VLOOKUP(B82,'Zebrik W'!$B$7:$L$998,11,0)),\"\",IF(VLOOKUP(B82,'Zebrik W'!$B$7:$L$998,11,0)=0,\"--\",VLOOKUP(B82,'Zebrik W'!$B$7:$L$998,11,0)))","v":""}]
[77,"Zdenek Boruvka 54",1954,"M","Jičín","CZ/C2",21681,3,"","",null,null,{"$f":"IF(ISERROR(VLOOKUP(B83,'Zebrik W'!$B$7:$L$998,11,0)),\"\",IF(VLOOKUP(B83,'Zebrik W'!$B$7:$L$998,11,0)=0,\"--\",VLOOKUP(B83,'Zebrik W'!$B$7:$L$998,11,0)))","v":""}]
[78,"Milan Svoboda 80",1980,"M","Havlíčkův Brod","CZ/C2",21628,3,"","",null,null,{"$f":"IF(ISERROR(VLOOKUP(B84,'Zebrik W'!$B$7:$L$998,11,0)),\"\",IF(VLOOKUP(B84,'Zebrik W'!$B$7:$L$998,11,0)=0,\"--\",VLOOKUP(B84,'Zebrik W'!$B$7:$L$998,11,0)))","v":""}]
[79,"Jaroslav Buryan",1953,"M","Zábřeh","CZ/M",21600,3,"","",null,null,{"$f":"IF(ISERROR(VLOOKUP(B85,'Zebrik W'!$B$7:$L$998,11,0)),\"\",IF(VLOOKUP(B85,'Zebrik W'!$B$7:$L$998,11,0)=0,\"--\",VLOOKUP(B85,'Zebrik W'!$B$7:$L$998,11,0)))","v":""}]
[80,"Marek Kornec",1957,"M","Dvůr Králové","CZ/C2",21583,3,"","",null,null,{"$f":"IF(ISERROR(VLOOKUP(B86,'Zebrik W'!$B$7:$L$998,11,0)),\"\",IF(VLOOKUP(B86,'Zebrik W'!$B$7:$L$998,11,0)=0,\"--\",VLOOKUP(B86,'Zebrik W'!$B$7:$L$998,11,0)))","v":""}]
[81,"Jan Simon",1970,"M","Kralupy","CZ/C1",21464,3,"","",null,null,{"$f":"IF(ISERROR(VLOOKUP(B87,'Zebrik W'!$B$7:$L$998,11,0)),\"\",IF(VLOOKUP(B87,'Zebrik W'!$B$7:$L$998,11,0)=0,\"--\",VLOOKUP(B87,'Zebrik W'!$B$7:$L$998,11,0)))","v":""}]
[82,"Vladimir Hammer",2000,"M","Letkov","CZ/C1",21404,3,"Junior v roce 2022","Junior v roce 2023",null,null,{"$f":"IF(ISERROR(VLOOKUP(B88,'Zebrik W'!$B$7:$L$998,11,0)),\"\",IF(VLOOKUP(B88,'Zebrik W'!$B$7:$L$998,11,0)=0,\"--\",VLOOKUP(B88,'Zebrik W'!$B$7:$L$998,11,0)))","v":""}]
[83,"Lumir Motyka",1955,"M","Frýdlant","CZ/M",21167,3,"","",null,null,{"$f":"IF(ISERROR(VLOOKUP(B89,'Zebrik W'!$B$7:$L$998,11,0)),\"\",IF(VLOOKUP(B89,'Zebrik W'!$B$7:$L$998,11,0)=0,\"--\",VLOOKUP(B89,'Zebrik W'!$B$7:$L$998,11,0)))","v":""}]
[84,"Zdenek Schenk",1972,"M","Hranice","CZ/M",21095,3,"","",null,null,{"$f":"IF(ISERROR(VLOOKUP(B90,'Zebrik W'!$B$7:$L$998,11,0)),\"\",IF(VLOOKUP(B90,'Zebrik W'!$B$7:$L$998,11,0)=0,\"--\",VLOOKUP(B90,'Zebrik W'!$B$7:$L$998,11,0)))","v":""}]
[85,"Milan Dvorak",1965,"M","Liberec","CZ/C2",21004,3,"","",null,null,{"$f":"IF(ISERROR(VLOOKUP(B91,'Zebrik W'!$B$7:$L$998,11,0)),\"\",IF(VLOOKUP(B91,'Zebrik W'!$B$7:$L$998,11,0)=0,\"--\",VLOOKUP(B91,'Zebrik W'!$B$7:$L$998,11,0)))","v":""}]
[86,"Tomas Kulhavy",2001,"M","Liberec","CZ/C2",20887,3,"Junior v roce 2022","Junior v roce 2023",null,null,{"$f":"IF(ISERROR(VLOOKUP(B92,'Zebrik W'!$B$7:$L$998,11,0)),\"\",IF(VLOOKUP(B92,'Zebrik W'!$B$7:$L$998,11,0)=0,\"--\",VLOOKUP(B92,'Zebrik W'!$B$7:$L$998,11,0)))","v":""}]
[87,"Slavomir Valecko",1960,"M","Hranice","CZ/M",20739,3,"","",null,null,{"$f":"IF(ISERROR(VLOOKUP(B93,'Zebrik W'!$B$7:$L$998,11,0)),\"\",IF(VLOOKUP(B93,'Zebrik W'!$B$7:$L$998,11,0)=0,\"--\",VLOOKUP(B93,'Zebrik W'!$B$7:$L$998,11,0)))","v":""}]
[88,"Milan Meisner",1961,"M","Dvůr Králové","CZ/C2",20630,3,"","",null,null,{"$f":"IF(ISERROR(VLOOKUP(B94,'Zebrik W'!$B$7:$L$998,11,0)),\"\",IF(VLOOKUP(B94,'Zebrik W'!$B$7:$L$998,11,0)=0,\"--\",VLOOKUP(B94,'Zebrik W'!$B$7:$L$998,11,0)))","v":""}]
[89,"Klara Teichmannova",1993,"F","Hronov","CZ/C2",20610,3,"","",null,null,{"$f":"IF(ISERROR(VLOOKUP(B95,'Zebrik W'!$B$7:$L$998,11,0)),\"\",IF(VLOOKUP(B95,'Zebrik W'!$B$7:$L$998,11,0)=0,\"--\",VLOOKUP(B95,'Zebrik W'!$B$7:$L$998,11,0)))","v":"--"}]
[90,"Wolfgang Sluka",1942,"M","Liberec","CZ/C2",20555,3,"","",null,null,{"$f":"IF(ISERROR(VLOOKUP(B96,'Zebrik W'!$B$7:$L$998,11,0)),\"\",IF(VLOOKUP(B96,'Zebrik W'!$B$7:$L$998,11,0)=0,\"--\",VLOOKUP(B96,'Zebrik W'!$B$7:$L$998,11,0)))","v":""}]
[91,"Pavlina Horackova",1965,"F","Šumperk","CZ/M",20532,3,"","",null,null,{"$f":"IF(ISERROR(VLOOKUP(B97,'Zebrik W'!$B$7:$L$998,11,0)),\"\",IF(VLOOKUP(B97,'Zebrik W'!$B$7:$L$998,11,0)=0,\"--\",VLOOKUP(B97,'Zebrik W'!$B$7:$L$998,11,0)))","v":"--"}]
[92,"Martin Svarc",1981,"M","Olomouc","CZ/M",20482,3,"","",null,null,{"$f":"IF(ISERROR(VLOOKUP(B98,'Zebrik W'!$B$7:$L$998,11,0)),\"\",IF(VLOOKUP(B98,'Zebrik W'!$B$7:$L$998,11,0)=0,\"--\",VLOOKUP(B98,'Zebrik W'!$B$7:$L$998,11,0)))","v":""}]
[93,"Tomas Hulmak",1999,"M","Hosín","CZ/C1",20380,3,"Junior v roce 2022","Junior v roce 2023",null,null,{"$f":"IF(ISERROR(VLOOKUP(B99,'Zebrik W'!$B$7:$L$998,11,0)),\"\",IF(VLOOKUP(B99,'Zebrik W'!$B$7:$L$998,11,0)=0,\"--\",VLOOKUP(B99,'Zebrik W'!$B$7:$L$998,11,0)))","v":""}]
[94,"Jan Smaha",1958,"M","Česká Lípa","CZ/C2",20177,3,"","",null,null,{"$f":"IF(ISERROR(VLOOKUP(B100,'Zebrik W'!$B$7:$L$998,11,0)),\"\",IF(VLOOKUP(B100,'Zebrik W'!$B$7:$L$998,11,0)=0,\"--\",VLOOKUP(B100,'Zebrik W'!$B$7:$L$998,11,0)))","v":""}]
[95,"Martin Stepanek",1987,"M","Moravská Třebová","CZ/M",20139,3,"","",null,null,{"$f":"IF(ISERROR(VLOOKUP(B101,'Zebrik W'!$B$7:$L$998,11,0)),\"\",IF(VLOOKUP(B101,'Zebrik W'!$B$7:$L$998,11,0)=0,\"--\",VLOOKUP(B101,'Zebrik W'!$B$7:$L$998,11,0)))","v":""}]
[96,"Ladislav Jozsa",1981,"M","Medlánky","CZ/M",20030,3,"","",null,null,{"$f":"IF(ISERROR(VLOOKUP(B102,'Zebrik W'!$B$7:$L$998,11,0)),\"\",IF(VLOOKUP(B102,'Zebrik W'!$B$7:$L$998,11,0)=0,\"--\",VLOOKUP(B102,'Zebrik W'!$B$7:$L$998,11,0)))","v":""}]
[97,"Petr Kolacek",1965,"M","Šumperk","CZ/M",19837,3,"","",null,null,{"$f":"IF(ISERROR(VLOOKUP(B103,'Zebrik W'!$B$7:$L$998,11,0)),\"\",IF(VLOOKUP(B103,'Zebrik W'!$B$7:$L$998,11,0)=0,\"--\",VLOOKUP(B103,'Zebrik W'!$B$7:$L$998,11,0)))","v":""}]
[98,"David Vrchota",1976,"M","Jaroměř","CZ/C2",19803,3,"","",null,null,{"$f":"IF(ISERROR(VLOOKUP(B104,'Zebrik W'!$B$7:$L$998,11,0)),\"\",IF(VLOOKUP(B104,'Zebrik W'!$B$7:$L$998,11,0)=0,\"--\",VLOOKUP(B104,'Zebrik W'!$B$7:$L$998,11,0)))","v":""}]
[99,"Ondrej Teichman",1984,"M","Dvůr Králové","CZ/C2",19587,3,"","",null,null,{"$f":"IF(ISERROR(VLOOKUP(B105,'Zebrik W'!$B$7:$L$998,11,0)),\"\",IF(VLOOKUP(B105,'Zebrik W'!$B$7:$L$998,11,0)=0,\"--\",VLOOKUP(B105,'Zebrik W'!$B$7:$L$998,11,0)))","v":""}]
[100,"Petr Lonsky",1965,"M","Toužim","CZ/C1",19169,3,"","",null,null,{"$f":"IF(ISERROR(VLOOKUP(B106,'Zebrik W'!$B$7:$L$998,11,0)),\"\",IF(VLOOKUP(B106,'Zebrik W'!$B$7:$L$998,11,0)=0,\"--\",VLOOKUP(B106,'Zebrik W'!$B$7:$L$998,11,0)))","v":""}]
[101,"Martin Koci",1975,"M","Ústí nad Orlicí","CZ/C2",19038,3,"","",null,null,{"$f":"IF(ISERROR(VLOOKUP(B107,'Zebrik W'!$B$7:$L$998,11,0)),\"\",IF(VLOOKUP(B107,'Zebrik W'!$B$7:$L$998,11,0)=0,\"--\",VLOOKUP(B107,'Zebrik W'!$B$7:$L$998,11,0)))","v":""}]
[102,"Jan Kohout",1970,"M","Žamberk","CZ/C2",18936,3,{"$f":"IF(C108=\"(prázdné)\",\"\",IF(($I$4-C108)>25,\"\",\"Junior v roce \"&$I$4))","v":""},{"$f":"IF(C108=\"(prázdné)\",\"\",IF(($J$4-C108)>25,\"\",\"Junior v roce \"&$J$4))","v":""},null,null,{"$f":"IF(ISERROR(VLOOKUP(B108,'Zebrik W'!$B$7:$L$998,11,0)),\"\",IF(VLOOKUP(B108,'Zebrik W'!$B$7:$L$998,11,0)=0,\"--\",VLOOKUP(B108,'Zebrik W'!$B$7:$L$998,11,0)))","v":""}]
[103,"Petr Havrlant",1965,"M","Šumperk","CZ/M",18854,3,"","",null,null,{"$f":"IF(ISERROR(VLOOKUP(B109,'Zebrik W'!$B$7:$L$998,11,0)),\"\",IF(VLOOKUP(B109,'Zebrik W'!$B$7:$L$998,11,0)=0,\"--\",VLOOKUP(B109,'Zebrik W'!$B$7:$L$998,11,0)))","v":""}]
[104,"Jiri Koudela",1974,"M","Vyškov","CZ/M",18739,3,"","",null,null,{"$f":"IF(ISERROR(VLOOKUP(B110,'Zebrik W'!$B$7:$L$998,11,0)),\"\",IF(VLOOKUP(B110,'Zebrik W'!$B$7:$L$998,11,0)=0,\"--\",VLOOKUP(B110,'Zebrik W'!$B$7:$L$998,11,0)))","v":""}]
[105,"Jiri Maier 66",1966,"M","Raná","CZ/C2",18734,3,"","",null,null,{"$f":"IF(ISERROR(VLOOKUP(B111,'Zebrik W'!$B$7:$L$998,11,0)),\"\",IF(VLOOKUP(B111,'Zebrik W'!$B$7:$L$998,11,0)=0,\"--\",VLOOKUP(B111,'Zebrik W'!$B$7:$L$998,11,0)))","v":""}]
[106,"Ondrej Dvorak 98",1998,"M","Mladá Boleslav","CZ/C1",18696,3,"Junior v roce 2022","Junior v roce 2023",null,null,{"$f":"IF(ISERROR(VLOOKUP(B112,'Zebrik W'!$B$7:$L$998,11,0)),\"\",IF(VLOOKUP(B112,'Zebrik W'!$B$7:$L$998,11,0)=0,\"--\",VLOOKUP(B112,'Zebrik W'!$B$7:$L$998,11,0)))","v":""}]
[107,"Roman Schotli",1970,"M","Hranice","CZ/M",18636,3,"","",null,null,{"$f":"IF(ISERROR(VLOOKUP(B113,'Zebrik W'!$B$7:$L$998,11,0)),\"\",IF(VLOOKUP(B113,'Zebrik W'!$B$7:$L$998,11,0)=0,\"--\",VLOOKUP(B113,'Zebrik W'!$B$7:$L$998,11,0)))","v":""}]
[108,"Jiri Slemr",1979,"M","Vysoké Mýto","CZ/C2",18611,3,"","",null,null,{"$f":"IF(ISERROR(VLOOKUP(B114,'Zebrik W'!$B$7:$L$998,11,0)),\"\",IF(VLOOKUP(B114,'Zebrik W'!$B$7:$L$998,11,0)=0,\"--\",VLOOKUP(B114,'Zebrik W'!$B$7:$L$998,11,0)))","v":""}]
[109,"Petr Babak",1973,"M","Hořice","CZ/C2",18531,3,"","",null,null,{"$f":"IF(ISERROR(VLOOKUP(B115,'Zebrik W'!$B$7:$L$998,11,0)),\"\",IF(VLOOKUP(B115,'Zebrik W'!$B$7:$L$998,11,0)=0,\"--\",VLOOKUP(B115,'Zebrik W'!$B$7:$L$998,11,0)))","v":""}]
[110,"Lukas Maly",1998,"M","Vysoké Mýto","CZ/C2",18368,3,"Junior v roce 2022","Junior v roce 2023",null,null,{"$f":"IF(ISERROR(VLOOKUP(B116,'Zebrik W'!$B$7:$L$998,11,0)),\"\",IF(VLOOKUP(B116,'Zebrik W'!$B$7:$L$998,11,0)=0,\"--\",VLOOKUP(B116,'Zebrik W'!$B$7:$L$998,11,0)))","v":""}]
[111,"Karel Horalek",1976,"M","Olomouc","CZ/M",18201,3,"","",null,null,{"$f":"IF(ISERROR(VLOOKUP(B117,'Zebrik W'!$B$7:$L$998,11,0)),\"\",IF(VLOOKUP(B117,'Zebrik W'!$B$7:$L$998,11,0)=0,\"--\",VLOOKUP(B117,'Zebrik W'!$B$7:$L$998,11,0)))","v":""}]
[112,"Miroslav Sklenar",1964,"M","Žamberk","CZ/C2",18183,3,"","",null,null,{"$f":"IF(ISERROR(VLOOKUP(B118,'Zebrik W'!$B$7:$L$998,11,0)),\"\",IF(VLOOKUP(B118,'Zebrik W'!$B$7:$L$998,11,0)=0,\"--\",VLOOKUP(B118,'Zebrik W'!$B$7:$L$998,11,0)))","v":""}]
[113,"Jiri Maier 99",1999,"M","Raná","CZ/C2",18136,3,"Junior v roce 2022","Junior v roce 2023",null,null,{"$f":"IF(ISERROR(VLOOKUP(B119,'Zebrik W'!$B$7:$L$998,11,0)),\"\",IF(VLOOKUP(B119,'Zebrik W'!$B$7:$L$998,11,0)=0,\"--\",VLOOKUP(B119,'Zebrik W'!$B$7:$L$998,11,0)))","v":""}]
[114,"Petr Fisar",1974,"M","Ústí nad Orlicí","CZ/C2",18005,3,"","",null,null,{"$f":"IF(ISERROR(VLOOKUP(B120,'Zebrik W'!$B$7:$L$998,11,0)),\"\",IF(VLOOKUP(B120,'Zebrik W'!$B$7:$L$998,11,0)=0,\"--\",VLOOKUP(B120,'Zebrik W'!$B$7:$L$998,11,0)))","v":""}]
[115,"Martin Picka",1974,"M","Tábor","CZ/C1",17995,3,"","",null,null,{"$f":"IF(ISERROR(VLOOKUP(B121,'Zebrik W'!$B$7:$L$998,11,0)),\"\",IF(VLOOKUP(B121,'Zebrik W'!$B$7:$L$998,11,0)=0,\"--\",VLOOKUP(B121,'Zebrik W'!$B$7:$L$998,11,0)))","v":""}]
[116,"Tomas Profeld",1964,"M","Jičín","CZ/C2",17976,3,"","",null,null,{"$f":"IF(ISERROR(VLOOKUP(B122,'Zebrik W'!$B$7:$L$998,11,0)),\"\",IF(VLOOKUP(B122,'Zebrik W'!$B$7:$L$998,11,0)=0,\"--\",VLOOKUP(B122,'Zebrik W'!$B$7:$L$998,11,0)))","v":""}]
[117,"Jiri Vondracek",1989,"M","Kladno","CZ/C1",17859,3,"","",null,null,{"$f":"IF(ISERROR(VLOOKUP(B123,'Zebrik W'!$B$7:$L$998,11,0)),\"\",IF(VLOOKUP(B123,'Zebrik W'!$B$7:$L$998,11,0)=0,\"--\",VLOOKUP(B123,'Zebrik W'!$B$7:$L$998,11,0)))","v":""}]
[118,"Jakub Hlavacek",1991,"M","Letkov","CZ/C1",17849,2,"","",null,null,{"$f":"IF(ISERROR(VLOOKUP(B124,'Zebrik W'!$B$7:$L$998,11,0)),\"\",IF(VLOOKUP(B124,'Zebrik W'!$B$7:$L$998,11,0)=0,\"--\",VLOOKUP(B124,'Zebrik W'!$B$7:$L$998,11,0)))","v":""}]
[119,"Jan Hruska",1988,"M","Tábor","CZ/C1",17812,3,"","",null,null,{"$f":"IF(ISERROR(VLOOKUP(B125,'Zebrik W'!$B$7:$L$998,11,0)),\"\",IF(VLOOKUP(B125,'Zebrik W'!$B$7:$L$998,11,0)=0,\"--\",VLOOKUP(B125,'Zebrik W'!$B$7:$L$998,11,0)))","v":""}]
[120,"Jan Hybner",1977,"M","Liberec","CZ/C2",17778,3,"","",null,null,{"$f":"IF(ISERROR(VLOOKUP(B126,'Zebrik W'!$B$7:$L$998,11,0)),\"\",IF(VLOOKUP(B126,'Zebrik W'!$B$7:$L$998,11,0)=0,\"--\",VLOOKUP(B126,'Zebrik W'!$B$7:$L$998,11,0)))","v":""}]
[121,"Vaclav Kult",1973,"M","Broumov","CZ/C2",17608,3,"","",null,null,{"$f":"IF(ISERROR(VLOOKUP(B127,'Zebrik W'!$B$7:$L$998,11,0)),\"\",IF(VLOOKUP(B127,'Zebrik W'!$B$7:$L$998,11,0)=0,\"--\",VLOOKUP(B127,'Zebrik W'!$B$7:$L$998,11,0)))","v":""}]
[122,"Lukas Volek",2004,"M","Hodkovice","CZ/C2",17601,3,"Junior v roce 2022","Junior v roce 2023",null,null,{"$f":"IF(ISERROR(VLOOKUP(B128,'Zebrik W'!$B$7:$L$998,11,0)),\"\",IF(VLOOKUP(B128,'Zebrik W'!$B$7:$L$998,11,0)=0,\"--\",VLOOKUP(B128,'Zebrik W'!$B$7:$L$998,11,0)))","v":""}]
[123,"Lukas Koukal",1991,"M","Letkov","CZ/C1",17527,2,"","",null,null,{"$f":"IF(ISERROR(VLOOKUP(B129,'Zebrik W'!$B$7:$L$998,11,0)),\"\",IF(VLOOKUP(B129,'Zebrik W'!$B$7:$L$998,11,0)=0,\"--\",VLOOKUP(B129,'Zebrik W'!$B$7:$L$998,11,0)))","v":""}]
[124,"Tomas Moravec",2000,"M","Žamberk","CZ/C2",17506,3,"Junior v roce 2022","Junior v roce 2023",null,null,{"$f":"IF(ISERROR(VLOOKUP(B130,'Zebrik W'!$B$7:$L$998,11,0)),\"\",IF(VLOOKUP(B130,'Zebrik W'!$B$7:$L$998,11,0)=0,\"--\",VLOOKUP(B130,'Zebrik W'!$B$7:$L$998,11,0)))","v":""}]
[125,"Petr Bartak",1984,"M","Letkov","CZ/C1",17445,3,"","",null,null,{"$f":"IF(ISERROR(VLOOKUP(B131,'Zebrik W'!$B$7:$L$998,11,0)),\"\",IF(VLOOKUP(B131,'Zebrik W'!$B$7:$L$998,11,0)=0,\"--\",VLOOKUP(B131,'Zebrik W'!$B$7:$L$998,11,0)))","v":""}]
[126,"Jan Pubec",1979,"M","Plzeň Bory","CZ/C1",17431,2,"","",null,null,{"$f":"IF(ISERROR(VLOOKUP(B132,'Zebrik W'!$B$7:$L$998,11,0)),\"\",IF(VLOOKUP(B132,'Zebrik W'!$B$7:$L$998,11,0)=0,\"--\",VLOOKUP(B132,'Zebrik W'!$B$7:$L$998,11,0)))","v":""}]
[127,"Tibor Hezina",2002,"M","Křižanov","CZ/M",17299,3,"Junior v roce 2022","Junior v roce 2023",null,null,{"$f":"IF(ISERROR(VLOOKUP(B133,'Zebrik W'!$B$7:$L$998,11,0)),\"\",IF(VLOOKUP(B133,'Zebrik W'!$B$7:$L$998,11,0)=0,\"--\",VLOOKUP(B133,'Zebrik W'!$B$7:$L$998,11,0)))","v":""}]
[128,"Pavel Derda",1952,"M","Dvůr Králové","CZ/C2",17207,3,"","",null,null,{"$f":"IF(ISERROR(VLOOKUP(B134,'Zebrik W'!$B$7:$L$998,11,0)),\"\",IF(VLOOKUP(B134,'Zebrik W'!$B$7:$L$998,11,0)=0,\"--\",VLOOKUP(B134,'Zebrik W'!$B$7:$L$998,11,0)))","v":""}]
[{"$f":"RANK(G135,G:G)","v":129},"Martin Zahalka",1987,"M","Staňkov","CZ/C1",16987,2,"","",null,null,{"$f":"IF(ISERROR(VLOOKUP(B135,'Zebrik W'!$B$7:$L$998,11,0)),\"\",IF(VLOOKUP(B135,'Zebrik W'!$B$7:$L$998,11,0)=0,\"--\",VLOOKUP(B135,'Zebrik W'!$B$7:$L$998,11,0)))","v":""}]
[130,"Jan Zezula",1979,"M","Letňany","CZ/C1",16887,3,"","",null,null,{"$f":"IF(ISERROR(VLOOKUP(B136,'Zebrik W'!$B$7:$L$998,11,0)),\"\",IF(VLOOKUP(B136,'Zebrik W'!$B$7:$L$998,11,0)=0,\"--\",VLOOKUP(B136,'Zebrik W'!$B$7:$L$998,11,0)))","v":""}]
[131,"Vojtech Hajek",1987,"M","Mladá Boleslav","CZ/C1",16820,3,"","",null,null,{"$f":"IF(ISERROR(VLOOKUP(B137,'Zebrik W'!$B$7:$L$998,11,0)),\"\",IF(VLOOKUP(B137,'Zebrik W'!$B$7:$L$998,11,0)=0,\"--\",VLOOKUP(B137,'Zebrik W'!$B$7:$L$998,11,0)))","v":""}]
[132,"Peter Kaspar",1980,"M","Vyškov","CZ/M",16813,3,"","",null,null,{"$f":"IF(ISERROR(VLOOKUP(B138,'Zebrik W'!$B$7:$L$998,11,0)),\"\",IF(VLOOKUP(B138,'Zebrik W'!$B$7:$L$998,11,0)=0,\"--\",VLOOKUP(B138,'Zebrik W'!$B$7:$L$998,11,0)))","v":""}]
[133,"Matej Krestes",1986,"M","Slaný","CZ/C1",16742,3,"","",null,null,{"$f":"IF(ISERROR(VLOOKUP(B139,'Zebrik W'!$B$7:$L$998,11,0)),\"\",IF(VLOOKUP(B139,'Zebrik W'!$B$7:$L$998,11,0)=0,\"--\",VLOOKUP(B139,'Zebrik W'!$B$7:$L$998,11,0)))","v":""}]
[134,"Jan Florian",1992,"M","Zbraslavice","CZ/C1",16690,3,"","",null,null,{"$f":"IF(ISERROR(VLOOKUP(B140,'Zebrik W'!$B$7:$L$998,11,0)),\"\",IF(VLOOKUP(B140,'Zebrik W'!$B$7:$L$998,11,0)=0,\"--\",VLOOKUP(B140,'Zebrik W'!$B$7:$L$998,11,0)))","v":""}]
[135,"Jaromir Vlk",1959,"M","Šumperk","CZ/M",16643,3,"","",null,null,{"$f":"IF(ISERROR(VLOOKUP(B141,'Zebrik W'!$B$7:$L$998,11,0)),\"\",IF(VLOOKUP(B141,'Zebrik W'!$B$7:$L$998,11,0)=0,\"--\",VLOOKUP(B141,'Zebrik W'!$B$7:$L$998,11,0)))","v":""}]
[136,"Petr Jiranek 91",1991,"M","Toužim","CZ/C1",16579,2,"","",null,null,{"$f":"IF(ISERROR(VLOOKUP(B142,'Zebrik W'!$B$7:$L$998,11,0)),\"\",IF(VLOOKUP(B142,'Zebrik W'!$B$7:$L$998,11,0)=0,\"--\",VLOOKUP(B142,'Zebrik W'!$B$7:$L$998,11,0)))","v":""}]
[137,"Kamil Sohr",1973,"M","Šumperk","CZ/M",16481,3,"","",null,null,{"$f":"IF(ISERROR(VLOOKUP(B143,'Zebrik W'!$B$7:$L$998,11,0)),\"\",IF(VLOOKUP(B143,'Zebrik W'!$B$7:$L$998,11,0)=0,\"--\",VLOOKUP(B143,'Zebrik W'!$B$7:$L$998,11,0)))","v":""}]
[138,"Dalibor Pek",1968,"M","Raná","CZ/C2",16409,3,"","",null,null,{"$f":"IF(ISERROR(VLOOKUP(B144,'Zebrik W'!$B$7:$L$998,11,0)),\"\",IF(VLOOKUP(B144,'Zebrik W'!$B$7:$L$998,11,0)=0,\"--\",VLOOKUP(B144,'Zebrik W'!$B$7:$L$998,11,0)))","v":""}]
[139,"Tomas Mezera",1973,"M","Raná","CZ/C2",16318,3,"","",null,null,{"$f":"IF(ISERROR(VLOOKUP(B145,'Zebrik W'!$B$7:$L$998,11,0)),\"\",IF(VLOOKUP(B145,'Zebrik W'!$B$7:$L$998,11,0)=0,\"--\",VLOOKUP(B145,'Zebrik W'!$B$7:$L$998,11,0)))","v":""}]
[140,"Jan Vozeh",1995,"M","Rakovník","CZ/C1",16317,3,"","",null,null,{"$f":"IF(ISERROR(VLOOKUP(B146,'Zebrik W'!$B$7:$L$998,11,0)),\"\",IF(VLOOKUP(B146,'Zebrik W'!$B$7:$L$998,11,0)=0,\"--\",VLOOKUP(B146,'Zebrik W'!$B$7:$L$998,11,0)))","v":""}]
[141,"Tomas Novak",1974,"M","Česká Lípa","CZ/C2",16297,3,"","",null,null,{"$f":"IF(ISERROR(VLOOKUP(B147,'Zebrik W'!$B$7:$L$998,11,0)),\"\",IF(VLOOKUP(B147,'Zebrik W'!$B$7:$L$998,11,0)=0,\"--\",VLOOKUP(B147,'Zebrik W'!$B$7:$L$998,11,0)))","v":""}]
[142,"Petr Panek",1975,"M","Dvůr Králové","CZ/C2",16035,3,"","",null,null,{"$f":"IF(ISERROR(VLOOKUP(B148,'Zebrik W'!$B$7:$L$998,11,0)),\"\",IF(VLOOKUP(B148,'Zebrik W'!$B$7:$L$998,11,0)=0,\"--\",VLOOKUP(B148,'Zebrik W'!$B$7:$L$998,11,0)))","v":""}]
[143,"Ladislav Prokes",1954,"M","Vrchlabí","CZ/C2",15980,3,"","",null,null,{"$f":"IF(ISERROR(VLOOKUP(B149,'Zebrik W'!$B$7:$L$998,11,0)),\"\",IF(VLOOKUP(B149,'Zebrik W'!$B$7:$L$998,11,0)=0,\"--\",VLOOKUP(B149,'Zebrik W'!$B$7:$L$998,11,0)))","v":""}]
[144,"Martin Cicvarek",1966,"M","Liberec","CZ/C2",15975,3,"","",null,null,{"$f":"IF(ISERROR(VLOOKUP(B150,'Zebrik W'!$B$7:$L$998,11,0)),\"\",IF(VLOOKUP(B150,'Zebrik W'!$B$7:$L$998,11,0)=0,\"--\",VLOOKUP(B150,'Zebrik W'!$B$7:$L$998,11,0)))","v":""}]
[145,"Jaromir Hendrych",1954,"M","Raná","CZ/C2",15943,3,"","",null,null,{"$f":"IF(ISERROR(VLOOKUP(B151,'Zebrik W'!$B$7:$L$998,11,0)),\"\",IF(VLOOKUP(B151,'Zebrik W'!$B$7:$L$998,11,0)=0,\"--\",VLOOKUP(B151,'Zebrik W'!$B$7:$L$998,11,0)))","v":""}]
[146,"Michal Drab",1969,"M","Letkov","CZ/C1",15621,2,"","",null,null,{"$f":"IF(ISERROR(VLOOKUP(B152,'Zebrik W'!$B$7:$L$998,11,0)),\"\",IF(VLOOKUP(B152,'Zebrik W'!$B$7:$L$998,11,0)=0,\"--\",VLOOKUP(B152,'Zebrik W'!$B$7:$L$998,11,0)))","v":""}]
[147,"Karel Benisek 76",1976,"M","Toužim","CZ/C1",15560,2,"","",null,null,{"$f":"IF(ISERROR(VLOOKUP(B153,'Zebrik W'!$B$7:$L$998,11,0)),\"\",IF(VLOOKUP(B153,'Zebrik W'!$B$7:$L$998,11,0)=0,\"--\",VLOOKUP(B153,'Zebrik W'!$B$7:$L$998,11,0)))","v":""}]
[148,"Jan Vavrin",1987,"M","Vysoké Mýto","CZ/C2",15528,2,"","",null,null,{"$f":"IF(ISERROR(VLOOKUP(B154,'Zebrik W'!$B$7:$L$998,11,0)),\"\",IF(VLOOKUP(B154,'Zebrik W'!$B$7:$L$998,11,0)=0,\"--\",VLOOKUP(B154,'Zebrik W'!$B$7:$L$998,11,0)))","v":""}]
[149,"Jan Beran",1999,"M","Kladno","CZ/C1",15469,3,"Junior v roce 2022","Junior v roce 2023",null,null,{"$f":"IF(ISERROR(VLOOKUP(B155,'Zebrik W'!$B$7:$L$998,11,0)),\"\",IF(VLOOKUP(B155,'Zebrik W'!$B$7:$L$998,11,0)=0,\"--\",VLOOKUP(B155,'Zebrik W'!$B$7:$L$998,11,0)))","v":""}]
[150,"Roman Jokl",1979,"M","Letkov","CZ/C1",15447,2,"","",null,null,{"$f":"IF(ISERROR(VLOOKUP(B156,'Zebrik W'!$B$7:$L$998,11,0)),\"\",IF(VLOOKUP(B156,'Zebrik W'!$B$7:$L$998,11,0)=0,\"--\",VLOOKUP(B156,'Zebrik W'!$B$7:$L$998,11,0)))","v":""}]
[151,"Jan Cibulka",2002,"M","Letňany","CZ/C1",15208,3,"Junior v roce 2022","Junior v roce 2023",null,null,{"$f":"IF(ISERROR(VLOOKUP(B157,'Zebrik W'!$B$7:$L$998,11,0)),\"\",IF(VLOOKUP(B157,'Zebrik W'!$B$7:$L$998,11,0)=0,\"--\",VLOOKUP(B157,'Zebrik W'!$B$7:$L$998,11,0)))","v":""}]
[152,"Josef Busek",1967,"M","Hosín","CZ/C1",14929,2,"","",null,null,{"$f":"IF(ISERROR(VLOOKUP(B158,'Zebrik W'!$B$7:$L$998,11,0)),\"\",IF(VLOOKUP(B158,'Zebrik W'!$B$7:$L$998,11,0)=0,\"--\",VLOOKUP(B158,'Zebrik W'!$B$7:$L$998,11,0)))","v":""}]
[153,"Jaromir Pauer",1974,"M","Hosín","CZ/C1",14906,2,"","",null,null,{"$f":"IF(ISERROR(VLOOKUP(B159,'Zebrik W'!$B$7:$L$998,11,0)),\"\",IF(VLOOKUP(B159,'Zebrik W'!$B$7:$L$998,11,0)=0,\"--\",VLOOKUP(B159,'Zebrik W'!$B$7:$L$998,11,0)))","v":""}]
[154,"Martin Kriz",1968,"M","Přibyslav","CZ/C2",14863,3,"","",null,null,{"$f":"IF(ISERROR(VLOOKUP(B160,'Zebrik W'!$B$7:$L$998,11,0)),\"\",IF(VLOOKUP(B160,'Zebrik W'!$B$7:$L$998,11,0)=0,\"--\",VLOOKUP(B160,'Zebrik W'!$B$7:$L$998,11,0)))","v":""}]
[155,"Tomas Jung",1950,"M","Zbraslavice","CZ/C1",14842,3,"","",null,null,{"$f":"IF(ISERROR(VLOOKUP(B161,'Zebrik W'!$B$7:$L$998,11,0)),\"\",IF(VLOOKUP(B161,'Zebrik W'!$B$7:$L$998,11,0)=0,\"--\",VLOOKUP(B161,'Zebrik W'!$B$7:$L$998,11,0)))","v":""}]
[156,"Vaclav Marel",1974,"M","Jaroměř","CZ/C2",14796,2,"","",null,null,{"$f":"IF(ISERROR(VLOOKUP(B162,'Zebrik W'!$B$7:$L$998,11,0)),\"\",IF(VLOOKUP(B162,'Zebrik W'!$B$7:$L$998,11,0)=0,\"--\",VLOOKUP(B162,'Zebrik W'!$B$7:$L$998,11,0)))","v":""}]
[157,"Oldrich Slavicek",1959,"M","Hronov","CZ/C2",14614,2,"","",null,null,{"$f":"IF(ISERROR(VLOOKUP(B163,'Zebrik W'!$B$7:$L$998,11,0)),\"\",IF(VLOOKUP(B163,'Zebrik W'!$B$7:$L$998,11,0)=0,\"--\",VLOOKUP(B163,'Zebrik W'!$B$7:$L$998,11,0)))","v":""}]
[158,"Krystof Mimra",1992,"M","Most","CZ/C2",14522,3,"","",null,null,{"$f":"IF(ISERROR(VLOOKUP(B164,'Zebrik W'!$B$7:$L$998,11,0)),\"\",IF(VLOOKUP(B164,'Zebrik W'!$B$7:$L$998,11,0)=0,\"--\",VLOOKUP(B164,'Zebrik W'!$B$7:$L$998,11,0)))","v":""}]
[159,"Martin Fric",1967,"M","Raná","CZ/C2",14461,3,"","",null,null,{"$f":"IF(ISERROR(VLOOKUP(B165,'Zebrik W'!$B$7:$L$998,11,0)),\"\",IF(VLOOKUP(B165,'Zebrik W'!$B$7:$L$998,11,0)=0,\"--\",VLOOKUP(B165,'Zebrik W'!$B$7:$L$998,11,0)))","v":""}]
[160,"Jiri Holcman",1976,"M","Hosín","CZ/C1",14414,2,"","",null,null,{"$f":"IF(ISERROR(VLOOKUP(B166,'Zebrik W'!$B$7:$L$998,11,0)),\"\",IF(VLOOKUP(B166,'Zebrik W'!$B$7:$L$998,11,0)=0,\"--\",VLOOKUP(B166,'Zebrik W'!$B$7:$L$998,11,0)))","v":""}]
[161,"Jan Pazour",1979,"M","Dvůr Králové","CZ/C2",14374,3,"","",null,null,{"$f":"IF(ISERROR(VLOOKUP(B167,'Zebrik W'!$B$7:$L$998,11,0)),\"\",IF(VLOOKUP(B167,'Zebrik W'!$B$7:$L$998,11,0)=0,\"--\",VLOOKUP(B167,'Zebrik W'!$B$7:$L$998,11,0)))","v":""}]
[162,"Martin Urban",1971,"M","Frýdlant","CZ/M",14235,2,"","",null,null,{"$f":"IF(ISERROR(VLOOKUP(B168,'Zebrik W'!$B$7:$L$998,11,0)),\"\",IF(VLOOKUP(B168,'Zebrik W'!$B$7:$L$998,11,0)=0,\"--\",VLOOKUP(B168,'Zebrik W'!$B$7:$L$998,11,0)))","v":""}]
[163,"Katerina Vojtova",1983,"F","Slaný","CZ/C1",14143,3,"","",null,null,{"$f":"IF(ISERROR(VLOOKUP(B169,'Zebrik W'!$B$7:$L$998,11,0)),\"\",IF(VLOOKUP(B169,'Zebrik W'!$B$7:$L$998,11,0)=0,\"--\",VLOOKUP(B169,'Zebrik W'!$B$7:$L$998,11,0)))","v":"--"}]
[164,"David Tejnora",1982,"M","Jaroměř","CZ/C2",14065,2,"","",null,null,{"$f":"IF(ISERROR(VLOOKUP(B170,'Zebrik W'!$B$7:$L$998,11,0)),\"\",IF(VLOOKUP(B170,'Zebrik W'!$B$7:$L$998,11,0)=0,\"--\",VLOOKUP(B170,'Zebrik W'!$B$7:$L$998,11,0)))","v":""}]
[165,"Vaclav Svoboda",1970,"M","Letkov","CZ/C1",14028,3,"","",null,null,{"$f":"IF(ISERROR(VLOOKUP(B171,'Zebrik W'!$B$7:$L$998,11,0)),\"\",IF(VLOOKUP(B171,'Zebrik W'!$B$7:$L$998,11,0)=0,\"--\",VLOOKUP(B171,'Zebrik W'!$B$7:$L$998,11,0)))","v":""}]
[166,"Michael Fik",1972,"M","Strakonice","CZ/C1",13994,2,{"$f":"IF(C172=\"(prázdné)\",\"\",IF(($I$4-C172)>25,\"\",\"Junior v roce \"&$I$4))","v":""},{"$f":"IF(C172=\"(prázdné)\",\"\",IF(($J$4-C172)>25,\"\",\"Junior v roce \"&$J$4))","v":""},null,null,{"$f":"IF(ISERROR(VLOOKUP(B172,'Zebrik W'!$B$7:$L$998,11,0)),\"\",IF(VLOOKUP(B172,'Zebrik W'!$B$7:$L$998,11,0)=0,\"--\",VLOOKUP(B172,'Zebrik W'!$B$7:$L$998,11,0)))","v":""}]
[167,"Vojtech Pivonka",1976,"M","Vrchlabí","CZ/C2",13991,2,"","",null,null,{"$f":"IF(ISERROR(VLOOKUP(B173,'Zebrik W'!$B$7:$L$998,11,0)),\"\",IF(VLOOKUP(B173,'Zebrik W'!$B$7:$L$998,11,0)=0,\"--\",VLOOKUP(B173,'Zebrik W'!$B$7:$L$998,11,0)))","v":""}]
[168,"Oldrich Bartonik",1961,"M","Luhačovice","CZ/M",13982,3,"","",null,null,{"$f":"IF(ISERROR(VLOOKUP(B174,'Zebrik W'!$B$7:$L$998,11,0)),\"\",IF(VLOOKUP(B174,'Zebrik W'!$B$7:$L$998,11,0)=0,\"--\",VLOOKUP(B174,'Zebrik W'!$B$7:$L$998,11,0)))","v":""}]
[169,"Jakub Kmosek",1978,"M","Zbraslavice","CZ/C1",13976,2,"","",null,null,{"$f":"IF(ISERROR(VLOOKUP(B175,'Zebrik W'!$B$7:$L$998,11,0)),\"\",IF(VLOOKUP(B175,'Zebrik W'!$B$7:$L$998,11,0)=0,\"--\",VLOOKUP(B175,'Zebrik W'!$B$7:$L$998,11,0)))","v":""}]
[170,"Miloslav Hulmak",1963,"M","Hosín","CZ/C1",13879,2,"","",null,null,{"$f":"IF(ISERROR(VLOOKUP(B176,'Zebrik W'!$B$7:$L$998,11,0)),\"\",IF(VLOOKUP(B176,'Zebrik W'!$B$7:$L$998,11,0)=0,\"--\",VLOOKUP(B176,'Zebrik W'!$B$7:$L$998,11,0)))","v":""}]
[171,"Petr Jiranek 63",1962,"M","Toužim","CZ/C1",13856,3,"","",null,null,{"$f":"IF(ISERROR(VLOOKUP(B177,'Zebrik W'!$B$7:$L$998,11,0)),\"\",IF(VLOOKUP(B177,'Zebrik W'!$B$7:$L$998,11,0)=0,\"--\",VLOOKUP(B177,'Zebrik W'!$B$7:$L$998,11,0)))","v":""}]
[172,"Lukas Plocek",1990,"M","Mladá Boleslav","CZ/C1",13830,3,"","",null,null,{"$f":"IF(ISERROR(VLOOKUP(B178,'Zebrik W'!$B$7:$L$998,11,0)),\"\",IF(VLOOKUP(B178,'Zebrik W'!$B$7:$L$998,11,0)=0,\"--\",VLOOKUP(B178,'Zebrik W'!$B$7:$L$998,11,0)))","v":""}]
[173,"Juraj Dudas",1990,"M","Křižanov","CZ/M",13806,3,"","",null,null,{"$f":"IF(ISERROR(VLOOKUP(B179,'Zebrik W'!$B$7:$L$998,11,0)),\"\",IF(VLOOKUP(B179,'Zebrik W'!$B$7:$L$998,11,0)=0,\"--\",VLOOKUP(B179,'Zebrik W'!$B$7:$L$998,11,0)))","v":""}]
[174,"Jaroslav Sima",1972,"M","Chomutov","CZ/C2",13799,3,"","",null,null,{"$f":"IF(ISERROR(VLOOKUP(B180,'Zebrik W'!$B$7:$L$998,11,0)),\"\",IF(VLOOKUP(B180,'Zebrik W'!$B$7:$L$998,11,0)=0,\"--\",VLOOKUP(B180,'Zebrik W'!$B$7:$L$998,11,0)))","v":""}]
[175,"Tomas Jilek",1995,"M","Raná","CZ/C2",13740,2,"","",null,null,{"$f":"IF(ISERROR(VLOOKUP(B181,'Zebrik W'!$B$7:$L$998,11,0)),\"\",IF(VLOOKUP(B181,'Zebrik W'!$B$7:$L$998,11,0)=0,\"--\",VLOOKUP(B181,'Zebrik W'!$B$7:$L$998,11,0)))","v":""}]
[176,"Jakub Malik",1999,"M","Letňany","CZ/C1",13725,3,"Junior v roce 2022","Junior v roce 2023",null,null,{"$f":"IF(ISERROR(VLOOKUP(B182,'Zebrik W'!$B$7:$L$998,11,0)),\"\",IF(VLOOKUP(B182,'Zebrik W'!$B$7:$L$998,11,0)=0,\"--\",VLOOKUP(B182,'Zebrik W'!$B$7:$L$998,11,0)))","v":""}]
[177,"Vladimir Abraham",1962,"M","Raná","CZ/C2",13718,2,"","",null,null,{"$f":"IF(ISERROR(VLOOKUP(B183,'Zebrik W'!$B$7:$L$998,11,0)),\"\",IF(VLOOKUP(B183,'Zebrik W'!$B$7:$L$998,11,0)=0,\"--\",VLOOKUP(B183,'Zebrik W'!$B$7:$L$998,11,0)))","v":""}]
[178,"Roman Cerny",1971,"M","Hranice","CZ/M",13712,3,"","",null,null,{"$f":"IF(ISERROR(VLOOKUP(B184,'Zebrik W'!$B$7:$L$998,11,0)),\"\",IF(VLOOKUP(B184,'Zebrik W'!$B$7:$L$998,11,0)=0,\"--\",VLOOKUP(B184,'Zebrik W'!$B$7:$L$998,11,0)))","v":""}]
[179,"Michal Janda",1972,"M","Broumov","CZ/C2",13701,2,"","",null,null,{"$f":"IF(ISERROR(VLOOKUP(B185,'Zebrik W'!$B$7:$L$998,11,0)),\"\",IF(VLOOKUP(B185,'Zebrik W'!$B$7:$L$998,11,0)=0,\"--\",VLOOKUP(B185,'Zebrik W'!$B$7:$L$998,11,0)))","v":""}]
[180,"Jindrich Hruska",1986,"M","Soběslav","CZ/C1",13607,2,"","",null,null,{"$f":"IF(ISERROR(VLOOKUP(B186,'Zebrik W'!$B$7:$L$998,11,0)),\"\",IF(VLOOKUP(B186,'Zebrik W'!$B$7:$L$998,11,0)=0,\"--\",VLOOKUP(B186,'Zebrik W'!$B$7:$L$998,11,0)))","v":""}]
[181,"Slavomir Piskaty 84",1984,"M","Kunovice","CZ/M",13599,2,"","",null,null,{"$f":"IF(ISERROR(VLOOKUP(B187,'Zebrik W'!$B$7:$L$998,11,0)),\"\",IF(VLOOKUP(B187,'Zebrik W'!$B$7:$L$998,11,0)=0,\"--\",VLOOKUP(B187,'Zebrik W'!$B$7:$L$998,11,0)))","v":""}]
[182,"Radek Tobolka",1977,"M","Jičín","CZ/C2",13551,2,"","",null,null,{"$f":"IF(ISERROR(VLOOKUP(B188,'Zebrik W'!$B$7:$L$998,11,0)),\"\",IF(VLOOKUP(B188,'Zebrik W'!$B$7:$L$998,11,0)=0,\"--\",VLOOKUP(B188,'Zebrik W'!$B$7:$L$998,11,0)))","v":""}]
[183,"Lukas Petrzela",1987,"M","Olomouc","CZ/M",13485,3,"","",null,null,{"$f":"IF(ISERROR(VLOOKUP(B189,'Zebrik W'!$B$7:$L$998,11,0)),\"\",IF(VLOOKUP(B189,'Zebrik W'!$B$7:$L$998,11,0)=0,\"--\",VLOOKUP(B189,'Zebrik W'!$B$7:$L$998,11,0)))","v":""}]
[184,"Michal Hemrle",1974,"M","Česká Lípa","CZ/C2",13418,3,"","",null,null,{"$f":"IF(ISERROR(VLOOKUP(B190,'Zebrik W'!$B$7:$L$998,11,0)),\"\",IF(VLOOKUP(B190,'Zebrik W'!$B$7:$L$998,11,0)=0,\"--\",VLOOKUP(B190,'Zebrik W'!$B$7:$L$998,11,0)))","v":""}]
[185,"Pavel Haluza",1966,"M","Prostějov","CZ/M",13412,3,"","",null,null,{"$f":"IF(ISERROR(VLOOKUP(B191,'Zebrik W'!$B$7:$L$998,11,0)),\"\",IF(VLOOKUP(B191,'Zebrik W'!$B$7:$L$998,11,0)=0,\"--\",VLOOKUP(B191,'Zebrik W'!$B$7:$L$998,11,0)))","v":""}]
[186,"Karel Mares",1974,"M","Slaný","CZ/C1",13408,2,"","",null,null,{"$f":"IF(ISERROR(VLOOKUP(B192,'Zebrik W'!$B$7:$L$998,11,0)),\"\",IF(VLOOKUP(B192,'Zebrik W'!$B$7:$L$998,11,0)=0,\"--\",VLOOKUP(B192,'Zebrik W'!$B$7:$L$998,11,0)))","v":""}]
[187,"Ivan Harasta 98",1998,"M","Toužim","CZ/C1",13271,2,"Junior v roce 2022","Junior v roce 2023",null,null,{"$f":"IF(ISERROR(VLOOKUP(B193,'Zebrik W'!$B$7:$L$998,11,0)),\"\",IF(VLOOKUP(B193,'Zebrik W'!$B$7:$L$998,11,0)=0,\"--\",VLOOKUP(B193,'Zebrik W'!$B$7:$L$998,11,0)))","v":""}]
[188,"Tomas Talanda",1988,"M","Křižanov","CZ/M",12980,2,"","",null,null,{"$f":"IF(ISERROR(VLOOKUP(B194,'Zebrik W'!$B$7:$L$998,11,0)),\"\",IF(VLOOKUP(B194,'Zebrik W'!$B$7:$L$998,11,0)=0,\"--\",VLOOKUP(B194,'Zebrik W'!$B$7:$L$998,11,0)))","v":""}]
[189,"Tomas Prikryl",1973,"M","Vyškov","CZ/M",12970,2,"","",null,null,{"$f":"IF(ISERROR(VLOOKUP(B195,'Zebrik W'!$B$7:$L$998,11,0)),\"\",IF(VLOOKUP(B195,'Zebrik W'!$B$7:$L$998,11,0)=0,\"--\",VLOOKUP(B195,'Zebrik W'!$B$7:$L$998,11,0)))","v":""}]
[190,"Jana Mezerova",1975,"F","Raná","CZ/C2",12654,3,"","",null,null,{"$f":"IF(ISERROR(VLOOKUP(B196,'Zebrik W'!$B$7:$L$998,11,0)),\"\",IF(VLOOKUP(B196,'Zebrik W'!$B$7:$L$998,11,0)=0,\"--\",VLOOKUP(B196,'Zebrik W'!$B$7:$L$998,11,0)))","v":"--"}]
[191,"Miroslav Stepan",1955,"M","Žamberk","CZ/C2",12646,2,"","",null,null,{"$f":"IF(ISERROR(VLOOKUP(B197,'Zebrik W'!$B$7:$L$998,11,0)),\"\",IF(VLOOKUP(B197,'Zebrik W'!$B$7:$L$998,11,0)=0,\"--\",VLOOKUP(B197,'Zebrik W'!$B$7:$L$998,11,0)))","v":""}]
[192,"Jaroslav Hot",1965,"M","Toužim","CZ/C1",12586,2,"","",null,null,{"$f":"IF(ISERROR(VLOOKUP(B198,'Zebrik W'!$B$7:$L$998,11,0)),\"\",IF(VLOOKUP(B198,'Zebrik W'!$B$7:$L$998,11,0)=0,\"--\",VLOOKUP(B198,'Zebrik W'!$B$7:$L$998,11,0)))","v":""}]
[{"$f":"RANK(G199,G:G)","v":193},"Martin Zvonicek",1972,"M","Raná","CZ/C2",12559,2,"","",null,null,{"$f":"IF(ISERROR(VLOOKUP(B199,'Zebrik W'!$B$7:$L$998,11,0)),\"\",IF(VLOOKUP(B199,'Zebrik W'!$B$7:$L$998,11,0)=0,\"--\",VLOOKUP(B199,'Zebrik W'!$B$7:$L$998,11,0)))","v":""}]
[194,"Linda Vasatova",1990,"F","Mladá Boleslav","CZ/C1",12544,3,"","",null,null,{"$f":"IF(ISERROR(VLOOKUP(B200,'Zebrik W'!$B$7:$L$998,11,0)),\"\",IF(VLOOKUP(B200,'Zebrik W'!$B$7:$L$998,11,0)=0,\"--\",VLOOKUP(B200,'Zebrik W'!$B$7:$L$998,11,0)))","v":"--"}]
[195,"Pavel Liska",1965,"M","Roudnice","CZ/C2",12494,2,"","",null,null,{"$f":"IF(ISERROR(VLOOKUP(B201,'Zebrik W'!$B$7:$L$998,11,0)),\"\",IF(VLOOKUP(B201,'Zebrik W'!$B$7:$L$998,11,0)=0,\"--\",VLOOKUP(B201,'Zebrik W'!$B$7:$L$998,11,0)))","v":""}]
[196,"Josef Hlusek",1993,"M","Kunovice","CZ/M",12414,3,"","",null,null,{"$f":"IF(ISERROR(VLOOKUP(B202,'Zebrik W'!$B$7:$L$998,11,0)),\"\",IF(VLOOKUP(B202,'Zebrik W'!$B$7:$L$998,11,0)=0,\"--\",VLOOKUP(B202,'Zebrik W'!$B$7:$L$998,11,0)))","v":""}]
[197,"Vojtech Kostejn",1974,"M","Česká Lípa","CZ/C2",12370,3,"","",null,null,{"$f":"IF(ISERROR(VLOOKUP(B203,'Zebrik W'!$B$7:$L$998,11,0)),\"\",IF(VLOOKUP(B203,'Zebrik W'!$B$7:$L$998,11,0)=0,\"--\",VLOOKUP(B203,'Zebrik W'!$B$7:$L$998,11,0)))","v":""}]
[198,"Frantisek Myska",1968,"M","Most","CZ/C2",12331,2,"","",null,null,{"$f":"IF(ISERROR(VLOOKUP(B204,'Zebrik W'!$B$7:$L$998,11,0)),\"\",IF(VLOOKUP(B204,'Zebrik W'!$B$7:$L$998,11,0)=0,\"--\",VLOOKUP(B204,'Zebrik W'!$B$7:$L$998,11,0)))","v":""}]
[199,"Jiri Prochazka",1971,"M","Toužim","CZ/C1",12304,2,"","",null,null,{"$f":"IF(ISERROR(VLOOKUP(B205,'Zebrik W'!$B$7:$L$998,11,0)),\"\",IF(VLOOKUP(B205,'Zebrik W'!$B$7:$L$998,11,0)=0,\"--\",VLOOKUP(B205,'Zebrik W'!$B$7:$L$998,11,0)))","v":""}]
[200,"Matous Schmidt",1981,"M","Letňany","CZ/C1",12161,2,"","",null,null,{"$f":"IF(ISERROR(VLOOKUP(B206,'Zebrik W'!$B$7:$L$998,11,0)),\"\",IF(VLOOKUP(B206,'Zebrik W'!$B$7:$L$998,11,0)=0,\"--\",VLOOKUP(B206,'Zebrik W'!$B$7:$L$998,11,0)))","v":""}]
[201,"Tomas Ditrt",1969,"M","Podhořany","CZ/C2",12103,3,"","",null,null,{"$f":"IF(ISERROR(VLOOKUP(B207,'Zebrik W'!$B$7:$L$998,11,0)),\"\",IF(VLOOKUP(B207,'Zebrik W'!$B$7:$L$998,11,0)=0,\"--\",VLOOKUP(B207,'Zebrik W'!$B$7:$L$998,11,0)))","v":""}]
[202,"Marek Pechanec",1970,"M","Luhačovice","CZ/M",12041,2,"","",null,null,{"$f":"IF(ISERROR(VLOOKUP(B208,'Zebrik W'!$B$7:$L$998,11,0)),\"\",IF(VLOOKUP(B208,'Zebrik W'!$B$7:$L$998,11,0)=0,\"--\",VLOOKUP(B208,'Zebrik W'!$B$7:$L$998,11,0)))","v":""}]
[203,"Eduard Svoboda",1957,"M","Raná","CZ/C2",12030,2,"","",null,null,{"$f":"IF(ISERROR(VLOOKUP(B209,'Zebrik W'!$B$7:$L$998,11,0)),\"\",IF(VLOOKUP(B209,'Zebrik W'!$B$7:$L$998,11,0)=0,\"--\",VLOOKUP(B209,'Zebrik W'!$B$7:$L$998,11,0)))","v":""}]
[204,"Petr Rygl",1966,"M","Jičín","CZ/C2",12024,2,"","",null,null,{"$f":"IF(ISERROR(VLOOKUP(B210,'Zebrik W'!$B$7:$L$998,11,0)),\"\",IF(VLOOKUP(B210,'Zebrik W'!$B$7:$L$998,11,0)=0,\"--\",VLOOKUP(B210,'Zebrik W'!$B$7:$L$998,11,0)))","v":""}]
[205,"Jan Pokluda",1973,"M","Šumperk","CZ/M",11957,3,"","",null,null,{"$f":"IF(ISERROR(VLOOKUP(B211,'Zebrik W'!$B$7:$L$998,11,0)),\"\",IF(VLOOKUP(B211,'Zebrik W'!$B$7:$L$998,11,0)=0,\"--\",VLOOKUP(B211,'Zebrik W'!$B$7:$L$998,11,0)))","v":""}]
[206,"Marek Pechar",1995,"M","Chrudim","CZ/C2",11953,3,"","",null,null,{"$f":"IF(ISERROR(VLOOKUP(B212,'Zebrik W'!$B$7:$L$998,11,0)),\"\",IF(VLOOKUP(B212,'Zebrik W'!$B$7:$L$998,11,0)=0,\"--\",VLOOKUP(B212,'Zebrik W'!$B$7:$L$998,11,0)))","v":""}]
[207,"Martin Soucek",1975,"M","Mladá Boleslav","CZ/C1",11939,2,"","",null,null,{"$f":"IF(ISERROR(VLOOKUP(B213,'Zebrik W'!$B$7:$L$998,11,0)),\"\",IF(VLOOKUP(B213,'Zebrik W'!$B$7:$L$998,11,0)=0,\"--\",VLOOKUP(B213,'Zebrik W'!$B$7:$L$998,11,0)))","v":""}]
[208,"Jan Sustr 76",1976,"M","Raná","CZ/C2",11848,3,"","",null,null,{"$f":"IF(ISERROR(VLOOKUP(B214,'Zebrik W'!$B$7:$L$998,11,0)),\"\",IF(VLOOKUP(B214,'Zebrik W'!$B$7:$L$998,11,0)=0,\"--\",VLOOKUP(B214,'Zebrik W'!$B$7:$L$998,11,0)))","v":""}]
[209,"Marek Svancara",1976,"M","GAC Benešov","CZ/C1",11828,2,"","",null,null,{"$f":"IF(ISERROR(VLOOKUP(B215,'Zebrik W'!$B$7:$L$998,11,0)),\"\",IF(VLOOKUP(B215,'Zebrik W'!$B$7:$L$998,11,0)=0,\"--\",VLOOKUP(B215,'Zebrik W'!$B$7:$L$998,11,0)))","v":""}]
[210,"Michal Coufal",1999,"M","Jičín","CZ/C2",11793,3,"Junior v roce 2022","Junior v roce 2023",null,null,{"$f":"IF(ISERROR(VLOOKUP(B216,'Zebrik W'!$B$7:$L$998,11,0)),\"\",IF(VLOOKUP(B216,'Zebrik W'!$B$7:$L$998,11,0)=0,\"--\",VLOOKUP(B216,'Zebrik W'!$B$7:$L$998,11,0)))","v":""}]
[211,"Zbynek Bican",1961,"M","Raná","CZ/C2",11710,3,"","",null,null,{"$f":"IF(ISERROR(VLOOKUP(B217,'Zebrik W'!$B$7:$L$998,11,0)),\"\",IF(VLOOKUP(B217,'Zebrik W'!$B$7:$L$998,11,0)=0,\"--\",VLOOKUP(B217,'Zebrik W'!$B$7:$L$998,11,0)))","v":""}]
[212,"Pavel Trojan",1960,"M","Chrudim","CZ/C2",11679,2,"","",null,null,{"$f":"IF(ISERROR(VLOOKUP(B218,'Zebrik W'!$B$7:$L$998,11,0)),\"\",IF(VLOOKUP(B218,'Zebrik W'!$B$7:$L$998,11,0)=0,\"--\",VLOOKUP(B218,'Zebrik W'!$B$7:$L$998,11,0)))","v":""}]
[213,"Ales Holoubek",1966,"M","Jičín","CZ/C2",11646,2,"","",null,null,{"$f":"IF(ISERROR(VLOOKUP(B219,'Zebrik W'!$B$7:$L$998,11,0)),\"\",IF(VLOOKUP(B219,'Zebrik W'!$B$7:$L$998,11,0)=0,\"--\",VLOOKUP(B219,'Zebrik W'!$B$7:$L$998,11,0)))","v":""}]
[214,"Sarka Lochova",1966,"F","Šumperk","CZ/M",11576,3,"","",null,null,{"$f":"IF(ISERROR(VLOOKUP(B220,'Zebrik W'!$B$7:$L$998,11,0)),\"\",IF(VLOOKUP(B220,'Zebrik W'!$B$7:$L$998,11,0)=0,\"--\",VLOOKUP(B220,'Zebrik W'!$B$7:$L$998,11,0)))","v":"--"}]
[215,"Libor Bednarik",1972,"M","Kunovice","CZ/M",11528,2,"","",null,null,{"$f":"IF(ISERROR(VLOOKUP(B221,'Zebrik W'!$B$7:$L$998,11,0)),\"\",IF(VLOOKUP(B221,'Zebrik W'!$B$7:$L$998,11,0)=0,\"--\",VLOOKUP(B221,'Zebrik W'!$B$7:$L$998,11,0)))","v":""}]
[216,"Vaclav Sehnal",1962,"M","Kolín","CZ/C1",11494,3,"","",null,null,{"$f":"IF(ISERROR(VLOOKUP(B222,'Zebrik W'!$B$7:$L$998,11,0)),\"\",IF(VLOOKUP(B222,'Zebrik W'!$B$7:$L$998,11,0)=0,\"--\",VLOOKUP(B222,'Zebrik W'!$B$7:$L$998,11,0)))","v":""}]
[217,"Petr Rozhon",1972,"M","Hosín","CZ/C1",11467,2,"","",null,null,{"$f":"IF(ISERROR(VLOOKUP(B223,'Zebrik W'!$B$7:$L$998,11,0)),\"\",IF(VLOOKUP(B223,'Zebrik W'!$B$7:$L$998,11,0)=0,\"--\",VLOOKUP(B223,'Zebrik W'!$B$7:$L$998,11,0)))","v":""}]
[218,"Ilja Kopacek",1943,"M","Jičín","CZ/C2",11454,2,"","",null,null,{"$f":"IF(ISERROR(VLOOKUP(B224,'Zebrik W'!$B$7:$L$998,11,0)),\"\",IF(VLOOKUP(B224,'Zebrik W'!$B$7:$L$998,11,0)=0,\"--\",VLOOKUP(B224,'Zebrik W'!$B$7:$L$998,11,0)))","v":""}]
[219,"Albrecht Beat",1953,"M","Šumperk","CZ/M",11436,3,"","",null,null,{"$f":"IF(ISERROR(VLOOKUP(B225,'Zebrik W'!$B$7:$L$998,11,0)),\"\",IF(VLOOKUP(B225,'Zebrik W'!$B$7:$L$998,11,0)=0,\"--\",VLOOKUP(B225,'Zebrik W'!$B$7:$L$998,11,0)))","v":""}]
[220,"Jan Oscatka",1990,"M","Jaroměř","CZ/C2",11414,2,"","",null,null,{"$f":"IF(ISERROR(VLOOKUP(B226,'Zebrik W'!$B$7:$L$998,11,0)),\"\",IF(VLOOKUP(B226,'Zebrik W'!$B$7:$L$998,11,0)=0,\"--\",VLOOKUP(B226,'Zebrik W'!$B$7:$L$998,11,0)))","v":""}]
[221,"Roman Lanzendorf",1964,"M","Letkov","CZ/C1",11191,2,"","",null,null,{"$f":"IF(ISERROR(VLOOKUP(B227,'Zebrik W'!$B$7:$L$998,11,0)),\"\",IF(VLOOKUP(B227,'Zebrik W'!$B$7:$L$998,11,0)=0,\"--\",VLOOKUP(B227,'Zebrik W'!$B$7:$L$998,11,0)))","v":""}]
[222,"Jan Smekal",1976,"M","Zbraslavice","CZ/C1",11137,2,"","",null,null,{"$f":"IF(ISERROR(VLOOKUP(B228,'Zebrik W'!$B$7:$L$998,11,0)),\"\",IF(VLOOKUP(B228,'Zebrik W'!$B$7:$L$998,11,0)=0,\"--\",VLOOKUP(B228,'Zebrik W'!$B$7:$L$998,11,0)))","v":""}]
[223,"Jan Cerveny",1984,"M","Jaroměř","CZ/C2",11032,2,"","",null,null,{"$f":"IF(ISERROR(VLOOKUP(B229,'Zebrik W'!$B$7:$L$998,11,0)),\"\",IF(VLOOKUP(B229,'Zebrik W'!$B$7:$L$998,11,0)=0,\"--\",VLOOKUP(B229,'Zebrik W'!$B$7:$L$998,11,0)))","v":""}]
[224,"Eva Cerna",1964,"F","Příbram","CZ/C1",10990,2,"","",null,null,{"$f":"IF(ISERROR(VLOOKUP(B230,'Zebrik W'!$B$7:$L$998,11,0)),\"\",IF(VLOOKUP(B230,'Zebrik W'!$B$7:$L$998,11,0)=0,\"--\",VLOOKUP(B230,'Zebrik W'!$B$7:$L$998,11,0)))","v":"--"}]
[225,"Martin Valenta",1969,"M","Toužim","CZ/C1",10978,2,"","",null,null,{"$f":"IF(ISERROR(VLOOKUP(B231,'Zebrik W'!$B$7:$L$998,11,0)),\"\",IF(VLOOKUP(B231,'Zebrik W'!$B$7:$L$998,11,0)=0,\"--\",VLOOKUP(B231,'Zebrik W'!$B$7:$L$998,11,0)))","v":""}]
[226,"Karel Policky",1950,"M","Kolín","CZ/C1",10974,3,"","",null,null,{"$f":"IF(ISERROR(VLOOKUP(B232,'Zebrik W'!$B$7:$L$998,11,0)),\"\",IF(VLOOKUP(B232,'Zebrik W'!$B$7:$L$998,11,0)=0,\"--\",VLOOKUP(B232,'Zebrik W'!$B$7:$L$998,11,0)))","v":""}]
[227,"Michal Maly",1982,"M","Broumov","CZ/C2",10895,2,"","",null,null,{"$f":"IF(ISERROR(VLOOKUP(B233,'Zebrik W'!$B$7:$L$998,11,0)),\"\",IF(VLOOKUP(B233,'Zebrik W'!$B$7:$L$998,11,0)=0,\"--\",VLOOKUP(B233,'Zebrik W'!$B$7:$L$998,11,0)))","v":""}]
[228,"Vladimir Prihoda",1953,"M","Kralupy","CZ/C1",10844,2,"","",null,null,{"$f":"IF(ISERROR(VLOOKUP(B234,'Zebrik W'!$B$7:$L$998,11,0)),\"\",IF(VLOOKUP(B234,'Zebrik W'!$B$7:$L$998,11,0)=0,\"--\",VLOOKUP(B234,'Zebrik W'!$B$7:$L$998,11,0)))","v":""}]
[229,"Slavomir Tanglmajer",1966,"M","Chomutov","CZ/C2",10792,3,"","",null,null,{"$f":"IF(ISERROR(VLOOKUP(B235,'Zebrik W'!$B$7:$L$998,11,0)),\"\",IF(VLOOKUP(B235,'Zebrik W'!$B$7:$L$998,11,0)=0,\"--\",VLOOKUP(B235,'Zebrik W'!$B$7:$L$998,11,0)))","v":""}]
[230,"Yvona Vyhnankova",1963,"F","Olomouc","CZ/M",10609,3,{"$f":"IF(C236=\"(prázdné)\",\"\",IF(($I$4-C236)>25,\"\",\"Junior v roce \"&$I$4))","v":""},{"$f":"IF(C236=\"(prázdné)\",\"\",IF(($J$4-C236)>25,\"\",\"Junior v roce \"&$J$4))","v":""},null,null,{"$f":"IF(ISERROR(VLOOKUP(B236,'Zebrik W'!$B$7:$L$998,11,0)),\"\",IF(VLOOKUP(B236,'Zebrik W'!$B$7:$L$998,11,0)=0,\"--\",VLOOKUP(B236,'Zebrik W'!$B$7:$L$998,11,0)))","v":"--"}]
[231,"Petr Kyzivat",1970,"M","Jičín","CZ/C2",10563,2,"","",null,null,{"$f":"IF(ISERROR(VLOOKUP(B237,'Zebrik W'!$B$7:$L$998,11,0)),\"\",IF(VLOOKUP(B237,'Zebrik W'!$B$7:$L$998,11,0)=0,\"--\",VLOOKUP(B237,'Zebrik W'!$B$7:$L$998,11,0)))","v":""}]
[232,"Ivan Kuzelka",1945,"M","Havlíčkův Brod","CZ/C2",10526,2,"","",null,null,{"$f":"IF(ISERROR(VLOOKUP(B238,'Zebrik W'!$B$7:$L$998,11,0)),\"\",IF(VLOOKUP(B238,'Zebrik W'!$B$7:$L$998,11,0)=0,\"--\",VLOOKUP(B238,'Zebrik W'!$B$7:$L$998,11,0)))","v":""}]
[233,"Petr Velek",1975,"M","GAC Benešov","CZ/C1",10505,3,"","",null,null,{"$f":"IF(ISERROR(VLOOKUP(B239,'Zebrik W'!$B$7:$L$998,11,0)),\"\",IF(VLOOKUP(B239,'Zebrik W'!$B$7:$L$998,11,0)=0,\"--\",VLOOKUP(B239,'Zebrik W'!$B$7:$L$998,11,0)))","v":""}]
[234,"Petr Malcek",1965,"M","Letňany","CZ/C1",10467,2,"","",null,null,{"$f":"IF(ISERROR(VLOOKUP(B240,'Zebrik W'!$B$7:$L$998,11,0)),\"\",IF(VLOOKUP(B240,'Zebrik W'!$B$7:$L$998,11,0)=0,\"--\",VLOOKUP(B240,'Zebrik W'!$B$7:$L$998,11,0)))","v":""}]
[235,"Antonin Kutalek",1943,"M","Zábřeh","CZ/M",10369,3,"","",null,null,{"$f":"IF(ISERROR(VLOOKUP(B241,'Zebrik W'!$B$7:$L$998,11,0)),\"\",IF(VLOOKUP(B241,'Zebrik W'!$B$7:$L$998,11,0)=0,\"--\",VLOOKUP(B241,'Zebrik W'!$B$7:$L$998,11,0)))","v":""}]
[236,"Antonin Bordovsky",1951,"M","Krnov","CZ/M",10360,2,"","",null,null,{"$f":"IF(ISERROR(VLOOKUP(B242,'Zebrik W'!$B$7:$L$998,11,0)),\"\",IF(VLOOKUP(B242,'Zebrik W'!$B$7:$L$998,11,0)=0,\"--\",VLOOKUP(B242,'Zebrik W'!$B$7:$L$998,11,0)))","v":""}]
[237,"Ondrej Blaha",1976,"M","Letňany","CZ/C1",10249,2,"","",null,null,{"$f":"IF(ISERROR(VLOOKUP(B243,'Zebrik W'!$B$7:$L$998,11,0)),\"\",IF(VLOOKUP(B243,'Zebrik W'!$B$7:$L$998,11,0)=0,\"--\",VLOOKUP(B243,'Zebrik W'!$B$7:$L$998,11,0)))","v":""}]
[238,"Petr Starek",1974,"M","Zbraslavice","CZ/C1",10236,2,"","",null,null,{"$f":"IF(ISERROR(VLOOKUP(B244,'Zebrik W'!$B$7:$L$998,11,0)),\"\",IF(VLOOKUP(B244,'Zebrik W'!$B$7:$L$998,11,0)=0,\"--\",VLOOKUP(B244,'Zebrik W'!$B$7:$L$998,11,0)))","v":""}]
[239,"Michal Nutil",1966,"M","Náchod","CZ/C2",10192,2,"","",null,null,{"$f":"IF(ISERROR(VLOOKUP(B245,'Zebrik W'!$B$7:$L$998,11,0)),\"\",IF(VLOOKUP(B245,'Zebrik W'!$B$7:$L$998,11,0)=0,\"--\",VLOOKUP(B245,'Zebrik W'!$B$7:$L$998,11,0)))","v":""}]
[240,"Vit Grossmann",1977,"M","Hranice","CZ/M",10080,3,"","",null,null,{"$f":"IF(ISERROR(VLOOKUP(B246,'Zebrik W'!$B$7:$L$998,11,0)),\"\",IF(VLOOKUP(B246,'Zebrik W'!$B$7:$L$998,11,0)=0,\"--\",VLOOKUP(B246,'Zebrik W'!$B$7:$L$998,11,0)))","v":""}]
[241,"Radoslav Pur",1973,"M","Hosín","CZ/C1",10065,2,"","",null,null,{"$f":"IF(ISERROR(VLOOKUP(B247,'Zebrik W'!$B$7:$L$998,11,0)),\"\",IF(VLOOKUP(B247,'Zebrik W'!$B$7:$L$998,11,0)=0,\"--\",VLOOKUP(B247,'Zebrik W'!$B$7:$L$998,11,0)))","v":""}]
[242,"Lubomir Doupal",1975,"M","Kroměříž","CZ/M",10025,3,"","",null,null,{"$f":"IF(ISERROR(VLOOKUP(B248,'Zebrik W'!$B$7:$L$998,11,0)),\"\",IF(VLOOKUP(B248,'Zebrik W'!$B$7:$L$998,11,0)=0,\"--\",VLOOKUP(B248,'Zebrik W'!$B$7:$L$998,11,0)))","v":""}]
[243,"Jan Rott",1962,"M","Hronov","CZ/C2",9910,3,"","",null,null,{"$f":"IF(ISERROR(VLOOKUP(B249,'Zebrik W'!$B$7:$L$998,11,0)),\"\",IF(VLOOKUP(B249,'Zebrik W'!$B$7:$L$998,11,0)=0,\"--\",VLOOKUP(B249,'Zebrik W'!$B$7:$L$998,11,0)))","v":""}]
[244,"Stepan Obrovsky",1990,"M","Frýdlant","CZ/M",9849,2,"","",null,null,{"$f":"IF(ISERROR(VLOOKUP(B250,'Zebrik W'!$B$7:$L$998,11,0)),\"\",IF(VLOOKUP(B250,'Zebrik W'!$B$7:$L$998,11,0)=0,\"--\",VLOOKUP(B250,'Zebrik W'!$B$7:$L$998,11,0)))","v":""}]
[245,"Miloslav Cindr",1974,"M","Ústí nad Orlicí","CZ/C2",9803,3,"","",null,null,{"$f":"IF(ISERROR(VLOOKUP(B251,'Zebrik W'!$B$7:$L$998,11,0)),\"\",IF(VLOOKUP(B251,'Zebrik W'!$B$7:$L$998,11,0)=0,\"--\",VLOOKUP(B251,'Zebrik W'!$B$7:$L$998,11,0)))","v":""}]
[246,"Josef Kreutzer",1992,"M","Letkov","CZ/C1",9708,2,"","",null,null,{"$f":"IF(ISERROR(VLOOKUP(B252,'Zebrik W'!$B$7:$L$998,11,0)),\"\",IF(VLOOKUP(B252,'Zebrik W'!$B$7:$L$998,11,0)=0,\"--\",VLOOKUP(B252,'Zebrik W'!$B$7:$L$998,11,0)))","v":""}]
[247,"David Popovsky",1976,"M","Rakovník","CZ/C1",9597,2,"","",null,null,{"$f":"IF(ISERROR(VLOOKUP(B253,'Zebrik W'!$B$7:$L$998,11,0)),\"\",IF(VLOOKUP(B253,'Zebrik W'!$B$7:$L$998,11,0)=0,\"--\",VLOOKUP(B253,'Zebrik W'!$B$7:$L$998,11,0)))","v":""}]
[248,"Jaroslav Vancata",1985,"M","Raná","CZ/C2",9548,2,"","",null,null,{"$f":"IF(ISERROR(VLOOKUP(B254,'Zebrik W'!$B$7:$L$998,11,0)),\"\",IF(VLOOKUP(B254,'Zebrik W'!$B$7:$L$998,11,0)=0,\"--\",VLOOKUP(B254,'Zebrik W'!$B$7:$L$998,11,0)))","v":""}]
[249,"Milos Pajr",1966,"M","Jičín","CZ/C2",9526,2,"","",null,null,{"$f":"IF(ISERROR(VLOOKUP(B255,'Zebrik W'!$B$7:$L$998,11,0)),\"\",IF(VLOOKUP(B255,'Zebrik W'!$B$7:$L$998,11,0)=0,\"--\",VLOOKUP(B255,'Zebrik W'!$B$7:$L$998,11,0)))","v":""}]
[250,"Jakub Kohn",1992,"M","Prostějov","CZ/M",9502,2,"","",null,null,{"$f":"IF(ISERROR(VLOOKUP(B256,'Zebrik W'!$B$7:$L$998,11,0)),\"\",IF(VLOOKUP(B256,'Zebrik W'!$B$7:$L$998,11,0)=0,\"--\",VLOOKUP(B256,'Zebrik W'!$B$7:$L$998,11,0)))","v":""}]
[251,"Matej Jelinek",1999,"M","Hronov","CZ/C2",9498,2,"Junior v roce 2022","Junior v roce 2023",null,null,{"$f":"IF(ISERROR(VLOOKUP(B257,'Zebrik W'!$B$7:$L$998,11,0)),\"\",IF(VLOOKUP(B257,'Zebrik W'!$B$7:$L$998,11,0)=0,\"--\",VLOOKUP(B257,'Zebrik W'!$B$7:$L$998,11,0)))","v":""}]
[252,"Vaclav Kysilka",1979,"M","GAC Benešov","CZ/C1",9484,2,"","",null,null,{"$f":"IF(ISERROR(VLOOKUP(B258,'Zebrik W'!$B$7:$L$998,11,0)),\"\",IF(VLOOKUP(B258,'Zebrik W'!$B$7:$L$998,11,0)=0,\"--\",VLOOKUP(B258,'Zebrik W'!$B$7:$L$998,11,0)))","v":""}]
[253,"Pavel Koudelka",1973,"M","Křižanov","CZ/M",9441,2,"","",null,null,{"$f":"IF(ISERROR(VLOOKUP(B259,'Zebrik W'!$B$7:$L$998,11,0)),\"\",IF(VLOOKUP(B259,'Zebrik W'!$B$7:$L$998,11,0)=0,\"--\",VLOOKUP(B259,'Zebrik W'!$B$7:$L$998,11,0)))","v":""}]
[254,"Ivo Burda",1962,"M","Zbraslavice","CZ/C1",9168,2,"","",null,null,{"$f":"IF(ISERROR(VLOOKUP(B260,'Zebrik W'!$B$7:$L$998,11,0)),\"\",IF(VLOOKUP(B260,'Zebrik W'!$B$7:$L$998,11,0)=0,\"--\",VLOOKUP(B260,'Zebrik W'!$B$7:$L$998,11,0)))","v":""}]
[255,"Antonin Konicek",1973,"M","Kunovice","CZ/M",9050,1,"","",null,null,{"$f":"IF(ISERROR(VLOOKUP(B261,'Zebrik W'!$B$7:$L$998,11,0)),\"\",IF(VLOOKUP(B261,'Zebrik W'!$B$7:$L$998,11,0)=0,\"--\",VLOOKUP(B261,'Zebrik W'!$B$7:$L$998,11,0)))","v":""}]
[255,"Radek Hybl",1980,"M","Šumperk","CZ/M",9050,1,"","",null,null,{"$f":"IF(ISERROR(VLOOKUP(B262,'Zebrik W'!$B$7:$L$998,11,0)),\"\",IF(VLOOKUP(B262,'Zebrik W'!$B$7:$L$998,11,0)=0,\"--\",VLOOKUP(B262,'Zebrik W'!$B$7:$L$998,11,0)))","v":""}]
[{"$f":"RANK(G263,G:G)","v":257},"Michal Kratochvil",1984,"M","Slaný","CZ/C1",9000,1,"","",null,null,{"$f":"IF(ISERROR(VLOOKUP(B263,'Zebrik W'!$B$7:$L$998,11,0)),\"\",IF(VLOOKUP(B263,'Zebrik W'!$B$7:$L$998,11,0)=0,\"--\",VLOOKUP(B263,'Zebrik W'!$B$7:$L$998,11,0)))","v":""}]
[258,"Jan Adam",2002,"M","Podhořany","CZ/C2",8956,2,"Junior v roce 2022","Junior v roce 2023",null,null,{"$f":"IF(ISERROR(VLOOKUP(B264,'Zebrik W'!$B$7:$L$998,11,0)),\"\",IF(VLOOKUP(B264,'Zebrik W'!$B$7:$L$998,11,0)=0,\"--\",VLOOKUP(B264,'Zebrik W'!$B$7:$L$998,11,0)))","v":""}]
[259,"Martin Grmela",1989,"M","Zbraslavice","CZ/C1",8790,2,"","",null,null,{"$f":"IF(ISERROR(VLOOKUP(B265,'Zebrik W'!$B$7:$L$998,11,0)),\"\",IF(VLOOKUP(B265,'Zebrik W'!$B$7:$L$998,11,0)=0,\"--\",VLOOKUP(B265,'Zebrik W'!$B$7:$L$998,11,0)))","v":""}]
[260,"Marek Malinsky",1985,"M","Chrudim","CZ/C2",8753,2,"","",null,null,{"$f":"IF(ISERROR(VLOOKUP(B266,'Zebrik W'!$B$7:$L$998,11,0)),\"\",IF(VLOOKUP(B266,'Zebrik W'!$B$7:$L$998,11,0)=0,\"--\",VLOOKUP(B266,'Zebrik W'!$B$7:$L$998,11,0)))","v":""}]
[261,"Jan Zanda",1983,"M","Letkov","CZ/C1",8677,2,"","",null,null,{"$f":"IF(ISERROR(VLOOKUP(B267,'Zebrik W'!$B$7:$L$998,11,0)),\"\",IF(VLOOKUP(B267,'Zebrik W'!$B$7:$L$998,11,0)=0,\"--\",VLOOKUP(B267,'Zebrik W'!$B$7:$L$998,11,0)))","v":""}]
[262,"Pavel Zima",1979,"M","Břeclav","CZ/M",8588,1,"","",null,null,{"$f":"IF(ISERROR(VLOOKUP(B268,'Zebrik W'!$B$7:$L$998,11,0)),\"\",IF(VLOOKUP(B268,'Zebrik W'!$B$7:$L$998,11,0)=0,\"--\",VLOOKUP(B268,'Zebrik W'!$B$7:$L$998,11,0)))","v":""}]
[263,"Ondrej Dvorak 87",1987,"M","Raná","CZ/C2",8547,1,"","",null,null,{"$f":"IF(ISERROR(VLOOKUP(B269,'Zebrik W'!$B$7:$L$998,11,0)),\"\",IF(VLOOKUP(B269,'Zebrik W'!$B$7:$L$998,11,0)=0,\"--\",VLOOKUP(B269,'Zebrik W'!$B$7:$L$998,11,0)))","v":""}]
[264,"Olga Mokosova",1970,"F","Jihlava","CZ/M",8468,2,"","",null,null,{"$f":"IF(ISERROR(VLOOKUP(B270,'Zebrik W'!$B$7:$L$998,11,0)),\"\",IF(VLOOKUP(B270,'Zebrik W'!$B$7:$L$998,11,0)=0,\"--\",VLOOKUP(B270,'Zebrik W'!$B$7:$L$998,11,0)))","v":"--"}]
[265,"Michal Kodousek",1983,"M","Jaroměř","CZ/C2",8405,1,"","",null,null,{"$f":"IF(ISERROR(VLOOKUP(B271,'Zebrik W'!$B$7:$L$998,11,0)),\"\",IF(VLOOKUP(B271,'Zebrik W'!$B$7:$L$998,11,0)=0,\"--\",VLOOKUP(B271,'Zebrik W'!$B$7:$L$998,11,0)))","v":""}]
[266,"Tomas Seifert",1972,"M","Raná","CZ/C2",8382,2,"","",null,null,{"$f":"IF(ISERROR(VLOOKUP(B272,'Zebrik W'!$B$7:$L$998,11,0)),\"\",IF(VLOOKUP(B272,'Zebrik W'!$B$7:$L$998,11,0)=0,\"--\",VLOOKUP(B272,'Zebrik W'!$B$7:$L$998,11,0)))","v":""}]
[267,"Jakub Koudelka",2000,"M","Křižanov","CZ/M",8247,3,"Junior v roce 2022","Junior v roce 2023",null,null,{"$f":"IF(ISERROR(VLOOKUP(B273,'Zebrik W'!$B$7:$L$998,11,0)),\"\",IF(VLOOKUP(B273,'Zebrik W'!$B$7:$L$998,11,0)=0,\"--\",VLOOKUP(B273,'Zebrik W'!$B$7:$L$998,11,0)))","v":""}]
[268,"Petr Seibrt",1974,"M","Náchod","CZ/C2",8055,2,"","",null,null,{"$f":"IF(ISERROR(VLOOKUP(B274,'Zebrik W'!$B$7:$L$998,11,0)),\"\",IF(VLOOKUP(B274,'Zebrik W'!$B$7:$L$998,11,0)=0,\"--\",VLOOKUP(B274,'Zebrik W'!$B$7:$L$998,11,0)))","v":""}]
[269,"Jiri Hodan",1959,"M","Zbraslavice","CZ/C1",8035,2,"","",null,null,{"$f":"IF(ISERROR(VLOOKUP(B275,'Zebrik W'!$B$7:$L$998,11,0)),\"\",IF(VLOOKUP(B275,'Zebrik W'!$B$7:$L$998,11,0)=0,\"--\",VLOOKUP(B275,'Zebrik W'!$B$7:$L$998,11,0)))","v":""}]
[270,"Jan Hejret",1976,"M","Jaroměř","CZ/C2",8000,1,"","",null,null,{"$f":"IF(ISERROR(VLOOKUP(B276,'Zebrik W'!$B$7:$L$998,11,0)),\"\",IF(VLOOKUP(B276,'Zebrik W'!$B$7:$L$998,11,0)=0,\"--\",VLOOKUP(B276,'Zebrik W'!$B$7:$L$998,11,0)))","v":""}]
[271,"Frantisek Filandr",1956,"M","Most","CZ/C2",7991,1,"","",null,null,{"$f":"IF(ISERROR(VLOOKUP(B277,'Zebrik W'!$B$7:$L$998,11,0)),\"\",IF(VLOOKUP(B277,'Zebrik W'!$B$7:$L$998,11,0)=0,\"--\",VLOOKUP(B277,'Zebrik W'!$B$7:$L$998,11,0)))","v":""}]
[272,"Jan Mareth",1979,"M","Frýdlant","CZ/M",7981,1,"","",null,null,{"$f":"IF(ISERROR(VLOOKUP(B278,'Zebrik W'!$B$7:$L$998,11,0)),\"\",IF(VLOOKUP(B278,'Zebrik W'!$B$7:$L$998,11,0)=0,\"--\",VLOOKUP(B278,'Zebrik W'!$B$7:$L$998,11,0)))","v":""}]
[273,"Petr Hofman",1984,"M","Letňany","CZ/C1",7848,1,"","",null,null,{"$f":"IF(ISERROR(VLOOKUP(B279,'Zebrik W'!$B$7:$L$998,11,0)),\"\",IF(VLOOKUP(B279,'Zebrik W'!$B$7:$L$998,11,0)=0,\"--\",VLOOKUP(B279,'Zebrik W'!$B$7:$L$998,11,0)))","v":""}]
[274,"Filip Vita",2001,"M","Kroměříž","CZ/M",7823,2,"Junior v roce 2022","Junior v roce 2023",null,null,{"$f":"IF(ISERROR(VLOOKUP(B280,'Zebrik W'!$B$7:$L$998,11,0)),\"\",IF(VLOOKUP(B280,'Zebrik W'!$B$7:$L$998,11,0)=0,\"--\",VLOOKUP(B280,'Zebrik W'!$B$7:$L$998,11,0)))","v":""}]
[275,"Vladimir Spilka",1940,"M","Hranice","CZ/M",7771,3,"","",null,null,{"$f":"IF(ISERROR(VLOOKUP(B281,'Zebrik W'!$B$7:$L$998,11,0)),\"\",IF(VLOOKUP(B281,'Zebrik W'!$B$7:$L$998,11,0)=0,\"--\",VLOOKUP(B281,'Zebrik W'!$B$7:$L$998,11,0)))","v":""}]
[276,"Antonin Novotny",1972,"M","Luhačovice","CZ/M",7758,1,"","",null,null,{"$f":"IF(ISERROR(VLOOKUP(B282,'Zebrik W'!$B$7:$L$998,11,0)),\"\",IF(VLOOKUP(B282,'Zebrik W'!$B$7:$L$998,11,0)=0,\"--\",VLOOKUP(B282,'Zebrik W'!$B$7:$L$998,11,0)))","v":""}]
[277,"Jiri Cincera",1966,"M","Toužim","CZ/C1",7756,2,"","",null,null,{"$f":"IF(ISERROR(VLOOKUP(B283,'Zebrik W'!$B$7:$L$998,11,0)),\"\",IF(VLOOKUP(B283,'Zebrik W'!$B$7:$L$998,11,0)=0,\"--\",VLOOKUP(B283,'Zebrik W'!$B$7:$L$998,11,0)))","v":""}]
[278,"Jan Hlavacek",1965,"M","Rakovník","CZ/C1",7750,1,"","",null,null,{"$f":"IF(ISERROR(VLOOKUP(B284,'Zebrik W'!$B$7:$L$998,11,0)),\"\",IF(VLOOKUP(B284,'Zebrik W'!$B$7:$L$998,11,0)=0,\"--\",VLOOKUP(B284,'Zebrik W'!$B$7:$L$998,11,0)))","v":""}]
[279,"Petr Valenta 76",1976,"M","Jaroměř","CZ/C2",7654,2,"","",null,null,{"$f":"IF(ISERROR(VLOOKUP(B285,'Zebrik W'!$B$7:$L$998,11,0)),\"\",IF(VLOOKUP(B285,'Zebrik W'!$B$7:$L$998,11,0)=0,\"--\",VLOOKUP(B285,'Zebrik W'!$B$7:$L$998,11,0)))","v":""}]
[280,"Michal Krupicka",1975,"M","Most","CZ/C2",7653,1,"","",null,null,{"$f":"IF(ISERROR(VLOOKUP(B286,'Zebrik W'!$B$7:$L$998,11,0)),\"\",IF(VLOOKUP(B286,'Zebrik W'!$B$7:$L$998,11,0)=0,\"--\",VLOOKUP(B286,'Zebrik W'!$B$7:$L$998,11,0)))","v":""}]
[281,"Jan Kantor",1983,"M","Letňany","CZ/C1",7593,1,"","",null,null,{"$f":"IF(ISERROR(VLOOKUP(B287,'Zebrik W'!$B$7:$L$998,11,0)),\"\",IF(VLOOKUP(B287,'Zebrik W'!$B$7:$L$998,11,0)=0,\"--\",VLOOKUP(B287,'Zebrik W'!$B$7:$L$998,11,0)))","v":""}]
[282,"Radim Hahn",1972,"M","Zábřeh","CZ/M",7592,1,"","",null,null,{"$f":"IF(ISERROR(VLOOKUP(B288,'Zebrik W'!$B$7:$L$998,11,0)),\"\",IF(VLOOKUP(B288,'Zebrik W'!$B$7:$L$998,11,0)=0,\"--\",VLOOKUP(B288,'Zebrik W'!$B$7:$L$998,11,0)))","v":""}]
[283,"Vaclav Zak",1962,"M","GAC Benešov","CZ/C1",7536,2,"","",null,null,{"$f":"IF(ISERROR(VLOOKUP(B289,'Zebrik W'!$B$7:$L$998,11,0)),\"\",IF(VLOOKUP(B289,'Zebrik W'!$B$7:$L$998,11,0)=0,\"--\",VLOOKUP(B289,'Zebrik W'!$B$7:$L$998,11,0)))","v":""}]
[284,"David Riha",1983,"M","Vlašim","CZ/C1",7500,1,"","",null,null,{"$f":"IF(ISERROR(VLOOKUP(B290,'Zebrik W'!$B$7:$L$998,11,0)),\"\",IF(VLOOKUP(B290,'Zebrik W'!$B$7:$L$998,11,0)=0,\"--\",VLOOKUP(B290,'Zebrik W'!$B$7:$L$998,11,0)))","v":""}]
[285,"Roman Stoklasa",1984,"M","Medlánky","CZ/M",7487,1,"","",null,null,{"$f":"IF(ISERROR(VLOOKUP(B291,'Zebrik W'!$B$7:$L$998,11,0)),\"\",IF(VLOOKUP(B291,'Zebrik W'!$B$7:$L$998,11,0)=0,\"--\",VLOOKUP(B291,'Zebrik W'!$B$7:$L$998,11,0)))","v":""}]
[286,"Katerina Vancurova",2002,"F","Hranice","CZ/M",7483,2,"Junior v roce 2022","Junior v roce 2023",null,null,{"$f":"IF(ISERROR(VLOOKUP(B292,'Zebrik W'!$B$7:$L$998,11,0)),\"\",IF(VLOOKUP(B292,'Zebrik W'!$B$7:$L$998,11,0)=0,\"--\",VLOOKUP(B292,'Zebrik W'!$B$7:$L$998,11,0)))","v":"--"}]
[287,"Karel Ertl",1939,"M","LK Břeclav","CZ/M",7468,3,"","",null,null,{"$f":"IF(ISERROR(VLOOKUP(B293,'Zebrik W'!$B$7:$L$998,11,0)),\"\",IF(VLOOKUP(B293,'Zebrik W'!$B$7:$L$998,11,0)=0,\"--\",VLOOKUP(B293,'Zebrik W'!$B$7:$L$998,11,0)))","v":""}]
[288,"Jan Sindelar",1946,"M","Kunovice","CZ/M",7455,1,"","",null,null,{"$f":"IF(ISERROR(VLOOKUP(B294,'Zebrik W'!$B$7:$L$998,11,0)),\"\",IF(VLOOKUP(B294,'Zebrik W'!$B$7:$L$998,11,0)=0,\"--\",VLOOKUP(B294,'Zebrik W'!$B$7:$L$998,11,0)))","v":""}]
[289,"Jaroslav Cempirek 77",1977,"M","Jihlava","CZ/M",7444,1,"","",null,null,{"$f":"IF(ISERROR(VLOOKUP(B295,'Zebrik W'!$B$7:$L$998,11,0)),\"\",IF(VLOOKUP(B295,'Zebrik W'!$B$7:$L$998,11,0)=0,\"--\",VLOOKUP(B295,'Zebrik W'!$B$7:$L$998,11,0)))","v":""}]
[290,"Lukas Hykl",1985,"M","Kolín","CZ/C1",7386,3,"","",null,null,{"$f":"IF(ISERROR(VLOOKUP(B296,'Zebrik W'!$B$7:$L$998,11,0)),\"\",IF(VLOOKUP(B296,'Zebrik W'!$B$7:$L$998,11,0)=0,\"--\",VLOOKUP(B296,'Zebrik W'!$B$7:$L$998,11,0)))","v":""}]
[291,"Petr Vezda",1974,"M","Medlánky","CZ/M",7375,2,"","",null,null,{"$f":"IF(ISERROR(VLOOKUP(B297,'Zebrik W'!$B$7:$L$998,11,0)),\"\",IF(VLOOKUP(B297,'Zebrik W'!$B$7:$L$998,11,0)=0,\"--\",VLOOKUP(B297,'Zebrik W'!$B$7:$L$998,11,0)))","v":""}]
[292,"Milos Matejka",1956,"M","Beroun","CZ/C1",7350,1,"","",null,null,{"$f":"IF(ISERROR(VLOOKUP(B298,'Zebrik W'!$B$7:$L$998,11,0)),\"\",IF(VLOOKUP(B298,'Zebrik W'!$B$7:$L$998,11,0)=0,\"--\",VLOOKUP(B298,'Zebrik W'!$B$7:$L$998,11,0)))","v":""}]
[293,"Martin Vnoucek",1972,"M","Vlašim","CZ/C1",7328,1,"","",null,null,{"$f":"IF(ISERROR(VLOOKUP(B299,'Zebrik W'!$B$7:$L$998,11,0)),\"\",IF(VLOOKUP(B299,'Zebrik W'!$B$7:$L$998,11,0)=0,\"--\",VLOOKUP(B299,'Zebrik W'!$B$7:$L$998,11,0)))","v":""}]
[294,"Josef Kolman",1983,"M","Letňany","CZ/C1",7315,1,{"$f":"IF(C300=\"(prázdné)\",\"\",IF(($I$4-C300)>25,\"\",\"Junior v roce \"&$I$4))","v":""},{"$f":"IF(C300=\"(prázdné)\",\"\",IF(($J$4-C300)>25,\"\",\"Junior v roce \"&$J$4))","v":""},null,null,{"$f":"IF(ISERROR(VLOOKUP(B300,'Zebrik W'!$B$7:$L$998,11,0)),\"\",IF(VLOOKUP(B300,'Zebrik W'!$B$7:$L$998,11,0)=0,\"--\",VLOOKUP(B300,'Zebrik W'!$B$7:$L$998,11,0)))","v":""}]
[295,"Radovan Otto",1968,"M","Ústí nad Labem","CZ/C2",7300,1,"","",null,null,{"$f":"IF(ISERROR(VLOOKUP(B301,'Zebrik W'!$B$7:$L$998,11,0)),\"\",IF(VLOOKUP(B301,'Zebrik W'!$B$7:$L$998,11,0)=0,\"--\",VLOOKUP(B301,'Zebrik W'!$B$7:$L$998,11,0)))","v":""}]
[295,"Michal Cupak",1991,"M","Medlánky","CZ/M",7300,1,"","",null,null,{"$f":"IF(ISERROR(VLOOKUP(B302,'Zebrik W'!$B$7:$L$998,11,0)),\"\",IF(VLOOKUP(B302,'Zebrik W'!$B$7:$L$998,11,0)=0,\"--\",VLOOKUP(B302,'Zebrik W'!$B$7:$L$998,11,0)))","v":""}]
[297,"Radek Zima 75",1975,"M","Břeclav","CZ/M",7244,1,"","",null,null,{"$f":"IF(ISERROR(VLOOKUP(B303,'Zebrik W'!$B$7:$L$998,11,0)),\"\",IF(VLOOKUP(B303,'Zebrik W'!$B$7:$L$998,11,0)=0,\"--\",VLOOKUP(B303,'Zebrik W'!$B$7:$L$998,11,0)))","v":""}]
[298,"Daniel Novak",1971,"M","Letkov","CZ/C1",7169,1,"","",null,null,{"$f":"IF(ISERROR(VLOOKUP(B304,'Zebrik W'!$B$7:$L$998,11,0)),\"\",IF(VLOOKUP(B304,'Zebrik W'!$B$7:$L$998,11,0)=0,\"--\",VLOOKUP(B304,'Zebrik W'!$B$7:$L$998,11,0)))","v":""}]
[299,"Daniel Suchy",1995,"M","Hranice","CZ/M",7144,1,"","",null,null,{"$f":"IF(ISERROR(VLOOKUP(B305,'Zebrik W'!$B$7:$L$998,11,0)),\"\",IF(VLOOKUP(B305,'Zebrik W'!$B$7:$L$998,11,0)=0,\"--\",VLOOKUP(B305,'Zebrik W'!$B$7:$L$998,11,0)))","v":""}]
[300,"Slavomir Piskaty 58",1958,"M","Kunovice","CZ/M",7061,2,"","",null,null,{"$f":"IF(ISERROR(VLOOKUP(B306,'Zebrik W'!$B$7:$L$998,11,0)),\"\",IF(VLOOKUP(B306,'Zebrik W'!$B$7:$L$998,11,0)=0,\"--\",VLOOKUP(B306,'Zebrik W'!$B$7:$L$998,11,0)))","v":""}]
[301,"Jan Nyc",1943,"M","Dvůr Králové","CZ/C2",7055,1,"","",null,null,{"$f":"IF(ISERROR(VLOOKUP(B307,'Zebrik W'!$B$7:$L$998,11,0)),\"\",IF(VLOOKUP(B307,'Zebrik W'!$B$7:$L$998,11,0)=0,\"--\",VLOOKUP(B307,'Zebrik W'!$B$7:$L$998,11,0)))","v":""}]
[302,"Jaroslav Potmesil",1964,"M","Zbraslavice","CZ/C1",7017,2,"","",null,null,{"$f":"IF(ISERROR(VLOOKUP(B308,'Zebrik W'!$B$7:$L$998,11,0)),\"\",IF(VLOOKUP(B308,'Zebrik W'!$B$7:$L$998,11,0)=0,\"--\",VLOOKUP(B308,'Zebrik W'!$B$7:$L$998,11,0)))","v":""}]
[303,"Michal Navratil",1985,"M","Křižanov","CZ/M",7016,1,"","",null,null,{"$f":"IF(ISERROR(VLOOKUP(B309,'Zebrik W'!$B$7:$L$998,11,0)),\"\",IF(VLOOKUP(B309,'Zebrik W'!$B$7:$L$998,11,0)=0,\"--\",VLOOKUP(B309,'Zebrik W'!$B$7:$L$998,11,0)))","v":""}]
[304,"Oldrich Houzvicka",1975,"M","Frýdlant","CZ/M",7006,1,"","",null,null,{"$f":"IF(ISERROR(VLOOKUP(B310,'Zebrik W'!$B$7:$L$998,11,0)),\"\",IF(VLOOKUP(B310,'Zebrik W'!$B$7:$L$998,11,0)=0,\"--\",VLOOKUP(B310,'Zebrik W'!$B$7:$L$998,11,0)))","v":""}]
[305,"Martin Nejezchleb",1979,"M","Plzeň Bory","CZ/C1",6998,2,"","",null,null,{"$f":"IF(ISERROR(VLOOKUP(B311,'Zebrik W'!$B$7:$L$998,11,0)),\"\",IF(VLOOKUP(B311,'Zebrik W'!$B$7:$L$998,11,0)=0,\"--\",VLOOKUP(B311,'Zebrik W'!$B$7:$L$998,11,0)))","v":""}]
[306,"Jaromir Jedlicka",1972,"M","Letňany","CZ/C1",6977,1,"","",null,null,{"$f":"IF(ISERROR(VLOOKUP(B312,'Zebrik W'!$B$7:$L$998,11,0)),\"\",IF(VLOOKUP(B312,'Zebrik W'!$B$7:$L$998,11,0)=0,\"--\",VLOOKUP(B312,'Zebrik W'!$B$7:$L$998,11,0)))","v":""}]
[307,"Daniel Dvorak",1980,"M","Letkov","CZ/C1",6976,1,"","",null,null,{"$f":"IF(ISERROR(VLOOKUP(B313,'Zebrik W'!$B$7:$L$998,11,0)),\"\",IF(VLOOKUP(B313,'Zebrik W'!$B$7:$L$998,11,0)=0,\"--\",VLOOKUP(B313,'Zebrik W'!$B$7:$L$998,11,0)))","v":""}]
[308,"David Zapletal",1970,"M","Mladá Boleslav","CZ/C1",6943,2,"","",null,null,{"$f":"IF(ISERROR(VLOOKUP(B314,'Zebrik W'!$B$7:$L$998,11,0)),\"\",IF(VLOOKUP(B314,'Zebrik W'!$B$7:$L$998,11,0)=0,\"--\",VLOOKUP(B314,'Zebrik W'!$B$7:$L$998,11,0)))","v":""}]
[309,"Miroslav Major",1968,"M","Kralupy","CZ/C1",6818,2,"","",null,null,{"$f":"IF(ISERROR(VLOOKUP(B315,'Zebrik W'!$B$7:$L$998,11,0)),\"\",IF(VLOOKUP(B315,'Zebrik W'!$B$7:$L$998,11,0)=0,\"--\",VLOOKUP(B315,'Zebrik W'!$B$7:$L$998,11,0)))","v":""}]
[310,"Petr Havelka",1997,"M","Zbraslavice","CZ/C1",6803,1,"Junior v roce 2022","",null,null,{"$f":"IF(ISERROR(VLOOKUP(B316,'Zebrik W'!$B$7:$L$998,11,0)),\"\",IF(VLOOKUP(B316,'Zebrik W'!$B$7:$L$998,11,0)=0,\"--\",VLOOKUP(B316,'Zebrik W'!$B$7:$L$998,11,0)))","v":""}]
[311,"Jan Beranek",1976,"M","Jihlava","CZ/M",6681,1,"","",null,null,{"$f":"IF(ISERROR(VLOOKUP(B317,'Zebrik W'!$B$7:$L$998,11,0)),\"\",IF(VLOOKUP(B317,'Zebrik W'!$B$7:$L$998,11,0)=0,\"--\",VLOOKUP(B317,'Zebrik W'!$B$7:$L$998,11,0)))","v":""}]
[312,"Jan Sponer",1988,"M","Medlánky","CZ/M",6655,1,"","",null,null,{"$f":"IF(ISERROR(VLOOKUP(B318,'Zebrik W'!$B$7:$L$998,11,0)),\"\",IF(VLOOKUP(B318,'Zebrik W'!$B$7:$L$998,11,0)=0,\"--\",VLOOKUP(B318,'Zebrik W'!$B$7:$L$998,11,0)))","v":""}]
[313,"Pavel Simek",1957,"M","Vyškov","CZ/M",6594,2,"","",null,null,{"$f":"IF(ISERROR(VLOOKUP(B319,'Zebrik W'!$B$7:$L$998,11,0)),\"\",IF(VLOOKUP(B319,'Zebrik W'!$B$7:$L$998,11,0)=0,\"--\",VLOOKUP(B319,'Zebrik W'!$B$7:$L$998,11,0)))","v":""}]
[314,"Vit Prokop",1987,"M","Medlánky","CZ/M",6590,2,"","",null,null,{"$f":"IF(ISERROR(VLOOKUP(B320,'Zebrik W'!$B$7:$L$998,11,0)),\"\",IF(VLOOKUP(B320,'Zebrik W'!$B$7:$L$998,11,0)=0,\"--\",VLOOKUP(B320,'Zebrik W'!$B$7:$L$998,11,0)))","v":""}]
[315,"Jiri Pelucha",1984,"M","Frýdlant","CZ/M",6516,1,"","",null,null,{"$f":"IF(ISERROR(VLOOKUP(B321,'Zebrik W'!$B$7:$L$998,11,0)),\"\",IF(VLOOKUP(B321,'Zebrik W'!$B$7:$L$998,11,0)=0,\"--\",VLOOKUP(B321,'Zebrik W'!$B$7:$L$998,11,0)))","v":""}]
[316,"Martin Piskacek",1991,"M","Křižanov","CZ/M",6502,1,"","",null,null,{"$f":"IF(ISERROR(VLOOKUP(B322,'Zebrik W'!$B$7:$L$998,11,0)),\"\",IF(VLOOKUP(B322,'Zebrik W'!$B$7:$L$998,11,0)=0,\"--\",VLOOKUP(B322,'Zebrik W'!$B$7:$L$998,11,0)))","v":""}]
[317,"Jiri Skarka",1965,"M","Chomutov","CZ/C2",6467,2,"","",null,null,{"$f":"IF(ISERROR(VLOOKUP(B323,'Zebrik W'!$B$7:$L$998,11,0)),\"\",IF(VLOOKUP(B323,'Zebrik W'!$B$7:$L$998,11,0)=0,\"--\",VLOOKUP(B323,'Zebrik W'!$B$7:$L$998,11,0)))","v":""}]
[318,"Jiri Suchomel",1950,"M","Broumov","CZ/C2",6371,2,"","",null,null,{"$f":"IF(ISERROR(VLOOKUP(B324,'Zebrik W'!$B$7:$L$998,11,0)),\"\",IF(VLOOKUP(B324,'Zebrik W'!$B$7:$L$998,11,0)=0,\"--\",VLOOKUP(B324,'Zebrik W'!$B$7:$L$998,11,0)))","v":""}]
[319,"Vojtech Vach",1976,"M","Nové Město nad Metují","CZ/C2",6323,1,"","",null,null,{"$f":"IF(ISERROR(VLOOKUP(B325,'Zebrik W'!$B$7:$L$998,11,0)),\"\",IF(VLOOKUP(B325,'Zebrik W'!$B$7:$L$998,11,0)=0,\"--\",VLOOKUP(B325,'Zebrik W'!$B$7:$L$998,11,0)))","v":""}]
[320,"Vit Tvrdik",2000,"M","Letňany","CZ/C1",6297,1,"Junior v roce 2022","Junior v roce 2023",null,null,{"$f":"IF(ISERROR(VLOOKUP(B326,'Zebrik W'!$B$7:$L$998,11,0)),\"\",IF(VLOOKUP(B326,'Zebrik W'!$B$7:$L$998,11,0)=0,\"--\",VLOOKUP(B326,'Zebrik W'!$B$7:$L$998,11,0)))","v":""}]
[{"$f":"RANK(G327,G:G)","v":321},"Jiri Vavrina",1958,"M","Kyjov","CZ/M",6278,1,"","",null,null,{"$f":"IF(ISERROR(VLOOKUP(B327,'Zebrik W'!$B$7:$L$998,11,0)),\"\",IF(VLOOKUP(B327,'Zebrik W'!$B$7:$L$998,11,0)=0,\"--\",VLOOKUP(B327,'Zebrik W'!$B$7:$L$998,11,0)))","v":""}]
[322,"Vladimir Jirka",1965,"M","Zábřeh","CZ/M",6139,1,"","",null,null,{"$f":"IF(ISERROR(VLOOKUP(B328,'Zebrik W'!$B$7:$L$998,11,0)),\"\",IF(VLOOKUP(B328,'Zebrik W'!$B$7:$L$998,11,0)=0,\"--\",VLOOKUP(B328,'Zebrik W'!$B$7:$L$998,11,0)))","v":""}]
[323,"Petr Masik",2001,"M","Zábřeh","CZ/M",6036,1,"Junior v roce 2022","Junior v roce 2023",null,null,{"$f":"IF(ISERROR(VLOOKUP(B329,'Zebrik W'!$B$7:$L$998,11,0)),\"\",IF(VLOOKUP(B329,'Zebrik W'!$B$7:$L$998,11,0)=0,\"--\",VLOOKUP(B329,'Zebrik W'!$B$7:$L$998,11,0)))","v":""}]
[324,"Anna Bordovska",1989,"F","Mladá Boleslav","CZ/C1",5980,1,"","",null,null,{"$f":"IF(ISERROR(VLOOKUP(B330,'Zebrik W'!$B$7:$L$998,11,0)),\"\",IF(VLOOKUP(B330,'Zebrik W'!$B$7:$L$998,11,0)=0,\"--\",VLOOKUP(B330,'Zebrik W'!$B$7:$L$998,11,0)))","v":"--"}]
[325,"Rostislav Broz",1968,"M","Vrchlabí","CZ/C2",5978,1,"","",null,null,{"$f":"IF(ISERROR(VLOOKUP(B331,'Zebrik W'!$B$7:$L$998,11,0)),\"\",IF(VLOOKUP(B331,'Zebrik W'!$B$7:$L$998,11,0)=0,\"--\",VLOOKUP(B331,'Zebrik W'!$B$7:$L$998,11,0)))","v":""}]
[326,"Zbynek Fuksa",1956,"M","Jičín","CZ/C2",5971,1,"","",null,null,{"$f":"IF(ISERROR(VLOOKUP(B332,'Zebrik W'!$B$7:$L$998,11,0)),\"\",IF(VLOOKUP(B332,'Zebrik W'!$B$7:$L$998,11,0)=0,\"--\",VLOOKUP(B332,'Zebrik W'!$B$7:$L$998,11,0)))","v":""}]
[327,"Jaroslav Kares",1962,"M","Olomouc","CZ/M",5960,2,"","",null,null,{"$f":"IF(ISERROR(VLOOKUP(B333,'Zebrik W'!$B$7:$L$998,11,0)),\"\",IF(VLOOKUP(B333,'Zebrik W'!$B$7:$L$998,11,0)=0,\"--\",VLOOKUP(B333,'Zebrik W'!$B$7:$L$998,11,0)))","v":""}]
[328,"Petr Gebauer",1999,"M","Mladá Boleslav","CZ/C1",5916,1,"Junior v roce 2022","Junior v roce 2023",null,null,{"$f":"IF(ISERROR(VLOOKUP(B334,'Zebrik W'!$B$7:$L$998,11,0)),\"\",IF(VLOOKUP(B334,'Zebrik W'!$B$7:$L$998,11,0)=0,\"--\",VLOOKUP(B334,'Zebrik W'!$B$7:$L$998,11,0)))","v":""}]
[329,"David Rozporka",1994,"M","Hronov","CZ/C2",5883,1,"","",null,null,{"$f":"IF(ISERROR(VLOOKUP(B335,'Zebrik W'!$B$7:$L$998,11,0)),\"\",IF(VLOOKUP(B335,'Zebrik W'!$B$7:$L$998,11,0)=0,\"--\",VLOOKUP(B335,'Zebrik W'!$B$7:$L$998,11,0)))","v":""}]
[330,"Tomas Ptacovsky",1981,"M","Letňany","CZ/C1",5858,1,"","",null,null,{"$f":"IF(ISERROR(VLOOKUP(B336,'Zebrik W'!$B$7:$L$998,11,0)),\"\",IF(VLOOKUP(B336,'Zebrik W'!$B$7:$L$998,11,0)=0,\"--\",VLOOKUP(B336,'Zebrik W'!$B$7:$L$998,11,0)))","v":""}]
[331,"Petr Hosek",2001,"M","Beroun","CZ/C1",5808,1,"Junior v roce 2022","Junior v roce 2023",null,null,{"$f":"IF(ISERROR(VLOOKUP(B337,'Zebrik W'!$B$7:$L$998,11,0)),\"\",IF(VLOOKUP(B337,'Zebrik W'!$B$7:$L$998,11,0)=0,\"--\",VLOOKUP(B337,'Zebrik W'!$B$7:$L$998,11,0)))","v":""}]
[332,"Jiri Fousek",1990,"M","Raná","CZ/C2",5757,1,"","",null,null,{"$f":"IF(ISERROR(VLOOKUP(B338,'Zebrik W'!$B$7:$L$998,11,0)),\"\",IF(VLOOKUP(B338,'Zebrik W'!$B$7:$L$998,11,0)=0,\"--\",VLOOKUP(B338,'Zebrik W'!$B$7:$L$998,11,0)))","v":""}]
[333,"Ludek Souhrada",1974,"M","Raná","CZ/C2",5753,1,"","",null,null,{"$f":"IF(ISERROR(VLOOKUP(B339,'Zebrik W'!$B$7:$L$998,11,0)),\"\",IF(VLOOKUP(B339,'Zebrik W'!$B$7:$L$998,11,0)=0,\"--\",VLOOKUP(B339,'Zebrik W'!$B$7:$L$998,11,0)))","v":""}]
[334,"Pavel Opat",1975,"M","Rakovník","CZ/C1",5730,1,"","",null,null,{"$f":"IF(ISERROR(VLOOKUP(B340,'Zebrik W'!$B$7:$L$998,11,0)),\"\",IF(VLOOKUP(B340,'Zebrik W'!$B$7:$L$998,11,0)=0,\"--\",VLOOKUP(B340,'Zebrik W'!$B$7:$L$998,11,0)))","v":""}]
[335,"Vaclav Halek",1966,"M","Toužim","CZ/C1",5702,2,"","",null,null,{"$f":"IF(ISERROR(VLOOKUP(B341,'Zebrik W'!$B$7:$L$998,11,0)),\"\",IF(VLOOKUP(B341,'Zebrik W'!$B$7:$L$998,11,0)=0,\"--\",VLOOKUP(B341,'Zebrik W'!$B$7:$L$998,11,0)))","v":""}]
[336,"Matej Plch",1987,"M","Letkov","CZ/C1",5596,1,"","",null,null,{"$f":"IF(ISERROR(VLOOKUP(B342,'Zebrik W'!$B$7:$L$998,11,0)),\"\",IF(VLOOKUP(B342,'Zebrik W'!$B$7:$L$998,11,0)=0,\"--\",VLOOKUP(B342,'Zebrik W'!$B$7:$L$998,11,0)))","v":""}]
[337,"Jarmila Zatykova",1959,"F","Kralupy","CZ/C1",5567,1,"","",null,null,{"$f":"IF(ISERROR(VLOOKUP(B343,'Zebrik W'!$B$7:$L$998,11,0)),\"\",IF(VLOOKUP(B343,'Zebrik W'!$B$7:$L$998,11,0)=0,\"--\",VLOOKUP(B343,'Zebrik W'!$B$7:$L$998,11,0)))","v":"--"}]
[338,"Miroslav Trybucek",1965,"M","Jičín","CZ/C2",5557,1,"","",null,null,{"$f":"IF(ISERROR(VLOOKUP(B344,'Zebrik W'!$B$7:$L$998,11,0)),\"\",IF(VLOOKUP(B344,'Zebrik W'!$B$7:$L$998,11,0)=0,\"--\",VLOOKUP(B344,'Zebrik W'!$B$7:$L$998,11,0)))","v":""}]
[339,"Jiri Kratochvil",2003,"M","Podhořany","CZ/C2",5517,1,"Junior v roce 2022","Junior v roce 2023",null,null,{"$f":"IF(ISERROR(VLOOKUP(B345,'Zebrik W'!$B$7:$L$998,11,0)),\"\",IF(VLOOKUP(B345,'Zebrik W'!$B$7:$L$998,11,0)=0,\"--\",VLOOKUP(B345,'Zebrik W'!$B$7:$L$998,11,0)))","v":""}]
[340,"Barbora Kubickova",1993,"F","Medlánky","CZ/M",5434,1,"","",null,null,{"$f":"IF(ISERROR(VLOOKUP(B346,'Zebrik W'!$B$7:$L$998,11,0)),\"\",IF(VLOOKUP(B346,'Zebrik W'!$B$7:$L$998,11,0)=0,\"--\",VLOOKUP(B346,'Zebrik W'!$B$7:$L$998,11,0)))","v":"--"}]
[341,"Lukas Capek",1992,"M","Letňany","CZ/C1",5412,1,"","",null,null,{"$f":"IF(ISERROR(VLOOKUP(B347,'Zebrik W'!$B$7:$L$998,11,0)),\"\",IF(VLOOKUP(B347,'Zebrik W'!$B$7:$L$998,11,0)=0,\"--\",VLOOKUP(B347,'Zebrik W'!$B$7:$L$998,11,0)))","v":""}]
[342,"Roman Michalek",1974,"M","Toužim","CZ/C1",5372,2,"","",null,null,{"$f":"IF(ISERROR(VLOOKUP(B348,'Zebrik W'!$B$7:$L$998,11,0)),\"\",IF(VLOOKUP(B348,'Zebrik W'!$B$7:$L$998,11,0)=0,\"--\",VLOOKUP(B348,'Zebrik W'!$B$7:$L$998,11,0)))","v":""}]
[343,"Milos Hrabe",1979,"M","Letňany","CZ/C1",5361,2,"","",null,null,{"$f":"IF(ISERROR(VLOOKUP(B349,'Zebrik W'!$B$7:$L$998,11,0)),\"\",IF(VLOOKUP(B349,'Zebrik W'!$B$7:$L$998,11,0)=0,\"--\",VLOOKUP(B349,'Zebrik W'!$B$7:$L$998,11,0)))","v":""}]
[344,"Leos Nosek",1958,"M","Křižanov","CZ/M",5313,3,"","",null,null,{"$f":"IF(ISERROR(VLOOKUP(B350,'Zebrik W'!$B$7:$L$998,11,0)),\"\",IF(VLOOKUP(B350,'Zebrik W'!$B$7:$L$998,11,0)=0,\"--\",VLOOKUP(B350,'Zebrik W'!$B$7:$L$998,11,0)))","v":""}]
[345,"Adam Sugl",1987,"M","Vyškov","CZ/M",5312,1,"","",null,null,{"$f":"IF(ISERROR(VLOOKUP(B351,'Zebrik W'!$B$7:$L$998,11,0)),\"\",IF(VLOOKUP(B351,'Zebrik W'!$B$7:$L$998,11,0)=0,\"--\",VLOOKUP(B351,'Zebrik W'!$B$7:$L$998,11,0)))","v":""}]
[346,"Lubomir Papezik",1951,"M","Luhačovice","CZ/M",5301,2,"","",null,null,{"$f":"IF(ISERROR(VLOOKUP(B352,'Zebrik W'!$B$7:$L$998,11,0)),\"\",IF(VLOOKUP(B352,'Zebrik W'!$B$7:$L$998,11,0)=0,\"--\",VLOOKUP(B352,'Zebrik W'!$B$7:$L$998,11,0)))","v":""}]
[347,"Rostislav Fric",1973,"M","Raná","CZ/C2",5238,1,"","",null,null,{"$f":"IF(ISERROR(VLOOKUP(B353,'Zebrik W'!$B$7:$L$998,11,0)),\"\",IF(VLOOKUP(B353,'Zebrik W'!$B$7:$L$998,11,0)=0,\"--\",VLOOKUP(B353,'Zebrik W'!$B$7:$L$998,11,0)))","v":""}]
[348,"Kristina Santruckova",1996,"F","Podhořany","CZ/C2",5236,2,"","",null,null,{"$f":"IF(ISERROR(VLOOKUP(B354,'Zebrik W'!$B$7:$L$998,11,0)),\"\",IF(VLOOKUP(B354,'Zebrik W'!$B$7:$L$998,11,0)=0,\"--\",VLOOKUP(B354,'Zebrik W'!$B$7:$L$998,11,0)))","v":"--"}]
[349,"Libor Danhel",1966,"M","Kunovice","CZ/M",5226,2,"","",null,null,{"$f":"IF(ISERROR(VLOOKUP(B355,'Zebrik W'!$B$7:$L$998,11,0)),\"\",IF(VLOOKUP(B355,'Zebrik W'!$B$7:$L$998,11,0)=0,\"--\",VLOOKUP(B355,'Zebrik W'!$B$7:$L$998,11,0)))","v":""}]
[350,"Petr Brezina",1963,"M","Frýdlant","CZ/M",5123,2,"","",null,null,{"$f":"IF(ISERROR(VLOOKUP(B356,'Zebrik W'!$B$7:$L$998,11,0)),\"\",IF(VLOOKUP(B356,'Zebrik W'!$B$7:$L$998,11,0)=0,\"--\",VLOOKUP(B356,'Zebrik W'!$B$7:$L$998,11,0)))","v":""}]
[351,"Petr Vlasak",1974,"M","Medlánky","CZ/M",5021,2,"","",null,null,{"$f":"IF(ISERROR(VLOOKUP(B357,'Zebrik W'!$B$7:$L$998,11,0)),\"\",IF(VLOOKUP(B357,'Zebrik W'!$B$7:$L$998,11,0)=0,\"--\",VLOOKUP(B357,'Zebrik W'!$B$7:$L$998,11,0)))","v":""}]
[352,"Martin Krizovic",1971,"M","Přibyslav","CZ/C2",5000,1,"","",null,null,{"$f":"IF(ISERROR(VLOOKUP(B358,'Zebrik W'!$B$7:$L$998,11,0)),\"\",IF(VLOOKUP(B358,'Zebrik W'!$B$7:$L$998,11,0)=0,\"--\",VLOOKUP(B358,'Zebrik W'!$B$7:$L$998,11,0)))","v":""}]
[353,"Rostislav Stryk",1972,"M","Frýdlant","CZ/M",4991,1,"","",null,null,{"$f":"IF(ISERROR(VLOOKUP(B359,'Zebrik W'!$B$7:$L$998,11,0)),\"\",IF(VLOOKUP(B359,'Zebrik W'!$B$7:$L$998,11,0)=0,\"--\",VLOOKUP(B359,'Zebrik W'!$B$7:$L$998,11,0)))","v":""}]
[354,"Jan Heroudek",1970,"M","Rakovník","CZ/C1",4990,1,"","",null,null,{"$f":"IF(ISERROR(VLOOKUP(B360,'Zebrik W'!$B$7:$L$998,11,0)),\"\",IF(VLOOKUP(B360,'Zebrik W'!$B$7:$L$998,11,0)=0,\"--\",VLOOKUP(B360,'Zebrik W'!$B$7:$L$998,11,0)))","v":""}]
[355,"Roman Lengal",1987,"M","Břeclav","CZ/M",4981,1,"","",null,null,{"$f":"IF(ISERROR(VLOOKUP(B361,'Zebrik W'!$B$7:$L$998,11,0)),\"\",IF(VLOOKUP(B361,'Zebrik W'!$B$7:$L$998,11,0)=0,\"--\",VLOOKUP(B361,'Zebrik W'!$B$7:$L$998,11,0)))","v":""}]
[356,"Petr Hybner",1951,"M","Liberec","CZ/C2",4950,1,"","",null,null,{"$f":"IF(ISERROR(VLOOKUP(B362,'Zebrik W'!$B$7:$L$998,11,0)),\"\",IF(VLOOKUP(B362,'Zebrik W'!$B$7:$L$998,11,0)=0,\"--\",VLOOKUP(B362,'Zebrik W'!$B$7:$L$998,11,0)))","v":""}]
[357,"Martin Markl",1960,"M","Kolín","CZ/C1",4934,2,"","",null,null,{"$f":"IF(ISERROR(VLOOKUP(B363,'Zebrik W'!$B$7:$L$998,11,0)),\"\",IF(VLOOKUP(B363,'Zebrik W'!$B$7:$L$998,11,0)=0,\"--\",VLOOKUP(B363,'Zebrik W'!$B$7:$L$998,11,0)))","v":""}]
[358,"Ludek Mikl",1963,"M","Kroměříž","CZ/M",4909,3,{"$f":"IF(C364=\"(prázdné)\",\"\",IF(($I$4-C364)>25,\"\",\"Junior v roce \"&$I$4))","v":""},{"$f":"IF(C364=\"(prázdné)\",\"\",IF(($J$4-C364)>25,\"\",\"Junior v roce \"&$J$4))","v":""},null,null,{"$f":"IF(ISERROR(VLOOKUP(B364,'Zebrik W'!$B$7:$L$998,11,0)),\"\",IF(VLOOKUP(B364,'Zebrik W'!$B$7:$L$998,11,0)=0,\"--\",VLOOKUP(B364,'Zebrik W'!$B$7:$L$998,11,0)))","v":""}]
[359,"Vilem Riha",1990,"M","Letňany","CZ/C1",4890,1,"","",null,null,{"$f":"IF(ISERROR(VLOOKUP(B365,'Zebrik W'!$B$7:$L$998,11,0)),\"\",IF(VLOOKUP(B365,'Zebrik W'!$B$7:$L$998,11,0)=0,\"--\",VLOOKUP(B365,'Zebrik W'!$B$7:$L$998,11,0)))","v":""}]
[360,"Marek Loukota",2000,"M","Letkov","CZ/C1",4889,1,"Junior v roce 2022","Junior v roce 2023",null,null,{"$f":"IF(ISERROR(VLOOKUP(B366,'Zebrik W'!$B$7:$L$998,11,0)),\"\",IF(VLOOKUP(B366,'Zebrik W'!$B$7:$L$998,11,0)=0,\"--\",VLOOKUP(B366,'Zebrik W'!$B$7:$L$998,11,0)))","v":""}]
[361,"Tomas Holenda",1956,"M","Havlíčkův Brod","CZ/C2",4848,2,"","",null,null,{"$f":"IF(ISERROR(VLOOKUP(B367,'Zebrik W'!$B$7:$L$998,11,0)),\"\",IF(VLOOKUP(B367,'Zebrik W'!$B$7:$L$998,11,0)=0,\"--\",VLOOKUP(B367,'Zebrik W'!$B$7:$L$998,11,0)))","v":""}]
[362,"Stanislav Vrabec",1975,"M","Česká Lípa","CZ/C2",4831,3,"","",null,null,{"$f":"IF(ISERROR(VLOOKUP(B368,'Zebrik W'!$B$7:$L$998,11,0)),\"\",IF(VLOOKUP(B368,'Zebrik W'!$B$7:$L$998,11,0)=0,\"--\",VLOOKUP(B368,'Zebrik W'!$B$7:$L$998,11,0)))","v":""}]
[363,"Tereza Krcilova Spalenkova",1981,"F","Raná","CZ/C2",4805,2,"","",null,null,{"$f":"IF(ISERROR(VLOOKUP(B369,'Zebrik W'!$B$7:$L$998,11,0)),\"\",IF(VLOOKUP(B369,'Zebrik W'!$B$7:$L$998,11,0)=0,\"--\",VLOOKUP(B369,'Zebrik W'!$B$7:$L$998,11,0)))","v":"--"}]
[364,"Antonin Pilat",1971,"M","Vyškov","CZ/M",4796,1,"","",null,null,{"$f":"IF(ISERROR(VLOOKUP(B370,'Zebrik W'!$B$7:$L$998,11,0)),\"\",IF(VLOOKUP(B370,'Zebrik W'!$B$7:$L$998,11,0)=0,\"--\",VLOOKUP(B370,'Zebrik W'!$B$7:$L$998,11,0)))","v":""}]
[365,"Jiri Krofta",1988,"M","Hosín","CZ/C1",4700,2,"","",null,null,{"$f":"IF(ISERROR(VLOOKUP(B371,'Zebrik W'!$B$7:$L$998,11,0)),\"\",IF(VLOOKUP(B371,'Zebrik W'!$B$7:$L$998,11,0)=0,\"--\",VLOOKUP(B371,'Zebrik W'!$B$7:$L$998,11,0)))","v":""}]
[366,"Petr Tax",1968,"M","Jičín","CZ/C2",4661,1,"","",null,null,{"$f":"IF(ISERROR(VLOOKUP(B372,'Zebrik W'!$B$7:$L$998,11,0)),\"\",IF(VLOOKUP(B372,'Zebrik W'!$B$7:$L$998,11,0)=0,\"--\",VLOOKUP(B372,'Zebrik W'!$B$7:$L$998,11,0)))","v":""}]
[367,"Ondrej Hart",1990,"M","Letňany","CZ/C1",4658,1,"","",null,null,{"$f":"IF(ISERROR(VLOOKUP(B373,'Zebrik W'!$B$7:$L$998,11,0)),\"\",IF(VLOOKUP(B373,'Zebrik W'!$B$7:$L$998,11,0)=0,\"--\",VLOOKUP(B373,'Zebrik W'!$B$7:$L$998,11,0)))","v":""}]
[368,"Michal Vranek",1993,"M","Hosín","CZ/C1",4638,1,"","",null,null,{"$f":"IF(ISERROR(VLOOKUP(B374,'Zebrik W'!$B$7:$L$998,11,0)),\"\",IF(VLOOKUP(B374,'Zebrik W'!$B$7:$L$998,11,0)=0,\"--\",VLOOKUP(B374,'Zebrik W'!$B$7:$L$998,11,0)))","v":""}]
[369,"Stanislav Doskocil",1978,"M","Medlánky","CZ/M",4594,1,"","",null,null,{"$f":"IF(ISERROR(VLOOKUP(B375,'Zebrik W'!$B$7:$L$998,11,0)),\"\",IF(VLOOKUP(B375,'Zebrik W'!$B$7:$L$998,11,0)=0,\"--\",VLOOKUP(B375,'Zebrik W'!$B$7:$L$998,11,0)))","v":""}]
[370,"Jan Matejovsky",1972,"M","Hranice","CZ/M",4525,1,"","",null,null,{"$f":"IF(ISERROR(VLOOKUP(B376,'Zebrik W'!$B$7:$L$998,11,0)),\"\",IF(VLOOKUP(B376,'Zebrik W'!$B$7:$L$998,11,0)=0,\"--\",VLOOKUP(B376,'Zebrik W'!$B$7:$L$998,11,0)))","v":""}]
[371,"Daniela Frankova",1997,"M","Jaroměř","CZ/C2",4520,1,"Junior v roce 2022","",null,null,{"$f":"IF(ISERROR(VLOOKUP(B377,'Zebrik W'!$B$7:$L$998,11,0)),\"\",IF(VLOOKUP(B377,'Zebrik W'!$B$7:$L$998,11,0)=0,\"--\",VLOOKUP(B377,'Zebrik W'!$B$7:$L$998,11,0)))","v":""}]
[372,"Petr Prichystal",1973,"M","Moravská Třebová","CZ/M",4495,1,"","",null,null,{"$f":"IF(ISERROR(VLOOKUP(B378,'Zebrik W'!$B$7:$L$998,11,0)),\"\",IF(VLOOKUP(B378,'Zebrik W'!$B$7:$L$998,11,0)=0,\"--\",VLOOKUP(B378,'Zebrik W'!$B$7:$L$998,11,0)))","v":""}]
[373,"Radek Hamrla",1973,"M","Vyškov","CZ/M",4447,1,"","",null,null,{"$f":"IF(ISERROR(VLOOKUP(B379,'Zebrik W'!$B$7:$L$998,11,0)),\"\",IF(VLOOKUP(B379,'Zebrik W'!$B$7:$L$998,11,0)=0,\"--\",VLOOKUP(B379,'Zebrik W'!$B$7:$L$998,11,0)))","v":""}]
[374,"Vaclav Petru",1974,"M","Letňany","CZ/C1",4440,1,"","",null,null,{"$f":"IF(ISERROR(VLOOKUP(B380,'Zebrik W'!$B$7:$L$998,11,0)),\"\",IF(VLOOKUP(B380,'Zebrik W'!$B$7:$L$998,11,0)=0,\"--\",VLOOKUP(B380,'Zebrik W'!$B$7:$L$998,11,0)))","v":""}]
[375,"Petr Frycek",1960,"M","Most","CZ/C2",4438,1,"","",null,null,{"$f":"IF(ISERROR(VLOOKUP(B381,'Zebrik W'!$B$7:$L$998,11,0)),\"\",IF(VLOOKUP(B381,'Zebrik W'!$B$7:$L$998,11,0)=0,\"--\",VLOOKUP(B381,'Zebrik W'!$B$7:$L$998,11,0)))","v":""}]
[376,"Petr Traeger",1983,"M","Vrchlabí","CZ/C2",4418,1,"","",null,null,{"$f":"IF(ISERROR(VLOOKUP(B382,'Zebrik W'!$B$7:$L$998,11,0)),\"\",IF(VLOOKUP(B382,'Zebrik W'!$B$7:$L$998,11,0)=0,\"--\",VLOOKUP(B382,'Zebrik W'!$B$7:$L$998,11,0)))","v":""}]
[377,"David Krcil",1976,"M","Raná","CZ/C2",4411,2,"","",null,null,{"$f":"IF(ISERROR(VLOOKUP(B383,'Zebrik W'!$B$7:$L$998,11,0)),\"\",IF(VLOOKUP(B383,'Zebrik W'!$B$7:$L$998,11,0)=0,\"--\",VLOOKUP(B383,'Zebrik W'!$B$7:$L$998,11,0)))","v":""}]
[378,"Miroslav Mancik",1976,"M","Kyjov","CZ/M",4334,1,"","",null,null,{"$f":"IF(ISERROR(VLOOKUP(B384,'Zebrik W'!$B$7:$L$998,11,0)),\"\",IF(VLOOKUP(B384,'Zebrik W'!$B$7:$L$998,11,0)=0,\"--\",VLOOKUP(B384,'Zebrik W'!$B$7:$L$998,11,0)))","v":""}]
[379,"Viktor Becan",1979,"M","GAC Benešov","CZ/C1",4301,1,"","",null,null,{"$f":"IF(ISERROR(VLOOKUP(B385,'Zebrik W'!$B$7:$L$998,11,0)),\"\",IF(VLOOKUP(B385,'Zebrik W'!$B$7:$L$998,11,0)=0,\"--\",VLOOKUP(B385,'Zebrik W'!$B$7:$L$998,11,0)))","v":""}]
[380,"Vaclav cerny",1949,"M","Slaný","CZ/C1",4261,1,"","",null,null,{"$f":"IF(ISERROR(VLOOKUP(B386,'Zebrik W'!$B$7:$L$998,11,0)),\"\",IF(VLOOKUP(B386,'Zebrik W'!$B$7:$L$998,11,0)=0,\"--\",VLOOKUP(B386,'Zebrik W'!$B$7:$L$998,11,0)))","v":""}]
[381,"Petr Doubek",1974,"M","Kralupy","CZ/C1",4257,1,"","",null,null,{"$f":"IF(ISERROR(VLOOKUP(B387,'Zebrik W'!$B$7:$L$998,11,0)),\"\",IF(VLOOKUP(B387,'Zebrik W'!$B$7:$L$998,11,0)=0,\"--\",VLOOKUP(B387,'Zebrik W'!$B$7:$L$998,11,0)))","v":""}]
[382,"Karel Knotek",1961,"M","Soběslav","CZ/C1",4239,1,"","",null,null,{"$f":"IF(ISERROR(VLOOKUP(B388,'Zebrik W'!$B$7:$L$998,11,0)),\"\",IF(VLOOKUP(B388,'Zebrik W'!$B$7:$L$998,11,0)=0,\"--\",VLOOKUP(B388,'Zebrik W'!$B$7:$L$998,11,0)))","v":""}]
[383,"Radim Zielinski",1969,"M","Frýdlant","CZ/M",4159,1,"","",null,null,{"$f":"IF(ISERROR(VLOOKUP(B389,'Zebrik W'!$B$7:$L$998,11,0)),\"\",IF(VLOOKUP(B389,'Zebrik W'!$B$7:$L$998,11,0)=0,\"--\",VLOOKUP(B389,'Zebrik W'!$B$7:$L$998,11,0)))","v":""}]
[384,"Oldrich Hlavacek",1973,"M","Medlánky","CZ/M",4139,1,"","",null,null,{"$f":"IF(ISERROR(VLOOKUP(B390,'Zebrik W'!$B$7:$L$998,11,0)),\"\",IF(VLOOKUP(B390,'Zebrik W'!$B$7:$L$998,11,0)=0,\"--\",VLOOKUP(B390,'Zebrik W'!$B$7:$L$998,11,0)))","v":""}]
[{"$f":"RANK(G391,G:G)","v":385},"Jan Kristof",1962,"M","Frýdlant","CZ/M",4085,1,"","",null,null,{"$f":"IF(ISERROR(VLOOKUP(B391,'Zebrik W'!$B$7:$L$998,11,0)),\"\",IF(VLOOKUP(B391,'Zebrik W'!$B$7:$L$998,11,0)=0,\"--\",VLOOKUP(B391,'Zebrik W'!$B$7:$L$998,11,0)))","v":""}]
[386,"Jiri Dockal",1982,"M","Letňany","CZ/C1",4067,1,"","",null,null,{"$f":"IF(ISERROR(VLOOKUP(B392,'Zebrik W'!$B$7:$L$998,11,0)),\"\",IF(VLOOKUP(B392,'Zebrik W'!$B$7:$L$998,11,0)=0,\"--\",VLOOKUP(B392,'Zebrik W'!$B$7:$L$998,11,0)))","v":""}]
[387,"Martin Pekar",1973,"M","Šumperk","CZ/M",3999,1,"","",null,null,{"$f":"IF(ISERROR(VLOOKUP(B393,'Zebrik W'!$B$7:$L$998,11,0)),\"\",IF(VLOOKUP(B393,'Zebrik W'!$B$7:$L$998,11,0)=0,\"--\",VLOOKUP(B393,'Zebrik W'!$B$7:$L$998,11,0)))","v":""}]
[387,"Martin Tison",2000,"M","Hosín","CZ/C1",3999,1,"Junior v roce 2022","Junior v roce 2023",null,null,{"$f":"IF(ISERROR(VLOOKUP(B394,'Zebrik W'!$B$7:$L$998,11,0)),\"\",IF(VLOOKUP(B394,'Zebrik W'!$B$7:$L$998,11,0)=0,\"--\",VLOOKUP(B394,'Zebrik W'!$B$7:$L$998,11,0)))","v":""}]
[389,"Milos Novotny",1973,"M","Hronov","CZ/C2",3960,2,"","",null,null,{"$f":"IF(ISERROR(VLOOKUP(B395,'Zebrik W'!$B$7:$L$998,11,0)),\"\",IF(VLOOKUP(B395,'Zebrik W'!$B$7:$L$998,11,0)=0,\"--\",VLOOKUP(B395,'Zebrik W'!$B$7:$L$998,11,0)))","v":""}]
[390,"Lukas Fronek",1989,"M","Kyjov","CZ/M",3924,1,"","",null,null,{"$f":"IF(ISERROR(VLOOKUP(B396,'Zebrik W'!$B$7:$L$998,11,0)),\"\",IF(VLOOKUP(B396,'Zebrik W'!$B$7:$L$998,11,0)=0,\"--\",VLOOKUP(B396,'Zebrik W'!$B$7:$L$998,11,0)))","v":""}]
[391,"Rudolf Jung",1954,"M","Zbraslavice","CZ/C1",3833,1,"","",null,null,{"$f":"IF(ISERROR(VLOOKUP(B397,'Zebrik W'!$B$7:$L$998,11,0)),\"\",IF(VLOOKUP(B397,'Zebrik W'!$B$7:$L$998,11,0)=0,\"--\",VLOOKUP(B397,'Zebrik W'!$B$7:$L$998,11,0)))","v":""}]
[392,"Martin Suchy",1969,"M","Hranice","CZ/M",3815,1,"","",null,null,{"$f":"IF(ISERROR(VLOOKUP(B398,'Zebrik W'!$B$7:$L$998,11,0)),\"\",IF(VLOOKUP(B398,'Zebrik W'!$B$7:$L$998,11,0)=0,\"--\",VLOOKUP(B398,'Zebrik W'!$B$7:$L$998,11,0)))","v":""}]
[393,"Premysl Chvoj",2003,"M","Zbraslavice","CZ/C1",3775,1,"Junior v roce 2022","Junior v roce 2023",null,null,{"$f":"IF(ISERROR(VLOOKUP(B399,'Zebrik W'!$B$7:$L$998,11,0)),\"\",IF(VLOOKUP(B399,'Zebrik W'!$B$7:$L$998,11,0)=0,\"--\",VLOOKUP(B399,'Zebrik W'!$B$7:$L$998,11,0)))","v":""}]
[394,"Pavel Kuriscak",1987,"M","Beroun","CZ/C1",3762,1,"","",null,null,{"$f":"IF(ISERROR(VLOOKUP(B400,'Zebrik W'!$B$7:$L$998,11,0)),\"\",IF(VLOOKUP(B400,'Zebrik W'!$B$7:$L$998,11,0)=0,\"--\",VLOOKUP(B400,'Zebrik W'!$B$7:$L$998,11,0)))","v":""}]
[395,"Petr Omelka",1970,"M","Vyškov","CZ/M",3706,3,"","",null,null,{"$f":"IF(ISERROR(VLOOKUP(B401,'Zebrik W'!$B$7:$L$998,11,0)),\"\",IF(VLOOKUP(B401,'Zebrik W'!$B$7:$L$998,11,0)=0,\"--\",VLOOKUP(B401,'Zebrik W'!$B$7:$L$998,11,0)))","v":""}]
[396,"Vaclav Hruza",1965,"M","Břeclav","CZ/M",3624,1,"","",null,null,{"$f":"IF(ISERROR(VLOOKUP(B402,'Zebrik W'!$B$7:$L$998,11,0)),\"\",IF(VLOOKUP(B402,'Zebrik W'!$B$7:$L$998,11,0)=0,\"--\",VLOOKUP(B402,'Zebrik W'!$B$7:$L$998,11,0)))","v":""}]
[397,"Jiri Donat",1983,"M","Chrudim","CZ/C2",3598,2,"","",null,null,{"$f":"IF(ISERROR(VLOOKUP(B403,'Zebrik W'!$B$7:$L$998,11,0)),\"\",IF(VLOOKUP(B403,'Zebrik W'!$B$7:$L$998,11,0)=0,\"--\",VLOOKUP(B403,'Zebrik W'!$B$7:$L$998,11,0)))","v":""}]
[398,"Ludek Kluger",1963,"M","Tábor","CZ/C1",3520,1,"","",null,null,{"$f":"IF(ISERROR(VLOOKUP(B404,'Zebrik W'!$B$7:$L$998,11,0)),\"\",IF(VLOOKUP(B404,'Zebrik W'!$B$7:$L$998,11,0)=0,\"--\",VLOOKUP(B404,'Zebrik W'!$B$7:$L$998,11,0)))","v":""}]
[399,"Frantisek Kriz",1961,"M","Toužim","CZ/C1",3455,2,"","",null,null,{"$f":"IF(ISERROR(VLOOKUP(B405,'Zebrik W'!$B$7:$L$998,11,0)),\"\",IF(VLOOKUP(B405,'Zebrik W'!$B$7:$L$998,11,0)=0,\"--\",VLOOKUP(B405,'Zebrik W'!$B$7:$L$998,11,0)))","v":""}]
[400,"Matej Bartos",1998,"M","Hodkovice","CZ/C2",3342,1,"Junior v roce 2022","Junior v roce 2023",null,null,{"$f":"IF(ISERROR(VLOOKUP(B406,'Zebrik W'!$B$7:$L$998,11,0)),\"\",IF(VLOOKUP(B406,'Zebrik W'!$B$7:$L$998,11,0)=0,\"--\",VLOOKUP(B406,'Zebrik W'!$B$7:$L$998,11,0)))","v":""}]
[401,"Sabina Vitova",1998,"F","Kroměříž","CZ/M",3326,1,"Junior v roce 2022","Junior v roce 2023",null,null,{"$f":"IF(ISERROR(VLOOKUP(B407,'Zebrik W'!$B$7:$L$998,11,0)),\"\",IF(VLOOKUP(B407,'Zebrik W'!$B$7:$L$998,11,0)=0,\"--\",VLOOKUP(B407,'Zebrik W'!$B$7:$L$998,11,0)))","v":"--"}]
[401,"Kamil Hejda",1973,"M","Jičín","CZ/C2",3326,1,"","",null,null,{"$f":"IF(ISERROR(VLOOKUP(B408,'Zebrik W'!$B$7:$L$998,11,0)),\"\",IF(VLOOKUP(B408,'Zebrik W'!$B$7:$L$998,11,0)=0,\"--\",VLOOKUP(B408,'Zebrik W'!$B$7:$L$998,11,0)))","v":""}]
[403,"Jan Camr",2002,"M","Jaroměř","CZ/C2",3284,1,"Junior v roce 2022","Junior v roce 2023",null,null,{"$f":"IF(ISERROR(VLOOKUP(B409,'Zebrik W'!$B$7:$L$998,11,0)),\"\",IF(VLOOKUP(B409,'Zebrik W'!$B$7:$L$998,11,0)=0,\"--\",VLOOKUP(B409,'Zebrik W'!$B$7:$L$998,11,0)))","v":""}]
[404,"Martin Adamec",1971,"M","Medlánky","CZ/M",3232,2,"","",null,null,{"$f":"IF(ISERROR(VLOOKUP(B410,'Zebrik W'!$B$7:$L$998,11,0)),\"\",IF(VLOOKUP(B410,'Zebrik W'!$B$7:$L$998,11,0)=0,\"--\",VLOOKUP(B410,'Zebrik W'!$B$7:$L$998,11,0)))","v":""}]
[405,"Lukas Kotek",1994,"M","Frýdlant","CZ/M",3221,1,"","",null,null,{"$f":"IF(ISERROR(VLOOKUP(B411,'Zebrik W'!$B$7:$L$998,11,0)),\"\",IF(VLOOKUP(B411,'Zebrik W'!$B$7:$L$998,11,0)=0,\"--\",VLOOKUP(B411,'Zebrik W'!$B$7:$L$998,11,0)))","v":""}]
[406,"Tereza Novakova",1993,"F","Chrudim","CZ/C2",3215,1,"","",null,null,{"$f":"IF(ISERROR(VLOOKUP(B412,'Zebrik W'!$B$7:$L$998,11,0)),\"\",IF(VLOOKUP(B412,'Zebrik W'!$B$7:$L$998,11,0)=0,\"--\",VLOOKUP(B412,'Zebrik W'!$B$7:$L$998,11,0)))","v":"--"}]
[407,"Jiri Tomicek",1947,"M","Dvůr Králové","CZ/C2",3143,2,"","",null,null,{"$f":"IF(ISERROR(VLOOKUP(B413,'Zebrik W'!$B$7:$L$998,11,0)),\"\",IF(VLOOKUP(B413,'Zebrik W'!$B$7:$L$998,11,0)=0,\"--\",VLOOKUP(B413,'Zebrik W'!$B$7:$L$998,11,0)))","v":""}]
[408,"Petr Kubik 75",1975,"M","Moravská Třebová","CZ/M",3068,1,"","",null,null,{"$f":"IF(ISERROR(VLOOKUP(B414,'Zebrik W'!$B$7:$L$998,11,0)),\"\",IF(VLOOKUP(B414,'Zebrik W'!$B$7:$L$998,11,0)=0,\"--\",VLOOKUP(B414,'Zebrik W'!$B$7:$L$998,11,0)))","v":""}]
[409,"Zdenek Mach",1976,"M","Broumov","CZ/C2",3064,1,"","",null,null,{"$f":"IF(ISERROR(VLOOKUP(B415,'Zebrik W'!$B$7:$L$998,11,0)),\"\",IF(VLOOKUP(B415,'Zebrik W'!$B$7:$L$998,11,0)=0,\"--\",VLOOKUP(B415,'Zebrik W'!$B$7:$L$998,11,0)))","v":""}]
[410,"Zuzana Markesova",2001,"F","Medlánky","CZ/M",3044,1,"Junior v roce 2022","Junior v roce 2023",null,null,{"$f":"IF(ISERROR(VLOOKUP(B416,'Zebrik W'!$B$7:$L$998,11,0)),\"\",IF(VLOOKUP(B416,'Zebrik W'!$B$7:$L$998,11,0)=0,\"--\",VLOOKUP(B416,'Zebrik W'!$B$7:$L$998,11,0)))","v":"--"}]
[411,"Jaroslav Cejka",1952,"M","Letkov","CZ/C1",3034,1,"","",null,null,{"$f":"IF(ISERROR(VLOOKUP(B417,'Zebrik W'!$B$7:$L$998,11,0)),\"\",IF(VLOOKUP(B417,'Zebrik W'!$B$7:$L$998,11,0)=0,\"--\",VLOOKUP(B417,'Zebrik W'!$B$7:$L$998,11,0)))","v":""}]
[412,"Michal Linhart",1982,"M","Vyškov","CZ/M",3032,2,"","",null,null,{"$f":"IF(ISERROR(VLOOKUP(B418,'Zebrik W'!$B$7:$L$998,11,0)),\"\",IF(VLOOKUP(B418,'Zebrik W'!$B$7:$L$998,11,0)=0,\"--\",VLOOKUP(B418,'Zebrik W'!$B$7:$L$998,11,0)))","v":""}]
[413,"Jan Zdvorak",1980,"M","Roudnice","CZ/C2",3000,1,"","",null,null,{"$f":"IF(ISERROR(VLOOKUP(B419,'Zebrik W'!$B$7:$L$998,11,0)),\"\",IF(VLOOKUP(B419,'Zebrik W'!$B$7:$L$998,11,0)=0,\"--\",VLOOKUP(B419,'Zebrik W'!$B$7:$L$998,11,0)))","v":""}]
[414,"Ivan Ladr",1940,"M","Dvůr Králové","CZ/C2",2995,1,"","",null,null,{"$f":"IF(ISERROR(VLOOKUP(B420,'Zebrik W'!$B$7:$L$998,11,0)),\"\",IF(VLOOKUP(B420,'Zebrik W'!$B$7:$L$998,11,0)=0,\"--\",VLOOKUP(B420,'Zebrik W'!$B$7:$L$998,11,0)))","v":""}]
[415,"Frantisek Brozman",1960,"M","Tachov","CZ/C1",2968,2,"","",null,null,{"$f":"IF(ISERROR(VLOOKUP(B421,'Zebrik W'!$B$7:$L$998,11,0)),\"\",IF(VLOOKUP(B421,'Zebrik W'!$B$7:$L$998,11,0)=0,\"--\",VLOOKUP(B421,'Zebrik W'!$B$7:$L$998,11,0)))","v":""}]
[416,"Adam Hepal",2004,"M","Kolín","CZ/C1",2939,1,"Junior v roce 2022","Junior v roce 2023",null,null,{"$f":"IF(ISERROR(VLOOKUP(B422,'Zebrik W'!$B$7:$L$998,11,0)),\"\",IF(VLOOKUP(B422,'Zebrik W'!$B$7:$L$998,11,0)=0,\"--\",VLOOKUP(B422,'Zebrik W'!$B$7:$L$998,11,0)))","v":""}]
[417,"Fabian Curda",2004,"M","Zábřeh","CZ/M",2933,1,"Junior v roce 2022","Junior v roce 2023",null,null,{"$f":"IF(ISERROR(VLOOKUP(B423,'Zebrik W'!$B$7:$L$998,11,0)),\"\",IF(VLOOKUP(B423,'Zebrik W'!$B$7:$L$998,11,0)=0,\"--\",VLOOKUP(B423,'Zebrik W'!$B$7:$L$998,11,0)))","v":""}]
[418,"Vaclav Hrdina",1984,"M","Letkov","CZ/C1",2887,2,"","",null,null,{"$f":"IF(ISERROR(VLOOKUP(B424,'Zebrik W'!$B$7:$L$998,11,0)),\"\",IF(VLOOKUP(B424,'Zebrik W'!$B$7:$L$998,11,0)=0,\"--\",VLOOKUP(B424,'Zebrik W'!$B$7:$L$998,11,0)))","v":""}]
[419,"Petr Cernicky",1974,"M","Toužim","CZ/C1",2820,1,"","",null,null,{"$f":"IF(ISERROR(VLOOKUP(B425,'Zebrik W'!$B$7:$L$998,11,0)),\"\",IF(VLOOKUP(B425,'Zebrik W'!$B$7:$L$998,11,0)=0,\"--\",VLOOKUP(B425,'Zebrik W'!$B$7:$L$998,11,0)))","v":""}]
[420,"Jaroslav Nedorost",1986,"M","Letňany","CZ/C1",2796,1,"","",null,null,{"$f":"IF(ISERROR(VLOOKUP(B426,'Zebrik W'!$B$7:$L$998,11,0)),\"\",IF(VLOOKUP(B426,'Zebrik W'!$B$7:$L$998,11,0)=0,\"--\",VLOOKUP(B426,'Zebrik W'!$B$7:$L$998,11,0)))","v":""}]
[421,"Jiri Pixa",1968,"M","Slaný","CZ/C1",2614,2,"","",null,null,{"$f":"IF(ISERROR(VLOOKUP(B427,'Zebrik W'!$B$7:$L$998,11,0)),\"\",IF(VLOOKUP(B427,'Zebrik W'!$B$7:$L$998,11,0)=0,\"--\",VLOOKUP(B427,'Zebrik W'!$B$7:$L$998,11,0)))","v":""}]
[422,"Lukas Zach",1987,"M","Vyškov","CZ/M",2560,1,{"$f":"IF(C428=\"(prázdné)\",\"\",IF(($I$4-C428)>25,\"\",\"Junior v roce \"&$I$4))","v":""},{"$f":"IF(C428=\"(prázdné)\",\"\",IF(($J$4-C428)>25,\"\",\"Junior v roce \"&$J$4))","v":""},null,null,{"$f":"IF(ISERROR(VLOOKUP(B428,'Zebrik W'!$B$7:$L$998,11,0)),\"\",IF(VLOOKUP(B428,'Zebrik W'!$B$7:$L$998,11,0)=0,\"--\",VLOOKUP(B428,'Zebrik W'!$B$7:$L$998,11,0)))","v":""}]
[423,"Daniel Devecka",1981,"M","Vlašim","CZ/C1",2468,1,"","",null,null,{"$f":"IF(ISERROR(VLOOKUP(B429,'Zebrik W'!$B$7:$L$998,11,0)),\"\",IF(VLOOKUP(B429,'Zebrik W'!$B$7:$L$998,11,0)=0,\"--\",VLOOKUP(B429,'Zebrik W'!$B$7:$L$998,11,0)))","v":""}]
[424,"Stepan Capek",1960,"M","Jičín","CZ/C2",2446,1,"","",null,null,{"$f":"IF(ISERROR(VLOOKUP(B430,'Zebrik W'!$B$7:$L$998,11,0)),\"\",IF(VLOOKUP(B430,'Zebrik W'!$B$7:$L$998,11,0)=0,\"--\",VLOOKUP(B430,'Zebrik W'!$B$7:$L$998,11,0)))","v":""}]
[425,"Filip Malik",2001,"M","Letňany","CZ/C1",2350,1,"Junior v roce 2022","Junior v roce 2023",null,null,{"$f":"IF(ISERROR(VLOOKUP(B431,'Zebrik W'!$B$7:$L$998,11,0)),\"\",IF(VLOOKUP(B431,'Zebrik W'!$B$7:$L$998,11,0)=0,\"--\",VLOOKUP(B431,'Zebrik W'!$B$7:$L$998,11,0)))","v":""}]
[426,"Vaclav Ochotny",1966,"M","Kunovice","CZ/M",2340,1,"","",null,null,{"$f":"IF(ISERROR(VLOOKUP(B432,'Zebrik W'!$B$7:$L$998,11,0)),\"\",IF(VLOOKUP(B432,'Zebrik W'!$B$7:$L$998,11,0)=0,\"--\",VLOOKUP(B432,'Zebrik W'!$B$7:$L$998,11,0)))","v":""}]
[426,"Martin Benesovsky",1900,"M","Kolín","CZ/C1",2340,2,"","",null,null,{"$f":"IF(ISERROR(VLOOKUP(B433,'Zebrik W'!$B$7:$L$998,11,0)),\"\",IF(VLOOKUP(B433,'Zebrik W'!$B$7:$L$998,11,0)=0,\"--\",VLOOKUP(B433,'Zebrik W'!$B$7:$L$998,11,0)))","v":""}]
[428,"Frantisek Suna",1983,"M","Hosín","CZ/C1",2325,1,"","",null,null,{"$f":"IF(ISERROR(VLOOKUP(B434,'Zebrik W'!$B$7:$L$998,11,0)),\"\",IF(VLOOKUP(B434,'Zebrik W'!$B$7:$L$998,11,0)=0,\"--\",VLOOKUP(B434,'Zebrik W'!$B$7:$L$998,11,0)))","v":""}]
[429,"Vojtech Flidr",2003,"M","Dvůr Králové","CZ/C2",2305,1,"Junior v roce 2022","Junior v roce 2023",null,null,{"$f":"IF(ISERROR(VLOOKUP(B435,'Zebrik W'!$B$7:$L$998,11,0)),\"\",IF(VLOOKUP(B435,'Zebrik W'!$B$7:$L$998,11,0)=0,\"--\",VLOOKUP(B435,'Zebrik W'!$B$7:$L$998,11,0)))","v":""}]
[430,"Tomas Hlavacek",1984,"M","Mladá Boleslav","CZ/C1",2223,1,"","",null,null,{"$f":"IF(ISERROR(VLOOKUP(B436,'Zebrik W'!$B$7:$L$998,11,0)),\"\",IF(VLOOKUP(B436,'Zebrik W'!$B$7:$L$998,11,0)=0,\"--\",VLOOKUP(B436,'Zebrik W'!$B$7:$L$998,11,0)))","v":""}]
[431,"Jiri Kohoutek",1983,"M","Olomouc","CZ/M",2164,1,"","",null,null,{"$f":"IF(ISERROR(VLOOKUP(B437,'Zebrik W'!$B$7:$L$998,11,0)),\"\",IF(VLOOKUP(B437,'Zebrik W'!$B$7:$L$998,11,0)=0,\"--\",VLOOKUP(B437,'Zebrik W'!$B$7:$L$998,11,0)))","v":""}]
[432,"Eliska Bohunovska",2001,"F","Hranice","CZ/M",2073,1,"Junior v roce 2022","Junior v roce 2023",null,null,{"$f":"IF(ISERROR(VLOOKUP(B438,'Zebrik W'!$B$7:$L$998,11,0)),\"\",IF(VLOOKUP(B438,'Zebrik W'!$B$7:$L$998,11,0)=0,\"--\",VLOOKUP(B438,'Zebrik W'!$B$7:$L$998,11,0)))","v":"--"}]
[433,"Petr Sochor",1986,"M","Hosín","CZ/C1",1975,1,"","",null,null,{"$f":"IF(ISERROR(VLOOKUP(B439,'Zebrik W'!$B$7:$L$998,11,0)),\"\",IF(VLOOKUP(B439,'Zebrik W'!$B$7:$L$998,11,0)=0,\"--\",VLOOKUP(B439,'Zebrik W'!$B$7:$L$998,11,0)))","v":""}]
[434,"Michal Posluzny",1968,"M","Medlánky","CZ/M",1930,1,"","",null,null,{"$f":"IF(ISERROR(VLOOKUP(B440,'Zebrik W'!$B$7:$L$998,11,0)),\"\",IF(VLOOKUP(B440,'Zebrik W'!$B$7:$L$998,11,0)=0,\"--\",VLOOKUP(B440,'Zebrik W'!$B$7:$L$998,11,0)))","v":""}]
[435,"Dusan Sys",1977,"M","Šumperk","CZ/M",1923,1,"","",null,null,{"$f":"IF(ISERROR(VLOOKUP(B441,'Zebrik W'!$B$7:$L$998,11,0)),\"\",IF(VLOOKUP(B441,'Zebrik W'!$B$7:$L$998,11,0)=0,\"--\",VLOOKUP(B441,'Zebrik W'!$B$7:$L$998,11,0)))","v":""}]
[436,"Jiri Klicnar",1965,"M","Medlánky","CZ/M",1919,1,"","",null,null,{"$f":"IF(ISERROR(VLOOKUP(B442,'Zebrik W'!$B$7:$L$998,11,0)),\"\",IF(VLOOKUP(B442,'Zebrik W'!$B$7:$L$998,11,0)=0,\"--\",VLOOKUP(B442,'Zebrik W'!$B$7:$L$998,11,0)))","v":""}]
[437,"Dusan Patocka",1972,"M","Vrchlabí","CZ/C2",1772,1,"","",null,null,{"$f":"IF(ISERROR(VLOOKUP(B443,'Zebrik W'!$B$7:$L$998,11,0)),\"\",IF(VLOOKUP(B443,'Zebrik W'!$B$7:$L$998,11,0)=0,\"--\",VLOOKUP(B443,'Zebrik W'!$B$7:$L$998,11,0)))","v":""}]
[438,"Michal Fortik",1976,"M","Točná","CZ/C1",1754,1,"","",null,null,{"$f":"IF(ISERROR(VLOOKUP(B444,'Zebrik W'!$B$7:$L$998,11,0)),\"\",IF(VLOOKUP(B444,'Zebrik W'!$B$7:$L$998,11,0)=0,\"--\",VLOOKUP(B444,'Zebrik W'!$B$7:$L$998,11,0)))","v":""}]
[438,"Jiri Hula",1973,"M","Slaný","CZ/C1",1754,1,"","",null,null,{"$f":"IF(ISERROR(VLOOKUP(B445,'Zebrik W'!$B$7:$L$998,11,0)),\"\",IF(VLOOKUP(B445,'Zebrik W'!$B$7:$L$998,11,0)=0,\"--\",VLOOKUP(B445,'Zebrik W'!$B$7:$L$998,11,0)))","v":""}]
[440,"Tim Raasch",2000,"M","Polička","CZ/C2",1737,2,"Junior v roce 2022","Junior v roce 2023",null,null,{"$f":"IF(ISERROR(VLOOKUP(B446,'Zebrik W'!$B$7:$L$998,11,0)),\"\",IF(VLOOKUP(B446,'Zebrik W'!$B$7:$L$998,11,0)=0,\"--\",VLOOKUP(B446,'Zebrik W'!$B$7:$L$998,11,0)))","v":""}]
[441,"Jan Jindra",1981,"M","Roudnice","CZ/C2",1673,1,"","",null,null,{"$f":"IF(ISERROR(VLOOKUP(B447,'Zebrik W'!$B$7:$L$998,11,0)),\"\",IF(VLOOKUP(B447,'Zebrik W'!$B$7:$L$998,11,0)=0,\"--\",VLOOKUP(B447,'Zebrik W'!$B$7:$L$998,11,0)))","v":""}]
[442,"Martin Svacina",1965,"M","Frýdlant","CZ/M",1663,1,"","",null,null,{"$f":"IF(ISERROR(VLOOKUP(B448,'Zebrik W'!$B$7:$L$998,11,0)),\"\",IF(VLOOKUP(B448,'Zebrik W'!$B$7:$L$998,11,0)=0,\"--\",VLOOKUP(B448,'Zebrik W'!$B$7:$L$998,11,0)))","v":""}]
[443,"Vojtech Sehnal",1994,"M","Kolín","CZ/C1",1661,1,"","",null,null,{"$f":"IF(ISERROR(VLOOKUP(B449,'Zebrik W'!$B$7:$L$998,11,0)),\"\",IF(VLOOKUP(B449,'Zebrik W'!$B$7:$L$998,11,0)=0,\"--\",VLOOKUP(B449,'Zebrik W'!$B$7:$L$998,11,0)))","v":""}]
[444,"Stanislav John",1974,"M","Hosín","CZ/C1",1438,1,"","",null,null,{"$f":"IF(ISERROR(VLOOKUP(B450,'Zebrik W'!$B$7:$L$998,11,0)),\"\",IF(VLOOKUP(B450,'Zebrik W'!$B$7:$L$998,11,0)=0,\"--\",VLOOKUP(B450,'Zebrik W'!$B$7:$L$998,11,0)))","v":""}]
[445,"Lukas Zemek",1994,"M","Letkov","CZ/C1",1317,1,"","",null,null,{"$f":"IF(ISERROR(VLOOKUP(B451,'Zebrik W'!$B$7:$L$998,11,0)),\"\",IF(VLOOKUP(B451,'Zebrik W'!$B$7:$L$998,11,0)=0,\"--\",VLOOKUP(B451,'Zebrik W'!$B$7:$L$998,11,0)))","v":""}]
[446,"Michaela Sirmerova",2000,"F","Jihlava","CZ/M",1259,1,"Junior v roce 2022","Junior v roce 2023",null,null,{"$f":"IF(ISERROR(VLOOKUP(B452,'Zebrik W'!$B$7:$L$998,11,0)),\"\",IF(VLOOKUP(B452,'Zebrik W'!$B$7:$L$998,11,0)=0,\"--\",VLOOKUP(B452,'Zebrik W'!$B$7:$L$998,11,0)))","v":"--"}]
[447,"Viktor Zimcik",1976,"M","Kunovice","CZ/M",1258,1,"","",null,null,{"$f":"IF(ISERROR(VLOOKUP(B453,'Zebrik W'!$B$7:$L$998,11,0)),\"\",IF(VLOOKUP(B453,'Zebrik W'!$B$7:$L$998,11,0)=0,\"--\",VLOOKUP(B453,'Zebrik W'!$B$7:$L$998,11,0)))","v":""}]
[448,"Stanislava Zemlickova",2000,"F","Vyškov","CZ/M",1246,1,"Junior v roce 2022","Junior v roce 2023",null,null,{"$f":"IF(ISERROR(VLOOKUP(B454,'Zebrik W'!$B$7:$L$998,11,0)),\"\",IF(VLOOKUP(B454,'Zebrik W'!$B$7:$L$998,11,0)=0,\"--\",VLOOKUP(B454,'Zebrik W'!$B$7:$L$998,11,0)))","v":"--"}]
[{"$f":"RANK(G455,G:G)","v":449},"Jan Konecny",1972,"M","Rakovník","CZ/C1",1226,1,"","",null,null,{"$f":"IF(ISERROR(VLOOKUP(B455,'Zebrik W'!$B$7:$L$998,11,0)),\"\",IF(VLOOKUP(B455,'Zebrik W'!$B$7:$L$998,11,0)=0,\"--\",VLOOKUP(B455,'Zebrik W'!$B$7:$L$998,11,0)))","v":""}]
[450,"Jan Podhrazsky",1976,"M","Šumperk","CZ/M",1120,1,"","",null,null,{"$f":"IF(ISERROR(VLOOKUP(B456,'Zebrik W'!$B$7:$L$998,11,0)),\"\",IF(VLOOKUP(B456,'Zebrik W'!$B$7:$L$998,11,0)=0,\"--\",VLOOKUP(B456,'Zebrik W'!$B$7:$L$998,11,0)))","v":""}]
[451,"Christof Madoery",1958,"M","Šumperk","CZ/M",1113,1,"","",null,null,{"$f":"IF(ISERROR(VLOOKUP(B457,'Zebrik W'!$B$7:$L$998,11,0)),\"\",IF(VLOOKUP(B457,'Zebrik W'!$B$7:$L$998,11,0)=0,\"--\",VLOOKUP(B457,'Zebrik W'!$B$7:$L$998,11,0)))","v":""}]
[452,"Pavel Svrcek",1972,"M","Frýdlant","CZ/M",1097,1,"","",null,null,{"$f":"IF(ISERROR(VLOOKUP(B458,'Zebrik W'!$B$7:$L$998,11,0)),\"\",IF(VLOOKUP(B458,'Zebrik W'!$B$7:$L$998,11,0)=0,\"--\",VLOOKUP(B458,'Zebrik W'!$B$7:$L$998,11,0)))","v":""}]
[453,"Vladislav Cadsky",1975,"M","Kolín","CZ/C1",1081,2,"","",null,null,{"$f":"IF(ISERROR(VLOOKUP(B459,'Zebrik W'!$B$7:$L$998,11,0)),\"\",IF(VLOOKUP(B459,'Zebrik W'!$B$7:$L$998,11,0)=0,\"--\",VLOOKUP(B459,'Zebrik W'!$B$7:$L$998,11,0)))","v":""}]
[454,"Albert Schneider",1967,"M","Hranice","CZ/M",1036,1,"","",null,null,{"$f":"IF(ISERROR(VLOOKUP(B460,'Zebrik W'!$B$7:$L$998,11,0)),\"\",IF(VLOOKUP(B460,'Zebrik W'!$B$7:$L$998,11,0)=0,\"--\",VLOOKUP(B460,'Zebrik W'!$B$7:$L$998,11,0)))","v":""}]
[455,"Libor Kovarnik",1968,"M","Mladá Boleslav","CZ/C1",1000,1,"","",null,null,{"$f":"IF(ISERROR(VLOOKUP(B461,'Zebrik W'!$B$7:$L$998,11,0)),\"\",IF(VLOOKUP(B461,'Zebrik W'!$B$7:$L$998,11,0)=0,\"--\",VLOOKUP(B461,'Zebrik W'!$B$7:$L$998,11,0)))","v":""}]
[456,"Bohumir Zajdl",1950,"M","Dvůr Králové","CZ/C2",992,1,"","",null,null,{"$f":"IF(ISERROR(VLOOKUP(B462,'Zebrik W'!$B$7:$L$998,11,0)),\"\",IF(VLOOKUP(B462,'Zebrik W'!$B$7:$L$998,11,0)=0,\"--\",VLOOKUP(B462,'Zebrik W'!$B$7:$L$998,11,0)))","v":""}]
[457,"Zuzana Kutilkova",1993,"F","Křižanov","CZ/M",925,1,"","",null,null,{"$f":"IF(ISERROR(VLOOKUP(B463,'Zebrik W'!$B$7:$L$998,11,0)),\"\",IF(VLOOKUP(B463,'Zebrik W'!$B$7:$L$998,11,0)=0,\"--\",VLOOKUP(B463,'Zebrik W'!$B$7:$L$998,11,0)))","v":"--"}]
[458,"Pavel Handl",1971,"M","Kroměříž","CZ/M",887,2,"","",null,null,{"$f":"IF(ISERROR(VLOOKUP(B464,'Zebrik W'!$B$7:$L$998,11,0)),\"\",IF(VLOOKUP(B464,'Zebrik W'!$B$7:$L$998,11,0)=0,\"--\",VLOOKUP(B464,'Zebrik W'!$B$7:$L$998,11,0)))","v":""}]
[459,"Jan Mittner",1986,"M","Zbraslavice","CZ/C1",834,1,"","",null,null,{"$f":"IF(ISERROR(VLOOKUP(B465,'Zebrik W'!$B$7:$L$998,11,0)),\"\",IF(VLOOKUP(B465,'Zebrik W'!$B$7:$L$998,11,0)=0,\"--\",VLOOKUP(B465,'Zebrik W'!$B$7:$L$998,11,0)))","v":""}]
[460,"Zbynek Kuchta",1976,"M","Klatovy","CZ/C1",830,1,"","",null,null,{"$f":"IF(ISERROR(VLOOKUP(B466,'Zebrik W'!$B$7:$L$998,11,0)),\"\",IF(VLOOKUP(B466,'Zebrik W'!$B$7:$L$998,11,0)=0,\"--\",VLOOKUP(B466,'Zebrik W'!$B$7:$L$998,11,0)))","v":""}]
[461,"Lukas Jezek",1975,"M","Jičín","CZ/C2",751,1,"","",null,null,{"$f":"IF(ISERROR(VLOOKUP(B467,'Zebrik W'!$B$7:$L$998,11,0)),\"\",IF(VLOOKUP(B467,'Zebrik W'!$B$7:$L$998,11,0)=0,\"--\",VLOOKUP(B467,'Zebrik W'!$B$7:$L$998,11,0)))","v":""}]
[462,"Michal Richter",1983,"M","Kolín","CZ/C1",746,1,"","",null,null,{"$f":"IF(ISERROR(VLOOKUP(B468,'Zebrik W'!$B$7:$L$998,11,0)),\"\",IF(VLOOKUP(B468,'Zebrik W'!$B$7:$L$998,11,0)=0,\"--\",VLOOKUP(B468,'Zebrik W'!$B$7:$L$998,11,0)))","v":""}]
[463,"Gabriela Cervena",1966,"F","Jaroměř","CZ/C2",599,1,"","",null,null,{"$f":"IF(ISERROR(VLOOKUP(B469,'Zebrik W'!$B$7:$L$998,11,0)),\"\",IF(VLOOKUP(B469,'Zebrik W'!$B$7:$L$998,11,0)=0,\"--\",VLOOKUP(B469,'Zebrik W'!$B$7:$L$998,11,0)))","v":"--"}]
[464,"Jan Platenik",1981,"M","Krnov","CZ/M",584,1]
[465,"Milos Rejzl",1962,"M","Klatovy","CZ/C1",539,1]
[466,"Jiri Janda",1966,"M","Letňany","CZ/C1",387,1]
[]
[]
[{"$f":"Soutez!B139","v":"Schváleno Plachtařskou komisí AeČR dne xx.yy.2021 v ZZZZ"}]

{"sheet":"Zebrik W","index":8,"n_rows":43,"n_cols":13,"rows_kept":43,"cut":false,"hidden":false,"merged":[]}
[null,{"$f":"\"Ženský Žebřík pilotek plachtařek PK AeČR \"&A6","v":"Ženský Žebřík pilotek plachtařek PK AeČR 2021"},null,null,null,null,null,null,{"$f":"'Zebrik G'!I1","v":"2021-11-25"},"Rev.",{"$f":"'Zebrik G'!K1","v":"00"},{"$f":"'Zebrik G'!L1","v":"Základní verze"}]
[]
[null,"W","x",null,null,null,null,null,"Juniorka v roce:","Juniorka v roce:",{"$f":"\"W Repre družstvo \"&I4","v":"W Repre družstvo 2022"},{"$f":"\"W Repre výběr \"&I4","v":"W Repre výběr 2022"},"Poznámka"]
[null,null,null,null,null,null,null,null,{"$f":"A6+1","v":2022},{"$f":"A6+2","v":2023},"(WRD)","(WRV)"]
["Pořadí",null,null,null,null,null,"Data",null,{"$f":"COUNTIF(I7:I495,\"Juniorka v roce \"&$I$4)","v":9},{"$f":"COUNTIF(J7:J495,\"Juniorka v roce \"&$J$4)","v":9},{"$f":"COUNTIF(K7:K495,\"WRD \"&$I$4)","v":0},{"$f":"COUNTIF(L7:L495,\"WRV \"&$I$4)","v":9},{"$f":"COUNTIF(M7:M495,\"<>\")","v":0}]
[{"$f":"'Zebrik G'!A6","v":2021},"Jméno","Rok narození","M/F","Aeroklub","Region","Součet z Bi×Kinp","Počet W"]
[{"$f":"RANK(G7,G:G)","v":1},"Alena Netusilova",1970,"F","Zbraslavice","CZ/C1",27973,3,{"$f":"IF(C7=\"(prázdné)\",\"\",IF(($I$4-C7)>25,\"\",\"Juniorka v roce \"&$I$4))","v":""},{"$f":"IF(C7=\"(prázdné)\",\"\",IF(($J$4-C7)>25,\"\",\"Juniorka v roce \"&$J$4))","v":""},null,"WRV 2022"]
[2,"Dana Novakova",1965,"F","Mladá Boleslav","CZ/C1",27076,3,{"$f":"IF(C8=\"(prázdné)\",\"\",IF(($I$4-C8)>25,\"\",\"Juniorka v roce \"&$I$4))","v":""},{"$f":"IF(C8=\"(prázdné)\",\"\",IF(($J$4-C8)>25,\"\",\"Juniorka v roce \"&$J$4))","v":""},null,"WRV 2022"]
[3,"Hana Treslova",1991,"F","Raná","CZ/C2",26594,3,"","",null,"WRV 2022"]
[4,"Jana Veprekova",1961,"F","Dvůr Králové","CZ/C2",26037,3,"","",null,"WRV 2022"]
[5,"Tereza Koubkova",1999,"F","Vysoké Mýto","CZ/C2",24997,3,"Juniorka v roce 2022","Juniorka v roce 2023",null,"WRV 2022"]
[6,"Barbora Moravcova",1994,"F","Zbraslavice","CZ/C1",24734,3,"","",null,"WRV 2022"]
[7,"Jana Treslova",1963,"F","Raná","CZ/C2",24699,3,"","",null,"WRV 2022"]
[8,"Lenka Kuthanova",1960,"F","Tábor","CZ/C1",23579,3,"","",null,"WRV 2022"]
[9,"Michaela Krizova",2001,"F","Přibyslav","CZ/C2",22883,3,"Juniorka v roce 2022","Juniorka v roce 2023",null,"WRV 2022"]
[10,"Petra Piskata",1989,"F","Luhačovice","CZ/M",22834,3,"",""]
[11,"Michaela Rendlova",2004,"F","Toužim","CZ/C1",22534,3,"Juniorka v roce 2022","Juniorka v roce 2023"]
[12,"Klara Teichmannova",1993,"F","Hronov","CZ/C2",22073,3,"",""]
[13,"Pavlina Horackova",1965,"F","Šumperk","CZ/M",20532,3,"",""]
[14,"Eva Cerna",1964,"F","Příbram","CZ/C1",17027,3,"",""]
[15,"Katerina Vojtova",1983,"F","Slaný","CZ/C1",14143,3,"",""]
[16,"Jana Mezerova",1975,"F","Raná","CZ/C2",12654,3,"",""]
[17,"Linda Vasatova",1990,"F","Mladá Boleslav","CZ/C1",12544,3,"",""]
[18,"Sarka Lochova",1966,"F","Šumperk","CZ/M",11576,3,"",""]
[19,"Yvona Vyhnankova",1963,"F","Olomouc","CZ/M",10609,3,"",""]
[20,"Olga Mokosova",1970,"F","Jihlava","CZ/M",8468,2,"",""]
[21,"Katerina Vancurova",2002,"F","Hranice","CZ/M",7483,2,"Juniorka v roce 2022","Juniorka v roce 2023"]
[22,"Anna Bordovska",1989,"F","Mladá Boleslav","CZ/C1",5980,1,"",""]
[23,"Jarmila Zatykova",1959,"F","Kralupy","CZ/C1",5567,1,"",""]
[24,"Barbora Kubickova",1993,"F","Medlánky","CZ/M",5434,1,"",""]
[25,"Kristina Santruckova",1996,"F","Podhořany","CZ/C2",5236,2,"",""]
[26,"Tereza Krcilova Spalenkova",1981,"F","Raná","CZ/C2",4805,2,"",""]
[27,"Sabina Vitova",1998,"F","Kroměříž","CZ/M",3326,1,"Juniorka v roce 2022","Juniorka v roce 2023"]
[28,"Tereza Novakova",1993,"F","Chrudim","CZ/C2",3215,1,"",""]
[29,"Zuzana Markesova",2001,"F","Medlánky","CZ/M",3044,1,"Juniorka v roce 2022","Juniorka v roce 2023"]
[30,"Eliska Bohunovska",2001,"F","Hranice","CZ/M",2073,1,"Juniorka v roce 2022","Juniorka v roce 2023"]
[31,"Michaela Sirmerova",2000,"F","Jihlava","CZ/M",1259,1,"Juniorka v roce 2022","Juniorka v roce 2023"]
[32,"Stanislava Zemlickova",2000,"F","Vyškov","CZ/M",1246,1,"Juniorka v roce 2022","Juniorka v roce 2023"]
[33,"Zuzana Kutilkova",1993,"F","Křižanov","CZ/M",925,1,"",""]
[34,"Gabriela Cervena",1966,"F","Jaroměř","CZ/C2",599,1,"",""]
[]
[]
[{"$f":"Soutez!B139","v":"Schváleno Plachtařskou komisí AeČR dne xx.yy.2021 v ZZZZ"}]

{"sheet":"KB PMRg 2019","index":9,"n_rows":42,"n_cols":13,"rows_kept":42,"cut":false,"hidden":false,"merged":[[0,0,0,12]]}
["PMRg 2019 - Vysoké Mýto - Korigované body"]
["Pořadí v KB","Jméno","Rok narození","M/F","Aeroklub","Region","Soutěž","Pořadí ve třídě","Body ve třídě","Bi","Typ","CN","Junior"]
[{"$f":"RANK(J3,J:J)","v":1},"Karel Novak",{"$f":"VLOOKUP(B3,Pilot,2,0)","v":1993},{"$f":"VLOOKUP(B3,Pilot,5,0)","v":"M"},{"$f":"VLOOKUP(B3,Pilot,3,0)","v":"Mladá Boleslav"},{"$f":"VLOOKUP(B3,Pilot,4,0)","v":"CZ/C1"},"PMRg 2019 - Klub",1,7016,10000,"Std. Cirrus","DI",{"$f":"IF(ISERROR(VLOOKUP(B3,Pilot,6,0)),\"Není v databázi\",VLOOKUP(B3,Pilot,6,0))","v":""}]
[1,"Jan Louda",1986,"M","Mladá Boleslav","CZ/C1","PMRg 2019 - Kombi",1,6191,10000,"Ventus a 15m WL 500kg (voda)","FW",""]
[3,"Karel Mares",1974,"M","Slaný","CZ/C1","PMRg 2019 - Kombi",2,6041,9580,"Ventus b 16.6m WL","7F",""]
[4,"Michal Lesinger",1966,"M","Moravská Třebová","CZ/M","PMRg 2019 - Klub",2,6536,9391,"ASW-19B","LL",""]
[5,"Vojtech Novotny",1992,"M","Kralupy","CZ/C1","PMRg 2019 - Klub",3,6445,9169,"LS 1f","EF",""]
[6,"Hana Treslova",1991,"F","Raná","CZ/C2","PMRg 2019 - Kombi",3,5887,9156,"LS 8 15m (voda)","AU",""]
[7,"Jiri Stepanek",1956,"M","Moravská Třebová","CZ/M","PMRg 2019 - Klub",4,6307,8901,"ASW-15B","LE",""]
[8,"Zdenek Boruvka 54",1954,"M","Jičín","CZ/C2","PMRg 2019 - Kombi",4,5813,8823,"LS 8 15m (voda)","ZB",""]
[9,"Jan Zahradka",1981,"M","Hodkovice","CZ/C2","PMRg 2019 - Klub",5,6168,8632,"Std. Cirrus","AR",""]
[10,"Dana Novakova",1965,"F","Mladá Boleslav","CZ/C1","PMRg 2019 - Kombi",5,5693,8437,"LS 8 15m (voda)","FX",""]
[11,"Zdenek Boruvka 86",1986,"M","Jičín","CZ/C2","PMRg 2019 - Klub",6,6082,8416,"Std. Cirrus","BJ",""]
[12,"Michal Krupicka",1975,"M","Most","CZ/C2","PMRg 2019 - Klub",7,5981,8185,"Std. Cirrus","K",""]
[13,"Jan Vavrin",1987,"M","Vysoké Mýto","CZ/C2","PMRg 2019 - Klub",8,5958,8031,"ASW-15B","IG",""]
[14,"Miroslav Koci",1961,"M","Žamberk","CZ/C2","PMRg 2019 - Kombi",6,5213,7644,"Ventus 2cxm 18m 565kg (voda)","E8",""]
[15,"Tereza Koubkova",1999,"F","Vysoké Mýto","CZ/C2","PMRg 2019 - Klub",9,5495,7439,"Std. Cirrus","WY","Junior v roce 2022"]
[16,"Vaclav Marel",1974,"M","Jaroměř","CZ/C2","PMRg 2019 - Klub",10,5399,7213,"Std. Cirrus","IF",""]
[17,"Jana Treslova",1963,"F","Raná","CZ/C2","PMRg 2019 - Kombi",7,5029,7186,"JS-3, TJ 18m (voda)","ZE",""]
[18,"Jindrich Hruska",1986,"M","Soběslav","CZ/C1","PMRg 2019 - Klub",11,5336,7019,"303 Mosquito","UFO",""]
[19,"Jan Vozeh",1995,"M","Rakovník","CZ/C1","PMRg 2019 - Klub",12,5287,6840,"Std. Cirrus","OG",""]
[20,"Jiri Slemr",1979,"M","Vysoké Mýto","CZ/C2","PMRg 2019 - Kombi",8,4840,6722,"Discus b (voda)",65,""]
[21,"Lukas Plocek",1990,"M","Mladá Boleslav","CZ/C1","PMRg 2019 - Klub",13,5284,6707,"ASW-19B","AH",""]
[22,"Pavlina Horackova",1965,"F","Šumperk","CZ/M","PMRg 2019 - Klub",14,5256,6548,"SZD-48 Jantar Std. 2(3)","SU",""]
[23,"Lenka Kuthanova",1960,"F","Tábor","CZ/C1","PMRg 2019 - Kombi",9,4767,6390,"JS-1C (TJ) 18m EVO","LX",""]
[24,"Jan Smaha",1958,"M","Česká Lípa","CZ/C2","PMRg 2019 - Klub",15,4916,6079,"ASW-15B","CW",""]
[25,"Martin Stepanek",1987,"M","Moravská Třebová","CZ/M","PMRg 2019 - Klub",16,4840,5872,"ASW-15B","ZP",""]
[26,"Barbora Kubickova",1993,"F","Medlánky","CZ/M","PMRg 2019 - Kombi",10,4477,5812,"LAK 17 A 18m WL","BI",""]
[27,"Lukas Maly",1998,"M","Vysoké Mýto","CZ/C2","PMRg 2019 - Klub",17,4697,5599,"ASW-15B","AM","Junior v roce 2022"]
[28,"Ladislav Jozsa",1981,"M","Medlánky","CZ/M","PMRg 2019 - Klub",18,4541,5313,"Std. Cirrus","LJ",""]
[29,"Vaclav Zak",1962,"M","GAC Benešov","CZ/C1","PMRg 2019 - Klub",19,4256,4898,"Std. Cirrus","TS",""]
[30,"Petr Frycek",1960,"M","Most","CZ/C2","PMRg 2019 - Kombi",11,3755,4746,"Nimbus 3 (25,5m, 700kg) (voda)","F",""]
[31,"Karel Knotek",1961,"M","Soběslav","CZ/C1","PMRg 2019 - Klub",20,4021,4534,"ASW-19","SO",""]
[32,"Slavomir Piskaty 58",1958,"M","Kunovice","CZ/M","PMRg 2019 - Kombi",12,3547,4260,"Discus b (voda) WL","KAL",""]
[33,"Josef Hlusek",1993,"M","Kunovice","CZ/M","PMRg 2019 - Klub",21,3831,4214,"Std. Cirrus G","WO",""]
[34,"Jan Florian",1992,"M","Zbraslavice","CZ/C1","PMRg 2019 - Klub",22,3824,4076,"Std. Cirrus","C1",""]
[35,"Ladislav Prokes",1954,"M","Vrchlabí","CZ/C2","PMRg 2019 - Kombi",13,3314,3747,"Discus b (voda)","VR",""]
[36,"Petr Velek",1975,"M","GAC Benešov","CZ/C1","PMRg 2019 - Klub",23,3398,3521,"LS 1c","I",""]
[37,"Kristina Santruckova",1996,"F","Podhořany","CZ/C2","PMRg 2019 - Klub",24,2941,2934,"ASW-15B WL","KS",""]
[]
[]
["Schváleno Plachtařskou komisí AeČR dne 10.11.2019 ve Vysokém Mýtě"]

{"sheet":"KB PMRg 2020","index":10,"n_rows":70,"n_cols":13,"rows_kept":70,"cut":false,"hidden":false,"merged":[[0,0,0,12]]}
["PMRg 2020 - Hosín - Korigované body"]
["Pořadí v KB","Jméno","Rok narození","M/F","Aeroklub","Region","Soutěž","Pořadí ve třídě","Body ve třídě","Bi","Typ","CN","Junior"]
[{"$f":"RANK(J3,J:J)","v":1},"Michal Lesinger",1966,"M","Moravská Třebová","CZ/M","PMRg 2020 - Klub",1,4243,10000,"ASW 19B","LL",{"$f":"IF(ISERROR(VLOOKUP(B3,Pilot,6,0)),\"Není v databázi\",VLOOKUP(B3,Pilot,6,0))","v":""}]
[1,"Danes Grula",1961,"M","Medlánky","CZ/M","PMRg 2020 - Kombi",1,4243,10000,"ASG29E","DX",""]
[3,"Zdenek Boruvka 86",1986,"M","Jičín","CZ/C2","PMRg 2020 - Klub",2,4134,9690,"STD. CIRRUS","BJ",""]
[4,"Petr Hotovy",1958,"M","Česká Lípa","CZ/C2","PMRg 2020 - Kombi",2,4106,9501,"JS1B 18m","IGC",""]
[5,"Josef Busek",1967,"M","Hosín","CZ/C1","PMRg 2020 - Kombi",3,3900,8889,"Duodiscus X 750kg","BB",""]
[6,"Jan Zahradka",1981,"M","Hodkovice","CZ/C2","PMRg 2020 - Klub",3,3619,8710,"Std. Cirrus","AR",""]
[7,"Marek Svancara",1976,"M","GAC Benešov","CZ/C1","PMRg 2020 - Klub",4,3499,8381,"Std. Cirrus","GT",""]
[8,"Michael Fik",1972,"M","Strakonice","CZ/C1","PMRg 2020 - Kombi",4,3722,8322,"Ventus C 17,6","GE",""]
[9,"Jan Stastny",2003,"M","Medlánky","CZ/M","PMRg 2020 - Klub",5,3276,7883,"ASW-15B","TW","Junior v roce 2022"]
[10,"Jindrich Hruska",1986,"M","Soběslav","CZ/C1","PMRg 2020 - Klub",6,3243,7698,"Mosquito","UFO",""]
[11,"Hana Treslova",1991,"F","Raná","CZ/C2","PMRg 2020 - Kombi",5,3460,7617,"Ventus 2ax","AX",""]
[12,"Jiri Vondracek",1989,"M","Kladno","CZ/C1","PMRg 2020 - Klub",7,3122,7368,"ASW-15B","2P",""]
[13,"Jaromir Macoun",1999,"M","Jičín","CZ/C2","PMRg 2020 - Kombi",6,3413,7267,"LS 8","EU","Junior v roce 2022"]
[14,"Vladimir Hammer",2000,"M","Letkov","CZ/C1","PMRg 2020 - Klub",8,3106,7211,"Std. Cirrus","XII","Junior v roce 2022"]
[15,"Miloslav Hulmak",1963,"M","Hosín","CZ/C1","PMRg 2020 - Klub",9,3030,6955,"ASW15B","HH",""]
[16,"Jaromir Pauer",1974,"M","Hosín","CZ/C1","PMRg 2020 - Kombi",7,3293,6796,"Ventus C 17,6m","XE",""]
[17,"Pavlina Horackova",1965,"F","Šumperk","CZ/M","PMRg 2020 - Klub",10,2891,6596,"SZD 48 Jantar Std. 2","SU",""]
[18,"Karel Novak",1993,"M","Mladá Boleslav","CZ/C1","PMRg 2020 - Kombi",8,3255,6461,"JS-3","XM",""]
[19,"Jan Florian",1992,"M","Zbraslavice","CZ/C1","PMRg 2020 - Klub",11,2831,6366,"Std. Cirrus","C1",""]
[20,"Tomas Hulmak",1999,"M","Hosín","CZ/C1","PMRg 2020 - Klub",12,2823,6223,"ASW-15B","XI","Junior v roce 2022"]
[21,"Jiri Holcman",1976,"M","Hosín","CZ/C1","PMRg 2020 - Klub",13,2717,5917,"ASW-19","BO",""]
[22,"Petr Rozhon",1972,"M","Hosín","CZ/C1","PMRg 2020 - Klub",14,2611,5612,"vso-10",9,""]
[23,"Pavel Koudelka",1973,"M","Křižanov","CZ/M","PMRg 2020 - Klub",15,2442,5203,"Std.Cirrus","ICQ",""]
[24,"Michal Vranek",1993,"M","Hosín","CZ/C1","PMRg 2020 - Klub",16,2440,5069,"DG-100","8W",""]
[25,"Jan Beran",1999,"M","Kladno","CZ/C1","PMRg 2020 - Klub",17,2275,4666,"ASW 19","HB","Junior v roce 2022"]
[26,"Jaroslav Potmesil",1964,"M","Zbraslavice","CZ/C1","PMRg 2020 - Kombi",9,2273,4568,"304TS TwinShark","DL",""]
[27,"Martin Tison",2000,"M","Hosín","CZ/C1","PMRg 2020 - Klub",18,2175,4371,"ASW-15B","EZ","Junior v roce 2022"]
[28,"Petr Velek",1975,"M","GAC Benešov","CZ/C1","PMRg 2020 - Klub",19,2138,4179,"DG400","HX",""]
[29,"Lukas Plocek",1990,"M","Mladá Boleslav","CZ/C1","PMRg 2020 - Klub",20,1896,3650,"ASW-19B","AH",""]
[30,"Radek Zima 78",1978,"M","Hodkovice","CZ/C2","PMRg 2020 - Kombi",10,1751,3434,"Ventus b 16,6m 430kg WL","7F",""]
[31,"Vaclav Zak",1962,"M","GAC Benešov","CZ/C1","PMRg 2020 - Klub",21,1721,3231,"Std. Cirrus","TS",""]
[32,"Jiri Krofta",1988,"M","Hosín","CZ/C1","PMRg 2020 - Klub",22,1563,2839,"Std. Cirrus","2U",""]
[33,"Frantisek Suna",1983,"M","Hosín","CZ/C1","PMRg 2020 - Klub",23,1461,2541,"DG-100",78,""]
[34,"Jan Kohout",1970,"M","Žamberk","CZ/C2","PMRg 2020 - Kombi",11,1320,2450,"LS8a","SK",""]
[35,"Petr Sochor",1986,"M","Hosín","CZ/C1","PMRg 2020 - Klub",24,1308,2158,"ASW15B","6Y",""]
[36,"Radoslav Pur",1973,"M","Hosín","CZ/C1","PMRg 2020 - Kombi",12,1147,1892,"DG-200","EK",""]
[]
[]
["Schváleno Plachtařskou komisí AeČR dne xx.yy.2020 v ZZZZ"]
[]
[]
[]
[]
[]
[]
[]
[]
[]
[]
[]
[]
[]
[]
[]
[]
[]
[]
[]
[]
[]
[]
[]
[]
[]
[]
[]
[]
["Schváleno Plachtařskou komisí AeČR dne xx.yy.2020 v ZZZZ"]

{"sheet":"KB PMRg 2021","index":11,"n_rows":70,"n_cols":13,"rows_kept":70,"cut":false,"hidden":false,"merged":[[0,0,0,12]]}
["PMRg 2021 - Moravská Třebová - Korigované body"]
["Pořadí v KB","Jméno","Rok narození","M/F","Aeroklub","Region","Soutěž","Pořadí ve třídě","Body ve třídě","Bi","Typ","CN","Junior"]
[{"$f":"RANK(J3,J:J)","v":1},"Jan Louda",{"$f":"VLOOKUP(B3,Pilot,2,0)","v":1986},{"$f":"VLOOKUP(B3,Pilot,5,0)","v":"M"},{"$f":"VLOOKUP(B3,Pilot,3,0)","v":"Mladá Boleslav"},{"$f":"VLOOKUP(B3,Pilot,4,0)","v":"CZ/C1"},"PMRg 2021 - Klub",1,5782,10000,"ASW-19B","XS",{"$f":"IF(ISERROR(VLOOKUP(B3,Pilot,6,0)),\"Není v databázi\",VLOOKUP(B3,Pilot,6,0))","v":""}]
[1,"Tomas Rendla",{"$f":"VLOOKUP(B4,Pilot,2,0)","v":1973},{"$f":"VLOOKUP(B4,Pilot,5,0)","v":"M"},{"$f":"VLOOKUP(B4,Pilot,3,0)","v":"Zbraslavice"},{"$f":"VLOOKUP(B4,Pilot,4,0)","v":"CZ/C1"},"PMRg 2021 - Kombi",1,5477,10000,"EB-29R","EX",""]
[3,"Pavel Jiranek",1993,"M","Toužim","CZ/C1","PMRg 2021 - Klub",2,5754,9846,"Std. Cirrus","IYD",""]
[4,"Radek Kucirek",1973,"M","Havlíčkův Brod","CZ/C2","PMRg 2021 - Kombi",2,5461,9730,"EB-28 edition","NA",""]
[5,"Pavel Trybenekr",1990,"M","Hořice","CZ/C2","PMRg 2021 - Klub",3,5741,9710,"LS-4","PF",""]
[6,"Hana Treslova",1991,"F","Raná","CZ/C2","PMRg 2021 - Klub",4,5404,9182,"Std. Cirrus","CI",""]
[7,"Jan Boruvka",1984,"M","Jičín","CZ/C2","PMRg 2021 - Kombi",3,5225,9178,"Ventus C 17.6m","EG",""]
[8,"Jiri Stepanek",1956,"M","Moravská Třebová","CZ/M","PMRg 2021 - Klub",5,5331,8974,"VSO-10","H9",""]
[9,"Martin Stepanek",1987,"M","Moravská Třebová","CZ/M","PMRg 2021 - Klub",6,5267,8777,"ASW-15B","LE",""]
[10,"Petr Stepanek",1989,"M","Moravská Třebová","CZ/M","PMRg 2021 - Klub",7,5104,8459,"ASW-15B","ZP",""]
[11,"Michaela Rendlova",2004,"F","Toužim","CZ/C1","PMRg 2021 - Kombi",4,4833,8427,"ASG 29/18m","NX","Junior v roce 2022"]
[12,"Radek Zima 78",1978,"M","Hodkovice","CZ/C2","PMRg 2021 - Kombi",5,4825,8167,"ASG 29/18m","XZ",""]
[13,"Zdenek Balcarek",1967,"M","Kroměříž","CZ/M","PMRg 2021 - Klub",8,4662,7804,"Discus b","OS",""]
[14,"Zdenek Boruvka 86",1986,"M","Jičín","CZ/C2","PMRg 2021 - Klub",9,4641,7659,"Std. Cirrus","BJ",""]
[15,"Jiri Steiger",1969,"M","Olomouc","CZ/M","PMRg 2021 - Kombi",6,4284,7225,"Ventus 3M 18m","JSI",""]
[16,"Petr Valenta 94",1994,"M","Kunovice","CZ/M","PMRg 2021 - Klub",10,4371,7212,"Std. Cirrus","OK",""]
[17,"Pavlina Horackova",1965,"F","Šumperk","CZ/M","PMRg 2021 - Klub",11,4345,7060,"SZD-48 Jantar std. 2 (3)","SU",""]
[18,"Jiri Vondracek",1989,"M","Kladno","CZ/C1","PMRg 2021 - Klub",12,4337,6931,"ASW-15B","2P",""]
[19,"Jiri Maier 66",1966,"M","Raná","CZ/C2","PMRg 2021 - Klub",13,4311,6779,"ASW-24E","JM",""]
[20,"Jaromir Macoun",1999,"M","Jičín","CZ/C2","PMRg 2021 - Kombi",7,4128,6776,"LS-8 15m","AU","Junior v roce 2022"]
[21,"Martin Kriz",1968,"M","Přibyslav","CZ/C2","PMRg 2021 - Klub",14,4245,6579,"ASW-20 (A)+F /15m WL",67,""]
[22,"Miroslav Koci",1961,"M","Žamberk","CZ/C2","PMRg 2021 - Kombi",8,3695,5972,"Ventus 2cxm","E8",""]
[23,"Jan Florian",1992,"M","Zbraslavice","CZ/C1","PMRg 2021 - Klub",15,3748,5858,"Std. Cirrus","C1",""]
[23,"Pavel Liska",1965,"M","Roudnice","CZ/C2","PMRg 2021 - Klub",15,3748,5858,"ASW-19B","RCE",""]
[25,"Vit Morkovsky",2000,"M","Polička","CZ/C2","PMRg 2021 - Kombi",9,3438,5394,"Discus 2a","GX","Junior v roce 2022"]
[26,"Michal Lesinger",1966,"M","Moravská Třebová","CZ/M","PMRg 2021 - Klub",17,3527,5350,"ASW-19B","LL",""]
[27,"Pavel Koudelka",1973,"M","Křižanov","CZ/M","PMRg 2021 - Klub",18,3320,4979,"Std. Cirrus","ZL",""]
[28,"Petr Prichystal",1973,"M","Moravská Třebová","CZ/M","PMRg 2021 - Klub",19,3256,4782,"ASW-19B","AE",""]
[29,"Ivan Tvrdik",1997,"M","Letňany","CZ/C1","PMRg 2021 - Kombi",10,2951,4522,"LS-8 15m","EU","Junior v roce 2022"]
[30,"Jan Vozeh",1995,"M","Rakovník","CZ/C1","PMRg 2021 - Klub",20,3074,4442,"Std. Cirrus","OG",""]
[31,"Jakub Kohn",1992,"M","Prostějov","CZ/M","PMRg 2021 - Klub",21,2944,4164,"ASW-15B","FK",""]
[32,"Jan Zapletal",1997,"M","Břeclav","CZ/M","PMRg 2021 - Kombi",11,2697,3947,"LS-8 15m","JS","Junior v roce 2022"]
[33,"Josef Hlusek",1993,"M","Kunovice","CZ/M","PMRg 2021 - Klub",22,2433,3426,"Std. Cirrus","WO",""]
[34,"Petr Kubik 75",1975,"M","Moravská Třebová","CZ/M","PMRg 2021 - Klub",23,2399,3264,"ASW-19B","NO",""]
[35,"Antonin Kutalek",1943,"M","Zábřeh","CZ/M","PMRg 2021 - Kombi",12,1816,2571,"LAK-17AT 18m","GL",""]
[36,"Marek Pechar",1995,"M","Chrudim","CZ/C2","PMRg 2021 - Klub",24,1755,2365,"Std. Cirrus","JE",""]
[37,"Jiri Krofta",1988,"M","Hosín","CZ/C1","PMRg 2021 - Klub",25,1748,2236,"Std. Cirrus","YU",""]
[38,"Zuzana Kutilkova",1993,"F","Křižanov","CZ/M","PMRg 2021 - Klub",26,813,984,"LS-1f","DP",""]
[39,"Petr Panek",1975,"M","Dvůr Králové","CZ/C2","PMRg 2021 - Kombi",13,495,633,"JS1B EVO 18m","IGC",""]
[]
[]
["Schváleno Plachtařskou komisí AeČR dne xx.yy.2020 v ZZZZ"]
[]
[]
[]
[]
[]
[]
[]
[]
[]
[]
[]
[]
[]
[]
[]
[]
[]
[]
[]
[]
[]
[]
[]
[]
[]
["Schváleno Plachtařskou komisí AeČR dne xx.yy.2020 v ZZZZ"]

{"sheet":"N PMČR 2022","index":12,"n_rows":132,"n_cols":18,"rows_kept":132,"cut":false,"hidden":false,"merged":[[40,1,40,7],[7,1,7,7],[71,1,71,7],[72,1,72,7],[126,1,126,7],[103,1,103,7],[128,1,128,7],[73,1,73,7],[121,1,121,7],[124,1,124,7],[125,1,125,7],[122,1,122,7]]}
[null,"Nominace na PMČR 2022",null,null,null,null,null,"Kontrola:","Počet","Nominace","Počet","Nominace","Počet","Nominace","M:","F:","M+F:"]
["No","Jméno","Aeroklub","Rok narození","M/F","Junior","No",null,"PMČR","PMČR","PMRg","PMRg","PMČRj","PMČRj",{"$f":"COUNTIF(E:E,\"M\")","v":83},{"$f":"COUNTIF(E:E,\"F\")","v":12},{"$f":"O2+P2","v":95},"S náhradníky"]
["6.6.5.","Nominace na PMČR - všeobecně (dle SŘ ZM9)",null,null,null,null,null,null,null,null,null,null,null,"Celkem řádně nominováno:",{"$f":"O2-COUNTIF(E61:E65,\"M\")-COUNTIF(E112:E120,\"M\")","v":69},{"$f":"P2-COUNTIF(E61:E65,\"F\")-COUNTIF(E112:E120,\"F\")","v":12},{"$f":"O3+P3","v":81},"Bez náhradníků"]
[null,"Na PMČR nominuje PK minimálně 80 pilotů/pilotek a příslušný počet náhradníků pro stanovená nominační kritéria."]
[null,"PMČR se mohou zúčastnit pouze soutěžící nominovaní dle jednotlivých bodů odstavců 6.6.6., 6.6.7. a 6.6.8."]
[null,"Pořadatel soutěže nemůže doplnit soutěžící na základě jiných kritérií."]
["6.6.6.","Řádná nominace - Na PMČR jsou nominováni"]
["6.6.6.1.","všichni členové reprezentačního výběru (RV) ČR stanoveného pro daný soutěžní ročník (bez náhradníků)"]
[1,"Petr Koutny",{"$f":"VLOOKUP(B9,Pilot!A:C,3,0)","v":"Křižanov"},{"$f":"VLOOKUP(B9,Pilot!A:B,2,0)","v":1971},{"$f":"VLOOKUP(B9,Pilot!A:E,5,0)","v":"M"},{"$f":"VLOOKUP(B9,Pilot!A:F,6,0)","v":""},{"$f":"A9","v":1},null,{"$f":"COUNTIF(B:B,B9)","v":1},{"$f":"IF(ISERROR(VLOOKUP(B9,B:G,6,0)),\"-\",VLOOKUP(B9,B:G,6,0))","v":1},{"$f":"IF(COUNTIF('N PMRg 2022'!B:B,B9)=0,\"-\",COUNTIF('N PMRg 2022'!B:B,B9))","v":"-"},{"$f":"IF(ISERROR(VLOOKUP(B9,'N PMRg 2022'!B:G,6,0)),\"-\",VLOOKUP(B9,'N PMRg 2022'!B:G,6,0))","v":"-"},{"$f":"IF(COUNTIF('N PMČRj 2022'!B:B,B9)=0,\"-\",COUNTIF('N PMČRj 2022'!B:B,B9))","v":"-"},{"$f":"IF(ISERROR(VLOOKUP(B9,'N PMČRj 2022'!B:G,6,0)),\"-\",VLOOKUP(B9,'N PMČRj 2022'!B:G,6,0))","v":"-"}]
[{"$f":"A9+1","v":2},"Roman Mracek",{"$f":"VLOOKUP(B10,Pilot!A:C,3,0)","v":"Letkov"},{"$f":"VLOOKUP(B10,Pilot!A:B,2,0)","v":1980},{"$f":"VLOOKUP(B10,Pilot!A:E,5,0)","v":"M"},{"$f":"VLOOKUP(B10,Pilot!A:F,6,0)","v":""},{"$f":"A10","v":2},null,1,2,{"$f":"IF(COUNTIF('N PMRg 2022'!B:B,B10)=0,\"-\",COUNTIF('N PMRg 2022'!B:B,B10))","v":"-"},{"$f":"IF(ISERROR(VLOOKUP(B10,'N PMRg 2022'!B:G,6,0)),\"-\",VLOOKUP(B10,'N PMRg 2022'!B:G,6,0))","v":"-"},{"$f":"IF(COUNTIF('N PMČRj 2022'!B:B,B10)=0,\"-\",COUNTIF('N PMČRj 2022'!B:B,B10))","v":"-"},{"$f":"IF(ISERROR(VLOOKUP(B10,'N PMČRj 2022'!B:G,6,0)),\"-\",VLOOKUP(B10,'N PMČRj 2022'!B:G,6,0))","v":"-"}]
[{"$f":"A10+1","v":3},"Pavel Louzecky",{"$f":"VLOOKUP(B11,Pilot!A:C,3,0)","v":"Přibyslav"},{"$f":"VLOOKUP(B11,Pilot!A:B,2,0)","v":1957},{"$f":"VLOOKUP(B11,Pilot!A:E,5,0)","v":"M"},{"$f":"VLOOKUP(B11,Pilot!A:F,6,0)","v":""},3,null,1,3,{"$f":"IF(COUNTIF('N PMRg 2022'!B:B,B11)=0,\"-\",COUNTIF('N PMRg 2022'!B:B,B11))","v":"-"},{"$f":"IF(ISERROR(VLOOKUP(B11,'N PMRg 2022'!B:G,6,0)),\"-\",VLOOKUP(B11,'N PMRg 2022'!B:G,6,0))","v":"-"},{"$f":"IF(COUNTIF('N PMČRj 2022'!B:B,B11)=0,\"-\",COUNTIF('N PMČRj 2022'!B:B,B11))","v":"-"},{"$f":"IF(ISERROR(VLOOKUP(B11,'N PMČRj 2022'!B:G,6,0)),\"-\",VLOOKUP(B11,'N PMČRj 2022'!B:G,6,0))","v":"-"}]
[4,"Miloslav Cink",{"$f":"VLOOKUP(B12,Pilot!A:C,3,0)","v":"Letkov"},{"$f":"VLOOKUP(B12,Pilot!A:B,2,0)","v":1987},{"$f":"VLOOKUP(B12,Pilot!A:E,5,0)","v":"M"},{"$f":"VLOOKUP(B12,Pilot!A:F,6,0)","v":""},4,null,1,4,{"$f":"IF(COUNTIF('N PMRg 2022'!B:B,B12)=0,\"-\",COUNTIF('N PMRg 2022'!B:B,B12))","v":"-"},{"$f":"IF(ISERROR(VLOOKUP(B12,'N PMRg 2022'!B:G,6,0)),\"-\",VLOOKUP(B12,'N PMRg 2022'!B:G,6,0))","v":"-"},{"$f":"IF(COUNTIF('N PMČRj 2022'!B:B,B12)=0,\"-\",COUNTIF('N PMČRj 2022'!B:B,B12))","v":"-"},{"$f":"IF(ISERROR(VLOOKUP(B12,'N PMČRj 2022'!B:G,6,0)),\"-\",VLOOKUP(B12,'N PMČRj 2022'!B:G,6,0))","v":"-"}]
[5,"Jan Pavlik",{"$f":"VLOOKUP(B13,Pilot!A:C,3,0)","v":"Křižanov"},{"$f":"VLOOKUP(B13,Pilot!A:B,2,0)","v":1987},{"$f":"VLOOKUP(B13,Pilot!A:E,5,0)","v":"M"},{"$f":"VLOOKUP(B13,Pilot!A:F,6,0)","v":""},5,null,1,5,{"$f":"IF(COUNTIF('N PMRg 2022'!B:B,B13)=0,\"-\",COUNTIF('N PMRg 2022'!B:B,B13))","v":"-"},{"$f":"IF(ISERROR(VLOOKUP(B13,'N PMRg 2022'!B:G,6,0)),\"-\",VLOOKUP(B13,'N PMRg 2022'!B:G,6,0))","v":"-"},{"$f":"IF(COUNTIF('N PMČRj 2022'!B:B,B13)=0,\"-\",COUNTIF('N PMČRj 2022'!B:B,B13))","v":"-"},{"$f":"IF(ISERROR(VLOOKUP(B13,'N PMČRj 2022'!B:G,6,0)),\"-\",VLOOKUP(B13,'N PMČRj 2022'!B:G,6,0))","v":"-"}]
[6,"Radek Krejcirik",{"$f":"VLOOKUP(B14,Pilot!A:C,3,0)","v":"Hranice"},{"$f":"VLOOKUP(B14,Pilot!A:B,2,0)","v":1991},{"$f":"VLOOKUP(B14,Pilot!A:E,5,0)","v":"M"},{"$f":"VLOOKUP(B14,Pilot!A:F,6,0)","v":""},6,null,1,6,{"$f":"IF(COUNTIF('N PMRg 2022'!B:B,B14)=0,\"-\",COUNTIF('N PMRg 2022'!B:B,B14))","v":"-"},{"$f":"IF(ISERROR(VLOOKUP(B14,'N PMRg 2022'!B:G,6,0)),\"-\",VLOOKUP(B14,'N PMRg 2022'!B:G,6,0))","v":"-"},{"$f":"IF(COUNTIF('N PMČRj 2022'!B:B,B14)=0,\"-\",COUNTIF('N PMČRj 2022'!B:B,B14))","v":"-"},{"$f":"IF(ISERROR(VLOOKUP(B14,'N PMČRj 2022'!B:G,6,0)),\"-\",VLOOKUP(B14,'N PMČRj 2022'!B:G,6,0))","v":"-"}]
[7,"Tomas Suchanek",{"$f":"VLOOKUP(B15,Pilot!A:C,3,0)","v":"GAC Benešov"},{"$f":"VLOOKUP(B15,Pilot!A:B,2,0)","v":1964},{"$f":"VLOOKUP(B15,Pilot!A:E,5,0)","v":"M"},{"$f":"VLOOKUP(B15,Pilot!A:F,6,0)","v":""},7,null,1,7,{"$f":"IF(COUNTIF('N PMRg 2022'!B:B,B15)=0,\"-\",COUNTIF('N PMRg 2022'!B:B,B15))","v":"-"},{"$f":"IF(ISERROR(VLOOKUP(B15,'N PMRg 2022'!B:G,6,0)),\"-\",VLOOKUP(B15,'N PMRg 2022'!B:G,6,0))","v":"-"},{"$f":"IF(COUNTIF('N PMČRj 2022'!B:B,B15)=0,\"-\",COUNTIF('N PMČRj 2022'!B:B,B15))","v":"-"},{"$f":"IF(ISERROR(VLOOKUP(B15,'N PMČRj 2022'!B:G,6,0)),\"-\",VLOOKUP(B15,'N PMČRj 2022'!B:G,6,0))","v":"-"}]
[8,"David Mach",{"$f":"VLOOKUP(B16,Pilot!A:C,3,0)","v":"Hronov"},{"$f":"VLOOKUP(B16,Pilot!A:B,2,0)","v":1994},{"$f":"VLOOKUP(B16,Pilot!A:E,5,0)","v":"M"},{"$f":"VLOOKUP(B16,Pilot!A:F,6,0)","v":""},8,null,1,8,{"$f":"IF(COUNTIF('N PMRg 2022'!B:B,B16)=0,\"-\",COUNTIF('N PMRg 2022'!B:B,B16))","v":"-"},{"$f":"IF(ISERROR(VLOOKUP(B16,'N PMRg 2022'!B:G,6,0)),\"-\",VLOOKUP(B16,'N PMRg 2022'!B:G,6,0))","v":"-"},{"$f":"IF(COUNTIF('N PMČRj 2022'!B:B,B16)=0,\"-\",COUNTIF('N PMČRj 2022'!B:B,B16))","v":"-"},{"$f":"IF(ISERROR(VLOOKUP(B16,'N PMČRj 2022'!B:G,6,0)),\"-\",VLOOKUP(B16,'N PMČRj 2022'!B:G,6,0))","v":"-"}]
[9,"Jan Ratz",{"$f":"VLOOKUP(B17,Pilot!A:C,3,0)","v":"Zbraslavice"},{"$f":"VLOOKUP(B17,Pilot!A:B,2,0)","v":1987},{"$f":"VLOOKUP(B17,Pilot!A:E,5,0)","v":"M"},{"$f":"VLOOKUP(B17,Pilot!A:F,6,0)","v":""},9,null,1,9,{"$f":"IF(COUNTIF('N PMRg 2022'!B:B,B17)=0,\"-\",COUNTIF('N PMRg 2022'!B:B,B17))","v":"-"},{"$f":"IF(ISERROR(VLOOKUP(B17,'N PMRg 2022'!B:G,6,0)),\"-\",VLOOKUP(B17,'N PMRg 2022'!B:G,6,0))","v":"-"},{"$f":"IF(COUNTIF('N PMČRj 2022'!B:B,B17)=0,\"-\",COUNTIF('N PMČRj 2022'!B:B,B17))","v":"-"},{"$f":"IF(ISERROR(VLOOKUP(B17,'N PMČRj 2022'!B:G,6,0)),\"-\",VLOOKUP(B17,'N PMČRj 2022'!B:G,6,0))","v":"-"}]
[10,"Ivan Novak",{"$f":"VLOOKUP(B18,Pilot!A:C,3,0)","v":"Mladá Boleslav"},{"$f":"VLOOKUP(B18,Pilot!A:B,2,0)","v":1962},{"$f":"VLOOKUP(B18,Pilot!A:E,5,0)","v":"M"},{"$f":"VLOOKUP(B18,Pilot!A:F,6,0)","v":""},{"$f":"A18","v":10},null,1,10,{"$f":"IF(COUNTIF('N PMRg 2022'!B:B,B18)=0,\"-\",COUNTIF('N PMRg 2022'!B:B,B18))","v":"-"},{"$f":"IF(ISERROR(VLOOKUP(B18,'N PMRg 2022'!B:G,6,0)),\"-\",VLOOKUP(B18,'N PMRg 2022'!B:G,6,0))","v":"-"},{"$f":"IF(COUNTIF('N PMČRj 2022'!B:B,B18)=0,\"-\",COUNTIF('N PMČRj 2022'!B:B,B18))","v":"-"},{"$f":"IF(ISERROR(VLOOKUP(B18,'N PMČRj 2022'!B:G,6,0)),\"-\",VLOOKUP(B18,'N PMČRj 2022'!B:G,6,0))","v":"-"}]
[11,"Karel Novak",{"$f":"VLOOKUP(B19,Pilot!A:C,3,0)","v":"Mladá Boleslav"},{"$f":"VLOOKUP(B19,Pilot!A:B,2,0)","v":1993},{"$f":"VLOOKUP(B19,Pilot!A:E,5,0)","v":"M"},{"$f":"VLOOKUP(B19,Pilot!A:F,6,0)","v":""},11,null,1,11,{"$f":"IF(COUNTIF('N PMRg 2022'!B:B,B19)=0,\"-\",COUNTIF('N PMRg 2022'!B:B,B19))","v":"-"},{"$f":"IF(ISERROR(VLOOKUP(B19,'N PMRg 2022'!B:G,6,0)),\"-\",VLOOKUP(B19,'N PMRg 2022'!B:G,6,0))","v":"-"},{"$f":"IF(COUNTIF('N PMČRj 2022'!B:B,B19)=0,\"-\",COUNTIF('N PMČRj 2022'!B:B,B19))","v":"-"},{"$f":"IF(ISERROR(VLOOKUP(B19,'N PMČRj 2022'!B:G,6,0)),\"-\",VLOOKUP(B19,'N PMČRj 2022'!B:G,6,0))","v":"-"}]
[12,"Ondrej Dupal",{"$f":"VLOOKUP(B20,Pilot!A:C,3,0)","v":"GAC Benešov"},{"$f":"VLOOKUP(B20,Pilot!A:B,2,0)","v":1966},{"$f":"VLOOKUP(B20,Pilot!A:E,5,0)","v":"M"},{"$f":"VLOOKUP(B20,Pilot!A:F,6,0)","v":""},12,null,1,12,{"$f":"IF(COUNTIF('N PMRg 2022'!B:B,B20)=0,\"-\",COUNTIF('N PMRg 2022'!B:B,B20))","v":"-"},{"$f":"IF(ISERROR(VLOOKUP(B20,'N PMRg 2022'!B:G,6,0)),\"-\",VLOOKUP(B20,'N PMRg 2022'!B:G,6,0))","v":"-"},{"$f":"IF(COUNTIF('N PMČRj 2022'!B:B,B20)=0,\"-\",COUNTIF('N PMČRj 2022'!B:B,B20))","v":"-"},{"$f":"IF(ISERROR(VLOOKUP(B20,'N PMČRj 2022'!B:G,6,0)),\"-\",VLOOKUP(B20,'N PMČRj 2022'!B:G,6,0))","v":"-"}]
[13,"Jaroslav Tomana",{"$f":"VLOOKUP(B21,Pilot!A:C,3,0)","v":"Zbraslavice"},{"$f":"VLOOKUP(B21,Pilot!A:B,2,0)","v":1975},{"$f":"VLOOKUP(B21,Pilot!A:E,5,0)","v":"M"},{"$f":"VLOOKUP(B21,Pilot!A:F,6,0)","v":""},{"$f":"A21","v":13},null,1,13,{"$f":"IF(COUNTIF('N PMRg 2022'!B:B,B21)=0,\"-\",COUNTIF('N PMRg 2022'!B:B,B21))","v":"-"},{"$f":"IF(ISERROR(VLOOKUP(B21,'N PMRg 2022'!B:G,6,0)),\"-\",VLOOKUP(B21,'N PMRg 2022'!B:G,6,0))","v":"-"},{"$f":"IF(COUNTIF('N PMČRj 2022'!B:B,B21)=0,\"-\",COUNTIF('N PMČRj 2022'!B:B,B21))","v":"-"},{"$f":"IF(ISERROR(VLOOKUP(B21,'N PMČRj 2022'!B:G,6,0)),\"-\",VLOOKUP(B21,'N PMČRj 2022'!B:G,6,0))","v":"-"}]
[14,"Jan Zapletal",{"$f":"VLOOKUP(B22,Pilot!A:C,3,0)","v":"Břeclav"},{"$f":"VLOOKUP(B22,Pilot!A:B,2,0)","v":1997},{"$f":"VLOOKUP(B22,Pilot!A:E,5,0)","v":"M"},{"$f":"VLOOKUP(B22,Pilot!A:F,6,0)","v":"Junior v roce 2022"},14,null,1,14,{"$f":"IF(COUNTIF('N PMRg 2022'!B:B,B22)=0,\"-\",COUNTIF('N PMRg 2022'!B:B,B22))","v":"-"},{"$f":"IF(ISERROR(VLOOKUP(B22,'N PMRg 2022'!B:G,6,0)),\"-\",VLOOKUP(B22,'N PMRg 2022'!B:G,6,0))","v":"-"},{"$f":"IF(COUNTIF('N PMČRj 2022'!B:B,B22)=0,\"-\",COUNTIF('N PMČRj 2022'!B:B,B22))","v":1},{"$f":"IF(ISERROR(VLOOKUP(B22,'N PMČRj 2022'!B:G,6,0)),\"-\",VLOOKUP(B22,'N PMČRj 2022'!B:G,6,0))","v":1}]
[15,"Petr Tichy",{"$f":"VLOOKUP(B23,Pilot!A:C,3,0)","v":"Zbraslavice"},{"$f":"VLOOKUP(B23,Pilot!A:B,2,0)","v":1973},{"$f":"VLOOKUP(B23,Pilot!A:E,5,0)","v":"M"},{"$f":"VLOOKUP(B23,Pilot!A:F,6,0)","v":""},15,null,1,15,{"$f":"IF(COUNTIF('N PMRg 2022'!B:B,B23)=0,\"-\",COUNTIF('N PMRg 2022'!B:B,B23))","v":"-"},{"$f":"IF(ISERROR(VLOOKUP(B23,'N PMRg 2022'!B:G,6,0)),\"-\",VLOOKUP(B23,'N PMRg 2022'!B:G,6,0))","v":"-"},{"$f":"IF(COUNTIF('N PMČRj 2022'!B:B,B23)=0,\"-\",COUNTIF('N PMČRj 2022'!B:B,B23))","v":"-"},{"$f":"IF(ISERROR(VLOOKUP(B23,'N PMČRj 2022'!B:G,6,0)),\"-\",VLOOKUP(B23,'N PMČRj 2022'!B:G,6,0))","v":"-"}]
[16,"Radek Kucirek",{"$f":"VLOOKUP(B24,Pilot!A:C,3,0)","v":"Havlíčkův Brod"},{"$f":"VLOOKUP(B24,Pilot!A:B,2,0)","v":1973},{"$f":"VLOOKUP(B24,Pilot!A:E,5,0)","v":"M"},{"$f":"VLOOKUP(B24,Pilot!A:F,6,0)","v":""},16,null,1,16,{"$f":"IF(COUNTIF('N PMRg 2022'!B:B,B24)=0,\"-\",COUNTIF('N PMRg 2022'!B:B,B24))","v":"-"},{"$f":"IF(ISERROR(VLOOKUP(B24,'N PMRg 2022'!B:G,6,0)),\"-\",VLOOKUP(B24,'N PMRg 2022'!B:G,6,0))","v":"-"},{"$f":"IF(COUNTIF('N PMČRj 2022'!B:B,B24)=0,\"-\",COUNTIF('N PMČRj 2022'!B:B,B24))","v":"-"},{"$f":"IF(ISERROR(VLOOKUP(B24,'N PMČRj 2022'!B:G,6,0)),\"-\",VLOOKUP(B24,'N PMČRj 2022'!B:G,6,0))","v":"-"}]
[17,"Ondrej Bordovsky",{"$f":"VLOOKUP(B25,Pilot!A:C,3,0)","v":"Krnov"},{"$f":"VLOOKUP(B25,Pilot!A:B,2,0)","v":1983},{"$f":"VLOOKUP(B25,Pilot!A:E,5,0)","v":"M"},{"$f":"VLOOKUP(B25,Pilot!A:F,6,0)","v":""},17,null,1,17,{"$f":"IF(COUNTIF('N PMRg 2022'!B:B,B25)=0,\"-\",COUNTIF('N PMRg 2022'!B:B,B25))","v":"-"},{"$f":"IF(ISERROR(VLOOKUP(B25,'N PMRg 2022'!B:G,6,0)),\"-\",VLOOKUP(B25,'N PMRg 2022'!B:G,6,0))","v":"-"},{"$f":"IF(COUNTIF('N PMČRj 2022'!B:B,B25)=0,\"-\",COUNTIF('N PMČRj 2022'!B:B,B25))","v":"-"},{"$f":"IF(ISERROR(VLOOKUP(B25,'N PMČRj 2022'!B:G,6,0)),\"-\",VLOOKUP(B25,'N PMČRj 2022'!B:G,6,0))","v":"-"}]
[18,"Alena Netusilova",{"$f":"VLOOKUP(B26,Pilot!A:C,3,0)","v":"Zbraslavice"},{"$f":"VLOOKUP(B26,Pilot!A:B,2,0)","v":1970},{"$f":"VLOOKUP(B26,Pilot!A:E,5,0)","v":"F"},{"$f":"VLOOKUP(B26,Pilot!A:F,6,0)","v":""},18,null,1,18,{"$f":"IF(COUNTIF('N PMRg 2022'!B:B,B26)=0,\"-\",COUNTIF('N PMRg 2022'!B:B,B26))","v":"-"},{"$f":"IF(ISERROR(VLOOKUP(B26,'N PMRg 2022'!B:G,6,0)),\"-\",VLOOKUP(B26,'N PMRg 2022'!B:G,6,0))","v":"-"},{"$f":"IF(COUNTIF('N PMČRj 2022'!B:B,B26)=0,\"-\",COUNTIF('N PMČRj 2022'!B:B,B26))","v":"-"},{"$f":"IF(ISERROR(VLOOKUP(B26,'N PMČRj 2022'!B:G,6,0)),\"-\",VLOOKUP(B26,'N PMČRj 2022'!B:G,6,0))","v":"-"}]
[19,"Michal Lesinger",{"$f":"VLOOKUP(B27,Pilot!A:C,3,0)","v":"Moravská Třebová"},{"$f":"VLOOKUP(B27,Pilot!A:B,2,0)","v":1966},{"$f":"VLOOKUP(B27,Pilot!A:E,5,0)","v":"M"},{"$f":"VLOOKUP(B27,Pilot!A:F,6,0)","v":""},19,null,1,19,{"$f":"IF(COUNTIF('N PMRg 2022'!B:B,B27)=0,\"-\",COUNTIF('N PMRg 2022'!B:B,B27))","v":"-"},{"$f":"IF(ISERROR(VLOOKUP(B27,'N PMRg 2022'!B:G,6,0)),\"-\",VLOOKUP(B27,'N PMRg 2022'!B:G,6,0))","v":"-"},{"$f":"IF(COUNTIF('N PMČRj 2022'!B:B,B27)=0,\"-\",COUNTIF('N PMČRj 2022'!B:B,B27))","v":"-"},{"$f":"IF(ISERROR(VLOOKUP(B27,'N PMČRj 2022'!B:G,6,0)),\"-\",VLOOKUP(B27,'N PMČRj 2022'!B:G,6,0))","v":"-"}]
[20,"Jan Viskot",{"$f":"VLOOKUP(B28,Pilot!A:C,3,0)","v":"Břeclav"},{"$f":"VLOOKUP(B28,Pilot!A:B,2,0)","v":1995},{"$f":"VLOOKUP(B28,Pilot!A:E,5,0)","v":"M"},{"$f":"VLOOKUP(B28,Pilot!A:F,6,0)","v":""},20,null,1,20,{"$f":"IF(COUNTIF('N PMRg 2022'!B:B,B28)=0,\"-\",COUNTIF('N PMRg 2022'!B:B,B28))","v":"-"},{"$f":"IF(ISERROR(VLOOKUP(B28,'N PMRg 2022'!B:G,6,0)),\"-\",VLOOKUP(B28,'N PMRg 2022'!B:G,6,0))","v":"-"},{"$f":"IF(COUNTIF('N PMČRj 2022'!B:B,B28)=0,\"-\",COUNTIF('N PMČRj 2022'!B:B,B28))","v":"-"},{"$f":"IF(ISERROR(VLOOKUP(B28,'N PMČRj 2022'!B:G,6,0)),\"-\",VLOOKUP(B28,'N PMČRj 2022'!B:G,6,0))","v":"-"}]
[21,"Jaromir Macoun",{"$f":"VLOOKUP(B29,Pilot!A:C,3,0)","v":"Jičín"},{"$f":"VLOOKUP(B29,Pilot!A:B,2,0)","v":1999},{"$f":"VLOOKUP(B29,Pilot!A:E,5,0)","v":"M"},{"$f":"VLOOKUP(B29,Pilot!A:F,6,0)","v":"Junior v roce 2022"},21,null,1,21,{"$f":"IF(COUNTIF('N PMRg 2022'!B:B,B29)=0,\"-\",COUNTIF('N PMRg 2022'!B:B,B29))","v":"-"},{"$f":"IF(ISERROR(VLOOKUP(B29,'N PMRg 2022'!B:G,6,0)),\"-\",VLOOKUP(B29,'N PMRg 2022'!B:G,6,0))","v":"-"},{"$f":"IF(COUNTIF('N PMČRj 2022'!B:B,B29)=0,\"-\",COUNTIF('N PMČRj 2022'!B:B,B29))","v":1},{"$f":"IF(ISERROR(VLOOKUP(B29,'N PMČRj 2022'!B:G,6,0)),\"-\",VLOOKUP(B29,'N PMČRj 2022'!B:G,6,0))","v":2}]
[22,"Lukas Kriz",{"$f":"VLOOKUP(B30,Pilot!A:C,3,0)","v":"Křižanov"},{"$f":"VLOOKUP(B30,Pilot!A:B,2,0)","v":2003},{"$f":"VLOOKUP(B30,Pilot!A:E,5,0)","v":"M"},{"$f":"VLOOKUP(B30,Pilot!A:F,6,0)","v":"Junior v roce 2022"},22,null,1,22,{"$f":"IF(COUNTIF('N PMRg 2022'!B:B,B30)=0,\"-\",COUNTIF('N PMRg 2022'!B:B,B30))","v":"-"},{"$f":"IF(ISERROR(VLOOKUP(B30,'N PMRg 2022'!B:G,6,0)),\"-\",VLOOKUP(B30,'N PMRg 2022'!B:G,6,0))","v":"-"},{"$f":"IF(COUNTIF('N PMČRj 2022'!B:B,B30)=0,\"-\",COUNTIF('N PMČRj 2022'!B:B,B30))","v":1},{"$f":"IF(ISERROR(VLOOKUP(B30,'N PMČRj 2022'!B:G,6,0)),\"-\",VLOOKUP(B30,'N PMČRj 2022'!B:G,6,0))","v":3}]
[23,"Vit Morkovsky",{"$f":"VLOOKUP(B31,Pilot!A:C,3,0)","v":"Polička"},{"$f":"VLOOKUP(B31,Pilot!A:B,2,0)","v":2000},{"$f":"VLOOKUP(B31,Pilot!A:E,5,0)","v":"M"},{"$f":"VLOOKUP(B31,Pilot!A:F,6,0)","v":"Junior v roce 2022"},23,null,1,23,{"$f":"IF(COUNTIF('N PMRg 2022'!B:B,B31)=0,\"-\",COUNTIF('N PMRg 2022'!B:B,B31))","v":"-"},{"$f":"IF(ISERROR(VLOOKUP(B31,'N PMRg 2022'!B:G,6,0)),\"-\",VLOOKUP(B31,'N PMRg 2022'!B:G,6,0))","v":"-"},{"$f":"IF(COUNTIF('N PMČRj 2022'!B:B,B31)=0,\"-\",COUNTIF('N PMČRj 2022'!B:B,B31))","v":1},{"$f":"IF(ISERROR(VLOOKUP(B31,'N PMČRj 2022'!B:G,6,0)),\"-\",VLOOKUP(B31,'N PMČRj 2022'!B:G,6,0))","v":4}]
[24,"Hana Treslova",{"$f":"VLOOKUP(B32,Pilot!A:C,3,0)","v":"Raná"},{"$f":"VLOOKUP(B32,Pilot!A:B,2,0)","v":1991},{"$f":"VLOOKUP(B32,Pilot!A:E,5,0)","v":"F"},{"$f":"VLOOKUP(B32,Pilot!A:F,6,0)","v":""},24,null,1,24,{"$f":"IF(COUNTIF('N PMRg 2022'!B:B,B32)=0,\"-\",COUNTIF('N PMRg 2022'!B:B,B32))","v":"-"},{"$f":"IF(ISERROR(VLOOKUP(B32,'N PMRg 2022'!B:G,6,0)),\"-\",VLOOKUP(B32,'N PMRg 2022'!B:G,6,0))","v":"-"},{"$f":"IF(COUNTIF('N PMČRj 2022'!B:B,B32)=0,\"-\",COUNTIF('N PMČRj 2022'!B:B,B32))","v":"-"},{"$f":"IF(ISERROR(VLOOKUP(B32,'N PMČRj 2022'!B:G,6,0)),\"-\",VLOOKUP(B32,'N PMČRj 2022'!B:G,6,0))","v":"-"}]
[25,"Tereza Koubkova",{"$f":"VLOOKUP(B33,Pilot!A:C,3,0)","v":"Vysoké Mýto"},{"$f":"VLOOKUP(B33,Pilot!A:B,2,0)","v":1999},{"$f":"VLOOKUP(B33,Pilot!A:E,5,0)","v":"F"},{"$f":"VLOOKUP(B33,Pilot!A:F,6,0)","v":"Junior v roce 2022"},25,null,1,25,{"$f":"IF(COUNTIF('N PMRg 2022'!B:B,B33)=0,\"-\",COUNTIF('N PMRg 2022'!B:B,B33))","v":"-"},{"$f":"IF(ISERROR(VLOOKUP(B33,'N PMRg 2022'!B:G,6,0)),\"-\",VLOOKUP(B33,'N PMRg 2022'!B:G,6,0))","v":"-"},{"$f":"IF(COUNTIF('N PMČRj 2022'!B:B,B33)=0,\"-\",COUNTIF('N PMČRj 2022'!B:B,B33))","v":1},{"$f":"IF(ISERROR(VLOOKUP(B33,'N PMČRj 2022'!B:G,6,0)),\"-\",VLOOKUP(B33,'N PMČRj 2022'!B:G,6,0))","v":5}]
[26,"Jana Veprekova",{"$f":"VLOOKUP(B34,Pilot!A:C,3,0)","v":"Dvůr Králové"},{"$f":"VLOOKUP(B34,Pilot!A:B,2,0)","v":1961},{"$f":"VLOOKUP(B34,Pilot!A:E,5,0)","v":"F"},{"$f":"VLOOKUP(B34,Pilot!A:F,6,0)","v":""},{"$f":"A34","v":26},null,1,26,{"$f":"IF(COUNTIF('N PMRg 2022'!B:B,B34)=0,\"-\",COUNTIF('N PMRg 2022'!B:B,B34))","v":"-"},{"$f":"IF(ISERROR(VLOOKUP(B34,'N PMRg 2022'!B:G,6,0)),\"-\",VLOOKUP(B34,'N PMRg 2022'!B:G,6,0))","v":"-"},{"$f":"IF(COUNTIF('N PMČRj 2022'!B:B,B34)=0,\"-\",COUNTIF('N PMČRj 2022'!B:B,B34))","v":"-"},{"$f":"IF(ISERROR(VLOOKUP(B34,'N PMČRj 2022'!B:G,6,0)),\"-\",VLOOKUP(B34,'N PMČRj 2022'!B:G,6,0))","v":"-"}]
[27,"Jana Treslova",{"$f":"VLOOKUP(B35,Pilot!A:C,3,0)","v":"Raná"},{"$f":"VLOOKUP(B35,Pilot!A:B,2,0)","v":1963},{"$f":"VLOOKUP(B35,Pilot!A:E,5,0)","v":"F"},{"$f":"VLOOKUP(B35,Pilot!A:F,6,0)","v":""},27,null,1,27,{"$f":"IF(COUNTIF('N PMRg 2022'!B:B,B35)=0,\"-\",COUNTIF('N PMRg 2022'!B:B,B35))","v":"-"},{"$f":"IF(ISERROR(VLOOKUP(B35,'N PMRg 2022'!B:G,6,0)),\"-\",VLOOKUP(B35,'N PMRg 2022'!B:G,6,0))","v":"-"},{"$f":"IF(COUNTIF('N PMČRj 2022'!B:B,B35)=0,\"-\",COUNTIF('N PMČRj 2022'!B:B,B35))","v":"-"},{"$f":"IF(ISERROR(VLOOKUP(B35,'N PMČRj 2022'!B:G,6,0)),\"-\",VLOOKUP(B35,'N PMČRj 2022'!B:G,6,0))","v":"-"}]
[28,"Ivan Tvrdik",{"$f":"VLOOKUP(B36,Pilot!A:C,3,0)","v":"Letňany"},{"$f":"VLOOKUP(B36,Pilot!A:B,2,0)","v":1997},{"$f":"VLOOKUP(B36,Pilot!A:E,5,0)","v":"M"},{"$f":"VLOOKUP(B36,Pilot!A:F,6,0)","v":"Junior v roce 2022"},28,null,1,28,{"$f":"IF(COUNTIF('N PMRg 2022'!B:B,B36)=0,\"-\",COUNTIF('N PMRg 2022'!B:B,B36))","v":"-"},{"$f":"IF(ISERROR(VLOOKUP(B36,'N PMRg 2022'!B:G,6,0)),\"-\",VLOOKUP(B36,'N PMRg 2022'!B:G,6,0))","v":"-"},{"$f":"IF(COUNTIF('N PMČRj 2022'!B:B,B36)=0,\"-\",COUNTIF('N PMČRj 2022'!B:B,B36))","v":1},{"$f":"IF(ISERROR(VLOOKUP(B36,'N PMČRj 2022'!B:G,6,0)),\"-\",VLOOKUP(B36,'N PMČRj 2022'!B:G,6,0))","v":6}]
[29,"Barbora Moravcova",{"$f":"VLOOKUP(B37,Pilot!A:C,3,0)","v":"Zbraslavice"},{"$f":"VLOOKUP(B37,Pilot!A:B,2,0)","v":1994},{"$f":"VLOOKUP(B37,Pilot!A:E,5,0)","v":"F"},{"$f":"VLOOKUP(B37,Pilot!A:F,6,0)","v":""},29,null,1,29,{"$f":"IF(COUNTIF('N PMRg 2022'!B:B,B37)=0,\"-\",COUNTIF('N PMRg 2022'!B:B,B37))","v":"-"},{"$f":"IF(ISERROR(VLOOKUP(B37,'N PMRg 2022'!B:G,6,0)),\"-\",VLOOKUP(B37,'N PMRg 2022'!B:G,6,0))","v":"-"},{"$f":"IF(COUNTIF('N PMČRj 2022'!B:B,B37)=0,\"-\",COUNTIF('N PMČRj 2022'!B:B,B37))","v":"-"},{"$f":"IF(ISERROR(VLOOKUP(B37,'N PMČRj 2022'!B:G,6,0)),\"-\",VLOOKUP(B37,'N PMČRj 2022'!B:G,6,0))","v":"-"}]
[30,"Dana Novakova",{"$f":"VLOOKUP(B38,Pilot!A:C,3,0)","v":"Mladá Boleslav"},{"$f":"VLOOKUP(B38,Pilot!A:B,2,0)","v":1965},{"$f":"VLOOKUP(B38,Pilot!A:E,5,0)","v":"F"},{"$f":"VLOOKUP(B38,Pilot!A:F,6,0)","v":""},30,null,1,30,{"$f":"IF(COUNTIF('N PMRg 2022'!B:B,B38)=0,\"-\",COUNTIF('N PMRg 2022'!B:B,B38))","v":"-"},{"$f":"IF(ISERROR(VLOOKUP(B38,'N PMRg 2022'!B:G,6,0)),\"-\",VLOOKUP(B38,'N PMRg 2022'!B:G,6,0))","v":"-"},{"$f":"IF(COUNTIF('N PMČRj 2022'!B:B,B38)=0,\"-\",COUNTIF('N PMČRj 2022'!B:B,B38))","v":"-"},{"$f":"IF(ISERROR(VLOOKUP(B38,'N PMČRj 2022'!B:G,6,0)),\"-\",VLOOKUP(B38,'N PMČRj 2022'!B:G,6,0))","v":"-"}]
[31,"Lenka Kuthanova",{"$f":"VLOOKUP(B39,Pilot!A:C,3,0)","v":"Tábor"},{"$f":"VLOOKUP(B39,Pilot!A:B,2,0)","v":1960},{"$f":"VLOOKUP(B39,Pilot!A:E,5,0)","v":"F"},{"$f":"VLOOKUP(B39,Pilot!A:F,6,0)","v":""},{"$f":"A39","v":31},null,1,31,{"$f":"IF(COUNTIF('N PMRg 2022'!B:B,B39)=0,\"-\",COUNTIF('N PMRg 2022'!B:B,B39))","v":"-"},{"$f":"IF(ISERROR(VLOOKUP(B39,'N PMRg 2022'!B:G,6,0)),\"-\",VLOOKUP(B39,'N PMRg 2022'!B:G,6,0))","v":"-"},{"$f":"IF(COUNTIF('N PMČRj 2022'!B:B,B39)=0,\"-\",COUNTIF('N PMČRj 2022'!B:B,B39))","v":"-"},{"$f":"IF(ISERROR(VLOOKUP(B39,'N PMČRj 2022'!B:G,6,0)),\"-\",VLOOKUP(B39,'N PMČRj 2022'!B:G,6,0))","v":"-"}]
[32,"Michaela Krizova",{"$f":"VLOOKUP(B40,Pilot!A:C,3,0)","v":"Přibyslav"},{"$f":"VLOOKUP(B40,Pilot!A:B,2,0)","v":2001},{"$f":"VLOOKUP(B40,Pilot!A:E,5,0)","v":"F"},{"$f":"VLOOKUP(B40,Pilot!A:F,6,0)","v":"Junior v roce 2022"},32,null,1,32,{"$f":"IF(COUNTIF('N PMRg 2022'!B:B,B40)=0,\"-\",COUNTIF('N PMRg 2022'!B:B,B40))","v":"-"},{"$f":"IF(ISERROR(VLOOKUP(B40,'N PMRg 2022'!B:G,6,0)),\"-\",VLOOKUP(B40,'N PMRg 2022'!B:G,6,0))","v":"-"},{"$f":"IF(COUNTIF('N PMČRj 2022'!B:B,B40)=0,\"-\",COUNTIF('N PMČRj 2022'!B:B,B40))","v":1},{"$f":"IF(ISERROR(VLOOKUP(B40,'N PMČRj 2022'!B:G,6,0)),\"-\",VLOOKUP(B40,'N PMČRj 2022'!B:G,6,0))","v":7}]
["6.6.6.2.","další soutěžící, kteří se umístili v konečném pořadí na posledním platném PMČR ve své třídě nejhůře v první polovině celkového pořadí (bez náhradníků)\n"]
[null,"PMČR 2021 - Tábor - Klub"]
[{"$f":"MAX(A9:A41)+1","v":33},"Jakub Hlavacek",{"$f":"VLOOKUP(B43,Pilot!A:C,3,0)","v":"Letkov"},{"$f":"VLOOKUP(B43,Pilot!A:B,2,0)","v":1991},{"$f":"VLOOKUP(B43,Pilot!A:E,5,0)","v":"M"},{"$f":"VLOOKUP(B43,Pilot!A:F,6,0)","v":""},{"$f":"A43","v":33},null,{"$f":"COUNTIF(B:B,B43)","v":1},{"$f":"IF(ISERROR(VLOOKUP(B43,B:G,6,0)),\"-\",VLOOKUP(B43,B:G,6,0))","v":33},{"$f":"IF(COUNTIF('N PMRg 2022'!B:B,B43)=0,\"-\",COUNTIF('N PMRg 2022'!B:B,B43))","v":"-"},{"$f":"IF(ISERROR(VLOOKUP(B43,'N PMRg 2022'!B:G,6,0)),\"-\",VLOOKUP(B43,'N PMRg 2022'!B:G,6,0))","v":"-"},{"$f":"IF(COUNTIF('N PMČRj 2022'!B:B,B43)=0,\"-\",COUNTIF('N PMČRj 2022'!B:B,B43))","v":"-"},{"$f":"IF(ISERROR(VLOOKUP(B43,'N PMČRj 2022'!B:G,6,0)),\"-\",VLOOKUP(B43,'N PMČRj 2022'!B:G,6,0))","v":"-"}]
[{"$f":"A43+1","v":34},"Zdenek Boruvka 86",{"$f":"VLOOKUP(B44,Pilot!A:C,3,0)","v":"Jičín"},{"$f":"VLOOKUP(B44,Pilot!A:B,2,0)","v":1986},{"$f":"VLOOKUP(B44,Pilot!A:E,5,0)","v":"M"},{"$f":"VLOOKUP(B44,Pilot!A:F,6,0)","v":""},{"$f":"A44","v":34},null,{"$f":"COUNTIF(B:B,B44)","v":1},{"$f":"IF(ISERROR(VLOOKUP(B44,B:G,6,0)),\"-\",VLOOKUP(B44,B:G,6,0))","v":34},{"$f":"IF(COUNTIF('N PMRg 2022'!B:B,B44)=0,\"-\",COUNTIF('N PMRg 2022'!B:B,B44))","v":"-"},{"$f":"IF(ISERROR(VLOOKUP(B44,'N PMRg 2022'!B:G,6,0)),\"-\",VLOOKUP(B44,'N PMRg 2022'!B:G,6,0))","v":"-"},{"$f":"IF(COUNTIF('N PMČRj 2022'!B:B,B44)=0,\"-\",COUNTIF('N PMČRj 2022'!B:B,B44))","v":"-"},{"$f":"IF(ISERROR(VLOOKUP(B44,'N PMČRj 2022'!B:G,6,0)),\"-\",VLOOKUP(B44,'N PMČRj 2022'!B:G,6,0))","v":"-"}]
[{"$f":"A44+1","v":35},"Pavel Rericha",{"$f":"VLOOKUP(B45,Pilot!A:C,3,0)","v":"Moravská Třebová"},{"$f":"VLOOKUP(B45,Pilot!A:B,2,0)","v":1967},{"$f":"VLOOKUP(B45,Pilot!A:E,5,0)","v":"M"},{"$f":"VLOOKUP(B45,Pilot!A:F,6,0)","v":""},{"$f":"A45","v":35},null,{"$f":"COUNTIF(B:B,B45)","v":1},{"$f":"IF(ISERROR(VLOOKUP(B45,B:G,6,0)),\"-\",VLOOKUP(B45,B:G,6,0))","v":35},{"$f":"IF(COUNTIF('N PMRg 2022'!B:B,B45)=0,\"-\",COUNTIF('N PMRg 2022'!B:B,B45))","v":"-"},{"$f":"IF(ISERROR(VLOOKUP(B45,'N PMRg 2022'!B:G,6,0)),\"-\",VLOOKUP(B45,'N PMRg 2022'!B:G,6,0))","v":"-"},{"$f":"IF(COUNTIF('N PMČRj 2022'!B:B,B45)=0,\"-\",COUNTIF('N PMČRj 2022'!B:B,B45))","v":"-"},{"$f":"IF(ISERROR(VLOOKUP(B45,'N PMČRj 2022'!B:G,6,0)),\"-\",VLOOKUP(B45,'N PMČRj 2022'!B:G,6,0))","v":"-"}]
[null,"PMČR 2021 - Tábor - Kombi 15m"]
[{"$f":"MAX(A43:A46)+1","v":36},"Jan Horak",{"$f":"VLOOKUP(B47,Pilot!A:C,3,0)","v":"Zbraslavice"},{"$f":"VLOOKUP(B47,Pilot!A:B,2,0)","v":1971},{"$f":"VLOOKUP(B47,Pilot!A:E,5,0)","v":"M"},{"$f":"VLOOKUP(B47,Pilot!A:F,6,0)","v":""},{"$f":"A47","v":36},null,{"$f":"COUNTIF(B:B,B47)","v":1},{"$f":"IF(ISERROR(VLOOKUP(B47,B:G,6,0)),\"-\",VLOOKUP(B47,B:G,6,0))","v":36},{"$f":"IF(COUNTIF('N PMRg 2022'!B:B,B47)=0,\"-\",COUNTIF('N PMRg 2022'!B:B,B47))","v":"-"},{"$f":"IF(ISERROR(VLOOKUP(B47,'N PMRg 2022'!B:G,6,0)),\"-\",VLOOKUP(B47,'N PMRg 2022'!B:G,6,0))","v":"-"},{"$f":"IF(COUNTIF('N PMČRj 2022'!B:B,B47)=0,\"-\",COUNTIF('N PMČRj 2022'!B:B,B47))","v":"-"},{"$f":"IF(ISERROR(VLOOKUP(B47,'N PMČRj 2022'!B:G,6,0)),\"-\",VLOOKUP(B47,'N PMČRj 2022'!B:G,6,0))","v":"-"}]
[null,"PMČR 2021 - Tábor - Kombi Open"]
[{"$f":"MAX(A47:A48)+1","v":37},"Jan Boruvka",{"$f":"VLOOKUP(B49,Pilot!A:C,3,0)","v":"Jičín"},{"$f":"VLOOKUP(B49,Pilot!A:B,2,0)","v":1984},{"$f":"VLOOKUP(B49,Pilot!A:E,5,0)","v":"M"},{"$f":"VLOOKUP(B49,Pilot!A:F,6,0)","v":""},{"$f":"A49","v":37},null,{"$f":"COUNTIF(B:B,B49)","v":1},{"$f":"IF(ISERROR(VLOOKUP(B49,B:G,6,0)),\"-\",VLOOKUP(B49,B:G,6,0))","v":37},{"$f":"IF(COUNTIF('N PMRg 2022'!B:B,B49)=0,\"-\",COUNTIF('N PMRg 2022'!B:B,B49))","v":"-"},{"$f":"IF(ISERROR(VLOOKUP(B49,'N PMRg 2022'!B:G,6,0)),\"-\",VLOOKUP(B49,'N PMRg 2022'!B:G,6,0))","v":"-"},{"$f":"IF(COUNTIF('N PMČRj 2022'!B:B,B49)=0,\"-\",COUNTIF('N PMČRj 2022'!B:B,B49))","v":"-"},{"$f":"IF(ISERROR(VLOOKUP(B49,'N PMČRj 2022'!B:G,6,0)),\"-\",VLOOKUP(B49,'N PMČRj 2022'!B:G,6,0))","v":"-"}]
[{"$f":"A49+1","v":38},"Martin Hrivna",{"$f":"VLOOKUP(B50,Pilot!A:C,3,0)","v":"Zbraslavice"},{"$f":"VLOOKUP(B50,Pilot!A:B,2,0)","v":1978},{"$f":"VLOOKUP(B50,Pilot!A:E,5,0)","v":"M"},{"$f":"VLOOKUP(B50,Pilot!A:F,6,0)","v":""},38,null,{"$f":"COUNTIF(B:B,B50)","v":1},{"$f":"IF(ISERROR(VLOOKUP(B50,B:G,6,0)),\"-\",VLOOKUP(B50,B:G,6,0))","v":38},{"$f":"IF(COUNTIF('N PMRg 2022'!B:B,B50)=0,\"-\",COUNTIF('N PMRg 2022'!B:B,B50))","v":"-"},{"$f":"IF(ISERROR(VLOOKUP(B50,'N PMRg 2022'!B:G,6,0)),\"-\",VLOOKUP(B50,'N PMRg 2022'!B:G,6,0))","v":"-"},{"$f":"IF(COUNTIF('N PMČRj 2022'!B:B,B50)=0,\"-\",COUNTIF('N PMČRj 2022'!B:B,B50))","v":"-"},{"$f":"IF(ISERROR(VLOOKUP(B50,'N PMČRj 2022'!B:G,6,0)),\"-\",VLOOKUP(B50,'N PMČRj 2022'!B:G,6,0))","v":"-"}]
[{"$f":"A50+1","v":39},"Tomas Rendla",{"$f":"VLOOKUP(B51,Pilot!A:C,3,0)","v":"Zbraslavice"},{"$f":"VLOOKUP(B51,Pilot!A:B,2,0)","v":1973},{"$f":"VLOOKUP(B51,Pilot!A:E,5,0)","v":"M"},{"$f":"VLOOKUP(B51,Pilot!A:F,6,0)","v":""},39,null,{"$f":"COUNTIF(B:B,B51)","v":1},{"$f":"IF(ISERROR(VLOOKUP(B51,B:G,6,0)),\"-\",VLOOKUP(B51,B:G,6,0))","v":39},{"$f":"IF(COUNTIF('N PMRg 2022'!B:B,B51)=0,\"-\",COUNTIF('N PMRg 2022'!B:B,B51))","v":"-"},{"$f":"IF(ISERROR(VLOOKUP(B51,'N PMRg 2022'!B:G,6,0)),\"-\",VLOOKUP(B51,'N PMRg 2022'!B:G,6,0))","v":"-"},{"$f":"IF(COUNTIF('N PMČRj 2022'!B:B,B51)=0,\"-\",COUNTIF('N PMČRj 2022'!B:B,B51))","v":"-"},{"$f":"IF(ISERROR(VLOOKUP(B51,'N PMČRj 2022'!B:G,6,0)),\"-\",VLOOKUP(B51,'N PMČRj 2022'!B:G,6,0))","v":"-"}]
[40,"Radek Zima 78",{"$f":"VLOOKUP(B52,Pilot!A:C,3,0)","v":"Hodkovice"},{"$f":"VLOOKUP(B52,Pilot!A:B,2,0)","v":1978},{"$f":"VLOOKUP(B52,Pilot!A:E,5,0)","v":"M"},{"$f":"VLOOKUP(B52,Pilot!A:F,6,0)","v":""},40,null,{"$f":"COUNTIF(B:B,B52)","v":1},{"$f":"IF(ISERROR(VLOOKUP(B52,B:G,6,0)),\"-\",VLOOKUP(B52,B:G,6,0))","v":40},{"$f":"IF(COUNTIF('N PMRg 2022'!B:B,B52)=0,\"-\",COUNTIF('N PMRg 2022'!B:B,B52))","v":"-"},{"$f":"IF(ISERROR(VLOOKUP(B52,'N PMRg 2022'!B:G,6,0)),\"-\",VLOOKUP(B52,'N PMRg 2022'!B:G,6,0))","v":"-"},{"$f":"IF(COUNTIF('N PMČRj 2022'!B:B,B52)=0,\"-\",COUNTIF('N PMČRj 2022'!B:B,B52))","v":"-"},{"$f":"IF(ISERROR(VLOOKUP(B52,'N PMČRj 2022'!B:G,6,0)),\"-\",VLOOKUP(B52,'N PMČRj 2022'!B:G,6,0))","v":"-"}]
[41,"Petr Krejcirik",{"$f":"VLOOKUP(B53,Pilot!A:C,3,0)","v":"Hranice"},{"$f":"VLOOKUP(B53,Pilot!A:B,2,0)","v":1960},{"$f":"VLOOKUP(B53,Pilot!A:E,5,0)","v":"M"},{"$f":"VLOOKUP(B53,Pilot!A:F,6,0)","v":""},41,null,{"$f":"COUNTIF(B:B,B53)","v":1},{"$f":"IF(ISERROR(VLOOKUP(B53,B:G,6,0)),\"-\",VLOOKUP(B53,B:G,6,0))","v":41},{"$f":"IF(COUNTIF('N PMRg 2022'!B:B,B53)=0,\"-\",COUNTIF('N PMRg 2022'!B:B,B53))","v":"-"},{"$f":"IF(ISERROR(VLOOKUP(B53,'N PMRg 2022'!B:G,6,0)),\"-\",VLOOKUP(B53,'N PMRg 2022'!B:G,6,0))","v":"-"},{"$f":"IF(COUNTIF('N PMČRj 2022'!B:B,B53)=0,\"-\",COUNTIF('N PMČRj 2022'!B:B,B53))","v":"-"},{"$f":"IF(ISERROR(VLOOKUP(B53,'N PMČRj 2022'!B:G,6,0)),\"-\",VLOOKUP(B53,'N PMČRj 2022'!B:G,6,0))","v":"-"}]
["6.6.6.3.","prvních 5 soutěžících z posledního platného PMČRj mimo RV (+ 5 náhradníků)"]
[null,"PMČRj 2021 - Moravská Třebová - Klub"]
[{"$f":"MAX(A42:A54)+1","v":42},"Jan Stastny",{"$f":"VLOOKUP(B56,Pilot!A:C,3,0)","v":"Medlánky"},{"$f":"VLOOKUP(B56,Pilot!A:B,2,0)","v":2003},{"$f":"VLOOKUP(B56,Pilot!A:E,5,0)","v":"M"},{"$f":"VLOOKUP(B56,Pilot!A:F,6,0)","v":"Junior v roce 2022"},{"$f":"A56","v":42},null,{"$f":"COUNTIF(B:B,B56)","v":1},{"$f":"IF(ISERROR(VLOOKUP(B56,B:G,6,0)),\"-\",VLOOKUP(B56,B:G,6,0))","v":42},{"$f":"IF(COUNTIF('N PMRg 2022'!B:B,B56)=0,\"-\",COUNTIF('N PMRg 2022'!B:B,B56))","v":"-"},{"$f":"IF(ISERROR(VLOOKUP(B56,'N PMRg 2022'!B:G,6,0)),\"-\",VLOOKUP(B56,'N PMRg 2022'!B:G,6,0))","v":"-"},{"$f":"IF(COUNTIF('N PMČRj 2022'!B:B,B56)=0,\"-\",COUNTIF('N PMČRj 2022'!B:B,B56))","v":1},{"$f":"IF(ISERROR(VLOOKUP(B56,'N PMČRj 2022'!B:G,6,0)),\"-\",VLOOKUP(B56,'N PMČRj 2022'!B:G,6,0))","v":9}]
[{"$f":"A56+1","v":43},"Vladimir Hammer",{"$f":"VLOOKUP(B57,Pilot!A:C,3,0)","v":"Letkov"},{"$f":"VLOOKUP(B57,Pilot!A:B,2,0)","v":2000},{"$f":"VLOOKUP(B57,Pilot!A:E,5,0)","v":"M"},{"$f":"VLOOKUP(B57,Pilot!A:F,6,0)","v":"Junior v roce 2022"},43,null,1,43,{"$f":"IF(COUNTIF('N PMRg 2022'!B:B,B57)=0,\"-\",COUNTIF('N PMRg 2022'!B:B,B57))","v":"-"},{"$f":"IF(ISERROR(VLOOKUP(B57,'N PMRg 2022'!B:G,6,0)),\"-\",VLOOKUP(B57,'N PMRg 2022'!B:G,6,0))","v":"-"},{"$f":"IF(COUNTIF('N PMČRj 2022'!B:B,B57)=0,\"-\",COUNTIF('N PMČRj 2022'!B:B,B57))","v":1},{"$f":"IF(ISERROR(VLOOKUP(B57,'N PMČRj 2022'!B:G,6,0)),\"-\",VLOOKUP(B57,'N PMČRj 2022'!B:G,6,0))","v":10}]
[{"$f":"A57+1","v":44},"Tomas Hynek",{"$f":"VLOOKUP(B58,Pilot!A:C,3,0)","v":"Dvůr Králové"},{"$f":"VLOOKUP(B58,Pilot!A:B,2,0)","v":2002},{"$f":"VLOOKUP(B58,Pilot!A:E,5,0)","v":"M"},{"$f":"VLOOKUP(B58,Pilot!A:F,6,0)","v":"Junior v roce 2022"},44,null,1,44,{"$f":"IF(COUNTIF('N PMRg 2022'!B:B,B58)=0,\"-\",COUNTIF('N PMRg 2022'!B:B,B58))","v":"-"},{"$f":"IF(ISERROR(VLOOKUP(B58,'N PMRg 2022'!B:G,6,0)),\"-\",VLOOKUP(B58,'N PMRg 2022'!B:G,6,0))","v":"-"},{"$f":"IF(COUNTIF('N PMČRj 2022'!B:B,B58)=0,\"-\",COUNTIF('N PMČRj 2022'!B:B,B58))","v":1},{"$f":"IF(ISERROR(VLOOKUP(B58,'N PMČRj 2022'!B:G,6,0)),\"-\",VLOOKUP(B58,'N PMČRj 2022'!B:G,6,0))","v":11}]
[{"$f":"A58+1","v":45},"Tomas Hulmak",{"$f":"VLOOKUP(B59,Pilot!A:C,3,0)","v":"Hosín"},{"$f":"VLOOKUP(B59,Pilot!A:B,2,0)","v":1999},{"$f":"VLOOKUP(B59,Pilot!A:E,5,0)","v":"M"},{"$f":"VLOOKUP(B59,Pilot!A:F,6,0)","v":"Junior v roce 2022"},45,null,1,45,{"$f":"IF(COUNTIF('N PMRg 2022'!B:B,B59)=0,\"-\",COUNTIF('N PMRg 2022'!B:B,B59))","v":"-"},{"$f":"IF(ISERROR(VLOOKUP(B59,'N PMRg 2022'!B:G,6,0)),\"-\",VLOOKUP(B59,'N PMRg 2022'!B:G,6,0))","v":"-"},{"$f":"IF(COUNTIF('N PMČRj 2022'!B:B,B59)=0,\"-\",COUNTIF('N PMČRj 2022'!B:B,B59))","v":1},{"$f":"IF(ISERROR(VLOOKUP(B59,'N PMČRj 2022'!B:G,6,0)),\"-\",VLOOKUP(B59,'N PMČRj 2022'!B:G,6,0))","v":12}]
[{"$f":"A59+1","v":46},"Lukas Volek",{"$f":"VLOOKUP(B60,Pilot!A:C,3,0)","v":"Hodkovice"},{"$f":"VLOOKUP(B60,Pilot!A:B,2,0)","v":2004},{"$f":"VLOOKUP(B60,Pilot!A:E,5,0)","v":"M"},{"$f":"VLOOKUP(B60,Pilot!A:F,6,0)","v":"Junior v roce 2022"},46,null,1,46,{"$f":"IF(COUNTIF('N PMRg 2022'!B:B,B60)=0,\"-\",COUNTIF('N PMRg 2022'!B:B,B60))","v":"-"},{"$f":"IF(ISERROR(VLOOKUP(B60,'N PMRg 2022'!B:G,6,0)),\"-\",VLOOKUP(B60,'N PMRg 2022'!B:G,6,0))","v":"-"},{"$f":"IF(COUNTIF('N PMČRj 2022'!B:B,B60)=0,\"-\",COUNTIF('N PMČRj 2022'!B:B,B60))","v":1},{"$f":"IF(ISERROR(VLOOKUP(B60,'N PMČRj 2022'!B:G,6,0)),\"-\",VLOOKUP(B60,'N PMČRj 2022'!B:G,6,0))","v":13}]
["N1","Petr Havelka",{"$f":"VLOOKUP(B61,Pilot!A:C,3,0)","v":"Zbraslavice"},{"$f":"VLOOKUP(B61,Pilot!A:B,2,0)","v":1997},{"$f":"VLOOKUP(B61,Pilot!A:E,5,0)","v":"M"},{"$f":"VLOOKUP(B61,Pilot!A:F,6,0)","v":"Junior v roce 2022"},"N1",null,1,"N1",{"$f":"IF(COUNTIF('N PMRg 2022'!B:B,B61)=0,\"-\",COUNTIF('N PMRg 2022'!B:B,B61))","v":"-"},{"$f":"IF(ISERROR(VLOOKUP(B61,'N PMRg 2022'!B:G,6,0)),\"-\",VLOOKUP(B61,'N PMRg 2022'!B:G,6,0))","v":"-"},{"$f":"IF(COUNTIF('N PMČRj 2022'!B:B,B61)=0,\"-\",COUNTIF('N PMČRj 2022'!B:B,B61))","v":1},{"$f":"IF(ISERROR(VLOOKUP(B61,'N PMČRj 2022'!B:G,6,0)),\"-\",VLOOKUP(B61,'N PMČRj 2022'!B:G,6,0))","v":14}]
["N2","Tomas Moravec",{"$f":"VLOOKUP(B62,Pilot!A:C,3,0)","v":"Žamberk"},{"$f":"VLOOKUP(B62,Pilot!A:B,2,0)","v":2000},{"$f":"VLOOKUP(B62,Pilot!A:E,5,0)","v":"M"},{"$f":"VLOOKUP(B62,Pilot!A:F,6,0)","v":"Junior v roce 2022"},"N2",null,1,"N2",{"$f":"IF(COUNTIF('N PMRg 2022'!B:B,B62)=0,\"-\",COUNTIF('N PMRg 2022'!B:B,B62))","v":"-"},{"$f":"IF(ISERROR(VLOOKUP(B62,'N PMRg 2022'!B:G,6,0)),\"-\",VLOOKUP(B62,'N PMRg 2022'!B:G,6,0))","v":"-"},{"$f":"IF(COUNTIF('N PMČRj 2022'!B:B,B62)=0,\"-\",COUNTIF('N PMČRj 2022'!B:B,B62))","v":1},{"$f":"IF(ISERROR(VLOOKUP(B62,'N PMČRj 2022'!B:G,6,0)),\"-\",VLOOKUP(B62,'N PMČRj 2022'!B:G,6,0))","v":15}]
["N3","Lukas Maly",{"$f":"VLOOKUP(B63,Pilot!A:C,3,0)","v":"Vysoké Mýto"},{"$f":"VLOOKUP(B63,Pilot!A:B,2,0)","v":1998},{"$f":"VLOOKUP(B63,Pilot!A:E,5,0)","v":"M"},{"$f":"VLOOKUP(B63,Pilot!A:F,6,0)","v":"Junior v roce 2022"},"N3",null,1,"N3",{"$f":"IF(COUNTIF('N PMRg 2022'!B:B,B63)=0,\"-\",COUNTIF('N PMRg 2022'!B:B,B63))","v":"-"},{"$f":"IF(ISERROR(VLOOKUP(B63,'N PMRg 2022'!B:G,6,0)),\"-\",VLOOKUP(B63,'N PMRg 2022'!B:G,6,0))","v":"-"},{"$f":"IF(COUNTIF('N PMČRj 2022'!B:B,B63)=0,\"-\",COUNTIF('N PMČRj 2022'!B:B,B63))","v":1},{"$f":"IF(ISERROR(VLOOKUP(B63,'N PMČRj 2022'!B:G,6,0)),\"-\",VLOOKUP(B63,'N PMČRj 2022'!B:G,6,0))","v":16}]
["N4","Vit Tvrdik",{"$f":"VLOOKUP(B64,Pilot!A:C,3,0)","v":"Letňany"},{"$f":"VLOOKUP(B64,Pilot!A:B,2,0)","v":2000},{"$f":"VLOOKUP(B64,Pilot!A:E,5,0)","v":"M"},{"$f":"VLOOKUP(B64,Pilot!A:F,6,0)","v":"Junior v roce 2022"},"N4",null,1,"N4",{"$f":"IF(COUNTIF('N PMRg 2022'!B:B,B64)=0,\"-\",COUNTIF('N PMRg 2022'!B:B,B64))","v":"-"},{"$f":"IF(ISERROR(VLOOKUP(B64,'N PMRg 2022'!B:G,6,0)),\"-\",VLOOKUP(B64,'N PMRg 2022'!B:G,6,0))","v":"-"},{"$f":"IF(COUNTIF('N PMČRj 2022'!B:B,B64)=0,\"-\",COUNTIF('N PMČRj 2022'!B:B,B64))","v":1},{"$f":"IF(ISERROR(VLOOKUP(B64,'N PMČRj 2022'!B:G,6,0)),\"-\",VLOOKUP(B64,'N PMČRj 2022'!B:G,6,0))","v":17}]
["N5","Ondrej Dvorak 98",{"$f":"VLOOKUP(B65,Pilot!A:C,3,0)","v":"Mladá Boleslav"},{"$f":"VLOOKUP(B65,Pilot!A:B,2,0)","v":1998},{"$f":"VLOOKUP(B65,Pilot!A:E,5,0)","v":"M"},{"$f":"VLOOKUP(B65,Pilot!A:F,6,0)","v":"Junior v roce 2022"},"N5",null,1,"N5",{"$f":"IF(COUNTIF('N PMRg 2022'!B:B,B65)=0,\"-\",COUNTIF('N PMRg 2022'!B:B,B65))","v":"-"},{"$f":"IF(ISERROR(VLOOKUP(B65,'N PMRg 2022'!B:G,6,0)),\"-\",VLOOKUP(B65,'N PMRg 2022'!B:G,6,0))","v":"-"},{"$f":"IF(COUNTIF('N PMČRj 2022'!B:B,B65)=0,\"-\",COUNTIF('N PMČRj 2022'!B:B,B65))","v":1},{"$f":"IF(ISERROR(VLOOKUP(B65,'N PMČRj 2022'!B:G,6,0)),\"-\",VLOOKUP(B65,'N PMČRj 2022'!B:G,6,0))","v":18}]
["6.6.6.4.","5 soutěžících může navrhnout PK podle jiných kritérií dle odstavce 9. (bez náhradníků)"]
["81.","-",{"$f":"VLOOKUP(B67,Pilot!A:C,3,0)","v":" "},{"$f":"VLOOKUP(B67,Pilot!A:B,2,0)","v":" "},{"$f":"VLOOKUP(B67,Pilot!A:E,5,0)","v":" "},{"$f":"VLOOKUP(B67,Pilot!A:F,6,0)","v":" "},{"$f":"A67","v":"81."},null,{"$f":"COUNTIF(B:B,B67)","v":5},{"$f":"IF(ISERROR(VLOOKUP(B67,B:G,6,0)),\"-\",VLOOKUP(B67,B:G,6,0))","v":"81."},{"$f":"IF(COUNTIF('N PMRg 2022'!B:B,B67)=0,\"-\",COUNTIF('N PMRg 2022'!B:B,B67))","v":70},{"$f":"IF(ISERROR(VLOOKUP(B67,'N PMRg 2022'!B:G,6,0)),\"-\",VLOOKUP(B67,'N PMRg 2022'!B:G,6,0))","v":"-"},{"$f":"IF(COUNTIF('N PMČRj 2022'!B:B,B67)=0,\"-\",COUNTIF('N PMČRj 2022'!B:B,B67))","v":35},{"$f":"IF(ISERROR(VLOOKUP(B67,'N PMČRj 2022'!B:G,6,0)),\"-\",VLOOKUP(B67,'N PMČRj 2022'!B:G,6,0))","v":21}]
["82.","-",{"$f":"VLOOKUP(B68,Pilot!A:C,3,0)","v":" "},{"$f":"VLOOKUP(B68,Pilot!A:B,2,0)","v":" "},{"$f":"VLOOKUP(B68,Pilot!A:E,5,0)","v":" "},{"$f":"VLOOKUP(B68,Pilot!A:F,6,0)","v":" "},{"$f":"A68","v":"82."},null,{"$f":"COUNTIF(B:B,B68)","v":5},{"$f":"IF(ISERROR(VLOOKUP(B68,B:G,6,0)),\"-\",VLOOKUP(B68,B:G,6,0))","v":"81."},{"$f":"IF(COUNTIF('N PMRg 2022'!B:B,B68)=0,\"-\",COUNTIF('N PMRg 2022'!B:B,B68))","v":70},{"$f":"IF(ISERROR(VLOOKUP(B68,'N PMRg 2022'!B:G,6,0)),\"-\",VLOOKUP(B68,'N PMRg 2022'!B:G,6,0))","v":"-"},{"$f":"IF(COUNTIF('N PMČRj 2022'!B:B,B68)=0,\"-\",COUNTIF('N PMČRj 2022'!B:B,B68))","v":35},{"$f":"IF(ISERROR(VLOOKUP(B68,'N PMČRj 2022'!B:G,6,0)),\"-\",VLOOKUP(B68,'N PMČRj 2022'!B:G,6,0))","v":21}]
["83.","-",{"$f":"VLOOKUP(B69,Pilot!A:C,3,0)","v":" "},{"$f":"VLOOKUP(B69,Pilot!A:B,2,0)","v":" "},{"$f":"VLOOKUP(B69,Pilot!A:E,5,0)","v":" "},{"$f":"VLOOKUP(B69,Pilot!A:F,6,0)","v":" "},{"$f":"A69","v":"83."},null,{"$f":"COUNTIF(B:B,B69)","v":5},{"$f":"IF(ISERROR(VLOOKUP(B69,B:G,6,0)),\"-\",VLOOKUP(B69,B:G,6,0))","v":"81."},{"$f":"IF(COUNTIF('N PMRg 2022'!B:B,B69)=0,\"-\",COUNTIF('N PMRg 2022'!B:B,B69))","v":70},{"$f":"IF(ISERROR(VLOOKUP(B69,'N PMRg 2022'!B:G,6,0)),\"-\",VLOOKUP(B69,'N PMRg 2022'!B:G,6,0))","v":"-"},{"$f":"IF(COUNTIF('N PMČRj 2022'!B:B,B69)=0,\"-\",COUNTIF('N PMČRj 2022'!B:B,B69))","v":35},{"$f":"IF(ISERROR(VLOOKUP(B69,'N PMČRj 2022'!B:G,6,0)),\"-\",VLOOKUP(B69,'N PMČRj 2022'!B:G,6,0))","v":21}]
["84.","-",{"$f":"VLOOKUP(B70,Pilot!A:C,3,0)","v":" "},{"$f":"VLOOKUP(B70,Pilot!A:B,2,0)","v":" "},{"$f":"VLOOKUP(B70,Pilot!A:E,5,0)","v":" "},{"$f":"VLOOKUP(B70,Pilot!A:F,6,0)","v":" "},{"$f":"A70","v":"84."},null,{"$f":"COUNTIF(B:B,B70)","v":5},{"$f":"IF(ISERROR(VLOOKUP(B70,B:G,6,0)),\"-\",VLOOKUP(B70,B:G,6,0))","v":"81."},{"$f":"IF(COUNTIF('N PMRg 2022'!B:B,B70)=0,\"-\",COUNTIF('N PMRg 2022'!B:B,B70))","v":70},{"$f":"IF(ISERROR(VLOOKUP(B70,'N PMRg 2022'!B:G,6,0)),\"-\",VLOOKUP(B70,'N PMRg 2022'!B:G,6,0))","v":"-"},{"$f":"IF(COUNTIF('N PMČRj 2022'!B:B,B70)=0,\"-\",COUNTIF('N PMČRj 2022'!B:B,B70))","v":35},{"$f":"IF(ISERROR(VLOOKUP(B70,'N PMČRj 2022'!B:G,6,0)),\"-\",VLOOKUP(B70,'N PMČRj 2022'!B:G,6,0))","v":21}]
["85.","-",{"$f":"VLOOKUP(B71,Pilot!A:C,3,0)","v":" "},{"$f":"VLOOKUP(B71,Pilot!A:B,2,0)","v":" "},{"$f":"VLOOKUP(B71,Pilot!A:E,5,0)","v":" "},{"$f":"VLOOKUP(B71,Pilot!A:F,6,0)","v":" "},{"$f":"A71","v":"85."},null,{"$f":"COUNTIF(B:B,B71)","v":5},{"$f":"IF(ISERROR(VLOOKUP(B71,B:G,6,0)),\"-\",VLOOKUP(B71,B:G,6,0))","v":"81."},{"$f":"IF(COUNTIF('N PMRg 2022'!B:B,B71)=0,\"-\",COUNTIF('N PMRg 2022'!B:B,B71))","v":70},{"$f":"IF(ISERROR(VLOOKUP(B71,'N PMRg 2022'!B:G,6,0)),\"-\",VLOOKUP(B71,'N PMRg 2022'!B:G,6,0))","v":"-"},{"$f":"IF(COUNTIF('N PMČRj 2022'!B:B,B71)=0,\"-\",COUNTIF('N PMČRj 2022'!B:B,B71))","v":35},{"$f":"IF(ISERROR(VLOOKUP(B71,'N PMČRj 2022'!B:G,6,0)),\"-\",VLOOKUP(B71,'N PMČRj 2022'!B:G,6,0))","v":21}]
["6.6.6.5.","ostatní soutěžící z posledního platného PMRg v pořadí podle umístění, do naplnění celkového počtu nominovaných 80 dle 6.6.5. (+ 10 náhradníků)"]
["6.6.6.6.","Je-li PMRg pořádáno ve více třídách, a/nebo ve více regionech, pak jsou na PMČR nominováni soutěžící podle korigovaných bodů z jednotlivých tříd/regionů do naplnění celkového počtu nominovaných dle 6.6.5."]
["6.6.6.7.","V případě neplatnosti některé ze soutěžních tříd posledního PMRg budou pro výpočet korigovaných bodů použity výsledky z posledního platného PMRg v dané třídě."]
[null,"PMRg 2021 - Moravská Třebová - Korigované body"]
[{"$f":"MAX(A56:A72)+1","v":47},"Jan Louda",{"$f":"VLOOKUP(B76,Pilot!A:C,3,0)","v":"Mladá Boleslav"},{"$f":"VLOOKUP(B76,Pilot!A:B,2,0)","v":1986},{"$f":"VLOOKUP(B76,Pilot!A:E,5,0)","v":"M"},{"$f":"VLOOKUP(B76,Pilot!A:F,6,0)","v":""},{"$f":"A76","v":47},null,{"$f":"COUNTIF(B:B,B76)","v":1},{"$f":"IF(ISERROR(VLOOKUP(B76,B:G,6,0)),\"-\",VLOOKUP(B76,B:G,6,0))","v":47},{"$f":"IF(COUNTIF('N PMRg 2022'!B:B,B76)=0,\"-\",COUNTIF('N PMRg 2022'!B:B,B76))","v":"-"},{"$f":"IF(ISERROR(VLOOKUP(B76,'N PMRg 2022'!B:G,6,0)),\"-\",VLOOKUP(B76,'N PMRg 2022'!B:G,6,0))","v":"-"},{"$f":"IF(COUNTIF('N PMČRj 2022'!B:B,B76)=0,\"-\",COUNTIF('N PMČRj 2022'!B:B,B76))","v":"-"},{"$f":"IF(ISERROR(VLOOKUP(B76,'N PMČRj 2022'!B:G,6,0)),\"-\",VLOOKUP(B76,'N PMČRj 2022'!B:G,6,0))","v":"-"}]
[{"$f":"A76+1","v":48},"Pavel Jiranek",{"$f":"VLOOKUP(B77,Pilot!A:C,3,0)","v":"Toužim"},{"$f":"VLOOKUP(B77,Pilot!A:B,2,0)","v":1993},{"$f":"VLOOKUP(B77,Pilot!A:E,5,0)","v":"M"},{"$f":"VLOOKUP(B77,Pilot!A:F,6,0)","v":""},48,null,1,48,{"$f":"IF(COUNTIF('N PMRg 2022'!B:B,B77)=0,\"-\",COUNTIF('N PMRg 2022'!B:B,B77))","v":"-"},{"$f":"IF(ISERROR(VLOOKUP(B77,'N PMRg 2022'!B:G,6,0)),\"-\",VLOOKUP(B77,'N PMRg 2022'!B:G,6,0))","v":"-"},{"$f":"IF(COUNTIF('N PMČRj 2022'!B:B,B77)=0,\"-\",COUNTIF('N PMČRj 2022'!B:B,B77))","v":"-"},{"$f":"IF(ISERROR(VLOOKUP(B77,'N PMČRj 2022'!B:G,6,0)),\"-\",VLOOKUP(B77,'N PMČRj 2022'!B:G,6,0))","v":"-"}]
[{"$f":"A77+1","v":49},"Pavel Trybenekr",{"$f":"VLOOKUP(B78,Pilot!A:C,3,0)","v":"Hořice"},{"$f":"VLOOKUP(B78,Pilot!A:B,2,0)","v":1990},{"$f":"VLOOKUP(B78,Pilot!A:E,5,0)","v":"M"},{"$f":"VLOOKUP(B78,Pilot!A:F,6,0)","v":""},49,null,1,49,{"$f":"IF(COUNTIF('N PMRg 2022'!B:B,B78)=0,\"-\",COUNTIF('N PMRg 2022'!B:B,B78))","v":"-"},{"$f":"IF(ISERROR(VLOOKUP(B78,'N PMRg 2022'!B:G,6,0)),\"-\",VLOOKUP(B78,'N PMRg 2022'!B:G,6,0))","v":"-"},{"$f":"IF(COUNTIF('N PMČRj 2022'!B:B,B78)=0,\"-\",COUNTIF('N PMČRj 2022'!B:B,B78))","v":"-"},{"$f":"IF(ISERROR(VLOOKUP(B78,'N PMČRj 2022'!B:G,6,0)),\"-\",VLOOKUP(B78,'N PMČRj 2022'!B:G,6,0))","v":"-"}]
[50,"Jiri Stepanek",{"$f":"VLOOKUP(B79,Pilot!A:C,3,0)","v":"Moravská Třebová"},{"$f":"VLOOKUP(B79,Pilot!A:B,2,0)","v":1956},{"$f":"VLOOKUP(B79,Pilot!A:E,5,0)","v":"M"},{"$f":"VLOOKUP(B79,Pilot!A:F,6,0)","v":""},50,null,1,50,{"$f":"IF(COUNTIF('N PMRg 2022'!B:B,B79)=0,\"-\",COUNTIF('N PMRg 2022'!B:B,B79))","v":"-"},{"$f":"IF(ISERROR(VLOOKUP(B79,'N PMRg 2022'!B:G,6,0)),\"-\",VLOOKUP(B79,'N PMRg 2022'!B:G,6,0))","v":"-"},{"$f":"IF(COUNTIF('N PMČRj 2022'!B:B,B79)=0,\"-\",COUNTIF('N PMČRj 2022'!B:B,B79))","v":"-"},{"$f":"IF(ISERROR(VLOOKUP(B79,'N PMČRj 2022'!B:G,6,0)),\"-\",VLOOKUP(B79,'N PMČRj 2022'!B:G,6,0))","v":"-"}]
[51,"Martin Stepanek",{"$f":"VLOOKUP(B80,Pilot!A:C,3,0)","v":"Moravská Třebová"},{"$f":"VLOOKUP(B80,Pilot!A:B,2,0)","v":1987},{"$f":"VLOOKUP(B80,Pilot!A:E,5,0)","v":"M"},{"$f":"VLOOKUP(B80,Pilot!A:F,6,0)","v":""},51,null,1,51,{"$f":"IF(COUNTIF('N PMRg 2022'!B:B,B80)=0,\"-\",COUNTIF('N PMRg 2022'!B:B,B80))","v":"-"},{"$f":"IF(ISERROR(VLOOKUP(B80,'N PMRg 2022'!B:G,6,0)),\"-\",VLOOKUP(B80,'N PMRg 2022'!B:G,6,0))","v":"-"},{"$f":"IF(COUNTIF('N PMČRj 2022'!B:B,B80)=0,\"-\",COUNTIF('N PMČRj 2022'!B:B,B80))","v":"-"},{"$f":"IF(ISERROR(VLOOKUP(B80,'N PMČRj 2022'!B:G,6,0)),\"-\",VLOOKUP(B80,'N PMČRj 2022'!B:G,6,0))","v":"-"}]
[52,"Petr Stepanek",{"$f":"VLOOKUP(B81,Pilot!A:C,3,0)","v":"Moravská Třebová"},{"$f":"VLOOKUP(B81,Pilot!A:B,2,0)","v":1989},{"$f":"VLOOKUP(B81,Pilot!A:E,5,0)","v":"M"},{"$f":"VLOOKUP(B81,Pilot!A:F,6,0)","v":""},52,null,1,52,{"$f":"IF(COUNTIF('N PMRg 2022'!B:B,B81)=0,\"-\",COUNTIF('N PMRg 2022'!B:B,B81))","v":"-"},{"$f":"IF(ISERROR(VLOOKUP(B81,'N PMRg 2022'!B:G,6,0)),\"-\",VLOOKUP(B81,'N PMRg 2022'!B:G,6,0))","v":"-"},{"$f":"IF(COUNTIF('N PMČRj 2022'!B:B,B81)=0,\"-\",COUNTIF('N PMČRj 2022'!B:B,B81))","v":"-"},{"$f":"IF(ISERROR(VLOOKUP(B81,'N PMČRj 2022'!B:G,6,0)),\"-\",VLOOKUP(B81,'N PMČRj 2022'!B:G,6,0))","v":"-"}]
[53,"Michaela Rendlova",{"$f":"VLOOKUP(B82,Pilot!A:C,3,0)","v":"Toužim"},{"$f":"VLOOKUP(B82,Pilot!A:B,2,0)","v":2004},{"$f":"VLOOKUP(B82,Pilot!A:E,5,0)","v":"F"},{"$f":"VLOOKUP(B82,Pilot!A:F,6,0)","v":"Junior v roce 2022"},53,null,1,53,{"$f":"IF(COUNTIF('N PMRg 2022'!B:B,B82)=0,\"-\",COUNTIF('N PMRg 2022'!B:B,B82))","v":"-"},{"$f":"IF(ISERROR(VLOOKUP(B82,'N PMRg 2022'!B:G,6,0)),\"-\",VLOOKUP(B82,'N PMRg 2022'!B:G,6,0))","v":"-"},{"$f":"IF(COUNTIF('N PMČRj 2022'!B:B,B82)=0,\"-\",COUNTIF('N PMČRj 2022'!B:B,B82))","v":1},{"$f":"IF(ISERROR(VLOOKUP(B82,'N PMČRj 2022'!B:G,6,0)),\"-\",VLOOKUP(B82,'N PMČRj 2022'!B:G,6,0))","v":8}]
[54,"Zdenek Balcarek",{"$f":"VLOOKUP(B83,Pilot!A:C,3,0)","v":"Kroměříž"},{"$f":"VLOOKUP(B83,Pilot!A:B,2,0)","v":1967},{"$f":"VLOOKUP(B83,Pilot!A:E,5,0)","v":"M"},{"$f":"VLOOKUP(B83,Pilot!A:F,6,0)","v":""},54,null,1,54,{"$f":"IF(COUNTIF('N PMRg 2022'!B:B,B83)=0,\"-\",COUNTIF('N PMRg 2022'!B:B,B83))","v":"-"},{"$f":"IF(ISERROR(VLOOKUP(B83,'N PMRg 2022'!B:G,6,0)),\"-\",VLOOKUP(B83,'N PMRg 2022'!B:G,6,0))","v":"-"},{"$f":"IF(COUNTIF('N PMČRj 2022'!B:B,B83)=0,\"-\",COUNTIF('N PMČRj 2022'!B:B,B83))","v":"-"},{"$f":"IF(ISERROR(VLOOKUP(B83,'N PMČRj 2022'!B:G,6,0)),\"-\",VLOOKUP(B83,'N PMČRj 2022'!B:G,6,0))","v":"-"}]
[55,"Jiri Steiger",{"$f":"VLOOKUP(B84,Pilot!A:C,3,0)","v":"Olomouc"},{"$f":"VLOOKUP(B84,Pilot!A:B,2,0)","v":1969},{"$f":"VLOOKUP(B84,Pilot!A:E,5,0)","v":"M"},{"$f":"VLOOKUP(B84,Pilot!A:F,6,0)","v":""},55,null,1,55,{"$f":"IF(COUNTIF('N PMRg 2022'!B:B,B84)=0,\"-\",COUNTIF('N PMRg 2022'!B:B,B84))","v":"-"},{"$f":"IF(ISERROR(VLOOKUP(B84,'N PMRg 2022'!B:G,6,0)),\"-\",VLOOKUP(B84,'N PMRg 2022'!B:G,6,0))","v":"-"},{"$f":"IF(COUNTIF('N PMČRj 2022'!B:B,B84)=0,\"-\",COUNTIF('N PMČRj 2022'!B:B,B84))","v":"-"},{"$f":"IF(ISERROR(VLOOKUP(B84,'N PMČRj 2022'!B:G,6,0)),\"-\",VLOOKUP(B84,'N PMČRj 2022'!B:G,6,0))","v":"-"}]
[56,"Petr Valenta 94",{"$f":"VLOOKUP(B85,Pilot!A:C,3,0)","v":"Kunovice"},{"$f":"VLOOKUP(B85,Pilot!A:B,2,0)","v":1994},{"$f":"VLOOKUP(B85,Pilot!A:E,5,0)","v":"M"},{"$f":"VLOOKUP(B85,Pilot!A:F,6,0)","v":""},56,null,1,56,{"$f":"IF(COUNTIF('N PMRg 2022'!B:B,B85)=0,\"-\",COUNTIF('N PMRg 2022'!B:B,B85))","v":"-"},{"$f":"IF(ISERROR(VLOOKUP(B85,'N PMRg 2022'!B:G,6,0)),\"-\",VLOOKUP(B85,'N PMRg 2022'!B:G,6,0))","v":"-"},{"$f":"IF(COUNTIF('N PMČRj 2022'!B:B,B85)=0,\"-\",COUNTIF('N PMČRj 2022'!B:B,B85))","v":"-"},{"$f":"IF(ISERROR(VLOOKUP(B85,'N PMČRj 2022'!B:G,6,0)),\"-\",VLOOKUP(B85,'N PMČRj 2022'!B:G,6,0))","v":"-"}]
[57,"Pavlina Horackova",{"$f":"VLOOKUP(B86,Pilot!A:C,3,0)","v":"Šumperk"},{"$f":"VLOOKUP(B86,Pilot!A:B,2,0)","v":1965},{"$f":"VLOOKUP(B86,Pilot!A:E,5,0)","v":"F"},{"$f":"VLOOKUP(B86,Pilot!A:F,6,0)","v":""},57,null,1,57,{"$f":"IF(COUNTIF('N PMRg 2022'!B:B,B86)=0,\"-\",COUNTIF('N PMRg 2022'!B:B,B86))","v":"-"},{"$f":"IF(ISERROR(VLOOKUP(B86,'N PMRg 2022'!B:G,6,0)),\"-\",VLOOKUP(B86,'N PMRg 2022'!B:G,6,0))","v":"-"},{"$f":"IF(COUNTIF('N PMČRj 2022'!B:B,B86)=0,\"-\",COUNTIF('N PMČRj 2022'!B:B,B86))","v":"-"},{"$f":"IF(ISERROR(VLOOKUP(B86,'N PMČRj 2022'!B:G,6,0)),\"-\",VLOOKUP(B86,'N PMČRj 2022'!B:G,6,0))","v":"-"}]
[58,"Jiri Vondracek",{"$f":"VLOOKUP(B87,Pilot!A:C,3,0)","v":"Kladno"},{"$f":"VLOOKUP(B87,Pilot!A:B,2,0)","v":1989},{"$f":"VLOOKUP(B87,Pilot!A:E,5,0)","v":"M"},{"$f":"VLOOKUP(B87,Pilot!A:F,6,0)","v":""},58,null,1,58,{"$f":"IF(COUNTIF('N PMRg 2022'!B:B,B87)=0,\"-\",COUNTIF('N PMRg 2022'!B:B,B87))","v":"-"},{"$f":"IF(ISERROR(VLOOKUP(B87,'N PMRg 2022'!B:G,6,0)),\"-\",VLOOKUP(B87,'N PMRg 2022'!B:G,6,0))","v":"-"},{"$f":"IF(COUNTIF('N PMČRj 2022'!B:B,B87)=0,\"-\",COUNTIF('N PMČRj 2022'!B:B,B87))","v":"-"},{"$f":"IF(ISERROR(VLOOKUP(B87,'N PMČRj 2022'!B:G,6,0)),\"-\",VLOOKUP(B87,'N PMČRj 2022'!B:G,6,0))","v":"-"}]
[59,"Jiri Maier 66",{"$f":"VLOOKUP(B88,Pilot!A:C,3,0)","v":"Raná"},{"$f":"VLOOKUP(B88,Pilot!A:B,2,0)","v":1966},{"$f":"VLOOKUP(B88,Pilot!A:E,5,0)","v":"M"},{"$f":"VLOOKUP(B88,Pilot!A:F,6,0)","v":""},59,null,1,59,{"$f":"IF(COUNTIF('N PMRg 2022'!B:B,B88)=0,\"-\",COUNTIF('N PMRg 2022'!B:B,B88))","v":"-"},{"$f":"IF(ISERROR(VLOOKUP(B88,'N PMRg 2022'!B:G,6,0)),\"-\",VLOOKUP(B88,'N PMRg 2022'!B:G,6,0))","v":"-"},{"$f":"IF(COUNTIF('N PMČRj 2022'!B:B,B88)=0,\"-\",COUNTIF('N PMČRj 2022'!B:B,B88))","v":"-"},{"$f":"IF(ISERROR(VLOOKUP(B88,'N PMČRj 2022'!B:G,6,0)),\"-\",VLOOKUP(B88,'N PMČRj 2022'!B:G,6,0))","v":"-"}]
[60,"Martin Kriz",{"$f":"VLOOKUP(B89,Pilot!A:C,3,0)","v":"Přibyslav"},{"$f":"VLOOKUP(B89,Pilot!A:B,2,0)","v":1968},{"$f":"VLOOKUP(B89,Pilot!A:E,5,0)","v":"M"},{"$f":"VLOOKUP(B89,Pilot!A:F,6,0)","v":""},60,null,1,60,{"$f":"IF(COUNTIF('N PMRg 2022'!B:B,B89)=0,\"-\",COUNTIF('N PMRg 2022'!B:B,B89))","v":"-"},{"$f":"IF(ISERROR(VLOOKUP(B89,'N PMRg 2022'!B:G,6,0)),\"-\",VLOOKUP(B89,'N PMRg 2022'!B:G,6,0))","v":"-"},{"$f":"IF(COUNTIF('N PMČRj 2022'!B:B,B89)=0,\"-\",COUNTIF('N PMČRj 2022'!B:B,B89))","v":"-"},{"$f":"IF(ISERROR(VLOOKUP(B89,'N PMČRj 2022'!B:G,6,0)),\"-\",VLOOKUP(B89,'N PMČRj 2022'!B:G,6,0))","v":"-"}]
[61,"Miroslav Koci",{"$f":"VLOOKUP(B90,Pilot!A:C,3,0)","v":"Žamberk"},{"$f":"VLOOKUP(B90,Pilot!A:B,2,0)","v":1961},{"$f":"VLOOKUP(B90,Pilot!A:E,5,0)","v":"M"},{"$f":"VLOOKUP(B90,Pilot!A:F,6,0)","v":""},{"$f":"A90","v":61},null,1,61,{"$f":"IF(COUNTIF('N PMRg 2022'!B:B,B90)=0,\"-\",COUNTIF('N PMRg 2022'!B:B,B90))","v":"-"},{"$f":"IF(ISERROR(VLOOKUP(B90,'N PMRg 2022'!B:G,6,0)),\"-\",VLOOKUP(B90,'N PMRg 2022'!B:G,6,0))","v":"-"},{"$f":"IF(COUNTIF('N PMČRj 2022'!B:B,B90)=0,\"-\",COUNTIF('N PMČRj 2022'!B:B,B90))","v":"-"},{"$f":"IF(ISERROR(VLOOKUP(B90,'N PMČRj 2022'!B:G,6,0)),\"-\",VLOOKUP(B90,'N PMČRj 2022'!B:G,6,0))","v":"-"}]
[62,"Jan Florian",{"$f":"VLOOKUP(B91,Pilot!A:C,3,0)","v":"Zbraslavice"},{"$f":"VLOOKUP(B91,Pilot!A:B,2,0)","v":1992},{"$f":"VLOOKUP(B91,Pilot!A:E,5,0)","v":"M"},{"$f":"VLOOKUP(B91,Pilot!A:F,6,0)","v":""},62,null,1,62,{"$f":"IF(COUNTIF('N PMRg 2022'!B:B,B91)=0,\"-\",COUNTIF('N PMRg 2022'!B:B,B91))","v":"-"},{"$f":"IF(ISERROR(VLOOKUP(B91,'N PMRg 2022'!B:G,6,0)),\"-\",VLOOKUP(B91,'N PMRg 2022'!B:G,6,0))","v":"-"},{"$f":"IF(COUNTIF('N PMČRj 2022'!B:B,B91)=0,\"-\",COUNTIF('N PMČRj 2022'!B:B,B91))","v":"-"},{"$f":"IF(ISERROR(VLOOKUP(B91,'N PMČRj 2022'!B:G,6,0)),\"-\",VLOOKUP(B91,'N PMČRj 2022'!B:G,6,0))","v":"-"}]
[63,"Pavel Liska",{"$f":"VLOOKUP(B92,Pilot!A:C,3,0)","v":"Roudnice"},{"$f":"VLOOKUP(B92,Pilot!A:B,2,0)","v":1965},{"$f":"VLOOKUP(B92,Pilot!A:E,5,0)","v":"M"},{"$f":"VLOOKUP(B92,Pilot!A:F,6,0)","v":""},63,null,1,63,{"$f":"IF(COUNTIF('N PMRg 2022'!B:B,B92)=0,\"-\",COUNTIF('N PMRg 2022'!B:B,B92))","v":"-"},{"$f":"IF(ISERROR(VLOOKUP(B92,'N PMRg 2022'!B:G,6,0)),\"-\",VLOOKUP(B92,'N PMRg 2022'!B:G,6,0))","v":"-"},{"$f":"IF(COUNTIF('N PMČRj 2022'!B:B,B92)=0,\"-\",COUNTIF('N PMČRj 2022'!B:B,B92))","v":"-"},{"$f":"IF(ISERROR(VLOOKUP(B92,'N PMČRj 2022'!B:G,6,0)),\"-\",VLOOKUP(B92,'N PMČRj 2022'!B:G,6,0))","v":"-"}]
[64,"Pavel Koudelka",{"$f":"VLOOKUP(B93,Pilot!A:C,3,0)","v":"Křižanov"},{"$f":"VLOOKUP(B93,Pilot!A:B,2,0)","v":1973},{"$f":"VLOOKUP(B93,Pilot!A:E,5,0)","v":"M"},{"$f":"VLOOKUP(B93,Pilot!A:F,6,0)","v":""},64,null,1,64,{"$f":"IF(COUNTIF('N PMRg 2022'!B:B,B93)=0,\"-\",COUNTIF('N PMRg 2022'!B:B,B93))","v":"-"},{"$f":"IF(ISERROR(VLOOKUP(B93,'N PMRg 2022'!B:G,6,0)),\"-\",VLOOKUP(B93,'N PMRg 2022'!B:G,6,0))","v":"-"},{"$f":"IF(COUNTIF('N PMČRj 2022'!B:B,B93)=0,\"-\",COUNTIF('N PMČRj 2022'!B:B,B93))","v":"-"},{"$f":"IF(ISERROR(VLOOKUP(B93,'N PMČRj 2022'!B:G,6,0)),\"-\",VLOOKUP(B93,'N PMČRj 2022'!B:G,6,0))","v":"-"}]
[65,"Petr Prichystal",{"$f":"VLOOKUP(B94,Pilot!A:C,3,0)","v":"Moravská Třebová"},{"$f":"VLOOKUP(B94,Pilot!A:B,2,0)","v":1973},{"$f":"VLOOKUP(B94,Pilot!A:E,5,0)","v":"M"},{"$f":"VLOOKUP(B94,Pilot!A:F,6,0)","v":""},65,null,1,65,{"$f":"IF(COUNTIF('N PMRg 2022'!B:B,B94)=0,\"-\",COUNTIF('N PMRg 2022'!B:B,B94))","v":"-"},{"$f":"IF(ISERROR(VLOOKUP(B94,'N PMRg 2022'!B:G,6,0)),\"-\",VLOOKUP(B94,'N PMRg 2022'!B:G,6,0))","v":"-"},{"$f":"IF(COUNTIF('N PMČRj 2022'!B:B,B94)=0,\"-\",COUNTIF('N PMČRj 2022'!B:B,B94))","v":"-"},{"$f":"IF(ISERROR(VLOOKUP(B94,'N PMČRj 2022'!B:G,6,0)),\"-\",VLOOKUP(B94,'N PMČRj 2022'!B:G,6,0))","v":"-"}]
[66,"Jan Vozeh",{"$f":"VLOOKUP(B95,Pilot!A:C,3,0)","v":"Rakovník"},{"$f":"VLOOKUP(B95,Pilot!A:B,2,0)","v":1995},{"$f":"VLOOKUP(B95,Pilot!A:E,5,0)","v":"M"},{"$f":"VLOOKUP(B95,Pilot!A:F,6,0)","v":""},{"$f":"A95","v":66},null,1,66,{"$f":"IF(COUNTIF('N PMRg 2022'!B:B,B95)=0,\"-\",COUNTIF('N PMRg 2022'!B:B,B95))","v":"-"},{"$f":"IF(ISERROR(VLOOKUP(B95,'N PMRg 2022'!B:G,6,0)),\"-\",VLOOKUP(B95,'N PMRg 2022'!B:G,6,0))","v":"-"},{"$f":"IF(COUNTIF('N PMČRj 2022'!B:B,B95)=0,\"-\",COUNTIF('N PMČRj 2022'!B:B,B95))","v":"-"},{"$f":"IF(ISERROR(VLOOKUP(B95,'N PMČRj 2022'!B:G,6,0)),\"-\",VLOOKUP(B95,'N PMČRj 2022'!B:G,6,0))","v":"-"}]
[67,"Jakub Kohn",{"$f":"VLOOKUP(B96,Pilot!A:C,3,0)","v":"Prostějov"},{"$f":"VLOOKUP(B96,Pilot!A:B,2,0)","v":1992},{"$f":"VLOOKUP(B96,Pilot!A:E,5,0)","v":"M"},{"$f":"VLOOKUP(B96,Pilot!A:F,6,0)","v":""},67,null,1,67,{"$f":"IF(COUNTIF('N PMRg 2022'!B:B,B96)=0,\"-\",COUNTIF('N PMRg 2022'!B:B,B96))","v":"-"},{"$f":"IF(ISERROR(VLOOKUP(B96,'N PMRg 2022'!B:G,6,0)),\"-\",VLOOKUP(B96,'N PMRg 2022'!B:G,6,0))","v":"-"},{"$f":"IF(COUNTIF('N PMČRj 2022'!B:B,B96)=0,\"-\",COUNTIF('N PMČRj 2022'!B:B,B96))","v":"-"},{"$f":"IF(ISERROR(VLOOKUP(B96,'N PMČRj 2022'!B:G,6,0)),\"-\",VLOOKUP(B96,'N PMČRj 2022'!B:G,6,0))","v":"-"}]
[68,"Josef Hlusek",{"$f":"VLOOKUP(B97,Pilot!A:C,3,0)","v":"Kunovice"},{"$f":"VLOOKUP(B97,Pilot!A:B,2,0)","v":1993},{"$f":"VLOOKUP(B97,Pilot!A:E,5,0)","v":"M"},{"$f":"VLOOKUP(B97,Pilot!A:F,6,0)","v":""},68,null,1,68,{"$f":"IF(COUNTIF('N PMRg 2022'!B:B,B97)=0,\"-\",COUNTIF('N PMRg 2022'!B:B,B97))","v":"-"},{"$f":"IF(ISERROR(VLOOKUP(B97,'N PMRg 2022'!B:G,6,0)),\"-\",VLOOKUP(B97,'N PMRg 2022'!B:G,6,0))","v":"-"},{"$f":"IF(COUNTIF('N PMČRj 2022'!B:B,B97)=0,\"-\",COUNTIF('N PMČRj 2022'!B:B,B97))","v":"-"},{"$f":"IF(ISERROR(VLOOKUP(B97,'N PMČRj 2022'!B:G,6,0)),\"-\",VLOOKUP(B97,'N PMČRj 2022'!B:G,6,0))","v":"-"}]
[69,"Petr Kubik 75",{"$f":"VLOOKUP(B98,Pilot!A:C,3,0)","v":"Moravská Třebová"},{"$f":"VLOOKUP(B98,Pilot!A:B,2,0)","v":1975},{"$f":"VLOOKUP(B98,Pilot!A:E,5,0)","v":"M"},{"$f":"VLOOKUP(B98,Pilot!A:F,6,0)","v":""},69,null,1,69,{"$f":"IF(COUNTIF('N PMRg 2022'!B:B,B98)=0,\"-\",COUNTIF('N PMRg 2022'!B:B,B98))","v":"-"},{"$f":"IF(ISERROR(VLOOKUP(B98,'N PMRg 2022'!B:G,6,0)),\"-\",VLOOKUP(B98,'N PMRg 2022'!B:G,6,0))","v":"-"},{"$f":"IF(COUNTIF('N PMČRj 2022'!B:B,B98)=0,\"-\",COUNTIF('N PMČRj 2022'!B:B,B98))","v":"-"},{"$f":"IF(ISERROR(VLOOKUP(B98,'N PMČRj 2022'!B:G,6,0)),\"-\",VLOOKUP(B98,'N PMČRj 2022'!B:G,6,0))","v":"-"}]
[70,"Antonin Kutalek",{"$f":"VLOOKUP(B99,Pilot!A:C,3,0)","v":"Zábřeh"},{"$f":"VLOOKUP(B99,Pilot!A:B,2,0)","v":1943},{"$f":"VLOOKUP(B99,Pilot!A:E,5,0)","v":"M"},{"$f":"VLOOKUP(B99,Pilot!A:F,6,0)","v":""},70,null,1,70,{"$f":"IF(COUNTIF('N PMRg 2022'!B:B,B99)=0,\"-\",COUNTIF('N PMRg 2022'!B:B,B99))","v":"-"},{"$f":"IF(ISERROR(VLOOKUP(B99,'N PMRg 2022'!B:G,6,0)),\"-\",VLOOKUP(B99,'N PMRg 2022'!B:G,6,0))","v":"-"},{"$f":"IF(COUNTIF('N PMČRj 2022'!B:B,B99)=0,\"-\",COUNTIF('N PMČRj 2022'!B:B,B99))","v":"-"},{"$f":"IF(ISERROR(VLOOKUP(B99,'N PMČRj 2022'!B:G,6,0)),\"-\",VLOOKUP(B99,'N PMČRj 2022'!B:G,6,0))","v":"-"}]
[71,"Marek Pechar",{"$f":"VLOOKUP(B100,Pilot!A:C,3,0)","v":"Chrudim"},{"$f":"VLOOKUP(B100,Pilot!A:B,2,0)","v":1995},{"$f":"VLOOKUP(B100,Pilot!A:E,5,0)","v":"M"},{"$f":"VLOOKUP(B100,Pilot!A:F,6,0)","v":""},71,null,1,71,{"$f":"IF(COUNTIF('N PMRg 2022'!B:B,B100)=0,\"-\",COUNTIF('N PMRg 2022'!B:B,B100))","v":"-"},{"$f":"IF(ISERROR(VLOOKUP(B100,'N PMRg 2022'!B:G,6,0)),\"-\",VLOOKUP(B100,'N PMRg 2022'!B:G,6,0))","v":"-"},{"$f":"IF(COUNTIF('N PMČRj 2022'!B:B,B100)=0,\"-\",COUNTIF('N PMČRj 2022'!B:B,B100))","v":"-"},{"$f":"IF(ISERROR(VLOOKUP(B100,'N PMČRj 2022'!B:G,6,0)),\"-\",VLOOKUP(B100,'N PMČRj 2022'!B:G,6,0))","v":"-"}]
[72,"Jiri Krofta",{"$f":"VLOOKUP(B101,Pilot!A:C,3,0)","v":"Hosín"},{"$f":"VLOOKUP(B101,Pilot!A:B,2,0)","v":1988},{"$f":"VLOOKUP(B101,Pilot!A:E,5,0)","v":"M"},{"$f":"VLOOKUP(B101,Pilot!A:F,6,0)","v":""},72,null,1,72,{"$f":"IF(COUNTIF('N PMRg 2022'!B:B,B101)=0,\"-\",COUNTIF('N PMRg 2022'!B:B,B101))","v":"-"},{"$f":"IF(ISERROR(VLOOKUP(B101,'N PMRg 2022'!B:G,6,0)),\"-\",VLOOKUP(B101,'N PMRg 2022'!B:G,6,0))","v":"-"},{"$f":"IF(COUNTIF('N PMČRj 2022'!B:B,B101)=0,\"-\",COUNTIF('N PMČRj 2022'!B:B,B101))","v":"-"},{"$f":"IF(ISERROR(VLOOKUP(B101,'N PMČRj 2022'!B:G,6,0)),\"-\",VLOOKUP(B101,'N PMČRj 2022'!B:G,6,0))","v":"-"}]
[73,"Zuzana Kutilkova",{"$f":"VLOOKUP(B102,Pilot!A:C,3,0)","v":"Křižanov"},{"$f":"VLOOKUP(B102,Pilot!A:B,2,0)","v":1993},{"$f":"VLOOKUP(B102,Pilot!A:E,5,0)","v":"F"},{"$f":"VLOOKUP(B102,Pilot!A:F,6,0)","v":""},73,null,1,73,{"$f":"IF(COUNTIF('N PMRg 2022'!B:B,B102)=0,\"-\",COUNTIF('N PMRg 2022'!B:B,B102))","v":"-"},{"$f":"IF(ISERROR(VLOOKUP(B102,'N PMRg 2022'!B:G,6,0)),\"-\",VLOOKUP(B102,'N PMRg 2022'!B:G,6,0))","v":"-"},{"$f":"IF(COUNTIF('N PMČRj 2022'!B:B,B102)=0,\"-\",COUNTIF('N PMČRj 2022'!B:B,B102))","v":"-"},{"$f":"IF(ISERROR(VLOOKUP(B102,'N PMČRj 2022'!B:G,6,0)),\"-\",VLOOKUP(B102,'N PMČRj 2022'!B:G,6,0))","v":"-"}]
[74,"Petr Panek",{"$f":"VLOOKUP(B103,Pilot!A:C,3,0)","v":"Dvůr Králové"},{"$f":"VLOOKUP(B103,Pilot!A:B,2,0)","v":1975},{"$f":"VLOOKUP(B103,Pilot!A:E,5,0)","v":"M"},{"$f":"VLOOKUP(B103,Pilot!A:F,6,0)","v":""},74,null,1,74,{"$f":"IF(COUNTIF('N PMRg 2022'!B:B,B103)=0,\"-\",COUNTIF('N PMRg 2022'!B:B,B103))","v":"-"},{"$f":"IF(ISERROR(VLOOKUP(B103,'N PMRg 2022'!B:G,6,0)),\"-\",VLOOKUP(B103,'N PMRg 2022'!B:G,6,0))","v":"-"},{"$f":"IF(COUNTIF('N PMČRj 2022'!B:B,B103)=0,\"-\",COUNTIF('N PMČRj 2022'!B:B,B103))","v":"-"},{"$f":"IF(ISERROR(VLOOKUP(B103,'N PMČRj 2022'!B:G,6,0)),\"-\",VLOOKUP(B103,'N PMČRj 2022'!B:G,6,0))","v":"-"}]
["6.6.6.8.","ostatní soutěžící z posledního platného Všeobecného žebříku v pořadí podle umístění, do naplnění celkového počtu nominovaných dle 6.6.5. (+ 10 náhradníků)."]
[{"$f":"MAX(A76:A104)+1","v":75},"Danes Grula",{"$f":"VLOOKUP(B105,Pilot!A:C,3,0)","v":"Medlánky"},{"$f":"VLOOKUP(B105,Pilot!A:B,2,0)","v":1961},{"$f":"VLOOKUP(B105,Pilot!A:E,5,0)","v":"M"},{"$f":"VLOOKUP(B105,Pilot!A:F,6,0)","v":""},75,null,{"$f":"COUNTIF(B:B,B105)","v":1},{"$f":"IF(ISERROR(VLOOKUP(B105,B:G,6,0)),\"-\",VLOOKUP(B105,B:G,6,0))","v":75},{"$f":"IF(COUNTIF('N PMRg 2022'!B:B,B105)=0,\"-\",COUNTIF('N PMRg 2022'!B:B,B105))","v":"-"},{"$f":"IF(ISERROR(VLOOKUP(B105,'N PMRg 2022'!B:G,6,0)),\"-\",VLOOKUP(B105,'N PMRg 2022'!B:G,6,0))","v":"-"},{"$f":"IF(COUNTIF('N PMČRj 2022'!B:B,B105)=0,\"-\",COUNTIF('N PMČRj 2022'!B:B,B105))","v":"-"},{"$f":"IF(ISERROR(VLOOKUP(B105,'N PMČRj 2022'!B:G,6,0)),\"-\",VLOOKUP(B105,'N PMČRj 2022'!B:G,6,0))","v":"-"}]
[{"$f":"A105+1","v":76},"Josef Novotny",{"$f":"VLOOKUP(B106,Pilot!A:C,3,0)","v":"Přibyslav"},{"$f":"VLOOKUP(B106,Pilot!A:B,2,0)","v":1983},{"$f":"VLOOKUP(B106,Pilot!A:E,5,0)","v":"M"},{"$f":"VLOOKUP(B106,Pilot!A:F,6,0)","v":""},{"$f":"A106","v":76},null,1,76,{"$f":"IF(COUNTIF('N PMRg 2022'!B:B,B106)=0,\"-\",COUNTIF('N PMRg 2022'!B:B,B106))","v":"-"},{"$f":"IF(ISERROR(VLOOKUP(B106,'N PMRg 2022'!B:G,6,0)),\"-\",VLOOKUP(B106,'N PMRg 2022'!B:G,6,0))","v":"-"},{"$f":"IF(COUNTIF('N PMČRj 2022'!B:B,B106)=0,\"-\",COUNTIF('N PMČRj 2022'!B:B,B106))","v":"-"},{"$f":"IF(ISERROR(VLOOKUP(B106,'N PMČRj 2022'!B:G,6,0)),\"-\",VLOOKUP(B106,'N PMČRj 2022'!B:G,6,0))","v":"-"}]
[77,"Jan Kotan",{"$f":"VLOOKUP(B107,Pilot!A:C,3,0)","v":"Letňany"},{"$f":"VLOOKUP(B107,Pilot!A:B,2,0)","v":1982},{"$f":"VLOOKUP(B107,Pilot!A:E,5,0)","v":"M"},{"$f":"VLOOKUP(B107,Pilot!A:F,6,0)","v":""},77,null,1,77,{"$f":"IF(COUNTIF('N PMRg 2022'!B:B,B107)=0,\"-\",COUNTIF('N PMRg 2022'!B:B,B107))","v":"-"},{"$f":"IF(ISERROR(VLOOKUP(B107,'N PMRg 2022'!B:G,6,0)),\"-\",VLOOKUP(B107,'N PMRg 2022'!B:G,6,0))","v":"-"},{"$f":"IF(COUNTIF('N PMČRj 2022'!B:B,B107)=0,\"-\",COUNTIF('N PMČRj 2022'!B:B,B107))","v":"-"},{"$f":"IF(ISERROR(VLOOKUP(B107,'N PMČRj 2022'!B:G,6,0)),\"-\",VLOOKUP(B107,'N PMČRj 2022'!B:G,6,0))","v":"-"}]
[78,"Frantisek Vancura",{"$f":"VLOOKUP(B108,Pilot!A:C,3,0)","v":"Hranice"},{"$f":"VLOOKUP(B108,Pilot!A:B,2,0)","v":1966},{"$f":"VLOOKUP(B108,Pilot!A:E,5,0)","v":"M"},{"$f":"VLOOKUP(B108,Pilot!A:F,6,0)","v":""},78,null,1,78,{"$f":"IF(COUNTIF('N PMRg 2022'!B:B,B108)=0,\"-\",COUNTIF('N PMRg 2022'!B:B,B108))","v":"-"},{"$f":"IF(ISERROR(VLOOKUP(B108,'N PMRg 2022'!B:G,6,0)),\"-\",VLOOKUP(B108,'N PMRg 2022'!B:G,6,0))","v":"-"},{"$f":"IF(COUNTIF('N PMČRj 2022'!B:B,B108)=0,\"-\",COUNTIF('N PMČRj 2022'!B:B,B108))","v":"-"},{"$f":"IF(ISERROR(VLOOKUP(B108,'N PMČRj 2022'!B:G,6,0)),\"-\",VLOOKUP(B108,'N PMČRj 2022'!B:G,6,0))","v":"-"}]
[79,"Jiri Kusbach",{"$f":"VLOOKUP(B109,Pilot!A:C,3,0)","v":"Luhačovice"},{"$f":"VLOOKUP(B109,Pilot!A:B,2,0)","v":1959},{"$f":"VLOOKUP(B109,Pilot!A:E,5,0)","v":"M"},{"$f":"VLOOKUP(B109,Pilot!A:F,6,0)","v":""},{"$f":"A109","v":79},null,1,79,{"$f":"IF(COUNTIF('N PMRg 2022'!B:B,B109)=0,\"-\",COUNTIF('N PMRg 2022'!B:B,B109))","v":"-"},{"$f":"IF(ISERROR(VLOOKUP(B109,'N PMRg 2022'!B:G,6,0)),\"-\",VLOOKUP(B109,'N PMRg 2022'!B:G,6,0))","v":"-"},{"$f":"IF(COUNTIF('N PMČRj 2022'!B:B,B109)=0,\"-\",COUNTIF('N PMČRj 2022'!B:B,B109))","v":"-"},{"$f":"IF(ISERROR(VLOOKUP(B109,'N PMČRj 2022'!B:G,6,0)),\"-\",VLOOKUP(B109,'N PMČRj 2022'!B:G,6,0))","v":"-"}]
[80,"Marek Blatak",{"$f":"VLOOKUP(B110,Pilot!A:C,3,0)","v":"Šumperk"},{"$f":"VLOOKUP(B110,Pilot!A:B,2,0)","v":1969},{"$f":"VLOOKUP(B110,Pilot!A:E,5,0)","v":"M"},{"$f":"VLOOKUP(B110,Pilot!A:F,6,0)","v":""},{"$f":"A110","v":80},null,1,80,{"$f":"IF(COUNTIF('N PMRg 2022'!B:B,B110)=0,\"-\",COUNTIF('N PMRg 2022'!B:B,B110))","v":"-"},{"$f":"IF(ISERROR(VLOOKUP(B110,'N PMRg 2022'!B:G,6,0)),\"-\",VLOOKUP(B110,'N PMRg 2022'!B:G,6,0))","v":"-"},{"$f":"IF(COUNTIF('N PMČRj 2022'!B:B,B110)=0,\"-\",COUNTIF('N PMČRj 2022'!B:B,B110))","v":"-"},{"$f":"IF(ISERROR(VLOOKUP(B110,'N PMČRj 2022'!B:G,6,0)),\"-\",VLOOKUP(B110,'N PMČRj 2022'!B:G,6,0))","v":"-"}]
["N1","Martin Ficnar",{"$f":"VLOOKUP(B111,Pilot!A:C,3,0)","v":"Šumperk"},{"$f":"VLOOKUP(B111,Pilot!A:B,2,0)","v":1971},{"$f":"VLOOKUP(B111,Pilot!A:E,5,0)","v":"M"},{"$f":"VLOOKUP(B111,Pilot!A:F,6,0)","v":""},{"$f":"A111","v":"N1"},null,1,"N1",{"$f":"IF(COUNTIF('N PMRg 2022'!B:B,B111)=0,\"-\",COUNTIF('N PMRg 2022'!B:B,B111))","v":"-"},{"$f":"IF(ISERROR(VLOOKUP(B111,'N PMRg 2022'!B:G,6,0)),\"-\",VLOOKUP(B111,'N PMRg 2022'!B:G,6,0))","v":"-"},{"$f":"IF(COUNTIF('N PMČRj 2022'!B:B,B111)=0,\"-\",COUNTIF('N PMČRj 2022'!B:B,B111))","v":"-"},{"$f":"IF(ISERROR(VLOOKUP(B111,'N PMČRj 2022'!B:G,6,0)),\"-\",VLOOKUP(B111,'N PMČRj 2022'!B:G,6,0))","v":"-"}]
["N2","Lubomir Motl",{"$f":"VLOOKUP(B112,Pilot!A:C,3,0)","v":"Kyjov"},{"$f":"VLOOKUP(B112,Pilot!A:B,2,0)","v":1959},{"$f":"VLOOKUP(B112,Pilot!A:E,5,0)","v":"M"},{"$f":"VLOOKUP(B112,Pilot!A:F,6,0)","v":""},"N2",null,1,"N2",{"$f":"IF(COUNTIF('N PMRg 2022'!B:B,B112)=0,\"-\",COUNTIF('N PMRg 2022'!B:B,B112))","v":"-"},{"$f":"IF(ISERROR(VLOOKUP(B112,'N PMRg 2022'!B:G,6,0)),\"-\",VLOOKUP(B112,'N PMRg 2022'!B:G,6,0))","v":"-"},{"$f":"IF(COUNTIF('N PMČRj 2022'!B:B,B112)=0,\"-\",COUNTIF('N PMČRj 2022'!B:B,B112))","v":"-"},{"$f":"IF(ISERROR(VLOOKUP(B112,'N PMČRj 2022'!B:G,6,0)),\"-\",VLOOKUP(B112,'N PMČRj 2022'!B:G,6,0))","v":"-"}]
["N3","Vojtech Novotny",{"$f":"VLOOKUP(B113,Pilot!A:C,3,0)","v":"Kralupy"},{"$f":"VLOOKUP(B113,Pilot!A:B,2,0)","v":1992},{"$f":"VLOOKUP(B113,Pilot!A:E,5,0)","v":"M"},{"$f":"VLOOKUP(B113,Pilot!A:F,6,0)","v":""},"N3",null,1,"N3",{"$f":"IF(COUNTIF('N PMRg 2022'!B:B,B113)=0,\"-\",COUNTIF('N PMRg 2022'!B:B,B113))","v":"-"},{"$f":"IF(ISERROR(VLOOKUP(B113,'N PMRg 2022'!B:G,6,0)),\"-\",VLOOKUP(B113,'N PMRg 2022'!B:G,6,0))","v":"-"},{"$f":"IF(COUNTIF('N PMČRj 2022'!B:B,B113)=0,\"-\",COUNTIF('N PMČRj 2022'!B:B,B113))","v":"-"},{"$f":"IF(ISERROR(VLOOKUP(B113,'N PMČRj 2022'!B:G,6,0)),\"-\",VLOOKUP(B113,'N PMČRj 2022'!B:G,6,0))","v":"-"}]
["N4","Petr Hotovy",{"$f":"VLOOKUP(B114,Pilot!A:C,3,0)","v":"Česká Lípa"},{"$f":"VLOOKUP(B114,Pilot!A:B,2,0)","v":1958},{"$f":"VLOOKUP(B114,Pilot!A:E,5,0)","v":"M"},{"$f":"VLOOKUP(B114,Pilot!A:F,6,0)","v":""},"N4",null,1,"N4",{"$f":"IF(COUNTIF('N PMRg 2022'!B:B,B114)=0,\"-\",COUNTIF('N PMRg 2022'!B:B,B114))","v":1},{"$f":"IF(ISERROR(VLOOKUP(B114,'N PMRg 2022'!B:G,6,0)),\"-\",VLOOKUP(B114,'N PMRg 2022'!B:G,6,0))","v":5},{"$f":"IF(COUNTIF('N PMČRj 2022'!B:B,B114)=0,\"-\",COUNTIF('N PMČRj 2022'!B:B,B114))","v":"-"},{"$f":"IF(ISERROR(VLOOKUP(B114,'N PMČRj 2022'!B:G,6,0)),\"-\",VLOOKUP(B114,'N PMČRj 2022'!B:G,6,0))","v":"-"}]
["N5","Martin Urner",{"$f":"VLOOKUP(B115,Pilot!A:C,3,0)","v":"Letňany"},{"$f":"VLOOKUP(B115,Pilot!A:B,2,0)","v":1974},{"$f":"VLOOKUP(B115,Pilot!A:E,5,0)","v":"M"},{"$f":"VLOOKUP(B115,Pilot!A:F,6,0)","v":""},"N5",null,1,"N5",{"$f":"IF(COUNTIF('N PMRg 2022'!B:B,B115)=0,\"-\",COUNTIF('N PMRg 2022'!B:B,B115))","v":"-"},{"$f":"IF(ISERROR(VLOOKUP(B115,'N PMRg 2022'!B:G,6,0)),\"-\",VLOOKUP(B115,'N PMRg 2022'!B:G,6,0))","v":"-"},{"$f":"IF(COUNTIF('N PMČRj 2022'!B:B,B115)=0,\"-\",COUNTIF('N PMČRj 2022'!B:B,B115))","v":"-"},{"$f":"IF(ISERROR(VLOOKUP(B115,'N PMČRj 2022'!B:G,6,0)),\"-\",VLOOKUP(B115,'N PMČRj 2022'!B:G,6,0))","v":"-"}]
["N6","Vratislav Sram",{"$f":"VLOOKUP(B116,Pilot!A:C,3,0)","v":"Broumov"},{"$f":"VLOOKUP(B116,Pilot!A:B,2,0)","v":1966},{"$f":"VLOOKUP(B116,Pilot!A:E,5,0)","v":"M"},{"$f":"VLOOKUP(B116,Pilot!A:F,6,0)","v":""},"N6",null,1,"N6",{"$f":"IF(COUNTIF('N PMRg 2022'!B:B,B116)=0,\"-\",COUNTIF('N PMRg 2022'!B:B,B116))","v":"-"},{"$f":"IF(ISERROR(VLOOKUP(B116,'N PMRg 2022'!B:G,6,0)),\"-\",VLOOKUP(B116,'N PMRg 2022'!B:G,6,0))","v":"-"},{"$f":"IF(COUNTIF('N PMČRj 2022'!B:B,B116)=0,\"-\",COUNTIF('N PMČRj 2022'!B:B,B116))","v":"-"},{"$f":"IF(ISERROR(VLOOKUP(B116,'N PMČRj 2022'!B:G,6,0)),\"-\",VLOOKUP(B116,'N PMČRj 2022'!B:G,6,0))","v":"-"}]
["N7","Jindrich Svorc",{"$f":"VLOOKUP(B117,Pilot!A:C,3,0)","v":"Letňany"},{"$f":"VLOOKUP(B117,Pilot!A:B,2,0)","v":1978},{"$f":"VLOOKUP(B117,Pilot!A:E,5,0)","v":"M"},{"$f":"VLOOKUP(B117,Pilot!A:F,6,0)","v":""},"N7",null,1,"N7",{"$f":"IF(COUNTIF('N PMRg 2022'!B:B,B117)=0,\"-\",COUNTIF('N PMRg 2022'!B:B,B117))","v":"-"},{"$f":"IF(ISERROR(VLOOKUP(B117,'N PMRg 2022'!B:G,6,0)),\"-\",VLOOKUP(B117,'N PMRg 2022'!B:G,6,0))","v":"-"},{"$f":"IF(COUNTIF('N PMČRj 2022'!B:B,B117)=0,\"-\",COUNTIF('N PMČRj 2022'!B:B,B117))","v":"-"},{"$f":"IF(ISERROR(VLOOKUP(B117,'N PMČRj 2022'!B:G,6,0)),\"-\",VLOOKUP(B117,'N PMČRj 2022'!B:G,6,0))","v":"-"}]
["N8","David Sachl",{"$f":"VLOOKUP(B118,Pilot!A:C,3,0)","v":"Kralupy"},{"$f":"VLOOKUP(B118,Pilot!A:B,2,0)","v":1978},{"$f":"VLOOKUP(B118,Pilot!A:E,5,0)","v":"M"},{"$f":"VLOOKUP(B118,Pilot!A:F,6,0)","v":""},"N8",null,1,"N8",{"$f":"IF(COUNTIF('N PMRg 2022'!B:B,B118)=0,\"-\",COUNTIF('N PMRg 2022'!B:B,B118))","v":"-"},{"$f":"IF(ISERROR(VLOOKUP(B118,'N PMRg 2022'!B:G,6,0)),\"-\",VLOOKUP(B118,'N PMRg 2022'!B:G,6,0))","v":"-"},{"$f":"IF(COUNTIF('N PMČRj 2022'!B:B,B118)=0,\"-\",COUNTIF('N PMČRj 2022'!B:B,B118))","v":"-"},{"$f":"IF(ISERROR(VLOOKUP(B118,'N PMČRj 2022'!B:G,6,0)),\"-\",VLOOKUP(B118,'N PMČRj 2022'!B:G,6,0))","v":"-"}]
["N9","Daniel Ryba",{"$f":"VLOOKUP(B119,Pilot!A:C,3,0)","v":"Dvůr Králové"},{"$f":"VLOOKUP(B119,Pilot!A:B,2,0)","v":1994},{"$f":"VLOOKUP(B119,Pilot!A:E,5,0)","v":"M"},{"$f":"VLOOKUP(B119,Pilot!A:F,6,0)","v":""},"N9",null,1,"N9",{"$f":"IF(COUNTIF('N PMRg 2022'!B:B,B119)=0,\"-\",COUNTIF('N PMRg 2022'!B:B,B119))","v":"-"},{"$f":"IF(ISERROR(VLOOKUP(B119,'N PMRg 2022'!B:G,6,0)),\"-\",VLOOKUP(B119,'N PMRg 2022'!B:G,6,0))","v":"-"},{"$f":"IF(COUNTIF('N PMČRj 2022'!B:B,B119)=0,\"-\",COUNTIF('N PMČRj 2022'!B:B,B119))","v":"-"},{"$f":"IF(ISERROR(VLOOKUP(B119,'N PMČRj 2022'!B:G,6,0)),\"-\",VLOOKUP(B119,'N PMČRj 2022'!B:G,6,0))","v":"-"}]
["N10","Michal Cechmanek",{"$f":"VLOOKUP(B120,Pilot!A:C,3,0)","v":"Luhačovice"},{"$f":"VLOOKUP(B120,Pilot!A:B,2,0)","v":1978},{"$f":"VLOOKUP(B120,Pilot!A:E,5,0)","v":"M"},{"$f":"VLOOKUP(B120,Pilot!A:F,6,0)","v":""},"N10",null,1,"N10",{"$f":"IF(COUNTIF('N PMRg 2022'!B:B,B120)=0,\"-\",COUNTIF('N PMRg 2022'!B:B,B120))","v":"-"},{"$f":"IF(ISERROR(VLOOKUP(B120,'N PMRg 2022'!B:G,6,0)),\"-\",VLOOKUP(B120,'N PMRg 2022'!B:G,6,0))","v":"-"},{"$f":"IF(COUNTIF('N PMČRj 2022'!B:B,B120)=0,\"-\",COUNTIF('N PMČRj 2022'!B:B,B120))","v":"-"},{"$f":"IF(ISERROR(VLOOKUP(B120,'N PMČRj 2022'!B:G,6,0)),\"-\",VLOOKUP(B120,'N PMČRj 2022'!B:G,6,0))","v":"-"}]
["6.6.7.","Nominace zahraničních účastníků"]
[null,"PMČR se mohou zúčastnit zahraniční účastníci pouze v případě, že nebude omezen počet řádně nominovaných soutěžících z ČR a soutěžící splňuje podmínky odstavce 6.1. a 6.6.1. SŘ."]
[null,"V případě pořádání společného PMČR s plachtařským mistrovstvím některého ze suverénních států může PK stanovit zvláštní pravidla pro nominaci."]
["6.6.8.","Volná nominace"]
[null,"Volnou nominaci je možné využít pouze v tom případě, že pilot na PMČR nepostupuje podle žádného z bodů odstavce 6.6.6."]
[null,"Umožňuje-li to kapacita pořádajícího letiště, mohou se z členů AeČR mimo řádně nominovaných do soutěže přihlásit také piloti/pilotky, kteří se:"]
["6.6.8.1.","v posledních 3 letech před rokem konání soutěže zúčastnili MS, ME, WAG nebo Světové Grand Prix jako velitel kluzáku,"]
["6.6.8.2.","umístili v aktuálním Všeobecném Žebříku do 100. místa,"]
["6.6.8.3.","Při větším počtu přihlášek, než je kapacita letiště Pořadatele, rozhoduje o přijetí do soutěže pořadí soutěžícího v aktuálním Všeobecném Žebříku s podmínkou zaplacení vkladu v termínu stanoveném Pořadatelem."]
[]
[]
["Schváleno Plachtařskou komisí AeČR dne xx.yy.2021 v ZZZZ"]

{"sheet":"N PMRg 2022","index":13,"n_rows":95,"n_cols":18,"rows_kept":95,"cut":false,"hidden":false,"merged":[[5,1,5,7],[18,1,18,7],[19,1,19,7],[22,1,22,7]]}
[null,"Nominace na PMRg 2022",null,null,null,null,null,"Kontrola:","Počet","Nominace","Počet","Nominace","Počet","Nominace","M:","F:","M+F:"]
["No","Jméno","Aeroklub","Rok narození","M/F","Junior","No",null,"PMRg","PMRg","PMČR","PMČR","PMČRj","PMČRj",{"$f":"COUNTIF(E:E,\"M\")","v":7},{"$f":"COUNTIF(E:E,\"F\")","v":1},{"$f":"O2+P2","v":8},"S náhradníky"]
["6.8.5.","Nominace na PMRg (dle SŘ ZM9)",null,null,null,null,null,null,null,null,null,null,null,"Celkem řádně nominováno:",{"$f":"O2-COUNTIF(E77:E85,\"M\")","v":7},{"$f":"P2-COUNTIF(E82:E85,\"F\")","v":1},{"$f":"O3+P3","v":8},"Bez náhradníků"]
[null,"Na PMRg nominuje PK minimálně 60 pilotů/pilotek a příslušný počet náhradníků pro stanovená nominační kritéria."]
[null,"Na PMRg jsou nominováni:"]
["6.8.5.1.","všichni soutěžící z posledního platného PMČR, kteří nepostoupili na PMČR v roce konání PMRg (bez náhradníků)"]
[null,"PMČR 2021 - Tábor - Klub"]
[1,"Slavomir Piskaty 84",{"$f":"VLOOKUP(B8,Pilot!A:C,3,0)","v":"Kunovice"},{"$f":"VLOOKUP(B8,Pilot!A:C,2,0)","v":1984},{"$f":"VLOOKUP(B8,Pilot!A:E,5,0)","v":"M"},{"$f":"VLOOKUP(B8,Pilot!A:F,6,0)","v":""},{"$f":"A8","v":1},null,{"$f":"COUNTIF(B:B,B8)","v":1},{"$f":"IF(ISERROR(VLOOKUP(B8,B:G,6,0)),\"-\",VLOOKUP(B8,B:G,6,0))","v":1},{"$f":"IF(COUNTIF('N PMČR 2022'!B:B,B8)=0,\"-\",COUNTIF('N PMČR 2022'!B:B,B8))","v":"-"},{"$f":"IF(ISERROR(VLOOKUP(B8,'N PMČR 2022'!B:G,6,0)),\"-\",VLOOKUP(B8,'N PMČR 2022'!B:G,6,0))","v":"-"},{"$f":"IF(COUNTIF('N PMČRj 2022'!B:B,B8)=0,\"-\",COUNTIF('N PMČRj 2022'!B:B,B8))","v":"-"},{"$f":"IF(ISERROR(VLOOKUP(B8,'N PMČRj 2022'!B:G,6,0)),\"-\",VLOOKUP(B8,'N PMČRj 2022'!B:G,6,0))","v":"-"}]
[{"$f":"A8+1","v":2},"Petra Piskata",{"$f":"VLOOKUP(B9,Pilot!A:C,3,0)","v":"Luhačovice"},{"$f":"VLOOKUP(B9,Pilot!A:C,2,0)","v":1989},{"$f":"VLOOKUP(B9,Pilot!A:E,5,0)","v":"F"},{"$f":"VLOOKUP(B9,Pilot!A:F,6,0)","v":""},{"$f":"A9","v":2},null,{"$f":"COUNTIF(B:B,B9)","v":1},{"$f":"IF(ISERROR(VLOOKUP(B9,B:G,6,0)),\"-\",VLOOKUP(B9,B:G,6,0))","v":2},{"$f":"IF(COUNTIF('N PMČR 2022'!B:B,B9)=0,\"-\",COUNTIF('N PMČR 2022'!B:B,B9))","v":"-"},{"$f":"IF(ISERROR(VLOOKUP(B9,'N PMČR 2022'!B:G,6,0)),\"-\",VLOOKUP(B9,'N PMČR 2022'!B:G,6,0))","v":"-"},{"$f":"IF(COUNTIF('N PMČRj 2022'!B:B,B9)=0,\"-\",COUNTIF('N PMČRj 2022'!B:B,B9))","v":"-"},{"$f":"IF(ISERROR(VLOOKUP(B9,'N PMČRj 2022'!B:G,6,0)),\"-\",VLOOKUP(B9,'N PMČRj 2022'!B:G,6,0))","v":"-"}]
[{"$f":"A9+1","v":3},"Lukas Plocek",{"$f":"VLOOKUP(B10,Pilot!A:C,3,0)","v":"Mladá Boleslav"},{"$f":"VLOOKUP(B10,Pilot!A:C,2,0)","v":1990},{"$f":"VLOOKUP(B10,Pilot!A:E,5,0)","v":"M"},{"$f":"VLOOKUP(B10,Pilot!A:F,6,0)","v":""},3,null,{"$f":"COUNTIF(B:B,B10)","v":1},3,{"$f":"IF(COUNTIF('N PMČR 2022'!B:B,B10)=0,\"-\",COUNTIF('N PMČR 2022'!B:B,B10))","v":"-"},{"$f":"IF(ISERROR(VLOOKUP(B10,'N PMČR 2022'!B:G,6,0)),\"-\",VLOOKUP(B10,'N PMČR 2022'!B:G,6,0))","v":"-"},{"$f":"IF(COUNTIF('N PMČRj 2022'!B:B,B10)=0,\"-\",COUNTIF('N PMČRj 2022'!B:B,B10))","v":"-"},{"$f":"IF(ISERROR(VLOOKUP(B10,'N PMČRj 2022'!B:G,6,0)),\"-\",VLOOKUP(B10,'N PMČRj 2022'!B:G,6,0))","v":"-"}]
[4,"Marek Pechanec",{"$f":"VLOOKUP(B11,Pilot!A:C,3,0)","v":"Luhačovice"},{"$f":"VLOOKUP(B11,Pilot!A:C,2,0)","v":1970},{"$f":"VLOOKUP(B11,Pilot!A:E,5,0)","v":"M"},{"$f":"VLOOKUP(B11,Pilot!A:F,6,0)","v":""},4,null,{"$f":"COUNTIF(B:B,B11)","v":1},4,{"$f":"IF(COUNTIF('N PMČR 2022'!B:B,B11)=0,\"-\",COUNTIF('N PMČR 2022'!B:B,B11))","v":"-"},{"$f":"IF(ISERROR(VLOOKUP(B11,'N PMČR 2022'!B:G,6,0)),\"-\",VLOOKUP(B11,'N PMČR 2022'!B:G,6,0))","v":"-"},{"$f":"IF(COUNTIF('N PMČRj 2022'!B:B,B11)=0,\"-\",COUNTIF('N PMČRj 2022'!B:B,B11))","v":"-"},{"$f":"IF(ISERROR(VLOOKUP(B11,'N PMČRj 2022'!B:G,6,0)),\"-\",VLOOKUP(B11,'N PMČRj 2022'!B:G,6,0))","v":"-"}]
[null,"PMČR 2021 - Tábor - Kombi 15m"]
["-","-",{"$f":"VLOOKUP(B13,Pilot!A:C,3,0)","v":" "},{"$f":"VLOOKUP(B13,Pilot!A:C,2,0)","v":" "},{"$f":"VLOOKUP(B13,Pilot!A:E,5,0)","v":" "},{"$f":"VLOOKUP(B13,Pilot!A:F,6,0)","v":" "},{"$f":"A13","v":"-"},null,{"$f":"COUNTIF(B:B,B13)","v":70},"-",{"$f":"IF(COUNTIF('N PMČR 2022'!B:B,B13)=0,\"-\",COUNTIF('N PMČR 2022'!B:B,B13))","v":5},{"$f":"IF(ISERROR(VLOOKUP(B13,'N PMČR 2022'!B:G,6,0)),\"-\",VLOOKUP(B13,'N PMČR 2022'!B:G,6,0))","v":"81."},{"$f":"IF(COUNTIF('N PMČRj 2022'!B:B,B13)=0,\"-\",COUNTIF('N PMČRj 2022'!B:B,B13))","v":35},{"$f":"IF(ISERROR(VLOOKUP(B13,'N PMČRj 2022'!B:G,6,0)),\"-\",VLOOKUP(B13,'N PMČRj 2022'!B:G,6,0))","v":21}]
[null,"PMČR 2021 - Tábor - Kombi Open"]
[{"$f":"MAX(A8:A14)+1","v":5},"Petr Hotovy",{"$f":"VLOOKUP(B15,Pilot!A:C,3,0)","v":"Česká Lípa"},{"$f":"VLOOKUP(B15,Pilot!A:C,2,0)","v":1958},{"$f":"VLOOKUP(B15,Pilot!A:E,5,0)","v":"M"},{"$f":"VLOOKUP(B15,Pilot!A:F,6,0)","v":""},{"$f":"A15","v":5},null,{"$f":"COUNTIF(B:B,B15)","v":1},5,{"$f":"IF(COUNTIF('N PMČR 2022'!B:B,B15)=0,\"-\",COUNTIF('N PMČR 2022'!B:B,B15))","v":1},{"$f":"IF(ISERROR(VLOOKUP(B15,'N PMČR 2022'!B:G,6,0)),\"-\",VLOOKUP(B15,'N PMČR 2022'!B:G,6,0))","v":"N4"},{"$f":"IF(COUNTIF('N PMČRj 2022'!B:B,B15)=0,\"-\",COUNTIF('N PMČRj 2022'!B:B,B15))","v":"-"},{"$f":"IF(ISERROR(VLOOKUP(B15,'N PMČRj 2022'!B:G,6,0)),\"-\",VLOOKUP(B15,'N PMČRj 2022'!B:G,6,0))","v":"-"}]
[{"$f":"A15+1","v":6},"Martin Picka",{"$f":"VLOOKUP(B16,Pilot!A:C,3,0)","v":"Tábor"},{"$f":"VLOOKUP(B16,Pilot!A:C,2,0)","v":1974},{"$f":"VLOOKUP(B16,Pilot!A:E,5,0)","v":"M"},{"$f":"VLOOKUP(B16,Pilot!A:F,6,0)","v":""},{"$f":"A16","v":6},null,{"$f":"COUNTIF(B:B,B16)","v":1},6,{"$f":"IF(COUNTIF('N PMČR 2022'!B:B,B16)=0,\"-\",COUNTIF('N PMČR 2022'!B:B,B16))","v":"-"},{"$f":"IF(ISERROR(VLOOKUP(B16,'N PMČR 2022'!B:G,6,0)),\"-\",VLOOKUP(B16,'N PMČR 2022'!B:G,6,0))","v":"-"},{"$f":"IF(COUNTIF('N PMČRj 2022'!B:B,B16)=0,\"-\",COUNTIF('N PMČRj 2022'!B:B,B16))","v":"-"},{"$f":"IF(ISERROR(VLOOKUP(B16,'N PMČRj 2022'!B:G,6,0)),\"-\",VLOOKUP(B16,'N PMČRj 2022'!B:G,6,0))","v":"-"}]
[{"$f":"A16+1","v":7},"Petr Bartak",{"$f":"VLOOKUP(B17,Pilot!A:C,3,0)","v":"Letkov"},{"$f":"VLOOKUP(B17,Pilot!A:C,2,0)","v":1984},{"$f":"VLOOKUP(B17,Pilot!A:E,5,0)","v":"M"},{"$f":"VLOOKUP(B17,Pilot!A:F,6,0)","v":""},7,null,{"$f":"COUNTIF(B:B,B17)","v":1},7,{"$f":"IF(COUNTIF('N PMČR 2022'!B:B,B17)=0,\"-\",COUNTIF('N PMČR 2022'!B:B,B17))","v":"-"},{"$f":"IF(ISERROR(VLOOKUP(B17,'N PMČR 2022'!B:G,6,0)),\"-\",VLOOKUP(B17,'N PMČR 2022'!B:G,6,0))","v":"-"},{"$f":"IF(COUNTIF('N PMČRj 2022'!B:B,B17)=0,\"-\",COUNTIF('N PMČRj 2022'!B:B,B17))","v":"-"},{"$f":"IF(ISERROR(VLOOKUP(B17,'N PMČRj 2022'!B:G,6,0)),\"-\",VLOOKUP(B17,'N PMČRj 2022'!B:G,6,0))","v":"-"}]
[8,"Ivan Harasta 65",{"$f":"VLOOKUP(B18,Pilot!A:C,3,0)","v":"Toužim"},{"$f":"VLOOKUP(B18,Pilot!A:C,2,0)","v":1965},{"$f":"VLOOKUP(B18,Pilot!A:E,5,0)","v":"M"},{"$f":"VLOOKUP(B18,Pilot!A:F,6,0)","v":""},8,null,{"$f":"COUNTIF(B:B,B18)","v":1},8,{"$f":"IF(COUNTIF('N PMČR 2022'!B:B,B18)=0,\"-\",COUNTIF('N PMČR 2022'!B:B,B18))","v":"-"},{"$f":"IF(ISERROR(VLOOKUP(B18,'N PMČR 2022'!B:G,6,0)),\"-\",VLOOKUP(B18,'N PMČR 2022'!B:G,6,0))","v":"-"},{"$f":"IF(COUNTIF('N PMČRj 2022'!B:B,B18)=0,\"-\",COUNTIF('N PMČRj 2022'!B:B,B18))","v":"-"},{"$f":"IF(ISERROR(VLOOKUP(B18,'N PMČRj 2022'!B:G,6,0)),\"-\",VLOOKUP(B18,'N PMČRj 2022'!B:G,6,0))","v":"-"}]
["6.8.5.2.","prvních 10 soutěžících z posledního platného PMRg, kteří nepostoupili na PMČR v roce konání PMRg, v pořadí podle korigovaných bodů ze všech tříd (bez náhradníků)"]
[null,"V případě neplatnosti některé ze soutěžních tříd posledního PMRg budou pro výpočet korigovaných bodů použity výsledky z posledního platného PMRg v dané třídě."]
[null,"PMRg 2019 - Vysoké Mýto - Korigované body"]
["-","-",null,{"$f":"VLOOKUP(B22,Pilot!A:C,2,0)","v":" "},{"$f":"VLOOKUP(B22,Pilot!A:E,5,0)","v":" "},{"$f":"VLOOKUP(B22,Pilot!A:F,6,0)","v":" "},{"$f":"A22","v":"-"},null,{"$f":"COUNTIF(B:B,B22)","v":70},"-",{"$f":"IF(COUNTIF('N PMČR 2022'!B:B,B22)=0,\"-\",COUNTIF('N PMČR 2022'!B:B,B22))","v":5},{"$f":"IF(ISERROR(VLOOKUP(B22,'N PMČR 2022'!B:G,6,0)),\"-\",VLOOKUP(B22,'N PMČR 2022'!B:G,6,0))","v":"81."},{"$f":"IF(COUNTIF('N PMČRj 2022'!B:B,B22)=0,\"-\",COUNTIF('N PMČRj 2022'!B:B,B22))","v":35},{"$f":"IF(ISERROR(VLOOKUP(B22,'N PMČRj 2022'!B:G,6,0)),\"-\",VLOOKUP(B22,'N PMČRj 2022'!B:G,6,0))","v":21}]
["6.8.5.3.","soutěžící z regionů Čechy 1, Čechy 2 a Morava v pořadí podle celkového umístění v CPS-INT předcházejícího roku konání PMRg do naplnění celkového počtu minimálně 60 nominovaných (+ 10 náhradníků)"]
[{"$f":"MAX(A8:A23)+1","v":9},"-",{"$f":"VLOOKUP(B24,Pilot!A:C,3,0)","v":" "},{"$f":"VLOOKUP(B24,Pilot!A:C,2,0)","v":" "},{"$f":"VLOOKUP(B24,Pilot!A:E,5,0)","v":" "},{"$f":"VLOOKUP(B24,Pilot!A:F,6,0)","v":" "},{"$f":"A24","v":9},null,{"$f":"COUNTIF(B:B,B24)","v":70},"-",{"$f":"IF(COUNTIF('N PMČR 2022'!B:B,B24)=0,\"-\",COUNTIF('N PMČR 2022'!B:B,B24))","v":5},{"$f":"IF(ISERROR(VLOOKUP(B24,'N PMČR 2022'!B:G,6,0)),\"-\",VLOOKUP(B24,'N PMČR 2022'!B:G,6,0))","v":"81."},{"$f":"IF(COUNTIF('N PMČRj 2022'!B:B,B24)=0,\"-\",COUNTIF('N PMČRj 2022'!B:B,B24))","v":35},{"$f":"IF(ISERROR(VLOOKUP(B24,'N PMČRj 2022'!B:G,6,0)),\"-\",VLOOKUP(B24,'N PMČRj 2022'!B:G,6,0))","v":21}]
[{"$f":"A24+1","v":10},"-",{"$f":"VLOOKUP(B25,Pilot!A:C,3,0)","v":" "},{"$f":"VLOOKUP(B25,Pilot!A:C,2,0)","v":" "},{"$f":"VLOOKUP(B25,Pilot!A:E,5,0)","v":" "},{"$f":"VLOOKUP(B25,Pilot!A:F,6,0)","v":" "},10,null,70,"-",{"$f":"IF(COUNTIF('N PMČR 2022'!B:B,B25)=0,\"-\",COUNTIF('N PMČR 2022'!B:B,B25))","v":5},{"$f":"IF(ISERROR(VLOOKUP(B25,'N PMČR 2022'!B:G,6,0)),\"-\",VLOOKUP(B25,'N PMČR 2022'!B:G,6,0))","v":"81."},{"$f":"IF(COUNTIF('N PMČRj 2022'!B:B,B25)=0,\"-\",COUNTIF('N PMČRj 2022'!B:B,B25))","v":35},{"$f":"IF(ISERROR(VLOOKUP(B25,'N PMČRj 2022'!B:G,6,0)),\"-\",VLOOKUP(B25,'N PMČRj 2022'!B:G,6,0))","v":21}]
[{"$f":"A25+1","v":11},"-",{"$f":"VLOOKUP(B26,Pilot!A:C,3,0)","v":" "},{"$f":"VLOOKUP(B26,Pilot!A:C,2,0)","v":" "},{"$f":"VLOOKUP(B26,Pilot!A:E,5,0)","v":" "},{"$f":"VLOOKUP(B26,Pilot!A:F,6,0)","v":" "},11,null,70,"-",{"$f":"IF(COUNTIF('N PMČR 2022'!B:B,B26)=0,\"-\",COUNTIF('N PMČR 2022'!B:B,B26))","v":5},{"$f":"IF(ISERROR(VLOOKUP(B26,'N PMČR 2022'!B:G,6,0)),\"-\",VLOOKUP(B26,'N PMČR 2022'!B:G,6,0))","v":"81."},{"$f":"IF(COUNTIF('N PMČRj 2022'!B:B,B26)=0,\"-\",COUNTIF('N PMČRj 2022'!B:B,B26))","v":35},{"$f":"IF(ISERROR(VLOOKUP(B26,'N PMČRj 2022'!B:G,6,0)),\"-\",VLOOKUP(B26,'N PMČRj 2022'!B:G,6,0))","v":21}]
[12,"-",{"$f":"VLOOKUP(B27,Pilot!A:C,3,0)","v":" "},{"$f":"VLOOKUP(B27,Pilot!A:C,2,0)","v":" "},{"$f":"VLOOKUP(B27,Pilot!A:E,5,0)","v":" "},{"$f":"VLOOKUP(B27,Pilot!A:F,6,0)","v":" "},12,null,70,"-",{"$f":"IF(COUNTIF('N PMČR 2022'!B:B,B27)=0,\"-\",COUNTIF('N PMČR 2022'!B:B,B27))","v":5},{"$f":"IF(ISERROR(VLOOKUP(B27,'N PMČR 2022'!B:G,6,0)),\"-\",VLOOKUP(B27,'N PMČR 2022'!B:G,6,0))","v":"81."},{"$f":"IF(COUNTIF('N PMČRj 2022'!B:B,B27)=0,\"-\",COUNTIF('N PMČRj 2022'!B:B,B27))","v":35},{"$f":"IF(ISERROR(VLOOKUP(B27,'N PMČRj 2022'!B:G,6,0)),\"-\",VLOOKUP(B27,'N PMČRj 2022'!B:G,6,0))","v":21}]
[13,"-",{"$f":"VLOOKUP(B28,Pilot!A:C,3,0)","v":" "},{"$f":"VLOOKUP(B28,Pilot!A:C,2,0)","v":" "},{"$f":"VLOOKUP(B28,Pilot!A:E,5,0)","v":" "},{"$f":"VLOOKUP(B28,Pilot!A:F,6,0)","v":" "},13,null,70,"-",{"$f":"IF(COUNTIF('N PMČR 2022'!B:B,B28)=0,\"-\",COUNTIF('N PMČR 2022'!B:B,B28))","v":5},{"$f":"IF(ISERROR(VLOOKUP(B28,'N PMČR 2022'!B:G,6,0)),\"-\",VLOOKUP(B28,'N PMČR 2022'!B:G,6,0))","v":"81."},{"$f":"IF(COUNTIF('N PMČRj 2022'!B:B,B28)=0,\"-\",COUNTIF('N PMČRj 2022'!B:B,B28))","v":35},{"$f":"IF(ISERROR(VLOOKUP(B28,'N PMČRj 2022'!B:G,6,0)),\"-\",VLOOKUP(B28,'N PMČRj 2022'!B:G,6,0))","v":21}]
[14,"-",{"$f":"VLOOKUP(B29,Pilot!A:C,3,0)","v":" "},{"$f":"VLOOKUP(B29,Pilot!A:C,2,0)","v":" "},{"$f":"VLOOKUP(B29,Pilot!A:E,5,0)","v":" "},{"$f":"VLOOKUP(B29,Pilot!A:F,6,0)","v":" "},14,null,70,"-",{"$f":"IF(COUNTIF('N PMČR 2022'!B:B,B29)=0,\"-\",COUNTIF('N PMČR 2022'!B:B,B29))","v":5},{"$f":"IF(ISERROR(VLOOKUP(B29,'N PMČR 2022'!B:G,6,0)),\"-\",VLOOKUP(B29,'N PMČR 2022'!B:G,6,0))","v":"81."},{"$f":"IF(COUNTIF('N PMČRj 2022'!B:B,B29)=0,\"-\",COUNTIF('N PMČRj 2022'!B:B,B29))","v":35},{"$f":"IF(ISERROR(VLOOKUP(B29,'N PMČRj 2022'!B:G,6,0)),\"-\",VLOOKUP(B29,'N PMČRj 2022'!B:G,6,0))","v":21}]
[15,"-",{"$f":"VLOOKUP(B30,Pilot!A:C,3,0)","v":" "},{"$f":"VLOOKUP(B30,Pilot!A:C,2,0)","v":" "},{"$f":"VLOOKUP(B30,Pilot!A:E,5,0)","v":" "},{"$f":"VLOOKUP(B30,Pilot!A:F,6,0)","v":" "},15,null,70,"-",{"$f":"IF(COUNTIF('N PMČR 2022'!B:B,B30)=0,\"-\",COUNTIF('N PMČR 2022'!B:B,B30))","v":5},{"$f":"IF(ISERROR(VLOOKUP(B30,'N PMČR 2022'!B:G,6,0)),\"-\",VLOOKUP(B30,'N PMČR 2022'!B:G,6,0))","v":"81."},{"$f":"IF(COUNTIF('N PMČRj 2022'!B:B,B30)=0,\"-\",COUNTIF('N PMČRj 2022'!B:B,B30))","v":35},{"$f":"IF(ISERROR(VLOOKUP(B30,'N PMČRj 2022'!B:G,6,0)),\"-\",VLOOKUP(B30,'N PMČRj 2022'!B:G,6,0))","v":21}]
[16,"-",{"$f":"VLOOKUP(B31,Pilot!A:C,3,0)","v":" "},{"$f":"VLOOKUP(B31,Pilot!A:C,2,0)","v":" "},{"$f":"VLOOKUP(B31,Pilot!A:E,5,0)","v":" "},{"$f":"VLOOKUP(B31,Pilot!A:F,6,0)","v":" "},16,null,70,"-",{"$f":"IF(COUNTIF('N PMČR 2022'!B:B,B31)=0,\"-\",COUNTIF('N PMČR 2022'!B:B,B31))","v":5},{"$f":"IF(ISERROR(VLOOKUP(B31,'N PMČR 2022'!B:G,6,0)),\"-\",VLOOKUP(B31,'N PMČR 2022'!B:G,6,0))","v":"81."},{"$f":"IF(COUNTIF('N PMČRj 2022'!B:B,B31)=0,\"-\",COUNTIF('N PMČRj 2022'!B:B,B31))","v":35},{"$f":"IF(ISERROR(VLOOKUP(B31,'N PMČRj 2022'!B:G,6,0)),\"-\",VLOOKUP(B31,'N PMČRj 2022'!B:G,6,0))","v":21}]
[17,"-",{"$f":"VLOOKUP(B32,Pilot!A:C,3,0)","v":" "},{"$f":"VLOOKUP(B32,Pilot!A:C,2,0)","v":" "},{"$f":"VLOOKUP(B32,Pilot!A:E,5,0)","v":" "},{"$f":"VLOOKUP(B32,Pilot!A:F,6,0)","v":" "},17,null,70,"-",{"$f":"IF(COUNTIF('N PMČR 2022'!B:B,B32)=0,\"-\",COUNTIF('N PMČR 2022'!B:B,B32))","v":5},{"$f":"IF(ISERROR(VLOOKUP(B32,'N PMČR 2022'!B:G,6,0)),\"-\",VLOOKUP(B32,'N PMČR 2022'!B:G,6,0))","v":"81."},{"$f":"IF(COUNTIF('N PMČRj 2022'!B:B,B32)=0,\"-\",COUNTIF('N PMČRj 2022'!B:B,B32))","v":35},{"$f":"IF(ISERROR(VLOOKUP(B32,'N PMČRj 2022'!B:G,6,0)),\"-\",VLOOKUP(B32,'N PMČRj 2022'!B:G,6,0))","v":21}]
[18,"-",{"$f":"VLOOKUP(B33,Pilot!A:C,3,0)","v":" "},{"$f":"VLOOKUP(B33,Pilot!A:C,2,0)","v":" "},{"$f":"VLOOKUP(B33,Pilot!A:E,5,0)","v":" "},{"$f":"VLOOKUP(B33,Pilot!A:F,6,0)","v":" "},18,null,70,"-",{"$f":"IF(COUNTIF('N PMČR 2022'!B:B,B33)=0,\"-\",COUNTIF('N PMČR 2022'!B:B,B33))","v":5},{"$f":"IF(ISERROR(VLOOKUP(B33,'N PMČR 2022'!B:G,6,0)),\"-\",VLOOKUP(B33,'N PMČR 2022'!B:G,6,0))","v":"81."},{"$f":"IF(COUNTIF('N PMČRj 2022'!B:B,B33)=0,\"-\",COUNTIF('N PMČRj 2022'!B:B,B33))","v":35},{"$f":"IF(ISERROR(VLOOKUP(B33,'N PMČRj 2022'!B:G,6,0)),\"-\",VLOOKUP(B33,'N PMČRj 2022'!B:G,6,0))","v":21}]
[19,"-",{"$f":"VLOOKUP(B34,Pilot!A:C,3,0)","v":" "},{"$f":"VLOOKUP(B34,Pilot!A:C,2,0)","v":" "},{"$f":"VLOOKUP(B34,Pilot!A:E,5,0)","v":" "},{"$f":"VLOOKUP(B34,Pilot!A:F,6,0)","v":" "},19,null,70,"-",{"$f":"IF(COUNTIF('N PMČR 2022'!B:B,B34)=0,\"-\",COUNTIF('N PMČR 2022'!B:B,B34))","v":5},{"$f":"IF(ISERROR(VLOOKUP(B34,'N PMČR 2022'!B:G,6,0)),\"-\",VLOOKUP(B34,'N PMČR 2022'!B:G,6,0))","v":"81."},{"$f":"IF(COUNTIF('N PMČRj 2022'!B:B,B34)=0,\"-\",COUNTIF('N PMČRj 2022'!B:B,B34))","v":35},{"$f":"IF(ISERROR(VLOOKUP(B34,'N PMČRj 2022'!B:G,6,0)),\"-\",VLOOKUP(B34,'N PMČRj 2022'!B:G,6,0))","v":21}]
[20,"-",{"$f":"VLOOKUP(B35,Pilot!A:C,3,0)","v":" "},{"$f":"VLOOKUP(B35,Pilot!A:C,2,0)","v":" "},{"$f":"VLOOKUP(B35,Pilot!A:E,5,0)","v":" "},{"$f":"VLOOKUP(B35,Pilot!A:F,6,0)","v":" "},20,null,70,"-",{"$f":"IF(COUNTIF('N PMČR 2022'!B:B,B35)=0,\"-\",COUNTIF('N PMČR 2022'!B:B,B35))","v":5},{"$f":"IF(ISERROR(VLOOKUP(B35,'N PMČR 2022'!B:G,6,0)),\"-\",VLOOKUP(B35,'N PMČR 2022'!B:G,6,0))","v":"81."},{"$f":"IF(COUNTIF('N PMČRj 2022'!B:B,B35)=0,\"-\",COUNTIF('N PMČRj 2022'!B:B,B35))","v":35},{"$f":"IF(ISERROR(VLOOKUP(B35,'N PMČRj 2022'!B:G,6,0)),\"-\",VLOOKUP(B35,'N PMČRj 2022'!B:G,6,0))","v":21}]
[21,"-",{"$f":"VLOOKUP(B36,Pilot!A:C,3,0)","v":" "},{"$f":"VLOOKUP(B36,Pilot!A:C,2,0)","v":" "},{"$f":"VLOOKUP(B36,Pilot!A:E,5,0)","v":" "},{"$f":"VLOOKUP(B36,Pilot!A:F,6,0)","v":" "},21,null,70,"-",{"$f":"IF(COUNTIF('N PMČR 2022'!B:B,B36)=0,\"-\",COUNTIF('N PMČR 2022'!B:B,B36))","v":5},{"$f":"IF(ISERROR(VLOOKUP(B36,'N PMČR 2022'!B:G,6,0)),\"-\",VLOOKUP(B36,'N PMČR 2022'!B:G,6,0))","v":"81."},{"$f":"IF(COUNTIF('N PMČRj 2022'!B:B,B36)=0,\"-\",COUNTIF('N PMČRj 2022'!B:B,B36))","v":35},{"$f":"IF(ISERROR(VLOOKUP(B36,'N PMČRj 2022'!B:G,6,0)),\"-\",VLOOKUP(B36,'N PMČRj 2022'!B:G,6,0))","v":21}]
[22,"-",{"$f":"VLOOKUP(B37,Pilot!A:C,3,0)","v":" "},{"$f":"VLOOKUP(B37,Pilot!A:C,2,0)","v":" "},{"$f":"VLOOKUP(B37,Pilot!A:E,5,0)","v":" "},{"$f":"VLOOKUP(B37,Pilot!A:F,6,0)","v":" "},22,null,70,"-",{"$f":"IF(COUNTIF('N PMČR 2022'!B:B,B37)=0,\"-\",COUNTIF('N PMČR 2022'!B:B,B37))","v":5},{"$f":"IF(ISERROR(VLOOKUP(B37,'N PMČR 2022'!B:G,6,0)),\"-\",VLOOKUP(B37,'N PMČR 2022'!B:G,6,0))","v":"81."},{"$f":"IF(COUNTIF('N PMČRj 2022'!B:B,B37)=0,\"-\",COUNTIF('N PMČRj 2022'!B:B,B37))","v":35},{"$f":"IF(ISERROR(VLOOKUP(B37,'N PMČRj 2022'!B:G,6,0)),\"-\",VLOOKUP(B37,'N PMČRj 2022'!B:G,6,0))","v":21}]
[23,"-",{"$f":"VLOOKUP(B38,Pilot!A:C,3,0)","v":" "},{"$f":"VLOOKUP(B38,Pilot!A:C,2,0)","v":" "},{"$f":"VLOOKUP(B38,Pilot!A:E,5,0)","v":" "},{"$f":"VLOOKUP(B38,Pilot!A:F,6,0)","v":" "},23,null,70,"-",{"$f":"IF(COUNTIF('N PMČR 2022'!B:B,B38)=0,\"-\",COUNTIF('N PMČR 2022'!B:B,B38))","v":5},{"$f":"IF(ISERROR(VLOOKUP(B38,'N PMČR 2022'!B:G,6,0)),\"-\",VLOOKUP(B38,'N PMČR 2022'!B:G,6,0))","v":"81."},{"$f":"IF(COUNTIF('N PMČRj 2022'!B:B,B38)=0,\"-\",COUNTIF('N PMČRj 2022'!B:B,B38))","v":35},{"$f":"IF(ISERROR(VLOOKUP(B38,'N PMČRj 2022'!B:G,6,0)),\"-\",VLOOKUP(B38,'N PMČRj 2022'!B:G,6,0))","v":21}]
[24,"-",{"$f":"VLOOKUP(B39,Pilot!A:C,3,0)","v":" "},{"$f":"VLOOKUP(B39,Pilot!A:C,2,0)","v":" "},{"$f":"VLOOKUP(B39,Pilot!A:E,5,0)","v":" "},{"$f":"VLOOKUP(B39,Pilot!A:F,6,0)","v":" "},24,null,70,"-",{"$f":"IF(COUNTIF('N PMČR 2022'!B:B,B39)=0,\"-\",COUNTIF('N PMČR 2022'!B:B,B39))","v":5},{"$f":"IF(ISERROR(VLOOKUP(B39,'N PMČR 2022'!B:G,6,0)),\"-\",VLOOKUP(B39,'N PMČR 2022'!B:G,6,0))","v":"81."},{"$f":"IF(COUNTIF('N PMČRj 2022'!B:B,B39)=0,\"-\",COUNTIF('N PMČRj 2022'!B:B,B39))","v":35},{"$f":"IF(ISERROR(VLOOKUP(B39,'N PMČRj 2022'!B:G,6,0)),\"-\",VLOOKUP(B39,'N PMČRj 2022'!B:G,6,0))","v":21}]
[25,"-",{"$f":"VLOOKUP(B40,Pilot!A:C,3,0)","v":" "},{"$f":"VLOOKUP(B40,Pilot!A:C,2,0)","v":" "},{"$f":"VLOOKUP(B40,Pilot!A:E,5,0)","v":" "},{"$f":"VLOOKUP(B40,Pilot!A:F,6,0)","v":" "},25,null,70,"-",{"$f":"IF(COUNTIF('N PMČR 2022'!B:B,B40)=0,\"-\",COUNTIF('N PMČR 2022'!B:B,B40))","v":5},{"$f":"IF(ISERROR(VLOOKUP(B40,'N PMČR 2022'!B:G,6,0)),\"-\",VLOOKUP(B40,'N PMČR 2022'!B:G,6,0))","v":"81."},{"$f":"IF(COUNTIF('N PMČRj 2022'!B:B,B40)=0,\"-\",COUNTIF('N PMČRj 2022'!B:B,B40))","v":35},{"$f":"IF(ISERROR(VLOOKUP(B40,'N PMČRj 2022'!B:G,6,0)),\"-\",VLOOKUP(B40,'N PMČRj 2022'!B:G,6,0))","v":21}]
[26,"-",{"$f":"VLOOKUP(B41,Pilot!A:C,3,0)","v":" "},{"$f":"VLOOKUP(B41,Pilot!A:C,2,0)","v":" "},{"$f":"VLOOKUP(B41,Pilot!A:E,5,0)","v":" "},{"$f":"VLOOKUP(B41,Pilot!A:F,6,0)","v":" "},26,null,70,"-",{"$f":"IF(COUNTIF('N PMČR 2022'!B:B,B41)=0,\"-\",COUNTIF('N PMČR 2022'!B:B,B41))","v":5},{"$f":"IF(ISERROR(VLOOKUP(B41,'N PMČR 2022'!B:G,6,0)),\"-\",VLOOKUP(B41,'N PMČR 2022'!B:G,6,0))","v":"81."},{"$f":"IF(COUNTIF('N PMČRj 2022'!B:B,B41)=0,\"-\",COUNTIF('N PMČRj 2022'!B:B,B41))","v":35},{"$f":"IF(ISERROR(VLOOKUP(B41,'N PMČRj 2022'!B:G,6,0)),\"-\",VLOOKUP(B41,'N PMČRj 2022'!B:G,6,0))","v":21}]
[27,"-",{"$f":"VLOOKUP(B42,Pilot!A:C,3,0)","v":" "},{"$f":"VLOOKUP(B42,Pilot!A:C,2,0)","v":" "},{"$f":"VLOOKUP(B42,Pilot!A:E,5,0)","v":" "},{"$f":"VLOOKUP(B42,Pilot!A:F,6,0)","v":" "},27,null,70,"-",{"$f":"IF(COUNTIF('N PMČR 2022'!B:B,B42)=0,\"-\",COUNTIF('N PMČR 2022'!B:B,B42))","v":5},{"$f":"IF(ISERROR(VLOOKUP(B42,'N PMČR 2022'!B:G,6,0)),\"-\",VLOOKUP(B42,'N PMČR 2022'!B:G,6,0))","v":"81."},{"$f":"IF(COUNTIF('N PMČRj 2022'!B:B,B42)=0,\"-\",COUNTIF('N PMČRj 2022'!B:B,B42))","v":35},{"$f":"IF(ISERROR(VLOOKUP(B42,'N PMČRj 2022'!B:G,6,0)),\"-\",VLOOKUP(B42,'N PMČRj 2022'!B:G,6,0))","v":21}]
[28,"-",{"$f":"VLOOKUP(B43,Pilot!A:C,3,0)","v":" "},{"$f":"VLOOKUP(B43,Pilot!A:C,2,0)","v":" "},{"$f":"VLOOKUP(B43,Pilot!A:E,5,0)","v":" "},{"$f":"VLOOKUP(B43,Pilot!A:F,6,0)","v":" "},{"$f":"A43","v":28},null,70,"-",{"$f":"IF(COUNTIF('N PMČR 2022'!B:B,B43)=0,\"-\",COUNTIF('N PMČR 2022'!B:B,B43))","v":5},{"$f":"IF(ISERROR(VLOOKUP(B43,'N PMČR 2022'!B:G,6,0)),\"-\",VLOOKUP(B43,'N PMČR 2022'!B:G,6,0))","v":"81."},{"$f":"IF(COUNTIF('N PMČRj 2022'!B:B,B43)=0,\"-\",COUNTIF('N PMČRj 2022'!B:B,B43))","v":35},{"$f":"IF(ISERROR(VLOOKUP(B43,'N PMČRj 2022'!B:G,6,0)),\"-\",VLOOKUP(B43,'N PMČRj 2022'!B:G,6,0))","v":21}]
[29,"-",{"$f":"VLOOKUP(B44,Pilot!A:C,3,0)","v":" "},{"$f":"VLOOKUP(B44,Pilot!A:C,2,0)","v":" "},{"$f":"VLOOKUP(B44,Pilot!A:E,5,0)","v":" "},{"$f":"VLOOKUP(B44,Pilot!A:F,6,0)","v":" "},29,null,70,"-",{"$f":"IF(COUNTIF('N PMČR 2022'!B:B,B44)=0,\"-\",COUNTIF('N PMČR 2022'!B:B,B44))","v":5},{"$f":"IF(ISERROR(VLOOKUP(B44,'N PMČR 2022'!B:G,6,0)),\"-\",VLOOKUP(B44,'N PMČR 2022'!B:G,6,0))","v":"81."},{"$f":"IF(COUNTIF('N PMČRj 2022'!B:B,B44)=0,\"-\",COUNTIF('N PMČRj 2022'!B:B,B44))","v":35},{"$f":"IF(ISERROR(VLOOKUP(B44,'N PMČRj 2022'!B:G,6,0)),\"-\",VLOOKUP(B44,'N PMČRj 2022'!B:G,6,0))","v":21}]
[30,"-",{"$f":"VLOOKUP(B45,Pilot!A:C,3,0)","v":" "},{"$f":"VLOOKUP(B45,Pilot!A:C,2,0)","v":" "},{"$f":"VLOOKUP(B45,Pilot!A:E,5,0)","v":" "},{"$f":"VLOOKUP(B45,Pilot!A:F,6,0)","v":" "},30,null,70,"-",{"$f":"IF(COUNTIF('N PMČR 2022'!B:B,B45)=0,\"-\",COUNTIF('N PMČR 2022'!B:B,B45))","v":5},{"$f":"IF(ISERROR(VLOOKUP(B45,'N PMČR 2022'!B:G,6,0)),\"-\",VLOOKUP(B45,'N PMČR 2022'!B:G,6,0))","v":"81."},{"$f":"IF(COUNTIF('N PMČRj 2022'!B:B,B45)=0,\"-\",COUNTIF('N PMČRj 2022'!B:B,B45))","v":35},{"$f":"IF(ISERROR(VLOOKUP(B45,'N PMČRj 2022'!B:G,6,0)),\"-\",VLOOKUP(B45,'N PMČRj 2022'!B:G,6,0))","v":21}]
[31,"-",{"$f":"VLOOKUP(B46,Pilot!A:C,3,0)","v":" "},{"$f":"VLOOKUP(B46,Pilot!A:C,2,0)","v":" "},{"$f":"VLOOKUP(B46,Pilot!A:E,5,0)","v":" "},{"$f":"VLOOKUP(B46,Pilot!A:F,6,0)","v":" "},31,null,70,"-",{"$f":"IF(COUNTIF('N PMČR 2022'!B:B,B46)=0,\"-\",COUNTIF('N PMČR 2022'!B:B,B46))","v":5},{"$f":"IF(ISERROR(VLOOKUP(B46,'N PMČR 2022'!B:G,6,0)),\"-\",VLOOKUP(B46,'N PMČR 2022'!B:G,6,0))","v":"81."},{"$f":"IF(COUNTIF('N PMČRj 2022'!B:B,B46)=0,\"-\",COUNTIF('N PMČRj 2022'!B:B,B46))","v":35},{"$f":"IF(ISERROR(VLOOKUP(B46,'N PMČRj 2022'!B:G,6,0)),\"-\",VLOOKUP(B46,'N PMČRj 2022'!B:G,6,0))","v":21}]
[32,"-",{"$f":"VLOOKUP(B47,Pilot!A:C,3,0)","v":" "},{"$f":"VLOOKUP(B47,Pilot!A:C,2,0)","v":" "},{"$f":"VLOOKUP(B47,Pilot!A:E,5,0)","v":" "},{"$f":"VLOOKUP(B47,Pilot!A:F,6,0)","v":" "},32,null,70,"-",{"$f":"IF(COUNTIF('N PMČR 2022'!B:B,B47)=0,\"-\",COUNTIF('N PMČR 2022'!B:B,B47))","v":5},{"$f":"IF(ISERROR(VLOOKUP(B47,'N PMČR 2022'!B:G,6,0)),\"-\",VLOOKUP(B47,'N PMČR 2022'!B:G,6,0))","v":"81."},{"$f":"IF(COUNTIF('N PMČRj 2022'!B:B,B47)=0,\"-\",COUNTIF('N PMČRj 2022'!B:B,B47))","v":35},{"$f":"IF(ISERROR(VLOOKUP(B47,'N PMČRj 2022'!B:G,6,0)),\"-\",VLOOKUP(B47,'N PMČRj 2022'!B:G,6,0))","v":21}]
[33,"-",{"$f":"VLOOKUP(B48,Pilot!A:C,3,0)","v":" "},{"$f":"VLOOKUP(B48,Pilot!A:C,2,0)","v":" "},{"$f":"VLOOKUP(B48,Pilot!A:E,5,0)","v":" "},{"$f":"VLOOKUP(B48,Pilot!A:F,6,0)","v":" "},33,null,70,"-",{"$f":"IF(COUNTIF('N PMČR 2022'!B:B,B48)=0,\"-\",COUNTIF('N PMČR 2022'!B:B,B48))","v":5},{"$f":"IF(ISERROR(VLOOKUP(B48,'N PMČR 2022'!B:G,6,0)),\"-\",VLOOKUP(B48,'N PMČR 2022'!B:G,6,0))","v":"81."},{"$f":"IF(COUNTIF('N PMČRj 2022'!B:B,B48)=0,\"-\",COUNTIF('N PMČRj 2022'!B:B,B48))","v":35},{"$f":"IF(ISERROR(VLOOKUP(B48,'N PMČRj 2022'!B:G,6,0)),\"-\",VLOOKUP(B48,'N PMČRj 2022'!B:G,6,0))","v":21}]
[34,"-",{"$f":"VLOOKUP(B49,Pilot!A:C,3,0)","v":" "},{"$f":"VLOOKUP(B49,Pilot!A:C,2,0)","v":" "},{"$f":"VLOOKUP(B49,Pilot!A:E,5,0)","v":" "},{"$f":"VLOOKUP(B49,Pilot!A:F,6,0)","v":" "},{"$f":"A49","v":34},null,70,"-",{"$f":"IF(COUNTIF('N PMČR 2022'!B:B,B49)=0,\"-\",COUNTIF('N PMČR 2022'!B:B,B49))","v":5},{"$f":"IF(ISERROR(VLOOKUP(B49,'N PMČR 2022'!B:G,6,0)),\"-\",VLOOKUP(B49,'N PMČR 2022'!B:G,6,0))","v":"81."},{"$f":"IF(COUNTIF('N PMČRj 2022'!B:B,B49)=0,\"-\",COUNTIF('N PMČRj 2022'!B:B,B49))","v":35},{"$f":"IF(ISERROR(VLOOKUP(B49,'N PMČRj 2022'!B:G,6,0)),\"-\",VLOOKUP(B49,'N PMČRj 2022'!B:G,6,0))","v":21}]
[35,"-",{"$f":"VLOOKUP(B50,Pilot!A:C,3,0)","v":" "},{"$f":"VLOOKUP(B50,Pilot!A:C,2,0)","v":" "},{"$f":"VLOOKUP(B50,Pilot!A:E,5,0)","v":" "},{"$f":"VLOOKUP(B50,Pilot!A:F,6,0)","v":" "},35,null,70,"-",{"$f":"IF(COUNTIF('N PMČR 2022'!B:B,B50)=0,\"-\",COUNTIF('N PMČR 2022'!B:B,B50))","v":5},{"$f":"IF(ISERROR(VLOOKUP(B50,'N PMČR 2022'!B:G,6,0)),\"-\",VLOOKUP(B50,'N PMČR 2022'!B:G,6,0))","v":"81."},{"$f":"IF(COUNTIF('N PMČRj 2022'!B:B,B50)=0,\"-\",COUNTIF('N PMČRj 2022'!B:B,B50))","v":35},{"$f":"IF(ISERROR(VLOOKUP(B50,'N PMČRj 2022'!B:G,6,0)),\"-\",VLOOKUP(B50,'N PMČRj 2022'!B:G,6,0))","v":21}]
[36,"-",{"$f":"VLOOKUP(B51,Pilot!A:C,3,0)","v":" "},{"$f":"VLOOKUP(B51,Pilot!A:C,2,0)","v":" "},{"$f":"VLOOKUP(B51,Pilot!A:E,5,0)","v":" "},{"$f":"VLOOKUP(B51,Pilot!A:F,6,0)","v":" "},36,null,70,"-",{"$f":"IF(COUNTIF('N PMČR 2022'!B:B,B51)=0,\"-\",COUNTIF('N PMČR 2022'!B:B,B51))","v":5},{"$f":"IF(ISERROR(VLOOKUP(B51,'N PMČR 2022'!B:G,6,0)),\"-\",VLOOKUP(B51,'N PMČR 2022'!B:G,6,0))","v":"81."},{"$f":"IF(COUNTIF('N PMČRj 2022'!B:B,B51)=0,\"-\",COUNTIF('N PMČRj 2022'!B:B,B51))","v":35},{"$f":"IF(ISERROR(VLOOKUP(B51,'N PMČRj 2022'!B:G,6,0)),\"-\",VLOOKUP(B51,'N PMČRj 2022'!B:G,6,0))","v":21}]
[37,"-",{"$f":"VLOOKUP(B52,Pilot!A:C,3,0)","v":" "},{"$f":"VLOOKUP(B52,Pilot!A:C,2,0)","v":" "},{"$f":"VLOOKUP(B52,Pilot!A:E,5,0)","v":" "},{"$f":"VLOOKUP(B52,Pilot!A:F,6,0)","v":" "},37,null,70,"-",{"$f":"IF(COUNTIF('N PMČR 2022'!B:B,B52)=0,\"-\",COUNTIF('N PMČR 2022'!B:B,B52))","v":5},{"$f":"IF(ISERROR(VLOOKUP(B52,'N PMČR 2022'!B:G,6,0)),\"-\",VLOOKUP(B52,'N PMČR 2022'!B:G,6,0))","v":"81."},{"$f":"IF(COUNTIF('N PMČRj 2022'!B:B,B52)=0,\"-\",COUNTIF('N PMČRj 2022'!B:B,B52))","v":35},{"$f":"IF(ISERROR(VLOOKUP(B52,'N PMČRj 2022'!B:G,6,0)),\"-\",VLOOKUP(B52,'N PMČRj 2022'!B:G,6,0))","v":21}]
[38,"-",{"$f":"VLOOKUP(B53,Pilot!A:C,3,0)","v":" "},{"$f":"VLOOKUP(B53,Pilot!A:C,2,0)","v":" "},{"$f":"VLOOKUP(B53,Pilot!A:E,5,0)","v":" "},{"$f":"VLOOKUP(B53,Pilot!A:F,6,0)","v":" "},38,null,70,"-",{"$f":"IF(COUNTIF('N PMČR 2022'!B:B,B53)=0,\"-\",COUNTIF('N PMČR 2022'!B:B,B53))","v":5},{"$f":"IF(ISERROR(VLOOKUP(B53,'N PMČR 2022'!B:G,6,0)),\"-\",VLOOKUP(B53,'N PMČR 2022'!B:G,6,0))","v":"81."},{"$f":"IF(COUNTIF('N PMČRj 2022'!B:B,B53)=0,\"-\",COUNTIF('N PMČRj 2022'!B:B,B53))","v":35},{"$f":"IF(ISERROR(VLOOKUP(B53,'N PMČRj 2022'!B:G,6,0)),\"-\",VLOOKUP(B53,'N PMČRj 2022'!B:G,6,0))","v":21}]
[39,"-",{"$f":"VLOOKUP(B54,Pilot!A:C,3,0)","v":" "},{"$f":"VLOOKUP(B54,Pilot!A:C,2,0)","v":" "},{"$f":"VLOOKUP(B54,Pilot!A:E,5,0)","v":" "},{"$f":"VLOOKUP(B54,Pilot!A:F,6,0)","v":" "},{"$f":"A54","v":39},null,70,"-",{"$f":"IF(COUNTIF('N PMČR 2022'!B:B,B54)=0,\"-\",COUNTIF('N PMČR 2022'!B:B,B54))","v":5},{"$f":"IF(ISERROR(VLOOKUP(B54,'N PMČR 2022'!B:G,6,0)),\"-\",VLOOKUP(B54,'N PMČR 2022'!B:G,6,0))","v":"81."},{"$f":"IF(COUNTIF('N PMČRj 2022'!B:B,B54)=0,\"-\",COUNTIF('N PMČRj 2022'!B:B,B54))","v":35},{"$f":"IF(ISERROR(VLOOKUP(B54,'N PMČRj 2022'!B:G,6,0)),\"-\",VLOOKUP(B54,'N PMČRj 2022'!B:G,6,0))","v":21}]
[40,"-",{"$f":"VLOOKUP(B55,Pilot!A:C,3,0)","v":" "},{"$f":"VLOOKUP(B55,Pilot!A:C,2,0)","v":" "},{"$f":"VLOOKUP(B55,Pilot!A:E,5,0)","v":" "},{"$f":"VLOOKUP(B55,Pilot!A:F,6,0)","v":" "},40,null,70,"-",{"$f":"IF(COUNTIF('N PMČR 2022'!B:B,B55)=0,\"-\",COUNTIF('N PMČR 2022'!B:B,B55))","v":5},{"$f":"IF(ISERROR(VLOOKUP(B55,'N PMČR 2022'!B:G,6,0)),\"-\",VLOOKUP(B55,'N PMČR 2022'!B:G,6,0))","v":"81."},{"$f":"IF(COUNTIF('N PMČRj 2022'!B:B,B55)=0,\"-\",COUNTIF('N PMČRj 2022'!B:B,B55))","v":35},{"$f":"IF(ISERROR(VLOOKUP(B55,'N PMČRj 2022'!B:G,6,0)),\"-\",VLOOKUP(B55,'N PMČRj 2022'!B:G,6,0))","v":21}]
[41,"-",{"$f":"VLOOKUP(B56,Pilot!A:C,3,0)","v":" "},{"$f":"VLOOKUP(B56,Pilot!A:C,2,0)","v":" "},{"$f":"VLOOKUP(B56,Pilot!A:E,5,0)","v":" "},{"$f":"VLOOKUP(B56,Pilot!A:F,6,0)","v":" "},41,null,70,"-",{"$f":"IF(COUNTIF('N PMČR 2022'!B:B,B56)=0,\"-\",COUNTIF('N PMČR 2022'!B:B,B56))","v":5},{"$f":"IF(ISERROR(VLOOKUP(B56,'N PMČR 2022'!B:G,6,0)),\"-\",VLOOKUP(B56,'N PMČR 2022'!B:G,6,0))","v":"81."},{"$f":"IF(COUNTIF('N PMČRj 2022'!B:B,B56)=0,\"-\",COUNTIF('N PMČRj 2022'!B:B,B56))","v":35},{"$f":"IF(ISERROR(VLOOKUP(B56,'N PMČRj 2022'!B:G,6,0)),\"-\",VLOOKUP(B56,'N PMČRj 2022'!B:G,6,0))","v":21}]
[42,"-",{"$f":"VLOOKUP(B57,Pilot!A:C,3,0)","v":" "},{"$f":"VLOOKUP(B57,Pilot!A:C,2,0)","v":" "},{"$f":"VLOOKUP(B57,Pilot!A:E,5,0)","v":" "},{"$f":"VLOOKUP(B57,Pilot!A:F,6,0)","v":" "},42,null,70,"-",{"$f":"IF(COUNTIF('N PMČR 2022'!B:B,B57)=0,\"-\",COUNTIF('N PMČR 2022'!B:B,B57))","v":5},{"$f":"IF(ISERROR(VLOOKUP(B57,'N PMČR 2022'!B:G,6,0)),\"-\",VLOOKUP(B57,'N PMČR 2022'!B:G,6,0))","v":"81."},{"$f":"IF(COUNTIF('N PMČRj 2022'!B:B,B57)=0,\"-\",COUNTIF('N PMČRj 2022'!B:B,B57))","v":35},{"$f":"IF(ISERROR(VLOOKUP(B57,'N PMČRj 2022'!B:G,6,0)),\"-\",VLOOKUP(B57,'N PMČRj 2022'!B:G,6,0))","v":21}]
[43,"-",{"$f":"VLOOKUP(B58,Pilot!A:C,3,0)","v":" "},{"$f":"VLOOKUP(B58,Pilot!A:C,2,0)","v":" "},{"$f":"VLOOKUP(B58,Pilot!A:E,5,0)","v":" "},{"$f":"VLOOKUP(B58,Pilot!A:F,6,0)","v":" "},43,null,70,"-",{"$f":"IF(COUNTIF('N PMČR 2022'!B:B,B58)=0,\"-\",COUNTIF('N PMČR 2022'!B:B,B58))","v":5},{"$f":"IF(ISERROR(VLOOKUP(B58,'N PMČR 2022'!B:G,6,0)),\"-\",VLOOKUP(B58,'N PMČR 2022'!B:G,6,0))","v":"81."},{"$f":"IF(COUNTIF('N PMČRj 2022'!B:B,B58)=0,\"-\",COUNTIF('N PMČRj 2022'!B:B,B58))","v":35},{"$f":"IF(ISERROR(VLOOKUP(B58,'N PMČRj 2022'!B:G,6,0)),\"-\",VLOOKUP(B58,'N PMČRj 2022'!B:G,6,0))","v":21}]
[44,"-",{"$f":"VLOOKUP(B59,Pilot!A:C,3,0)","v":" "},{"$f":"VLOOKUP(B59,Pilot!A:C,2,0)","v":" "},{"$f":"VLOOKUP(B59,Pilot!A:E,5,0)","v":" "},{"$f":"VLOOKUP(B59,Pilot!A:F,6,0)","v":" "},44,null,70,"-",{"$f":"IF(COUNTIF('N PMČR 2022'!B:B,B59)=0,\"-\",COUNTIF('N PMČR 2022'!B:B,B59))","v":5},{"$f":"IF(ISERROR(VLOOKUP(B59,'N PMČR 2022'!B:G,6,0)),\"-\",VLOOKUP(B59,'N PMČR 2022'!B:G,6,0))","v":"81."},{"$f":"IF(COUNTIF('N PMČRj 2022'!B:B,B59)=0,\"-\",COUNTIF('N PMČRj 2022'!B:B,B59))","v":35},{"$f":"IF(ISERROR(VLOOKUP(B59,'N PMČRj 2022'!B:G,6,0)),\"-\",VLOOKUP(B59,'N PMČRj 2022'!B:G,6,0))","v":21}]
[45,"-",{"$f":"VLOOKUP(B60,Pilot!A:C,3,0)","v":" "},{"$f":"VLOOKUP(B60,Pilot!A:C,2,0)","v":" "},{"$f":"VLOOKUP(B60,Pilot!A:E,5,0)","v":" "},{"$f":"VLOOKUP(B60,Pilot!A:F,6,0)","v":" "},45,null,70,"-",{"$f":"IF(COUNTIF('N PMČR 2022'!B:B,B60)=0,\"-\",COUNTIF('N PMČR 2022'!B:B,B60))","v":5},{"$f":"IF(ISERROR(VLOOKUP(B60,'N PMČR 2022'!B:G,6,0)),\"-\",VLOOKUP(B60,'N PMČR 2022'!B:G,6,0))","v":"81."},{"$f":"IF(COUNTIF('N PMČRj 2022'!B:B,B60)=0,\"-\",COUNTIF('N PMČRj 2022'!B:B,B60))","v":35},{"$f":"IF(ISERROR(VLOOKUP(B60,'N PMČRj 2022'!B:G,6,0)),\"-\",VLOOKUP(B60,'N PMČRj 2022'!B:G,6,0))","v":21}]
[46,"-",{"$f":"VLOOKUP(B61,Pilot!A:C,3,0)","v":" "},{"$f":"VLOOKUP(B61,Pilot!A:C,2,0)","v":" "},{"$f":"VLOOKUP(B61,Pilot!A:E,5,0)","v":" "},{"$f":"VLOOKUP(B61,Pilot!A:F,6,0)","v":" "},46,null,70,"-",{"$f":"IF(COUNTIF('N PMČR 2022'!B:B,B61)=0,\"-\",COUNTIF('N PMČR 2022'!B:B,B61))","v":5},{"$f":"IF(ISERROR(VLOOKUP(B61,'N PMČR 2022'!B:G,6,0)),\"-\",VLOOKUP(B61,'N PMČR 2022'!B:G,6,0))","v":"81."},{"$f":"IF(COUNTIF('N PMČRj 2022'!B:B,B61)=0,\"-\",COUNTIF('N PMČRj 2022'!B:B,B61))","v":35},{"$f":"IF(ISERROR(VLOOKUP(B61,'N PMČRj 2022'!B:G,6,0)),\"-\",VLOOKUP(B61,'N PMČRj 2022'!B:G,6,0))","v":21}]
[47,"-",{"$f":"VLOOKUP(B62,Pilot!A:C,3,0)","v":" "},{"$f":"VLOOKUP(B62,Pilot!A:C,2,0)","v":" "},{"$f":"VLOOKUP(B62,Pilot!A:E,5,0)","v":" "},{"$f":"VLOOKUP(B62,Pilot!A:F,6,0)","v":" "},47,null,70,"-",{"$f":"IF(COUNTIF('N PMČR 2022'!B:B,B62)=0,\"-\",COUNTIF('N PMČR 2022'!B:B,B62))","v":5},{"$f":"IF(ISERROR(VLOOKUP(B62,'N PMČR 2022'!B:G,6,0)),\"-\",VLOOKUP(B62,'N PMČR 2022'!B:G,6,0))","v":"81."},{"$f":"IF(COUNTIF('N PMČRj 2022'!B:B,B62)=0,\"-\",COUNTIF('N PMČRj 2022'!B:B,B62))","v":35},{"$f":"IF(ISERROR(VLOOKUP(B62,'N PMČRj 2022'!B:G,6,0)),\"-\",VLOOKUP(B62,'N PMČRj 2022'!B:G,6,0))","v":21}]
[48,"-",{"$f":"VLOOKUP(B63,Pilot!A:C,3,0)","v":" "},{"$f":"VLOOKUP(B63,Pilot!A:C,2,0)","v":" "},{"$f":"VLOOKUP(B63,Pilot!A:E,5,0)","v":" "},{"$f":"VLOOKUP(B63,Pilot!A:F,6,0)","v":" "},48,null,70,"-",{"$f":"IF(COUNTIF('N PMČR 2022'!B:B,B63)=0,\"-\",COUNTIF('N PMČR 2022'!B:B,B63))","v":5},{"$f":"IF(ISERROR(VLOOKUP(B63,'N PMČR 2022'!B:G,6,0)),\"-\",VLOOKUP(B63,'N PMČR 2022'!B:G,6,0))","v":"81."},{"$f":"IF(COUNTIF('N PMČRj 2022'!B:B,B63)=0,\"-\",COUNTIF('N PMČRj 2022'!B:B,B63))","v":35},{"$f":"IF(ISERROR(VLOOKUP(B63,'N PMČRj 2022'!B:G,6,0)),\"-\",VLOOKUP(B63,'N PMČRj 2022'!B:G,6,0))","v":21}]
[49,"-",{"$f":"VLOOKUP(B64,Pilot!A:C,3,0)","v":" "},{"$f":"VLOOKUP(B64,Pilot!A:C,2,0)","v":" "},{"$f":"VLOOKUP(B64,Pilot!A:E,5,0)","v":" "},{"$f":"VLOOKUP(B64,Pilot!A:F,6,0)","v":" "},49,null,70,"-",{"$f":"IF(COUNTIF('N PMČR 2022'!B:B,B64)=0,\"-\",COUNTIF('N PMČR 2022'!B:B,B64))","v":5},{"$f":"IF(ISERROR(VLOOKUP(B64,'N PMČR 2022'!B:G,6,0)),\"-\",VLOOKUP(B64,'N PMČR 2022'!B:G,6,0))","v":"81."},{"$f":"IF(COUNTIF('N PMČRj 2022'!B:B,B64)=0,\"-\",COUNTIF('N PMČRj 2022'!B:B,B64))","v":35},{"$f":"IF(ISERROR(VLOOKUP(B64,'N PMČRj 2022'!B:G,6,0)),\"-\",VLOOKUP(B64,'N PMČRj 2022'!B:G,6,0))","v":21}]
[50,"-",{"$f":"VLOOKUP(B65,Pilot!A:C,3,0)","v":" "},{"$f":"VLOOKUP(B65,Pilot!A:C,2,0)","v":" "},{"$f":"VLOOKUP(B65,Pilot!A:E,5,0)","v":" "},{"$f":"VLOOKUP(B65,Pilot!A:F,6,0)","v":" "},50,null,70,"-",{"$f":"IF(COUNTIF('N PMČR 2022'!B:B,B65)=0,\"-\",COUNTIF('N PMČR 2022'!B:B,B65))","v":5},{"$f":"IF(ISERROR(VLOOKUP(B65,'N PMČR 2022'!B:G,6,0)),\"-\",VLOOKUP(B65,'N PMČR 2022'!B:G,6,0))","v":"81."},{"$f":"IF(COUNTIF('N PMČRj 2022'!B:B,B65)=0,\"-\",COUNTIF('N PMČRj 2022'!B:B,B65))","v":35},{"$f":"IF(ISERROR(VLOOKUP(B65,'N PMČRj 2022'!B:G,6,0)),\"-\",VLOOKUP(B65,'N PMČRj 2022'!B:G,6,0))","v":21}]
[51,"-",{"$f":"VLOOKUP(B66,Pilot!A:C,3,0)","v":" "},{"$f":"VLOOKUP(B66,Pilot!A:C,2,0)","v":" "},{"$f":"VLOOKUP(B66,Pilot!A:E,5,0)","v":" "},{"$f":"VLOOKUP(B66,Pilot!A:F,6,0)","v":" "},51,null,70,"-",{"$f":"IF(COUNTIF('N PMČR 2022'!B:B,B66)=0,\"-\",COUNTIF('N PMČR 2022'!B:B,B66))","v":5},{"$f":"IF(ISERROR(VLOOKUP(B66,'N PMČR 2022'!B:G,6,0)),\"-\",VLOOKUP(B66,'N PMČR 2022'!B:G,6,0))","v":"81."},{"$f":"IF(COUNTIF('N PMČRj 2022'!B:B,B66)=0,\"-\",COUNTIF('N PMČRj 2022'!B:B,B66))","v":35},{"$f":"IF(ISERROR(VLOOKUP(B66,'N PMČRj 2022'!B:G,6,0)),\"-\",VLOOKUP(B66,'N PMČRj 2022'!B:G,6,0))","v":21}]
[52,"-",{"$f":"VLOOKUP(B67,Pilot!A:C,3,0)","v":" "},{"$f":"VLOOKUP(B67,Pilot!A:C,2,0)","v":" "},{"$f":"VLOOKUP(B67,Pilot!A:E,5,0)","v":" "},{"$f":"VLOOKUP(B67,Pilot!A:F,6,0)","v":" "},52,null,70,"-",{"$f":"IF(COUNTIF('N PMČR 2022'!B:B,B67)=0,\"-\",COUNTIF('N PMČR 2022'!B:B,B67))","v":5},{"$f":"IF(ISERROR(VLOOKUP(B67,'N PMČR 2022'!B:G,6,0)),\"-\",VLOOKUP(B67,'N PMČR 2022'!B:G,6,0))","v":"81."},{"$f":"IF(COUNTIF('N PMČRj 2022'!B:B,B67)=0,\"-\",COUNTIF('N PMČRj 2022'!B:B,B67))","v":35},{"$f":"IF(ISERROR(VLOOKUP(B67,'N PMČRj 2022'!B:G,6,0)),\"-\",VLOOKUP(B67,'N PMČRj 2022'!B:G,6,0))","v":21}]
[53,"-",{"$f":"VLOOKUP(B68,Pilot!A:C,3,0)","v":" "},{"$f":"VLOOKUP(B68,Pilot!A:C,2,0)","v":" "},{"$f":"VLOOKUP(B68,Pilot!A:E,5,0)","v":" "},{"$f":"VLOOKUP(B68,Pilot!A:F,6,0)","v":" "},{"$f":"A68","v":53},null,{"$f":"COUNTIF(B:B,B68)","v":70},"-",{"$f":"IF(COUNTIF('N PMČR 2022'!B:B,B68)=0,\"-\",COUNTIF('N PMČR 2022'!B:B,B68))","v":5},{"$f":"IF(ISERROR(VLOOKUP(B68,'N PMČR 2022'!B:G,6,0)),\"-\",VLOOKUP(B68,'N PMČR 2022'!B:G,6,0))","v":"81."},{"$f":"IF(COUNTIF('N PMČRj 2022'!B:B,B68)=0,\"-\",COUNTIF('N PMČRj 2022'!B:B,B68))","v":35},{"$f":"IF(ISERROR(VLOOKUP(B68,'N PMČRj 2022'!B:G,6,0)),\"-\",VLOOKUP(B68,'N PMČRj 2022'!B:G,6,0))","v":21}]
[54,"-",{"$f":"VLOOKUP(B69,Pilot!A:C,3,0)","v":" "},{"$f":"VLOOKUP(B69,Pilot!A:C,2,0)","v":" "},{"$f":"VLOOKUP(B69,Pilot!A:E,5,0)","v":" "},{"$f":"VLOOKUP(B69,Pilot!A:F,6,0)","v":" "},54,null,70,"-",{"$f":"IF(COUNTIF('N PMČR 2022'!B:B,B69)=0,\"-\",COUNTIF('N PMČR 2022'!B:B,B69))","v":5},{"$f":"IF(ISERROR(VLOOKUP(B69,'N PMČR 2022'!B:G,6,0)),\"-\",VLOOKUP(B69,'N PMČR 2022'!B:G,6,0))","v":"81."},{"$f":"IF(COUNTIF('N PMČRj 2022'!B:B,B69)=0,\"-\",COUNTIF('N PMČRj 2022'!B:B,B69))","v":35},{"$f":"IF(ISERROR(VLOOKUP(B69,'N PMČRj 2022'!B:G,6,0)),\"-\",VLOOKUP(B69,'N PMČRj 2022'!B:G,6,0))","v":21}]
[55,"-",{"$f":"VLOOKUP(B70,Pilot!A:C,3,0)","v":" "},{"$f":"VLOOKUP(B70,Pilot!A:C,2,0)","v":" "},{"$f":"VLOOKUP(B70,Pilot!A:E,5,0)","v":" "},{"$f":"VLOOKUP(B70,Pilot!A:F,6,0)","v":" "},55,null,70,"-",{"$f":"IF(COUNTIF('N PMČR 2022'!B:B,B70)=0,\"-\",COUNTIF('N PMČR 2022'!B:B,B70))","v":5},{"$f":"IF(ISERROR(VLOOKUP(B70,'N PMČR 2022'!B:G,6,0)),\"-\",VLOOKUP(B70,'N PMČR 2022'!B:G,6,0))","v":"81."},{"$f":"IF(COUNTIF('N PMČRj 2022'!B:B,B70)=0,\"-\",COUNTIF('N PMČRj 2022'!B:B,B70))","v":35},{"$f":"IF(ISERROR(VLOOKUP(B70,'N PMČRj 2022'!B:G,6,0)),\"-\",VLOOKUP(B70,'N PMČRj 2022'!B:G,6,0))","v":21}]
[56,"-",{"$f":"VLOOKUP(B71,Pilot!A:C,3,0)","v":" "},{"$f":"VLOOKUP(B71,Pilot!A:C,2,0)","v":" "},{"$f":"VLOOKUP(B71,Pilot!A:E,5,0)","v":" "},{"$f":"VLOOKUP(B71,Pilot!A:F,6,0)","v":" "},56,null,70,"-",{"$f":"IF(COUNTIF('N PMČR 2022'!B:B,B71)=0,\"-\",COUNTIF('N PMČR 2022'!B:B,B71))","v":5},{"$f":"IF(ISERROR(VLOOKUP(B71,'N PMČR 2022'!B:G,6,0)),\"-\",VLOOKUP(B71,'N PMČR 2022'!B:G,6,0))","v":"81."},{"$f":"IF(COUNTIF('N PMČRj 2022'!B:B,B71)=0,\"-\",COUNTIF('N PMČRj 2022'!B:B,B71))","v":35},{"$f":"IF(ISERROR(VLOOKUP(B71,'N PMČRj 2022'!B:G,6,0)),\"-\",VLOOKUP(B71,'N PMČRj 2022'!B:G,6,0))","v":21}]
[57,"-",{"$f":"VLOOKUP(B72,Pilot!A:C,3,0)","v":" "},{"$f":"VLOOKUP(B72,Pilot!A:C,2,0)","v":" "},{"$f":"VLOOKUP(B72,Pilot!A:E,5,0)","v":" "},{"$f":"VLOOKUP(B72,Pilot!A:F,6,0)","v":" "},57,null,70,"-",{"$f":"IF(COUNTIF('N PMČR 2022'!B:B,B72)=0,\"-\",COUNTIF('N PMČR 2022'!B:B,B72))","v":5},{"$f":"IF(ISERROR(VLOOKUP(B72,'N PMČR 2022'!B:G,6,0)),\"-\",VLOOKUP(B72,'N PMČR 2022'!B:G,6,0))","v":"81."},{"$f":"IF(COUNTIF('N PMČRj 2022'!B:B,B72)=0,\"-\",COUNTIF('N PMČRj 2022'!B:B,B72))","v":35},{"$f":"IF(ISERROR(VLOOKUP(B72,'N PMČRj 2022'!B:G,6,0)),\"-\",VLOOKUP(B72,'N PMČRj 2022'!B:G,6,0))","v":21}]
[58,"-",{"$f":"VLOOKUP(B73,Pilot!A:C,3,0)","v":" "},{"$f":"VLOOKUP(B73,Pilot!A:C,2,0)","v":" "},{"$f":"VLOOKUP(B73,Pilot!A:E,5,0)","v":" "},{"$f":"VLOOKUP(B73,Pilot!A:F,6,0)","v":" "},58,null,70,{"$f":"IF(ISERROR(VLOOKUP(B73,B:G,6,0)),\"-\",VLOOKUP(B73,B:G,6,0))","v":"-"},{"$f":"IF(COUNTIF('N PMČR 2022'!B:B,B73)=0,\"-\",COUNTIF('N PMČR 2022'!B:B,B73))","v":5},{"$f":"IF(ISERROR(VLOOKUP(B73,'N PMČR 2022'!B:G,6,0)),\"-\",VLOOKUP(B73,'N PMČR 2022'!B:G,6,0))","v":"81."},{"$f":"IF(COUNTIF('N PMČRj 2022'!B:B,B73)=0,\"-\",COUNTIF('N PMČRj 2022'!B:B,B73))","v":35},{"$f":"IF(ISERROR(VLOOKUP(B73,'N PMČRj 2022'!B:G,6,0)),\"-\",VLOOKUP(B73,'N PMČRj 2022'!B:G,6,0))","v":21}]
[59,"-",{"$f":"VLOOKUP(B74,Pilot!A:C,3,0)","v":" "},{"$f":"VLOOKUP(B74,Pilot!A:C,2,0)","v":" "},{"$f":"VLOOKUP(B74,Pilot!A:E,5,0)","v":" "},{"$f":"VLOOKUP(B74,Pilot!A:F,6,0)","v":" "},59,null,70,"-",{"$f":"IF(COUNTIF('N PMČR 2022'!B:B,B74)=0,\"-\",COUNTIF('N PMČR 2022'!B:B,B74))","v":5},{"$f":"IF(ISERROR(VLOOKUP(B74,'N PMČR 2022'!B:G,6,0)),\"-\",VLOOKUP(B74,'N PMČR 2022'!B:G,6,0))","v":"81."},{"$f":"IF(COUNTIF('N PMČRj 2022'!B:B,B74)=0,\"-\",COUNTIF('N PMČRj 2022'!B:B,B74))","v":35},{"$f":"IF(ISERROR(VLOOKUP(B74,'N PMČRj 2022'!B:G,6,0)),\"-\",VLOOKUP(B74,'N PMČRj 2022'!B:G,6,0))","v":21}]
[60,"-",{"$f":"VLOOKUP(B75,Pilot!A:C,3,0)","v":" "},{"$f":"VLOOKUP(B75,Pilot!A:C,2,0)","v":" "},{"$f":"VLOOKUP(B75,Pilot!A:E,5,0)","v":" "},{"$f":"VLOOKUP(B75,Pilot!A:F,6,0)","v":" "},60,null,70,"-",{"$f":"IF(COUNTIF('N PMČR 2022'!B:B,B75)=0,\"-\",COUNTIF('N PMČR 2022'!B:B,B75))","v":5},{"$f":"IF(ISERROR(VLOOKUP(B75,'N PMČR 2022'!B:G,6,0)),\"-\",VLOOKUP(B75,'N PMČR 2022'!B:G,6,0))","v":"81."},{"$f":"IF(COUNTIF('N PMČRj 2022'!B:B,B75)=0,\"-\",COUNTIF('N PMČRj 2022'!B:B,B75))","v":35},{"$f":"IF(ISERROR(VLOOKUP(B75,'N PMČRj 2022'!B:G,6,0)),\"-\",VLOOKUP(B75,'N PMČRj 2022'!B:G,6,0))","v":21}]
[61,"-",{"$f":"VLOOKUP(B76,Pilot!A:C,3,0)","v":" "},{"$f":"VLOOKUP(B76,Pilot!A:C,2,0)","v":" "},{"$f":"VLOOKUP(B76,Pilot!A:E,5,0)","v":" "},{"$f":"VLOOKUP(B76,Pilot!A:F,6,0)","v":" "},61,null,70,"-",{"$f":"IF(COUNTIF('N PMČR 2022'!B:B,B76)=0,\"-\",COUNTIF('N PMČR 2022'!B:B,B76))","v":5},{"$f":"IF(ISERROR(VLOOKUP(B76,'N PMČR 2022'!B:G,6,0)),\"-\",VLOOKUP(B76,'N PMČR 2022'!B:G,6,0))","v":"81."},{"$f":"IF(COUNTIF('N PMČRj 2022'!B:B,B76)=0,\"-\",COUNTIF('N PMČRj 2022'!B:B,B76))","v":35},{"$f":"IF(ISERROR(VLOOKUP(B76,'N PMČRj 2022'!B:G,6,0)),\"-\",VLOOKUP(B76,'N PMČRj 2022'!B:G,6,0))","v":21}]
["N1","-",{"$f":"VLOOKUP(B77,Pilot!A:C,3,0)","v":" "},{"$f":"VLOOKUP(B77,Pilot!A:C,2,0)","v":" "},{"$f":"VLOOKUP(B77,Pilot!A:E,5,0)","v":" "},{"$f":"VLOOKUP(B77,Pilot!A:F,6,0)","v":" "},"N1",null,{"$f":"COUNTIF(B:B,B77)","v":70},"-",{"$f":"IF(COUNTIF('N PMČR 2022'!B:B,B77)=0,\"-\",COUNTIF('N PMČR 2022'!B:B,B77))","v":5},{"$f":"IF(ISERROR(VLOOKUP(B77,'N PMČR 2022'!B:G,6,0)),\"-\",VLOOKUP(B77,'N PMČR 2022'!B:G,6,0))","v":"81."},{"$f":"IF(COUNTIF('N PMČRj 2022'!B:B,B77)=0,\"-\",COUNTIF('N PMČRj 2022'!B:B,B77))","v":35},{"$f":"IF(ISERROR(VLOOKUP(B77,'N PMČRj 2022'!B:G,6,0)),\"-\",VLOOKUP(B77,'N PMČRj 2022'!B:G,6,0))","v":21}]
["N2","-",{"$f":"VLOOKUP(B78,Pilot!A:C,3,0)","v":" "},{"$f":"VLOOKUP(B78,Pilot!A:C,2,0)","v":" "},{"$f":"VLOOKUP(B78,Pilot!A:E,5,0)","v":" "},{"$f":"VLOOKUP(B78,Pilot!A:F,6,0)","v":" "},"N2",null,70,"-",{"$f":"IF(COUNTIF('N PMČR 2022'!B:B,B78)=0,\"-\",COUNTIF('N PMČR 2022'!B:B,B78))","v":5},{"$f":"IF(ISERROR(VLOOKUP(B78,'N PMČR 2022'!B:G,6,0)),\"-\",VLOOKUP(B78,'N PMČR 2022'!B:G,6,0))","v":"81."},{"$f":"IF(COUNTIF('N PMČRj 2022'!B:B,B78)=0,\"-\",COUNTIF('N PMČRj 2022'!B:B,B78))","v":35},{"$f":"IF(ISERROR(VLOOKUP(B78,'N PMČRj 2022'!B:G,6,0)),\"-\",VLOOKUP(B78,'N PMČRj 2022'!B:G,6,0))","v":21}]
["N3","-",{"$f":"VLOOKUP(B79,Pilot!A:C,3,0)","v":" "},{"$f":"VLOOKUP(B79,Pilot!A:C,2,0)","v":" "},{"$f":"VLOOKUP(B79,Pilot!A:E,5,0)","v":" "},{"$f":"VLOOKUP(B79,Pilot!A:F,6,0)","v":" "},"N3",null,70,"-",{"$f":"IF(COUNTIF('N PMČR 2022'!B:B,B79)=0,\"-\",COUNTIF('N PMČR 2022'!B:B,B79))","v":5},{"$f":"IF(ISERROR(VLOOKUP(B79,'N PMČR 2022'!B:G,6,0)),\"-\",VLOOKUP(B79,'N PMČR 2022'!B:G,6,0))","v":"81."},{"$f":"IF(COUNTIF('N PMČRj 2022'!B:B,B79)=0,\"-\",COUNTIF('N PMČRj 2022'!B:B,B79))","v":35},{"$f":"IF(ISERROR(VLOOKUP(B79,'N PMČRj 2022'!B:G,6,0)),\"-\",VLOOKUP(B79,'N PMČRj 2022'!B:G,6,0))","v":21}]
["N4","-",{"$f":"VLOOKUP(B80,Pilot!A:C,3,0)","v":" "},{"$f":"VLOOKUP(B80,Pilot!A:C,2,0)","v":" "},{"$f":"VLOOKUP(B80,Pilot!A:E,5,0)","v":" "},{"$f":"VLOOKUP(B80,Pilot!A:F,6,0)","v":" "},"N4",null,70,"-",{"$f":"IF(COUNTIF('N PMČR 2022'!B:B,B80)=0,\"-\",COUNTIF('N PMČR 2022'!B:B,B80))","v":5},{"$f":"IF(ISERROR(VLOOKUP(B80,'N PMČR 2022'!B:G,6,0)),\"-\",VLOOKUP(B80,'N PMČR 2022'!B:G,6,0))","v":"81."},{"$f":"IF(COUNTIF('N PMČRj 2022'!B:B,B80)=0,\"-\",COUNTIF('N PMČRj 2022'!B:B,B80))","v":35},{"$f":"IF(ISERROR(VLOOKUP(B80,'N PMČRj 2022'!B:G,6,0)),\"-\",VLOOKUP(B80,'N PMČRj 2022'!B:G,6,0))","v":21}]
["N5","-",{"$f":"VLOOKUP(B81,Pilot!A:C,3,0)","v":" "},{"$f":"VLOOKUP(B81,Pilot!A:C,2,0)","v":" "},{"$f":"VLOOKUP(B81,Pilot!A:E,5,0)","v":" "},{"$f":"VLOOKUP(B81,Pilot!A:F,6,0)","v":" "},"N5",null,70,"-",{"$f":"IF(COUNTIF('N PMČR 2022'!B:B,B81)=0,\"-\",COUNTIF('N PMČR 2022'!B:B,B81))","v":5},{"$f":"IF(ISERROR(VLOOKUP(B81,'N PMČR 2022'!B:G,6,0)),\"-\",VLOOKUP(B81,'N PMČR 2022'!B:G,6,0))","v":"81."},{"$f":"IF(COUNTIF('N PMČRj 2022'!B:B,B81)=0,\"-\",COUNTIF('N PMČRj 2022'!B:B,B81))","v":35},{"$f":"IF(ISERROR(VLOOKUP(B81,'N PMČRj 2022'!B:G,6,0)),\"-\",VLOOKUP(B81,'N PMČRj 2022'!B:G,6,0))","v":21}]
["N6","-",{"$f":"VLOOKUP(B82,Pilot!A:C,3,0)","v":" "},{"$f":"VLOOKUP(B82,Pilot!A:C,2,0)","v":" "},{"$f":"VLOOKUP(B82,Pilot!A:E,5,0)","v":" "},{"$f":"VLOOKUP(B82,Pilot!A:F,6,0)","v":" "},"N6",null,70,"-",{"$f":"IF(COUNTIF('N PMČR 2022'!B:B,B82)=0,\"-\",COUNTIF('N PMČR 2022'!B:B,B82))","v":5},{"$f":"IF(ISERROR(VLOOKUP(B82,'N PMČR 2022'!B:G,6,0)),\"-\",VLOOKUP(B82,'N PMČR 2022'!B:G,6,0))","v":"81."},{"$f":"IF(COUNTIF('N PMČRj 2022'!B:B,B82)=0,\"-\",COUNTIF('N PMČRj 2022'!B:B,B82))","v":35},{"$f":"IF(ISERROR(VLOOKUP(B82,'N PMČRj 2022'!B:G,6,0)),\"-\",VLOOKUP(B82,'N PMČRj 2022'!B:G,6,0))","v":21}]
["N7","-",{"$f":"VLOOKUP(B83,Pilot!A:C,3,0)","v":" "},{"$f":"VLOOKUP(B83,Pilot!A:C,2,0)","v":" "},{"$f":"VLOOKUP(B83,Pilot!A:E,5,0)","v":" "},{"$f":"VLOOKUP(B83,Pilot!A:F,6,0)","v":" "},"N7",null,70,"-",{"$f":"IF(COUNTIF('N PMČR 2022'!B:B,B83)=0,\"-\",COUNTIF('N PMČR 2022'!B:B,B83))","v":5},{"$f":"IF(ISERROR(VLOOKUP(B83,'N PMČR 2022'!B:G,6,0)),\"-\",VLOOKUP(B83,'N PMČR 2022'!B:G,6,0))","v":"81."},{"$f":"IF(COUNTIF('N PMČRj 2022'!B:B,B83)=0,\"-\",COUNTIF('N PMČRj 2022'!B:B,B83))","v":35},{"$f":"IF(ISERROR(VLOOKUP(B83,'N PMČRj 2022'!B:G,6,0)),\"-\",VLOOKUP(B83,'N PMČRj 2022'!B:G,6,0))","v":21}]
["N8","-",{"$f":"VLOOKUP(B84,Pilot!A:C,3,0)","v":" "},{"$f":"VLOOKUP(B84,Pilot!A:C,2,0)","v":" "},{"$f":"VLOOKUP(B84,Pilot!A:E,5,0)","v":" "},{"$f":"VLOOKUP(B84,Pilot!A:F,6,0)","v":" "},"N8",null,70,"-",{"$f":"IF(COUNTIF('N PMČR 2022'!B:B,B84)=0,\"-\",COUNTIF('N PMČR 2022'!B:B,B84))","v":5},{"$f":"IF(ISERROR(VLOOKUP(B84,'N PMČR 2022'!B:G,6,0)),\"-\",VLOOKUP(B84,'N PMČR 2022'!B:G,6,0))","v":"81."},{"$f":"IF(COUNTIF('N PMČRj 2022'!B:B,B84)=0,\"-\",COUNTIF('N PMČRj 2022'!B:B,B84))","v":35},{"$f":"IF(ISERROR(VLOOKUP(B84,'N PMČRj 2022'!B:G,6,0)),\"-\",VLOOKUP(B84,'N PMČRj 2022'!B:G,6,0))","v":21}]
["N9","-",{"$f":"VLOOKUP(B85,Pilot!A:C,3,0)","v":" "},{"$f":"VLOOKUP(B85,Pilot!A:C,2,0)","v":" "},{"$f":"VLOOKUP(B85,Pilot!A:E,5,0)","v":" "},{"$f":"VLOOKUP(B85,Pilot!A:F,6,0)","v":" "},"N9",null,70,"-",{"$f":"IF(COUNTIF('N PMČR 2022'!B:B,B85)=0,\"-\",COUNTIF('N PMČR 2022'!B:B,B85))","v":5},{"$f":"IF(ISERROR(VLOOKUP(B85,'N PMČR 2022'!B:G,6,0)),\"-\",VLOOKUP(B85,'N PMČR 2022'!B:G,6,0))","v":"81."},{"$f":"IF(COUNTIF('N PMČRj 2022'!B:B,B85)=0,\"-\",COUNTIF('N PMČRj 2022'!B:B,B85))","v":35},{"$f":"IF(ISERROR(VLOOKUP(B85,'N PMČRj 2022'!B:G,6,0)),\"-\",VLOOKUP(B85,'N PMČRj 2022'!B:G,6,0))","v":21}]
["N10","-",{"$f":"VLOOKUP(B86,Pilot!A:C,3,0)","v":" "},{"$f":"VLOOKUP(B86,Pilot!A:C,2,0)","v":" "},{"$f":"VLOOKUP(B86,Pilot!A:E,5,0)","v":" "},{"$f":"VLOOKUP(B86,Pilot!A:F,6,0)","v":" "},{"$f":"A86","v":"N10"},null,70,"-",{"$f":"IF(COUNTIF('N PMČR 2022'!B:B,B86)=0,\"-\",COUNTIF('N PMČR 2022'!B:B,B86))","v":5},{"$f":"IF(ISERROR(VLOOKUP(B86,'N PMČR 2022'!B:G,6,0)),\"-\",VLOOKUP(B86,'N PMČR 2022'!B:G,6,0))","v":"81."},{"$f":"IF(COUNTIF('N PMČRj 2022'!B:B,B86)=0,\"-\",COUNTIF('N PMČRj 2022'!B:B,B86))","v":35},{"$f":"IF(ISERROR(VLOOKUP(B86,'N PMČRj 2022'!B:G,6,0)),\"-\",VLOOKUP(B86,'N PMČRj 2022'!B:G,6,0))","v":21}]
["6.8.5.4.","další soutěžící může navrhnout PK podle jiných kritérií dle odstavce 9. SŘ"]
["-","-",{"$f":"VLOOKUP(B88,Pilot!A:C,3,0)","v":" "},{"$f":"VLOOKUP(B88,Pilot!A:C,2,0)","v":" "},{"$f":"VLOOKUP(B88,Pilot!A:E,5,0)","v":" "},{"$f":"VLOOKUP(B88,Pilot!A:F,6,0)","v":" "},{"$f":"A88","v":"-"},null,{"$f":"COUNTIF(B:B,B88)","v":70},"-",{"$f":"IF(COUNTIF('N PMČR 2022'!B:B,B88)=0,\"-\",COUNTIF('N PMČR 2022'!B:B,B88))","v":5},{"$f":"IF(ISERROR(VLOOKUP(B88,'N PMČR 2022'!B:G,6,0)),\"-\",VLOOKUP(B88,'N PMČR 2022'!B:G,6,0))","v":"81."},{"$f":"IF(COUNTIF('N PMČRj 2022'!B:B,B88)=0,\"-\",COUNTIF('N PMČRj 2022'!B:B,B88))","v":35},{"$f":"IF(ISERROR(VLOOKUP(B88,'N PMČRj 2022'!B:G,6,0)),\"-\",VLOOKUP(B88,'N PMČRj 2022'!B:G,6,0))","v":21}]
["-","-",{"$f":"VLOOKUP(B89,Pilot!A:C,3,0)","v":" "},{"$f":"VLOOKUP(B89,Pilot!A:C,2,0)","v":" "},{"$f":"VLOOKUP(B89,Pilot!A:E,5,0)","v":" "},{"$f":"VLOOKUP(B89,Pilot!A:F,6,0)","v":" "},{"$f":"A89","v":"-"},null,{"$f":"COUNTIF(B:B,B89)","v":70},"-",{"$f":"IF(COUNTIF('N PMČR 2022'!B:B,B89)=0,\"-\",COUNTIF('N PMČR 2022'!B:B,B89))","v":5},{"$f":"IF(ISERROR(VLOOKUP(B89,'N PMČR 2022'!B:G,6,0)),\"-\",VLOOKUP(B89,'N PMČR 2022'!B:G,6,0))","v":"81."},{"$f":"IF(COUNTIF('N PMČRj 2022'!B:B,B89)=0,\"-\",COUNTIF('N PMČRj 2022'!B:B,B89))","v":35},{"$f":"IF(ISERROR(VLOOKUP(B89,'N PMČRj 2022'!B:G,6,0)),\"-\",VLOOKUP(B89,'N PMČRj 2022'!B:G,6,0))","v":21}]
["-","-",{"$f":"VLOOKUP(B90,Pilot!A:C,3,0)","v":" "},{"$f":"VLOOKUP(B90,Pilot!A:C,2,0)","v":" "},{"$f":"VLOOKUP(B90,Pilot!A:E,5,0)","v":" "},{"$f":"VLOOKUP(B90,Pilot!A:F,6,0)","v":" "},{"$f":"A90","v":"-"},null,{"$f":"COUNTIF(B:B,B90)","v":70},"-",{"$f":"IF(COUNTIF('N PMČR 2022'!B:B,B90)=0,\"-\",COUNTIF('N PMČR 2022'!B:B,B90))","v":5},{"$f":"IF(ISERROR(VLOOKUP(B90,'N PMČR 2022'!B:G,6,0)),\"-\",VLOOKUP(B90,'N PMČR 2022'!B:G,6,0))","v":"81."},{"$f":"IF(COUNTIF('N PMČRj 2022'!B:B,B90)=0,\"-\",COUNTIF('N PMČRj 2022'!B:B,B90))","v":35},{"$f":"IF(ISERROR(VLOOKUP(B90,'N PMČRj 2022'!B:G,6,0)),\"-\",VLOOKUP(B90,'N PMČRj 2022'!B:G,6,0))","v":21}]
["-","-",{"$f":"VLOOKUP(B91,Pilot!A:C,3,0)","v":" "},{"$f":"VLOOKUP(B91,Pilot!A:C,2,0)","v":" "},{"$f":"VLOOKUP(B91,Pilot!A:E,5,0)","v":" "},{"$f":"VLOOKUP(B91,Pilot!A:F,6,0)","v":" "},{"$f":"A91","v":"-"},null,{"$f":"COUNTIF(B:B,B91)","v":70},"-",{"$f":"IF(COUNTIF('N PMČR 2022'!B:B,B91)=0,\"-\",COUNTIF('N PMČR 2022'!B:B,B91))","v":5},{"$f":"IF(ISERROR(VLOOKUP(B91,'N PMČR 2022'!B:G,6,0)),\"-\",VLOOKUP(B91,'N PMČR 2022'!B:G,6,0))","v":"81."},{"$f":"IF(COUNTIF('N PMČRj 2022'!B:B,B91)=0,\"-\",COUNTIF('N PMČRj 2022'!B:B,B91))","v":35},{"$f":"IF(ISERROR(VLOOKUP(B91,'N PMČRj 2022'!B:G,6,0)),\"-\",VLOOKUP(B91,'N PMČRj 2022'!B:G,6,0))","v":21}]
["-","-",{"$f":"VLOOKUP(B92,Pilot!A:C,3,0)","v":" "},{"$f":"VLOOKUP(B92,Pilot!A:C,2,0)","v":" "},{"$f":"VLOOKUP(B92,Pilot!A:E,5,0)","v":" "},{"$f":"VLOOKUP(B92,Pilot!A:F,6,0)","v":" "},{"$f":"A92","v":"-"},null,{"$f":"COUNTIF(B:B,B92)","v":70},"-",{"$f":"IF(COUNTIF('N PMČR 2022'!B:B,B92)=0,\"-\",COUNTIF('N PMČR 2022'!B:B,B92))","v":5},{"$f":"IF(ISERROR(VLOOKUP(B92,'N PMČR 2022'!B:G,6,0)),\"-\",VLOOKUP(B92,'N PMČR 2022'!B:G,6,0))","v":"81."},{"$f":"IF(COUNTIF('N PMČRj 2022'!B:B,B92)=0,\"-\",COUNTIF('N PMČRj 2022'!B:B,B92))","v":35},{"$f":"IF(ISERROR(VLOOKUP(B92,'N PMČRj 2022'!B:G,6,0)),\"-\",VLOOKUP(B92,'N PMČRj 2022'!B:G,6,0))","v":21}]
[]
[]
["Schváleno Plachtařskou komisí AeČR dne xx.yy.2020 v ZZZZ"]

{"sheet":"N PMČRj 2022","index":14,"n_rows":79,"n_cols":19,"rows_kept":79,"cut":false,"hidden":false,"merged":[[17,1,17,7],[31,1,31,7],[73,1,73,7]]}
[null,"Nominace na PMČRj 2022",null,null,null,null,null,"Kontrola:","Počet","Nominace","Počet","Nominace","Počet","Nominace","M:","F:","M+F:",{"$f":"\"Limit juniora \"&Pilot!G1&\":\"","v":"Limit juniora 2022:"},{"$f":"Pilot!I1","v":1997}]
["No","Jméno","Aeroklub","Rok narození","M/F","Junior","No",null,"PMČRj","PMČRj","PMČR","PMČR","PMRg","PMRg",{"$f":"COUNTIF(E:E,\"M\")","v":17},{"$f":"COUNTIF(E:E,\"F\")","v":3},{"$f":"O2+P2","v":20},"S náhradníky"]
["6.7.5.","Nominace na PMČRj (dle SŘ ZM9)",null,null,null,null,null,null,null,null,null,null,null,"Celkem řádně nominováno:",{"$f":"O2-COUNTIF(E53:E57,\"M\")","v":17},{"$f":"P2-COUNTIF(E53:E57,\"F\")","v":3},{"$f":"O3+P3","v":20},"Bez náhradníků"]
[null,"Na PMČRj nominuje PK celkem 40 pilotů/pilotek a stanovený počet náhradníků pro každé nominační kritérium."]
[null,"Na PMČRj jsou nominováni soutěžící splňující statut juniora:"]
[null,"Na PMČRj jsou nominováni soutěžící (splňující statut juniora):"]
["6.7.5.1.","všichni členové reprezentačního výběru ČR (bez náhradníků)"]
[1,"Jan Zapletal",{"$f":"VLOOKUP(B8,Pilot!A:C,3,0)","v":"Břeclav"},{"$f":"VLOOKUP(B8,Pilot!A:C,2,0)","v":1997},{"$f":"VLOOKUP(B8,Pilot!A:E,5,0)","v":"M"},{"$f":"VLOOKUP(B8,Pilot!A:F,6,0)","v":"Junior v roce 2022"},{"$f":"A8","v":1},null,{"$f":"COUNTIF(B:B,B8)","v":1},{"$f":"IF(ISERROR(VLOOKUP(B8,B:G,6,0)),\"-\",VLOOKUP(B8,B:G,6,0))","v":1},{"$f":"IF(COUNTIF('N PMČR 2022'!B:B,B8)=0,\"-\",COUNTIF('N PMČR 2022'!B:B,B8))","v":1},{"$f":"IF(ISERROR(VLOOKUP(B8,'N PMČR 2022'!B:G,6,0)),\"-\",VLOOKUP(B8,'N PMČR 2022'!B:G,6,0))","v":14},{"$f":"IF(COUNTIF('N PMRg 2022'!B:B,B8)=0,\"-\",COUNTIF('N PMRg 2022'!B:B,B8))","v":"-"},{"$f":"IF(ISERROR(VLOOKUP(B8,'N PMRg 2022'!B:G,6,0)),\"-\",VLOOKUP(B8,'N PMRg 2022'!B:G,6,0))","v":"-"}]
[{"$f":"A8+1","v":2},"Jaromir Macoun",{"$f":"VLOOKUP(B9,Pilot!A:C,3,0)","v":"Jičín"},{"$f":"VLOOKUP(B9,Pilot!A:C,2,0)","v":1999},{"$f":"VLOOKUP(B9,Pilot!A:E,5,0)","v":"M"},{"$f":"VLOOKUP(B9,Pilot!A:F,6,0)","v":"Junior v roce 2022"},{"$f":"A9","v":2},null,1,2,{"$f":"IF(COUNTIF('N PMČR 2022'!B:B,B9)=0,\"-\",COUNTIF('N PMČR 2022'!B:B,B9))","v":1},{"$f":"IF(ISERROR(VLOOKUP(B9,'N PMČR 2022'!B:G,6,0)),\"-\",VLOOKUP(B9,'N PMČR 2022'!B:G,6,0))","v":21},{"$f":"IF(COUNTIF('N PMRg 2022'!B:B,B9)=0,\"-\",COUNTIF('N PMRg 2022'!B:B,B9))","v":"-"},{"$f":"IF(ISERROR(VLOOKUP(B9,'N PMRg 2022'!B:G,6,0)),\"-\",VLOOKUP(B9,'N PMRg 2022'!B:G,6,0))","v":"-"}]
[{"$f":"A9+1","v":3},"Lukas Kriz",{"$f":"VLOOKUP(B10,Pilot!A:C,3,0)","v":"Křižanov"},{"$f":"VLOOKUP(B10,Pilot!A:C,2,0)","v":2003},{"$f":"VLOOKUP(B10,Pilot!A:E,5,0)","v":"M"},{"$f":"VLOOKUP(B10,Pilot!A:F,6,0)","v":"Junior v roce 2022"},3,null,1,3,{"$f":"IF(COUNTIF('N PMČR 2022'!B:B,B10)=0,\"-\",COUNTIF('N PMČR 2022'!B:B,B10))","v":1},{"$f":"IF(ISERROR(VLOOKUP(B10,'N PMČR 2022'!B:G,6,0)),\"-\",VLOOKUP(B10,'N PMČR 2022'!B:G,6,0))","v":22},{"$f":"IF(COUNTIF('N PMRg 2022'!B:B,B10)=0,\"-\",COUNTIF('N PMRg 2022'!B:B,B10))","v":"-"},{"$f":"IF(ISERROR(VLOOKUP(B10,'N PMRg 2022'!B:G,6,0)),\"-\",VLOOKUP(B10,'N PMRg 2022'!B:G,6,0))","v":"-"}]
[4,"Vit Morkovsky",{"$f":"VLOOKUP(B11,Pilot!A:C,3,0)","v":"Polička"},{"$f":"VLOOKUP(B11,Pilot!A:C,2,0)","v":2000},{"$f":"VLOOKUP(B11,Pilot!A:E,5,0)","v":"M"},{"$f":"VLOOKUP(B11,Pilot!A:F,6,0)","v":"Junior v roce 2022"},4,null,1,4,{"$f":"IF(COUNTIF('N PMČR 2022'!B:B,B11)=0,\"-\",COUNTIF('N PMČR 2022'!B:B,B11))","v":1},{"$f":"IF(ISERROR(VLOOKUP(B11,'N PMČR 2022'!B:G,6,0)),\"-\",VLOOKUP(B11,'N PMČR 2022'!B:G,6,0))","v":23},{"$f":"IF(COUNTIF('N PMRg 2022'!B:B,B11)=0,\"-\",COUNTIF('N PMRg 2022'!B:B,B11))","v":"-"},{"$f":"IF(ISERROR(VLOOKUP(B11,'N PMRg 2022'!B:G,6,0)),\"-\",VLOOKUP(B11,'N PMRg 2022'!B:G,6,0))","v":"-"}]
[5,"Tereza Koubkova",{"$f":"VLOOKUP(B12,Pilot!A:C,3,0)","v":"Vysoké Mýto"},{"$f":"VLOOKUP(B12,Pilot!A:C,2,0)","v":1999},{"$f":"VLOOKUP(B12,Pilot!A:E,5,0)","v":"F"},{"$f":"VLOOKUP(B12,Pilot!A:F,6,0)","v":"Junior v roce 2022"},5,null,1,5,{"$f":"IF(COUNTIF('N PMČR 2022'!B:B,B12)=0,\"-\",COUNTIF('N PMČR 2022'!B:B,B12))","v":1},{"$f":"IF(ISERROR(VLOOKUP(B12,'N PMČR 2022'!B:G,6,0)),\"-\",VLOOKUP(B12,'N PMČR 2022'!B:G,6,0))","v":25},{"$f":"IF(COUNTIF('N PMRg 2022'!B:B,B12)=0,\"-\",COUNTIF('N PMRg 2022'!B:B,B12))","v":"-"},{"$f":"IF(ISERROR(VLOOKUP(B12,'N PMRg 2022'!B:G,6,0)),\"-\",VLOOKUP(B12,'N PMRg 2022'!B:G,6,0))","v":"-"}]
[6,"Ivan Tvrdik",{"$f":"VLOOKUP(B13,Pilot!A:C,3,0)","v":"Letňany"},{"$f":"VLOOKUP(B13,Pilot!A:C,2,0)","v":1997},{"$f":"VLOOKUP(B13,Pilot!A:E,5,0)","v":"M"},{"$f":"VLOOKUP(B13,Pilot!A:F,6,0)","v":"Junior v roce 2022"},6,null,1,6,{"$f":"IF(COUNTIF('N PMČR 2022'!B:B,B13)=0,\"-\",COUNTIF('N PMČR 2022'!B:B,B13))","v":1},{"$f":"IF(ISERROR(VLOOKUP(B13,'N PMČR 2022'!B:G,6,0)),\"-\",VLOOKUP(B13,'N PMČR 2022'!B:G,6,0))","v":28},{"$f":"IF(COUNTIF('N PMRg 2022'!B:B,B13)=0,\"-\",COUNTIF('N PMRg 2022'!B:B,B13))","v":"-"},{"$f":"IF(ISERROR(VLOOKUP(B13,'N PMRg 2022'!B:G,6,0)),\"-\",VLOOKUP(B13,'N PMRg 2022'!B:G,6,0))","v":"-"}]
[7,"Michaela Krizova",{"$f":"VLOOKUP(B14,Pilot!A:C,3,0)","v":"Přibyslav"},{"$f":"VLOOKUP(B14,Pilot!A:C,2,0)","v":2001},{"$f":"VLOOKUP(B14,Pilot!A:E,5,0)","v":"F"},{"$f":"VLOOKUP(B14,Pilot!A:F,6,0)","v":"Junior v roce 2022"},7,null,1,7,{"$f":"IF(COUNTIF('N PMČR 2022'!B:B,B14)=0,\"-\",COUNTIF('N PMČR 2022'!B:B,B14))","v":1},{"$f":"IF(ISERROR(VLOOKUP(B14,'N PMČR 2022'!B:G,6,0)),\"-\",VLOOKUP(B14,'N PMČR 2022'!B:G,6,0))","v":32},{"$f":"IF(COUNTIF('N PMRg 2022'!B:B,B14)=0,\"-\",COUNTIF('N PMRg 2022'!B:B,B14))","v":"-"},{"$f":"IF(ISERROR(VLOOKUP(B14,'N PMRg 2022'!B:G,6,0)),\"-\",VLOOKUP(B14,'N PMRg 2022'!B:G,6,0))","v":"-"}]
["6.7.5.2.","všichni soutěžící - účastníci posledního platného PMČR (bez náhradníků)"]
[null,"PMČR 2021 - Tábor - Klub, Kombi 15m, Kombi Open"]
[{"$f":"MAX(A8:A15)+1","v":8},"Michaela Rendlova",{"$f":"VLOOKUP(B17,Pilot!A:C,3,0)","v":"Toužim"},{"$f":"VLOOKUP(B17,Pilot!A:C,2,0)","v":2004},{"$f":"VLOOKUP(B17,Pilot!A:E,5,0)","v":"F"},{"$f":"VLOOKUP(B17,Pilot!A:F,6,0)","v":"Junior v roce 2022"},{"$f":"A17","v":8},null,{"$f":"COUNTIF(B:B,B17)","v":1},{"$f":"IF(ISERROR(VLOOKUP(B17,B:G,6,0)),\"-\",VLOOKUP(B17,B:G,6,0))","v":8},{"$f":"IF(COUNTIF('N PMČR 2022'!B:B,B17)=0,\"-\",COUNTIF('N PMČR 2022'!B:B,B17))","v":1},{"$f":"IF(ISERROR(VLOOKUP(B17,'N PMČR 2022'!B:G,6,0)),\"-\",VLOOKUP(B17,'N PMČR 2022'!B:G,6,0))","v":53},{"$f":"IF(COUNTIF('N PMRg 2022'!B:B,B17)=0,\"-\",COUNTIF('N PMRg 2022'!B:B,B17))","v":"-"},{"$f":"IF(ISERROR(VLOOKUP(B17,'N PMRg 2022'!B:G,6,0)),\"-\",VLOOKUP(B17,'N PMRg 2022'!B:G,6,0))","v":"-"}]
["6.7.5.3.","další soutěžící, kteří se umístili v konečném pořadí na posledním platném PMČRj ve své třídě nejhůře v první polovině celkového pořadí pilotů ČR (bez náhradníků)"]
[null,"PMČRj 2021 - Moravská Třebová - Klub"]
[{"$f":"MAX(A8:A19)+1","v":9},"Jan Stastny",{"$f":"VLOOKUP(B20,Pilot!A:C,3,0)","v":"Medlánky"},{"$f":"VLOOKUP(B20,Pilot!A:C,2,0)","v":2003},{"$f":"VLOOKUP(B20,Pilot!A:E,5,0)","v":"M"},{"$f":"VLOOKUP(B20,Pilot!A:F,6,0)","v":"Junior v roce 2022"},{"$f":"A20","v":9},null,{"$f":"COUNTIF(B:B,B20)","v":1},{"$f":"IF(ISERROR(VLOOKUP(B20,B:G,6,0)),\"-\",VLOOKUP(B20,B:G,6,0))","v":9},{"$f":"IF(COUNTIF('N PMČR 2022'!B:B,B20)=0,\"-\",COUNTIF('N PMČR 2022'!B:B,B20))","v":1},{"$f":"IF(ISERROR(VLOOKUP(B20,'N PMČR 2022'!B:G,6,0)),\"-\",VLOOKUP(B20,'N PMČR 2022'!B:G,6,0))","v":42},{"$f":"IF(COUNTIF('N PMRg 2022'!B:B,B20)=0,\"-\",COUNTIF('N PMRg 2022'!B:B,B20))","v":"-"},{"$f":"IF(ISERROR(VLOOKUP(B20,'N PMRg 2022'!B:G,6,0)),\"-\",VLOOKUP(B20,'N PMRg 2022'!B:G,6,0))","v":"-"}]
[{"$f":"A20+1","v":10},"Vladimir Hammer",{"$f":"VLOOKUP(B21,Pilot!A:C,3,0)","v":"Letkov"},{"$f":"VLOOKUP(B21,Pilot!A:C,2,0)","v":2000},{"$f":"VLOOKUP(B21,Pilot!A:E,5,0)","v":"M"},{"$f":"VLOOKUP(B21,Pilot!A:F,6,0)","v":"Junior v roce 2022"},10,null,1,10,{"$f":"IF(COUNTIF('N PMČR 2022'!B:B,B21)=0,\"-\",COUNTIF('N PMČR 2022'!B:B,B21))","v":1},{"$f":"IF(ISERROR(VLOOKUP(B21,'N PMČR 2022'!B:G,6,0)),\"-\",VLOOKUP(B21,'N PMČR 2022'!B:G,6,0))","v":43},{"$f":"IF(COUNTIF('N PMRg 2022'!B:B,B21)=0,\"-\",COUNTIF('N PMRg 2022'!B:B,B21))","v":"-"},{"$f":"IF(ISERROR(VLOOKUP(B21,'N PMRg 2022'!B:G,6,0)),\"-\",VLOOKUP(B21,'N PMRg 2022'!B:G,6,0))","v":"-"}]
[{"$f":"A21+1","v":11},"Tomas Hynek",{"$f":"VLOOKUP(B22,Pilot!A:C,3,0)","v":"Dvůr Králové"},{"$f":"VLOOKUP(B22,Pilot!A:C,2,0)","v":2002},{"$f":"VLOOKUP(B22,Pilot!A:E,5,0)","v":"M"},{"$f":"VLOOKUP(B22,Pilot!A:F,6,0)","v":"Junior v roce 2022"},11,null,1,11,{"$f":"IF(COUNTIF('N PMČR 2022'!B:B,B22)=0,\"-\",COUNTIF('N PMČR 2022'!B:B,B22))","v":1},{"$f":"IF(ISERROR(VLOOKUP(B22,'N PMČR 2022'!B:G,6,0)),\"-\",VLOOKUP(B22,'N PMČR 2022'!B:G,6,0))","v":44},{"$f":"IF(COUNTIF('N PMRg 2022'!B:B,B22)=0,\"-\",COUNTIF('N PMRg 2022'!B:B,B22))","v":"-"},{"$f":"IF(ISERROR(VLOOKUP(B22,'N PMRg 2022'!B:G,6,0)),\"-\",VLOOKUP(B22,'N PMRg 2022'!B:G,6,0))","v":"-"}]
[12,"Tomas Hulmak",{"$f":"VLOOKUP(B23,Pilot!A:C,3,0)","v":"Hosín"},{"$f":"VLOOKUP(B23,Pilot!A:C,2,0)","v":1999},{"$f":"VLOOKUP(B23,Pilot!A:E,5,0)","v":"M"},{"$f":"VLOOKUP(B23,Pilot!A:F,6,0)","v":"Junior v roce 2022"},{"$f":"A23","v":12},null,1,12,{"$f":"IF(COUNTIF('N PMČR 2022'!B:B,B23)=0,\"-\",COUNTIF('N PMČR 2022'!B:B,B23))","v":1},{"$f":"IF(ISERROR(VLOOKUP(B23,'N PMČR 2022'!B:G,6,0)),\"-\",VLOOKUP(B23,'N PMČR 2022'!B:G,6,0))","v":45},{"$f":"IF(COUNTIF('N PMRg 2022'!B:B,B23)=0,\"-\",COUNTIF('N PMRg 2022'!B:B,B23))","v":"-"},{"$f":"IF(ISERROR(VLOOKUP(B23,'N PMRg 2022'!B:G,6,0)),\"-\",VLOOKUP(B23,'N PMRg 2022'!B:G,6,0))","v":"-"}]
[13,"Lukas Volek",{"$f":"VLOOKUP(B24,Pilot!A:C,3,0)","v":"Hodkovice"},{"$f":"VLOOKUP(B24,Pilot!A:C,2,0)","v":2004},{"$f":"VLOOKUP(B24,Pilot!A:E,5,0)","v":"M"},{"$f":"VLOOKUP(B24,Pilot!A:F,6,0)","v":"Junior v roce 2022"},13,null,1,13,{"$f":"IF(COUNTIF('N PMČR 2022'!B:B,B24)=0,\"-\",COUNTIF('N PMČR 2022'!B:B,B24))","v":1},{"$f":"IF(ISERROR(VLOOKUP(B24,'N PMČR 2022'!B:G,6,0)),\"-\",VLOOKUP(B24,'N PMČR 2022'!B:G,6,0))","v":46},{"$f":"IF(COUNTIF('N PMRg 2022'!B:B,B24)=0,\"-\",COUNTIF('N PMRg 2022'!B:B,B24))","v":"-"},{"$f":"IF(ISERROR(VLOOKUP(B24,'N PMRg 2022'!B:G,6,0)),\"-\",VLOOKUP(B24,'N PMRg 2022'!B:G,6,0))","v":"-"}]
[14,"Petr Havelka",{"$f":"VLOOKUP(B25,Pilot!A:C,3,0)","v":"Zbraslavice"},{"$f":"VLOOKUP(B25,Pilot!A:C,2,0)","v":1997},{"$f":"VLOOKUP(B25,Pilot!A:E,5,0)","v":"M"},{"$f":"VLOOKUP(B25,Pilot!A:F,6,0)","v":"Junior v roce 2022"},{"$f":"A25","v":14},null,1,14,{"$f":"IF(COUNTIF('N PMČR 2022'!B:B,B25)=0,\"-\",COUNTIF('N PMČR 2022'!B:B,B25))","v":1},{"$f":"IF(ISERROR(VLOOKUP(B25,'N PMČR 2022'!B:G,6,0)),\"-\",VLOOKUP(B25,'N PMČR 2022'!B:G,6,0))","v":"N1"},{"$f":"IF(COUNTIF('N PMRg 2022'!B:B,B25)=0,\"-\",COUNTIF('N PMRg 2022'!B:B,B25))","v":"-"},{"$f":"IF(ISERROR(VLOOKUP(B25,'N PMRg 2022'!B:G,6,0)),\"-\",VLOOKUP(B25,'N PMRg 2022'!B:G,6,0))","v":"-"}]
[15,"Tomas Moravec",{"$f":"VLOOKUP(B26,Pilot!A:C,3,0)","v":"Žamberk"},{"$f":"VLOOKUP(B26,Pilot!A:C,2,0)","v":2000},{"$f":"VLOOKUP(B26,Pilot!A:E,5,0)","v":"M"},{"$f":"VLOOKUP(B26,Pilot!A:F,6,0)","v":"Junior v roce 2022"},15,null,1,15,{"$f":"IF(COUNTIF('N PMČR 2022'!B:B,B26)=0,\"-\",COUNTIF('N PMČR 2022'!B:B,B26))","v":1},{"$f":"IF(ISERROR(VLOOKUP(B26,'N PMČR 2022'!B:G,6,0)),\"-\",VLOOKUP(B26,'N PMČR 2022'!B:G,6,0))","v":"N2"},{"$f":"IF(COUNTIF('N PMRg 2022'!B:B,B26)=0,\"-\",COUNTIF('N PMRg 2022'!B:B,B26))","v":"-"},{"$f":"IF(ISERROR(VLOOKUP(B26,'N PMRg 2022'!B:G,6,0)),\"-\",VLOOKUP(B26,'N PMRg 2022'!B:G,6,0))","v":"-"}]
[16,"Lukas Maly",{"$f":"VLOOKUP(B27,Pilot!A:C,3,0)","v":"Vysoké Mýto"},{"$f":"VLOOKUP(B27,Pilot!A:C,2,0)","v":1998},{"$f":"VLOOKUP(B27,Pilot!A:E,5,0)","v":"M"},{"$f":"VLOOKUP(B27,Pilot!A:F,6,0)","v":"Junior v roce 2022"},16,null,1,16,{"$f":"IF(COUNTIF('N PMČR 2022'!B:B,B27)=0,\"-\",COUNTIF('N PMČR 2022'!B:B,B27))","v":1},{"$f":"IF(ISERROR(VLOOKUP(B27,'N PMČR 2022'!B:G,6,0)),\"-\",VLOOKUP(B27,'N PMČR 2022'!B:G,6,0))","v":"N3"},{"$f":"IF(COUNTIF('N PMRg 2022'!B:B,B27)=0,\"-\",COUNTIF('N PMRg 2022'!B:B,B27))","v":"-"},{"$f":"IF(ISERROR(VLOOKUP(B27,'N PMRg 2022'!B:G,6,0)),\"-\",VLOOKUP(B27,'N PMRg 2022'!B:G,6,0))","v":"-"}]
[17,"Vit Tvrdik",{"$f":"VLOOKUP(B28,Pilot!A:C,3,0)","v":"Letňany"},{"$f":"VLOOKUP(B28,Pilot!A:C,2,0)","v":2000},{"$f":"VLOOKUP(B28,Pilot!A:E,5,0)","v":"M"},{"$f":"VLOOKUP(B28,Pilot!A:F,6,0)","v":"Junior v roce 2022"},17,null,1,17,{"$f":"IF(COUNTIF('N PMČR 2022'!B:B,B28)=0,\"-\",COUNTIF('N PMČR 2022'!B:B,B28))","v":1},{"$f":"IF(ISERROR(VLOOKUP(B28,'N PMČR 2022'!B:G,6,0)),\"-\",VLOOKUP(B28,'N PMČR 2022'!B:G,6,0))","v":"N4"},{"$f":"IF(COUNTIF('N PMRg 2022'!B:B,B28)=0,\"-\",COUNTIF('N PMRg 2022'!B:B,B28))","v":"-"},{"$f":"IF(ISERROR(VLOOKUP(B28,'N PMRg 2022'!B:G,6,0)),\"-\",VLOOKUP(B28,'N PMRg 2022'!B:G,6,0))","v":"-"}]
[18,"Ondrej Dvorak 98",{"$f":"VLOOKUP(B29,Pilot!A:C,3,0)","v":"Mladá Boleslav"},{"$f":"VLOOKUP(B29,Pilot!A:C,2,0)","v":1998},{"$f":"VLOOKUP(B29,Pilot!A:E,5,0)","v":"M"},{"$f":"VLOOKUP(B29,Pilot!A:F,6,0)","v":"Junior v roce 2022"},18,null,1,18,{"$f":"IF(COUNTIF('N PMČR 2022'!B:B,B29)=0,\"-\",COUNTIF('N PMČR 2022'!B:B,B29))","v":1},{"$f":"IF(ISERROR(VLOOKUP(B29,'N PMČR 2022'!B:G,6,0)),\"-\",VLOOKUP(B29,'N PMČR 2022'!B:G,6,0))","v":"N5"},{"$f":"IF(COUNTIF('N PMRg 2022'!B:B,B29)=0,\"-\",COUNTIF('N PMRg 2022'!B:B,B29))","v":"-"},{"$f":"IF(ISERROR(VLOOKUP(B29,'N PMRg 2022'!B:G,6,0)),\"-\",VLOOKUP(B29,'N PMRg 2022'!B:G,6,0))","v":"-"}]
[19,"Jan Cibulka",{"$f":"VLOOKUP(B30,Pilot!A:C,3,0)","v":"Letňany"},{"$f":"VLOOKUP(B30,Pilot!A:C,2,0)","v":2002},{"$f":"VLOOKUP(B30,Pilot!A:E,5,0)","v":"M"},{"$f":"VLOOKUP(B30,Pilot!A:F,6,0)","v":"Junior v roce 2022"},19,null,1,19,{"$f":"IF(COUNTIF('N PMČR 2022'!B:B,B30)=0,\"-\",COUNTIF('N PMČR 2022'!B:B,B30))","v":"-"},{"$f":"IF(ISERROR(VLOOKUP(B30,'N PMČR 2022'!B:G,6,0)),\"-\",VLOOKUP(B30,'N PMČR 2022'!B:G,6,0))","v":"-"},{"$f":"IF(COUNTIF('N PMRg 2022'!B:B,B30)=0,\"-\",COUNTIF('N PMRg 2022'!B:B,B30))","v":"-"},{"$f":"IF(ISERROR(VLOOKUP(B30,'N PMRg 2022'!B:G,6,0)),\"-\",VLOOKUP(B30,'N PMRg 2022'!B:G,6,0))","v":"-"}]
[20,"Petr Hosek",{"$f":"VLOOKUP(B31,Pilot!A:C,3,0)","v":"Beroun"},{"$f":"VLOOKUP(B31,Pilot!A:C,2,0)","v":2001},{"$f":"VLOOKUP(B31,Pilot!A:E,5,0)","v":"M"},{"$f":"VLOOKUP(B31,Pilot!A:F,6,0)","v":"Junior v roce 2022"},20,null,1,20,{"$f":"IF(COUNTIF('N PMČR 2022'!B:B,B31)=0,\"-\",COUNTIF('N PMČR 2022'!B:B,B31))","v":"-"},{"$f":"IF(ISERROR(VLOOKUP(B31,'N PMČR 2022'!B:G,6,0)),\"-\",VLOOKUP(B31,'N PMČR 2022'!B:G,6,0))","v":"-"},{"$f":"IF(COUNTIF('N PMRg 2022'!B:B,B31)=0,\"-\",COUNTIF('N PMRg 2022'!B:B,B31))","v":"-"},{"$f":"IF(ISERROR(VLOOKUP(B31,'N PMRg 2022'!B:G,6,0)),\"-\",VLOOKUP(B31,'N PMRg 2022'!B:G,6,0))","v":"-"}]
["6.7.5.4.","ostatní soutěžící nominuje PK v pořadí podle umístění v CPS-INT předchozího roku do naplnění celkového počtu 40 nominovaných (+ 5 náhradníků)"]
[{"$f":"MAX(A20:A32)+1","v":21},"-",{"$f":"VLOOKUP(B33,Pilot!A:C,3,0)","v":" "},{"$f":"VLOOKUP(B33,Pilot!A:C,2,0)","v":" "},{"$f":"VLOOKUP(B33,Pilot!A:E,5,0)","v":" "},{"$f":"VLOOKUP(B33,Pilot!A:F,6,0)","v":" "},{"$f":"A33","v":21},null,{"$f":"COUNTIF(B:B,B33)","v":35},{"$f":"IF(ISERROR(VLOOKUP(B33,B:G,6,0)),\"-\",VLOOKUP(B33,B:G,6,0))","v":21},{"$f":"IF(COUNTIF('N PMČR 2022'!B:B,B33)=0,\"-\",COUNTIF('N PMČR 2022'!B:B,B33))","v":5},{"$f":"IF(ISERROR(VLOOKUP(B33,'N PMČR 2022'!B:G,6,0)),\"-\",VLOOKUP(B33,'N PMČR 2022'!B:G,6,0))","v":"81."},{"$f":"IF(COUNTIF('N PMRg 2022'!B:B,B33)=0,\"-\",COUNTIF('N PMRg 2022'!B:B,B33))","v":70},{"$f":"IF(ISERROR(VLOOKUP(B33,'N PMRg 2022'!B:G,6,0)),\"-\",VLOOKUP(B33,'N PMRg 2022'!B:G,6,0))","v":"-"}]
[{"$f":"A33+1","v":22},"-",{"$f":"VLOOKUP(B34,Pilot!A:C,3,0)","v":" "},{"$f":"VLOOKUP(B34,Pilot!A:C,2,0)","v":" "},{"$f":"VLOOKUP(B34,Pilot!A:E,5,0)","v":" "},{"$f":"VLOOKUP(B34,Pilot!A:F,6,0)","v":" "},22,null,35,21,{"$f":"IF(COUNTIF('N PMČR 2022'!B:B,B34)=0,\"-\",COUNTIF('N PMČR 2022'!B:B,B34))","v":5},{"$f":"IF(ISERROR(VLOOKUP(B34,'N PMČR 2022'!B:G,6,0)),\"-\",VLOOKUP(B34,'N PMČR 2022'!B:G,6,0))","v":"81."},{"$f":"IF(COUNTIF('N PMRg 2022'!B:B,B34)=0,\"-\",COUNTIF('N PMRg 2022'!B:B,B34))","v":70},{"$f":"IF(ISERROR(VLOOKUP(B34,'N PMRg 2022'!B:G,6,0)),\"-\",VLOOKUP(B34,'N PMRg 2022'!B:G,6,0))","v":"-"}]
[{"$f":"A34+1","v":23},"-",{"$f":"VLOOKUP(B35,Pilot!A:C,3,0)","v":" "},{"$f":"VLOOKUP(B35,Pilot!A:C,2,0)","v":" "},{"$f":"VLOOKUP(B35,Pilot!A:E,5,0)","v":" "},{"$f":"VLOOKUP(B35,Pilot!A:F,6,0)","v":" "},23,null,35,21,{"$f":"IF(COUNTIF('N PMČR 2022'!B:B,B35)=0,\"-\",COUNTIF('N PMČR 2022'!B:B,B35))","v":5},{"$f":"IF(ISERROR(VLOOKUP(B35,'N PMČR 2022'!B:G,6,0)),\"-\",VLOOKUP(B35,'N PMČR 2022'!B:G,6,0))","v":"81."},{"$f":"IF(COUNTIF('N PMRg 2022'!B:B,B35)=0,\"-\",COUNTIF('N PMRg 2022'!B:B,B35))","v":70},{"$f":"IF(ISERROR(VLOOKUP(B35,'N PMRg 2022'!B:G,6,0)),\"-\",VLOOKUP(B35,'N PMRg 2022'!B:G,6,0))","v":"-"}]
[24,"-",{"$f":"VLOOKUP(B36,Pilot!A:C,3,0)","v":" "},{"$f":"VLOOKUP(B36,Pilot!A:C,2,0)","v":" "},{"$f":"VLOOKUP(B36,Pilot!A:E,5,0)","v":" "},{"$f":"VLOOKUP(B36,Pilot!A:F,6,0)","v":" "},24,null,35,21,{"$f":"IF(COUNTIF('N PMČR 2022'!B:B,B36)=0,\"-\",COUNTIF('N PMČR 2022'!B:B,B36))","v":5},{"$f":"IF(ISERROR(VLOOKUP(B36,'N PMČR 2022'!B:G,6,0)),\"-\",VLOOKUP(B36,'N PMČR 2022'!B:G,6,0))","v":"81."},{"$f":"IF(COUNTIF('N PMRg 2022'!B:B,B36)=0,\"-\",COUNTIF('N PMRg 2022'!B:B,B36))","v":70},{"$f":"IF(ISERROR(VLOOKUP(B36,'N PMRg 2022'!B:G,6,0)),\"-\",VLOOKUP(B36,'N PMRg 2022'!B:G,6,0))","v":"-"}]
[25,"-",{"$f":"VLOOKUP(B37,Pilot!A:C,3,0)","v":" "},{"$f":"VLOOKUP(B37,Pilot!A:C,2,0)","v":" "},{"$f":"VLOOKUP(B37,Pilot!A:E,5,0)","v":" "},{"$f":"VLOOKUP(B37,Pilot!A:F,6,0)","v":" "},25,null,35,21,{"$f":"IF(COUNTIF('N PMČR 2022'!B:B,B37)=0,\"-\",COUNTIF('N PMČR 2022'!B:B,B37))","v":5},{"$f":"IF(ISERROR(VLOOKUP(B37,'N PMČR 2022'!B:G,6,0)),\"-\",VLOOKUP(B37,'N PMČR 2022'!B:G,6,0))","v":"81."},{"$f":"IF(COUNTIF('N PMRg 2022'!B:B,B37)=0,\"-\",COUNTIF('N PMRg 2022'!B:B,B37))","v":70},{"$f":"IF(ISERROR(VLOOKUP(B37,'N PMRg 2022'!B:G,6,0)),\"-\",VLOOKUP(B37,'N PMRg 2022'!B:G,6,0))","v":"-"}]
[26,"-",{"$f":"VLOOKUP(B38,Pilot!A:C,3,0)","v":" "},{"$f":"VLOOKUP(B38,Pilot!A:C,2,0)","v":" "},{"$f":"VLOOKUP(B38,Pilot!A:E,5,0)","v":" "},{"$f":"VLOOKUP(B38,Pilot!A:F,6,0)","v":" "},26,null,35,21,{"$f":"IF(COUNTIF('N PMČR 2022'!B:B,B38)=0,\"-\",COUNTIF('N PMČR 2022'!B:B,B38))","v":5},{"$f":"IF(ISERROR(VLOOKUP(B38,'N PMČR 2022'!B:G,6,0)),\"-\",VLOOKUP(B38,'N PMČR 2022'!B:G,6,0))","v":"81."},{"$f":"IF(COUNTIF('N PMRg 2022'!B:B,B38)=0,\"-\",COUNTIF('N PMRg 2022'!B:B,B38))","v":70},{"$f":"IF(ISERROR(VLOOKUP(B38,'N PMRg 2022'!B:G,6,0)),\"-\",VLOOKUP(B38,'N PMRg 2022'!B:G,6,0))","v":"-"}]
[27,"-",{"$f":"VLOOKUP(B39,Pilot!A:C,3,0)","v":" "},{"$f":"VLOOKUP(B39,Pilot!A:C,2,0)","v":" "},{"$f":"VLOOKUP(B39,Pilot!A:E,5,0)","v":" "},{"$f":"VLOOKUP(B39,Pilot!A:F,6,0)","v":" "},27,null,35,21,{"$f":"IF(COUNTIF('N PMČR 2022'!B:B,B39)=0,\"-\",COUNTIF('N PMČR 2022'!B:B,B39))","v":5},{"$f":"IF(ISERROR(VLOOKUP(B39,'N PMČR 2022'!B:G,6,0)),\"-\",VLOOKUP(B39,'N PMČR 2022'!B:G,6,0))","v":"81."},{"$f":"IF(COUNTIF('N PMRg 2022'!B:B,B39)=0,\"-\",COUNTIF('N PMRg 2022'!B:B,B39))","v":70},{"$f":"IF(ISERROR(VLOOKUP(B39,'N PMRg 2022'!B:G,6,0)),\"-\",VLOOKUP(B39,'N PMRg 2022'!B:G,6,0))","v":"-"}]
[28,"-",{"$f":"VLOOKUP(B40,Pilot!A:C,3,0)","v":" "},{"$f":"VLOOKUP(B40,Pilot!A:C,2,0)","v":" "},{"$f":"VLOOKUP(B40,Pilot!A:E,5,0)","v":" "},{"$f":"VLOOKUP(B40,Pilot!A:F,6,0)","v":" "},28,null,35,21,{"$f":"IF(COUNTIF('N PMČR 2022'!B:B,B40)=0,\"-\",COUNTIF('N PMČR 2022'!B:B,B40))","v":5},{"$f":"IF(ISERROR(VLOOKUP(B40,'N PMČR 2022'!B:G,6,0)),\"-\",VLOOKUP(B40,'N PMČR 2022'!B:G,6,0))","v":"81."},{"$f":"IF(COUNTIF('N PMRg 2022'!B:B,B40)=0,\"-\",COUNTIF('N PMRg 2022'!B:B,B40))","v":70},{"$f":"IF(ISERROR(VLOOKUP(B40,'N PMRg 2022'!B:G,6,0)),\"-\",VLOOKUP(B40,'N PMRg 2022'!B:G,6,0))","v":"-"}]
[29,"-",{"$f":"VLOOKUP(B41,Pilot!A:C,3,0)","v":" "},{"$f":"VLOOKUP(B41,Pilot!A:C,2,0)","v":" "},{"$f":"VLOOKUP(B41,Pilot!A:E,5,0)","v":" "},{"$f":"VLOOKUP(B41,Pilot!A:F,6,0)","v":" "},29,null,35,21,{"$f":"IF(COUNTIF('N PMČR 2022'!B:B,B41)=0,\"-\",COUNTIF('N PMČR 2022'!B:B,B41))","v":5},{"$f":"IF(ISERROR(VLOOKUP(B41,'N PMČR 2022'!B:G,6,0)),\"-\",VLOOKUP(B41,'N PMČR 2022'!B:G,6,0))","v":"81."},{"$f":"IF(COUNTIF('N PMRg 2022'!B:B,B41)=0,\"-\",COUNTIF('N PMRg 2022'!B:B,B41))","v":70},{"$f":"IF(ISERROR(VLOOKUP(B41,'N PMRg 2022'!B:G,6,0)),\"-\",VLOOKUP(B41,'N PMRg 2022'!B:G,6,0))","v":"-"}]
[30,"-",{"$f":"VLOOKUP(B42,Pilot!A:C,3,0)","v":" "},{"$f":"VLOOKUP(B42,Pilot!A:C,2,0)","v":" "},{"$f":"VLOOKUP(B42,Pilot!A:E,5,0)","v":" "},{"$f":"VLOOKUP(B42,Pilot!A:F,6,0)","v":" "},30,null,35,21,{"$f":"IF(COUNTIF('N PMČR 2022'!B:B,B42)=0,\"-\",COUNTIF('N PMČR 2022'!B:B,B42))","v":5},{"$f":"IF(ISERROR(VLOOKUP(B42,'N PMČR 2022'!B:G,6,0)),\"-\",VLOOKUP(B42,'N PMČR 2022'!B:G,6,0))","v":"81."},{"$f":"IF(COUNTIF('N PMRg 2022'!B:B,B42)=0,\"-\",COUNTIF('N PMRg 2022'!B:B,B42))","v":70},{"$f":"IF(ISERROR(VLOOKUP(B42,'N PMRg 2022'!B:G,6,0)),\"-\",VLOOKUP(B42,'N PMRg 2022'!B:G,6,0))","v":"-"}]
[31,"-",{"$f":"VLOOKUP(B43,Pilot!A:C,3,0)","v":" "},{"$f":"VLOOKUP(B43,Pilot!A:C,2,0)","v":" "},{"$f":"VLOOKUP(B43,Pilot!A:E,5,0)","v":" "},{"$f":"VLOOKUP(B43,Pilot!A:F,6,0)","v":" "},{"$f":"A43","v":31},null,35,21,{"$f":"IF(COUNTIF('N PMČR 2022'!B:B,B43)=0,\"-\",COUNTIF('N PMČR 2022'!B:B,B43))","v":5},{"$f":"IF(ISERROR(VLOOKUP(B43,'N PMČR 2022'!B:G,6,0)),\"-\",VLOOKUP(B43,'N PMČR 2022'!B:G,6,0))","v":"81."},{"$f":"IF(COUNTIF('N PMRg 2022'!B:B,B43)=0,\"-\",COUNTIF('N PMRg 2022'!B:B,B43))","v":70},{"$f":"IF(ISERROR(VLOOKUP(B43,'N PMRg 2022'!B:G,6,0)),\"-\",VLOOKUP(B43,'N PMRg 2022'!B:G,6,0))","v":"-"}]
[32,"-",{"$f":"VLOOKUP(B44,Pilot!A:C,3,0)","v":" "},{"$f":"VLOOKUP(B44,Pilot!A:C,2,0)","v":" "},{"$f":"VLOOKUP(B44,Pilot!A:E,5,0)","v":" "},{"$f":"VLOOKUP(B44,Pilot!A:F,6,0)","v":" "},32,null,35,21,{"$f":"IF(COUNTIF('N PMČR 2022'!B:B,B44)=0,\"-\",COUNTIF('N PMČR 2022'!B:B,B44))","v":5},{"$f":"IF(ISERROR(VLOOKUP(B44,'N PMČR 2022'!B:G,6,0)),\"-\",VLOOKUP(B44,'N PMČR 2022'!B:G,6,0))","v":"81."},{"$f":"IF(COUNTIF('N PMRg 2022'!B:B,B44)=0,\"-\",COUNTIF('N PMRg 2022'!B:B,B44))","v":70},{"$f":"IF(ISERROR(VLOOKUP(B44,'N PMRg 2022'!B:G,6,0)),\"-\",VLOOKUP(B44,'N PMRg 2022'!B:G,6,0))","v":"-"}]
[33,"-",{"$f":"VLOOKUP(B45,Pilot!A:C,3,0)","v":" "},{"$f":"VLOOKUP(B45,Pilot!A:C,2,0)","v":" "},{"$f":"VLOOKUP(B45,Pilot!A:E,5,0)","v":" "},{"$f":"VLOOKUP(B45,Pilot!A:F,6,0)","v":" "},33,null,35,21,{"$f":"IF(COUNTIF('N PMČR 2022'!B:B,B45)=0,\"-\",COUNTIF('N PMČR 2022'!B:B,B45))","v":5},{"$f":"IF(ISERROR(VLOOKUP(B45,'N PMČR 2022'!B:G,6,0)),\"-\",VLOOKUP(B45,'N PMČR 2022'!B:G,6,0))","v":"81."},{"$f":"IF(COUNTIF('N PMRg 2022'!B:B,B45)=0,\"-\",COUNTIF('N PMRg 2022'!B:B,B45))","v":70},{"$f":"IF(ISERROR(VLOOKUP(B45,'N PMRg 2022'!B:G,6,0)),\"-\",VLOOKUP(B45,'N PMRg 2022'!B:G,6,0))","v":"-"}]
[34,"-",{"$f":"VLOOKUP(B46,Pilot!A:C,3,0)","v":" "},{"$f":"VLOOKUP(B46,Pilot!A:C,2,0)","v":" "},{"$f":"VLOOKUP(B46,Pilot!A:E,5,0)","v":" "},{"$f":"VLOOKUP(B46,Pilot!A:F,6,0)","v":" "},34,null,35,21,{"$f":"IF(COUNTIF('N PMČR 2022'!B:B,B46)=0,\"-\",COUNTIF('N PMČR 2022'!B:B,B46))","v":5},{"$f":"IF(ISERROR(VLOOKUP(B46,'N PMČR 2022'!B:G,6,0)),\"-\",VLOOKUP(B46,'N PMČR 2022'!B:G,6,0))","v":"81."},{"$f":"IF(COUNTIF('N PMRg 2022'!B:B,B46)=0,\"-\",COUNTIF('N PMRg 2022'!B:B,B46))","v":70},{"$f":"IF(ISERROR(VLOOKUP(B46,'N PMRg 2022'!B:G,6,0)),\"-\",VLOOKUP(B46,'N PMRg 2022'!B:G,6,0))","v":"-"}]
[35,"-",{"$f":"VLOOKUP(B47,Pilot!A:C,3,0)","v":" "},{"$f":"VLOOKUP(B47,Pilot!A:C,2,0)","v":" "},{"$f":"VLOOKUP(B47,Pilot!A:E,5,0)","v":" "},{"$f":"VLOOKUP(B47,Pilot!A:F,6,0)","v":" "},35,null,35,21,{"$f":"IF(COUNTIF('N PMČR 2022'!B:B,B47)=0,\"-\",COUNTIF('N PMČR 2022'!B:B,B47))","v":5},{"$f":"IF(ISERROR(VLOOKUP(B47,'N PMČR 2022'!B:G,6,0)),\"-\",VLOOKUP(B47,'N PMČR 2022'!B:G,6,0))","v":"81."},{"$f":"IF(COUNTIF('N PMRg 2022'!B:B,B47)=0,\"-\",COUNTIF('N PMRg 2022'!B:B,B47))","v":70},{"$f":"IF(ISERROR(VLOOKUP(B47,'N PMRg 2022'!B:G,6,0)),\"-\",VLOOKUP(B47,'N PMRg 2022'!B:G,6,0))","v":"-"}]
[36,"-",{"$f":"VLOOKUP(B48,Pilot!A:C,3,0)","v":" "},{"$f":"VLOOKUP(B48,Pilot!A:C,2,0)","v":" "},{"$f":"VLOOKUP(B48,Pilot!A:E,5,0)","v":" "},{"$f":"VLOOKUP(B48,Pilot!A:F,6,0)","v":" "},36,null,35,21,{"$f":"IF(COUNTIF('N PMČR 2022'!B:B,B48)=0,\"-\",COUNTIF('N PMČR 2022'!B:B,B48))","v":5},{"$f":"IF(ISERROR(VLOOKUP(B48,'N PMČR 2022'!B:G,6,0)),\"-\",VLOOKUP(B48,'N PMČR 2022'!B:G,6,0))","v":"81."},{"$f":"IF(COUNTIF('N PMRg 2022'!B:B,B48)=0,\"-\",COUNTIF('N PMRg 2022'!B:B,B48))","v":70},{"$f":"IF(ISERROR(VLOOKUP(B48,'N PMRg 2022'!B:G,6,0)),\"-\",VLOOKUP(B48,'N PMRg 2022'!B:G,6,0))","v":"-"}]
[37,"-",{"$f":"VLOOKUP(B49,Pilot!A:C,3,0)","v":" "},{"$f":"VLOOKUP(B49,Pilot!A:C,2,0)","v":" "},{"$f":"VLOOKUP(B49,Pilot!A:E,5,0)","v":" "},{"$f":"VLOOKUP(B49,Pilot!A:F,6,0)","v":" "},37,null,35,21,{"$f":"IF(COUNTIF('N PMČR 2022'!B:B,B49)=0,\"-\",COUNTIF('N PMČR 2022'!B:B,B49))","v":5},{"$f":"IF(ISERROR(VLOOKUP(B49,'N PMČR 2022'!B:G,6,0)),\"-\",VLOOKUP(B49,'N PMČR 2022'!B:G,6,0))","v":"81."},{"$f":"IF(COUNTIF('N PMRg 2022'!B:B,B49)=0,\"-\",COUNTIF('N PMRg 2022'!B:B,B49))","v":70},{"$f":"IF(ISERROR(VLOOKUP(B49,'N PMRg 2022'!B:G,6,0)),\"-\",VLOOKUP(B49,'N PMRg 2022'!B:G,6,0))","v":"-"}]
[38,"-",{"$f":"VLOOKUP(B50,Pilot!A:C,3,0)","v":" "},{"$f":"VLOOKUP(B50,Pilot!A:C,2,0)","v":" "},{"$f":"VLOOKUP(B50,Pilot!A:E,5,0)","v":" "},{"$f":"VLOOKUP(B50,Pilot!A:F,6,0)","v":" "},{"$f":"A50","v":38},null,35,21,{"$f":"IF(COUNTIF('N PMČR 2022'!B:B,B50)=0,\"-\",COUNTIF('N PMČR 2022'!B:B,B50))","v":5},{"$f":"IF(ISERROR(VLOOKUP(B50,'N PMČR 2022'!B:G,6,0)),\"-\",VLOOKUP(B50,'N PMČR 2022'!B:G,6,0))","v":"81."},{"$f":"IF(COUNTIF('N PMRg 2022'!B:B,B50)=0,\"-\",COUNTIF('N PMRg 2022'!B:B,B50))","v":70},{"$f":"IF(ISERROR(VLOOKUP(B50,'N PMRg 2022'!B:G,6,0)),\"-\",VLOOKUP(B50,'N PMRg 2022'!B:G,6,0))","v":"-"}]
[39,"-",{"$f":"VLOOKUP(B51,Pilot!A:C,3,0)","v":" "},{"$f":"VLOOKUP(B51,Pilot!A:C,2,0)","v":" "},{"$f":"VLOOKUP(B51,Pilot!A:E,5,0)","v":" "},{"$f":"VLOOKUP(B51,Pilot!A:F,6,0)","v":" "},39,null,35,21,{"$f":"IF(COUNTIF('N PMČR 2022'!B:B,B51)=0,\"-\",COUNTIF('N PMČR 2022'!B:B,B51))","v":5},{"$f":"IF(ISERROR(VLOOKUP(B51,'N PMČR 2022'!B:G,6,0)),\"-\",VLOOKUP(B51,'N PMČR 2022'!B:G,6,0))","v":"81."},{"$f":"IF(COUNTIF('N PMRg 2022'!B:B,B51)=0,\"-\",COUNTIF('N PMRg 2022'!B:B,B51))","v":70},{"$f":"IF(ISERROR(VLOOKUP(B51,'N PMRg 2022'!B:G,6,0)),\"-\",VLOOKUP(B51,'N PMRg 2022'!B:G,6,0))","v":"-"}]
[40,"-",{"$f":"VLOOKUP(B52,Pilot!A:C,3,0)","v":" "},{"$f":"VLOOKUP(B52,Pilot!A:C,2,0)","v":" "},{"$f":"VLOOKUP(B52,Pilot!A:E,5,0)","v":" "},{"$f":"VLOOKUP(B52,Pilot!A:F,6,0)","v":" "},40,null,35,21,{"$f":"IF(COUNTIF('N PMČR 2022'!B:B,B52)=0,\"-\",COUNTIF('N PMČR 2022'!B:B,B52))","v":5},{"$f":"IF(ISERROR(VLOOKUP(B52,'N PMČR 2022'!B:G,6,0)),\"-\",VLOOKUP(B52,'N PMČR 2022'!B:G,6,0))","v":"81."},{"$f":"IF(COUNTIF('N PMRg 2022'!B:B,B52)=0,\"-\",COUNTIF('N PMRg 2022'!B:B,B52))","v":70},{"$f":"IF(ISERROR(VLOOKUP(B52,'N PMRg 2022'!B:G,6,0)),\"-\",VLOOKUP(B52,'N PMRg 2022'!B:G,6,0))","v":"-"}]
["N1","-",{"$f":"VLOOKUP(B53,Pilot!A:C,3,0)","v":" "},{"$f":"VLOOKUP(B53,Pilot!A:C,2,0)","v":" "},{"$f":"VLOOKUP(B53,Pilot!A:E,5,0)","v":" "},{"$f":"VLOOKUP(B53,Pilot!A:F,6,0)","v":" "},"N1",null,35,21,{"$f":"IF(COUNTIF('N PMČR 2022'!B:B,B53)=0,\"-\",COUNTIF('N PMČR 2022'!B:B,B53))","v":5},{"$f":"IF(ISERROR(VLOOKUP(B53,'N PMČR 2022'!B:G,6,0)),\"-\",VLOOKUP(B53,'N PMČR 2022'!B:G,6,0))","v":"81."},{"$f":"IF(COUNTIF('N PMRg 2022'!B:B,B53)=0,\"-\",COUNTIF('N PMRg 2022'!B:B,B53))","v":70},{"$f":"IF(ISERROR(VLOOKUP(B53,'N PMRg 2022'!B:G,6,0)),\"-\",VLOOKUP(B53,'N PMRg 2022'!B:G,6,0))","v":"-"}]
["N2","-",{"$f":"VLOOKUP(B54,Pilot!A:C,3,0)","v":" "},{"$f":"VLOOKUP(B54,Pilot!A:C,2,0)","v":" "},{"$f":"VLOOKUP(B54,Pilot!A:E,5,0)","v":" "},{"$f":"VLOOKUP(B54,Pilot!A:F,6,0)","v":" "},"N2",null,35,21,{"$f":"IF(COUNTIF('N PMČR 2022'!B:B,B54)=0,\"-\",COUNTIF('N PMČR 2022'!B:B,B54))","v":5},{"$f":"IF(ISERROR(VLOOKUP(B54,'N PMČR 2022'!B:G,6,0)),\"-\",VLOOKUP(B54,'N PMČR 2022'!B:G,6,0))","v":"81."},{"$f":"IF(COUNTIF('N PMRg 2022'!B:B,B54)=0,\"-\",COUNTIF('N PMRg 2022'!B:B,B54))","v":70},{"$f":"IF(ISERROR(VLOOKUP(B54,'N PMRg 2022'!B:G,6,0)),\"-\",VLOOKUP(B54,'N PMRg 2022'!B:G,6,0))","v":"-"}]
["N3","-",{"$f":"VLOOKUP(B55,Pilot!A:C,3,0)","v":" "},{"$f":"VLOOKUP(B55,Pilot!A:C,2,0)","v":" "},{"$f":"VLOOKUP(B55,Pilot!A:E,5,0)","v":" "},{"$f":"VLOOKUP(B55,Pilot!A:F,6,0)","v":" "},"N3",null,35,21,{"$f":"IF(COUNTIF('N PMČR 2022'!B:B,B55)=0,\"-\",COUNTIF('N PMČR 2022'!B:B,B55))","v":5},{"$f":"IF(ISERROR(VLOOKUP(B55,'N PMČR 2022'!B:G,6,0)),\"-\",VLOOKUP(B55,'N PMČR 2022'!B:G,6,0))","v":"81."},{"$f":"IF(COUNTIF('N PMRg 2022'!B:B,B55)=0,\"-\",COUNTIF('N PMRg 2022'!B:B,B55))","v":70},{"$f":"IF(ISERROR(VLOOKUP(B55,'N PMRg 2022'!B:G,6,0)),\"-\",VLOOKUP(B55,'N PMRg 2022'!B:G,6,0))","v":"-"}]
["N4","-",{"$f":"VLOOKUP(B56,Pilot!A:C,3,0)","v":" "},{"$f":"VLOOKUP(B56,Pilot!A:C,2,0)","v":" "},{"$f":"VLOOKUP(B56,Pilot!A:E,5,0)","v":" "},{"$f":"VLOOKUP(B56,Pilot!A:F,6,0)","v":" "},"N4",null,35,21,{"$f":"IF(COUNTIF('N PMČR 2022'!B:B,B56)=0,\"-\",COUNTIF('N PMČR 2022'!B:B,B56))","v":5},{"$f":"IF(ISERROR(VLOOKUP(B56,'N PMČR 2022'!B:G,6,0)),\"-\",VLOOKUP(B56,'N PMČR 2022'!B:G,6,0))","v":"81."},{"$f":"IF(COUNTIF('N PMRg 2022'!B:B,B56)=0,\"-\",COUNTIF('N PMRg 2022'!B:B,B56))","v":70},{"$f":"IF(ISERROR(VLOOKUP(B56,'N PMRg 2022'!B:G,6,0)),\"-\",VLOOKUP(B56,'N PMRg 2022'!B:G,6,0))","v":"-"}]
["N5","-",{"$f":"VLOOKUP(B57,Pilot!A:C,3,0)","v":" "},{"$f":"VLOOKUP(B57,Pilot!A:C,2,0)","v":" "},{"$f":"VLOOKUP(B57,Pilot!A:E,5,0)","v":" "},{"$f":"VLOOKUP(B57,Pilot!A:F,6,0)","v":" "},"N5",null,35,21,{"$f":"IF(COUNTIF('N PMČR 2022'!B:B,B57)=0,\"-\",COUNTIF('N PMČR 2022'!B:B,B57))","v":5},{"$f":"IF(ISERROR(VLOOKUP(B57,'N PMČR 2022'!B:G,6,0)),\"-\",VLOOKUP(B57,'N PMČR 2022'!B:G,6,0))","v":"81."},{"$f":"IF(COUNTIF('N PMRg 2022'!B:B,B57)=0,\"-\",COUNTIF('N PMRg 2022'!B:B,B57))","v":70},{"$f":"IF(ISERROR(VLOOKUP(B57,'N PMRg 2022'!B:G,6,0)),\"-\",VLOOKUP(B57,'N PMRg 2022'!B:G,6,0))","v":"-"}]
["6.7.5.5.","akademici, kteří nesplňují statut juniora, mají na PMČRj rezervováno 5 soutěžních míst nad rámec nominace stanovené bodem 6.7.5.4."]
["-","-",{"$f":"VLOOKUP(B59,Pilot!A:C,3,0)","v":" "},{"$f":"VLOOKUP(B59,Pilot!A:C,2,0)","v":" "},{"$f":"VLOOKUP(B59,Pilot!A:E,5,0)","v":" "},{"$f":"VLOOKUP(B59,Pilot!A:F,6,0)","v":" "},{"$f":"A59","v":"-"},null,{"$f":"COUNTIF(B:B,B59)","v":35},{"$f":"IF(ISERROR(VLOOKUP(B59,B:G,6,0)),\"-\",VLOOKUP(B59,B:G,6,0))","v":21},{"$f":"IF(COUNTIF('N PMČR 2022'!B:B,B59)=0,\"-\",COUNTIF('N PMČR 2022'!B:B,B59))","v":5},{"$f":"IF(ISERROR(VLOOKUP(B59,'N PMČR 2022'!B:G,6,0)),\"-\",VLOOKUP(B59,'N PMČR 2022'!B:G,6,0))","v":"81."},{"$f":"IF(COUNTIF('N PMRg 2022'!B:B,B59)=0,\"-\",COUNTIF('N PMRg 2022'!B:B,B59))","v":70},{"$f":"IF(ISERROR(VLOOKUP(B59,'N PMRg 2022'!B:G,6,0)),\"-\",VLOOKUP(B59,'N PMRg 2022'!B:G,6,0))","v":"-"}]
["-","-",{"$f":"VLOOKUP(B60,Pilot!A:C,3,0)","v":" "},{"$f":"VLOOKUP(B60,Pilot!A:C,2,0)","v":" "},{"$f":"VLOOKUP(B60,Pilot!A:E,5,0)","v":" "},{"$f":"VLOOKUP(B60,Pilot!A:F,6,0)","v":" "},{"$f":"A60","v":"-"},null,{"$f":"COUNTIF(B:B,B60)","v":35},{"$f":"IF(ISERROR(VLOOKUP(B60,B:G,6,0)),\"-\",VLOOKUP(B60,B:G,6,0))","v":21},{"$f":"IF(COUNTIF('N PMČR 2022'!B:B,B60)=0,\"-\",COUNTIF('N PMČR 2022'!B:B,B60))","v":5},{"$f":"IF(ISERROR(VLOOKUP(B60,'N PMČR 2022'!B:G,6,0)),\"-\",VLOOKUP(B60,'N PMČR 2022'!B:G,6,0))","v":"81."},{"$f":"IF(COUNTIF('N PMRg 2022'!B:B,B60)=0,\"-\",COUNTIF('N PMRg 2022'!B:B,B60))","v":70},{"$f":"IF(ISERROR(VLOOKUP(B60,'N PMRg 2022'!B:G,6,0)),\"-\",VLOOKUP(B60,'N PMRg 2022'!B:G,6,0))","v":"-"}]
["-","-",{"$f":"VLOOKUP(B61,Pilot!A:C,3,0)","v":" "},{"$f":"VLOOKUP(B61,Pilot!A:C,2,0)","v":" "},{"$f":"VLOOKUP(B61,Pilot!A:E,5,0)","v":" "},{"$f":"VLOOKUP(B61,Pilot!A:F,6,0)","v":" "},{"$f":"A61","v":"-"},null,{"$f":"COUNTIF(B:B,B61)","v":35},{"$f":"IF(ISERROR(VLOOKUP(B61,B:G,6,0)),\"-\",VLOOKUP(B61,B:G,6,0))","v":21},{"$f":"IF(COUNTIF('N PMČR 2022'!B:B,B61)=0,\"-\",COUNTIF('N PMČR 2022'!B:B,B61))","v":5},{"$f":"IF(ISERROR(VLOOKUP(B61,'N PMČR 2022'!B:G,6,0)),\"-\",VLOOKUP(B61,'N PMČR 2022'!B:G,6,0))","v":"81."},{"$f":"IF(COUNTIF('N PMRg 2022'!B:B,B61)=0,\"-\",COUNTIF('N PMRg 2022'!B:B,B61))","v":70},{"$f":"IF(ISERROR(VLOOKUP(B61,'N PMRg 2022'!B:G,6,0)),\"-\",VLOOKUP(B61,'N PMRg 2022'!B:G,6,0))","v":"-"}]
["-","-",{"$f":"VLOOKUP(B62,Pilot!A:C,3,0)","v":" "},{"$f":"VLOOKUP(B62,Pilot!A:C,2,0)","v":" "},{"$f":"VLOOKUP(B62,Pilot!A:E,5,0)","v":" "},{"$f":"VLOOKUP(B62,Pilot!A:F,6,0)","v":" "},{"$f":"A62","v":"-"},null,{"$f":"COUNTIF(B:B,B62)","v":35},{"$f":"IF(ISERROR(VLOOKUP(B62,B:G,6,0)),\"-\",VLOOKUP(B62,B:G,6,0))","v":21},{"$f":"IF(COUNTIF('N PMČR 2022'!B:B,B62)=0,\"-\",COUNTIF('N PMČR 2022'!B:B,B62))","v":5},{"$f":"IF(ISERROR(VLOOKUP(B62,'N PMČR 2022'!B:G,6,0)),\"-\",VLOOKUP(B62,'N PMČR 2022'!B:G,6,0))","v":"81."},{"$f":"IF(COUNTIF('N PMRg 2022'!B:B,B62)=0,\"-\",COUNTIF('N PMRg 2022'!B:B,B62))","v":70},{"$f":"IF(ISERROR(VLOOKUP(B62,'N PMRg 2022'!B:G,6,0)),\"-\",VLOOKUP(B62,'N PMRg 2022'!B:G,6,0))","v":"-"}]
["-","-",{"$f":"VLOOKUP(B63,Pilot!A:C,3,0)","v":" "},{"$f":"VLOOKUP(B63,Pilot!A:C,2,0)","v":" "},{"$f":"VLOOKUP(B63,Pilot!A:E,5,0)","v":" "},{"$f":"VLOOKUP(B63,Pilot!A:F,6,0)","v":" "},{"$f":"A63","v":"-"},null,{"$f":"COUNTIF(B:B,B63)","v":35},{"$f":"IF(ISERROR(VLOOKUP(B63,B:G,6,0)),\"-\",VLOOKUP(B63,B:G,6,0))","v":21},{"$f":"IF(COUNTIF('N PMČR 2022'!B:B,B63)=0,\"-\",COUNTIF('N PMČR 2022'!B:B,B63))","v":5},{"$f":"IF(ISERROR(VLOOKUP(B63,'N PMČR 2022'!B:G,6,0)),\"-\",VLOOKUP(B63,'N PMČR 2022'!B:G,6,0))","v":"81."},{"$f":"IF(COUNTIF('N PMRg 2022'!B:B,B63)=0,\"-\",COUNTIF('N PMRg 2022'!B:B,B63))","v":70},{"$f":"IF(ISERROR(VLOOKUP(B63,'N PMRg 2022'!B:G,6,0)),\"-\",VLOOKUP(B63,'N PMRg 2022'!B:G,6,0))","v":"-"}]
["6.7.5.6.","další soutěžící může navrhnout PK podle jiných kritérií dle odstavce 9. SŘ"]
["-","-",{"$f":"VLOOKUP(B65,Pilot!A:C,3,0)","v":" "},{"$f":"VLOOKUP(B65,Pilot!A:C,2,0)","v":" "},{"$f":"VLOOKUP(B65,Pilot!A:E,5,0)","v":" "},{"$f":"VLOOKUP(B65,Pilot!A:F,6,0)","v":" "},{"$f":"A65","v":"-"},null,{"$f":"COUNTIF(B:B,B65)","v":35},{"$f":"IF(ISERROR(VLOOKUP(B65,B:G,6,0)),\"-\",VLOOKUP(B65,B:G,6,0))","v":21},{"$f":"IF(COUNTIF('N PMČR 2022'!B:B,B65)=0,\"-\",COUNTIF('N PMČR 2022'!B:B,B65))","v":5},{"$f":"IF(ISERROR(VLOOKUP(B65,'N PMČR 2022'!B:G,6,0)),\"-\",VLOOKUP(B65,'N PMČR 2022'!B:G,6,0))","v":"81."},{"$f":"IF(COUNTIF('N PMRg 2022'!B:B,B65)=0,\"-\",COUNTIF('N PMRg 2022'!B:B,B65))","v":70},{"$f":"IF(ISERROR(VLOOKUP(B65,'N PMRg 2022'!B:G,6,0)),\"-\",VLOOKUP(B65,'N PMRg 2022'!B:G,6,0))","v":"-"}]
["-","-",{"$f":"VLOOKUP(B66,Pilot!A:C,3,0)","v":" "},{"$f":"VLOOKUP(B66,Pilot!A:C,2,0)","v":" "},{"$f":"VLOOKUP(B66,Pilot!A:E,5,0)","v":" "},{"$f":"VLOOKUP(B66,Pilot!A:F,6,0)","v":" "},{"$f":"A66","v":"-"},null,{"$f":"COUNTIF(B:B,B66)","v":35},{"$f":"IF(ISERROR(VLOOKUP(B66,B:G,6,0)),\"-\",VLOOKUP(B66,B:G,6,0))","v":21},{"$f":"IF(COUNTIF('N PMČR 2022'!B:B,B66)=0,\"-\",COUNTIF('N PMČR 2022'!B:B,B66))","v":5},{"$f":"IF(ISERROR(VLOOKUP(B66,'N PMČR 2022'!B:G,6,0)),\"-\",VLOOKUP(B66,'N PMČR 2022'!B:G,6,0))","v":"81."},{"$f":"IF(COUNTIF('N PMRg 2022'!B:B,B66)=0,\"-\",COUNTIF('N PMRg 2022'!B:B,B66))","v":70},{"$f":"IF(ISERROR(VLOOKUP(B66,'N PMRg 2022'!B:G,6,0)),\"-\",VLOOKUP(B66,'N PMRg 2022'!B:G,6,0))","v":"-"}]
["-","-",{"$f":"VLOOKUP(B67,Pilot!A:C,3,0)","v":" "},{"$f":"VLOOKUP(B67,Pilot!A:C,2,0)","v":" "},{"$f":"VLOOKUP(B67,Pilot!A:E,5,0)","v":" "},{"$f":"VLOOKUP(B67,Pilot!A:F,6,0)","v":" "},{"$f":"A67","v":"-"},null,{"$f":"COUNTIF(B:B,B67)","v":35},{"$f":"IF(ISERROR(VLOOKUP(B67,B:G,6,0)),\"-\",VLOOKUP(B67,B:G,6,0))","v":21},{"$f":"IF(COUNTIF('N PMČR 2022'!B:B,B67)=0,\"-\",COUNTIF('N PMČR 2022'!B:B,B67))","v":5},{"$f":"IF(ISERROR(VLOOKUP(B67,'N PMČR 2022'!B:G,6,0)),\"-\",VLOOKUP(B67,'N PMČR 2022'!B:G,6,0))","v":"81."},{"$f":"IF(COUNTIF('N PMRg 2022'!B:B,B67)=0,\"-\",COUNTIF('N PMRg 2022'!B:B,B67))","v":70},{"$f":"IF(ISERROR(VLOOKUP(B67,'N PMRg 2022'!B:G,6,0)),\"-\",VLOOKUP(B67,'N PMRg 2022'!B:G,6,0))","v":"-"}]
["-","-",{"$f":"VLOOKUP(B68,Pilot!A:C,3,0)","v":" "},{"$f":"VLOOKUP(B68,Pilot!A:C,2,0)","v":" "},{"$f":"VLOOKUP(B68,Pilot!A:E,5,0)","v":" "},{"$f":"VLOOKUP(B68,Pilot!A:F,6,0)","v":" "},{"$f":"A68","v":"-"},null,{"$f":"COUNTIF(B:B,B68)","v":35},{"$f":"IF(ISERROR(VLOOKUP(B68,B:G,6,0)),\"-\",VLOOKUP(B68,B:G,6,0))","v":21},{"$f":"IF(COUNTIF('N PMČR 2022'!B:B,B68)=0,\"-\",COUNTIF('N PMČR 2022'!B:B,B68))","v":5},{"$f":"IF(ISERROR(VLOOKUP(B68,'N PMČR 2022'!B:G,6,0)),\"-\",VLOOKUP(B68,'N PMČR 2022'!B:G,6,0))","v":"81."},{"$f":"IF(COUNTIF('N PMRg 2022'!B:B,B68)=0,\"-\",COUNTIF('N PMRg 2022'!B:B,B68))","v":70},{"$f":"IF(ISERROR(VLOOKUP(B68,'N PMRg 2022'!B:G,6,0)),\"-\",VLOOKUP(B68,'N PMRg 2022'!B:G,6,0))","v":"-"}]
["-","-",{"$f":"VLOOKUP(B69,Pilot!A:C,3,0)","v":" "},{"$f":"VLOOKUP(B69,Pilot!A:C,2,0)","v":" "},{"$f":"VLOOKUP(B69,Pilot!A:E,5,0)","v":" "},{"$f":"VLOOKUP(B69,Pilot!A:F,6,0)","v":" "},{"$f":"A69","v":"-"},null,{"$f":"COUNTIF(B:B,B69)","v":35},{"$f":"IF(ISERROR(VLOOKUP(B69,B:G,6,0)),\"-\",VLOOKUP(B69,B:G,6,0))","v":21},{"$f":"IF(COUNTIF('N PMČR 2022'!B:B,B69)=0,\"-\",COUNTIF('N PMČR 2022'!B:B,B69))","v":5},{"$f":"IF(ISERROR(VLOOKUP(B69,'N PMČR 2022'!B:G,6,0)),\"-\",VLOOKUP(B69,'N PMČR 2022'!B:G,6,0))","v":"81."},{"$f":"IF(COUNTIF('N PMRg 2022'!B:B,B69)=0,\"-\",COUNTIF('N PMRg 2022'!B:B,B69))","v":70},{"$f":"IF(ISERROR(VLOOKUP(B69,'N PMRg 2022'!B:G,6,0)),\"-\",VLOOKUP(B69,'N PMRg 2022'!B:G,6,0))","v":"-"}]
[]
["6.7.6.","Statut juniora"]
[null,"Za juniora jsou považování všichni soutěžící, kteří dovrší maximálně 25 let v kalendářním roce konání soutěže."]
["6.7.6.","Statut akademika"]
[null,"Za akademika jsou považováni všichni soutěžící, kteří jsou řádnými studenty (vlastní platný studijní index) pregraduálního prezenčního, kombinovaného, nebo postgraduálního studia. Dále absolventi jakéhokoliv vysokoškolského studia do 1 roku po promoci."]
[null,"Týká se pouze Vysokých škol registrovaných u MŠMT."]
[null,"Účast akademiků na PMČRj je omezena dovršením maximálně 28 let v kalendářním roce konání soutěže."]
[]
[]
["Schváleno Plachtařskou komisí AeČR dne xx.yy.2021 v ZZZZ"]