{"text_format":"1","workbook":"xlsx","n_sheets":15,"sheets":["Zmeny","Soutez","Kp","Pilot","Region","Data","Temp","Zebrik G","Zebrik W","KB PMRg 2018","KB PMRg 2019","KB PMRg 2020","N PMČR 2021","N PMRg 2021","N PMČRj 2021"],"not_rendered":{"charts":0,"images":0,"macros":1,"external_links":0,"defined_names":37,"comments":2,"pivot_tables":2},"unopened":[],"bounds":{"document_bytes":16777216,"sheet_cells":100000,"rows_first":2000,"rows_last":500,"rows_between":2000,"halvings":0,"cell_chars":16384,"cell_head_chars":4096},"cells_cut":0,"cells_raw":0,"read":"whole","date_system":"1900"}

{"sheet":"Zmeny","index":0,"n_rows":5,"n_cols":3,"rows_kept":5,"cut":false,"hidden":false,"merged":[[0,1,0,2]]}
[null,"Změna"]
["Datum","Rev","Popis"]
["2020-11-19","00","Základní verze"]
["2020-11-20","01","Doplněno GGP Mladá Boleslav"]
["2020-11-23","02","Doplněno WWGC 2020 Lake Keepit, opraveny chyby"]

{"sheet":"Soutez","index":1,"n_rows":154,"n_cols":17,"rows_kept":154,"cut":false,"hidden":false,"merged":[]}
["No.","Soutěž","Stát","Rok","Místo","Termín","Poč. disc.","Poč. pilotů","Ki","Kn1","Kn2","Kp","Kinp","dKinp","Web","Results","Poznámka"]
[null,"Zařazené soutěže 2018:"]
[null,"AZ Cup 2018 - Klub","CZ",2018,"Zbraslavice","28.4.-7.5.2018",8,40,0.9,2.5000000000000001E-2,null,{"$f":"VLOOKUP(G3,Kp!$A$4:$B$24,2,FALSE)","v":0.02},{"$f":"IF(OR(G3=0,G3=1,G3=2),0,IF(H3<10,0,SUM(I3:L3)))","v":0.94500000000000006},{"$f":"M3-I3","v":4.500000000000004E-2},"http://www.azcup.cz/","https://www.soaringspot.com/cs/az-cup-2018-zbraslavice-2018/results/klub"]
[null,"AZ Cup 2018 - Kombi","CZ",2018,"Zbraslavice","28.4.-7.5.2018",9,29,0.9,0.05,null,{"$f":"VLOOKUP(G4,Kp!$A$4:$B$24,2,FALSE)","v":2.5000000000000001E-2},0.97500000000000009,{"$f":"M4-I4","v":7.5000000000000067E-2},"http://www.azcup.cz/","https://www.soaringspot.com/cs/az-cup-2018-zbraslavice-2018/results/kombi"]
["14.","JPJ 2018 - Klub","CZ",2018,"Šumperk","28.4.-7.5.2018",2,44,0.9,null,null,{"$f":"VLOOKUP(G5,Kp!$A$4:$B$24,2,FALSE)","v":0},0,-0.9,"http://www.jpj-sumperk.cz/","https://www.soaringspot.com/cs/14-jarni-pohar-jeseniku-2018-sumperk-2018/results/klubova-trida","Méně jak 3 platné disciplíny"]
["14.","JPJ 2018 - Kombi","CZ",2018,"Šumperk","28.4.-7.5.2018",2,24,0.9,null,null,{"$f":"VLOOKUP(G6,Kp!$A$4:$B$24,2,FALSE)","v":0},0,-0.9,"http://www.jpj-sumperk.cz/","https://www.soaringspot.com/cs/14-jarni-pohar-jeseniku-2018-sumperk-2018/results/kombi-trida","Méně jak 3 platné disciplíny"]
[null,"PMČR 2018 - Klub","CZ",2018,"Tábor","27.5.-9.6.2018",10,29,1,5.5E-2,null,{"$f":"VLOOKUP(G7,Kp!$A$4:$B$24,2,FALSE)","v":0.03},1.085,{"$f":"M7-I7","v":8.4999999999999964E-2},"http://www.gliding.cz/souteze/2018/pmcr/","https://www.soaringspot.com/cs/plachtarske-mistrovstvi-cr-2018-tabor-2018/results/klub"]
[null,"PMČR 2018 - Kombi 15m","CZ",2018,"Tábor","27.5.-9.6.2018",9,17,1,5.5E-2,null,{"$f":"VLOOKUP(G8,Kp!$A$4:$B$24,2,FALSE)","v":2.5000000000000001E-2},1.0799999999999998,7.9999999999999849E-2,"http://www.gliding.cz/souteze/2018/pmcr/","https://www.soaringspot.com/cs/plachtarske-mistrovstvi-cr-2018-tabor-2018/results/kombi-15"]
[null,"PMČR 2018 - Kombi Open","CZ",2018,"Tábor","27.5.-9.6.2018",9,14,1,2.5000000000000001E-2,null,{"$f":"VLOOKUP(G9,Kp!$A$4:$B$24,2,FALSE)","v":2.5000000000000001E-2},1.0499999999999998,4.9999999999999822E-2,"http://www.gliding.cz/souteze/2018/pmcr/","https://www.soaringspot.com/cs/plachtarske-mistrovstvi-cr-2018-tabor-2018/results/kombi-open"]
[null,"FL 2018 - Kombi","CZ",2018,"Frýdlant n/Ostr.","29.6.-7.7.2018",6,15,0.75,null,null,{"$f":"VLOOKUP(G10,Kp!$A$4:$B$24,2,FALSE)","v":0.01},0.76,1.0000000000000009E-2,"https://fl2018.akfrydlant.cz/","https://www.soaringspot.com/cs/fl-2018-adrenalin-grand-prix-frydlant-2018/results/fl"]
[null,"Adrenalin GP 2018 - Klub GP","CZ",2018,"Frýdlant n/Ostr.","29.6.-7.7.2018",7,12,0.75,5.0000000000000001E-3,null,{"$f":"VLOOKUP(G11,Kp!$A$4:$B$24,2,FALSE)","v":1.4999999999999999E-2},0.77,2.0000000000000018E-2,"https://fl2018.akfrydlant.cz/","https://www.soaringspot.com/cs/fl-2018-adrenalin-grand-prix-frydlant-2018/results/agp"]
[null,"Safari 2018 - Duo Kombi","CZ",2018,"Dvůr Králové","30.6.-13.7.2018",6,11,0.75,null,null,{"$f":"VLOOKUP(G12,Kp!$A$4:$B$24,2,FALSE)","v":0.01},0.76,1.0000000000000009E-2,"http://www.gliding.cz/souteze/2018/safari/","https://www.soaringspot.com/cs/21-safari-pohar-dvur-kralove-nad-labem-2018/results/duo-blanik"]
[null,"Safari 2018 - Klub","CZ",2018,"Dvůr Králové","30.6.-13.7.2018",8,29,0.75,null,null,{"$f":"VLOOKUP(G13,Kp!$A$4:$B$24,2,FALSE)","v":0.02},0.77,2.0000000000000018E-2,"http://www.gliding.cz/souteze/2018/safari/","https://www.soaringspot.com/cs/21-safari-pohar-dvur-kralove-nad-labem-2018/results/klub"]
[null,"Safari 2018 - Kombi","CZ",2018,"Dvůr Králové","30.6.-13.7.2018",8,11,0.75,null,null,{"$f":"VLOOKUP(G14,Kp!$A$4:$B$24,2,FALSE)","v":0.02},0.77,2.0000000000000018E-2,"http://www.gliding.cz/souteze/2018/safari/","https://www.soaringspot.com/cs/21-safari-pohar-dvur-kralove-nad-labem-2018/results/volna"]
[null,"Toužim Cup 2018 - Klub","CZ",2018,"Toužim","14.7.-21.7.2018",5,29,0.9,5.0000000000000001E-3,null,{"$f":"VLOOKUP(G15,Kp!$A$4:$B$24,2,FALSE)","v":5.0000000000000001E-3},0.91,1.0000000000000009E-2,"http://www.gliding.cz/souteze/2018/tcup/","https://www.soaringspot.com/cs/touzim-cup-2018-touzim-2018/results/klub"]
[null,"Toužim Cup 2018 - Kombi","CZ",2018,"Toužim","14.7.-21.7.2018",5,19,0.9,5.0000000000000001E-3,null,{"$f":"VLOOKUP(G16,Kp!$A$4:$B$24,2,FALSE)","v":5.0000000000000001E-3},0.91,1.0000000000000009E-2,"http://www.gliding.cz/souteze/2018/tcup/","https://www.soaringspot.com/cs/touzim-cup-2018-touzim-2018/results/kombi"]
[null,"PMČRj 2018 - Klub","CZ",2018,"Raná","15.7.-27.7.2018",10,30,0.9,5.0000000000000001E-3,null,{"$f":"VLOOKUP(G17,Kp!$A$4:$B$24,2,FALSE)","v":0.03},0.93500000000000005,3.5000000000000031E-2,"http://www.gliding.cz/souteze/2018/pmcr_j/","https://www.soaringspot.com/cs/plachtarske-mistrovstvi-cr-junioru-2018-rana-loumy-2018/results/club"]
[null,"Ranský Pohár 2018 - Kombi","CZ",2018,"Raná","21.7.-28.7.2018",6,19,0.75,null,null,{"$f":"VLOOKUP(G18,Kp!$A$4:$B$24,2,FALSE)","v":0.01},0.76,1.0000000000000009E-2,"http://pohar.aeroklubrana.cz/","https://www.soaringspot.com/cs/ransky-pohar-2018-rana-loumy-2018/results/combi"]
[null,"PPV 2018 - Klub","CZ",2018,"Havlíčkův Brod","21.7.-28.7.2018",6,44,0.9,null,null,{"$f":"VLOOKUP(G19,Kp!$A$4:$B$24,2,FALSE)","v":0.01},0.91,1.0000000000000009E-2,"http://www.gliding.cz/souteze/2018/ppv/","https://www.soaringspot.com/cs/plachtarsky-pohar-vysociny-2018-havlickuv-brod-2018/results/klubova-trida"]
[null,"PPV 2018 - Kombi","CZ",2018,"Havlíčkův Brod","21.7.-28.7.2018",6,17,0.9,null,null,{"$f":"VLOOKUP(G20,Kp!$A$4:$B$24,2,FALSE)","v":0.01},0.91,1.0000000000000009E-2,"http://www.gliding.cz/souteze/2018/ppv/","https://www.soaringspot.com/cs/plachtarsky-pohar-vysociny-2018-havlickuv-brod-2018/results/kombinovana-trida"]
[null,"Pohár Českého Ráje 2018 - Kombi","CZ",2018,"Jičín","28.7.-4.8.2018",8,10,0.75,null,null,{"$f":"VLOOKUP(G21,Kp!$A$4:$B$24,2,FALSE)","v":0.02},0.77,2.0000000000000018E-2,null,"https://www.soaringspot.com/cs/pohar-ceskeho-raje-2018-jicin-2018/results/unknown"]
[null,"PMRg 2018 - Klub","CZ",2018,"Hodkovice","29.7.-11.8.2018",10,36,0.9,1.4999999999999999E-2,null,{"$f":"VLOOKUP(G22,Kp!$A$4:$B$24,2,FALSE)","v":0.03},{"$f":"IF(OR(G22=0,G22=1,G22=2),0,IF(H22<10,0,SUM(I22:L22)))","v":0.94500000000000006},4.500000000000004E-2,"http://www.gliding.cz/souteze/2018/pmrg/","https://www.soaringspot.com/cs/mistrovstvi-ceske-republiky-regionu-hodkovice-nad-mohelkou-2018/results/klub"]
[null,"PMRg 2018 - Kombi","CZ",2018,"Hodkovice","29.7.-11.8.2018",10,17,0.9,0.02,null,{"$f":"VLOOKUP(G23,Kp!$A$4:$B$24,2,FALSE)","v":0.03},{"$f":"IF(OR(G23=0,G23=1,G23=2),0,IF(H23<10,0,SUM(I23:L23)))","v":0.95000000000000007},{"$f":"M23-I23","v":5.0000000000000044E-2},"http://www.gliding.cz/souteze/2018/pmrg/","https://www.soaringspot.com/cs/mistrovstvi-ceske-republiky-regionu-hodkovice-nad-mohelkou-2018/results/kombi-open"]
["35.","WGC 2018 - Std","PL",2018,"Ostrow Wielkopolski","8.7.-21.7.2018",7,47,1,0.105,null,{"$f":"VLOOKUP(G24,Kp!$A$4:$B$24,2,FALSE)","v":1.4999999999999999E-2},1.1199999999999999,0.11999999999999988,"https://ostrowglide.com/en/","https://www.soaringspot.com/cs/wgc2018pl/results/standard"]
["35.","WGC 2018 - 15m","PL",2018,"Ostrow Wielkopolski","8.7.-21.7.2018",7,37,1,8.5000000000000006E-2,null,{"$f":"VLOOKUP(G25,Kp!$A$4:$B$24,2,FALSE)","v":1.4999999999999999E-2},1.0999999999999999,9.9999999999999867E-2,"https://ostrowglide.com/en/","https://www.soaringspot.com/cs/wgc2018pl/results/15-meter"]
["35.","WGC 2018 - Klub","PL",2018,"Ostrow Wielkopolski","8.7.-21.7.2018",7,48,1,0.09,null,{"$f":"VLOOKUP(G26,Kp!$A$4:$B$24,2,FALSE)","v":1.4999999999999999E-2},1.105,0.10499999999999998,"https://ostrowglide.com/en/","https://www.soaringspot.com/cs/wgc2018pl/results/club"]
["35.","WGC 2018 - 18m","CZ",2018,"Hosín","28.7.-11.8.2018",12,45,1,0.105,null,{"$f":"VLOOKUP(G27,Kp!$A$4:$B$24,2,FALSE)","v":0.03},1.135,0.13500000000000001,"http://www.wgc2018.cz/","https://www.soaringspot.com/cs/35th-world-gliding-championships-hosin-2018/results/18-meter"]
["35.","WGC 2018 - Open","CZ",2018,"Hosín","28.7.-11.8.2018",12,31,1,9.5000000000000001E-2,null,{"$f":"VLOOKUP(G28,Kp!$A$4:$B$24,2,FALSE)","v":0.03},1.125,{"$f":"M28-I28","v":0.125},"http://www.wgc2018.cz/","https://www.soaringspot.com/cs/35th-world-gliding-championships-hosin-2018/results/open"]
["35.","WGC 2018 - Duo 20m","CZ",2018,"Hosín","28.7.-11.8.2018",12,18,1,7.0000000000000007E-2,null,{"$f":"VLOOKUP(G29,Kp!$A$4:$B$24,2,FALSE)","v":0.03},1.1000000000000001,0.10000000000000009,"http://www.wgc2018.cz/","https://www.soaringspot.com/cs/35th-world-gliding-championships-hosin-2018/results/double-seater"]
["17.","HOP 2018 - Klub","CZ",2018,"Hronov","11.8.-18.8.2018",6,26,0.75,null,null,{"$f":"VLOOKUP(G30,Kp!$A$4:$B$24,2,FALSE)","v":0.01},0.76,1.0000000000000009E-2,"http://www.lkvp.cz/HOP-2018.html","https://www.soaringspot.com/cs/17-hop-2018-velke-porici-2018/results/klub-hop"]
["17.","HOP 2018 - Kombi","CZ",2018,"Hronov","11.8.-18.8.2018",6,15,0.75,null,null,{"$f":"VLOOKUP(G31,Kp!$A$4:$B$24,2,FALSE)","v":0.01},0.76,1.0000000000000009E-2,"http://www.lkvp.cz/HOP-2018.html","https://www.soaringspot.com/cs/17-hop-2018-velke-porici-2018/results/kombi-ppf"]
[null,"GGP MB 2018 - Gradient GP","CZ",2018,"Mladá Boleslav","18.8.-25.8.2018",6,11,0.75,null,null,{"$f":"VLOOKUP(G32,Kp!$A$4:$B$24,2,FALSE)","v":0.01},0.76,1.0000000000000009E-2,"http://ggp.cpska.cz/public/index3.php","https://www.soaringspot.com/cs/gradient-club-grand-prix-2018-mlada-boleslav-2018/results/gradient-gp"]
[null,"GGP MB 2018 - Klub GP","CZ",2018,"Mladá Boleslav","18.8.-25.8.2018",6,10,0.75,0.01,null,{"$f":"VLOOKUP(G33,Kp!$A$4:$B$24,2,FALSE)","v":0.01},0.77,2.0000000000000018E-2,"http://ggp.cpska.cz/public/index3.php","https://www.soaringspot.com/cs/gradient-club-grand-prix-2018-mlada-boleslav-2018/results/club-gp"]
[null,"GGP MB 2018 - Pohár MV - Kombi","CZ",2018,"Mladá Boleslav","18.8.-25.8.2018",6,11,0.75,0.01,null,{"$f":"VLOOKUP(G34,Kp!$A$4:$B$24,2,FALSE)","v":0.01},0.77,2.0000000000000018E-2,"http://ggp.cpska.cz/public/index3.php","https://www.soaringspot.com/cs/gradient-club-grand-prix-2018-mlada-boleslav-2018/results/pohar-metodeje-vlach"]
[null,"Fatraglide 2018 - Kombi","SK",2018,"Martin","28.4.-7.5.2018",9,14,0.75,null,null,{"$f":"VLOOKUP(G35,Kp!$A$4:$B$24,2,FALSE)","v":2.5000000000000001E-2},0.77500000000000002,2.5000000000000022E-2,"http://www.fatraglide.sk/","https://www.soaringspot.com/en_gb/fatraglide18-martin-2018/results/combi"]
[null,"Hahnweide 2018 - Duo 20m","DE",2018,"Kirchheim/Teck","4.5.-12.5.2018",6,32,0.75,0.05,null,{"$f":"VLOOKUP(G36,Kp!$A$4:$B$24,2,FALSE)","v":0.01},0.81,6.0000000000000053E-2,"http://www.wettbewerb.wolf-hirth.de/","https://www.soaringspot.com/de/52-internationaler-hahnweide-wettbewerb-hahnweide-2018/results/dosi"]
[null,"Flatland Cup 2018 - Klub","HU",2018,"Szeged","3.8.-11.8.2018",7,35,0.9,5.0000000000000001E-3,null,{"$f":"VLOOKUP(G37,Kp!$A$4:$B$24,2,FALSE)","v":1.4999999999999999E-2},{"$f":"IF(OR(G37=0,G37=1,G37=2),0,IF(H37<10,0,SUM(I37:L37)))","v":0.92},2.0000000000000018E-2,"http://flatlandcup.hu/2018/hu/","https://www.soaringspot.com/cs/xi-flatland-cup-szeged-2018/results/fai-club"]
[null,"Flatland Cup 2018 - Kombi","HU",2018,"Szeged","3.8.-11.8.2018",9,25,0.9,5.0000000000000001E-3,null,{"$f":"VLOOKUP(G38,Kp!$A$4:$B$24,2,FALSE)","v":2.5000000000000001E-2},0.93,3.0000000000000027E-2,"http://flatlandcup.hu/2018/hu/","https://www.soaringspot.com/cs/xi-flatland-cup-szeged-2018/results/open"]
[null,"FCC 2018 - Klub","SK",2018,"Prievidza","8.4.-19.4.2018",8,47,0.9,0.04,null,{"$f":"VLOOKUP(G39,Kp!$A$4:$B$24,2,FALSE)","v":0.02},0.96000000000000008,6.0000000000000053E-2,"http://www.fccgliding.sk/","https://www.soaringspot.com/cs/fcc-gliding-2018-prievidza-2018/results/club"]
[null,"FCC 2018 - Kombi 15m","SK",2018,"Prievidza","8.4.-19.4.2018",7,33,0.9,0.08,null,{"$f":"VLOOKUP(G40,Kp!$A$4:$B$24,2,FALSE)","v":1.4999999999999999E-2},0.995,9.4999999999999973E-2,"http://www.fccgliding.sk/","https://www.soaringspot.com/cs/fcc-gliding-2018-prievidza-2018/results/15-m"]
[null,"FCC 2018 - Kombi Open","SK",2018,"Prievidza","8.4.-19.4.2018",8,25,0.9,0.06,null,{"$f":"VLOOKUP(G41,Kp!$A$4:$B$24,2,FALSE)","v":0.02},0.98,7.999999999999996E-2,"http://www.fccgliding.sk/","https://www.soaringspot.com/cs/fcc-gliding-2018-prievidza-2018/results/combi"]
[null,"Šariš Cup 2018 - Klub","SK",2018,"Ražňany","26.5.-3.6.2018",6,19,0.75,null,null,{"$f":"VLOOKUP(G42,Kp!$A$4:$B$24,2,FALSE)","v":0.01},0.76,1.0000000000000009E-2,null,"https://www.soaringspot.com/cs/sariscup-gliding-2018-raznany-2018/results/club"]
[null,"PMSR 2018 - Kombi","SK",2018,"Prievidza","10.6.-22.6.2018",9,20,0.9,0.01,null,{"$f":"VLOOKUP(G43,Kp!$A$4:$B$24,2,FALSE)","v":2.5000000000000001E-2},0.93500000000000005,{"$f":"M43-I43","v":3.5000000000000031E-2},null,"https://www.soaringspot.com/cs/61-majstrovstva-slovenska-v-bezmotorovom-lietani-prievidza-2018/results/volna-trieda"]
[null,"SGP 2018 RU - Klub GP","RU",2018,"Usman","19.5.-26.5.2018",3,17,0.9,null,null,{"$f":"VLOOKUP(G44,Kp!$A$4:$B$24,2,FALSE)","v":-0.02},0.88,-2.0000000000000018E-2,"http://sgp.aero/russia2018/event-information/event-schedule.aspx?contestID=31481","http://sgp.aero/russia2018/results-sgp/results.aspx?contestID=31527"]
["8.","WSGP Final 2018 - 18m GP","CL",2018,"Vitacura","11.1.-20.1.2018",6,19,1,5.5E-2,null,{"$f":"VLOOKUP(G45,Kp!$A$4:$B$24,2,FALSE)","v":0.01},1.0649999999999999,6.4999999999999947E-2,"http://sgp.aero/finals2017.aspx","http://sgp.aero/finals2017/results-sgp/results.aspx?contestID=28606"]
["38.","MAM 2018 - Kombi","SK",2018,"Partizánske","1.7.-15.7.2018",10,9,0.75,null,null,{"$f":"VLOOKUP(G46,Kp!$A$4:$B$24,2,FALSE)","v":0.03},0,-0.75,null,"https://www.soaringspot.com/cs/38-memorial-alexandra-makarenka-2018-male-bielice-2018/results/kombi-treida","Méně jak 10 soutěžících ve třídě"]
[null,"Pribina Cup 2018 - Klub","SK",2018,"Nitra","30.3.-7.4.2018",2,34,0.9,null,null,{"$f":"VLOOKUP(G47,Kp!$A$4:$B$24,2,FALSE)","v":0},0,-0.9,"www.pribinacup.sk/","https://www.soaringspot.com/cs/pribina-cup-2018-nitra-2018/results/club","Méně jak 3 platné disciplíny"]
[null,"Pribina Cup 2018 - Kombi 15m","SK",2018,"Nitra","30.3.-7.4.2018",2,26,0.9,null,null,{"$f":"VLOOKUP(G48,Kp!$A$4:$B$24,2,FALSE)","v":0},0,-0.9,"www.pribinacup.sk/","https://www.soaringspot.com/cs/pribina-cup-2018-nitra-2018/results/15-meter","Méně jak 3 platné disciplíny"]
[null,"Pribina Cup 2018 - Kombi Open","SK",2018,"Nitra","30.3.-7.4.2018",2,18,0.9,null,null,{"$f":"VLOOKUP(G49,Kp!$A$4:$B$24,2,FALSE)","v":0},0,-0.9,"www.pribinacup.sk/","https://www.soaringspot.com/cs/pribina-cup-2018-nitra-2018/results/open","Méně jak 3 platné disciplíny"]
[null,"Pribina Cup 2018 - Duo 20m","SK",2018,"Nitra","30.3.-7.4.2018",2,13,0.9,null,null,{"$f":"VLOOKUP(G50,Kp!$A$4:$B$24,2,FALSE)","v":0},0,-0.9,"www.pribinacup.sk/","https://www.soaringspot.com/cs/pribina-cup-2018-nitra-2018/results/20m-multi-seat","Méně jak 3 platné disciplíny"]
[null,"Zařazené soutěže 2019:"]
[null,"AZ Cup 2019 - Klub","CZ",2019,"Zbraslavice","1.5.-11.5.19",6,37,0.9,5.0000000000000001E-3,null,{"$f":"VLOOKUP(G52,Kp!$A$4:$B$24,2,FALSE)","v":0.01},0.91500000000000004,1.5000000000000013E-2,null,"https://www.soaringspot.com/cs/az-cup-2019-zbraslavice-2019/results/klubova-trida"]
[null,"AZ Cup 2019 - Kombi","CZ",2019,"Zbraslavice","1.5.-11.5.19",6,30,0.9,2.5000000000000001E-2,null,{"$f":"VLOOKUP(G53,Kp!$A$4:$B$24,2,FALSE)","v":0.01},0.93500000000000005,3.5000000000000031E-2,null,"https://www.soaringspot.com/cs/az-cup-2019-zbraslavice-2019/results/kombinovana-trida"]
["15.","JPJ 2019 - Klub","CZ",2019,"Šumperk","1.5.-11.5.19",4,36,0.9,null,null,{"$f":"VLOOKUP(G54,Kp!$A$4:$B$24,2,FALSE)","v":0},0.9,0,null,"https://www.soaringspot.com/cs/jpj2019/results/klubova-trida"]
["15.","JPJ 2019 - Kombi","CZ",2019,"Šumperk","1.5.-11.5.19",5,28,0.9,null,null,{"$f":"VLOOKUP(G55,Kp!$A$4:$B$24,2,FALSE)","v":5.0000000000000001E-3},0.90500000000000003,5.0000000000000044E-3,null,"https://www.soaringspot.com/cs/jpj2019/results/kombi-trida"]
[null,"GGP MB 2019 - Klub GP","CZ",2019,"Mladá Boleslav","29.6.-6.7.19",6,9,0.9,null,null,{"$f":"VLOOKUP(G56,Kp!$A$4:$B$24,2,FALSE)","v":0.01},0,-0.9,null,"https://www.soaringspot.com/cs/gradient-club-grand-prix-2019-mlada-boleslav-2019/results/club-gp","Méně jak 10 soutěžících ve třídě"]
[null,"GGP MB 2019 - Pohár MV - Kombi","CZ",2019,"Mladá Boleslav","29.6.-6.7.19",6,6,0.75,null,null,{"$f":"VLOOKUP(G57,Kp!$A$4:$B$24,2,FALSE)","v":0.01},0,-0.75,null,"https://www.soaringspot.com/cs/gradient-club-grand-prix-2019-mlada-boleslav-2019/results/pohar-metodeje-vlach","Méně jak 10 soutěžících ve třídě"]
[null,"Adrenalin GP 2019 - Klub GP","CZ",2019,"Frýdlant n/Ostr.","28.6.-6.7.19",7,12,0.9,null,null,{"$f":"VLOOKUP(G58,Kp!$A$4:$B$24,2,FALSE)","v":1.4999999999999999E-2},0.91500000000000004,{"$f":"M58-I58","v":1.5000000000000013E-2},null,"https://www.soaringspot.com/cs/fl-2019-adrenalin-grand-prix-frydlant-2019/results/unknown"]
[null,"FL 2019 - Kombi","CZ",2019,"Frýdlant n/Ostr.","28.6.-6.7.19",7,14,0.75,null,null,{"$f":"VLOOKUP(G59,Kp!$A$4:$B$24,2,FALSE)","v":1.4999999999999999E-2},0.76500000000000001,1.5000000000000013E-2,null,"https://www.soaringspot.com/cs/fl-2019-adrenalin-grand-prix-frydlant-2019/results/fl"]
[null,"PMČRj 2019 - Klub","CZ",2019,"Jaroměř","30.6.-12.7.19",7,31,0.9,0.01,null,{"$f":"VLOOKUP(G60,Kp!$A$4:$B$24,2,FALSE)","v":1.4999999999999999E-2},0.92500000000000004,2.5000000000000022E-2,null,"https://www.soaringspot.com/cs/plachtarske-mistrovstvi-cr-junioru-a-akademiku-2019-jaromer-2019/results/club"]
[null,"Safari 2019 - Duo Kombi","CZ",2019,"Dvůr Králové","29.6.-13.7.19",7,15,0.75,5.0000000000000001E-3,null,{"$f":"VLOOKUP(G61,Kp!$A$4:$B$24,2,FALSE)","v":1.4999999999999999E-2},0.77,2.0000000000000018E-2,null,"https://www.soaringspot.com/cs/safari-cup-2019-dvur-kralove-nad-labem-2019/results/double-seater"]
[null,"Safari 2019 - Klub","CZ",2019,"Dvůr Králové","29.6.-13.7.19",7,28,0.75,null,null,{"$f":"VLOOKUP(G62,Kp!$A$4:$B$24,2,FALSE)","v":1.4999999999999999E-2},0.76500000000000001,1.5000000000000013E-2,null,"https://www.soaringspot.com/cs/safari-cup-2019-dvur-kralove-nad-labem-2019/results/klub"]
[null,"Safari 2019 - Kombi","CZ",2019,"Dvůr Králové","29.6.-13.7.19",7,11,0.75,5.0000000000000001E-3,null,{"$f":"VLOOKUP(G63,Kp!$A$4:$B$24,2,FALSE)","v":1.4999999999999999E-2},0.77,2.0000000000000018E-2,null,"https://www.soaringspot.com/cs/safari-cup-2019-dvur-kralove-nad-labem-2019/results/volna"]
[null,"PPV 2019 - Klub","CZ",2019,"Havlíčkův Brod","13.7.-20.7.19",4,47,0.9,null,null,{"$f":"VLOOKUP(G64,Kp!$A$4:$B$24,2,FALSE)","v":0},0.9,0,null,"https://www.soaringspot.com/cs/plachtarsky-pohar-vysociny-2019-havlickuv-brod-2019/results/klubova-trida"]
[null,"PPV 2019 - Kombi","CZ",2019,"Havlíčkův Brod","13.7.-20.7.19",4,19,0.9,5.0000000000000001E-3,null,{"$f":"VLOOKUP(G65,Kp!$A$4:$B$24,2,FALSE)","v":0},0.90500000000000003,5.0000000000000044E-3,null,"https://www.soaringspot.com/cs/plachtarsky-pohar-vysociny-2019-havlickuv-brod-2019/results/kombinovana-trida"]
[null,"Toužim Cup 2019 - Klub","CZ",2019,"Toužim","23.7.-21.7.19",5,31,0.9,5.0000000000000001E-3,null,{"$f":"VLOOKUP(G66,Kp!$A$4:$B$24,2,FALSE)","v":5.0000000000000001E-3},0.91,1.0000000000000009E-2,null,"https://www.soaringspot.com/cs/touzim-cup-2019-touzim1-2019/results/club"]
[null,"Toužim Cup 2019 - Kombi","CZ",2019,"Toužim","23.7.-21.7.19",5,22,0.9,null,null,{"$f":"VLOOKUP(G67,Kp!$A$4:$B$24,2,FALSE)","v":5.0000000000000001E-3},0.90500000000000003,{"$f":"M67-I67","v":5.0000000000000044E-3},null,"https://www.soaringspot.com/cs/touzim-cup-2019-touzim1-2019/results/kombi"]
[null,"PMRg 2019 - Klub","CZ",2019,"Vysoké Mýto","21.7.-3.8.19",8,24,0.9,1.4999999999999999E-2,null,{"$f":"VLOOKUP(G68,Kp!$A$4:$B$24,2,FALSE)","v":0.02},0.93500000000000005,3.5000000000000031E-2,null,"https://www.soaringspot.com/cs/plachtarske-mistrovstvi-regionu-2019-vysoke-myto-2019/results/klubova-trida"]
[null,"PMRg 2019 - Kombi","CZ",2019,"Vysoké Mýto","21.7.-3.8.19",8,13,0.9,1.4999999999999999E-2,null,{"$f":"VLOOKUP(G69,Kp!$A$4:$B$24,2,FALSE)","v":0.02},0.93500000000000005,3.5000000000000031E-2,null,"https://www.soaringspot.com/cs/plachtarske-mistrovstvi-regionu-2019-vysoke-myto-2019/results/kombinovana-trida"]
[null,"Pohár Českého Ráje 2019 - Kombi","CZ",2019,"Jičín","27.7.-3.8.19",3,12,0.75,null,null,{"$f":"VLOOKUP(G70,Kp!$A$4:$B$24,2,FALSE)","v":-0.02},0.73,-2.0000000000000018E-2,null,"https://www.soaringspot.com/cs/pohar-ceskeho-raje-2019-jicin-2019/results/unknown"]
[null,"Ranský Pohár 2019 - Kombi","CZ",2019,"Raná","27.7.-4.8.19",3,16,0.75,null,null,{"$f":"VLOOKUP(G71,Kp!$A$4:$B$24,2,FALSE)","v":-0.02},0.73,-2.0000000000000018E-2,null,"https://www.soaringspot.com/cs/ransky-pohar-2019-rana-loumy-2019/results/club"]
["18.","HOP 2019 - Klub","CZ",2019,"Hronov","10.8.-17.8.19",2,27,0.75,null,null,{"$f":"VLOOKUP(G72,Kp!$A$4:$B$24,2,FALSE)","v":0},0,-0.75,null,"https://www.soaringspot.com/cs/18-hop-2019-velke-porici-2019/results/klub-hop","Méně jak 3 platné disciplíny"]
["18.","HOP 2019 - Kombi","CZ",2019,"Hronov","10.8.-17.8.19",5,16,0.75,null,null,{"$f":"VLOOKUP(G73,Kp!$A$4:$B$24,2,FALSE)","v":5.0000000000000001E-3},0.755,{"$f":"M73-I73","v":5.0000000000000044E-3},null,"https://www.soaringspot.com/cs/18-hop-2019-velke-porici-2019/results/kombi-ppf"]
[null,"PMCŘ 2019 - Klub","CZ",2019,"Moravská Třebová","12.8.-24.8.19",7,28,1,0.05,null,{"$f":"VLOOKUP(G74,Kp!$A$4:$B$24,2,FALSE)","v":1.4999999999999999E-2},1.0649999999999999,6.4999999999999947E-2,null,"https://www.soaringspot.com/cs/plachtarske-mistrovstvi-cr-2019-moravska-trebova-2019/results/15-meter"]
[null,"PMCŘ 2019 - Kombi 15m","CZ",2019,"Moravská Třebová","12.8.-24.8.19",6,13,1,0.04,0.02,{"$f":"VLOOKUP(G75,Kp!$A$4:$B$24,2,FALSE)","v":0.01},1.07,{"$f":"M75-I75","v":7.0000000000000062E-2},null,"https://www.soaringspot.com/cs/plachtarske-mistrovstvi-cr-2019-moravska-trebova-2019/results/kombi-15m"]
[null,"PMCŘ 2019 - Kombi Open","CZ",2019,"Moravská Třebová","12.8.-24.8.19",7,13,1,1.4999999999999999E-2,null,{"$f":"VLOOKUP(G76,Kp!$A$4:$B$24,2,FALSE)","v":1.4999999999999999E-2},1.0299999999999998,2.9999999999999805E-2,null,"https://www.soaringspot.com/cs/plachtarske-mistrovstvi-cr-2019-moravska-trebova-2019/results/kombi-open"]
[null,"Zbraslavický bludišťák 2019 - Kombi","CZ",2019,"Zbraslavice","31.8.-15.9.19",2,19,0.75,null,null,{"$f":"VLOOKUP(G77,Kp!$A$4:$B$24,2,FALSE)","v":0},0,-0.75,null,"https://www.soaringspot.com/cs/zbraslavicky-bludistak-zbraslavice-2019/results/otevrena-trida","Méně jak 3 platné disciplíny"]
[null,"Pribina Cup 2019 - Klub","SK",2019,"Nitra","19.4.-27.4.19",4,43,0.9,4.4999999999999998E-2,null,{"$f":"VLOOKUP(G78,Kp!$A$4:$B$24,2,FALSE)","v":0},0.94500000000000006,4.500000000000004E-2,null,"https://www.soaringspot.com/cs/pribina-cup-2019-nitra-2019/results/club"]
[null,"Pribina Cup 2019 - Kombi 15m","SK",2019,"Nitra","19.4.-27.4.19",5,37,0.9,4.4999999999999998E-2,null,{"$f":"VLOOKUP(G79,Kp!$A$4:$B$24,2,FALSE)","v":5.0000000000000001E-3},0.95000000000000007,5.0000000000000044E-2,null,"https://www.soaringspot.com/cs/pribina-cup-2019-nitra-2019/results/15m"]
[null,"Pribina Cup 2019 - Kombi Open","SK",2019,"Nitra","19.4.-27.4.19",4,36,0.9,6.5000000000000002E-2,null,{"$f":"VLOOKUP(G80,Kp!$A$4:$B$24,2,FALSE)","v":0},0.96500000000000008,6.5000000000000058E-2,null,"https://www.soaringspot.com/cs/pribina-cup-2019-nitra-2019/results/open"]
[null,"Pribina Cup 2019 - Duo 20m","SK",2019,"Nitra","19.4.-27.4.19",5,13,0.9,1.4999999999999999E-2,null,{"$f":"VLOOKUP(G81,Kp!$A$4:$B$24,2,FALSE)","v":5.0000000000000001E-3},0.92,2.0000000000000018E-2,null,"https://www.soaringspot.com/cs/pribina-cup-2019-nitra-2019/results/20m-double-seater"]
[null,"FCC 2019 - Klub","SK",2019,"Prievidza","28.4.-9.5.19",4,39,0.9,6.5000000000000002E-2,null,{"$f":"VLOOKUP(G82,Kp!$A$4:$B$24,2,FALSE)","v":0},0.96500000000000008,6.5000000000000058E-2,null,"https://www.soaringspot.com/cs/fcc-gliding-2019-prievidza-2019/results/club"]
[null,"FCC 2019 - Kombi 15m","SK",2019,"Prievidza","28.4.-9.5.19",4,38,0.9,0.08,null,{"$f":"VLOOKUP(G83,Kp!$A$4:$B$24,2,FALSE)","v":0},0.98,7.999999999999996E-2,null,"https://www.soaringspot.com/cs/fcc-gliding-2019-prievidza-2019/results/15-m"]
[null,"FCC 2019 - Kombi Open","SK",2019,"Prievidza","28.4.-9.5.19",4,27,0.9,3.5000000000000003E-2,null,{"$f":"VLOOKUP(G84,Kp!$A$4:$B$24,2,FALSE)","v":0},0.93500000000000005,3.5000000000000031E-2,null,"https://www.soaringspot.com/cs/fcc-gliding-2019-prievidza-2019/results/combi"]
[null,"Šariš Cup 2019 - Klub","SK",2019,"Ražňany","1.6.-9.6.19",4,14,0.75,null,null,{"$f":"VLOOKUP(G85,Kp!$A$4:$B$24,2,FALSE)","v":0},0.75,0,null,"https://www.soaringspot.com/cs/sariscup2019/results/club"]
[null,"Šariš Cup 2019 - Kombi","SK",2019,"Ražňany","1.6.-9.6.19",5,6,0.75,null,null,{"$f":"VLOOKUP(G86,Kp!$A$4:$B$24,2,FALSE)","v":5.0000000000000001E-3},0,{"$f":"M86-I86","v":-0.75},null,"https://www.soaringspot.com/cs/sariscup2019/results/combi","Méně jak 10 soutěžících ve třídě"]
[null,"PMSR 2019 - Klub","SK",2019,"Martin","16.6.-28.6.19",7,24,0.9,5.0000000000000001E-3,null,{"$f":"VLOOKUP(G87,Kp!$A$4:$B$24,2,FALSE)","v":1.4999999999999999E-2},0.92,2.0000000000000018E-2,null,"https://www.soaringspot.com/cs/62-majstrovstva-sr-vbezmotorovom-lietani-2019-martin-2019/results/klubova-trieda"]
[null,"PMSR 2019 - Kombi 15m","SK",2019,"Martin","16.6.-28.6.19",7,10,0.9,1.4999999999999999E-2,null,{"$f":"VLOOKUP(G88,Kp!$A$4:$B$24,2,FALSE)","v":1.4999999999999999E-2},0.93,{"$f":"M88-I88","v":3.0000000000000027E-2},null,"https://www.soaringspot.com/cs/62-majstrovstva-sr-vbezmotorovom-lietani-2019-martin-2019/results/15m-standard-trieda"]
[null,"PMSR 2019 - Kombi Open","SK",2019,"Martin","16.6.-28.6.19",7,14,0.9,5.0000000000000001E-3,null,{"$f":"VLOOKUP(G89,Kp!$A$4:$B$24,2,FALSE)","v":1.4999999999999999E-2},0.92,{"$f":"M89-I89","v":2.0000000000000018E-2},null,"https://www.soaringspot.com/cs/62-majstrovstva-sr-vbezmotorovom-lietani-2019-martin-2019/results/kombinovana-trieda"]
["39.","MAM 2019 - Klub","SK",2019,"Partizánske","30.6.-11.7.19",9,34,0.75,null,null,{"$f":"VLOOKUP(G90,Kp!$A$4:$B$24,2,FALSE)","v":2.5000000000000001E-2},0.77500000000000002,2.5000000000000022E-2,null,"https://www.soaringspot.com/cs/39-memorial-alexandra-makarenka-2019-male-bielice-2019/results/klubova-trieda"]
["39.","MAM 2019 - Kombi","SK",2019,"Partizánske","30.6.-11.7.19",9,10,0.75,null,null,{"$f":"VLOOKUP(G91,Kp!$A$4:$B$24,2,FALSE)","v":2.5000000000000001E-2},0.77500000000000002,{"$f":"M91-I91","v":2.5000000000000022E-2},null,"https://www.soaringspot.com/cs/39-memorial-alexandra-makarenka-2019-male-bielice-2019/results/kombinovana-treida"]
["20.","EGC 2019 - Std","SK",2019,"Prievidza","7.7.-20.7.19",12,29,1,7.4999999999999997E-2,null,{"$f":"VLOOKUP(G92,Kp!$A$4:$B$24,2,FALSE)","v":0.03},1.105,0.10499999999999998,null,"https://www.soaringspot.com/cs/20th-fai-european-gliding-championship-2019-prievidza-2019/results/standard"]
["20.","EGC 2019 - Klub","SK",2019,"Prievidza","7.7.-20.7.19",12,31,1,7.4999999999999997E-2,null,{"$f":"VLOOKUP(G93,Kp!$A$4:$B$24,2,FALSE)","v":0.03},1.105,{"$f":"M93-I93","v":0.10499999999999998},null,"https://www.soaringspot.com/cs/20th-fai-european-gliding-championship-2019-prievidza-2019/results/club"]
["20.","EGC 2019 - 15m","SK",2019,"Prievidza","7.7.-20.7.19",12,22,1,7.4999999999999997E-2,null,{"$f":"VLOOKUP(G94,Kp!$A$4:$B$24,2,FALSE)","v":0.03},1.105,{"$f":"M94-I94","v":0.10499999999999998},null,"https://www.soaringspot.com/cs/20th-fai-european-gliding-championship-2019-prievidza-2019/results/15m"]
[null,"Top Gun 2019 - Kombi","SK",2019,"Prievidza","10.8.-17.8.19",3,10,0.75,null,null,{"$f":"VLOOKUP(G95,Kp!$A$4:$B$24,2,FALSE)","v":-0.02},{"$f":"IF(OR(G95=0,G95=1,G95=2),0,IF(H95<10,0,SUM(I95:L95)))","v":0.73},-2.0000000000000018E-2,null,"https://www.soaringspot.com/cs/top-gun-prievidza-2019-prievidza-2019/results/top-gun"]
["20.","EGC 2019 - Open","PL",2019,"Stalowa Wola-Turbia","11.5.-25.5.19",5,17,1,5.5E-2,null,{"$f":"VLOOKUP(G96,Kp!$A$4:$B$24,2,FALSE)","v":5.0000000000000001E-3},1.0599999999999998,5.9999999999999831E-2,"https://egc2019.pl/","https://www.soaringspot.com/en_gb/egc019/results/open"]
["20.","EGC 2019 - 18m","PL",2019,"Stalowa Wola-Turbia","11.5.-25.5.19",5,28,1,8.5000000000000006E-2,null,{"$f":"VLOOKUP(G97,Kp!$A$4:$B$24,2,FALSE)","v":5.0000000000000001E-3},1.0899999999999999,{"$f":"M97-I97","v":8.9999999999999858E-2},"https://egc2019.pl/","https://www.soaringspot.com/en_gb/egc019/results/18m"]
["20.","EGC 2019 - Duo 20m","PL",2019,"Stalowa Wola-Turbia","11.5.-25.5.19",5,14,1,0.06,null,{"$f":"VLOOKUP(G98,Kp!$A$4:$B$24,2,FALSE)","v":5.0000000000000001E-3},1.0649999999999999,{"$f":"M98-I98","v":6.4999999999999947E-2},"https://egc2019.pl/","https://www.soaringspot.com/en_gb/egc019/results/20m-multi-seat"]
["27.","Alpe Adria Cup 2019 - Klub","AT",2019,"Feldkirchen","25.5.-1.6.19",3,20,0.75,null,null,{"$f":"VLOOKUP(G99,Kp!$A$4:$B$24,2,FALSE)","v":-0.02},0.73,-2.0000000000000018E-2,null,"https://www.soaringspot.com/cs/aac2019/results/106er-klasse"]
["27.","Alpe Adria Cup 2019 - Kombi","AT",2019,"Feldkirchen","25.5.-1.6.19",3,23,0.75,null,null,{"$f":"VLOOKUP(G100,Kp!$A$4:$B$24,2,FALSE)","v":-0.02},0.73,{"$f":"M100-I100","v":-2.0000000000000018E-2},null,"https://www.soaringspot.com/cs/aac2019/results/offene-klasse"]
[null,"OSS 2019 - Klub","AT",2019,"Dobersberg","3.8.-10.8.19",4,16,0.9,5.0000000000000001E-3,null,{"$f":"VLOOKUP(G101,Kp!$A$4:$B$24,2,FALSE)","v":0},{"$f":"IF(OR(G101=0,G101=1,G101=2),0,IF(H101<10,0,SUM(I101:L101)))","v":0.90500000000000003},5.0000000000000044E-3,null,"https://www.soaringspot.com/cs/ssm2019/results/club"]
[null,"OSS 2019 - 18m","AT",2019,"Dobersberg","3.8.-10.8.19",4,19,0.9,1.4999999999999999E-2,null,{"$f":"VLOOKUP(G102,Kp!$A$4:$B$24,2,FALSE)","v":0},0.91500000000000004,{"$f":"M102-I102","v":1.5000000000000013E-2},null,"https://www.soaringspot.com/cs/ssm2019/results/18-meter"]
[null,"OSS 2019 - Open","AT",2019,"Dobersberg","3.8.-10.8.19",4,8,0.9,null,null,{"$f":"VLOOKUP(G103,Kp!$A$4:$B$24,2,FALSE)","v":0},0,{"$f":"M103-I103","v":-0.9},null,"https://www.soaringspot.com/cs/ssm2019/results/open","Méně jak 10 soutěžících ve třídě"]
[null,"OSS 2019 - Kombi","AT",2019,"Dobersberg","3.8.-10.8.19",4,11,0.9,null,null,{"$f":"VLOOKUP(G104,Kp!$A$4:$B$24,2,FALSE)","v":0},0.9,0,null,"https://www.soaringspot.com/cs/ssm2019/results/mixed"]
["11.","WGC Juniors 2019 - Klub","HU",2019,"Szeged","28.7.-10.8.19",11,44,1,1.4999999999999999E-2,null,{"$f":"VLOOKUP(G105,Kp!$A$4:$B$24,2,FALSE)","v":0.03},1.0449999999999999,4.4999999999999929E-2,null,"https://www.soaringspot.com/cs/11th-fai-junior-world-gliding-championships-szeged-2019/results/club"]
["11.","WGC Juniors 2019 - Std","HU",2019,"Szeged","28.7.-10.8.19",10,36,1,0.04,null,{"$f":"VLOOKUP(G106,Kp!$A$4:$B$24,2,FALSE)","v":0.03},1.07,7.0000000000000062E-2,null,"https://www.soaringspot.com/cs/11th-fai-junior-world-gliding-championships-szeged-2019/results/standard"]
[null,"SGP 2019 BH - 18m GP","BH",2019,"Livno","27.7.-3.8.19",6,15,0.9,1.4999999999999999E-2,null,{"$f":"VLOOKUP(G107,Kp!$A$4:$B$24,2,FALSE)","v":0.01},0.92500000000000004,{"$f":"M107-I107","v":2.5000000000000022E-2},null,"http://www.sgp.aero/bosnia2018/results-sgp/results.aspx?contestID=32417"]
["9.","WSGP Final 2019 - 18m GP","SP",2019,"La Cerdanya","1.6.-8.6.19",6,19,1,7.0000000000000007E-2,null,{"$f":"VLOOKUP(G108,Kp!$A$4:$B$24,2,FALSE)","v":0.01},{"$f":"IF(OR(G108=0,G108=1,G108=2),0,IF(H108<10,0,SUM(I108:L108)))","v":1.08},8.0000000000000071E-2,null,"http://www.sgp.aero/finals2019/results-sgp/results.aspx"]
[null,"Zařazené soutěže 2020:"]
[null,"AZ Cup 2020 - Klub","CZ",2020,"Zbraslavice","3.5.-7.6.20",3,27,0.9,1.4999999999999999E-2,0.01,{"$f":"VLOOKUP(G110,Kp!$A$4:$B$24,2,FALSE)","v":-0.02},{"$f":"IF(OR(G110=0,G110=1,G110=2),0,IF(H110<10,0,SUM(I110:L110)))","v":0.90500000000000003},{"$f":"M110-I110","v":5.0000000000000044E-3},null,"https://www.soaringspot.com/cs/az-cup-2020-zbraslavice-2020/results/klubova-trida"]
[null,"AZ Cup 2020 - Kombi A","CZ",2020,"Zbraslavice","3.5.-7.6.20",3,20,0.9,0.02,null,{"$f":"VLOOKUP(G111,Kp!$A$4:$B$24,2,FALSE)","v":-0.02},0.9,{"$f":"M111-I111","v":0},null,"https://www.soaringspot.com/cs/az-cup-2020-zbraslavice-2020/results/15m-trida"]
[null,"AZ Cup 2020 - Kombi B","CZ",2020,"Zbraslavice","3.5.-7.6.20",3,21,0.9,0.04,0.01,{"$f":"VLOOKUP(G112,Kp!$A$4:$B$24,2,FALSE)","v":-0.02},0.93,{"$f":"M112-I112","v":3.0000000000000027E-2},null,"https://www.soaringspot.com/cs/az-cup-2020-zbraslavice-2020/results/kombinovana-trida"]
[null,"Závody Šohajů 2020 - Klub","CZ",2020,"Raná","20.6.-27.6.20",2,15,0.75,null,null,{"$f":"VLOOKUP(G113,Kp!$A$4:$B$24,2,FALSE)","v":0},0,-0.75,null,"https://www.soaringspot.com/cs/zavody-sohaju-a-historickych-kluzaku-2020-rana-loumy-2020/results/oldtimer","Méně jak 3 platné disciplíny"]
[null,"Safari 2020 - Kombi","CZ",2020,"Dvůr Králové","28.6.-11.7.20",5,12,0.75,0.01,null,{"$f":"VLOOKUP(G114,Kp!$A$4:$B$24,2,FALSE)","v":5.0000000000000001E-3},0.76500000000000001,1.5000000000000013E-2,null,"https://www.soaringspot.com/cs/safari-cup-2020-dvur-kralove-nad-labem-2020/results/volna"]
[null,"Safari 2020 - Klub","CZ",2020,"Dvůr Králové","28.6.-11.7.20",4,26,0.75,null,null,{"$f":"VLOOKUP(G115,Kp!$A$4:$B$24,2,FALSE)","v":0},0.75,{"$f":"M115-I115","v":0},null,"https://www.soaringspot.com/cs/safari-cup-2020-dvur-kralove-nad-labem-2020/results/klub"]
[null,"Safari 2020 - Duo Kombi","CZ",2020,"Dvůr Králové","28.6.-11.7.20",1,14,0.75,null,null,{"$f":"VLOOKUP(G116,Kp!$A$4:$B$24,2,FALSE)","v":0},0,-0.75,null,"https://www.soaringspot.com/cs/safari-cup-2020-dvur-kralove-nad-labem-2020/results/duo-blanik","Méně jak 3 platné disciplíny"]
[null,"Toužim Cup 2020 - Klub","CZ",2020,"Toužim","11.7.-19.7.20",5,30,0.9,0.01,null,{"$f":"VLOOKUP(G117,Kp!$A$4:$B$24,2,FALSE)","v":5.0000000000000001E-3},0.91500000000000004,1.5000000000000013E-2,null,"https://www.soaringspot.com/cs/tcup2020/results/klub"]
[null,"Toužim Cup 2020 - Kombi","CZ",2020,"Toužim","11.7.-19.7.20",5,23,0.9,5.0000000000000001E-3,null,{"$f":"VLOOKUP(G118,Kp!$A$4:$B$24,2,FALSE)","v":5.0000000000000001E-3},0.91,1.0000000000000009E-2,null,"https://www.soaringspot.com/cs/tcup2020/results/kombi"]
[null,"PMRg 2020 - Klub","CZ",2020,"Hosín","12.7.-25.7.20",5,24,0.9,0.01,null,{"$f":"VLOOKUP(G119,Kp!$A$4:$B$24,2,FALSE)","v":5.0000000000000001E-3},0.91500000000000004,1.5000000000000013E-2,null,"https://www.soaringspot.com/cs/plachtarske-mistrovstvi-regionu-cr-hosin-2020/results/klubova-trida"]
[null,"PMRg 2020 - Kombi","CZ",2020,"Hosín","12.7.-25.7.20",5,12,0.9,1.4999999999999999E-2,null,{"$f":"VLOOKUP(G120,Kp!$A$4:$B$24,2,FALSE)","v":5.0000000000000001E-3},0.92,2.0000000000000018E-2,null,"https://www.soaringspot.com/cs/plachtarske-mistrovstvi-regionu-cr-hosin-2020/results/kombinovana-trida"]
[null,"Ranský Pohár 2020 - Kombi","CZ",2020,"Raná","18.7.-26.7.20",6,24,0.75,null,null,{"$f":"VLOOKUP(G121,Kp!$A$4:$B$24,2,FALSE)","v":0.01},0.76,1.0000000000000009E-2,null,"https://www.soaringspot.com/cs/ransky-pohar-2020-rana-loumy-2020/results/combi"]
["16.","JPJ 2020 - Klub","CZ",2020,"Šumperk","25.7.-1.8.20",6,33,0.9,null,null,{"$f":"VLOOKUP(G122,Kp!$A$4:$B$24,2,FALSE)","v":0.01},0.91,1.0000000000000009E-2,null,"https://www.soaringspot.com/cs/jpj2020/results/klubova-trida"]
["16.","JPJ 2020 - Kombi","CZ",2020,"Šumperk","25.7.-1.8.20",6,21,0.9,null,null,{"$f":"VLOOKUP(G123,Kp!$A$4:$B$24,2,FALSE)","v":0.01},0.91,1.0000000000000009E-2,null,"https://www.soaringspot.com/cs/jpj2020/results/kombi-trida"]
[null,"PMCŘ 2020 - Klub","CZ",2020,"Tábor","26.7.-8.8.20",9,25,1,0.04,0.02,{"$f":"VLOOKUP(G124,Kp!$A$4:$B$24,2,FALSE)","v":2.5000000000000001E-2},1.085,{"$f":"M124-I124","v":8.4999999999999964E-2},null,"https://www.soaringspot.com/cs/plachtarske-mistrovstvi-cr-2020-tabor-2020/results/club"]
[null,"PMCŘ 2020 - Kombi 15m","CZ",2020,"Tábor","26.7.-8.8.20",9,22,1,4.4999999999999998E-2,0.02,{"$f":"VLOOKUP(G125,Kp!$A$4:$B$24,2,FALSE)","v":2.5000000000000001E-2},1.0899999999999999,{"$f":"M125-I125","v":8.9999999999999858E-2},null,"https://www.soaringspot.com/cs/plachtarske-mistrovstvi-cr-2020-tabor-2020/results/15-mixed"]
[null,"PMCŘ 2020 - Kombi Open","CZ",2020,"Tábor","26.7.-8.8.20",9,21,1,3.5000000000000003E-2,0.01,{"$f":"VLOOKUP(G126,Kp!$A$4:$B$24,2,FALSE)","v":2.5000000000000001E-2},1.0699999999999998,{"$f":"M126-I126","v":6.999999999999984E-2},null,"https://www.soaringspot.com/cs/plachtarske-mistrovstvi-cr-2020-tabor-2020/results/open-mixed"]
[null,"Pohár Českého Ráje 2020 - Kombi","CZ",2020,"Jičín","1.8.-8.8.20",4,9,0.75,null,null,{"$f":"VLOOKUP(G127,Kp!$A$4:$B$24,2,FALSE)","v":0},0,-0.75,null,"https://www.soaringspot.com/cs/pohar-ceskeho-raje-2020-jicin-2020/results/club","Méně jak 10 soutěžících ve třídě"]
[null,"PMČRj 2020 - Klub","CZ",2020,"Zbraslavice","8.8.-22.8.20",8,37,0.9,0.01,null,{"$f":"VLOOKUP(G128,Kp!$A$4:$B$24,2,FALSE)","v":0.02},0.93,{"$f":"M128-I128","v":3.0000000000000027E-2},null,"https://www.soaringspot.com/cs/plachtarske-mcr-junioru-a-akademiku-2020-zbraslavice-2020/results/klubova-trida"]
["19.","HOP 2020 - Klub","CZ",2020,"Hronov","8.8.-15.8.20",5,26,0.75,null,null,{"$f":"VLOOKUP(G129,Kp!$A$4:$B$24,2,FALSE)","v":5.0000000000000001E-3},0.755,5.0000000000000044E-3,null,"https://www.soaringspot.com/cs/19-hop-2020-velke-porici-2020/results/klub-hop"]
["19.","HOP 2020 - Kombi","CZ",2020,"Hronov","8.8.-15.8.20",5,19,0.75,5.0000000000000001E-3,null,{"$f":"VLOOKUP(G130,Kp!$A$4:$B$24,2,FALSE)","v":5.0000000000000001E-3},0.76,1.0000000000000009E-2,null,"https://www.soaringspot.com/cs/19-hop-2020-velke-porici-2020/results/kombi-ppf"]
[null,"Adrenalin GP 2020 - Klub GP","CZ",2020,"Frýdlant n/Ostr.","15.8.-22.8.20",3,9,0.9,null,null,{"$f":"VLOOKUP(G131,Kp!$A$4:$B$24,2,FALSE)","v":-0.02},0,{"$f":"M131-I131","v":-0.9},null,"https://www.soaringspot.com/cs/fl-2020-adrenalin-grand-prix-frydlant-2020/results/agp","Méně jak 10 soutěžících ve třídě"]
[null,"FL 2020 - Kombi","CZ",2020,"Frýdlant n/Ostr.","15.8.-22.8.20",2,11,0.75,null,null,{"$f":"VLOOKUP(G132,Kp!$A$4:$B$24,2,FALSE)","v":0},0,-0.75,null,"https://www.soaringspot.com/cs/fl-2020-adrenalin-grand-prix-frydlant-2020/results/fl","Méně jak 3 platné disciplíny"]
[null,"Pozdní sběr 2020 - Kombi","CZ",2020,"Zbraslavice","12.9.-28.9.20",2,7,0.75,null,null,{"$f":"VLOOKUP(G133,Kp!$A$4:$B$24,2,FALSE)","v":0},0,-0.75,null,"https://www.soaringspot.com/cs/pozdni-sber-zbraslavice-2020/results/klub","Méně jak 10 soutěžících ve třídě, méně jak 3 platné disciplíny"]
[null,"PMSR 2020 - Klub","SK",2020,"Partizánske","5.7.-18.7.20",9,25,0.9,0.01,null,{"$f":"VLOOKUP(G134,Kp!$A$4:$B$24,2,FALSE)","v":2.5000000000000001E-2},0.93500000000000005,3.5000000000000031E-2,null,"https://www.soaringspot.com/cs/63-majstrovstva-slovenska-v-bezmotorovom-lietani-2020/results/klubova-tireda"]
[null,"PMSR 2020 - Kombi 15m","SK",2020,"Partizánske","5.7.-18.7.20",9,11,0.9,0.01,null,{"$f":"VLOOKUP(G135,Kp!$A$4:$B$24,2,FALSE)","v":2.5000000000000001E-2},0.93500000000000005,3.5000000000000031E-2,null,"https://www.soaringspot.com/cs/63-majstrovstva-slovenska-v-bezmotorovom-lietani-2020/results/15m-trieda"]
[null,"PMSR 2020 - Kombi Open","SK",2020,"Partizánske","5.7.-18.7.20",9,20,0.9,0.01,null,{"$f":"VLOOKUP(G136,Kp!$A$4:$B$24,2,FALSE)","v":2.5000000000000001E-2},0.93500000000000005,3.5000000000000031E-2,null,"https://www.soaringspot.com/cs/63-majstrovstva-slovenska-v-bezmotorovom-lietani-2020/results/kombinovana-treida"]
[null,"Šariš Cup 2020 - Klub","SK",2020,"Ražňany","1.8.-9.8.20",7,11,0.75,null,null,{"$f":"VLOOKUP(G137,Kp!$A$4:$B$24,2,FALSE)","v":1.4999999999999999E-2},0.76500000000000001,1.5000000000000013E-2,null,"https://www.soaringspot.com/cs/sariscup2020/results/club"]
[null,"FCC 2020 - Klub","SK",2020,"Prievidza","2.8.-13.8.20",9,11,0.9,null,null,{"$f":"VLOOKUP(G138,Kp!$A$4:$B$24,2,FALSE)","v":2.5000000000000001E-2},0.92500000000000004,2.5000000000000022E-2,null,"https://www.soaringspot.com/cs/fcc-gliding-2020-prievidza-2020/results/club"]
[null,"FCC 2020 - Kombi","SK",2020,"Prievidza","2.8.-13.8.20",10,17,0.9,5.0000000000000001E-3,0.01,{"$f":"VLOOKUP(G139,Kp!$A$4:$B$24,2,FALSE)","v":0.03},0.94500000000000006,4.500000000000004E-2,null,"https://www.soaringspot.com/cs/fcc-gliding-2020-prievidza-2020/results/combi"]
[null,"Oldtimer Pribina Star 2020 - Klub","SK",2020,"Nitra","7.8.-15.8.20",4,16,0.75,null,null,{"$f":"VLOOKUP(G140,Kp!$A$4:$B$24,2,FALSE)","v":0},0.75,0,null,"https://www.soaringspot.com/cs/oldtimer-pribina-star-2020-nitra-2020/results/klub"]
[null,"Fatraglide 2020 - Klub","SK",2020,"Martin","15.8.-22.8.20",3,10,0.75,null,null,{"$f":"VLOOKUP(G141,Kp!$A$4:$B$24,2,FALSE)","v":-0.02},0.73,-2.0000000000000018E-2,"http://www.fatraglide.sk/","https://www.soaringspot.com/cs/fatraglide-2020-martin-2020/results/klubova-trieda"]
[null,"Fatraglide 2020 - Kombi","SK",2020,"Martin","15.8.-22.8.20",5,18,0.75,5.0000000000000001E-3,null,{"$f":"VLOOKUP(G142,Kp!$A$4:$B$24,2,FALSE)","v":5.0000000000000001E-3},0.76,{"$f":"M142-I142","v":1.0000000000000009E-2},"http://www.fatraglide.sk/","https://www.soaringspot.com/cs/fatraglide-2020-martin-2020/results/kombinovana-trieda"]
[null,"Septembrova cena 2020 - Kombi","SK",2020,"Trnava","29.8.-1.9.20",1,12,0.75,null,null,{"$f":"VLOOKUP(G143,Kp!$A$4:$B$24,2,FALSE)","v":0},0,-0.75,null,"https://www.soaringspot.com/cs/septembrova-cena-2020-trnava-2020/results/klub","Méně jak 3 platné disciplíny"]
["28.","Alpe Adria Cup 2020 - Kombi 106","AT",2020,"Feldkirchen","4.7.-11.7.20",7,21,0.75,null,null,{"$f":"VLOOKUP(G144,Kp!$A$4:$B$24,2,FALSE)","v":1.4999999999999999E-2},0.76500000000000001,{"$f":"M144-I144","v":1.5000000000000013E-2},null,"https://www.soaringspot.com/cs/aac2020/results/106er"]
["28.","Alpe Adria Cup 2020 - Kombi Open","AT",2020,"Feldkirchen","4.7.-11.7.20",7,24,0.75,null,0.01,{"$f":"VLOOKUP(G145,Kp!$A$4:$B$24,2,FALSE)","v":1.4999999999999999E-2},0.77500000000000002,{"$f":"M145-I145","v":2.5000000000000022E-2},null,"https://www.soaringspot.com/cs/aac2020/results/offene-klasse"]
[null,"GGP MB 2020 - Gradient GP","CZ",2020,"Mladá Boleslav","22.8.-29.8.20",4,10,0.9,0,0,{"$f":"VLOOKUP(G146,Kp!$A$4:$B$24,2,FALSE)","v":0},{"$f":"IF(OR(G146=0,G146=1,G146=2),0,IF(H146<10,0,SUM(I146:L146)))","v":0.9},{"$f":"M146-I146","v":0},null,"https://www.soaringspot.com/cs/ggp2020/results/gradient-gp"]
[null,"GGP MB 2020 - Klub GP","CZ",2020,"Mladá Boleslav","22.8.-29.8.20",5,13,0.9,5.0000000000000001E-3,0.01,{"$f":"VLOOKUP(G147,Kp!$A$4:$B$24,2,FALSE)","v":5.0000000000000001E-3},{"$f":"IF(OR(G147=0,G147=1,G147=2),0,IF(H147<10,0,SUM(I147:L147)))","v":0.92},2.0000000000000018E-2,null,"https://www.soaringspot.com/cs/ggp2020/results/club-gp"]
[null,"GGP MB 2020 - Pohár MV - Kombi","CZ",2020,"Mladá Boleslav","22.8.-29.8.20",5,19,0.9,2.5000000000000001E-2,0,{"$f":"VLOOKUP(G148,Kp!$A$4:$B$24,2,FALSE)","v":5.0000000000000001E-3},0.93,{"$f":"M148-I148","v":3.0000000000000027E-2},null,"https://www.soaringspot.com/cs/ggp2020/results/open"]
["10.","WGC Women 2020 - Klub","AU",2020,"Lake Keepit","3.1.-17.1.20",9,17,1,0.02,0.01,{"$f":"VLOOKUP(G149,Kp!$A$4:$B$24,2,FALSE)","v":2.5000000000000001E-2},{"$f":"IF(OR(G149=0,G149=1,G149=2),0,IF(H149<10,0,SUM(I149:L149)))","v":1.0549999999999999},{"$f":"M149-I149","v":5.4999999999999938E-2},null,"https://www.soaringspot.com/cs/10th-fai-womens-world-gliding-championship-lake-keepit-2020/results/club"]
["10.","WGC Women 2020 - Std","AU",2020,"Lake Keepit","3.1.-17.1.20",9,16,1,5.0000000000000001E-3,0.04,{"$f":"VLOOKUP(G150,Kp!$A$4:$B$24,2,FALSE)","v":2.5000000000000001E-2},{"$f":"IF(OR(G150=0,G150=1,G150=2),0,IF(H150<10,0,SUM(I150:L150)))","v":1.0699999999999998},6.999999999999984E-2,null,"https://www.soaringspot.com/cs/10th-fai-womens-world-gliding-championship-lake-keepit-2020/results/standard"]
["10.","WGC Women 2020 - 18m","AU",2020,"Lake Keepit","3.1.-17.1.20",9,14,1,5.0000000000000001E-3,0.03,{"$f":"VLOOKUP(G151,Kp!$A$4:$B$24,2,FALSE)","v":2.5000000000000001E-2},1.0599999999999998,5.9999999999999831E-2,null,"https://www.soaringspot.com/cs/10th-fai-womens-world-gliding-championship-lake-keepit-2020/results/18-meter"]
[]
[]
[null,"Schváleno Plachtařskou komisí AeČR dne xx.yy.2020 v ZZZZ"]

{"sheet":"Kp","index":2,"n_rows":24,"n_cols":2,"rows_kept":24,"cut":false,"hidden":true,"merged":[]}
["Korekce na počet platných disciplín"]
[]
["Počet platných disciplín","Korekce Kp"]
[0,0]
[1,0]
[2,0]
[3,-0.02]
[4,0]
[5,5.0000000000000001E-3]
[6,0.01]
[7,1.4999999999999999E-2]
[8,0.02]
[9,2.5000000000000001E-2]
[10,0.03]
[11,0.03]
[12,0.03]
[13,0.03]
[14,0.03]
[15,0.03]
[16,0.03]
[17,0.03]
[18,0.03]
[19,0.03]
[20,0.03]

{"sheet":"Pilot","index":3,"n_rows":961,"n_cols":17,"rows_kept":961,"cut":false,"hidden":false,"merged":[]}
["Jmeno","Rok nar.","Aeroklub","Region","M/F","Junior v roce",2021,"Hranice pro juniory:\n/ Poznámka:",{"$f":"G1-25","v":1996},"Počet Jun:",{"$f":"COUNTIF(F3:F2127,\"Junior v roce \"&G1)","v":65},"Počet F:",{"$f":"COUNTIF(E3:E2127,\"F\")","v":72},"Počet M:",{"$f":"COUNTIF(E3:E2127,\"M\")","v":887},"Počet celk:",{"$f":"COUNTIF(A3:A2127,\"<>\")","v":959}]
["-"," "," "," "," "," "]
["Adam Jandora",1992,"Medlánky",{"$f":"VLOOKUP(C3,Region,2,0)","v":"CZ/M"},"M",{"$f":"IF(A3=\"(prázdné)\",\"\",IF(($G$1-B3)>25,\"\",\"Junior v roce \"&$G$1))","v":""}]
["Adam Olejar",1991,"Medlánky","CZ/M","M",{"$f":"IF(A4=\"(prázdné)\",\"\",IF(($G$1-B4)>25,\"\",\"Junior v roce \"&$G$1))","v":""}]
["Adam Sostaric",1991,"Chrudim","CZ/C2","M",""]
["Albrecht Beat",1953,"Šumperk","CZ/M","M",""]
["Alena Netusilova",1970,"Zbraslavice","CZ/C1","F",""]
["Ales Cervenka",1981,"Soběslav","CZ/C1","M",""]
["Ales Hajek",1958,"Mladá Boleslav","CZ/C1","M",""]
["Ales Hala",1994,"Tábor","CZ/C1","M",""]
["Ales Holoubek",1966,"Jičín","CZ/C2","M",""]
["Ales Tresl",1958,"Raná","CZ/C2","M",""]
["Ales Vorac",1985,"Křižanov","CZ/M","M",""]
["Ales Vyhnal",1989,"Kralupy","CZ/C1","M",""]
["Alexander Nerandzic",1966,"Raná","CZ/C2","M",""]
["Alois Cmajdalka",1963,"Kunovice","CZ/M","M",""]
["Alois Sohr",1939,"Hranice","CZ/M","M",""]
["Andrea Bensova",1978,"Zbraslavice","CZ/C1","F",""]
["Aneta Prachtova",1991,"Kralupy","CZ/C1","F",""]
["Anna Bordovska",1989,"Mladá Boleslav","CZ/C1","F",""]
["Antonin Bordovsky",1951,"Krnov","CZ/M","M",""]
["Antonin Bruna",1945,"GAC Benešov","CZ/C1","M",""]
["Antonin Burger",1943,"Panenský Týnec","CZ/C1","M",""]
["Antonin Konicek",1973,"Kunovice","CZ/M","M",""]
["Antonin Kutalek",1943,"Zábřeh","CZ/M","M",""]
["Antonin Novotny",1972,"Luhačovice","CZ/M","M",""]
["Antonin Otrusina",1948,"Křižanov","CZ/M","M",""]
["Antonin Pilat",1971,"Vyškov","CZ/M","M",""]
["Antonin Teichmann",1965,"Hronov","CZ/C2","M",""]
["Barbora Kubickova",1993,"Medlánky","CZ/M","F",""]
["Barbora Moravcova",1994,"Zbraslavice","CZ/C1","F",""]
["Barbora Nahodilova",1989,"Hosín","CZ/C1","F",""]
["Bedrich Honzicek",1972,"Letňany",{"$f":"VLOOKUP(C33,Region,2,0)","v":"CZ/C1"},"M",{"$f":"IF(A33=\"(prázdné)\",\"\",IF(($G$1-B33)>25,\"\",\"Junior v roce \"&$G$1))","v":""}]
["Bedrich Prochazka",1957,"Rakovník","CZ/C1","M",""]
["Bohdan Sebestik",1957,"Kroměříž","CZ/M","M",""]
["Bohumil Kunc",1983,"Kunovice","CZ/M","M",""]
["Bohumil Rikal",1946,"Hronov","CZ/C2","M",""]
["Bohumil Svec",1985,"Roudnice","CZ/C2","M",""]
["Bohumir Zajdl",1950,"Dvůr Králové","CZ/C2","M",""]
["Bohus Marcinik",1947,"Příbram","CZ/C1","M",""]
["Boris Bachraty",1974,"Břeclav","CZ/M","M",""]
["Bronislav Smatana",1970,"Zbraslavice","CZ/C1","M",""]
["Carsten Tietz",1966,"Hronov",{"$f":"VLOOKUP(C43,Region,2,0)","v":"CZ/C2"},"M",{"$f":"IF(A43=\"(prázdné)\",\"\",IF(($G$1-B43)>25,\"\",\"Junior v roce \"&$G$1))","v":""}]
["Christof Madoery",1958,"Šumperk",{"$f":"VLOOKUP(C44,Region,2,0)","v":"CZ/M"},"M",{"$f":"IF(A44=\"(prázdné)\",\"\",IF(($G$1-B44)>25,\"\",\"Junior v roce \"&$G$1))","v":""}]
["Dalibor Daricek",1993,"Kunovice","CZ/M","M",""]
["Dalibor Fencl",1966,"Zbraslavice","CZ/C1","M",""]
["Dalibor Pek",1968,"Raná","CZ/C2","M",""]
["Dana Novakova",1965,"Mladá Boleslav","CZ/C1","F",""]
["Danes Grula",1961,"Medlánky","CZ/M","M",""]
["Daniel Adamec",1977,"Hranice","CZ/M","M",""]
["Daniel Brichta",1962,"GAC Benešov",{"$f":"VLOOKUP(C51,Region,2,0)","v":"CZ/C1"},"M",{"$f":"IF(A51=\"(prázdné)\",\"\",IF(($G$1-B51)>25,\"\",\"Junior v roce \"&$G$1))","v":""}]
["Daniel Dvorak",1980,"Letkov","CZ/C1","M",""]
["Daniel Krasnicky",1984,"Příbram","CZ/C1","M",""]
["Daniel Moravek",1973,"Hodkovice","CZ/C2","M",""]
["Daniel Novak",1971,"Letkov","CZ/C1","M",""]
["Daniel Ryba",1994,"Dvůr Králové","CZ/C2","M",""]
["Daniel Suchy",1995,"Hranice","CZ/M","M",""]
["Daniela Frankova",1997,"Jaroměř","CZ/C2","M","Junior v roce 2021"]
["Daniela Stepankova",1988,"Hosín","CZ/C1","F",""]
["David Cisar",1987,"Křižanov","CZ/M","M",""]
["David Krcil",1976,"Raná",{"$f":"VLOOKUP(C61,Region,2,0)","v":"CZ/C2"},"M",{"$f":"IF(A61=\"(prázdné)\",\"\",IF(($G$1-B61)>25,\"\",\"Junior v roce \"&$G$1))","v":""}]
["David Londa",1973,"Mladá Boleslav","CZ/C1","M",""]
["David Mach",1994,"Hronov","CZ/C2","M",""]
["David Marek",1991,"Křižanov","CZ/M","M",""]
["David Novotny",1984,"Polička","CZ/C2","M",""]
["David Popovsky",1976,"Rakovník","CZ/C1","M",""]
["David Prihoda",1994,"Hranice","CZ/M","M",""]
["David Rozporka",1994,"Hronov","CZ/C2","M",""]
["David Rytina",1983,"Zbraslavice","CZ/C1","M",""]
["David Riha",1983,"Vlašim","CZ/C1","M",""]
["David Sachl",1978,"Kralupy","CZ/C1","M",""]
["David Tejnora",1982,"Kolín","CZ/C1","M",""]
["David Trnecka",1979,"Medlánky","CZ/M","M",""]
["David Vrchota",1976,"Jaroměř",{"$f":"VLOOKUP(C74,Region,2,0)","v":"CZ/C2"},"M",{"$f":"IF(A74=\"(prázdné)\",\"\",IF(($G$1-B74)>25,\"\",\"Junior v roce \"&$G$1))","v":""}]
["David Zapletal",1970,"Mladá Boleslav","CZ/C1","M",{"$f":"IF(A75=\"(prázdné)\",\"\",IF(($G$1-B75)>25,\"\",\"Junior v roce \"&$G$1))","v":""}]
["David Zatecka",1993,"GAC Benešov",{"$f":"VLOOKUP(C76,Region,2,0)","v":"CZ/C1"},"M",""]
["Dusan Gadas",1960,"Hranice","CZ/M","M",""]
["Dusan Kmet",1972,"Křižanov","CZ/M","M",""]
["Dusan Sys",1977,"Šumperk","CZ/M","M",""]
["Dusan Zerzan",1970,"Šumperk","CZ/M","M",""]
["Eduard Svoboda",1957,"Raná","CZ/C2","M",""]
["Eliska Bohunovska",2001,"Hranice",{"$f":"VLOOKUP(C82,Region,2,0)","v":"CZ/M"},"F",{"$f":"IF(A82=\"(prázdné)\",\"\",IF(($G$1-B82)>25,\"\",\"Junior v roce \"&$G$1))","v":"Junior v roce 2021"}]
["Eva Cerna",1964,"Příbram","CZ/C1","F",""]
["Evzen Skala",1954,"Vrchlabí","CZ/C2","M",""]
["Filip Graf",1981,"Křižanov","CZ/M","M",""]
["Filip Neumann",1977,"GAC Benešov","CZ/C1","M",""]
["Filip Sklenar",1990,"Žamberk","CZ/C2","M",""]
["Filip sirc",1993,"Letňany","CZ/C1","M",""]
["Filip Vita",2001,"Kroměříž","CZ/M","M","Junior v roce 2021"]
["Frantisek Brozman",1960,"Tachov","CZ/C1","M",""]
["Frantisek Filandr",1956,"Most","CZ/C2","M",""]
["Frantisek Hubacek",1978,"Točná","CZ/C1","M",""]
["Frantisek Komarek",1985,"Zbraslavice","CZ/C1","M",""]
["Frantisek Kriz",1961,"Toužim","CZ/C1","M",""]
["Frantisek Marek",1960,"Křižanov","CZ/M","M",""]
["Frantisek Matousek",1937,"Nové Město nad Metují","CZ/C2","M",""]
["Frantisek Myska",1968,"Most","CZ/C2","M",""]
["Frantisek Pycha",1972,"Chrudim","CZ/C2","M",""]
["Frantisek Soucek",1945,"Dvůr Králové","CZ/C2","M",""]
["Frantisek Sindelar",1954,"Kralupy","CZ/C1","M",""]
["Frantisek Suna",1983,"Hosín",{"$f":"VLOOKUP(C101,Region,2,0)","v":"CZ/C1"},"M",{"$f":"IF(A101=\"(prázdné)\",\"\",IF(($G$1-B101)>25,\"\",\"Junior v roce \"&$G$1))","v":""}]
["Frantisek Vancura",1966,"Hranice","CZ/M","M",""]
["Gabriela Cervena",1966,"Jaroměř","CZ/C2","F",""]
["Gustav Vrbacky",1933,"Medlánky","CZ/M","M",""]
["Hana Treslova",1991,"Raná","CZ/C2","F",""]
["Hana Vokrinkova",1958,"Hodkovice","CZ/C2","F",""]
["Hynek Pokorny",1991,"Letňany","CZ/C1","M",""]
["Christof Madory",1958,"Šumperk","CZ/M","M",""]
["Ilja Kopacek",1943,"Jičín",{"$f":"VLOOKUP(C109,Region,2,0)","v":"CZ/C2"},"M",{"$f":"IF(A109=\"(prázdné)\",\"\",IF(($G$1-B109)>25,\"\",\"Junior v roce \"&$G$1))","v":""}]
["Ivan Filakovsky",1965,"Medlánky","CZ/M","M",""]
["Ivan Harasta 65",1965,"Toužim","CZ/C1","M",""]
["Ivan Harasta 98",1998,"Toužim","CZ/C1","M","Junior v roce 2021"]
["Ivan Kuzelka",1945,"Havlíčkův Brod","CZ/C2","M",""]
["Ivan Ladr",1940,"Dvůr Králové","CZ/C2","M",""]
["Ivan Novak",1962,"Mladá Boleslav","CZ/C1","M",""]
["Ivan Tvrdik",1997,"Letňany","CZ/C1","M","Junior v roce 2021"]
["Ivo Burda",1962,"Zbraslavice","CZ/C1","M",""]
["Ivo Nezval",1964,"Šumperk","CZ/M","M",""]
["Ivo Vudarcik",1994,"Rakovník","CZ/C1","M",""]
["Jacek Kerum",1943,"Příbram","CZ/C1","M",""]
["Jakub Brotanek",1985,"Roudnice","CZ/C2","M",""]
["Jakub Hlavacek",1991,"Letkov","CZ/C1","M",""]
["Jakub Kmosek",1978,"Zbraslavice","CZ/C1","M",""]
["Jakub Kohn",1992,"Prostějov","CZ/M","M",""]
["Jakub Koudelka",2000,"Křižanov",{"$f":"VLOOKUP(C125,Region,2,0)","v":"CZ/M"},"M","Junior v roce 2021"]
["Jakub Malik",1999,"Letňany","CZ/C1","M","Junior v roce 2021"]
["Jakub Michalicka",1993,"Rakovník","CZ/C1","M",""]
["Jakub Spanger",2002,"Jeseník",{"$f":"VLOOKUP(C128,Region,2,0)","v":"CZ/M"},"M",{"$f":"IF(A128=\"(prázdné)\",\"\",IF(($G$1-B128)>25,\"\",\"Junior v roce \"&$G$1))","v":"Junior v roce 2021"}]
["Jakub Tiller",1987,"Broumov","CZ/C2","M",""]
["Jakub Vimr",1975,"GAC Benešov","CZ/C1","M",""]
["Jan Adam",2002,"Podhořany",{"$f":"VLOOKUP(C131,Region,2,0)","v":"CZ/C2"},"M",{"$f":"IF(A131=\"(prázdné)\",\"\",IF(($G$1-B131)>25,\"\",\"Junior v roce \"&$G$1))","v":"Junior v roce 2021"}]
["Jan Bejdl",1978,"Zbraslavice",{"$f":"VLOOKUP(C132,Region,2,0)","v":"CZ/C1"},"M",{"$f":"IF(A132=\"(prázdné)\",\"\",IF(($G$1-B132)>25,\"\",\"Junior v roce \"&$G$1))","v":""}]
["Jan Belina",1979,"Hořice","CZ/C2","M",""]
["Jan Beran",1999,"Kladno",{"$f":"VLOOKUP(C134,Region,2,0)","v":"CZ/C1"},"M","Junior v roce 2021"]
["Jan Beranek",1976,"Jihlava","CZ/M","M",""]
["Jan Boruvka",1984,"Jičín","CZ/C2","M",""]
["Jan Camr",2002,"Jaroměř",{"$f":"VLOOKUP(C137,Region,2,0)","v":"CZ/C2"},"M",{"$f":"IF(A137=\"(prázdné)\",\"\",IF(($G$1-B137)>25,\"\",\"Junior v roce \"&$G$1))","v":"Junior v roce 2021"}]
["Jan Cerveny",1984,"Jaroměř","CZ/C2","M",""]
["Jan Cibulka",2002,"Letňany",{"$f":"VLOOKUP(C139,Region,2,0)","v":"CZ/C1"},"M",{"$f":"IF(A139=\"(prázdné)\",\"\",IF(($G$1-B139)>25,\"\",\"Junior v roce \"&$G$1))","v":"Junior v roce 2021"}]
["Jan Dersak 69",1969,"Kralupy","CZ/C1","M",""]
["Jan Dersak 92",1992,"Kralupy","CZ/C1","M",""]
["Jan Drahota",1988,"Rakovník","CZ/C1","M",""]
["Jan Drbohlav",1999,"Hodkovice",{"$f":"VLOOKUP(C143,Region,2,0)","v":"CZ/C2"},"M",{"$f":"IF(A143=\"(prázdné)\",\"\",IF(($G$1-B143)>25,\"\",\"Junior v roce \"&$G$1))","v":"Junior v roce 2021"}]
["Jan Florian",1992,"Zbraslavice","CZ/C1","M",""]
["Jan Habermann",1975,"Vlašim",{"$f":"VLOOKUP(C145,Region,2,0)","v":"CZ/C1"},"M",{"$f":"IF(A145=\"(prázdné)\",\"\",IF(($G$1-B145)>25,\"\",\"Junior v roce \"&$G$1))","v":""}]
["Jan Hejret",1976,"Jaroměř","CZ/C2","M",""]
["Jan Heroudek",1970,"Rakovník",{"$f":"VLOOKUP(C147,Region,2,0)","v":"CZ/C1"},"M",{"$f":"IF(A147=\"(prázdné)\",\"\",IF(($G$1-B147)>25,\"\",\"Junior v roce \"&$G$1))","v":""}]
["Jan Hlavacek",1965,"Rakovník","CZ/C1","M",""]
["Jan Horak",1971,"Zbraslavice","CZ/C1","M",""]
["Jan Horky",1968,"Medlánky","CZ/M","M",""]
["Jan Hrbatsch",1989,"Hodkovice","CZ/C2","M",""]
["Jan Hruska",1988,"Tábor","CZ/C1","M",{"$f":"IF(A152=\"(prázdné)\",\"\",IF(($G$1-B152)>25,\"\",\"Junior v roce \"&$G$1))","v":""}]
["Jan Hybner",1977,"Liberec",{"$f":"VLOOKUP(C153,Region,2,0)","v":"CZ/C2"},"M",""]
["Jan Jicha",1984,"Podhořany","CZ/C2","M",""]
["Jan Jindra",1981,"Roudnice","CZ/C2","M",""]
["Jan Kantor",1983,"Letňany","CZ/C1","M",""]
["Jan Kapralek",1991,"Kladno","CZ/C1","M",""]
["Jan Karabec",2000,"Podhořany",{"$f":"VLOOKUP(C158,Region,2,0)","v":"CZ/C2"},"M",{"$f":"IF(A158=\"(prázdné)\",\"\",IF(($G$1-B158)>25,\"\",\"Junior v roce \"&$G$1))","v":"Junior v roce 2021"}]
["Jan Karnik",1976,"Letkov",{"$f":"VLOOKUP(C159,Region,2,0)","v":"CZ/C1"},"M",{"$f":"IF(A159=\"(prázdné)\",\"\",IF(($G$1-B159)>25,\"\",\"Junior v roce \"&$G$1))","v":""}]
["Jan Kaspar",1994,"Letňany",{"$f":"VLOOKUP(C160,Region,2,0)","v":"CZ/C1"},"M",""]
["Jan Kohout",1970,"Žamberk","CZ/C2","M",""]
["Jan Konecny",1972,"Rakovník","CZ/C1","M",""]
["Jan Kostka",1996,"Kladno","CZ/C1","M","Junior v roce 2021"]
["Jan Kotan",1982,"Letňany","CZ/C1","M",""]
["Jan Kralik",1991,"Letkov","CZ/C1","M",""]
["Jan Kristof",1962,"Frýdlant","CZ/M","M",""]
["Jan Kulistak",1990,"Kunovice","CZ/M","M",""]
["Jan Lancdorf",1988,"Panenský Týnec","CZ/C1","M",""]
["Jan Louda",1986,"Mladá Boleslav","CZ/C1","M",""]
["Jan Mareth",1979,"Frýdlant","CZ/M","M",""]
["Jan Masek",1977,"Kladno","CZ/C1","M",""]
["Jan Matejovsky",1972,"Hranice","CZ/M","M",""]
["Jan Merta",1952,"Šumperk","CZ/M","M",""]
["Jan Mittner",1986,"Zbraslavice",{"$f":"VLOOKUP(C174,Region,2,0)","v":"CZ/C1"},"M",{"$f":"IF(A174=\"(prázdné)\",\"\",IF(($G$1-B174)>25,\"\",\"Junior v roce \"&$G$1))","v":""}]
["Jan Moravec",1979,"Zábřeh","CZ/M","M",""]
["Jan Nyc",1943,"Dvůr Králové",{"$f":"VLOOKUP(C176,Region,2,0)","v":"CZ/C2"},"M",{"$f":"IF(A176=\"(prázdné)\",\"\",IF(($G$1-B176)>25,\"\",\"Junior v roce \"&$G$1))","v":""}]
["Jan Obrucnik",1991,"Kralupy","CZ/C1","M",""]
["Jan Oscatka",1990,"Jaroměř",{"$f":"VLOOKUP(C178,Region,2,0)","v":"CZ/C2"},"M",{"$f":"IF(A178=\"(prázdné)\",\"\",IF(($G$1-B178)>25,\"\",\"Junior v roce \"&$G$1))","v":""}]
["Jan Otrusina",1976,"Křižanov","CZ/M","M",""]
["Jan Ourada",1978,"Točná","CZ/C1","M",""]
["Jan Pavlik",1987,"Křižanov","CZ/M","M",""]
["Jan Pazour",1979,"Dvůr Králové",{"$f":"VLOOKUP(C182,Region,2,0)","v":"CZ/C2"},"M",{"$f":"IF(A182=\"(prázdné)\",\"\",IF(($G$1-B182)>25,\"\",\"Junior v roce \"&$G$1))","v":""}]
["Jan Platenik",1981,"Krnov","CZ/M","M",""]
["Jan Podhrazsky",1976,"Šumperk","CZ/M","M",""]
["Jan Pokluda",1973,"Šumperk","CZ/M","M",""]
["Jan Pubec",1979,"Plzeň Bory","CZ/C1","M",""]
["Jan Ratz",1987,"Zbraslavice","CZ/C1","M",""]
["Jan Rensa",1980,"Polička","CZ/C2","M",""]
["Jan Rolinek",1973,"Luhačovice","CZ/M","M",""]
["Jan Rott",1962,"Hronov","CZ/C2","M",""]
["Jan Repka",1959,"Liberec","CZ/C2","M",""]
["Jan Seifert",1948,"Raná","CZ/C2","M",""]
["Jan Simon",1970,"Kralupy","CZ/C1","M",""]
["Jan Sindelar",1946,"Kunovice","CZ/M","M",""]
["Jan Smaha",1958,"Česká Lípa","CZ/C2","M",""]
["Jan Smekal",1976,"Zbraslavice",{"$f":"VLOOKUP(C196,Region,2,0)","v":"CZ/C1"},"M",{"$f":"IF(A196=\"(prázdné)\",\"\",IF(($G$1-B196)>25,\"\",\"Junior v roce \"&$G$1))","v":""}]
["Jan Sponer",1988,"Medlánky","CZ/M","M",""]
["Jan Stastny",2003,"Medlánky",{"$f":"VLOOKUP(C198,Region,2,0)","v":"CZ/M"},"M","Junior v roce 2021"]
["Jan Stepan",1991,"Hronov","CZ/C2","M",""]
["Jan Sustr 76",1976,"Raná","CZ/C2","M",""]
["Jan Sustr 77",1977,"Staňkov","CZ/C1","M",""]
["Jan Svarc",1977,"Raná","CZ/C2","M",""]
["Jan Terrich",1978,"Liberec","CZ/C2","M",""]
["Jan Tomasek",1970,"Dvůr Králové","CZ/C2","M",""]
["Jan Turek",1987,"Toužim","CZ/C1","M",""]
["Jan Vavrin",1987,"Vysoké Mýto","CZ/C2","M",""]
["Jan Viskot",1995,"Břeclav","CZ/M","M",""]
["Jan Vozeh",1995,"Rakovník","CZ/C1","M",""]
["Jan Zahradka",1981,"Hodkovice","CZ/C2","M",""]
["Jan Zapletal",1997,"Břeclav","CZ/M","M","Junior v roce 2021"]
["Jan Zdvorak",1980,"Roudnice","CZ/C2","M",""]
["Jan Zezula",1979,"Letňany","CZ/C1","M",""]
["Jan Zona",1965,"Kroměříž","CZ/M","M",""]
["Jan Zanda",1983,"Letkov","CZ/C1","M",""]
["Jana Dvorakova",1953,"Raná","CZ/C2","F",""]
["Jana Kantorova",1980,"Hosín","CZ/C1","F",""]
["Jana Krejcova",1972,"Křižanov","CZ/M","F",""]
["Jana Mezerova",1975,"Raná","CZ/C2","F",""]
["Jana Treslova",1963,"Raná","CZ/C2","F",""]
["Jana Veprekova",1961,"Dvůr Králové","CZ/C2","F",""]
["Jarmila Zatykova",1959,"Kralupy","CZ/C1","F",""]
["Jaromir Hammer",1965,"Křižanov","CZ/M","M",""]
["Jaromir Hendrych",1954,"Raná","CZ/C2","M",""]
["Jaromir Jedlicka",1972,"Letňany","CZ/C1","M",""]
["Jaromir Macoun",1999,"Jičín","CZ/C2","M",{"$f":"IF(A225=\"(prázdné)\",\"\",IF(($G$1-B225)>25,\"\",\"Junior v roce \"&$G$1))","v":"Junior v roce 2021"}]
["Jaromir Pauer",1974,"Hosín",{"$f":"VLOOKUP(C226,Region,2,0)","v":"CZ/C1"},"M",""]
["Jaromir Prokes",1984,"Tábor","CZ/C1","M",""]
["Jaromir Vlk",1959,"Šumperk","CZ/M","M",""]
["Jaroslav Bocek",1962,"Turnov","CZ/C2","M",""]
["Jaroslav Buryan",1953,"Zábřeh","CZ/M","M",""]
["Jaroslav Cempirek 51",1951,"Jindřichův Hradec","CZ/C1","M",""]
["Jaroslav Cempirek 77",1977,"Jihlava",{"$f":"VLOOKUP(C232,Region,2,0)","v":"CZ/M"},"M",{"$f":"IF(A232=\"(prázdné)\",\"\",IF(($G$1-B232)>25,\"\",\"Junior v roce \"&$G$1))","v":""}]
["Jaroslav Cejka",1952,"Letkov","CZ/C1","M",""]
["Jaroslav Deml",1986,"Hořice","CZ/C2","M",""]
["Jaroslav Florian",1977,"Medlánky","CZ/M","M",""]
["Jaroslav Hendrych",1946,"Příbram","CZ/C1","M",""]
["Jaroslav Hot",1965,"Toužim","CZ/C1","M",""]
["Jaroslav Juracka",1971,"Křižanov","CZ/M","M",""]
["Jaroslav Kacer",1978,"Raná","CZ/C2","M",""]
["Jaroslav Kares",1962,"Olomouc","CZ/M","M",""]
["Jaroslav Kral",1961,"Přibyslav",{"$f":"VLOOKUP(C241,Region,2,0)","v":"CZ/C2"},"M",""]
["Jaroslav Marek",1938,"Luhačovice","CZ/M","M",""]
["Jaroslav Nedorost",1986,"Letňany",{"$f":"VLOOKUP(C243,Region,2,0)","v":"CZ/C1"},"M",{"$f":"IF(A243=\"(prázdné)\",\"\",IF(($G$1-B243)>25,\"\",\"Junior v roce \"&$G$1))","v":""}]
["Jaroslav Palicka",1992,"Frýdlant","CZ/M","M",""]
["Jaroslav Petrasek",1976,"Jičín","CZ/C2","M",""]
["Jaroslav Potmesil",1964,"Zbraslavice","CZ/C1","M",""]
["Jaroslav Rapac",1977,"Dvůr Králové","CZ/C2","M",""]
["Jaroslav Szakal",1955,"Jaroměř","CZ/C2","M",""]
["Jaroslav Sima",1972,"Chomutov","CZ/C2","M",""]
["Jaroslav Simek",1968,"Letkov","CZ/C1","M",""]
["Jaroslav Tomana",1975,"Zbraslavice","CZ/C1","M",""]
["Jaroslav Tyls",1941,"Hronov","CZ/C2","M",""]
["Jaroslav Vancata",1985,"Raná",{"$f":"VLOOKUP(C253,Region,2,0)","v":"CZ/C2"},"M",{"$f":"IF(A253=\"(prázdné)\",\"\",IF(($G$1-B253)>25,\"\",\"Junior v roce \"&$G$1))","v":""}]
["Jaroslav Zavrel",1971,"Medlánky","CZ/M","M",""]
["Jindrich Hala",1989,"Rakovník","CZ/C1","M",""]
["Jindrich Hruska",1986,"Soběslav","CZ/C1","M",""]
["Jindrich Svorc",1978,"Letňany","CZ/C1","M",""]
["Jindriska Sloukova",1973,"Medlánky","CZ/M","F",""]
["Jirka Rybar",1958,"Hodkovice","CZ/C2","M",""]
["Jiri Balak",1978,"Zbraslavice",{"$f":"VLOOKUP(C260,Region,2,0)","v":"CZ/C1"},"M",{"$f":"IF(A260=\"(prázdné)\",\"\",IF(($G$1-B260)>25,\"\",\"Junior v roce \"&$G$1))","v":""}]
["Jiri Bastl",1944,"Turnov","CZ/C2","M",""]
["Jiri Bojko",1959,"Krnov","CZ/M","M",""]
["Jiri Cincera",1966,"Toužim","CZ/C1","M",""]
["Jiri Dockal",1982,"Letňany","CZ/C1","M",""]
["Jiri Donat",1983,"Chrudim","CZ/C2","M",""]
["Jiri Fousek",1990,"Raná","CZ/C2","M",""]
["Jiri Hendrych",1943,"Točná","CZ/C1","M",""]
["Jiri Hodan",1959,"Zbraslavice","CZ/C1","M",""]
["Jiri Holcman",1976,"Hosín","CZ/C1","M",""]
["Jiri Horak",1971,"Kladno","CZ/C1","M",""]
["Jiri Hula",1973,"Slaný","CZ/C1","M",""]
["Jiri Janda",1966,"Letňany","CZ/C1","M",""]
["Jiri Jirmus",2003,"Tábor",{"$f":"VLOOKUP(C273,Region,2,0)","v":"CZ/C1"},"M",{"$f":"IF(A273=\"(prázdné)\",\"\",IF(($G$1-B273)>25,\"\",\"Junior v roce \"&$G$1))","v":"Junior v roce 2021"}]
["Jiri Klicnar",1965,"Medlánky","CZ/M","M",""]
["Jiri Kobik",1952,"Hořice","CZ/C2","M",""]
["Jiri Kohoutek",1983,"Olomouc",{"$f":"VLOOKUP(C276,Region,2,0)","v":"CZ/M"},"M",{"$f":"IF(A276=\"(prázdné)\",\"\",IF(($G$1-B276)>25,\"\",\"Junior v roce \"&$G$1))","v":""}]
["Jiri Kokrment",1950,"Frýdlant","CZ/M","M",""]
["Jiri Koudela",1974,"Vyškov","CZ/M","M",""]
["Jiri Krofta",1988,"Hosín",{"$f":"VLOOKUP(C279,Region,2,0)","v":"CZ/C1"},"M",{"$f":"IF(A279=\"(prázdné)\",\"\",IF(($G$1-B279)>25,\"\",\"Junior v roce \"&$G$1))","v":""}]
["Jiri Krticka",1965,"Jaroměř","CZ/C2","M",""]
["Jiri Krzanowski",1944,"Letkov","CZ/C1","M",""]
["Jiri Kupec",1960,"Medlánky","CZ/M","M",""]
["Jiri Kusbach",1959,"Luhačovice","CZ/M","M",""]
["Jiri Kyslik",1968,"Česká Lípa","CZ/C2","M",""]
["Jiri Lenik",1947,"Raná","CZ/C2","M",""]
["Jiri Maier 66",1966,"Raná","CZ/C2","M",""]
["Jiri Maier 99",1999,"Raná","CZ/C2","M","Junior v roce 2021"]
["Jiri Mlejnek",1984,"Mladá Boleslav","CZ/C1","M",""]
["Jiri Obst",1964,"Vrchlabí","CZ/C2","M",""]
["Jiri Pajer",1977,"Zbraslavice","CZ/C1","M",""]
["Jiri Pelucha",1984,"Frýdlant","CZ/M","M",""]
["Jiri Pesta",1973,"Dvůr Králové","CZ/C2","M",""]
["Jiri Peterka",1951,"Křižanov",{"$f":"VLOOKUP(C293,Region,2,0)","v":"CZ/M"},"M",{"$f":"IF(A293=\"(prázdné)\",\"\",IF(($G$1-B293)>25,\"\",\"Junior v roce \"&$G$1))","v":""}]
["Jiri Piskaty",1962,"Kunovice","CZ/M","M",""]
["Jiri Pixa",1968,"Slaný","CZ/C1","M",""]
["Jiri Prochazka",1971,"Toužim","CZ/C1","M",""]
["Jiri Prucha",1963,"Chomutov","CZ/C2","M",""]
["Jiri Skarka",1965,"Chomutov",{"$f":"VLOOKUP(C298,Region,2,0)","v":"CZ/C2"},"M",{"$f":"IF(A298=\"(prázdné)\",\"\",IF(($G$1-B298)>25,\"\",\"Junior v roce \"&$G$1))","v":""}]
["Jiri Slouka",1967,"Medlánky",{"$f":"VLOOKUP(C299,Region,2,0)","v":"CZ/M"},"M",{"$f":"IF(A299=\"(prázdné)\",\"\",IF(($G$1-B299)>25,\"\",\"Junior v roce \"&$G$1))","v":""}]
["Jiri Sohr",1960,"Šumperk",{"$f":"VLOOKUP(C300,Region,2,0)","v":"CZ/M"},"M",{"$f":"IF(A300=\"(prázdné)\",\"\",IF(($G$1-B300)>25,\"\",\"Junior v roce \"&$G$1))","v":""}]
["Jiri Steiger",1969,"Olomouc","CZ/M","M",""]
["Jiri Suchomel",1950,"Broumov",{"$f":"VLOOKUP(C302,Region,2,0)","v":"CZ/C2"},"M",{"$f":"IF(A302=\"(prázdné)\",\"\",IF(($G$1-B302)>25,\"\",\"Junior v roce \"&$G$1))","v":""}]
["Jiri Slemr",1979,"Vysoké Mýto","CZ/C2","M",""]
["Jiri Stepanek",1956,"Moravská Třebová","CZ/M","M",""]
["Jiri Tomicek",1947,"Dvůr Králové","CZ/C2","M",""]
["Jiri Valentr",1947,"Rakovník","CZ/C1","M",""]
["Jiri Vavrina",1958,"Kyjov","CZ/M","M",""]
["Jiri Vokrinek",1965,"Hodkovice","CZ/C2","M",""]
["Jiri Vondracek",1989,"Kladno","CZ/C1","M",""]
["Jiri Zablatzky",1978,"Hranice","CZ/M","M",""]
["Jitka Hromkova",1985,"Šumperk","CZ/M","F",""]
["Jitka Skalova",1955,"Zbraslavice","CZ/C1","F",""]
["Jitka Zimova",1981,"Hodkovice","CZ/C2","F",""]
["Josef Andrasovsky",1954,"Jaroměř","CZ/C2","M",""]
["Josef Bacina",1976,"Vysoké Mýto","CZ/C2","M",""]
["Josef Barta",1977,"Vysoké Mýto","CZ/C2","M",""]
["Josef Bostik",1963,"GAC Benešov","CZ/C1","M",""]
["Josef Busek",1967,"Hosín","CZ/C1","M",""]
["Josef Hlusek",1993,"Kunovice","CZ/M","M",""]
["Josef Kolman",1983,"Letňany","CZ/C1","M",""]
["Josef Krejsa",1938,"Hranice","CZ/M","M",""]
["Josef Kreutzer",1992,"Letkov","CZ/C1","M",""]
["Josef Linhart",1972,"Medlánky","CZ/M","M",""]
["Josef Macicek",1949,"Frýdlant","CZ/M","M",""]
["Josef Mezera",1951,"Raná","CZ/C2","M",""]
["Josef Novak",1981,"Kunovice","CZ/M","M",""]
["Josef Novotny",1983,"Přibyslav","CZ/C2","M",""]
["Josef Plechac",1942,"Hronov","CZ/C2","M",""]
["Josef Rydl",1940,"Turnov","CZ/C2","M",""]
["Josef Sedlacek",1968,"Zbraslavice","CZ/C1","M",""]
["Jozef Hartinger",1987,"Medlánky","CZ/M","M",""]
["Juraj Dudas",1990,"Křižanov",{"$f":"VLOOKUP(C332,Region,2,0)","v":"CZ/M"},"M",{"$f":"IF(A332=\"(prázdné)\",\"\",IF(($G$1-B332)>25,\"\",\"Junior v roce \"&$G$1))","v":""}]
["Jurij Sikorsky",1975,"Hodkovice","CZ/C2","M",""]
["Kamil Novak",1970,"Jaroměř","CZ/C2","M",""]
["Kamil Sohr",1973,"Šumperk","CZ/M","M",""]
["Karel Balatka",1965,"Liberec","CZ/C2","M",""]
["Karel Benes",1980,"Polička","CZ/C2","M",""]
["Karel Benisek 48",1948,"Toužim","CZ/C1","M",""]
["Karel Benisek 76",1976,"Toužim","CZ/C1","M",""]
["Karel Cerny",1943,"Beroun","CZ/C1","M",""]
["Karel Elsnic",1974,"Křižanov","CZ/M","M",""]
["Karel Ertl",1939,"LK Břeclav","CZ/M","M",""]
["Karel Grotz",1934,"Toužim","CZ/C1","M",""]
["Karel Horalek",1976,"Olomouc",{"$f":"VLOOKUP(C344,Region,2,0)","v":"CZ/M"},"M",{"$f":"IF(A344=\"(prázdné)\",\"\",IF(($G$1-B344)>25,\"\",\"Junior v roce \"&$G$1))","v":""}]
["Karel Knotek",1961,"Soběslav","CZ/C1","M",""]
["Karel Kolomaznik",1955,"Šumperk","CZ/M","M",""]
["Karel Kotlan",1957,"Medlánky","CZ/M","M",""]
["Karel Lang",1967,"Medlánky","CZ/M","M",""]
["Karel Mares",1974,"Slaný","CZ/C1","M",""]
["Karel Minarik",1965,"Hranice","CZ/M","M",""]
["Karel Novak",1993,"Mladá Boleslav","CZ/C1","M",""]
["Karel Policky",1950,"Kolín","CZ/C1","M",""]
["Karel Stach",1963,"Letňany","CZ/C1","M",""]
["Karel Toman",1976,"Letňany","CZ/C1","M",""]
["Karel Vagenknecht",1960,"Šumperk","CZ/M","M",""]
["Karel Vladar",1972,"Hodkovice","CZ/C2","M",""]
["Katerina Dvorakova",1984,"Most","CZ/C2","F",""]
["Katerina Kardosova",1988,"Kunovice","CZ/M","F",""]
["Katerina Vancurova",2002,"Hranice",{"$f":"VLOOKUP(C359,Region,2,0)","v":"CZ/M"},"F",{"$f":"IF(A359=\"(prázdné)\",\"\",IF(($G$1-B359)>25,\"\",\"Junior v roce \"&$G$1))","v":"Junior v roce 2021"}]
["Katerina Vojtova",1983,"Slaný","CZ/C1","F",""]
["Klara Teichmannova",1993,"Hronov","CZ/C2","F",""]
["Kristina Santruckova",1996,"Podhořany",{"$f":"VLOOKUP(C362,Region,2,0)","v":"CZ/C2"},"F",{"$f":"IF(A362=\"(prázdné)\",\"\",IF(($G$1-B362)>25,\"\",\"Junior v roce \"&$G$1))","v":"Junior v roce 2021"}]
["Krystof Mimra",1992,"Most",{"$f":"VLOOKUP(C363,Region,2,0)","v":"CZ/C2"},"M",{"$f":"IF(A363=\"(prázdné)\",\"\",IF(($G$1-B363)>25,\"\",\"Junior v roce \"&$G$1))","v":""}]
["Krystof Urban",1999,"Jindřichův Hradec","CZ/C1","M","Junior v roce 2021"]
["Kuk",1900,"Dvůr Králové",{"$f":"VLOOKUP(C365,Region,2,0)","v":"CZ/C2"},"M",{"$f":"IF(A365=\"(prázdné)\",\"\",IF(($G$1-B365)>25,\"\",\"Junior v roce \"&$G$1))","v":""}]
["Ladislav Berger",1970,"Kralupy","CZ/C1","M",""]
["Ladislav Durnik",1974,"Kunovice","CZ/M","M",""]
["Ladislav Hybl",1955,"Šumperk","CZ/M","M",""]
["Ladislav Jozsa",1981,"Medlánky","CZ/M","M",""]
["Ladislav Krecbach",1985,"Jaroměř","CZ/C2","M",{"$f":"IF(A370=\"(prázdné)\",\"\",IF(($G$1-B370)>25,\"\",\"Junior v roce \"&$G$1))","v":""}]
["Ladislav Krizek",1982,"Šumperk",{"$f":"VLOOKUP(C371,Region,2,0)","v":"CZ/M"},"M",""]
["Ladislav Prokes",1954,"Vrchlabí",{"$f":"VLOOKUP(C372,Region,2,0)","v":"CZ/C2"},"M",{"$f":"IF(A372=\"(prázdné)\",\"\",IF(($G$1-B372)>25,\"\",\"Junior v roce \"&$G$1))","v":""}]
["Ladislav Valenta",1961,"Žamberk","CZ/C2","M",""]
["Ladislav Vratny",1959,"Jaroměř","CZ/C2","M",""]
["Lenka Hajkova",1982,"Raná","CZ/C2","F",""]
["Lenka Kuthanova",1960,"Tábor","CZ/C1","F",""]
["Lenka Stovickova",1963,"Hořice","CZ/C2","F",""]
["Leos Nosek",1958,"Vyškov",{"$f":"VLOOKUP(C378,Region,2,0)","v":"CZ/M"},"M",{"$f":"IF(A378=\"(prázdné)\",\"\",IF(($G$1-B378)>25,\"\",\"Junior v roce \"&$G$1))","v":""}]
["Leos Strnadek",1983,"Hodkovice","CZ/C2","M",""]
["Libor Bednarik",1972,"Kunovice","CZ/M","M",""]
["Libor Danhel",1966,"Kunovice","CZ/M","M",""]
["Libor Hyps",1988,"Chrudim","CZ/C2","M",""]
["Libor Kovarik",1966,"Hosín","CZ/C1","M",""]
["Libor Kovarnik",1968,"Mladá Boleslav",{"$f":"VLOOKUP(C384,Region,2,0)","v":"CZ/C1"},"M",{"$f":"IF(A384=\"(prázdné)\",\"\",IF(($G$1-B384)>25,\"\",\"Junior v roce \"&$G$1))","v":""}]
["Linda Vasatova",1990,"Mladá Boleslav","CZ/C1","F",""]
["Lubomir Doupal",1975,"Kroměříž","CZ/M","M",""]
["Lubomir Motl",1959,"Kyjov","CZ/M","M",""]
["Lubomir Papezik",1951,"Luhačovice","CZ/M","M",""]
["Lubomir Svoboda",1959,"Letkov","CZ/C1","M",""]
["Lubomir Vrba",1955,"Toužim","CZ/C1","M",""]
["Lubor Sobek",1979,"Frýdlant","CZ/M","M",""]
["Lubor Vyhlid",1972,"Kroměříž","CZ/M","M",""]
["Lubor Zeleny",1957,"Přibyslav","CZ/C2","M",""]
["Lubos Florian",1966,"Jičín",{"$f":"VLOOKUP(C394,Region,2,0)","v":"CZ/C2"},"M",{"$f":"IF(A394=\"(prázdné)\",\"\",IF(($G$1-B394)>25,\"\",\"Junior v roce \"&$G$1))","v":""}]
["Lubos Kunc 56",1956,"Dvůr Králové","CZ/C2","M",""]
["Lubos Kunc 85",1985,"Vrchlabí","CZ/C2","M",""]
["Lubos Stiburek",1954,"Raná","CZ/C2","M",""]
["Lubos Svoboda",1959,"Letkov","CZ/C1","M",""]
["Ludek Kluger",1963,"Tábor","CZ/C1","M",""]
["Ludek Mikl",1963,"Kroměříž",{"$f":"VLOOKUP(C400,Region,2,0)","v":"CZ/M"},"M",{"$f":"IF(A400=\"(prázdné)\",\"\",IF(($G$1-B400)>25,\"\",\"Junior v roce \"&$G$1))","v":""}]
["Ludek Souhrada",1974,"Raná","CZ/C2","M",""]
["Lukas Capek",1992,"Letňany","CZ/C1","M",""]
["Lukas Fiala",1976,"Kralupy","CZ/C1","M",""]
["Lukas Fronek",1989,"Kyjov",{"$f":"VLOOKUP(C404,Region,2,0)","v":"CZ/M"},"M",{"$f":"IF(A404=\"(prázdné)\",\"\",IF(($G$1-B404)>25,\"\",\"Junior v roce \"&$G$1))","v":""}]
["Lukas Hykl",1985,"Kolín",{"$f":"VLOOKUP(C405,Region,2,0)","v":"CZ/C1"},"M",{"$f":"IF(A405=\"(prázdné)\",\"\",IF(($G$1-B405)>25,\"\",\"Junior v roce \"&$G$1))","v":""}]
["Lukas Hynek",1979,"Dvůr Králové","CZ/C2","M",""]
["Lukas Jezek",1975,"Jičín","CZ/C2","M",""]
["Lukas Kotek",1994,"Frýdlant","CZ/M","M",""]
["Lukas Koukal",1991,"Letkov","CZ/C1","M",""]
["Lukas Kriz",2003,"Křižanov",{"$f":"VLOOKUP(C410,Region,2,0)","v":"CZ/M"},"M",{"$f":"IF(A410=\"(prázdné)\",\"\",IF(($G$1-B410)>25,\"\",\"Junior v roce \"&$G$1))","v":"Junior v roce 2021"}]
["Lukas Maly",1998,"Vysoké Mýto","CZ/C2","M","Junior v roce 2021"]
["Lukas Petrzela",1987,"Olomouc",{"$f":"VLOOKUP(C412,Region,2,0)","v":"CZ/M"},"M",{"$f":"IF(A412=\"(prázdné)\",\"\",IF(($G$1-B412)>25,\"\",\"Junior v roce \"&$G$1))","v":""}]
["Lukas Plocek",1990,"Mladá Boleslav","CZ/C1","M",""]
["Lukas Popelka",1977,"Polička","CZ/C2","M",""]
["Lukas Volek",2004,"Hodkovice",{"$f":"VLOOKUP(C415,Region,2,0)","v":"CZ/C2"},"M",{"$f":"IF(A415=\"(prázdné)\",\"\",IF(($G$1-B415)>25,\"\",\"Junior v roce \"&$G$1))","v":"Junior v roce 2021"}]
["Lukas Zach",1987,"Vyškov",{"$f":"VLOOKUP(C416,Region,2,0)","v":"CZ/M"},"M",{"$f":"IF(A416=\"(prázdné)\",\"\",IF(($G$1-B416)>25,\"\",\"Junior v roce \"&$G$1))","v":""}]
["Lukas Zeman",2000,"Rakovník",{"$f":"VLOOKUP(C417,Region,2,0)","v":"CZ/C1"},"M",{"$f":"IF(A417=\"(prázdné)\",\"\",IF(($G$1-B417)>25,\"\",\"Junior v roce \"&$G$1))","v":"Junior v roce 2021"}]
["Lukas Zemek",1994,"Letkov",{"$f":"VLOOKUP(C418,Region,2,0)","v":"CZ/C1"},"M",""]
["Lumir Motyka",1955,"Frýdlant","CZ/M","M",""]
["Marcel Skarohlid",1972,"Hodkovice","CZ/C2","M",""]
["Marek Blatak",1969,"Šumperk","CZ/M","M",""]
["Marek Csukas",1982,"Podhořany","CZ/C2","M",""]
["Marek Cacky",1971,"Kladno","CZ/C1","M",""]
["Marek Cerveny",1989,"Jaroměř","CZ/C2","M",""]
["Marek Kornec",1957,"Dvůr Králové","CZ/C2","M",""]
["Marek Loukota",2000,"Letkov",{"$f":"VLOOKUP(C426,Region,2,0)","v":"CZ/C1"},"M","Junior v roce 2021"]
["Marek Malinsky",1985,"Chrudim","CZ/C2","M",""]
["Marek Novy",1973,"Roudnice","CZ/C2","M",""]
["Marek Pechanec",1970,"Luhačovice","CZ/M","M",""]
["Marek Pechar",1995,"Chrudim","CZ/C2","M",""]
["Marek Seitl",1995,"Dvůr Králové","CZ/C2","M",""]
["Marek Sild",1976,"Kunovice","CZ/M","M",""]
["Marek Simon",1998,"Kralupy",{"$f":"VLOOKUP(C433,Region,2,0)","v":"CZ/C1"},"M","Junior v roce 2021"]
["Marek Svancara",1976,"GAC Benešov","CZ/C1","M",""]
["Marek Vinar",1976,"Letňany","CZ/C1","M",""]
["Martin Adamec",1971,"Medlánky",{"$f":"VLOOKUP(C436,Region,2,0)","v":"CZ/M"},"M",{"$f":"IF(A436=\"(prázdné)\",\"\",IF(($G$1-B436)>25,\"\",\"Junior v roce \"&$G$1))","v":""}]
["Martin Babak",1976,"Hořice",{"$f":"VLOOKUP(C437,Region,2,0)","v":"CZ/C2"},"M",{"$f":"IF(A437=\"(prázdné)\",\"\",IF(($G$1-B437)>25,\"\",\"Junior v roce \"&$G$1))","v":""}]
["Martin Balik",1982,"Kralupy","CZ/C1","M",""]
["Martin Benesovsky",1900,"Kolín",{"$f":"VLOOKUP(C439,Region,2,0)","v":"CZ/C1"},"M",{"$f":"IF(A439=\"(prázdné)\",\"\",IF(($G$1-B439)>25,\"\",\"Junior v roce \"&$G$1))","v":""}]
["Martin Cicvarek",1966,"Liberec","CZ/C2","M",""]
["Martin Donek",1976,"Beroun","CZ/C1","M",""]
["Martin Dundr",1968,"Hořice","CZ/C2","M",""]
["Martin Ficnar",1971,"Šumperk","CZ/M","M",""]
["Martin Fric",1967,"Raná","CZ/C2","M",""]
["Martin Gedeon",1989,"Letkov","CZ/C1","M",""]
["Martin Grmela",1989,"Zbraslavice",{"$f":"VLOOKUP(C446,Region,2,0)","v":"CZ/C1"},"M",{"$f":"IF(A446=\"(prázdné)\",\"\",IF(($G$1-B446)>25,\"\",\"Junior v roce \"&$G$1))","v":""}]
["Martin Hejny",1984,"Šumperk","CZ/M","M",""]
["Martin Holik",1959,"Letňany","CZ/C1","M",""]
["Martin Horacek",1985,"Dvůr Králové","CZ/C2","M",""]
["Martin Hrivna",1978,"Zbraslavice","CZ/C1","M",""]
["Martin Chovan",1973,"Zbraslavice","CZ/C1","M",""]
["Martin Janousek",1985,"Turnov","CZ/C2","M",""]
["Martin Koci",1975,"Ústí nad Orlicí","CZ/C2","M",{"$f":"IF(A453=\"(prázdné)\",\"\",IF(($G$1-B453)>25,\"\",\"Junior v roce \"&$G$1))","v":""}]
["Martin Kozina",1970,"Křižanov",{"$f":"VLOOKUP(C454,Region,2,0)","v":"CZ/M"},"M",{"$f":"IF(A454=\"(prázdné)\",\"\",IF(($G$1-B454)>25,\"\",\"Junior v roce \"&$G$1))","v":""}]
["Martin Kriz",1968,"Přibyslav",{"$f":"VLOOKUP(C455,Region,2,0)","v":"CZ/C2"},"M",""]
["Martin Krizovic",1971,"Přibyslav","CZ/C2","M",""]
["Martin Liptak",1970,"Toužim","CZ/C1","M",""]
["Martin Marek",1967,"Roudnice","CZ/C2","M",""]
["Martin Marhefka",1975,"Kyjov","CZ/M","M",""]
["Martin Markl",1960,"Kolín","CZ/C1","M",""]
["Martin Molnar",1986,"Šumperk","CZ/M","M",""]
["Martin Nejezchleb",1979,"Plzeň Bory","CZ/C1","M",""]
["Martin Novak",1976,"Slaný","CZ/C1","M",""]
["Martin Pehe",1978,"Soběslav","CZ/C1","M",""]
["Martin Pekar",1973,"Šumperk","CZ/M","M",""]
["Martin Picka",1974,"Tábor","CZ/C1","M","",null,"Tábor od roku 2018, dříve Letkov"]
["Martin Piskacek",1991,"Křižanov","CZ/M","M",""]
["Martin Sehnoutka",1970,"Dvůr Králové","CZ/C2","M",""]
["Martin Skala",1985,"Vrchlabí","CZ/C2","M",""]
["Martin Soldan",2001,"Hronov",{"$f":"VLOOKUP(C470,Region,2,0)","v":"CZ/C2"},"M","Junior v roce 2021"]
["Martin Soucek",1975,"Mladá Boleslav","CZ/C1","M",""]
["Martin Suchy",1969,"Hranice","CZ/M","M",""]
["Martin Svacina",1965,"Frýdlant","CZ/M","M",""]
["Martin Svoboda",1989,"Letkov","CZ/C1","M",""]
["Martin Sonka",1978,"Tábor","CZ/C1","M",""]
["Martin Stepanek",1987,"Moravská Třebová","CZ/M","M",""]
["Martin Stepka",1966,"Turnov","CZ/C2","M",""]
["Martin Svarc",1981,"Olomouc","CZ/M","M",""]
["Martin Tison",2000,"Hosín",{"$f":"VLOOKUP(C479,Region,2,0)","v":"CZ/C1"},"M",{"$f":"IF(A479=\"(prázdné)\",\"\",IF(($G$1-B479)>25,\"\",\"Junior v roce \"&$G$1))","v":"Junior v roce 2021"}]
["Martin Urban",1971,"Frýdlant","CZ/M","M",""]
["Martin Urner",1974,"Letňany","CZ/C1","M",""]
["Martin Valenta",1969,"Toužim","CZ/C1","M",""]
["Martin Vana",1979,"Mladá Boleslav","CZ/C1","M",""]
["Martin Vnoucek",1972,"Vlašim","CZ/C1","M",""]
["Martin Vondracek",1967,"Hronov","CZ/C2","M",""]
["Martin Vrba",1977,"Toužim","CZ/C1","M",""]
["Martin Vyskocil",1981,"Hodkovice","CZ/C2","M",""]
["Martin Zahalka",1987,"Staňkov","CZ/C1","M",""]
["Martin Zvonicek",1972,"Raná","CZ/C2","M",""]
["Martina Bartonikova",1990,"Luhačovice","CZ/M","F",""]
["Martina Kloubova",1991,"Hodkovice","CZ/C2","F",""]
["Martina Kubatova",1988,"Kyjov","CZ/M","F",""]
["Matej Bartos",1998,"Hodkovice",{"$f":"VLOOKUP(C493,Region,2,0)","v":"CZ/C2"},"M","Junior v roce 2021"]
["Matej Charouz",1993,"Hodkovice","CZ/C2","M",""]
["Matej Jelinek",1999,"Hronov",{"$f":"VLOOKUP(C495,Region,2,0)","v":"CZ/C2"},"M","Junior v roce 2021"]
["Matej Kiss",1990,"Točná","CZ/C1","M",""]
["Matej Krestes",1986,"Slaný","CZ/C1","M",""]
["Matej Plch",1987,"Letkov","CZ/C1","M",""]
["Matej Rendla",2000,"Zbraslavice","CZ/C1","M","Junior v roce 2021"]
["Matej Uhlik",1995,"Letkov","CZ/C1","M",""]
["Matous Schmidt",1981,"Letňany","CZ/C1","M",""]
["Michael Cernes",1997,"Letňany","CZ/C1","M","Junior v roce 2021"]
["Michael Fik",1972,"Strakonice","CZ/C1","M",""]
["Michaela Houskova",1978,"Letkov","CZ/C1","F",""]
["Michaela Krizova",2001,"Přibyslav",{"$f":"VLOOKUP(C505,Region,2,0)","v":"CZ/C2"},"F",{"$f":"IF(A505=\"(prázdné)\",\"\",IF(($G$1-B505)>25,\"\",\"Junior v roce \"&$G$1))","v":"Junior v roce 2021"}]
["Michaela Rendlova",2004,"Toužim",{"$f":"VLOOKUP(C506,Region,2,0)","v":"CZ/C1"},"F","Junior v roce 2021"]
["Michaela Sirmerova",2000,"Jihlava",{"$f":"VLOOKUP(C507,Region,2,0)","v":"CZ/M"},"F",{"$f":"IF(A507=\"(prázdné)\",\"\",IF(($G$1-B507)>25,\"\",\"Junior v roce \"&$G$1))","v":"Junior v roce 2021"}]
["MIchaela Vlacilikova",1993,"Luhačovice","CZ/M","F",""]
["Michal Budejovsky",1991,"Letkov","CZ/C1","M",""]
["Michal Buryan",1977,"Vysoké Mýto","CZ/C2","M",""]
["Michal Coufal",1999,"Jičín",{"$f":"VLOOKUP(C511,Region,2,0)","v":"CZ/C2"},"M","Junior v roce 2021"]
["Michal Cupak",1991,"Medlánky","CZ/M","M",""]
["Michal Cechmanek",1978,"Luhačovice","CZ/M","M",""]
["Michal Drab",1969,"Letkov","CZ/C1","M",""]
["Michal Dvorak",1986,"Zbraslavice","CZ/C1","M",""]
["Michal Fortik",1976,"Točná","CZ/C1","M",""]
["Michal Hemrle",1974,"Česká Lípa",{"$f":"VLOOKUP(C517,Region,2,0)","v":"CZ/C2"},"M",{"$f":"IF(A517=\"(prázdné)\",\"\",IF(($G$1-B517)>25,\"\",\"Junior v roce \"&$G$1))","v":""}]
["Michal Janda",1972,"Broumov","CZ/C2","M",""]
["Michal Kares",1987,"Ústí nad Orlicí","CZ/C2","M",""]
["Michal Kodousek",1983,"Jaroměř","CZ/C2","M",""]
["Michal Kratochvil",1984,"Slaný","CZ/C1","M",""]
["Michal Krupicka",1975,"Most","CZ/C2","M",""]
["Michal Lesinger",1966,"Moravská Třebová","CZ/M","M",""]
["Michal Linhart",1982,"Vyškov","CZ/M","M",""]
["Michal Maly",1982,"Broumov","CZ/C2","M",""]
["Michal Marek",1982,"Křižanov","CZ/M","M",""]
["Michal Navratil",1985,"Křižanov","CZ/M","M",{"$f":"IF(A527=\"(prázdné)\",\"\",IF(($G$1-B527)>25,\"\",\"Junior v roce \"&$G$1))","v":""}]
["Michal Nutil",1966,"Náchod",{"$f":"VLOOKUP(C528,Region,2,0)","v":"CZ/C2"},"M",{"$f":"IF(A528=\"(prázdné)\",\"\",IF(($G$1-B528)>25,\"\",\"Junior v roce \"&$G$1))","v":""}]
["Michal Ondracek",1966,"Medlánky",{"$f":"VLOOKUP(C529,Region,2,0)","v":"CZ/M"},"M",""]
["Michal Posluzny",1968,"Medlánky",{"$f":"VLOOKUP(C530,Region,2,0)","v":"CZ/M"},"M",""]
["Michal Rancak",1984,"Mladá Boleslav","CZ/C1","M",""]
["Michal Richter",1983,"Kolín","CZ/C1","M",""]
["Michal Sebek",1998,"Letňany","CZ/C1","M","Junior v roce 2021"]
["Michal Sich",1979,"Mladá Boleslav","CZ/C1","M",""]
["Michal Stastny",1970,"Medlánky","CZ/M","M",""]
["Michal Trylc",1987,"Plasy","CZ/C1","M",""]
["Michal Vopalensky",1974,"Letňany",{"$f":"VLOOKUP(C537,Region,2,0)","v":"CZ/C1"},"M",{"$f":"IF(A537=\"(prázdné)\",\"\",IF(($G$1-B537)>25,\"\",\"Junior v roce \"&$G$1))","v":""}]
["Michal Vrana",1999,"Vyškov",{"$f":"VLOOKUP(C538,Region,2,0)","v":"CZ/M"},"M",{"$f":"IF(A538=\"(prázdné)\",\"\",IF(($G$1-B538)>25,\"\",\"Junior v roce \"&$G$1))","v":"Junior v roce 2021"}]
["Michal Vranek",1993,"Hosín",{"$f":"VLOOKUP(C539,Region,2,0)","v":"CZ/C1"},"M",{"$f":"IF(A539=\"(prázdné)\",\"\",IF(($G$1-B539)>25,\"\",\"Junior v roce \"&$G$1))","v":""}]
["Milada Moudra",1991,"Hodkovice","CZ/C2","F",""]
["Milan Benes",1953,"Raná",{"$f":"VLOOKUP(C541,Region,2,0)","v":"CZ/C2"},"M",{"$f":"IF(A541=\"(prázdné)\",\"\",IF(($G$1-B541)>25,\"\",\"Junior v roce \"&$G$1))","v":""}]
["Milan Dvorak",1965,"Liberec","CZ/C2","M",""]
["Milan Kuk",1950,"Dvůr Králové","CZ/C2","M",""]
["Milan Meisner",1961,"Dvůr Králové","CZ/C2","M",""]
["Milan Riha",1973,"Zbraslavice",{"$f":"VLOOKUP(C545,Region,2,0)","v":"CZ/C1"},"M",{"$f":"IF(A545=\"(prázdné)\",\"\",IF(($G$1-B545)>25,\"\",\"Junior v roce \"&$G$1))","v":""}]
["Milan Svoboda 34",1934,"Letkov","CZ/C1","M",""]
["Milan Svoboda 80",1980,"Havlíčkův Brod","CZ/C2","M","",null,"Dříve Chotěboř"]
["Milan Svorc",1955,"Podhořany","CZ/C2","M",""]
["Miloslav Cindr",1974,"Ústí nad Orlicí","CZ/C2","M",""]
["Miloslav Cink",1987,"Letkov","CZ/C1","M","",null,"Dříve Letkov"]
["Miloslav Fiser",1974,"Hodkovice","CZ/C2","M",""]
["Miloslav Hulmak",1963,"Hosín","CZ/C1","M",""]
["Miloslav Krch",1988,"Zbraslavice","CZ/C1","M",""]
["Milos Dedera",1956,"Jihlava","CZ/M","M",""]
["Milos Eichler",1964,"Dvůr Králové","CZ/C2","M",""]
["Milos Houha",1954,"Plzeň Bory","CZ/C1","M",""]
["Milos Hrabe",1979,"Letňany","CZ/C1","M",""]
["Milos Matejka",1956,"Beroun","CZ/C1","M",""]
["Milos Novotny",1973,"Hronov",{"$f":"VLOOKUP(C559,Region,2,0)","v":"CZ/C2"},"M",{"$f":"IF(A559=\"(prázdné)\",\"\",IF(($G$1-B559)>25,\"\",\"Junior v roce \"&$G$1))","v":""}]
["Milos Pajr",1966,"Jičín","CZ/C2","M",""]
["Milos Pospisil",1952,"Frýdlant","CZ/M","M",""]
["Milos Rejzl",1962,"Klatovy","CZ/C1","M",""]
["Miroslav Burdych",1973,"Nové Město nad Metují","CZ/C2","M",""]
["Miroslav Burian",1969,"Křižanov","CZ/M","M",""]
["Miroslav Cervenka",1980,"Křižanov","CZ/M","M",""]
["Miroslav Filip",1959,"Křižanov","CZ/M","M",""]
["Miroslav Horinek",1976,"Křižanov","CZ/M","M",""]
["Miroslav Jezek",1973,"Žamberk","CZ/C2","M",""]
["Miroslav Koci",1961,"Žamberk","CZ/C2","M",""]
["Miroslav Kudlacek",1986,"Polička",{"$f":"VLOOKUP(C570,Region,2,0)","v":"CZ/C2"},"M",{"$f":"IF(A570=\"(prázdné)\",\"\",IF(($G$1-B570)>25,\"\",\"Junior v roce \"&$G$1))","v":""}]
["Miroslav Macik",1983,"Rakovník","CZ/C1","M",""]
["Miroslav Major",1968,"Kralupy","CZ/C1","M",""]
["Miroslav Mancik",1976,"Kyjov","CZ/M","M",""]
["Miroslav Mitrus",1972,"GAC Benešov",{"$f":"VLOOKUP(C574,Region,2,0)","v":"CZ/C1"},"M",""]
["Miroslav Odlozilik",1973,"Křižanov","CZ/M","M",""]
["Miroslav Ofukany",1951,"Kolín","CZ/C1","M",""]
["Miroslav Plechac",1969,"Hronov","CZ/C2","M",""]
["Miroslav Sklenar",1964,"Žamberk","CZ/C2","M",""]
["Miroslav Streda",1945,"Vrchlabí","CZ/C2","M",""]
["Miroslav Sedivy",1974,"Letkov","CZ/C1","M",""]
["Miroslav Stepan",1955,"Žamberk","CZ/C2","M",""]
["Miroslav Trybucek",1965,"Jičín","CZ/C2","M",""]
["Monika Bezdekova",1988,"Letňany","CZ/C1","F","",null,"Dříve Bubnová"]
["Monika Jiraskova",1994,"Hronov","CZ/C2","F",""]
["Monika Klovanicova",1992,"Kunovice","CZ/M","F",""]
["Nikola Zizkovsky",1980,"Kralupy","CZ/C1","M",""]
["Oldrich Bartonik",1961,"Luhačovice","CZ/M","M",""]
["Oldrich Hlavacek",1973,"Medlánky","CZ/M","M",""]
["Oldrich Houzvicka",1975,"Frýdlant","CZ/M","M",""]
["Oldrich Kounovsky",1976,"Medlánky",{"$f":"VLOOKUP(C590,Region,2,0)","v":"CZ/M"},"M",{"$f":"IF(A590=\"(prázdné)\",\"\",IF(($G$1-B590)>25,\"\",\"Junior v roce \"&$G$1))","v":""}]
["Oldrich Slavicek",1959,"Hronov","CZ/C2","M",""]
["Oldrich Stumbauer",1992,"Prachatice",{"$f":"VLOOKUP(C592,Region,2,0)","v":"CZ/C1"},"M",{"$f":"IF(A592=\"(prázdné)\",\"\",IF(($G$1-B592)>25,\"\",\"Junior v roce \"&$G$1))","v":""}]
["Olga Mokosova",1970,"Jihlava","CZ/M","F",""]
["Ondrej Bartos",1975,"Točná","CZ/C1","M",""]
["Ondrej Belohlavek",1978,"Vysoké Mýto","CZ/C2","M",""]
["Ondrej Blaha",1976,"Letňany","CZ/C1","M",""]
["Ondrej Bordovsky",1983,"Krnov","CZ/M","M",""]
["Ondrej Dupal",1966,"GAC Benešov","CZ/C1","M",""]
["Ondrej Dvorak 58",1958,"Raná","CZ/C2","M",""]
["Ondrej Dvorak 87",1987,"Raná","CZ/C2","M",""]
["Ondrej Dvorak 98",1998,"Mladá Boleslav","CZ/C1","M","Junior v roce 2021"]
["Ondrej Hart",1990,"Letňany",{"$f":"VLOOKUP(C602,Region,2,0)","v":"CZ/C1"},"M",{"$f":"IF(A602=\"(prázdné)\",\"\",IF(($G$1-B602)>25,\"\",\"Junior v roce \"&$G$1))","v":""}]
["Ondrej Holas",1989,"Česká Lípa","CZ/C2","M",""]
["Ondrej Jung",1976,"Zbraslavice","CZ/C1","M",{"$f":"IF(A604=\"(prázdné)\",\"\",IF(($G$1-B604)>25,\"\",\"Junior v roce \"&$G$1))","v":""}]
["Ondrej Kluger",1990,"LK Břeclav",{"$f":"VLOOKUP(C605,Region,2,0)","v":"CZ/M"},"M",""]
["Ondrej Kover",1993,"Šumperk","CZ/M","M",""]
["Ondrej Krejci",1974,"Chotěboř","CZ/C2","M",""]
["Ondrej Prazsky",1978,"Zbraslavice",{"$f":"VLOOKUP(C608,Region,2,0)","v":"CZ/C1"},"M",{"$f":"IF(A608=\"(prázdné)\",\"\",IF(($G$1-B608)>25,\"\",\"Junior v roce \"&$G$1))","v":""}]
["Ondrej Marek",1989,"Žamberk","CZ/C2","M",""]
["Ondrej Skala",1982,"Vrchlabí","CZ/C2","M",""]
["Ondrej Sindelar",1979,"Mladá Boleslav","CZ/C1","M",""]
["Ondrej Supka",1994,"Kunovice","CZ/M","M",""]
["Ondrej Teichman",1984,"Dvůr Králové","CZ/C2","M",""]
["Ondrej Trkal",1991,"Vysoké Mýto","CZ/C2","M",""]
["Ondrej Valach",1986,"Točná","CZ/C1","M",""]
["Ondrej Vyskocil",1991,"Letkov","CZ/C1","M",""]
["Ondrej Zeman",1980,"Letňany","CZ/C1","M",""]
["Ota Vavrin",1947,"Vysoké Mýto","CZ/C2","M",""]
["Otakar Tucek",1947,"Raná","CZ/C2","M",""]
["Patrik Cebis",1972,"Kralupy","CZ/C1","M",""]
["Pavel Brodsky",1992,"Hořice","CZ/C2","M",""]
["Pavel Cerny",1996,"Příbram","CZ/C1","M","Junior v roce 2021"]
["Pavel Derda",1952,"Dvůr Králové","CZ/C2","M",""]
["Pavel Dostal",1944,"Turnov","CZ/C2","M",""]
["Pavel Foldyna",1976,"Frýdlant","CZ/M","M",""]
["Pavel Franc",1974,"Hronov","CZ/C2","M",""]
["Pavel Haluza",1966,"Prostějov","CZ/M","M",""]
["Pavel Handl",1971,"Kroměříž",{"$f":"VLOOKUP(C628,Region,2,0)","v":"CZ/M"},"M",{"$f":"IF(A628=\"(prázdné)\",\"\",IF(($G$1-B628)>25,\"\",\"Junior v roce \"&$G$1))","v":""}]
["Pavel Hartman",1963,"Jaroměř","CZ/C2","M",""]
["Pavel Jiranek",1993,"Toužim","CZ/C1","M",""]
["Pavel Jurak",1986,"Kunovice","CZ/M","M",""]
["Pavel Jurka",1955,"Moravská Třebová","CZ/M","M",""]
["Pavel Kalous",1921,"Frýdlant","CZ/M","M",""]
["Pavel Kostkan",1952,"Dvůr Králové","CZ/C2","M",""]
["Pavel Koudelka",1973,"Křižanov","CZ/M","M",""]
["Pavel Kuriscak",1987,"Beroun",{"$f":"VLOOKUP(C636,Region,2,0)","v":"CZ/C1"},"M",{"$f":"IF(A636=\"(prázdné)\",\"\",IF(($G$1-B636)>25,\"\",\"Junior v roce \"&$G$1))","v":""}]
["Pavel Kyzivat",1973,"Zbraslavice",{"$f":"VLOOKUP(C637,Region,2,0)","v":"CZ/C1"},"M",{"$f":"IF(A637=\"(prázdné)\",\"\",IF(($G$1-B637)>25,\"\",\"Junior v roce \"&$G$1))","v":""}]
["Pavel Laznicka",1955,"Letňany","CZ/C1","M",""]
["Pavel Liska",1965,"Roudnice","CZ/C2","M",""]
["Pavel Louzecky",1957,"Přibyslav","CZ/C2","M",""]
["Pavel Nemec",1988,"Šumperk","CZ/M","M",""]
["Pavel Opat",1975,"Rakovník",{"$f":"VLOOKUP(C642,Region,2,0)","v":"CZ/C1"},"M",{"$f":"IF(A642=\"(prázdné)\",\"\",IF(($G$1-B642)>25,\"\",\"Junior v roce \"&$G$1))","v":""}]
["Pavel Paces",1972,"Kladno","CZ/C1","M",""]
["Pavel Pittner",1980,"Polička","CZ/C2","M",""]
["Pavel Rericha",1967,"Moravská Třebová","CZ/M","M",""]
["Pavel Schor",1985,"Medlánky","CZ/M","M",""]
["Pavel Svoboda",1938,"Letňany","CZ/C1","M",""]
["Pavel Simek",1957,"Vyškov","CZ/M","M",""]
["Pavel Skrabal",1969,"Šumperk","CZ/M","M",""]
["Pavel Sulc",1976,"Hodkovice",{"$f":"VLOOKUP(C650,Region,2,0)","v":"CZ/C2"},"M",{"$f":"IF(A650=\"(prázdné)\",\"\",IF(($G$1-B650)>25,\"\",\"Junior v roce \"&$G$1))","v":""}]
["Pavel Svejkovsky",1968,"Česká Lípa",{"$f":"VLOOKUP(C651,Region,2,0)","v":"CZ/C2"},"M",{"$f":"IF(A651=\"(prázdné)\",\"\",IF(($G$1-B651)>25,\"\",\"Junior v roce \"&$G$1))","v":""}]
["Pavel Svrcek",1972,"Frýdlant","CZ/M","M",""]
["Pavel Trojan",1960,"Chrudim","CZ/C2","M",""]
["Pavel Trybenekr",1990,"Hořice","CZ/C2","M",""]
["Pavel Zima",1979,"Břeclav","CZ/M","M",""]
["Pavla Seifertova",1981,"Raná","CZ/C2","F",""]
["Pavlina Hanusova",1970,"Turnov","CZ/C2","F",""]
["Pavlina Horackova",1965,"Šumperk","CZ/M","F",""]
["Peter Kaspar",1980,"Vyškov",{"$f":"VLOOKUP(C659,Region,2,0)","v":"CZ/M"},"M",{"$f":"IF(A659=\"(prázdné)\",\"\",IF(($G$1-B659)>25,\"\",\"Junior v roce \"&$G$1))","v":""}]
["Petr Babak",1973,"Hořice",{"$f":"VLOOKUP(C660,Region,2,0)","v":"CZ/C2"},"M",{"$f":"IF(A660=\"(prázdné)\",\"\",IF(($G$1-B660)>25,\"\",\"Junior v roce \"&$G$1))","v":""}]
["Petr Baros",1974,"Hranice","CZ/M","M",""]
["Petr Bartak",1984,"Letkov","CZ/C1","M",""]
["Petr Brezina",1963,"Frýdlant","CZ/M","M",""]
["Petr Bezdek",1965,"Letňany","CZ/C1","M",""]
["Petr Cernicky",1974,"Toužim",{"$f":"VLOOKUP(C665,Region,2,0)","v":"CZ/C1"},"M",{"$f":"IF(A665=\"(prázdné)\",\"\",IF(($G$1-B665)>25,\"\",\"Junior v roce \"&$G$1))","v":""}]
["Petr Doubek",1974,"Kralupy","CZ/C1","M",""]
["Petr Filip",1982,"Zbraslavice","CZ/C1","M",""]
["Petr Fisar",1974,"Ústí nad Orlicí","CZ/C2","M",""]
["Petr Fousek",1958,"Zbraslavice","CZ/C1","M",""]
["Petr Frycek",1960,"Most","CZ/C2","M",""]
["Petr Gebauer",1999,"Mladá Boleslav","CZ/C1","M","Junior v roce 2021"]
["Petr Gryc",1949,"Medlánky","CZ/M","M",""]
["Petr Hanacek",1962,"Jeseník","CZ/M","M",""]
["Petr Havelka",1997,"Zbraslavice",{"$f":"VLOOKUP(C674,Region,2,0)","v":"CZ/C1"},"M",{"$f":"IF(A674=\"(prázdné)\",\"\",IF(($G$1-B674)>25,\"\",\"Junior v roce \"&$G$1))","v":"Junior v roce 2021"}]
["Petr Havrlant",1965,"Šumperk","CZ/M","M",""]
["Petr Hodulak",1974,"Beroun","CZ/C1","M",""]
["Petr Hofman",1984,"Letňany","CZ/C1","M",""]
["Petr Homola",1974,"GAC Benešov",{"$f":"VLOOKUP(C678,Region,2,0)","v":"CZ/C1"},"M",{"$f":"IF(A678=\"(prázdné)\",\"\",IF(($G$1-B678)>25,\"\",\"Junior v roce \"&$G$1))","v":""}]
["Petr Hora",1948,"Hodkovice","CZ/C2","M",{"$f":"IF(A679=\"(prázdné)\",\"\",IF(($G$1-B679)>25,\"\",\"Junior v roce \"&$G$1))","v":""}]
["Petr Hosek",2001,"Beroun",{"$f":"VLOOKUP(C680,Region,2,0)","v":"CZ/C1"},"M","Junior v roce 2021"]
["Petr Hotovy",1958,"Česká Lípa",{"$f":"VLOOKUP(C681,Region,2,0)","v":"CZ/C2"},"M",""]
["Petr Houstek 49",1949,"Jaroměř","CZ/C2","M",""]
["Petr Houstek 79",1979,"Jaroměř","CZ/C2","M",""]
["Petr Hrebec",1972,"Točná","CZ/C1","M",""]
["Petr Humlicek",1973,"Medlánky","CZ/M","M",""]
["Petr Hybner",1951,"Liberec","CZ/C2","M",""]
["Petr Jasan",1960,"Medlánky","CZ/M","M",""]
["Petr Jedlicka",1987,"Medlánky","CZ/M","M",""]
["Petr Jiranek 63",1962,"Toužim","CZ/C1","M",""]
["Petr Jiranek 91",1991,"Toužim","CZ/C1","M",""]
["Petr Jirasek",1968,"Hronov","CZ/C2","M",""]
["Petr Kachlik",1954,"GAC Benešov","CZ/C1","M",""]
["Petr Kapounek",1977,"Kroměříž","CZ/M","M",""]
["Petr Kaufmann",1958,"Nové Město nad Metují","CZ/C2","M",""]
["Petr Kejr",1959,"Kralupy","CZ/C1","M",""]
["Petr Kolacek",1965,"Šumperk","CZ/M","M",""]
["Petr Kolomaznik",1981,"Šumperk","CZ/M","M",""]
["Petr Kotal",1975,"Točná","CZ/C1","M",""]
["Petr Koutny",1971,"Křižanov","CZ/M","M",""]
["Petr Kohr",1970,"Raná","CZ/C2","M",""]
["Petr Krejcirik",1960,"Hranice","CZ/M","M",""]
["Petr Kubik 74",1974,"Křižanov","CZ/M","M",""]
["Petr Kubik 75",1975,"Moravská Třebová","CZ/M","M",""]
["Petr Kyzivat",1970,"Jičín","CZ/C2","M",""]
["Petr Lonsky",1965,"Toužim","CZ/C1","M",""]
["Petr Los",1961,"Toužim","CZ/C1","M",""]
["Petr Macicek",1976,"Frýdlant","CZ/M","M",""]
["Petr Malcek",1965,"Letňany","CZ/C1","M",""]
["Petr Mitas",1993,"Kunovice","CZ/M","M",""]
["Petr Omelka",1970,"Vyškov",{"$f":"VLOOKUP(C710,Region,2,0)","v":"CZ/M"},"M",{"$f":"IF(A710=\"(prázdné)\",\"\",IF(($G$1-B710)>25,\"\",\"Junior v roce \"&$G$1))","v":""}]
["Petr Panek",1975,"Dvůr Králové","CZ/C2","M",""]
["Petr Petricka",1972,"Soběslav","CZ/C1","M",""]
["Petr Prichystal",1973,"Moravská Třebová","CZ/M","M",""]
["Petr Rajda",1970,"Křižanov","CZ/M","M",""]
["Petr Rozhon",1972,"Hosín","CZ/C1","M",""]
["Petr Rygl",1966,"Jičín","CZ/C2","M",""]
["Petr Seibrt",1974,"Náchod","CZ/C2","M",""]
["Petr Sloupensky",1959,"Ústí nad Orlicí","CZ/C2","M",""]
["Petr Starek",1974,"Zbraslavice","CZ/C1","M",""]
["Petr Striz",1980,"Točná","CZ/C1","M",""]
["Petr Svoboda",1988,"Letkov","CZ/C1","M",""]
["Petr Safar",1978,"Ústí nad Orlicí","CZ/C2","M",""]
["Petr Senkyr",1965,"Kunovice","CZ/M","M",""]
["Petr Setka",1971,"Letkov","CZ/C1","M",""]
["Petr Sochor",1986,"Hosín",{"$f":"VLOOKUP(C725,Region,2,0)","v":"CZ/C1"},"M",{"$f":"IF(A725=\"(prázdné)\",\"\",IF(($G$1-B725)>25,\"\",\"Junior v roce \"&$G$1))","v":""}]
["Petr Spunar",1966,"Mladá Boleslav","CZ/C1","M",""]
["Petr Stepanek",1989,"Moravská Třebová","CZ/M","M",""]
["Petr Tax",1968,"Jičín",{"$f":"VLOOKUP(C728,Region,2,0)","v":"CZ/C2"},"M",{"$f":"IF(A728=\"(prázdné)\",\"\",IF(($G$1-B728)>25,\"\",\"Junior v roce \"&$G$1))","v":""}]
["Petr Tichy",1973,"Zbraslavice","CZ/C1","M",""]
["Petr Uhrincko",1969,"Kladno","CZ/C1","M",""]
["Petr Valenta 94",1994,"Kunovice","CZ/M","M",""]
["Petr Valenta 76",1976,"Jaroměř",{"$f":"VLOOKUP(C732,Region,2,0)","v":"CZ/C2"},"M",{"$f":"IF(A732=\"(prázdné)\",\"\",IF(($G$1-B732)>25,\"\",\"Junior v roce \"&$G$1))","v":""}]
["Petr Velek",1975,"GAC Benešov",{"$f":"VLOOKUP(C733,Region,2,0)","v":"CZ/C1"},"M",{"$f":"IF(A733=\"(prázdné)\",\"\",IF(($G$1-B733)>25,\"\",\"Junior v roce \"&$G$1))","v":""}]
["Petr Vezda",1974,"Medlánky",{"$f":"VLOOKUP(C734,Region,2,0)","v":"CZ/M"},"M",{"$f":"IF(A734=\"(prázdné)\",\"\",IF(($G$1-B734)>25,\"\",\"Junior v roce \"&$G$1))","v":""}]
["Petr Vlasak",1974,"Medlánky","CZ/M","M",""]
["Petr Vodicka",1965,"Jaroměř","CZ/C2","M",""]
["Petr Zajic",1962,"Liberec","CZ/C2","M",""]
["Petra Benesova",1985,"Beroun","CZ/C1","F",""]
["Petra Diepoldova",1978,"Vysoké Mýto","CZ/C2","F",""]
["Petra Piskata",1989,"Luhačovice","CZ/M","F",""]
["Petra Pinkova",1988,"Letkov","CZ/C1","F",""]
["Petra Retamozova",1990,"Kralupy","CZ/C1","F",""]
["Premek Popovsky",1966,"Kyjov","CZ/M","M",""]
["Premysl Muzik",1990,"Hosín","CZ/C1","M",""]
["Radek Gadas",1998,"Hodkovice",{"$f":"VLOOKUP(C745,Region,2,0)","v":"CZ/C2"},"M","Junior v roce 2021"]
["Radek Hamrla",1973,"Vyškov",{"$f":"VLOOKUP(C746,Region,2,0)","v":"CZ/M"},"M",{"$f":"IF(A746=\"(prázdné)\",\"\",IF(($G$1-B746)>25,\"\",\"Junior v roce \"&$G$1))","v":""}]
["Radek Hybl",1980,"Šumperk","CZ/M","M",""]
["Radek Chmela",1984,"Luhačovice","CZ/M","M",""]
["Radek Jaksa",1979,"Prostějov","CZ/M","M",""]
["Radek Krejcirik",1991,"Hranice","CZ/M","M",""]
["Radek Kucirek",1973,"Havlíčkův Brod","CZ/C2","M",""]
["Radek Laga",1997,"Kunovice",{"$f":"VLOOKUP(C752,Region,2,0)","v":"CZ/M"},"M","Junior v roce 2021"]
["Radek Munzar",1976,"Jaroměř","CZ/C2","M",{"$f":"IF(A753=\"(prázdné)\",\"\",IF(($G$1-B753)>25,\"\",\"Junior v roce \"&$G$1))","v":""}]
["Radek Tobolka",1977,"Jičín",{"$f":"VLOOKUP(C754,Region,2,0)","v":"CZ/C2"},"M",""]
["Radek Trunec",1989,"Letkov","CZ/C1","M",""]
["Radek Vlcek",1982,"Šumperk","CZ/M","M",""]
["Radek Zima 78",1978,"Hodkovice","CZ/C2","M",""]
["Radek Zima 75",1975,"Břeclav","CZ/M","M",""]
["Radim Bradac",1995,"Letňany","CZ/C1","M",""]
["Radim Hahn",1972,"Zábřeh","CZ/M","M",""]
["Radim Hauptmann",1963,"Jičín","CZ/C2","M",""]
["Radim Jordan",1976,"Žamberk","CZ/C2","M",""]
["Radim Krofta",1984,"Rakovník","CZ/C1","M",""]
["Radim Malatek",1978,"Beroun","CZ/C1","M",""]
["Radim Vadasz",1989,"Soběslav","CZ/C1","M",""]
["Radim Zielinski",1969,"Frýdlant","CZ/M","M",""]
["Radmila Horacek Filakovska",1963,"Dvůr Králové","CZ/C2","F",""]
["Radoslav Pur",1973,"Hosín","CZ/C1","M",""]
["Radovan Otto",1968,"Ústí nad Labem","CZ/C2","M",""]
["Radovan Sohr",1965,"Hranice","CZ/M","M","",null,"Dříve Jičín"]
["Rene Hudak",1972,"Kunovice","CZ/M","M",""]
["Rene Picha",1970,"Vlašim","CZ/C1","M",""]
["Richard Jensen",1965,"Zbraslavice","CZ/C1","M",""]
["Richard Svarovsky",1976,"Zábřeh","CZ/M","M",""]
["Richard Vlcek",1993,"Kunovice","CZ/M","M",""]
["Robert Jandera",1976,"Hodkovice","CZ/C2","M",""]
["Robert Sima",1971,"GAC Benešov","CZ/C1","M",""]
["Roman Cerny",1971,"Hranice","CZ/M","M",""]
["Roman Huszar",1963,"Letňany","CZ/C1","M",""]
["Roman Jokl",1979,"Letkov","CZ/C1","M",""]
["Roman Konarik",1976,"Luhačovice","CZ/M","M",""]
["Roman Lanzendorf",1964,"Letkov","CZ/C1","M",""]
["Roman Lengal",1987,"Břeclav",{"$f":"VLOOKUP(C783,Region,2,0)","v":"CZ/M"},"M",{"$f":"IF(A783=\"(prázdné)\",\"\",IF(($G$1-B783)>25,\"\",\"Junior v roce \"&$G$1))","v":""}]
["Roman Lukes",1979,"Přibyslav",{"$f":"VLOOKUP(C784,Region,2,0)","v":"CZ/C2"},"M",{"$f":"IF(A784=\"(prázdné)\",\"\",IF(($G$1-B784)>25,\"\",\"Junior v roce \"&$G$1))","v":""}]
["Roman Michalek",1974,"Toužim","CZ/C1","M",""]
["Roman Mracek",1980,"Letkov","CZ/C1","M",""]
["Roman Schotli",1970,"Hranice","CZ/M","M",""]
["Roman Stoklasa",1984,"Medlánky","CZ/M","M",""]
["Rostislav Broz",1968,"Vrchlabí","CZ/C2","M",""]
["Rostislav Fric",1973,"Raná","CZ/C2","M","",null,"Dříve Jičín"]
["Rostislav Matl",1972,"Vyškov","CZ/M","M",""]
["Rostislav Stryk",1972,"Frýdlant","CZ/M","M",""]
["Rostislav Subert",1982,"Šumperk","CZ/M","M",""]
["Rudolf Ferbar",1969,"Moravská Třebová","CZ/M","M",""]
["Rudolf Jung",1954,"Zbraslavice","CZ/C1","M",""]
["Sabina Vitova",1998,"Kroměříž","CZ/M","F","Junior v roce 2021"]
["Slavomir Piskaty 58",1958,"Kunovice","CZ/M","M",""]
["Slavomir Piskaty 84",1984,"Kunovice","CZ/M","M",""]
["Slavomir Tanglmajer",1966,"Chomutov","CZ/C2","M",""]
["Slavomir Valecko",1960,"Hranice","CZ/M","M",""]
["Sona Fortova",1980,"GAC Benešov","CZ/C1","F",""]
["Stanislav Doskocil",1978,"Medlánky","CZ/M","M",""]
["Stanislav Hanus",1970,"Vrchlabí","CZ/C2","M",""]
["Stanislav Honzatko",1952,"Slaný","CZ/C1","M",""]
["Stanislav John",1974,"Hosín",{"$f":"VLOOKUP(C805,Region,2,0)","v":"CZ/C1"},"M",{"$f":"IF(A805=\"(prázdné)\",\"\",IF(($G$1-B805)>25,\"\",\"Junior v roce \"&$G$1))","v":""}]
["Stanislav Kubicek",1960,"Medlánky","CZ/M","M",""]
["Stanislav Poslusny",1965,"GAC Benešov","CZ/C1","M",""]
["Stanislav Vrabec",1975,"Česká Lípa",{"$f":"VLOOKUP(C808,Region,2,0)","v":"CZ/C2"},"M",{"$f":"IF(A808=\"(prázdné)\",\"\",IF(($G$1-B808)>25,\"\",\"Junior v roce \"&$G$1))","v":""}]
["Stanislava Zemlickova",2000,"Vyškov",{"$f":"VLOOKUP(C809,Region,2,0)","v":"CZ/M"},"F",{"$f":"IF(A809=\"(prázdné)\",\"\",IF(($G$1-B809)>25,\"\",\"Junior v roce \"&$G$1))","v":"Junior v roce 2021"}]
["Svatopluk Tomsu",1973,"Jaroměř","CZ/C2","M",""]
["Sarka Lochova",1966,"Šumperk","CZ/M","F",""]
["Stefan Uher",1968,"Turnov","CZ/C2","M",""]
["Stepan Matous",1980,"Dvůr Králové","CZ/C2","M",""]
["Stepan Obrovsky",1990,"Frýdlant",{"$f":"VLOOKUP(C814,Region,2,0)","v":"CZ/M"},"M",{"$f":"IF(A814=\"(prázdné)\",\"\",IF(($G$1-B814)>25,\"\",\"Junior v roce \"&$G$1))","v":""}]
["Teodor Skoda",1998,"Hronov",{"$f":"VLOOKUP(C815,Region,2,0)","v":"CZ/C2"},"M",{"$f":"IF(A815=\"(prázdné)\",\"\",IF(($G$1-B815)>25,\"\",\"Junior v roce \"&$G$1))","v":"Junior v roce 2021"}]
["Tereza Jirsakova",1997,"Hronov","CZ/C2","F","Junior v roce 2021"]
["Tereza Koubkova",1999,"Vysoké Mýto","CZ/C2","F",{"$f":"IF(A817=\"(prázdné)\",\"\",IF(($G$1-B817)>25,\"\",\"Junior v roce \"&$G$1))","v":"Junior v roce 2021"}]
["Tereza Krcilova Spalenkova",1981,"Raná",{"$f":"VLOOKUP(C818,Region,2,0)","v":"CZ/C2"},"F",{"$f":"IF(A818=\"(prázdné)\",\"\",IF(($G$1-B818)>25,\"\",\"Junior v roce \"&$G$1))","v":""}]
["Tereza Novakova",1993,"Chrudim",{"$f":"VLOOKUP(C819,Region,2,0)","v":"CZ/C2"},"F",{"$f":"IF(A819=\"(prázdné)\",\"\",IF(($G$1-B819)>25,\"\",\"Junior v roce \"&$G$1))","v":""}]
["Tibor Hezina",2002,"Křižanov",{"$f":"VLOOKUP(C820,Region,2,0)","v":"CZ/M"},"M","Junior v roce 2021"]
["Tibor Hruza",1970,"Letkov","CZ/C1","M",""]
["Tim Raasch",2000,"Polička",{"$f":"VLOOKUP(C822,Region,2,0)","v":"CZ/C2"},"M",{"$f":"IF(A822=\"(prázdné)\",\"\",IF(($G$1-B822)>25,\"\",\"Junior v roce \"&$G$1))","v":"Junior v roce 2021"}]
["Tomas Barton",1982,"Hosín","CZ/C1","M",""]
["Tomas Buben",1971,"Jaroměř","CZ/C2","M",""]
["Tomas Ditrt",1969,"Podhořany","CZ/C2","M",""]
["Tomas Fiala 72",1972,"Křižanov","CZ/M","M",""]
["Tomas Fiala 77",1977,"Luhačovice","CZ/M","M",""]
["Tomas Fila",1987,"Beroun","CZ/C1","M",{"$f":"IF(A828=\"(prázdné)\",\"\",IF(($G$1-B828)>25,\"\",\"Junior v roce \"&$G$1))","v":""}]
["Tomas Flegl",1987,"Hodkovice",{"$f":"VLOOKUP(C829,Region,2,0)","v":"CZ/C2"},"M",""]
["Tomas Frinta",1970,"Hodkovice","CZ/C2","M",""]
["Tomas Hlavacek",1984,"Mladá Boleslav",{"$f":"VLOOKUP(C831,Region,2,0)","v":"CZ/C1"},"M",{"$f":"IF(A831=\"(prázdné)\",\"\",IF(($G$1-B831)>25,\"\",\"Junior v roce \"&$G$1))","v":""}]
["Tomas Hlavenka",1987,"Luhačovice","CZ/M","M",""]
["Tomas Holenda",1956,"Havlíčkův Brod",{"$f":"VLOOKUP(C833,Region,2,0)","v":"CZ/C2"},"M",{"$f":"IF(A833=\"(prázdné)\",\"\",IF(($G$1-B833)>25,\"\",\"Junior v roce \"&$G$1))","v":""}]
["Tomas Holzapfel",1975,"Mladá Boleslav","CZ/C1","M",""]
["Tomas Hulmak",1999,"Hosín","CZ/C1","M","Junior v roce 2021"]
["Tomas Hynek",2002,"Dvůr Králové",{"$f":"VLOOKUP(C836,Region,2,0)","v":"CZ/C2"},"M","Junior v roce 2021"]
["Tomas Charvat",1981,"Vysoké Mýto","CZ/C2","M",""]
["Tomas Jakoubek",2000,"Hronov",{"$f":"VLOOKUP(C838,Region,2,0)","v":"CZ/C2"},"M","Junior v roce 2021"]
["Tomas Jedlicka",1959,"Karlštejn","CZ/C1","M",""]
["Tomas Jilek",1995,"Raná","CZ/C2","M",""]
["Tomas Jiricny",1981,"Hodkovice","CZ/C2","M",""]
["Tomas Jung",1950,"Zbraslavice","CZ/C1","M",""]
["Tomas Kohout",1981,"Slaný","CZ/C1","M",""]
["Tomas Koutnik",1985,"Jaroměř","CZ/C2","M",""]
["Tomas Kovarik",1965,"Zbraslavice","CZ/C1","M",""]
["Tomas Kubac",1993,"Roudnice","CZ/C2","M",""]
["Tomas Kulhavy",2001,"Liberec",{"$f":"VLOOKUP(C847,Region,2,0)","v":"CZ/C2"},"M","Junior v roce 2021"]
["Tomas Lisec",1984,"Točná","CZ/C1","M",""]
["Tomas Magnusek",1988,"Frýdlant","CZ/M","M",""]
["Tomas Malik",1972,"Letňany","CZ/C1","M",""]
["Tomas Malinsky",1988,"Křižanov","CZ/M","M",""]
["Tomas Manasek",1980,"Kunovice","CZ/M","M",""]
["Tomas Mezera",1973,"Raná","CZ/C2","M",""]
["Tomas Michna",1989,"Šumperk","CZ/M","M",""]
["Tomas Moravec",2000,"Žamberk","CZ/C2","M","Junior v roce 2021"]
["Tomas Morch",1981,"Raná","CZ/C2","M",""]
["Tomas Novak",1974,"Česká Lípa",{"$f":"VLOOKUP(C857,Region,2,0)","v":"CZ/C2"},"M",{"$f":"IF(A857=\"(prázdné)\",\"\",IF(($G$1-B857)>25,\"\",\"Junior v roce \"&$G$1))","v":""}]
["Tomas Ohera",1977,"Letňany","CZ/C1","M",""]
["Tomas Ondrusek",1994,"Letkov","CZ/C1","M",""]
["Tomas Ondrisek",1970,"Kunovice","CZ/M","M",""]
["Tomas Palata",1966,"Liberec","CZ/C2","M",""]
["Tomas Podolak",1986,"Kralupy","CZ/C1","M",""]
["Tomas Profeld",1964,"Jičín","CZ/C2","M",""]
["Tomas Prokop",1972,"Šumperk","CZ/M","M",""]
["Tomas Prikryl",1973,"Vyškov","CZ/M","M",""]
["Tomas Ptacovsky",1981,"Letňany","CZ/C1","M",""]
["Tomas Rendla",1973,"Zbraslavice","CZ/C1","M",""]
["Tomas Rysavy",1959,"Medlánky","CZ/M","M",""]
["Tomas Sedlacek",1972,"Zbraslavice","CZ/C1","M",""]
["Tomas Seifert",1972,"Raná","CZ/C2","M",""]
["Tomas Shrbeny",1968,"Točná","CZ/C1","M",""]
["Tomas Suchanek",1964,"GAC Benešov","CZ/C1","M",""]
["Tomas Talanda",1988,"Křižanov","CZ/M","M",""]
["Tomas Turek",1988,"Zbraslavice",{"$f":"VLOOKUP(C874,Region,2,0)","v":"CZ/C1"},"M",{"$f":"IF(A874=\"(prázdné)\",\"\",IF(($G$1-B874)>25,\"\",\"Junior v roce \"&$G$1))","v":""}]
["Tomas Vrbsky",1964,"Letkov","CZ/C1","M",""]
["Tomas Zamecnik",1988,"Zbraslavice","CZ/C1","M",""]
["Ulf Kern",1958,"Raná","CZ/C2","M",""]
["Vaclav Cerny",1949,"Plasy","CZ/C1","M",""]
["Vaclav Halek",1966,"Toužim",{"$f":"VLOOKUP(C879,Region,2,0)","v":"CZ/C1"},"M",{"$f":"IF(A879=\"(prázdné)\",\"\",IF(($G$1-B879)>25,\"\",\"Junior v roce \"&$G$1))","v":""}]
["Vaclav Hrdina",1984,"Letkov",{"$f":"VLOOKUP(C880,Region,2,0)","v":"CZ/C1"},"M",{"$f":"IF(A880=\"(prázdné)\",\"\",IF(($G$1-B880)>25,\"\",\"Junior v roce \"&$G$1))","v":""}]
["Vaclav Hruza",1965,"Břeclav","CZ/M","M",""]
["Vaclav Koudelka",1997,"Jičín","CZ/C2","M","Junior v roce 2021"]
["Vaclav Krejcar",1943,"Hořice","CZ/C2","M",""]
["Vaclav Kult",1973,"Broumov","CZ/C2","M",""]
["Vaclav Kunasek",1987,"Zbraslavice","CZ/C1","M",""]
["Vaclav Kysilka",1979,"GAC Benešov",{"$f":"VLOOKUP(C886,Region,2,0)","v":"CZ/C1"},"M",{"$f":"IF(A886=\"(prázdné)\",\"\",IF(($G$1-B886)>25,\"\",\"Junior v roce \"&$G$1))","v":""}]
["Vaclav Marel",1974,"Jaroměř","CZ/C2","M",""]
["Vaclav Ochotny",1966,"Kunovice",{"$f":"VLOOKUP(C888,Region,2,0)","v":"CZ/M"},"M",{"$f":"IF(A888=\"(prázdné)\",\"\",IF(($G$1-B888)>25,\"\",\"Junior v roce \"&$G$1))","v":""}]
["Vaclav Petru",1974,"Letňany","CZ/C1","M",""]
["Vaclav Sehnal",1962,"Kolín","CZ/C1","M",""]
["Vaclav Svoboda",1970,"Letkov","CZ/C1","M",""]
["Vaclav Trnka",1939,"Ústí nad Orlicí","CZ/C2","M",""]
["Vaclav Zeman",1984,"Zbraslavice","CZ/C1","M",""]
["Vaclav Zak",1962,"GAC Benešov","CZ/C1","M",""]
["Vera Vavrinova",1949,"Vysoké Mýto","CZ/C2","F",""]
["Veronika Ambrozova",1984,"Křižanov","CZ/M","F",""]
["Veronika Jezkova",1986,"Mladá Boleslav","CZ/C1","F",""]
["Veronika Mullerova",1983,"Letňany","CZ/C1","F",""]
["Viktor Becan",1979,"GAC Benešov","CZ/C1","M",""]
["Viktor Zimcik",1976,"Kunovice",{"$f":"VLOOKUP(C900,Region,2,0)","v":"CZ/M"},"M",{"$f":"IF(A900=\"(prázdné)\",\"\",IF(($G$1-B900)>25,\"\",\"Junior v roce \"&$G$1))","v":""}]
["Vilem Riha",1990,"Letňany","CZ/C1","M",""]
["Vit Grossmann",1977,"Hranice",{"$f":"VLOOKUP(C902,Region,2,0)","v":"CZ/M"},"M",{"$f":"IF(A902=\"(prázdné)\",\"\",IF(($G$1-B902)>25,\"\",\"Junior v roce \"&$G$1))","v":""}]
["Vit Hrdlicka",1960,"Medlánky","CZ/M","M",""]
["Vit Morkovsky",2000,"Polička","CZ/C2","M","Junior v roce 2021"]
["Vit Novak",1985,"Olomouc","CZ/M","M",{"$f":"IF(A905=\"(prázdné)\",\"\",IF(($G$1-B905)>25,\"\",\"Junior v roce \"&$G$1))","v":""}]
["Vit Prokop",1987,"Medlánky",{"$f":"VLOOKUP(C906,Region,2,0)","v":"CZ/M"},"M",""]
["Vit Rydl",1969,"Turnov","CZ/C2","M",""]
["Vit Tvrdik",2000,"Letňany","CZ/C1","M","Junior v roce 2021"]
["Vladimir Abraham",1962,"Raná","CZ/C2","M",""]
["Vladimir Baran",1949,"Frýdlant","CZ/M","M",""]
["Vladimir Dostal",1943,"Hronov","CZ/C2","M",""]
["Vladimir Fousek",1964,"Raná","CZ/C2","M",""]
["Vladimir Fux",1963,"Křižanov","CZ/M","M",""]
["Vladimir Hammer",2000,"Letkov",{"$f":"VLOOKUP(C914,Region,2,0)","v":"CZ/C1"},"M","Junior v roce 2021"]
["Vladimir Hampl",1970,"Dvůr Králové","CZ/C2","M",""]
["Vladimir Jirka",1965,"Zábřeh","CZ/M","M",""]
["Vladimir Kamensky",1983,"Břeclav","CZ/M","M",""]
["Vladimir Kramosil",1937,"Most","CZ/C2","M",""]
["Vladimir Maca",1982,"Jihlava","CZ/M","M",""]
["Vladimir Nemec",1976,"Jeseník","CZ/M","M",""]
["Vladimir Prihoda",1953,"Kralupy","CZ/C1","M",""]
["Vladimir Spilka",1940,"Hranice","CZ/M","M",""]
["Vlastislav Picka",1948,"Jindřichův Hradec","CZ/C1","M",""]
["Vojtech Bartos",1970,"Medlánky","CZ/M","M",""]
["Vojtech Hajek",1987,"Mladá Boleslav","CZ/C1","M",""]
["Vojtech Karlik",1982,"Kunovice","CZ/M","M",""]
["Vojtech Kostejn",1974,"Hodkovice","CZ/C2","M",""]
["Vojtech Labuda",1980,"Příbram","CZ/C1","M",""]
["Vojtech Novotny",1992,"Kralupy","CZ/C1","M",""]
["Vojtech Petrovicky",1986,"Mladá Boleslav","CZ/C1","M",""]
["Vojtech Pivonka",1976,"Vrchlabí","CZ/C2","M",""]
["Vojtech Sehnal",1994,"Kolín","CZ/C1","M",""]
["Vojtech Stavny",1962,"Letkov","CZ/C1","M",""]
["Vojtech Svoboda",1994,"Zbraslavice",{"$f":"VLOOKUP(C934,Region,2,0)","v":"CZ/C1"},"M",{"$f":"IF(A934=\"(prázdné)\",\"\",IF(($G$1-B934)>25,\"\",\"Junior v roce \"&$G$1))","v":""}]
["Vojtech Vach",1976,"Hronov","CZ/C2","M",""]
["Vratislav Orlita",1946,"Kunovice","CZ/M","M",""]
["Vratislav Sram",1966,"Broumov","CZ/C2","M",""]
["Wolfgang Sluka",1942,"Liberec","CZ/C2","M",""]
["Yvona Vyhnankova",1963,"Olomouc","CZ/M","F",""]
["Zbynek Bican",1961,"Raná","CZ/C2","M",""]
["Zbynek Fuksa",1956,"Jičín",{"$f":"VLOOKUP(C941,Region,2,0)","v":"CZ/C2"},"M",{"$f":"IF(A941=\"(prázdné)\",\"\",IF(($G$1-B941)>25,\"\",\"Junior v roce \"&$G$1))","v":""}]
["Zbynek Zdrahal",1965,"Medlánky","CZ/M","M",""]
["Zbynek Koudelka",1991,"Křižanov","CZ/M","M",""]
["Zbynek Kuchta",1976,"Klatovy",{"$f":"VLOOKUP(C944,Region,2,0)","v":"CZ/C1"},"M",""]
["Zdenek Balcarek",1967,"Kroměříž","CZ/M","M",""]
["Zdenek Bohm",1963,"Kolín","CZ/C1","M",""]
["Zdenek Boruvka 54",1954,"Jičín","CZ/C2","M",""]
["Zdenek Boruvka 86",1986,"Jičín","CZ/C2","M",""]
["Zdenek Buben",1978,"Hodkovice","CZ/C2","M",""]
["Zdenek Kropac",1981,"Kladno","CZ/C1","M",""]
["Zdenek Krivanek",1967,"Kolín","CZ/C1","M",""]
["Zdenek Mach",1976,"Broumov","CZ/C2","M",""]
["Zdenek Parizek",1984,"Raná","CZ/C2","M",""]
["Zdenek Schenk",1972,"Hranice","CZ/M","M",""]
["Zdenek Setek",1980,"Kolín","CZ/C1","M",""]
["Zdenek Spacek",1980,"Přibyslav","CZ/C2","M",""]
["Zdenek Zabloudil",1962,"Medlánky","CZ/M","M",""]
["Zdenek Zerzan",1968,"Šumperk",{"$f":"VLOOKUP(C958,Region,2,0)","v":"CZ/M"},"M",""]
["Zuzana Kutilkova",1993,"Křižanov",{"$f":"VLOOKUP(C959,Region,2,0)","v":"CZ/M"},"F",""]
["Zuzana Markesova",2001,"Medlánky",{"$f":"VLOOKUP(C960,Region,2,0)","v":"CZ/M"},"F",{"$f":"IF(A960=\"(prázdné)\",\"\",IF(($G$1-B960)>25,\"\",\"Junior v roce \"&$G$1))","v":"Junior v roce 2021"}]
["Zitomir Krepinsky",1987,"Chrudim",{"$f":"VLOOKUP(C961,Region,2,0)","v":"CZ/C2"},"M",{"$f":"IF(A961=\"(prázdné)\",\"\",IF(($G$1-B961)>25,\"\",\"Junior v roce \"&$G$1))","v":""}]

{"sheet":"Region","index":4,"n_rows":116,"n_cols":4,"rows_kept":116,"cut":false,"hidden":false,"merged":[]}
["Aeroklub","Region","Počet",{"$f":"C70+C37+C2","v":89}]
["Benešov","CZ/C1",{"$f":"COUNTIF(B2:B35,B2)","v":34}]
["Beroun","CZ/C1"]
["Bystřice u Benešova","CZ/C1"]
["Erpužice","CZ/C1"]
["GAC Benešov","CZ/C1"]
["Hořovice","CZ/C1"]
["Hosín","CZ/C1"]
["Jindřichův Hradec","CZ/C1"]
["Karlovy Vary","CZ/C1"]
["Karlštejn","CZ/C1"]
["Kladno","CZ/C1"]
["Klatovy","CZ/C1"]
["Kolín","CZ/C1"]
["Kralupy","CZ/C1"]
["Letkov","CZ/C1"]
["Letňany","CZ/C1"]
["Mladá Boleslav","CZ/C1"]
["Nesvačily","CZ/C1"]
["Panenský Týnec","CZ/C1"]
["Plasy","CZ/C1"]
["Plzeň Bory","CZ/C1"]
["Prachatice","CZ/C1"]
["Příbram","CZ/C1"]
["Rakovník","CZ/C1"]
["Slaný","CZ/C1"]
["Soběslav","CZ/C1"]
["Staňkov","CZ/C1"]
["Strakonice","CZ/C1"]
["Tábor","CZ/C1"]
["Tachov","CZ/C1"]
["Točná","CZ/C1"]
["Toužim","CZ/C1"]
["Vlašim","CZ/C1"]
["Zbraslavice","CZ/C1"]
["-","-"]
["Broumov","CZ/C2",{"$f":"COUNTIF(B37:B68,B37)","v":32}]
["Česká Lípa","CZ/C2"]
["Dvůr Králové","CZ/C2"]
["Havlíčkův Brod","CZ/C2"]
["Hodkovice","CZ/C2"]
["Hořice","CZ/C2"]
["Hradčany","CZ/C2"]
["Hronov","CZ/C2"]
["Chomutov","CZ/C2"]
["Chotěboř","CZ/C2"]
["Chrudim","CZ/C2"]
["Jaroměř","CZ/C2"]
["Jičín","CZ/C2"]
["Letecká společnost na Vysočině","CZ/C2"]
["Liberec","CZ/C2"]
["Mnichovo Hradiště","CZ/C2"]
["Most","CZ/C2"]
["Náchod","CZ/C2"]
["Nové Město nad Metují","CZ/C2"]
["Pardubice","CZ/C2"]
["Podhořany","CZ/C2"]
["Polička","CZ/C2"]
["Přibyslav","CZ/C2"]
["Raná","CZ/C2"]
["Roudnice","CZ/C2"]
["Skuteč","CZ/C2"]
["Turnov","CZ/C2"]
["Ústí nad Labem","CZ/C2"]
["Ústí nad Orlicí","CZ/C2"]
["Vrchlabí","CZ/C2"]
["Vysoké Mýto","CZ/C2"]
["Žamberk","CZ/C2"]
["-","-"]
["Bohuňovice","CZ/M",{"$f":"COUNTIF(B70:B92,B70)","v":23}]
["Břeclav","CZ/M"]
["LK Břeclav","CZ/M"]
["Frýdlant","CZ/M"]
["Hranice","CZ/M"]
["Jeseník","CZ/M"]
["Jihlava","CZ/M"]
["Krnov","CZ/M"]
["Kroměříž","CZ/M"]
["Křižanov","CZ/M"]
["Kunovice","CZ/M"]
["Kyjov","CZ/M"]
["Luhačovice","CZ/M"]
["Medlánky","CZ/M"]
["Moravská Třebová","CZ/M"]
["Olomouc","CZ/M"]
["Prostějov","CZ/M"]
["Slatina","CZ/M"]
["Slavičín","CZ/M"]
["Stichovice","CZ/M"]
["Šumperk","CZ/M"]
["Vyškov","CZ/M"]
["Zábřeh","CZ/M"]
[]
["Aalborg","DK"]
["Air Sympatia","SK"]
["Akaflieg Dresden","DE"]
["Bad Nauheim","DE"]
["Bratislava","SK"]
["Dánsko","DK"]
["Greiz","DE"]
["Japonsko","JP"]
["Jelenia Góra","PL"]
["Martin","SK"]
["Německo","DE"]
["Nitra","SK"]
["Novo Mesto","SI"]
["Poprad","SK"]
["Prešov","SK"]
["Prievidza","SK"]
["Rakousko","AT"]
["Ružomberok","SK"]
["SGC Martin","SK"]
["Slovinsko","SI"]
["Trenčín","SK"]
["Trnava","SK"]
["Žilina","SK"]

{"sheet":"Data","index":5,"n_rows":3232,"n_cols":19,"rows_kept":3232,"cut":false,"hidden":false,"merged":[]}
[null,null,null,null,null,null,null,null,null,null,null,null,"Počet X filtr:",{"$f":"SUBTOTAL(103,N7:N4936)","v":3},{"$f":"SUBTOTAL(103,O7:O4936)","v":0}]
["*",null,null,null,null,null,null,null,null,null,null,null,"Počet X:",{"$f":"COUNTIFS(N$7:N$4936,\"x\",$A$7:$A$4936,$A$2)","v":1044},{"$f":"COUNTIFS(O$7:O$4936,\"x\",$A$7:$A$4936,$A$2)","v":87}]
[null,null,null,null,null,null,null,2017,null,null,null,null,null,{"$f":"COUNTIFS($H$7:$H$1153,$H3,N$7:N$1153,\"x\",$A$7:$A$1153,$A$2)","v":0},0]
[null,null,null,null,null,null,null,2016,null,null,null,null,null,0,0]
[null,null,null,null,null,null,null,2015,null,null,null,null,null,0,0]
["Jméno","Rok narození","M/F","Aeroklub","Region","Soutěž","Stát","Rok","Pořadí ve třídě","Body ve třídě","Kinp","Bi","Bi×Kinp","G","W","Typ","CN","Junior","Poznámka"]
["Pavel Rericha",{"$f":"VLOOKUP(A7,Pilot,2,0)","v":1967},{"$f":"VLOOKUP(A7,Pilot,5,0)","v":"M"},{"$f":"VLOOKUP(A7,Pilot,3,0)","v":"Moravská Třebová"},{"$f":"VLOOKUP(A7,Pilot,4,0)","v":"CZ/M"},"JPJ 2018 - Klub","CZ",2018,1,1496,{"$f":"VLOOKUP(F7,Soutez,12,0)","v":0},{"$f":"ROUND(J7/MAX($J$7:$J$51)*10000*0.7+(MAX($I$7:$I$51)-I7)/(MAX($I$7:$I$51)-1)*10000*0.3,0)","v":10000},{"$f":"ROUND(K7*L7,0)","v":0},null,null,"ASW-19B","NO",{"$f":"IF(ISERROR(VLOOKUP(A7,Pilot,6,0)),\"Není v databázi\",VLOOKUP(A7,Pilot,6,0))","v":""}]
["Petr Vodicka",1965,"M","Jaroměř","CZ/C2","JPJ 2018 - Klub","CZ",2018,2,1389,0,{"$f":"ROUND(J8/MAX($J$7:$J$51)*10000*0.7+(MAX($I$7:$I$51)-I8)/(MAX($I$7:$I$51)-1)*10000*0.3,0)","v":9430},0,null,null,"Janus dvojí","BV",""]
["Vaclav Marel",1974,"M","Jaroměř","CZ/C2","JPJ 2018 - Klub","CZ",2018,3,1384,0,9336,0,null,null,"Std. Cirrus","IF",""]
["Lubomir Motl",1959,"M","Kyjov","CZ/M","JPJ 2018 - Klub","CZ",2018,4,1348,0,9098,0,null,null,"LS-1f","G2",""]
["Martin Ficnar",1971,"M","Šumperk","CZ/M","JPJ 2018 - Klub","CZ",2018,5,1297,0,8790,0,null,null,"LS-3a 15m","S20",""]
["Jiri Koudela",1974,"M","Vyškov","CZ/M","JPJ 2018 - Klub","CZ",2018,6,1284,0,8659,0,null,null,"ASW-19B","JK",""]
["Rene Hudak",1972,"M","Kunovice","CZ/M","JPJ 2018 - Klub","CZ",2018,7,1277,0,8557,0,null,null,"Std. Cirrus WL","NK",""]
["Josef Novak",1981,"M","Kunovice","CZ/M","JPJ 2018 - Klub","CZ",2018,8,1234,0,8286,0,null,null,"LS-1f","JT",""]
["Martin Kriz",1968,"M","Přibyslav","CZ/C2","JPJ 2018 - Klub","CZ",2018,9,1180,0,7963,0,null,null,"ASW-15B","BE",""]
["Petr Jedlicka",1987,"M","Medlánky","CZ/M","JPJ 2018 - Klub","CZ",2018,10,1167,0,7833,0,null,null,"Phoebus A1","NN",""]
["Radek Zima 75",1975,"M","Břeclav","CZ/M","JPJ 2018 - Klub","CZ",2018,11,1123,0,7557,0,null,null,"DG-100","M",""]
["Stanislav Doskocil",1978,"M","Medlánky","CZ/M","JPJ 2018 - Klub","CZ",2018,12,1077,0,7272,0,null,null,"Std. Cirrus","SD",""]
["Tomas Prikryl",1973,"M","Vyškov","CZ/M","JPJ 2018 - Klub","CZ",2018,13,1065,0,7146,0,null,null,"DG-101 G","JR",""]
["Roman Lengal",1987,"M","Břeclav","CZ/M","JPJ 2018 - Klub","CZ",2018,14,1051,0,7011,0,null,null,"Cirrus VTC",13,""]
["Peter Kaspar",1980,"M","Vyškov","CZ/M","JPJ 2018 - Klub","CZ",2018,15,1048,0,6927,0,null,null,"G-102 Astir 77","AP",""]
["Jan Kohout",1970,"M","Žamberk","CZ/C2","JPJ 2018 - Klub","CZ",2018,16,1038,0,6810,0,null,null,"Std. Cirrus","OK6",""]
["David Vrchota",1976,"M","Jaroměř","CZ/C2","JPJ 2018 - Klub","CZ",2018,17,1033,0,6717,0,null,null,"Std. Cirrus","GO",""]
["Michal Cupak",1991,"M","Medlánky","CZ/M","JPJ 2018 - Klub","CZ",2018,18,1031,0,6638,0,null,null,"Std. Cirrus","MP",""]
["Karel Horalek",1976,"M","Olomouc","CZ/M","JPJ 2018 - Klub","CZ",2018,19,1022,0,6526,0,null,null,"LS-3 15m","Y1",""]
["Miroslav Mancik",1976,"M","Kyjov","CZ/M","JPJ 2018 - Klub","CZ",2018,20,986,0,6288,0,null,null,"Std. Cirrus",90,""]
["Martin Urner",1974,"M","Letňany","CZ/C1","JPJ 2018 - Klub","CZ",2018,21,977,0,6176,0,null,null,"ASW-15B","JJ",""]
["Ladislav Jozsa",1981,"M","Medlánky","CZ/M","JPJ 2018 - Klub","CZ",2018,22,937,0,5919,0,null,null,"Std. Cirrus","LJ",""]
["Pavel Simek",1957,"M","Vyškov","CZ/M","JPJ 2018 - Klub","CZ",2018,23,928,0,{"$f":"ROUND(J29/MAX($J$7:$J$51)*10000*0.7+(MAX($I$7:$I$51)-I29)/(MAX($I$7:$I$51)-1)*10000*0.3,0)","v":5807},0,null,null,"DG-1000S 18m",66,""]
["Tomas Ondrisek",1970,"M","Kunovice","CZ/M","JPJ 2018 - Klub","CZ",2018,24,914,0,5672,0,null,null,"DG-400 15m","MR",""]
["Lukas Petrzela",1987,"M","Olomouc","CZ/M","JPJ 2018 - Klub","CZ",2018,24,914,0,5672,0,null,null,"VSO-10","I7",""]
["Oldrich Kounovsky",1976,"M","Medlánky","CZ/M","JPJ 2018 - Klub","CZ",2018,24,914,0,5672,0,null,null,"Std. Cirrus","MSkl",""]
["Jiri Vavrina",1958,"M","Kyjov","CZ/M","JPJ 2018 - Klub","CZ",2018,27,864,0,5229,0,null,null,"LS-1f","BS",""]
["Petr Valenta 76",1976,"M","Jaroměř","CZ/C2","JPJ 2018 - Klub","CZ",2018,28,863,0,5154,0,null,null,"Discus b","JA",""]
["Martin Svarc",1981,"M","Olomouc","CZ/M","JPJ 2018 - Klub","CZ",2018,29,856,0,5052,0,null,null,"DG-101 G","HE",""]
["Antonin Pilat",1971,"M","Vyškov","CZ/M","JPJ 2018 - Klub","CZ",2018,30,776,0,4608,0,null,null,"DG-200 15m","JB",""]
["Libor Bednarik",1972,"M","Kunovice","CZ/M","JPJ 2018 - Klub","CZ",2018,31,731,0,4327,0,null,null,"Std. Cirrus","PIF",""]
["Jaromir Vlk",1959,"M","Šumperk","CZ/M","JPJ 2018 - Klub","CZ",2018,32,690,0,4066,0,null,null,"ASW-15B","R5",""]
["Vit Prokop",{"$f":"VLOOKUP(A39,Pilot,2,0)","v":1987},{"$f":"VLOOKUP(A39,Pilot,5,0)","v":"M"},{"$f":"VLOOKUP(A39,Pilot,3,0)","v":"Medlánky"},{"$f":"VLOOKUP(A39,Pilot,4,0)","v":"CZ/M"},"JPJ 2018 - Klub","CZ",2018,33,623,0,3683,0,null,null,"Std. Cirrus","MF",""]
["Petr Havrlant",1965,"M","Šumperk","CZ/M","JPJ 2018 - Klub","CZ",2018,34,558,0,3309,0,null,null,"ASW-15B","Q1",""]
["Yvona Vyhnankova",1963,"F","Olomouc","CZ/M","JPJ 2018 - Klub","CZ",2018,35,537,0,3141,0,null,null,"ASW-15","YZ",""]
["Lubomir Papezik",1951,"M","Luhačovice","CZ/M","JPJ 2018 - Klub","CZ",2018,36,518,0,2982,0,null,null,"LS-4","FP",""]
["Sabina Vitova",1998,"F","Kroměříž","CZ/M","JPJ 2018 - Klub","CZ",2018,37,494,0,2800,0,null,null,"G-102 Astir Jeans","2Y","Junior v roce 2021"]
["Marek Sild",1976,"M","Kunovice","CZ/M","JPJ 2018 - Klub","CZ",2018,38,440,0,2477,0,null,null,"DG-400 15m","VZ",""]
["Martin Novak",1976,"M","Slaný","CZ/C1","JPJ 2018 - Klub","CZ",2018,39,423,0,2328,0,null,null,"DG-400 15m","ZX",""]
["Jan Pokluda",1973,"M","Šumperk","CZ/M","JPJ 2018 - Klub","CZ",2018,40,185,0,1145,0,null,null,"ASW-15B WL","JG",""]
["Ludek Mikl",1963,"M","Kroměříž","CZ/M","JPJ 2018 - Klub","CZ",2018,41,147,0,897,0,null,null,"G-102 Astir Jeans","L1",""]
["Lukas Fronek",1989,"M","Kyjov","CZ/M","JPJ 2018 - Klub","CZ",2018,42,123,0,715,0,null,null,"G-103 Twin Basic","KW",""]
["Roman Schotli",1970,"M","Hranice","CZ/M","JPJ 2018 - Klub","CZ",2018,43,65,0,374,0,null,null,"ASW-19B",19,""]
["Michal Kodousek",1983,"M","Jaroměř","CZ/C2","JPJ 2018 - Klub","CZ",2018,44,0,0,0,0,null,null,"LS-3 15m","RI",""]
["Pavel Handl",1971,"M","Kroměříž","CZ/M","JPJ 2018 - Klub","CZ",2018,44,0,0,0,0,null,null,"Phoebus A1","P1",""]
["Jiri Steiger",1969,"M","Olomouc","CZ/M","JPJ 2018 - Kombi","CZ",2018,1,1343,0,{"$f":"ROUND(J52/MAX($J$52:$J$75)*10000*0.7+(MAX($I$52:$I$75)-I52)/(MAX($I$52:$I$75)-1)*10000*0.3,0)","v":10000},0,null,null,"Ventus 2cxt 18m","JS",""]
["Zdenek Boruvka 54",1954,"M","Jičín","CZ/C2","JPJ 2018 - Kombi","CZ",2018,2,1309,0,{"$f":"ROUND(J53/MAX($J$52:$J$75)*10000*0.7+(MAX($I$52:$I$75)-I53)/(MAX($I$52:$I$75)-1)*10000*0.3,0)","v":9692},0,null,null,"LS-8 15m","ZB",""]
["Marek Blatak",1969,"M","Šumperk","CZ/M","JPJ 2018 - Kombi","CZ",2018,3,1295,0,{"$f":"ROUND(J54/MAX($J$52:$J$75)*10000*0.7+(MAX($I$52:$I$75)-I54)/(MAX($I$52:$I$75)-1)*10000*0.3,0)","v":9489},0,null,null,"Duo Discus T","ZS",""]
["Pavel Zima",1979,"M","Břeclav","CZ/M","JPJ 2018 - Kombi","CZ",2018,4,1285,0,9306,0,null,null,"Ventus cm 17,6m","RK",""]
["Frantisek Vancura",1966,"M","Hranice","CZ/M","JPJ 2018 - Kombi","CZ",2018,5,1215,0,8811,0,null,null,"Nimbus 3 24,5m WL","A1",""]
["Zdenek Schenk",1972,"M","Hranice","CZ/M","JPJ 2018 - Kombi","CZ",2018,6,1159,0,8389,0,null,null,"Ventus ct 17,6m","ŠNeK",""]
["Jaroslav Buryan",1953,"M","Zábřeh","CZ/M","JPJ 2018 - Kombi","CZ",2018,7,1144,0,8180,0,null,null,"ASW-20 15m WL","NS",""]
["Roman Konarik",1976,"M","Luhačovice","CZ/M","JPJ 2018 - Kombi","CZ",2018,8,1132,0,7987,0,null,null,"Arcus M","AR",""]
["Michal Cechmanek",1978,"M","Luhačovice","CZ/M","JPJ 2018 - Kombi","CZ",2018,9,1120,0,7794,0,null,null,"ASW-20 15m WL","MK",""]
["Miroslav Koci",1961,"M","Žamberk","CZ/C2","JPJ 2018 - Kombi","CZ",2018,10,1092,0,7518,0,null,null,"Ventus 2cxt 18m","E8",""]
["Jan Matejovsky",1972,"M","Hranice","CZ/M","JPJ 2018 - Kombi","CZ",2018,11,1033,0,7080,0,null,null,"Duo Discus","OK",""]
["Jan Simon",1970,"M","Kralupy","CZ/C1","JPJ 2018 - Kombi","CZ",2018,12,971,0,6626,0,null,null,"Nimbus 3 22,9m WL","HS",""]
["Miroslav Sklenar",1964,"M","Žamberk","CZ/C2","JPJ 2018 - Kombi","CZ",2018,13,968,0,6480,0,null,null,"Duo Discus","VP",""]
["Albrecht Beat",1953,"M","Šumperk","CZ/M","JPJ 2018 - Kombi","CZ",2018,14,967,0,6345,0,null,null,"LS-8-18 18m","GL",""]
["Antonin Kutalek",1943,"M","Zábřeh","CZ/M","JPJ 2018 - Kombi","CZ",2018,15,888,0,5802,0,null,null,"Mini-Nimbus c","GL1",""]
["Boris Bachraty",1974,"M","Břeclav","CZ/M","JPJ 2018 - Kombi","CZ",2018,16,810,0,5265,0,null,null,"SZD-42 Jantar 2B",25,""]
["Filip Vita",2001,"M","Kroměříž","CZ/M","JPJ 2018 - Kombi","CZ",2018,17,764,0,4895,0,null,null,"LAK-12","FL","Junior v roce 2021"]
["Vladimir Spilka",1940,"M","Hranice","CZ/M","JPJ 2018 - Kombi","CZ",2018,18,763,0,4760,0,null,null,"Nimbus 2b","AY",""]
["Antonin Konicek",1973,"M","Kunovice","CZ/M","JPJ 2018 - Kombi","CZ",2018,19,737,0,4494,0,null,null,"HpH 304M SHARK","KK",""]
["Tomas Profeld",{"$f":"VLOOKUP(A71,Pilot,2,0)","v":1964},{"$f":"VLOOKUP(A71,Pilot,5,0)","v":"M"},{"$f":"VLOOKUP(A71,Pilot,3,0)","v":"Jičín"},{"$f":"VLOOKUP(A71,Pilot,4,0)","v":"CZ/C2"},"JPJ 2018 - Kombi","CZ",2018,20,539,{"$f":"VLOOKUP(F71,Soutez,12,0)","v":0},3331,{"$f":"ROUND(K71*L71,0)","v":0},null,null,"Ventus 2cm 18m","OZ",{"$f":"IF(ISERROR(VLOOKUP(A71,Pilot,6,0)),\"Není v databázi\",VLOOKUP(A71,Pilot,6,0))","v":""}]
["Dusan Sys",1977,"M","Šumperk","CZ/M","JPJ 2018 - Kombi","CZ",2018,21,529,0,3149,0,null,null,"DG-808 C WL","MSko",""]
["Kamil Sohr",1973,"M","Šumperk","CZ/M","JPJ 2018 - Kombi","CZ",2018,22,419,0,2445,0,null,null,"SZD-55 Promyk","BC",""]
["Pavel Haluza",1966,"M","Prostějov","CZ/M","JPJ 2018 - Kombi","CZ",2018,23,377,0,2095,0,null,null,"Nimbus 2b","HT",""]
["Roman Cerny",1971,"M","Hranice","CZ/M","JPJ 2018 - Kombi","CZ",2018,24,0,0,0,0,null,null,"ASW-20 15m WL",67,""]
["Oldrich Slavicek",1959,"M","Hronov","CZ/C2","HOP 2018 - Klub","CZ",2018,1,4723,0.76,{"$f":"ROUND(J76/MAX($J$76:$J$101)*10000*0.7+(MAX($I$76:$I$101)-I76)/(MAX($I$76:$I$101)-1)*10000*0.3,0)","v":10000},7600,"x",null,"VT-116",4310,""]
["Milan Svoboda 80",1980,"M","Havlíčkův Brod","CZ/C2","HOP 2018 - Klub","CZ",2018,2,4460,0.76,{"$f":"ROUND(J77/MAX($J$76:$J$101)*10000*0.7+(MAX($I$76:$I$101)-I77)/(MAX($I$76:$I$101)-1)*10000*0.3,0)","v":9490},7212,"x",null,"VT-116",6446,""]
["Jan Sindelar",1946,"M","Kunovice","CZ/M","HOP 2018 - Klub","CZ",2018,3,4427,0.76,9321,7084,"x",null,"VT-116",7410,""]
["Miroslav Stepan",1955,"M","Žamberk","CZ/C2","HOP 2018 - Klub","CZ",2018,4,4254,0.76,8945,6798,"x",null,"VT-116",8412,""]
["Wolfgang Sluka",1942,"M","Liberec","CZ/C2","HOP 2018 - Klub","CZ",2018,5,4150,0.76,8671,6590,null,null,"VT-116",8425,""]
["M.VondraCek, K.Teichmannova",null,"-","Hronov","CZ/C2","HOP 2018 - Klub","CZ",2018,6,4059,0.76,8416,6396,null,null,"VT-16",2909,"Není v databázi"]
["Jiri Klicnar",{"$f":"VLOOKUP(A82,Pilot,2,0)","v":1965},{"$f":"VLOOKUP(A82,Pilot,5,0)","v":"M"},{"$f":"VLOOKUP(A82,Pilot,3,0)","v":"Medlánky"},{"$f":"VLOOKUP(A82,Pilot,4,0)","v":"CZ/M"},"HOP 2018 - Klub","CZ",2018,7,3825,0.76,7949,6041,"x",null,"M-28",2903,""]
["Monika Jiraskova",1994,"F","Hronov","CZ/C2","HOP 2018 - Klub","CZ",2018,8,3804,0.76,7798,5926,"x","x","VT-116",6922,""]
["Ondrej Teichman",1984,"M","Dvůr Králové","CZ/C2","HOP 2018 - Klub","CZ",2018,9,3684,0.76,7500,5700,"x",null,"VT-116",6445,""]
["Ondrej Blaha",1976,"M","Letňany","CZ/C1","HOP 2018 - Klub","CZ",2018,10,3672,0.76,7362,5595,null,null,"VT-116",6444,""]
["Jaromir Vlk",1959,"M","Šumperk","CZ/M","HOP 2018 - Klub","CZ",2018,11,3623,0.76,7170,5449,"x",null,"VT-16",2412,""]
["Ivan Kuzelka",1945,"M","Havlíčkův Brod","CZ/C2","HOP 2018 - Klub","CZ",2018,12,3622,0.76,7048,5356,"x",null,"VT-116",4314,""]
["Krystof Mimra",1992,"M","Most","CZ/C2","HOP 2018 - Klub","CZ",2018,13,3580,0.76,6866,5218,"x",null,"VT-116",7413,""]
["Tomas Mezera",1973,"M","Raná","CZ/C2","HOP 2018 - Klub","CZ",2018,14,3381,0.76,6451,4903,"x",null,"VT-116",8401,""]
["Oldrich Hlavacek",1973,"M","Medlánky","CZ/M","HOP 2018 - Klub","CZ",2018,15,3207,0.76,6073,4615,"x",null,"VT-116",8439,""]
["Sarka Lochova",1966,"F","Šumperk","CZ/M","HOP 2018 - Klub","CZ",2018,16,3133,0.76,5843,4441,"x","x","VT-116",7445,""]
["Miroslav Major",1968,"M","Kralupy","CZ/C1","HOP 2018 - Klub","CZ",2018,17,3106,0.76,5683,4319,"x",null,"VT-116",8430,""]
["Jaromir Hendrych",1954,"M","Raná","CZ/C2","HOP 2018 - Klub","CZ",2018,18,2993,0.76,5396,4101,"x",null,"M-35",2403,""]
["P.Seibrt, M.Nutil",null,"-","Náchod","CZ/C2","HOP 2018 - Klub","CZ",2018,19,2958,0.76,5224,3970,null,null,"VT-116",7402,"Není v databázi"]
["Karel Kotlan",{"$f":"VLOOKUP(A95,Pilot,2,0)","v":1957},{"$f":"VLOOKUP(A95,Pilot,5,0)","v":"M"},{"$f":"VLOOKUP(A95,Pilot,3,0)","v":"Medlánky"},{"$f":"VLOOKUP(A95,Pilot,4,0)","v":"CZ/M"},"HOP 2018 - Klub","CZ",2018,20,2898,0.76,5015,3811,"x",null,"VT-116",8406,""]
["Jiri Slouka",1967,"M","Medlánky","CZ/M","HOP 2018 - Klub","CZ",2018,21,2857,0.76,4834,3674,"x",null,"M-35",2901,""]
["Jana Mezerova",1975,"F","Raná","CZ/C2","HOP 2018 - Klub","CZ",2018,22,2770,0.76,4585,3485,null,null,"VT-116",7425,""]
["Petr Vlasak",1974,"M","Medlánky","CZ/M","HOP 2018 - Klub","CZ",2018,23,2761,0.76,4452,3384,"x",null,"VT 116",4307,""]
["Vaclav Kysilka",1979,"M","GAC Benešov","CZ/C1","HOP 2018 - Klub","CZ",2018,24,2563,0.76,4039,3070,"x",null,"VT-16",2924,""]
["Bohumil Rikal",1946,"M","Hronov","CZ/C2","HOP 2018 - Klub","CZ",2018,25,2546,0.76,3893,2959,"x",null,"VT-16",3405,""]
["Josef Linhart, Jakub Dvorak",null,"-","Medlánky","CZ/M","HOP 2018 - Klub","CZ",2018,26,1431,0.76,2121,1612,null,null,"Ka 6 E",9781,"Není v databázi"]
["Zdenek Boruvka 54",{"$f":"VLOOKUP(A102,Pilot,2,0)","v":1954},{"$f":"VLOOKUP(A102,Pilot,5,0)","v":"M"},{"$f":"VLOOKUP(A102,Pilot,3,0)","v":"Jičín"},{"$f":"VLOOKUP(A102,Pilot,4,0)","v":"CZ/C2"},"HOP 2018 - Kombi","CZ",2018,1,5324,0.76,{"$f":"ROUND(J102/MAX($J$102:$J$116)*10000*0.7+(MAX($I$102:$I$116)-I102)/(MAX($I$102:$I$116)-1)*10000*0.3,0)","v":10000},7600,null,null,"LS 8 15 m (voda)","ZB",""]
["Sebastian Bode",null,"M","FSV Eisenhüttenstadt","DE","HOP 2018 - Kombi","CZ",2018,2,5191,0.76,{"$f":"ROUND(J103/MAX($J$102:$J$116)*10000*0.7+(MAX($I$102:$I$116)-I103)/(MAX($I$102:$I$116)-1)*10000*0.3,0)","v":9611},7304,null,null,"Discus cs (voda)","E4","Není v databázi"]
["Jan Kohout",{"$f":"VLOOKUP(A104,Pilot,2,0)","v":1970},{"$f":"VLOOKUP(A104,Pilot,5,0)","v":"M"},{"$f":"VLOOKUP(A104,Pilot,3,0)","v":"Žamberk"},{"$f":"VLOOKUP(A104,Pilot,4,0)","v":"CZ/C2"},"HOP 2018 - Kombi","CZ",2018,3,4823,0.76,8913,6774,"x",null,"LS 8 15 m (voda)","SK",""]
["T+G.Jakl, D.Mach",null,"-","AK Pivo","DE","HOP 2018 - Kombi","CZ",2018,4,4499,0.76,8272,6287,null,null,"Janus b ( bez vody)","GJ","Není v databázi"]
["Carsten Tietz",{"$f":"VLOOKUP(A106,Pilot,2,0)","v":1966},{"$f":"VLOOKUP(A106,Pilot,5,0)","v":"M"},{"$f":"VLOOKUP(A106,Pilot,3,0)","v":"Hronov"},{"$f":"VLOOKUP(A106,Pilot,4,0)","v":"CZ/C2"},"HOP 2018 - Kombi","CZ",2018,5,4441,0.76,7982,6066,"x",null,"Ventus 2cxm 18 meter (bez vody)","WE",""]
["Vaclav Kult",1973,"M","Broumov","CZ/C2","HOP 2018 - Kombi","CZ",2018,6,4352,0.76,7651,5815,"x",null,"Nimbus 2 b (voda)","VK",""]
["Martin Koci",1975,"M","Ústí nad Orlicí","CZ/C2","HOP 2018 - Kombi","CZ",2018,7,4343,0.76,7424,5642,"x",null,"Discus cs (voda)","5E",""]
["Petr Fisar",1974,"M","Ústí nad Orlicí","CZ/C2","HOP 2018 - Kombi","CZ",2018,8,4341,0.76,7208,5478,"x",null,"Mosquito (bez vody)","PF",""]
["Jan Rott",1962,"M","Hronov","CZ/C2","HOP 2018 - Kombi","CZ",2018,9,4083,0.76,6654,5057,"x",null,"Nimbus 2 b (bez vody)","AX",""]
["Miloslav Cindr",1974,"M","Ústí nad Orlicí","CZ/C2","HOP 2018 - Kombi","CZ",2018,10,4076,0.76,6431,4888,"x",null,"Speed Astir II b (bez vody)","XM",""]
["Vratislav Sram",1966,"M","Broumov","CZ/C2","HOP 2018 - Kombi","CZ",2018,11,3932,0.76,6027,4581,null,null,"Janus b (bez vody)","KG",""]
["Jiri Suchomel",1950,"M","Broumov","CZ/C2","HOP 2018 - Kombi","CZ",2018,12,3687,0.76,5491,4173,"x",null,"Janus b (bez vody)","V1",""]
["Christian Rakowski",null,null,"FSV Eisenhüttenstadt","DE","HOP 2018 - Kombi","CZ",2018,13,3456,0.76,4973,3779,null,null,"LS 4 (voda)","MP","Není v databázi"]
["Miroslav+Josef PlechaC",null,"-","Hronov","CZ/C2","HOP 2018 - Kombi","CZ",2018,14,2248,0.76,3170,2409,null,null,"Nimbus 2 (voda)","SP","Není v databázi"]
["M.Eichler, J.PlechaC",null,"-","Hronov","CZ/C2","HOP 2018 - Kombi","CZ",2018,15,1494,0.76,1964,1493,null,null,"Cirrus/Cirrus VTC 17.74 (bez vody)","G7","Není v databázi"]
["Sebastian Kawa",null,null,null,null,"WGC 2018 - 15m","PL",2018,1,6047,1.0999999999999999,{"$f":"ROUND(J117/MAX($J$117:$J$153)*10000*0.7+(MAX($I$117:$I$153)-I117)/(MAX($I$117:$I$153)-1)*10000*0.3,0)","v":10000},11000,null,null,"ASG 29","PC","Není v databázi"]
["Łukasz Grabowski",null,null,null,null,"WGC 2018 - 15m","PL",2018,2,5961,1.0999999999999999,{"$f":"ROUND(J118/MAX($J$117:$J$153)*10000*0.7+(MAX($I$117:$I$153)-I118)/(MAX($I$117:$I$153)-1)*10000*0.3,0)","v":9817},10799,null,null,"Diana 2","RP","Není v databázi"]
["Christophe Ruch",null,null,null,null,"WGC 2018 - 15m","PL",2018,3,5837,1.0999999999999999,9590,10549,null,null,"JS 3","FM","Není v databázi"]
["Jan Omsels",null,null,null,null,"WGC 2018 - 15m","PL",2018,4,5814,1.0999999999999999,9480,10428,null,null,"Ventus 2ax","FH","Není v databázi"]
["Maximilian Seis",null,null,null,null,"WGC 2018 - 15m","PL",2018,5,5771,1.0999999999999999,9347,10282,null,null,"JS 3","FQ","Není v databázi"]
["Kristian Roine",null,null,null,null,"WGC 2018 - 15m","PL",2018,6,5742,1.0999999999999999,{"$f":"ROUND(J122/MAX($J$117:$J$153)*10000*0.7+(MAX($I$117:$I$153)-I122)/(MAX($I$117:$I$153)-1)*10000*0.3,0)","v":9230},10153,null,null,"ASG 29E","WS","Není v databázi"]
["Harri Hirvola",null,null,null,null,"WGC 2018 - 15m","PL",2018,7,5689,1.0999999999999999,9086,9995,null,null,"Ventus 2a","EH","Není v databázi"]
["Adam Woolley",null,null,null,null,"WGC 2018 - 15m","PL",2018,8,5671,1.0999999999999999,8981,9879,null,null,"Ventus 3T","3V","Není v databázi"]
["Attie Jonker",null,null,null,null,"WGC 2018 - 15m","PL",2018,9,5669,1.0999999999999999,8896,9786,null,null,"JS 3","OG","Není v databázi"]
["Daan Spruyt",null,null,null,null,"WGC 2018 - 15m","PL",2018,10,5663,1.0999999999999999,8805,9686,null,null,"ASW 27","FS","Není v databázi"]
["Derren Francis",null,null,null,null,"WGC 2018 - 15m","PL",2018,11,5601,1.0999999999999999,8650,9515,null,null,"Ventus 3","F2","Není v databázi"]
["Radek Krejcirik",{"$f":"VLOOKUP(A128,Pilot,2,0)","v":1991},{"$f":"VLOOKUP(A128,Pilot,5,0)","v":"M"},{"$f":"VLOOKUP(A128,Pilot,3,0)","v":"Hranice"},{"$f":"VLOOKUP(A128,Pilot,4,0)","v":"CZ/M"},"WGC 2018 - 15m","PL",2018,12,5538,1.0999999999999999,{"$f":"ROUND(J128/MAX($J$117:$J$153)*10000*0.7+(MAX($I$117:$I$153)-I128)/(MAX($I$117:$I$153)-1)*10000*0.3,0)","v":8494},9343,null,null,"Ventus 2ax","AX",""]
["Ondrej Bordovsky",{"$f":"VLOOKUP(A129,Pilot,2,0)","v":1983},{"$f":"VLOOKUP(A129,Pilot,5,0)","v":"M"},{"$f":"VLOOKUP(A129,Pilot,3,0)","v":"Krnov"},{"$f":"VLOOKUP(A129,Pilot,4,0)","v":"CZ/M"},"WGC 2018 - 15m","PL",2018,13,5446,1.0999999999999999,8304,9134,"x",null,"ASG 29E","QZ",""]
["Andreas Lutz",null,null,null,null,"WGC 2018 - 15m","PL",2018,14,5420,1.0999999999999999,8191,9010,null,null,"Ventus 3T","WO","Není v databázi"]
["Tim Scott",null,null,null,null,"WGC 2018 - 15m","PL",2018,15,5344,1.0999999999999999,8020,8822,null,null,"ASG 29","Z3","Není v databázi"]
["Sebastian Bauder",null,null,null,null,"WGC 2018 - 15m","PL",2018,16,5300,1.0999999999999999,7885,8674,null,null,"Ventus 2ax","Ei","Není v databázi"]
["Uys Jonker",null,null,null,null,"WGC 2018 - 15m","PL",2018,17,5296,1.0999999999999999,7797,8577,null,null,"JS 3","ML","Není v databázi"]
["Michael Rass",null,null,null,null,"WGC 2018 - 15m","PL",2018,18,4959,1.0999999999999999,7324,8056,null,null,"ASG-29E","MR","Není v databázi"]
["Sergei Morozov",null,null,null,null,"WGC 2018 - 15m","PL",2018,19,4954,{"$f":"VLOOKUP(F135,Soutez,12,0)","v":1.0999999999999999},7235,{"$f":"ROUND(K135*L135,0)","v":7959},null,null,"ASG 29","XG",{"$f":"IF(ISERROR(VLOOKUP(A135,Pilot,6,0)),\"Není v databázi\",VLOOKUP(A135,Pilot,6,0))","v":"Není v databázi"}]
["Zoltan Kore",null,null,null,null,"WGC 2018 - 15m","PL",2018,20,4921,1.0999999999999999,7113,7824,null,null,"JS3","AI","Není v databázi"]
["Zoltan Hamar",null,null,null,null,"WGC 2018 - 15m","PL",2018,21,4912,1.0999999999999999,7019,7721,null,null,"Ventus 2a","5A","Není v databázi"]
["Sebastian Luengo",null,null,null,null,"WGC 2018 - 15m","PL",2018,22,4898,1.0999999999999999,6920,7612,null,null,"Ventus 2a","PE","Není v databázi"]
["Francisco Ortega",null,null,null,null,"WGC 2018 - 15m","PL",2018,23,4804,1.0999999999999999,6728,7401,null,null,"ASW 27","27B","Není v databázi"]
["Vytautas Sabeckis",null,null,null,null,"WGC 2018 - 15m","PL",2018,24,4751,1.0999999999999999,6583,7241,null,null,"Ventus 2ax","VV","Není v databázi"]
["Thomas Gostner",null,null,null,null,"WGC 2018 - 15m","PL",2018,25,4653,1.0999999999999999,6386,7025,null,null,"Ventus 2ax","GT","Není v databázi"]
["Jeroen van Dijk",null,null,null,null,"WGC 2018 - 15m","PL",2018,26,4648,1.0999999999999999,6297,6927,null,null,"ASW 27","M6","Není v databázi"]
["Nico Jägli",null,null,null,null,"WGC 2018 - 15m","PL",2018,27,4614,1.0999999999999999,6174,6791,null,null,"LS-6a","NJ","Není v databázi"]
["Øjvind Frank",null,null,null,null,"WGC 2018 - 15m","PL",2018,28,4549,1.0999999999999999,6016,6618,null,null,"Ventus 3","EK","Není v databázi"]
["Mike Hürlimann",null,null,null,null,"WGC 2018 - 15m","PL",2018,29,4465,1.0999999999999999,5835,6419,null,null,"Ventus 2a","HQ","Není v databázi"]
["Cristian Marcaida",null,null,null,null,"WGC 2018 - 15m","PL",2018,30,4435,1.0999999999999999,5717,6289,null,null,"Ventus 2",19,"Není v databázi"]
["Gvidas Sabeckis",null,null,null,null,"WGC 2018 - 15m","PL",2018,30,4435,1.0999999999999999,5717,6289,null,null,"ASG 29","MZ","Není v databázi"]
["Luke Szczepaniak",null,null,null,null,"WGC 2018 - 15m","PL",2018,32,4399,1.0999999999999999,5509,6060,null,null,"ASW 27B","2W","Není v databázi"]
["Jan Hald",null,null,null,null,"WGC 2018 - 15m","PL",2018,33,4189,1.0999999999999999,5183,5701,null,null,"Ventus 2cT","T","Není v databázi"]
["Timothy Taylor",null,null,null,null,"WGC 2018 - 15m","PL",2018,34,4084,1.0999999999999999,4978,5476,null,null,"ASW 27B","T6","Není v databázi"]
["Carlos Gonzalez de Herrero",null,null,null,null,"WGC 2018 - 15m","PL",2018,35,3811,1.0999999999999999,4578,5036,null,null,"ASW 27B","7A","Není v databázi"]
["Fernando Silva",null,null,null,null,"WGC 2018 - 15m","PL",2018,36,3454,1.0999999999999999,4082,4490,null,null,"ASW 27","PS","Není v databázi"]
["Matias Pasztor",null,null,null,null,"WGC 2018 - 15m","PL",2018,37,3440,1.0999999999999999,3982,4380,null,null,"Ventus 2b","MW","Není v databázi"]
["Wolfgang Janowitsch",null,"M","Austria",null,"WGC 2018 - 18m","CZ",2018,1,10236,1.135,{"$f":"ROUND(J154/MAX($J$154:$J$198)*10000*0.7+(MAX($I$154:$I$198)-I154)/(MAX($I$154:$I$198)-1)*10000*0.3,0)","v":10000},11350,null,null,"Ventus 3T","WO","Není v databázi"]
["Mario Kiessling",null,"M","Germany",null,"WGC 2018 - 18m","CZ",2018,2,10097,1.135,{"$f":"ROUND(J155/MAX($J$154:$J$198)*10000*0.7+(MAX($I$154:$I$198)-I155)/(MAX($I$154:$I$198)-1)*10000*0.3,0)","v":9837},11165,null,null,"Ventus 3T","I","Není v databázi"]
["Jean-Denis Barrois",null,"M","France",null,"WGC 2018 - 18m","CZ",2018,3,9915,1.135,9644,10946,null,null,"JS 3","FM","Není v databázi"]
["Peter Millenaar",null,"M","Netherlands",null,"WGC 2018 - 18m","CZ",2018,4,9820,1.135,9511,10795,null,null,"Ventus 3T","VY","Není v databázi"]
["Christophe Cousseau",null,"M","France",null,"WGC 2018 - 18m","CZ",2018,5,9766,1.135,9406,10676,null,null,"JS 3","FQ","Není v databázi"]
["Roman Mracek",{"$f":"VLOOKUP(A159,Pilot,2,0)","v":1980},{"$f":"VLOOKUP(A159,Pilot,5,0)","v":"M"},{"$f":"VLOOKUP(A159,Pilot,3,0)","v":"Letkov"},{"$f":"VLOOKUP(A159,Pilot,4,0)","v":"CZ/C1"},"WGC 2018 - 18m","CZ",2018,6,9709,1.135,9299,10554,"x",null,"Ventus 3 FES","LB",""]
["Tomas Suchanek",{"$f":"VLOOKUP(A160,Pilot,2,0)","v":1964},{"$f":"VLOOKUP(A160,Pilot,5,0)","v":"M"},{"$f":"VLOOKUP(A160,Pilot,3,0)","v":"GAC Benešov"},{"$f":"VLOOKUP(A160,Pilot,4,0)","v":"CZ/C1"},"WGC 2018 - 18m","CZ",2018,7,9690,1.135,{"$f":"ROUND(J160/MAX($J$154:$J$198)*10000*0.7+(MAX($I$154:$I$198)-I160)/(MAX($I$154:$I$198)-1)*10000*0.3,0)","v":9218},10462,"x",null,"Ventus 3T","3V",""]
["Katrin Senne",null,"F","Germany",null,"WGC 2018 - 18m","CZ",2018,8,9664,1.135,9132,10365,null,null,"JS 3","IG","Není v databázi"]
["Oscar Goudriaan",null,"M","South Africa",null,"WGC 2018 - 18m","CZ",2018,9,9626,1.135,9037,10257,null,null,"JS 3","OG","Není v databázi"]
["Gyorgy Gulyas",null,"M","Hungary",null,"WGC 2018 - 18m","CZ",2018,10,9622,1.135,8966,10176,null,null,"JS 3","AX","Není v databázi"]
["Bert Schmelzer",null,"M","Belgium",null,"WGC 2018 - 18m","CZ",2018,11,9569,1.135,8862,10058,null,null,"Ventus 3T","2X","Není v databázi"]
["John Buchanan",null,"M","Australia",null,"WGC 2018 - 18m","CZ",2018,12,9440,1.135,8706,9881,null,null,"JS 3","BB","Není v databázi"]
["Russell Cheetham",null,"M","United Kingdom",null,"WGC 2018 - 18m","CZ",2018,13,9410,1.135,8617,9780,null,null,"JS 3","E1","Není v databázi"]
["Laurens Goudriaan",null,"M","South Africa",null,"WGC 2018 - 18m","CZ",2018,14,9396,1.135,8539,9692,null,null,"JS 3","LG","Není v databázi"]
["Adomas Grabskis",null,"M","Lithuania",null,"WGC 2018 - 18m","CZ",2018,15,9369,1.135,8453,9594,null,null,"JS 1B","LR","Není v databázi"]
["Peter Szabo",null,"M","Hungary",null,"WGC 2018 - 18m","CZ",2018,16,9247,1.135,8301,9422,null,null,"JS 3","BX","Není v databázi"]
["Rolf Friedli",null,"M","Switzerland",null,"WGC 2018 - 18m","CZ",2018,17,9221,1.135,8215,9324,null,null,"ASG-29","F","Není v databázi"]
["Arne Boye-Møller",null,"M","Denmark",null,"WGC 2018 - 18m","CZ",2018,18,9173,1.135,8114,9209,null,null,"JS 3","JS3","Není v databázi"]
["Mike Young",null,"M","United Kingdom",null,"WGC 2018 - 18m","CZ",2018,19,9137,1.135,8021,9104,null,null,"Ventus 3",120,"Není v databázi"]
["Giancarlo Grinza",null,"M","Italy",null,"WGC 2018 - 18m","CZ",2018,20,9126,1.135,7945,9018,null,null,"Ventus 3 FES","CU","Není v databázi"]
["Adam Woolley",null,"M","Australia",null,"WGC 2018 - 18m","CZ",2018,21,9076,1.135,7843,8902,null,null,"Ventus 3T","HC","Není v databázi"]
["Jurg Haas",null,"M","Switzerland",null,"WGC 2018 - 18m","CZ",2018,22,9022,1.135,7738,8783,null,null,"JS 1C","CH","Není v databázi"]
["Martti Sucksdorff",null,"M","Finland",null,"WGC 2018 - 18m","CZ",2018,23,8999,1.135,7654,8687,null,null,"ASG-29E","WS","Není v databázi"]
["Jerzy Szemplinski",null,"M","Canada",null,"WGC 2018 - 18m","CZ",2018,24,8916,1.135,7529,8545,null,null,"ASG-29","XG","Není v databázi"]
["Erik Nelson",null,"M","United States of America",null,"WGC 2018 - 18m","CZ",2018,25,8786,1.135,7372,8367,null,null,"Ventus 3T","5E","Není v databázi"]
["Piotr Jarysz",null,"M","Poland",null,"WGC 2018 - 18m","CZ",2018,26,8775,1.135,{"$f":"ROUND(J179/MAX($J$154:$J$198)*10000*0.7+(MAX($I$154:$I$198)-I179)/(MAX($I$154:$I$198)-1)*10000*0.3,0)","v":7296},8281,null,null,"ASG-29","PL","Není v databázi"]
["Jeroen Verkuijl",null,"M","Netherlands",null,"WGC 2018 - 18m","CZ",2018,27,8771,1.135,7225,8200,null,null,"JS 3",3,"Není v databázi"]
["Damian Goldenzweig",null,"M","Argentina",null,"WGC 2018 - 18m","CZ",2018,28,8767,1.135,7154,8120,null,null,"Ventus 3T","3M","Není v databázi"]
["Alberto Pozzi",null,"M","Italy",null,"WGC 2018 - 18m","CZ",2018,29,8672,1.135,7021,7969,null,null,"Ventus 2 cxa","AY","Není v databázi"]
["Vladimir Foltin",null,"M","Slovakia",null,"WGC 2018 - 18m","CZ",2018,30,8577,1.135,6888,7818,null,null,"ASG-29E","AJ","Není v databázi"]
["Matthias Sturm",null,"M","Germany",null,"WGC 2018 - 18m","CZ",2018,31,8539,1.135,6794,7711,null,null,"JS 3","XM","Není v databázi"]
["Hannu Halonen",null,"M","Finland",null,"WGC 2018 - 18m","CZ",2018,32,8471,1.135,6679,7581,null,null,"Ventus 3T","W","Není v databázi"]
["Bernhard Leitner",null,"M","Austria",null,"WGC 2018 - 18m","CZ",2018,33,8324,1.135,6511,7390,null,null,"Ventus 2 cxm","LV","Není v databázi"]
["Lukasz Wojcik",null,"M","Poland",null,"WGC 2018 - 18m","CZ",2018,34,8284,1.135,6415,7281,null,null,"Diana 3","D3","Není v databázi"]
["Luka Znidarsic",null,"M","Slovenia",null,"WGC 2018 - 18m","CZ",2018,35,8059,1.135,6193,7029,null,null,"Ventus 2 cxa FES","LZ","Není v databázi"]
["Takeshi Maruyama",null,"M","Japan",null,"WGC 2018 - 18m","CZ",2018,36,8049,1.135,6118,6944,null,null,"ASG-29E","2C","Není v databázi"]
["Federico Buscema",null,"M","Argentina",null,"WGC 2018 - 18m","CZ",2018,37,7938,1.135,5974,6780,null,null,"ASG-29E","OS","Není v databázi"]
["Teet Jagomägi",null,"M","Estonia",null,"WGC 2018 - 18m","CZ",2018,38,7796,1.135,5809,6593,null,null,"JS 1B","TB","Není v databázi"]
["Olivier Sevrin",null,"M","Belgium",null,"WGC 2018 - 18m","CZ",2018,39,7473,1.135,5520,6265,null,null,"ASG-29E",29,"Není v databázi"]
["Gunnar Axelsson",null,"M","Sweden",null,"WGC 2018 - 18m","CZ",2018,40,6895,1.135,5056,5739,null,null,"ASG-29E","TC","Není v databázi"]
["Branko Blagojevic",null,"M","Serbia",null,"WGC 2018 - 18m","CZ",2018,41,6710,1.135,4861,5517,null,null,"JS 1C","BP","Není v databázi"]
["Kestutis Miliunas",null,"M","Liithuania",null,"WGC 2018 - 18m","CZ",2018,42,6406,1.135,4585,5204,null,null,"ASG-29","M7","Není v databázi"]
["Svend Andersen",null,"M","Denmark",null,"WGC 2018 - 18m","CZ",2018,43,6375,1.135,4496,5103,null,null,"ASG-29E","2O","Není v databázi"]
["Robert W. Fletcher",null,"M","United States of America",null,"WGC 2018 - 18m","CZ",2018,44,5288,1.135,3684,4181,null,null,"ASG-29E",70,"Není v databázi"]
["Patrick Driessen",null,"M","New Zealand",null,"WGC 2018 - 18m","CZ",2018,45,4767,1.135,3260,3700,null,null,"JS 1C","8Q","Není v databázi"]
["Matkowski & Kawa",null,"M","Poland",null,"WGC 2018 - Duo 20m","CZ",2018,1,10600,{"$f":"VLOOKUP(F199,Soutez,12,0)","v":1.1000000000000001},{"$f":"ROUND(J199/MAX($J$199:$J$216)*10000*0.7+(MAX($I$199:$I$216)-I199)/(MAX($I$199:$I$216)-1)*10000*0.3,0)","v":10000},{"$f":"ROUND(K199*L199,0)","v":11000},null,null,"ASG 32 Mi","MD",{"$f":"IF(ISERROR(VLOOKUP(A199,Pilot,6,0)),\"Není v databázi\",VLOOKUP(A199,Pilot,6,0))","v":"Není v databázi"}]
["Jones & Coppin",null,"M","United Kingdom",null,"WGC 2018 - Duo 20m","CZ",2018,2,10335,1.1000000000000001,{"$f":"ROUND(J200/MAX($J$199:$J$216)*10000*0.7+(MAX($I$199:$I$216)-I200)/(MAX($I$199:$I$216)-1)*10000*0.3,0)","v":9649},10614,null,null,"Arcus T",66,"Není v databázi"]
["Sorri & Lehto",null,"M","Finland",null,"WGC 2018 - Duo 20m","CZ",2018,3,10211,1.1000000000000001,9390,10329,null,null,"Arcus M","AM","Není v databázi"]
["Barnes & Scutter",null,"M","Australia",null,"WGC 2018 - Duo 20m","CZ",2018,4,10190,1.1000000000000001,9200,10120,null,null,"Arcus T","V8","Není v databázi"]
["Ladenburger & Krohmer",null,"M","Germany",null,"WGC 2018 - Duo 20m","CZ",2018,5,10123,1.1000000000000001,8979,9877,null,null,"Arcus T","GX","Není v databázi"]
["Aboulin & Untersee",null,"M","France",null,"WGC 2018 - Duo 20m","CZ",2018,6,10058,1.1000000000000001,8760,9636,null,null,"Arcus T","FP","Není v databázi"]
["Cronjaeger & Sidler",null,"M","Switzerland",null,"WGC 2018 - Duo 20m","CZ",2018,7,9734,1.1000000000000001,8369,9206,null,null,"Arcus M","C","Není v databázi"]
["Hartmann & Derold",null,"M","Austria",null,"WGC 2018 - Duo 20m","CZ",2018,8,9732,1.1000000000000001,8191,9010,null,null,"Arcus T","SPG","Není v databázi"]
["Michal Lesinger",{"$f":"VLOOKUP(A207,Pilot,2,0)","v":1966},{"$f":"VLOOKUP(A207,Pilot,5,0)","v":"M"},{"$f":"VLOOKUP(A207,Pilot,3,0)","v":"Moravská Třebová"},{"$f":"VLOOKUP(A207,Pilot,4,0)","v":"CZ/M"},"WGC 2018 - Duo 20m","CZ",2018,9,9601,1.1000000000000001,{"$f":"ROUND(J207/MAX($J$199:$J$216)*10000*0.7+(MAX($I$199:$I$216)-I207)/(MAX($I$199:$I$216)-1)*10000*0.3,0)","v":7929},8722,null,null,"ASG 32 Mi","DX",""]
["Emmanuelidis & Jeanmotte",null,"M","Belgium",null,"WGC 2018 - Duo 20m","CZ",2018,10,9426,1.1000000000000001,7636,8400,null,null,"ASG 32 Mi","F2","Není v databázi"]
["Ghiorzo & Dall'Olio",null,"M","Italy",null,"WGC 2018 - Duo 20m","CZ",2018,11,9390,1.1000000000000001,7436,8180,null,null,"HPH 304 TwinShark","TS","Není v databázi"]
["Motuza & Volkov",null,"M","Lithuania",null,"WGC 2018 - Duo 20m","CZ",2018,12,8785,1.1000000000000001,6860,7546,null,null,"ASG 32 Mi","IV","Není v databázi"]
["Affonso & Navarro",null,"M","Brazil",null,"WGC 2018 - Duo 20m","CZ",2018,13,8519,1.1000000000000001,6508,7159,null,null,"Arcus M","XX","Není v databázi"]
["Rehus & Kiss",null,"M","Hungary",null,"WGC 2018 - Duo 20m","CZ",2018,14,8429,1.1000000000000001,{"$f":"ROUND(J212/MAX($J$199:$J$216)*10000*0.7+(MAX($I$199:$I$216)-I212)/(MAX($I$199:$I$216)-1)*10000*0.3,0)","v":6272},6899,null,null,"Arcus T","SX","Není v databázi"]
["Nielsen & Jorgensen",null,"M","Denmark",null,"WGC 2018 - Duo 20m","CZ",2018,15,8172,1.1000000000000001,5926,6519,null,null,"Arcus T","JT","Není v databázi"]
["Weissenbuehler & Schlosser",null,"M","United States of America",null,"WGC 2018 - Duo 20m","CZ",2018,16,8006,1.1000000000000001,5640,6204,null,null,"Arcus T","ARC","Není v databázi"]
["Gaude & San Sebastian",null,"M","Argentina",null,"WGC 2018 - Duo 20m","CZ",2018,17,7696,1.1000000000000001,5259,5785,null,null,"Arcus M","JS","Není v databázi"]
["Jesensky & Jakubcak",null,"M","Slovakia",null,"WGC 2018 - Duo 20m","CZ",2018,18,7552,1.1000000000000001,4987,5486,null,null,"Arcus M","CAR","Není v databázi"]
["Rasmus Ørskov",null,null,null,null,"WGC 2018 - Klub","PL",2018,1,5736,1.105,{"$f":"ROUND(J217/MAX($J$217:$J$264)*10000*0.7+(MAX($I$217:$I$264)-I217)/(MAX($I$217:$I$264)-1)*10000*0.3,0)","v":10000},11050,null,null,"ASW-20","KW","Není v databázi"]
["Tomasz Rubaj",null,null,null,null,"WGC 2018 - Klub","PL",2018,2,5723,1.105,{"$f":"ROUND(J218/MAX($J$217:$J$264)*10000*0.7+(MAX($I$217:$I$264)-I218)/(MAX($I$217:$I$264)-1)*10000*0.3,0)","v":9920},10962,null,null,"SZD-55","A8","Není v databázi"]
["Jaroslav Tomana",{"$f":"VLOOKUP(A219,Pilot,2,0)","v":1975},{"$f":"VLOOKUP(A219,Pilot,5,0)","v":"M"},{"$f":"VLOOKUP(A219,Pilot,3,0)","v":"Zbraslavice"},{"$f":"VLOOKUP(A219,Pilot,4,0)","v":"CZ/C1"},"WGC 2018 - Klub","PL",2018,3,5709,1.105,9839,10872,"x",null,"Cirrus Std","SN",""]
["Jakub Barszcz",null,null,null,null,"WGC 2018 - Klub","PL",2018,4,5696,1.105,9760,10785,null,null,"SZD-55","TK","Není v databázi"]
["Ivan Novak",{"$f":"VLOOKUP(A221,Pilot,2,0)","v":1962},{"$f":"VLOOKUP(A221,Pilot,5,0)","v":"M"},{"$f":"VLOOKUP(A221,Pilot,3,0)","v":"Mladá Boleslav"},{"$f":"VLOOKUP(A221,Pilot,4,0)","v":"CZ/C1"},"WGC 2018 - Klub","PL",2018,5,5624,1.105,{"$f":"ROUND(J221/MAX($J$217:$J$264)*10000*0.7+(MAX($I$217:$I$264)-I221)/(MAX($I$217:$I$264)-1)*10000*0.3,0)","v":9608},10617,null,null,"Cirrus Std","DI",""]
["Tim Kuijpers",null,null,null,null,"WGC 2018 - Klub","PL",2018,6,5604,1.105,9520,10520,null,null,"H304CZ","IPB","Není v databázi"]
["Andrej Lebedev",null,null,null,null,"WGC 2018 - Klub","PL",2018,7,5528,1.105,9363,10346,null,null,"ASW-20","WU","Není v databázi"]
["Eric Bernard",null,null,null,null,"WGC 2018 - Klub","PL",2018,8,5509,1.105,9276,10250,null,null,"LS 4","SD","Není v databázi"]
["Frederic Hoyeau",null,null,null,null,"WGC 2018 - Klub","PL",2018,9,5507,1.105,9210,10177,null,null,"LS 4","SA","Není v databázi"]
["Darius Liaugaudas",null,null,null,null,"WGC 2018 - Klub","PL",2018,10,5500,1.105,9138,10097,null,null,"Pegase 101A","PL","Není v databázi"]
["James Crowhurst",null,null,null,null,"WGC 2018 - Klub","PL",2018,11,5435,1.105,8994,9938,null,null,"ASW 19B","PG","Není v databázi"]
["Niklas Löfgren",null,null,null,null,"WGC 2018 - Klub","PL",2018,12,5396,1.105,8883,9816,null,null,"SZD-55",69,"Není v databázi"]
["Tim Fletcher",null,null,null,null,"WGC 2018 - Klub","PL",2018,13,5377,1.105,8796,9720,null,null,"Libelle Std","TP","Není v databázi"]
["Wolli Beyer",null,null,null,null,"WGC 2018 - Klub","PL",2018,14,5369,1.105,8722,9638,null,null,"Libelle H301","YYY","Není v databázi"]
["Allan Barnes",null,null,null,null,"WGC 2018 - Klub","PL",2018,15,5343,1.105,8627,9533,null,null,"LS-1f","UX","Není v databázi"]
["Sabrina Vogt",null,null,null,null,"WGC 2018 - Klub","PL",2018,16,5339,1.105,{"$f":"ROUND(J232/MAX($J$217:$J$264)*10000*0.7+(MAX($I$217:$I$264)-I232)/(MAX($I$217:$I$264)-1)*10000*0.3,0)","v":8558},9457,null,null,"Libelle Std","MT","Není v databázi"]
["Jozef Kozar",null,null,null,null,"WGC 2018 - Klub","PL",2018,17,5281,1.105,8423,9307,null,null,"LS-1f","MF","Není v databázi"]
["Tamas Ferenc",null,null,null,null,"WGC 2018 - Klub","PL",2018,18,5278,1.105,8356,9233,null,null,"LS-3","1A","Není v databázi"]
["Javier Gaude",null,null,null,null,"WGC 2018 - Klub","PL",2018,19,5258,1.105,8268,9136,null,null,"LS 4","WW","Není v databázi"]
["Sergey Klyuev",null,null,null,null,"WGC 2018 - Klub","PL",2018,20,5241,1.105,8183,9042,null,null,"Jantar std 3","SK","Není v databázi"]
["Jan Rothhardt",null,null,null,null,"WGC 2018 - Klub","PL",2018,21,5216,1.105,8089,8938,null,null,"LS-1d","6H","Není v databázi"]
["Sviatoslav Roublev",null,null,null,null,"WGC 2018 - Klub","PL",2018,22,5198,1.105,8003,8843,null,null,"Discus","G3","Není v databázi"]
["Jonas Langenegger",null,null,null,null,"WGC 2018 - Klub","PL",2018,23,5158,1.105,7890,8718,null,null,"LS 4","WG","Není v databázi"]
["Simon Gantner",null,null,null,null,"WGC 2018 - Klub","PL",2018,24,5150,1.105,7817,8638,null,null,"LS 4a","MN","Není v databázi"]
["Michael Westbrook",null,null,null,null,"WGC 2018 - Klub","PL",2018,25,5118,1.105,7714,8524,null,null,"ASW 19","J1","Není v databázi"]
["Sergei Serov",null,null,null,null,"WGC 2018 - Klub","PL",2018,26,5087,1.105,7612,8411,null,null,"Cirrus Std",75,"Není v databázi"]
["David Richter-Trummer",null,null,null,null,"WGC 2018 - Klub","PL",2018,27,4995,1.105,7436,8217,null,null,"Libelle H301","RT","Není v databázi"]
["Krzysztof Wiercioch",null,null,null,null,"WGC 2018 - Klub","PL",2018,28,4863,1.105,7211,7968,null,null,"SZD-55","M2","Není v databázi"]
["Simone Selvini",null,null,null,null,"WGC 2018 - Klub","PL",2018,29,4847,1.105,7128,7876,null,null,"Cirrus Std",28,"Není v databázi"]
["Antti Koskiniemi",null,null,null,null,"WGC 2018 - Klub","PL",2018,30,4797,1.105,7003,7738,null,null,"SZD-55","WB","Není v databázi"]
["Nick Fremau",null,null,null,null,"WGC 2018 - Klub","PL",2018,31,4768,1.105,6904,7629,null,null,"Libelle std","2S","Není v databázi"]
["Luca Urbani",null,null,null,null,"WGC 2018 - Klub","PL",2018,32,4762,1.105,6833,7550,null,null,"Cirrus Std","C71","Není v databázi"]
["Frank Hiemstra",null,null,null,null,"WGC 2018 - Klub","PL",2018,33,4724,1.105,6722,7428,null,null,"Cirrus Std",74,"Není v databázi"]
["Attila Korom",null,null,null,null,"WGC 2018 - Klub","PL",2018,34,4720,1.105,6654,7353,null,null,"ASW-20","MC","Není v databázi"]
["Felipe Girado",null,null,null,null,"WGC 2018 - Klub","PL",2018,35,4704,1.105,6570,7260,null,null,"LS 4","FAY","Není v databázi"]
["Mario Schupfer",null,null,null,null,"WGC 2018 - Klub","PL",2018,36,4589,1.105,6366,7034,null,null,"ASW-15b","MS","Není v databázi"]
["Per Carlin",null,null,null,null,"WGC 2018 - Klub","PL",2018,37,4555,1.105,6261,6918,null,null,"LS-1f","G7","Není v databázi"]
["Boyd Willat",null,null,null,null,"WGC 2018 - Klub","PL",2018,38,4302,1.105,5888,6506,null,null,"ASW 19","JAY","Není v databázi"]
["Gerrard Dale",null,null,null,null,"WGC 2018 - Klub","PL",2018,39,4131,1.105,5616,6206,null,null,"Libelle Std",528,"Není v databázi"]
["Aldo Rodriguez",null,null,null,null,"WGC 2018 - Klub","PL",2018,40,4119,1.105,5537,6118,null,null,"ASW-20",70,"Není v databázi"]
["Vinko Soljan",null,null,null,null,"WGC 2018 - Klub","PL",2018,41,4018,1.105,5350,5912,null,null,"ASW 19B","HR2","Není v databázi"]
["Juha Vainikka",null,null,null,null,"WGC 2018 - Klub","PL",2018,42,3985,1.105,5246,5797,null,null,"Jantar std 3","T5","Není v databázi"]
["Vladimir Radovskiy",null,null,null,null,"WGC 2018 - Klub","PL",2018,43,3968,1.105,5162,5704,null,null,"Cirrus Std","XII","Není v databázi"]
["Peter Bertels",null,null,null,null,"WGC 2018 - Klub","PL",2018,44,3879,1.105,4989,5513,null,null,"Libelle Std","BR","Není v databázi"]
["Aliaksandr Babkevich",null,null,null,null,"WGC 2018 - Klub","PL",2018,45,3634,1.105,4626,5112,null,null,"Jantar std 3","HI","Není v databázi"]
["Frantisek Sobek",null,null,null,null,"WGC 2018 - Klub","PL",2018,46,3409,1.105,4288,4738,null,null,"DG 100","G1","Není v databázi"]
["Jaume Prats",null,null,null,null,"WGC 2018 - Klub","PL",2018,47,3285,{"$f":"VLOOKUP(F263,Soutez,12,0)","v":1.105},4073,{"$f":"ROUND(K263*L263,0)","v":4501},null,null,"Libelle Std","JC",{"$f":"IF(ISERROR(VLOOKUP(A263,Pilot,6,0)),\"Není v databázi\",VLOOKUP(A263,Pilot,6,0))","v":"Není v databázi"}]
["Dani Zaninovic",null,null,null,null,"WGC 2018 - Klub","PL",2018,48,2432,1.105,2968,3280,null,null,"Jantar std 3","HR1","Není v databázi"]
["Michael Sommer",null,"M","Germany",null,"WGC 2018 - Open","CZ",2018,1,10662,1.125,{"$f":"ROUND(J265/MAX($J$265:$J$295)*10000*0.7+(MAX($I$265:$I$295)-I265)/(MAX($I$265:$I$295)-1)*10000*0.3,0)","v":10000},11250,null,null,"EB 29 R","EB","Není v databázi"]
["Felipe Levin",null,"M","Germany",null,"WGC 2018 - Open","CZ",2018,2,10571,1.125,{"$f":"ROUND(J266/MAX($J$265:$J$295)*10000*0.7+(MAX($I$265:$I$295)-I266)/(MAX($I$265:$I$295)-1)*10000*0.3,0)","v":9840},11070,null,null,"EB 29 DR","WB","Není v databázi"]
["Petr Tichy",{"$f":"VLOOKUP(A267,Pilot,2,0)","v":1973},{"$f":"VLOOKUP(A267,Pilot,5,0)","v":"M"},{"$f":"VLOOKUP(A267,Pilot,3,0)","v":"Zbraslavice"},{"$f":"VLOOKUP(A267,Pilot,4,0)","v":"CZ/C1"},"WGC 2018 - Open","CZ",2018,3,10301,1.125,{"$f":"ROUND(J267/MAX($J$265:$J$295)*10000*0.7+(MAX($I$265:$I$295)-I267)/(MAX($I$265:$I$295)-1)*10000*0.3,0)","v":9563},10758,"x",null,"EB 29R","EX",""]
["Riccardo Brigliadori",null,"M","Italy",null,"WGC 2018 - Open","CZ",2018,4,10075,1.125,9315,10479,null,null,"JS1 C","LEO","Není v databázi"]
["Peter Harvey",null,"M","United Kingdom",null,"WGC 2018 - Open","CZ",2018,5,10006,1.125,9169,10315,null,null,"JS1 C","N1","Není v databázi"]
["Philippe de Péchy",null,"M","France",null,"WGC 2018 - Open","CZ",2018,6,9993,1.125,9061,10194,null,null,"JS1 C","EJ","Není v databázi"]
["Sylvain Gerbaud",null,"M","France",null,"WGC 2018 - Open","CZ",2018,7,9845,1.125,8864,9972,null,null,"JS1 C",72,"Není v databázi"]
["Andy Davis",null,"M","United Kingdom",null,"WGC 2018 - Open","CZ",2018,8,9831,1.125,8754,9848,null,null,"JS1 C",80,"Není v databázi"]
["Zdislaw Bednarczuk",null,"M","Poland",null,"WGC 2018 - Open","CZ",2018,9,9680,1.125,{"$f":"ROUND(J273/MAX($J$265:$J$295)*10000*0.7+(MAX($I$265:$I$295)-I273)/(MAX($I$265:$I$295)-1)*10000*0.3,0)","v":8555},9624,null,null,"JS1 C","P","Není v databázi"]
["Henrik A. Breidahl",null,"M","Denmark",null,"WGC 2018 - Open","CZ",2018,10,9664,1.125,8445,9501,null,null,"JS1 C","EI","Není v databázi"]
["Ronald Termaat",null,"M","Netherlands",null,"WGC 2018 - Open","CZ",2018,11,9662,1.125,8343,9386,null,null,"JS1 C","XT","Není v databázi"]
["Uys Jonker",null,"M","South Africa",null,"WGC 2018 - Open","CZ",2018,12,9658,1.125,8241,9271,null,null,"JS1 C","EVO","Není v databázi"]
["Jim Acketoft",null,"M","Sweden",null,"WGC 2018 - Open","CZ",2018,13,9619,1.125,8115,9129,null,null,"EB 29 DR","DD","Není v databázi"]
["Hadriaan van Nes",null,"M","Netherlands",null,"WGC 2018 - Open","CZ",2018,14,9618,1.125,8015,9017,null,null,"JS1 C","APU","Není v databázi"]
["Petr Krejcirik",{"$f":"VLOOKUP(A279,Pilot,2,0)","v":1960},{"$f":"VLOOKUP(A279,Pilot,5,0)","v":"M"},{"$f":"VLOOKUP(A279,Pilot,3,0)","v":"Hranice"},{"$f":"VLOOKUP(A279,Pilot,4,0)","v":"CZ/M"},"WGC 2018 - Open","CZ",2018,15,9572,1.125,7884,8870,null,null,"JS1 C","LX",""]
["Zoran Frenc",null,"M","Serbia",null,"WGC 2018 - Open","CZ",2018,16,9451,1.125,7705,8668,null,null,"JS1 C","ZF","Není v databázi"]
["Jan W. Andersen",null,"M","Denmark",null,"WGC 2018 - Open","CZ",2018,17,9405,1.125,7575,8522,null,null,"EB 29","A","Není v databázi"]
["Laszlo Halasz",null,"M","Hungary",null,"WGC 2018 - Open","CZ",2018,18,9283,1.125,7395,8319,null,null,"JS1 C","IBX","Není v databázi"]
["Pierre de Broqueville",null,"M","Belgium",null,"WGC 2018 - Open","CZ",2018,19,9138,1.125,7199,8099,null,null,"EB 29 DR","IP3","Není v databázi"]
["AP Kotze",null,"M","South Africa",null,"WGC 2018 - Open","CZ",2018,20,8590,1.125,6740,7583,null,null,"JS1 C","W2","Není v databázi"]
["Richard Bartolf",null,"M","Hungary",null,"WGC 2018 - Open","CZ",2018,21,8533,1.125,6602,7427,null,null,"JS1 C","HAB","Není v databázi"]
["Michael Robison",null,"M","United States of America",null,"WGC 2018 - Open","CZ",2018,22,8470,1.125,6461,7269,null,null,"ASH-25 EB 28","PWR","Není v databázi"]
["Sven Kolb",null,"M","Austria",null,"WGC 2018 - Open","CZ",2018,23,8335,1.125,6272,7056,null,null,"Antares 23E","LS","Není v databázi"]
["Mauro Brunazzo",null,"M","Italy",null,"WGC 2018 - Open","CZ",2018,24,8101,1.125,6019,6771,null,null,"Quintus M","AS","Není v databázi"]
["David Coggins",null,"M","United States of America",null,"WGC 2018 - Open","CZ",2018,25,7353,1.125,5428,6107,null,null,"JS1 C","DT","Není v databázi"]
["Rene Schoenmann",null,"M","Switzerland",null,"WGC 2018 - Open","CZ",2018,26,7140,1.125,5188,5837,null,null,"JS1 C","RS","Není v databázi"]
["Martin Furjes",null,"M","Slovakia",null,"WGC 2018 - Open","CZ",2018,27,6728,1.125,4817,5419,null,null,"JS1 C","IMD","Není v databázi"]
["Owe Engstrom",null,"M","Sweden",null,"WGC 2018 - Open","CZ",2018,28,6447,1.125,4533,5100,null,null,"ASH 25 EB","TP","Není v databázi"]
["Guido Halter",null,"M","Switzerland",null,"WGC 2018 - Open","CZ",2018,29,5959,1.125,4112,4626,null,null,"ASH-25M","HU","Není v databázi"]
["Sebastian Eder",null,"M","Austria",null,"WGC 2018 - Open","CZ",2018,30,5880,1.125,3960,4455,null,null,"EB 29 R","FJ","Není v databázi"]
["Scott Percival",null,"M","Australia",null,"WGC 2018 - Open","CZ",2018,31,4843,1.125,3180,3578,null,null,"Quintus M","V","Není v databázi"]
["Sjaak Selen",null,null,null,null,"WGC 2018 - Std","PL",2018,1,6309,1.1199999999999999,{"$f":"ROUND(J296/MAX($J$296:$J$342)*10000*0.7+(MAX($I$296:$I$342)-I296)/(MAX($I$296:$I$342)-1)*10000*0.3,0)","v":10000},11200,null,null,"Discus 2a","2SI","Není v databázi"]
["Makoto Ichikawa",null,null,null,null,"WGC 2018 - Std","PL",2018,2,6288,1.1199999999999999,{"$f":"ROUND(J297/MAX($J$296:$J$342)*10000*0.7+(MAX($I$296:$I$342)-I297)/(MAX($I$296:$I$342)-1)*10000*0.3,0)","v":9911},11100,null,null,"LS-8","KS","Není v databázi"]
["Mateusz Siodłoczek",null,null,null,null,"WGC 2018 - Std","PL",2018,3,6235,1.1199999999999999,9787,10961,null,null,"Discus 2a","Y","Není v databázi"]
["Dmitriy Timoshenko",null,null,null,null,"WGC 2018 - Std","PL",2018,4,6198,1.1199999999999999,9681,10843,null,null,"Discus 2a","DT","Není v databázi"]
["Łukasz Błaszczyk",null,null,null,null,"WGC 2018 - Std","PL",2018,5,6195,1.1199999999999999,9613,10767,null,null,"Discus 2a","I","Není v databázi"]
["Norbert Alin Scarlat",null,null,null,null,"WGC 2018 - Std","PL",2018,6,6157,1.1199999999999999,9505,10646,null,null,"Discus 2a","YB","Není v databázi"]
["Poul Kim Larsen",null,null,null,null,"WGC 2018 - Std","PL",2018,7,6133,1.1199999999999999,9413,10543,null,null,"Discus 2a","D2","Není v databázi"]
["Richard Swanstrom",null,null,null,null,"WGC 2018 - Std","PL",2018,8,6098,1.1199999999999999,9309,10426,null,null,"Discus 2t","IKI","Není v databázi"]
["Jim Lee",null,null,null,null,"WGC 2018 - Std","PL",2018,9,6092,1.1199999999999999,9237,10345,null,null,"Discus 2b","MK","Není v databázi"]
["Dennis Huybreckx",null,null,null,null,"WGC 2018 - Std","PL",2018,10,6079,1.1199999999999999,9158,10257,null,null,"Ls-8","CM","Není v databázi"]
["Jeroen Jennen",null,null,null,null,"WGC 2018 - Std","PL",2018,11,6054,1.1199999999999999,9065,10153,null,null,"LS-8","LT","Není v databázi"]
["Gonzalo Riera",null,null,null,null,"WGC 2018 - Std","PL",2018,12,6034,1.1199999999999999,8977,10054,null,null,"LS-8","W8","Není v databázi"]
["David Bromley",null,null,null,null,"WGC 2018 - Std","PL",2018,13,6031,1.1199999999999999,8909,9978,null,null,"LS-8","F1","Není v databázi"]
["Jan-Ola Nordh",null,null,null,null,"WGC 2018 - Std","PL",2018,14,6019,1.1199999999999999,8830,9890,null,null,"Discus 2","TA","Není v databázi"]
["Björn Gintzel",null,null,null,null,"WGC 2018 - Std","PL",2018,15,5995,1.1199999999999999,8739,9788,null,null,"LS-8 neo","SB","Není v databázi"]
["Cristian Franzini",null,null,null,null,"WGC 2018 - Std","PL",2018,16,5949,1.1199999999999999,8622,9657,null,null,"LS-8","AU","Není v databázi"]
["Kilian Biechele",null,null,null,null,"WGC 2018 - Std","PL",2018,17,5897,1.1199999999999999,8499,9519,null,null,"LS-8 neo","M1","Není v databázi"]
["Mogens Hoelgaard",null,null,null,null,"WGC 2018 - Std","PL",2018,18,5868,1.1199999999999999,8402,9410,null,null,"Discus 2a","AXI","Není v databázi"]
["Tamas Vamosi",null,null,null,null,"WGC 2018 - Std","PL",2018,19,5802,1.1199999999999999,8264,9256,null,null,"Discus 2ax","HAL","Není v databázi"]
["Matthew Scutter",null,null,null,null,"WGC 2018 - Std","PL",2018,20,5784,1.1199999999999999,8178,9159,null,null,"Discus 2a","A1","Není v databázi"]
["Miloslav Cink",{"$f":"VLOOKUP(A316,Pilot,2,0)","v":1987},{"$f":"VLOOKUP(A316,Pilot,5,0)","v":"M"},{"$f":"VLOOKUP(A316,Pilot,3,0)","v":"Letkov"},{"$f":"VLOOKUP(A316,Pilot,4,0)","v":"CZ/C1"},"WGC 2018 - Std","PL",2018,21,5718,1.1199999999999999,8040,9005,null,null,"LS-8b","JB",""]
["Maros Divok",null,null,null,null,"WGC 2018 - Std","PL",2018,22,5706,1.1199999999999999,7961,8916,null,null,"Discus 2b","DII","Není v databázi"]
["Sandor Laurinyecz",null,null,null,null,"WGC 2018 - Std","PL",2018,23,5658,1.1199999999999999,7843,8784,null,null,"Discus 2ax","HUN","Není v databázi"]
["Anton Minskiy",null,null,null,null,"WGC 2018 - Std","PL",2018,24,5649,1.1199999999999999,7768,8700,null,null,"Discus 2a",2,"Není v databázi"]
["Nico Le Roux",null,null,null,null,"WGC 2018 - Std","PL",2018,25,5624,1.1199999999999999,7675,8596,null,null,"LS-8","1Z","Není v databázi"]
["Aude Grangeray",null,null,null,null,"WGC 2018 - Std","PL",2018,26,5546,1.1199999999999999,7523,8426,null,null,"Discus 2a","JPA","Není v databázi"]
["Pavel Louzecky",{"$f":"VLOOKUP(A322,Pilot,2,0)","v":1957},{"$f":"VLOOKUP(A322,Pilot,5,0)","v":"M"},{"$f":"VLOOKUP(A322,Pilot,3,0)","v":"Přibyslav"},{"$f":"VLOOKUP(A322,Pilot,4,0)","v":"CZ/C2"},"WGC 2018 - Std","PL",2018,27,5451,1.1199999999999999,{"$f":"ROUND(J322/MAX($J$296:$J$342)*10000*0.7+(MAX($I$296:$I$342)-I322)/(MAX($I$296:$I$342)-1)*10000*0.3,0)","v":7352},8234,null,null,"LS-8b","FX",""]
["Juha Sorri",null,null,null,null,"WGC 2018 - Std","PL",2018,28,5304,1.1199999999999999,7124,7979,null,null,"Discus 2b","JS","Není v databázi"]
["Tizian Steiger",null,null,null,null,"WGC 2018 - Std","PL",2018,29,5298,1.1199999999999999,7052,7898,null,null,"Discus 2b","TS","Není v databázi"]
["Vladas Motuza",null,null,null,null,"WGC 2018 - Std","PL",2018,30,5260,1.1199999999999999,6945,7778,null,null,"Discus 2a","FL","Není v databázi"]
["Ray Stewart",null,null,null,null,"WGC 2018 - Std","PL",2018,31,5221,1.1199999999999999,6836,7656,null,null,"Discus 2a","AJ","Není v databázi"]
["Howard Jones",null,null,null,null,"WGC 2018 - Std","PL",2018,32,5174,{"$f":"VLOOKUP(F327,Soutez,12,0)","v":1.1199999999999999},6719,{"$f":"ROUND(K327*L327,0)","v":7525},null,null,"Discus 2a",6,{"$f":"IF(ISERROR(VLOOKUP(A327,Pilot,6,0)),\"Není v databázi\",VLOOKUP(A327,Pilot,6,0))","v":"Není v databázi"}]
["Louis Bouderlique",null,null,null,null,"WGC 2018 - Std","PL",2018,33,5129,1.1199999999999999,6604,7396,null,null,"Discus 2a","ET","Není v databázi"]
["Joris Vainius",null,null,null,null,"WGC 2018 - Std","PL",2018,34,5066,1.1199999999999999,6469,7245,null,null,"Lak 19","ZM","Není v databázi"]
["Sjors van Loon",null,null,null,null,"WGC 2018 - Std","PL",2018,35,4997,1.1199999999999999,6327,7086,null,null,"LS-8","M7","Není v databázi"]
["Petri Sucksdorff",null,null,null,null,"WGC 2018 - Std","PL",2018,36,4953,1.1199999999999999,6213,6959,null,null,"LS-8","ES","Není v databázi"]
["Guillaume Girard",null,null,null,null,"WGC 2018 - Std","PL",2018,37,4903,1.1199999999999999,6092,6823,null,null,"Discus 2a","LV","Není v databázi"]
["Martin Schwab",null,null,null,null,"WGC 2018 - Std","PL",2018,38,4835,1.1199999999999999,5952,6666,null,null,"Discus 2a","KG","Není v databázi"]
["Dawid Pretorius",null,null,null,null,"WGC 2018 - Std","PL",2018,39,4727,1.1199999999999999,5766,6458,null,null,"LS-8","VZ","Není v databázi"]
["Vittorio Pinni",null,null,null,null,"WGC 2018 - Std","PL",2018,40,4714,1.1199999999999999,5687,6369,null,null,"LS-8","GG","Není v databázi"]
["Victor-Alex Pop",null,null,null,null,"WGC 2018 - Std","PL",2018,41,4687,1.1199999999999999,5592,6263,null,null,"Discus 2a","YA","Není v databázi"]
["Frane Franic",null,null,null,null,"WGC 2018 - Std","PL",2018,42,4560,1.1199999999999999,5386,6032,null,null,"ASW 24","HR3","Není v databázi"]
["Guido Dalla Rosa Prati",null,null,null,null,"WGC 2018 - Std","PL",2018,43,4520,1.1199999999999999,5276,5909,null,null,"LS-8","FD","Není v databázi"]
["Dominik JanCik",null,null,null,null,"WGC 2018 - Std","PL",2018,44,4253,1.1199999999999999,4914,5504,null,null,"LS-8","SI","Není v databázi"]
["Pascal Brunner",null,null,null,null,"WGC 2018 - Std","PL",2018,45,4020,1.1199999999999999,4591,5142,null,null,"Discus 2b","ST","Není v databázi"]
["Marvin Huss",null,null,null,null,"WGC 2018 - Std","PL",2018,46,3246,1.1199999999999999,3667,4107,null,null,"Discus 2b","YU","Není v databázi"]
["Pablo Vispe Sola",null,null,null,null,"WGC 2018 - Std","PL",2018,47,2704,1.1199999999999999,3000,3360,null,null,"ASW-24","EX","Není v databázi"]
["Roman Mracek",{"$f":"VLOOKUP(A343,Pilot,2,0)","v":1980},{"$f":"VLOOKUP(A343,Pilot,5,0)","v":"M"},{"$f":"VLOOKUP(A343,Pilot,3,0)","v":"Letkov"},{"$f":"VLOOKUP(A343,Pilot,4,0)","v":"CZ/C1"},"MAM 2018 - Kombi","SK",2018,1,7337,0,{"$f":"ROUND(J343/MAX($J$343:$J$352)*10000*0.7+(MAX($I$343:$I$352)-I343)/(MAX($I$343:$I$352)-1)*10000*0.3,0)","v":10000},0,null,null,"Duo Discus T","DL",""]
["Jurovicova & Jurovic",null,null,"SK",null,"MAM 2018 - Kombi","SK",2018,2,6767,0,{"$f":"ROUND(J344/MAX($J$343:$J$352)*10000*0.7+(MAX($I$343:$I$352)-I344)/(MAX($I$343:$I$352)-1)*10000*0.3,0)","v":9081},0,null,null,"Duo Discus","2X","Není v databázi"]
["Kollar & Kromka",null,null,"SK",null,"MAM 2018 - Kombi","SK",2018,3,6724,0,8665,0,null,null,"Arcus M","TA3","Není v databázi"]
["Kotvas & Simoncic",null,null,"SK",null,"MAM 2018 - Kombi","SK",2018,4,6411,0,7992,0,null,null,"DG 1000/20m","NIT","Není v databázi"]
["Dusan Bernat",null,null,"SK",null,"MAM 2018 - Kombi","SK",2018,5,5557,0,{"$f":"ROUND(J347/MAX($J$343:$J$352)*10000*0.7+(MAX($I$343:$I$352)-I347)/(MAX($I$343:$I$352)-1)*10000*0.3,0)","v":6802},0,null,null,"Ventus 17.6m","AD","Není v databázi"]
["Milan Lojdl",null,null,"SK",null,"MAM 2018 - Kombi","SK",2018,6,4638,0,5550,0,null,null,"Ventus 2cT/18m","MJ","Není v databázi"]
["Peter Skrabalek",null,null,"SK",null,"MAM 2018 - Kombi","SK",2018,7,4008,0,{"$f":"ROUND(J349/MAX($J$343:$J$352)*10000*0.7+(MAX($I$343:$I$352)-I349)/(MAX($I$343:$I$352)-1)*10000*0.3,0)","v":4574},0,null,null,"ASW 20","II","Není v databázi"]
["Jan Hrncirik",null,null,"SK",null,"MAM 2018 - Kombi","SK",2018,8,3981,0,4173,0,null,null,"Discus 2cT","JH","Není v databázi"]
["Mikula & Laho",null,null,"SK",null,"MAM 2018 - Kombi","SK",2018,9,2236,0,2133,0,null,null,"Janus CM FG","T","Není v databázi"]
["Jan Kovalcik",null,null,"SK",null,"MAM 2018 - Kombi","SK",2018,"HC",707,0,null,null,null,null,"Pegase","OI","Není v databázi","Mimo soutež, nenastoupil do prvního soutěžního dne"]
["Sebastian Kawa",null,null,"POL",null,"WSGP Final 2018 - 18m GP","CL",2018,1,44,1.0649999999999999,{"$f":"ROUND((MAX($I$353:$I$371)-I353)/(MAX($I$353:$I$371)-1)*10000,0)","v":10000},{"$f":"ROUND(K353*L353,0)","v":10650},null,null,"JS1C-EVO","P","Není v databázi"]
["Sebastian Nägel",null,null,"DEU",null,"WSGP Final 2018 - 18m GP","CL",2018,2,42,1.0649999999999999,{"$f":"ROUND((MAX($I$353:$I$371)-I354)/(MAX($I$353:$I$371)-1)*10000,0)","v":9412},10024,null,null,"Ventus-3T","WM","Není v databázi"]
["Mario Kiessling",null,null,"DEU",null,"WSGP Final 2018 - 18m GP","CL",2018,3,38,1.0649999999999999,8824,9398,null,null,"Ventus-3T","I","Není v databázi"]
["Werner Amann",null,null,"AUT",null,"WSGP Final 2018 - 18m GP","CL",2018,4,27,1.0649999999999999,8235,8770,null,null,"ASG 29","WG","Není v databázi"]
["Bostjan Pristavec",null,null,"SVN",null,"WSGP Final 2018 - 18m GP","CL",2018,5,20,1.0649999999999999,7647,8144,null,null,"JS1C-EVO","EJ","Není v databázi"]
["Didier Hauss",null,null,"FRA",null,"WSGP Final 2018 - 18m GP","CL",2018,6,19,1.0649999999999999,7059,7518,null,null,"Ventus-2cxa","DID","Není v databázi"]
["René Vidal",null,null,"CHL",null,"WSGP Final 2018 - 18m GP","CL",2018,7,17,1.0649999999999999,6471,6892,null,null,"Ventus-3T","AT","Není v databázi"]
["Thomas Gostner",null,null,"ITA",null,"WSGP Final 2018 - 18m GP","CL",2018,8,15,1.0649999999999999,5882,6264,null,null,"Ventus-3T","GT","Není v databázi"]
["Tilo Holighaus",null,null,"DEU",null,"WSGP Final 2018 - 18m GP","CL",2018,9,11,1.0649999999999999,5294,5638,null,null,"Ventus-3T","3V","Není v databázi"]
["Giorgio Galetto",null,null,"ITA",null,"WSGP Final 2018 - 18m GP","CL",2018,10,11,1.0649999999999999,4706,5012,null,null,"Ventus-3T","Y","Není v databázi"]
["Jon Gatfield",null,null,"GBR",null,"WSGP Final 2018 - 18m GP","CL",2018,11,8,1.0649999999999999,{"$f":"ROUND((MAX($I$353:$I$371)-I363)/(MAX($I$353:$I$371)-1)*10000,0)","v":4118},4386,null,null,"ASG 29Es","YO","Není v databázi"]
["Andres Errazuriz Beeche",null,null,"CHL",null,"WSGP Final 2018 - 18m GP","CL",2018,12,7,1.0649999999999999,3529,3758,null,null,"Ventus-2cT","GN","Není v databázi"]
["Łukasz Wójcik",null,null,"POL",null,"WSGP Final 2018 - 18m GP","CL",2018,13,6,1.0649999999999999,2941,3132,null,null,"ASG 29","PL","Není v databázi"]
["Fridolin Hauser",null,null,"CHE",null,"WSGP Final 2018 - 18m GP","CL",2018,14,5,1.0649999999999999,2353,2506,null,null,"ASG 29","4S","Není v databázi"]
["Gintas Zube",null,null,"LTU",null,"WSGP Final 2018 - 18m GP","CL",2018,15,5,1.0649999999999999,1765,1880,null,null,"ASG 29","AR","Není v databázi"]
["Roman Mracek",{"$f":"VLOOKUP(A368,Pilot,2,0)","v":1980},{"$f":"VLOOKUP(A368,Pilot,5,0)","v":"M"},{"$f":"VLOOKUP(A368,Pilot,3,0)","v":"Letkov"},{"$f":"VLOOKUP(A368,Pilot,4,0)","v":"CZ/C1"},"WSGP Final 2018 - 18m GP","CL",2018,16,2,1.0649999999999999,{"$f":"ROUND((MAX($I$353:$I$371)-I368)/(MAX($I$353:$I$371)-1)*10000,0)","v":1176},1252,null,null,"ASG 29E","QX",""]
["Tomas Reich",null,null,"CHL",null,"WSGP Final 2018 - 18m GP","CL",2018,17,1,1.0649999999999999,588,626,null,null,"Ventus-2cxM","ZZ","Není v databázi"]
["Mark Tingey",null,null,"NZL",null,"WSGP Final 2018 - 18m GP","CL",2018,18,0,1.0649999999999999,0,0,null,null,"JS1C-EVO","OB","Není v databázi"]
["Tom Kelley",null,null,"USA",null,"WSGP Final 2018 - 18m GP","CL",2018,18,0,1.0649999999999999,0,0,null,null,"ASH 26",11,"Není v databázi"]
["Zdenek Balcarek",{"$f":"VLOOKUP(A372,Pilot,2,0)","v":1967},{"$f":"VLOOKUP(A372,Pilot,5,0)","v":"M"},{"$f":"VLOOKUP(A372,Pilot,3,0)","v":"Kroměříž"},{"$f":"VLOOKUP(A372,Pilot,4,0)","v":"CZ/M"},"Adrenalin GP 2018 - Klub GP",null,2018,1,34,0.77,{"$f":"ROUND((MAX($I$372:$I$383)-I372)/(MAX($I$372:$I$383)-1)*10000,0)","v":10000},7700,null,null,"Std. Cirrus","ZL",""]
["Jan Ratz",1987,"M","Zbraslavice","CZ/C1","Adrenalin GP 2018 - Klub GP",null,2018,2,33,0.77,{"$f":"ROUND((MAX($I$372:$I$383)-I373)/(MAX($I$372:$I$383)-1)*10000,0)","v":9000},6930,null,null,"Std. Cirrus","REX",""]
["Rostislav Stryk",1972,"M","Frýdlant","CZ/M","Adrenalin GP 2018 - Klub GP",null,2018,3,25,0.77,8000,6160,"x",null,"Std. Cirrus",22,""]
["Jan Mareth",1979,"M","Frýdlant","CZ/M","Adrenalin GP 2018 - Klub GP",null,2018,4,23,0.77,7000,5390,"x",null,"ASW-15B","PA",""]
["Jiri Pelucha",1984,"M","Frýdlant","CZ/M","Adrenalin GP 2018 - Klub GP",null,2018,5,20,0.77,6000,4620,"x",null,"Std. Cirrus","IJ",""]
["Lumir Motyka",1955,"M","Frýdlant","CZ/M","Adrenalin GP 2018 - Klub GP",null,2018,6,19,0.77,{"$f":"ROUND((MAX($I$372:$I$383)-I377)/(MAX($I$372:$I$383)-1)*10000,0)","v":5000},3850,null,null,"LS 1f","EM",""]
["Stanislav Doskocil",1978,"M","Medlánky","CZ/M","Adrenalin GP 2018 - Klub GP",null,2018,7,14,0.77,4000,3080,"x",null,"Std. Cirrus","SD",""]
["Jan Matejovsky",1972,"M","Hranice","CZ/M","Adrenalin GP 2018 - Klub GP",null,2018,8,11,0.77,3000,2310,"x",null,"Std. Cirrus","HC",""]
["Vit Prokop",1987,"M","Medlánky","CZ/M","Adrenalin GP 2018 - Klub GP",null,2018,9,6,0.77,2000,1540,null,null,"Std. Cirrus","A7",""]
["Martin Svacina",1965,"M","Frýdlant","CZ/M","Adrenalin GP 2018 - Klub GP",null,2018,10,1,0.77,1000,770,"x",null,"Std. Cirrus","E",""]
["Radim Zielinski",1969,"M","Frýdlant","CZ/M","Adrenalin GP 2018 - Klub GP",null,2018,11,0,0.77,0,0,null,null,"G-102 Astir cs","BH",""]
["Daniel Suchy",1995,"M","Hranice","CZ/M","Adrenalin GP 2018 - Klub GP",null,2018,11,0,0.77,{"$f":"ROUND((MAX($I$372:$I$383)-I383)/(MAX($I$372:$I$383)-1)*10000,0)","v":0},0,null,null,"G-102 Astir cs","W7",""]
["Jaroslav Tomana",1975,"M","Zbraslavice","CZ/C1","AZ Cup 2018 - Klub","CZ",2018,1,3043,0.94500000000000006,{"$f":"ROUND(J384/MAX($J$384:$J$423)*10000*0.7+(MAX($I$384:$I$423)-I384)/(MAX($I$384:$I$423)-1)*10000*0.3,0)","v":10000},9450,null,null,"Cirrus Std.","SN",""]
["Ivan Novak",1962,"M","Mladá Boleslav","CZ/C1","AZ Cup 2018 - Klub","CZ",2018,2,3013,0.94500000000000006,{"$f":"ROUND(J385/MAX($J$384:$J$423)*10000*0.7+(MAX($I$384:$I$423)-I385)/(MAX($I$384:$I$423)-1)*10000*0.3,0)","v":9854},9312,null,null,"Cirrus Std.","DI",""]
["Zdenek Boruvka 86",1986,"M","Jičín","CZ/C2","AZ Cup 2018 - Klub","CZ",2018,3,3007,0.94500000000000006,9763,9226,null,null,"Cirrus Std.","BJ",""]
["David Mach",1994,"M","Hronov","CZ/C2","AZ Cup 2018 - Klub","CZ",2018,4,2802,0.94500000000000006,9215,8708,null,null,"Cirrus Std.","CX",""]
["Ivan Harasta 65",1965,"M","Toužim","CZ/C1","AZ Cup 2018 - Klub","CZ",2018,5,2663,0.94500000000000006,8818,8333,null,null,"ASW-15B","HI",""]
["Klara Teichmannova",1993,"F","Hronov","CZ/C2","AZ Cup 2018 - Klub","CZ",2018,6,2565,0.94500000000000006,8516,8048,null,null,"Cirrus Std.","LY",""]
["Jiri Fousek",1990,"M","Raná","CZ/C2","AZ Cup 2018 - Klub","CZ",2018,7,2528,0.94500000000000006,8354,7895,"x",null,"Cirrus Std.","XII",""]
["Anna Bordovska",1989,"F","Mladá Boleslav","CZ/C1","AZ Cup 2018 - Klub","CZ",2018,8,2480,{"$f":"VLOOKUP(F391,Soutez,12,0)","v":0.94500000000000006},8166,7717,"x","x","Cirrus Std.","BW",{"$f":"IF(ISERROR(VLOOKUP(A391,Pilot,6,0)),\"Není v databázi\",VLOOKUP(A391,Pilot,6,0))","v":""}]
["Jan Horak",1971,"M","Zbraslavice","CZ/C1","AZ Cup 2018 - Klub","CZ",2018,9,2407,0.94500000000000006,{"$f":"ROUND(J392/MAX($J$384:$J$423)*10000*0.7+(MAX($I$384:$I$423)-I392)/(MAX($I$384:$I$423)-1)*10000*0.3,0)","v":7922},7486,"x",null,"ASW 20 AWL","WX",""]
["Barbora Moravcova",1994,"F","Zbraslavice","CZ/C1","AZ Cup 2018 - Klub","CZ",2018,10,2363,0.94500000000000006,7743,7317,null,null,"ASW-19B","CF",""]
["Jakub Kmosek",1978,"M","Zbraslavice","CZ/C1","AZ Cup 2018 - Klub","CZ",2018,11,2255,0.94500000000000006,7418,7010,"x",null,"Cirrus Std.","ST",""]
["David Popovsky",1976,"M","Rakovník","CZ/C1","AZ Cup 2018 - Klub","CZ",2018,12,2233,0.94500000000000006,7291,6890,"x",null,"ASW 24",76,""]
["Lukas Koukal",1991,"M","Letkov","CZ/C1","AZ Cup 2018 - Klub","CZ",2018,13,2224,0.94500000000000006,7193,6797,null,null,"ASW-15B","T1",""]
["Frantisek Filandr",1956,"M","Most","CZ/C2","AZ Cup 2018 - Klub","CZ",2018,14,2206,0.94500000000000006,7075,6686,"x",null,"Cirrus Std.","FF",""]
["Martin Chovan",1973,"M","Zbraslavice","CZ/C1","AZ Cup 2018 - Klub","CZ",2018,15,2037,0.94500000000000006,6609,6246,"x",null,"ASW19B","FY",""]
["Radim Vadasz",1989,"M","Soběslav","CZ/C1","AZ Cup 2018 - Klub","CZ",2018,16,2034,0.94500000000000006,6525,6166,"x",null,"ASW-15A","ASW",""]
["Jindrich Hala",1989,"M","Rakovník","CZ/C1","AZ Cup 2018 - Klub","CZ",2018,17,1998,0.94500000000000006,6365,6015,"x",null,"Cirrus Std.","OG",""]
["Oldrich Houzvicka",1975,"M","Frýdlant","CZ/M","AZ Cup 2018 - Klub","CZ",2018,18,1973,0.94500000000000006,6231,5888,"x",null,"LS-1f","EM",""]
["Martin Grmela",1989,"M","Zbraslavice","CZ/C1","AZ Cup 2018 - Klub","CZ",2018,19,1966,0.94500000000000006,{"$f":"ROUND(J402/MAX($J$384:$J$423)*10000*0.7+(MAX($I$384:$I$423)-I402)/(MAX($I$384:$I$423)-1)*10000*0.3,0)","v":6138},5800,null,null,"G-102 Astir CS","MV",""]
["Michal Drab",1969,"M","Letkov","CZ/C1","AZ Cup 2018 - Klub","CZ",2018,20,1942,0.94500000000000006,6006,5676,null,null,"LS-1d","S3",""]
["Katerina Vojtova",{"$f":"VLOOKUP(A404,Pilot,2,0)","v":1983},{"$f":"VLOOKUP(A404,Pilot,5,0)","v":"F"},{"$f":"VLOOKUP(A404,Pilot,3,0)","v":"Slaný"},{"$f":"VLOOKUP(A404,Pilot,4,0)","v":"CZ/C1"},"AZ Cup 2018 - Klub","CZ",2018,21,1916,0.94500000000000006,5869,5546,"x","x","Cirrus Std.","KAC",""]
["Martin Urban",1971,"M","Frýdlant","CZ/M","AZ Cup 2018 - Klub","CZ",2018,22,1892,0.94500000000000006,5737,5421,"x",null,"LS-3A 15m","SJ",""]
["Jiri Hula",1973,"M","Slaný","CZ/C1","AZ Cup 2018 - Klub","CZ",2018,23,1890,0.94500000000000006,5655,5344,"x",null,"Cirrus Std.","TI",""]
["Matej Krestes",1986,"M","Slaný","CZ/C1","AZ Cup 2018 - Klub","CZ",2018,24,1818,0.94500000000000006,5413,5115,"x",null,"C201B Marianne","YL",""]
["Vojtech Novotny",1992,"M","Kralupy","CZ/C1","AZ Cup 2018 - Klub","CZ",2018,25,1791,0.94500000000000006,5274,4984,null,null,"LS-1f","EF",""]
["Petr Bartak",1984,"M","Letkov","CZ/C1","AZ Cup 2018 - Klub","CZ",2018,26,1588,0.94500000000000006,4730,4470,null,null,"Cirrus Std.","SR",""]
["Vaclav Svoboda",1970,"M","Letkov","CZ/C1","AZ Cup 2018 - Klub","CZ",2018,27,1580,0.94500000000000006,4635,4380,"x",null,"Cirrus Std.","W1",""]
["Jan Pubec",1979,"M","Plzeň Bory","CZ/C1","AZ Cup 2018 - Klub","CZ",2018,28,1394,0.94500000000000006,4130,3903,null,null,"Cirrus Std.","LM",""]
["Jan Zahradka",1981,"M","Hodkovice","CZ/C2","AZ Cup 2018 - Klub","CZ",2018,29,1388,0.94500000000000006,4039,3817,null,null,"Cirrus Std.","AR",""]
["David Sachl",1978,"M","Kralupy","CZ/C1","AZ Cup 2018 - Klub","CZ",2018,30,1305,0.94500000000000006,3771,3564,null,null,"DG-200","RZ",""]
["Lukas Kotek",1994,"M","Frýdlant","CZ/M","AZ Cup 2018 - Klub","CZ",2018,31,1178,0.94500000000000006,3402,3215,null,null,"G-102 Astir CS","W7",""]
["Tomas Jung",1950,"M","Zbraslavice","CZ/C1","AZ Cup 2018 - Klub","CZ",2018,32,1029,0.94500000000000006,2982,2818,null,null,"ASW-19B","O2",""]
["Ondrej Sindelar",1979,"M","Mladá Boleslav","CZ/C1","AZ Cup 2018 - Klub","CZ",2018,33,910,0.94500000000000006,2632,2487,null,null,"ASW-19B","OI",""]
["Petr Brezina",1963,"M","Frýdlant","CZ/M","AZ Cup 2018 - Klub","CZ",2018,34,908,0.94500000000000006,2550,{"$f":"ROUND(K417*L417,0)","v":2410},"x",null,"G-102 Astir CS","BH",""]
["Jan Konecny",1972,"M","Rakovník","CZ/C1","AZ Cup 2018 - Klub","CZ",2018,35,879,0.94500000000000006,2407,2275,"x",null,"LS-7",72,""]
["Tomas Hlavacek",1984,"M","Mladá Boleslav","CZ/C1","AZ Cup 2018 - Klub","CZ",2018,36,857,0.94500000000000006,2279,2154,null,null,"ASW-15B","MB",""]
["Jiri Hodan",1959,"M","Zbraslavice","CZ/C1","AZ Cup 2018 - Klub","CZ",2018,37,620,0.94500000000000006,1657,1566,"x",null,"G-103 Twin Astir","RB",""]
["Rudolf Jung",1954,"M","Zbraslavice","CZ/C1","AZ Cup 2018 - Klub","CZ",2018,38,494,0.94500000000000006,1290,1219,null,null,"Cirrus Std.","C1",""]
["Pavel Svrcek",1972,"M","Frýdlant","CZ/M","AZ Cup 2018 - Klub","CZ",2018,39,430,0.94500000000000006,1066,1007,"x",null,"DG-200","AK",""]
["Karel Ertl",1939,"M","LK Břeclav","CZ/M","AZ Cup 2018 - Klub","CZ",2018,40,318,0.94500000000000006,732,692,null,null,"TST 10M Atlas","KE",""]
["Roman Mracek",1980,"M","Letkov","CZ/C1","AZ Cup 2018 - Kombi","CZ",2018,1,3897,0.97500000000000009,{"$f":"ROUND(J424/MAX($J$424:$J$452)*10000*0.7+(MAX($I$424:$I$452)-I424)/(MAX($I$424:$I$452)-1)*10000*0.3,0)","v":10000},9750,null,null,"ASG 29E 18m","QX",""]
["Tomas Suchanek",1964,"M","GAC Benešov","CZ/C1","AZ Cup 2018 - Kombi","CZ",2018,2,3751,0.97500000000000009,{"$f":"ROUND(J425/MAX($J$424:$J$452)*10000*0.7+(MAX($I$424:$I$452)-I425)/(MAX($I$424:$I$452)-1)*10000*0.3,0)","v":9631},9390,null,null,"ASG 29E 18m","QZ",""]
["Petr Tichy",1973,"M","Zbraslavice","CZ/C1","AZ Cup 2018 - Kombi","CZ",2018,3,3607,0.97500000000000009,9265,9033,null,null,"ASG-29E 18m","AJ",""]
["Petr Koutny",1971,"M","Křižanov","CZ/M","AZ Cup 2018 - Kombi","CZ",2018,4,3550,0.97500000000000009,9055,8829,null,null,"LS 8b 18m","SK",""]
["Michal Lesinger",1966,"M","Moravská Třebová","CZ/M","AZ Cup 2018 - Kombi","CZ",2018,5,3443,0.97500000000000009,8756,8537,null,null,"ASG-32 Mi 850kg","DX",""]
["Radek Krejcirik",1991,"M","Hranice","CZ/M","AZ Cup 2018 - Kombi","CZ",2018,6,3364,0.97500000000000009,8507,8294,null,null,"Ventus 2 ax","AX",""]
["Petr Hotovy",1958,"M","Česká Lípa","CZ/C2","AZ Cup 2018 - Kombi","CZ",2018,7,3350,0.97500000000000009,8375,8166,"x",null,"JS-1B 18m","IGC",""]
["Alena Netusilova",1970,"F","Zbraslavice","CZ/C1","AZ Cup 2018 - Kombi","CZ",2018,8,3324,0.97500000000000009,8221,8015,null,null,"JS-1C 18m EVO","JX",""]
["Lenka Kuthanova",1960,"F","Tábor","CZ/C1","AZ Cup 2018 - Kombi","CZ",2018,9,3202,0.97500000000000009,7894,7697,"x","x","JS-1C 18m EVO","LX",""]
["Martin Pekar",1973,"M","Šumperk","CZ/M","AZ Cup 2018 - Kombi","CZ",2018,10,3027,0.97500000000000009,7473,7286,"x",null,"HPH 304 ES 18m 600kg","ES",""]
["Martin Hrivna",1978,"M","Zbraslavice","CZ/C1","AZ Cup 2018 - Kombi","CZ",2018,11,3024,0.97500000000000009,7360,7176,"x",null,"ASG 29E 18m","NX",""]
["Petr Starek",1974,"M","Zbraslavice","CZ/C1","AZ Cup 2018 - Kombi","CZ",2018,12,2926,0.97500000000000009,7077,6900,"x",null,"HPH 304 SJ 18m 573kg",66,""]
["Ondrej Dupal",{"$f":"VLOOKUP(A436,Pilot,2,0)","v":1966},{"$f":"VLOOKUP(A436,Pilot,5,0)","v":"M"},{"$f":"VLOOKUP(A436,Pilot,3,0)","v":"GAC Benešov"},{"$f":"VLOOKUP(A436,Pilot,4,0)","v":"CZ/C1"},"AZ Cup 2018 - Kombi","CZ",2018,13,2877,0.97500000000000009,6882,6710,null,null,"ASG-29E 18m","GO",""]
["Martin Vnoucek",1972,"M","Vlašim","CZ/C1","AZ Cup 2018 - Kombi","CZ",2018,14,2844,0.97500000000000009,6716,6548,"x",null,"Ventus 2 cxt 18m 600kg","PX",""]
["Tomas Malik",1972,"M","Letňany","CZ/C1","AZ Cup 2018 - Kombi","CZ",2018,15,2834,0.97500000000000009,6591,6426,"x",null,"Ventus 2 cm 18m 525kg","JT",""]
["Jaromir Jedlicka",1972,"M","Letňany","CZ/C1","AZ Cup 2018 - Kombi","CZ",2018,16,2832,0.97500000000000009,6480,6318,"x",null,"Ventus b/16,6m 485kg","JET",""]
["Jan Boruvka",1984,"M","Jičín","CZ/C2","AZ Cup 2018 - Kombi","CZ",2018,17,2809,0.97500000000000009,6331,6173,null,null,"Ventus c","EG",""]
["Jan Kantor",1983,"M","Letňany","CZ/C1","AZ Cup 2018 - Kombi","CZ",2018,18,2764,0.97500000000000009,6143,5989,"x",null,"Ventus c 17,6m","UC",""]
["Jan Dersak 69",1969,"M","Kralupy","CZ/C1","AZ Cup 2018 - Kombi","CZ",2018,19,2702,0.97500000000000009,5925,5777,null,null,"HPH 304 CZ 17,4m","DJ",""]
["Michal Kratochvil",1984,"M","Slaný","CZ/C1","AZ Cup 2018 - Kombi","CZ",2018,20,2534,0.97500000000000009,5516,5378,"x",null,"Ventus b 15m","S6",""]
["Tomas Rendla",1973,"M","Zbraslavice","CZ/C1","AZ Cup 2018 - Kombi","CZ",2018,21,2510,0.97500000000000009,5366,5232,null,null,"Arcus M","EY",""]
["Hana Treslova",1991,"F","Raná","CZ/C2","AZ Cup 2018 - Kombi","CZ",2018,22,2362,0.97500000000000009,4993,4868,null,null,"LS-8A 15m","EU",""]
["Karel Benisek 76",1976,"M","Toužim","CZ/C1","AZ Cup 2018 - Kombi","CZ",2018,23,2327,0.97500000000000009,4823,4702,null,null,"Ventus ct 17.6m","KB",""]
["Dana Novakova",1965,"F","Mladá Boleslav","CZ/C1","AZ Cup 2018 - Kombi","CZ",2018,24,2241,0.97500000000000009,4561,4447,null,null,"LS-8b 15m","AU",""]
["Karel Krobath",null,null,null,"AT","AZ Cup 2018 - Kombi","CZ",2018,25,2177,0.97500000000000009,{"$f":"ROUND(J448/MAX($J$424:$J$452)*10000*0.7+(MAX($I$424:$I$452)-I448)/(MAX($I$424:$I$452)-1)*10000*0.3,0)","v":4339},4231,null,null,"HPH 304 MS Shark 18m 600kg","Q","Není v databázi"]
["Jiri Prochazka",{"$f":"VLOOKUP(A449,Pilot,2,0)","v":1971},{"$f":"VLOOKUP(A449,Pilot,5,0)","v":"M"},{"$f":"VLOOKUP(A449,Pilot,3,0)","v":"Toužim"},{"$f":"VLOOKUP(A449,Pilot,4,0)","v":"CZ/C1"},"AZ Cup 2018 - Kombi","CZ",2018,26,1914,0.97500000000000009,3759,3665,null,null,"DG 500 22m","SR",""]
["Petr Jiranek 63",{"$f":"VLOOKUP(A450,Pilot,2,0)","v":1962},{"$f":"VLOOKUP(A450,Pilot,5,0)","v":"M"},{"$f":"VLOOKUP(A450,Pilot,3,0)","v":"Toužim"},{"$f":"VLOOKUP(A450,Pilot,4,0)","v":"CZ/C1"},"AZ Cup 2018 - Kombi","CZ",2018,27,1799,0.97500000000000009,3446,3360,null,null,"Ventus cm 17m","SW",""]
["Eva Cerna",{"$f":"VLOOKUP(A451,Pilot,2,0)","v":1964},{"$f":"VLOOKUP(A451,Pilot,5,0)","v":"F"},{"$f":"VLOOKUP(A451,Pilot,3,0)","v":"Příbram"},{"$f":"VLOOKUP(A451,Pilot,4,0)","v":"CZ/C1"},"AZ Cup 2018 - Kombi","CZ",2018,28,1601,0.97500000000000009,2983,2908,null,null,"Ventus 2 cxt 18m 600kg","EK",""]
["Roman Lanzendorf",{"$f":"VLOOKUP(A452,Pilot,2,0)","v":1964},{"$f":"VLOOKUP(A452,Pilot,5,0)","v":"M"},{"$f":"VLOOKUP(A452,Pilot,3,0)","v":"Letkov"},{"$f":"VLOOKUP(A452,Pilot,4,0)","v":"CZ/C1"},"AZ Cup 2018 - Kombi","CZ",2018,29,1027,0.97500000000000009,1845,1799,null,null,"Ventus ct 17.6m","AS",""]
["Viliam Kubovcik",null,null,"AK Poprad",null,"Fatraglide 2018 - Kombi","SK",2018,1,4486,0.77500000000000002,{"$f":"ROUND(J453/MAX($J$453:$J$466)*10000*0.7+(MAX($I$453:$I$466)-I453)/(MAX($I$453:$I$466)-1)*10000*0.3,0)","v":10000},7750,null,null,"Ventus 2cxT/18m","VV","Není v databázi"]
["Jakubcak & Jesensky",null,null,"SGC Martin",null,"Fatraglide 2018 - Kombi","SK",2018,2,4314,0.77500000000000002,{"$f":"ROUND(J454/MAX($J$453:$J$466)*10000*0.7+(MAX($I$453:$I$466)-I454)/(MAX($I$453:$I$466)-1)*10000*0.3,0)","v":9501},7363,null,null,"Arcus M","CAR","Není v databázi"]
["Somol & Cirjak",null,null,"SGC Martin",null,"Fatraglide 2018 - Kombi","SK",2018,3,4107,{"$f":"VLOOKUP(F455,Soutez,12,0)","v":0.77500000000000002},8947,6934,null,null,"Duo Discus W (700kg)","SGC",{"$f":"IF(ISERROR(VLOOKUP(A455,Pilot,6,0)),\"Není v databázi\",VLOOKUP(A455,Pilot,6,0))","v":"Není v databázi"}]
["Viktoria Divokova",null,null,"AK Spisska Nova Ves",null,"Fatraglide 2018 - Kombi","SK",2018,4,4098,0.77500000000000002,8702,6744,null,null,"Discus CS","3D","Není v databázi"]
["Maros Divok",null,null,"AK Spisska Nova Ves",null,"Fatraglide 2018 - Kombi","SK",2018,5,3973,0.77500000000000002,8276,6414,null,null,"Discus 2b","DI","Není v databázi"]
["Vaclav Hruza",{"$f":"VLOOKUP(A458,Pilot,2,0)","v":1965},{"$f":"VLOOKUP(A458,Pilot,5,0)","v":"M"},{"$f":"VLOOKUP(A458,Pilot,3,0)","v":"Břeclav"},{"$f":"VLOOKUP(A458,Pilot,4,0)","v":"CZ/M"},"Fatraglide 2018 - Kombi","SK",2018,6,377,0.77500000000000002,{"$f":"ROUND(J458/MAX($J$453:$J$466)*10000*0.7+(MAX($I$453:$I$466)-I458)/(MAX($I$453:$I$466)-1)*10000*0.3,0)","v":2434},1886,null,null,"HPH 304SJ Shark","TH",""]
["Jan Divok",null,null,"AK Spisska Nova Ves",null,"Fatraglide 2018 - Kombi","SK",2018,7,3637,0.77500000000000002,7291,5651,null,null,"Discus 2CT/18m","DJ","Není v databázi"]
["Peter Pokorny",null,null,"AK Bratislava",null,"Fatraglide 2018 - Kombi","SK",2018,8,3363,0.77500000000000002,6632,5140,null,null,"DG 800S/18m","YB","Není v databázi"]
["Jozef Pesko",null,null,"AK Nitra",null,"Fatraglide 2018 - Kombi","SK",2018,9,3062,0.77500000000000002,5932,4597,null,null,"LS 8T/18m","HM","Není v databázi"]
["Pekka, Marjamaa",null,null,"Kuopion Ilmailuyhdistys",null,"Fatraglide 2018 - Kombi","SK",2018,10,2792,0.77500000000000002,5280,4092,null,null,"Discus 2b","M","Není v databázi"]
["Milan Lojdl",null,null,"AK Martin",null,"Fatraglide 2018 - Kombi","SK",2018,11,2447,0.77500000000000002,4511,3496,null,null,"Ventus 2cxT/18m","MJ1","Není v databázi"]
["Dusan Bernat",null,null,"LSV Kreis Pinneberg",null,"Fatraglide 2018 - Kombi","SK",2018,12,2369,0.77500000000000002,4158,3222,null,null,"Ventus C","AD","Není v databázi"]
["Drahomira Divokova",null,null,"AK Spisska Nova Ves",null,"Fatraglide 2018 - Kombi","SK",2018,13,1979,0.77500000000000002,3319,2572,null,null,"Ventus C 15m","D3","Není v databázi"]
["Anna Zadrozna",null,null,"Aeroklub Warszawski",null,"Fatraglide 2018 - Kombi","SK",2018,14,800,0.77500000000000002,1248,967,null,null,"LS 6a 15m","BB","Není v databázi"]
["Tim Milner",null,null,"Wolds gliding Club",null,"FCC 2018 - Klub","SK",2018,1,5808,0.96000000000000008,{"$f":"ROUND(J467/MAX($J$467:$J$513)*10000*0.7+(MAX($I$467:$I$513)-I467)/(MAX($I$467:$I$513)-1)*10000*0.3,0)","v":10000},9600,null,null,"Std. Cirrus","VS","Není v databázi"]
["Jacek Flis",null,null,"Ziemi Zamojskiej / KKGT",null,"FCC 2018 - Klub","SK",2018,2,5743,0.96000000000000008,{"$f":"ROUND(J468/MAX($J$467:$J$513)*10000*0.7+(MAX($I$467:$I$513)-I468)/(MAX($I$467:$I$513)-1)*10000*0.3,0)","v":9856},9462,null,null,"SZD-48 Jantar std. 2","VI","Není v databázi"]
["Uwe Wahlig",null,null,"Segelfluggruppe Bensheim e.V.",null,"FCC 2018 - Klub","SK",2018,3,5737,0.96000000000000008,9784,9393,null,null,"LS-3 WL /15m","SN","Není v databázi"]
["David Mach",{"$f":"VLOOKUP(A470,Pilot,2,0)","v":1994},{"$f":"VLOOKUP(A470,Pilot,5,0)","v":"M"},{"$f":"VLOOKUP(A470,Pilot,3,0)","v":"Hronov"},{"$f":"VLOOKUP(A470,Pilot,4,0)","v":"CZ/C2"},"FCC 2018 - Klub","SK",2018,4,5618,0.96000000000000008,9575,9192,null,null,"Std. Cirrus","CX",""]
["Adam Woolley",null,null,"Kingaroy",null,"FCC 2018 - Klub","SK",2018,5,5395,0.96000000000000008,9241,8871,null,null,"Cirrus STD","XII","Není v databázi"]
["Darius Gudziunas",null,null,"Vilniaus Aeroklubas",null,"FCC 2018 - Klub","SK",2018,6,5294,0.96000000000000008,9054,8692,null,null,"SZD-48 Jantar std. 2","NE","Není v databázi"]
["Jan Ratz",{"$f":"VLOOKUP(A473,Pilot,2,0)","v":1987},{"$f":"VLOOKUP(A473,Pilot,5,0)","v":"M"},{"$f":"VLOOKUP(A473,Pilot,3,0)","v":"Zbraslavice"},{"$f":"VLOOKUP(A473,Pilot,4,0)","v":"CZ/C1"},"FCC 2018 - Klub","SK",2018,7,5161,0.96000000000000008,8829,8476,"x",null,"Std. Cirrus",7,""]
["Zbigniew Górecki",null,null,"Łódź",null,"FCC 2018 - Klub","SK",2018,8,5101,0.96000000000000008,8691,8343,null,null,"LS1-f","C","Není v databázi"]
["Marek Sawczuk",null,null,"Warszawski",null,"FCC 2018 - Klub","SK",2018,9,5024,0.96000000000000008,8533,8192,null,null,"ASW 20","SB","Není v databázi"]
["Krzysztof Sobiecki",null,null,"Bydgoski",null,"FCC 2018 - Klub","SK",2018,10,4988,0.96000000000000008,8425,8088,null,null,"SZD-48 Jantar std. 2","UT","Není v databázi"]
["Tomasz Krok",null,null,"Leszno",null,"FCC 2018 - Klub","SK",2018,11,4925,0.96000000000000008,8284,7953,null,null,"SZD-48 Jantar std. 3","BZ","Není v databázi"]
["Jiri Fousek",{"$f":"VLOOKUP(A478,Pilot,2,0)","v":1990},{"$f":"VLOOKUP(A478,Pilot,5,0)","v":"M"},{"$f":"VLOOKUP(A478,Pilot,3,0)","v":"Raná"},{"$f":"VLOOKUP(A478,Pilot,4,0)","v":"CZ/C2"},"FCC 2018 - Klub","SK",2018,12,4891,0.96000000000000008,8177,7850,null,null,"Std. Cirrus","LW",""]
["Zdenek Balcarek",{"$f":"VLOOKUP(A479,Pilot,2,0)","v":1967},{"$f":"VLOOKUP(A479,Pilot,5,0)","v":"M"},{"$f":"VLOOKUP(A479,Pilot,3,0)","v":"Kroměříž"},{"$f":"VLOOKUP(A479,Pilot,4,0)","v":"CZ/M"},"FCC 2018 - Klub","SK",2018,13,4855,0.96000000000000008,8069,7746,"x",null,"Std. Cirrus","ZL",""]
["Oliver Sven",null,null,"Cape Gliding Club",null,"FCC 2018 - Klub","SK",2018,14,4772,0.96000000000000008,7904,7588,null,null,"Std. Cirrus","UY","Není v databázi"]
["Stanislaw Wujczak",null,null,"Leszczyński",null,"FCC 2018 - Klub","SK",2018,15,4757,0.96000000000000008,7820,{"$f":"ROUND(K481*L481,0)","v":7507},null,null,"SZD-48 Jantar std. 3","FSJ","Není v databázi"]
["Petra Piskata",{"$f":"VLOOKUP(A482,Pilot,2,0)","v":1989},{"$f":"VLOOKUP(A482,Pilot,5,0)","v":"F"},{"$f":"VLOOKUP(A482,Pilot,3,0)","v":"Luhačovice"},{"$f":"VLOOKUP(A482,Pilot,4,0)","v":"CZ/M"},"FCC 2018 - Klub","SK",2018,16,4728,0.96000000000000008,7720,7411,null,null,"Std. Cirrus","XC",""]
["Mikolaj Zdun",null,null,"Aeroklub Leszno",null,"FCC 2018 - Klub","SK",2018,17,4568,0.96000000000000008,7462,7164,null,null,"SZD-48 Jantar std. 2","SCH","Není v databázi"]
["Arkadiusz Downar",null,null,"Warmińsko-Mazurski",null,"FCC 2018 - Klub","SK",2018,18,4531,0.96000000000000008,7352,7058,null,null,"Centrair C-101A Pegase","EM","Není v databázi"]
["Ferenc Tamas",null,null,"Szeged",null,"FCC 2018 - Klub","SK",2018,19,4523,0.96000000000000008,7277,6986,null,null,"LS-3 /15m","1A","Není v databázi"]
["Arkadiusz Bajura",null,null,"Czestochowa",null,"FCC 2018 - Klub","SK",2018,20,4483,0.96000000000000008,7164,6877,null,null,"Mini-Nimbus c","CC","Není v databázi"]
["Frantisek Pycha",{"$f":"VLOOKUP(A487,Pilot,2,0)","v":1972},{"$f":"VLOOKUP(A487,Pilot,5,0)","v":"M"},{"$f":"VLOOKUP(A487,Pilot,3,0)","v":"Chrudim"},{"$f":"VLOOKUP(A487,Pilot,4,0)","v":"CZ/C2"},"FCC 2018 - Klub","SK",2018,21,4288,0.96000000000000008,6864,6589,"x",null,"Std. Cirrus","JE",""]
["Marek Herbreder",null,null,"Szcecin",null,"FCC 2018 - Klub","SK",2018,22,4189,0.96000000000000008,6679,6412,null,null,"SZD-55 Promyk","TK","Není v databázi"]
["Attila Korom",null,null,"ARK",null,"FCC 2018 - Klub","SK",2018,23,4167,0.96000000000000008,6587,6324,null,null,"ASW 20","MC","Není v databázi"]
["Peter Kassai",null,null,"MALEV",null,"FCC 2018 - Klub","SK",2018,24,4132,0.96000000000000008,6480,6221,null,null,"Discus","7W","Není v databázi"]
["Piotr Ligwinski",null,null,"Czestochova",null,"FCC 2018 - Klub","SK",2018,25,4111,0.96000000000000008,6390,6134,null,null,"SZD-48 Jantar std. 3","DA","Není v databázi"]
["Karol Pawlicki",null,null,"Stalowowolski",null,"FCC 2018 - Klub","SK",2018,26,4070,0.96000000000000008,6275,6024,null,null,"SZD-48 Jantar std. 3","BK","Není v databázi"]
["Tomasz Smolski",null,null,"Radomski",null,"FCC 2018 - Klub","SK",2018,27,3912,0.96000000000000008,6019,5778,null,null,"SZD-48 Jantar std. 3","VY","Není v databázi"]
["Andrius Tamulenas",null,null,"Vilnianus aeroklubas",null,"FCC 2018 - Klub","SK",2018,28,3752,0.96000000000000008,5761,5531,null,null,"LS-4","IK","Není v databázi"]
["Slavomir Piskaty 84",{"$f":"VLOOKUP(A495,Pilot,2,0)","v":1984},{"$f":"VLOOKUP(A495,Pilot,5,0)","v":"M"},{"$f":"VLOOKUP(A495,Pilot,3,0)","v":"Kunovice"},{"$f":"VLOOKUP(A495,Pilot,4,0)","v":"CZ/M"},"FCC 2018 - Klub","SK",2018,29,3731,0.96000000000000008,5671,5444,null,null,"Std. Cirrus","PIF",""]
["Fryderyk Rzymanek",null,null,"Radomski",null,"FCC 2018 - Klub","SK",2018,30,3690,0.96000000000000008,5556,5334,null,null,"SZD-48 Jantar std. 3","FR","Není v databázi"]
["Peter Gonczi",null,null,"Malev",null,"FCC 2018 - Klub","SK",2018,31,3631,0.96000000000000008,5420,5203,null,null,"Janus C (FG)","DD","Není v databázi"]
["Lumir Motyka",{"$f":"VLOOKUP(A498,Pilot,2,0)","v":1955},{"$f":"VLOOKUP(A498,Pilot,5,0)","v":"M"},{"$f":"VLOOKUP(A498,Pilot,3,0)","v":"Frýdlant"},{"$f":"VLOOKUP(A498,Pilot,4,0)","v":"CZ/M"},"FCC 2018 - Klub","SK",2018,32,3616,0.96000000000000008,{"$f":"ROUND(J498/MAX($J$467:$J$513)*10000*0.7+(MAX($I$467:$I$513)-I498)/(MAX($I$467:$I$513)-1)*10000*0.3,0)","v":5336},5123,null,null,"LS-1f","EMI",""]
["Krzysztof Kotarski",null,null,"Aeroklub Nadwiślańsk",null,"FCC 2018 - Klub","SK",2018,33,3615,0.96000000000000008,5270,5059,null,null,"ASW-19B","J1","Není v databázi"]
["Rafal Siankowski",null,null,"Radomski",null,"FCC 2018 - Klub","SK",2018,34,3603,0.96000000000000008,5190,4982,null,null,"SZD-48 Jantar std. 3","AA","Není v databázi"]
["Piotr Jaszczuk",null,null,"Aeroklub Orlat Deblin",null,"FCC 2018 - Klub","SK",2018,35,3268,0.96000000000000008,4721,4532,null,null,"ASW 19B","JAY","Není v databázi"]
["Andrzej Szczerba",null,null,"Leszcznski",null,"FCC 2018 - Klub","SK",2018,36,3066,0.96000000000000008,4413,4236,null,null,"SZD-48 Jantar std. 2","MZ","Není v databázi"]
["Wojciech Izdebski",null,null,"Gdansk",null,"FCC 2018 - Klub","SK",2018,37,3014,0.96000000000000008,4285,4114,null,null,"DG 100","G1","Není v databázi"]
["Juliusz Pieniazek",null,null,"Podhalanski",null,"FCC 2018 - Klub","SK",2018,38,2901,0.96000000000000008,4083,3920,null,null,"SZD-55 Promyk","QQ","Není v databázi"]
["Lukas Benedikt",null,null,"AK Trnava",null,"FCC 2018 - Klub","SK",2018,39,2810,0.96000000000000008,3908,3752,null,null,"Janus CM (FG)","T","Není v databázi"]
["Aleksandar Diklic",null,null,"Zrenjanin",null,"FCC 2018 - Klub","SK",2018,40,2441,0.96000000000000008,3398,3262,null,null,"DG-100",30,"Není v databázi"]
["Jaroslaw Michaluk",null,null,"Radomski",null,"FCC 2018 - Klub","SK",2018,41,2139,0.96000000000000008,2969,2850,null,null,"SZD-48 Jantar","LK","Není v databázi"]
["Konrad Jaczkowski",null,null,"Częstochowski",null,"FCC 2018 - Klub","SK",2018,42,2041,0.96000000000000008,2786,2675,null,null,"Discus CS","VE","Není v databázi"]
["Jerzy Mikolajczyk",null,null,"AZM Plock",null,"FCC 2018 - Klub","SK",2018,43,2005,0.96000000000000008,2677,2570,null,null,"LS-4","YL","Není v databázi"]
["Agata Kaszczuk",null,null,"Wrocław",null,"FCC 2018 - Klub","SK",2018,44,1935,0.96000000000000008,2528,2427,null,null,"LS-1f","MRrrr","Není v databázi"]
["Gerhard Cieply",null,null,"Aeroklub Leszczyński",null,"FCC 2018 - Klub","SK",2018,45,1867,0.96000000000000008,2381,2286,null,null,"LS1-f","GC","Není v databázi"]
["Krzysztof Pienkowski",null,null,"Bielsko-Bialski",null,"FCC 2018 - Klub","SK",2018,46,1284,0.96000000000000008,1613,1548,null,null,"LS 4","KP","Není v databázi"]
["Daniel Nowicki",null,null,"Aeroklub Bydgoski",null,"FCC 2018 - Klub","SK",2018,47,935,0.96000000000000008,1127,1082,null,null,"ASW-19B","DN","Není v databázi"]
["Miloslav Cink",{"$f":"VLOOKUP(A514,Pilot,2,0)","v":1987},{"$f":"VLOOKUP(A514,Pilot,5,0)","v":"M"},{"$f":"VLOOKUP(A514,Pilot,3,0)","v":"Letkov"},{"$f":"VLOOKUP(A514,Pilot,4,0)","v":"CZ/C1"},"FCC 2018 - Kombi 15m","SK",2018,1,4950,0.995,{"$f":"ROUND(J514/MAX($J$514:$J$546)*10000*0.7+(MAX($I$514:$I$546)-I514)/(MAX($I$514:$I$546)-1)*10000*0.3,0)","v":10000},9950,null,null,"LS-8b","JB",""]
["Pavel Louzecky",{"$f":"VLOOKUP(A515,Pilot,2,0)","v":1957},{"$f":"VLOOKUP(A515,Pilot,5,0)","v":"M"},{"$f":"VLOOKUP(A515,Pilot,3,0)","v":"Přibyslav"},{"$f":"VLOOKUP(A515,Pilot,4,0)","v":"CZ/C2"},"FCC 2018 - Kombi 15m","SK",2018,2,4923,0.995,{"$f":"ROUND(J515/MAX($J$514:$J$546)*10000*0.7+(MAX($I$514:$I$546)-I515)/(MAX($I$514:$I$546)-1)*10000*0.3,0)","v":9868},9819,null,null,"LS-8a","FX",""]
["Mateusz Siodloczek",null,null,"Rybnik",null,"FCC 2018 - Kombi 15m","SK",2018,3,4889,0.995,9726,9677,null,null,"Discus 2a","Y","Není v databázi"]
["Norbert Alin Scarlat",null,null,"Romanian Airclub",null,"FCC 2018 - Kombi 15m","SK",2018,4,4818,0.995,9532,9484,null,null,"Discus 2a /15m","YBI","Není v databázi"]
["Radek Krejcirik",{"$f":"VLOOKUP(A518,Pilot,2,0)","v":1991},{"$f":"VLOOKUP(A518,Pilot,5,0)","v":"M"},{"$f":"VLOOKUP(A518,Pilot,3,0)","v":"Hranice"},{"$f":"VLOOKUP(A518,Pilot,4,0)","v":"CZ/M"},"FCC 2018 - Kombi 15m","SK",2018,5,4631,0.995,9174,9128,null,null,"Ventus 2a /15m","AX",""]
["Jan Pavlik",{"$f":"VLOOKUP(A519,Pilot,2,0)","v":1987},{"$f":"VLOOKUP(A519,Pilot,5,0)","v":"M"},{"$f":"VLOOKUP(A519,Pilot,3,0)","v":"Křižanov"},{"$f":"VLOOKUP(A519,Pilot,4,0)","v":"CZ/M"},"FCC 2018 - Kombi 15m","SK",2018,6,4619,{"$f":"VLOOKUP(F519,Soutez,12,0)","v":0.995},9063,9018,null,null,"LS-8","JW",{"$f":"IF(ISERROR(VLOOKUP(A519,Pilot,6,0)),\"Není v databázi\",VLOOKUP(A519,Pilot,6,0))","v":""}]
["Ondrej Bordovsky",{"$f":"VLOOKUP(A520,Pilot,2,0)","v":1983},{"$f":"VLOOKUP(A520,Pilot,5,0)","v":"M"},{"$f":"VLOOKUP(A520,Pilot,3,0)","v":"Krnov"},{"$f":"VLOOKUP(A520,Pilot,4,0)","v":"CZ/M"},"FCC 2018 - Kombi 15m","SK",2018,7,4599,0.995,8941,8896,null,null,"ASG-29E /15m -525kgQZ","QZ",""]
["Maros Divok",null,null,"SNV",null,"FCC 2018 - Kombi 15m","SK",2018,8,4586,0.995,8829,8785,null,null,"Discus 2b","DI","Není v databázi"]
["Lukasz Grabowski",null,null,"Aeroklub Wloclawski",null,"FCC 2018 - Kombi 15m","SK",2018,9,4483,0.995,8590,8547,null,null,"SZD-56-2 Diana-2","RP","Není v databázi"]
["Arturas Klimasauskas",null,null,"Pociunai (Kaunas Gliding Club)",null,"FCC 2018 - Kombi 15m","SK",2018,10,4163,0.995,8043,8003,null,null,"LS-6","HX","Není v databázi"]
["Alex Pop",null,null,"Romanian Airclub",null,"FCC 2018 - Kombi 15m","SK",2018,11,4088,0.995,7844,7805,null,null,"Discus 2a /15m","YA","Není v databázi"]
["Jana Treslova",{"$f":"VLOOKUP(A525,Pilot,2,0)","v":1963},{"$f":"VLOOKUP(A525,Pilot,5,0)","v":"F"},{"$f":"VLOOKUP(A525,Pilot,3,0)","v":"Raná"},{"$f":"VLOOKUP(A525,Pilot,4,0)","v":"CZ/C2"},"FCC 2018 - Kombi 15m","SK",2018,12,3853,0.995,7417,7380,null,null,"LS 8","EU",""]
["Dariusz Czech",null,null,"Stalowowolski",null,"FCC 2018 - Kombi 15m","SK",2018,13,3822,0.995,7280,7244,null,null,"LAK 19 15m","DC","Není v databázi"]
["Tibor Arpas",null,null,"Nitra",null,"FCC 2018 - Kombi 15m","SK",2018,14,3797,0.995,7151,7115,null,null,"LS-8st /15m","HM","Není v databázi"]
["Jiri Kusbach",{"$f":"VLOOKUP(A528,Pilot,2,0)","v":1959},null,{"$f":"VLOOKUP(A528,Pilot,3,0)","v":"Luhačovice"},{"$f":"VLOOKUP(A528,Pilot,4,0)","v":"CZ/M"},"FCC 2018 - Kombi 15m","SK",2018,15,3561,0.995,6723,6689,null,null,"KKB 15E-FES","B",""]
["Dana Novakova",{"$f":"VLOOKUP(A529,Pilot,2,0)","v":1965},{"$f":"VLOOKUP(A529,Pilot,5,0)","v":"F"},{"$f":"VLOOKUP(A529,Pilot,3,0)","v":"Mladá Boleslav"},{"$f":"VLOOKUP(A529,Pilot,4,0)","v":"CZ/C1"},"FCC 2018 - Kombi 15m","SK",2018,16,3532,0.995,6588,6555,null,null,"LS 8","AU",""]
["Jan Viskot",{"$f":"VLOOKUP(A530,Pilot,2,0)","v":1995},{"$f":"VLOOKUP(A530,Pilot,5,0)","v":"M"},{"$f":"VLOOKUP(A530,Pilot,3,0)","v":"Břeclav"},{"$f":"VLOOKUP(A530,Pilot,4,0)","v":"CZ/M"},"FCC 2018 - Kombi 15m","SK",2018,17,3486,0.995,6430,6398,null,null,"Discus 2a /15m","GX",""]
["Judyta Czyż",null,null,"Bielsko Bialski",null,"FCC 2018 - Kombi 15m","SK",2018,18,3341,0.995,6131,6100,null,null,"LS-8","LOT","Není v databázi"]
["Slavomir Valecko",{"$f":"VLOOKUP(A532,Pilot,2,0)","v":1960},{"$f":"VLOOKUP(A532,Pilot,5,0)","v":"M"},{"$f":"VLOOKUP(A532,Pilot,3,0)","v":"Hranice"},{"$f":"VLOOKUP(A532,Pilot,4,0)","v":"CZ/M"},"FCC 2018 - Kombi 15m","SK",2018,19,3153,0.995,5771,5742,"x",null,"Discus CS","IYB",""]
["Pavel Trojan",{"$f":"VLOOKUP(A533,Pilot,2,0)","v":1960},{"$f":"VLOOKUP(A533,Pilot,5,0)","v":"M"},{"$f":"VLOOKUP(A533,Pilot,3,0)","v":"Chrudim"},{"$f":"VLOOKUP(A533,Pilot,4,0)","v":"CZ/C2"},"FCC 2018 - Kombi 15m","SK",2018,20,3105,0.995,5610,5582,"x",null,"Duo Discus T (700kg)","ZS",""]
["Joanna Biedermann",null,null,"Aeroclub Nadwislanski",null,"FCC 2018 - Kombi 15m","SK",2018,21,3020,0.995,5396,5369,null,null,"Discus 2a /15m","I","Není v databázi"]
["Przemysław Bartczak",null,null,"Czestochowa",null,"FCC 2018 - Kombi 15m","SK",2018,22,2988,0.995,5257,5231,null,null,"LS-8","A","Není v databázi"]
["Drahos Sitar",null,null,"Aeroklub Prievidza",null,"FCC 2018 - Kombi 15m","SK",2018,23,2910,0.995,5053,5028,null,null,"Ventus: 2b","VI","Není v databázi"]
["Daniel Arday",null,null,"Malév",null,"FCC 2018 - Kombi 15m","SK",2018,24,2795,0.995,4796,4772,null,null,"Discus 2a","HAL","Není v databázi"]
["Vladas Motuza",null,null,"Pociunai",null,"FCC 2018 - Kombi 15m","SK",2018,25,2786,0.995,4690,4667,null,null,"Discus 2a /15m","FL","Není v databázi"]
["Iakov Shrage",null,null,"Neboshevlino",null,"FCC 2018 - Kombi 15m","SK",2018,26,2630,0.995,4375,4353,null,null,"GP 15 E Jeta","GP","Není v databázi"]
["Jana Veprekova",{"$f":"VLOOKUP(A540,Pilot,2,0)","v":1961},{"$f":"VLOOKUP(A540,Pilot,5,0)","v":"F"},{"$f":"VLOOKUP(A540,Pilot,3,0)","v":"Dvůr Králové"},{"$f":"VLOOKUP(A540,Pilot,4,0)","v":"CZ/C2"},"FCC 2018 - Kombi 15m","SK",2018,27,2543,0.995,{"$f":"ROUND(J540/MAX($J$514:$J$546)*10000*0.7+(MAX($I$514:$I$546)-I540)/(MAX($I$514:$I$546)-1)*10000*0.3,0)","v":4159},4138,null,null,"LS 8","W8",""]
["Ambrus Vancso",null,null,"Dunaferr",null,"FCC 2018 - Kombi 15m","SK",2018,28,2387,0.995,3844,3825,null,null,"Ventus bt /15m","PB","Není v databázi"]
["Joris Vainius",null,null,"Vilnius",null,"FCC 2018 - Kombi 15m","SK",2018,29,2042,0.995,3263,3247,null,null,"LS-8 /15m","P2","Není v databázi"]
["Jan Keher",null,null,"Prievidza",null,"FCC 2018 - Kombi 15m","SK",2018,30,1971,0.995,3069,3054,null,null,"Discus CS","DR","Není v databázi"]
["Istvan Reti",null,null,"Alfoldi Repülőklub",null,"FCC 2018 - Kombi 15m","SK",2018,31,1887,0.995,2856,2842,null,null,"Ventus 2a /15m","IR","Není v databázi"]
["Benedikt Laho",null,null,"Trnava",null,"FCC 2018 - Kombi 15m","SK",2018,32,1778,0.995,2608,{"$f":"ROUND(K545*L545,0)","v":2595},null,null,"Discus 2T /15m","JH","Není v databázi"]
["Tomas Kuzmickas",null,null,"Vilnius Aeroclub",null,"FCC 2018 - Kombi 15m","SK",2018,33,1603,0.995,2267,2256,null,null,"LAK 19/15m","ZM","Není v databázi"]
["Sebastian Kawa",null,null,"Aeroclub Bielsko Biala",null,"FCC 2018 - Kombi Open","SK",2018,1,6200,0.98,{"$f":"ROUND(J547/MAX($J$547:$J$571)*10000*0.7+(MAX($I$547:$I$571)-I547)/(MAX($I$547:$I$571)-1)*10000*0.3,0)","v":10000},9800,null,null,"JS1-CTJ 18 EVO","P","Není v databázi"]
["Piotr Jarysz",null,null,"Aeroklub Koninski",null,"FCC 2018 - Kombi Open","SK",2018,2,5928,0.98,{"$f":"ROUND(J548/MAX($J$547:$J$571)*10000*0.7+(MAX($I$547:$I$571)-I548)/(MAX($I$547:$I$571)-1)*10000*0.3,0)","v":9568},9377,null,null,"ASG-29","PL","Není v databázi"]
["Danes Grula",{"$f":"VLOOKUP(A549,Pilot,2,0)","v":1961},{"$f":"VLOOKUP(A549,Pilot,5,0)","v":"M"},{"$f":"VLOOKUP(A549,Pilot,3,0)","v":"Medlánky"},{"$f":"VLOOKUP(A549,Pilot,4,0)","v":"CZ/M"},"FCC 2018 - Kombi Open","SK",2018,3,5765,0.98,9259,9074,null,null,"ASG 29E 18m","DX",""]
["Petr Krejcirik",{"$f":"VLOOKUP(A550,Pilot,2,0)","v":1960},{"$f":"VLOOKUP(A550,Pilot,5,0)","v":"M"},{"$f":"VLOOKUP(A550,Pilot,3,0)","v":"Hranice"},{"$f":"VLOOKUP(A550,Pilot,4,0)","v":"CZ/M"},"FCC 2018 - Kombi Open","SK",2018,4,5750,0.98,9117,8935,null,null,"JS1-CTJ 18 EVO","ZF",""]
["Krzysztof Luniewski",null,null,"Olsztyn",null,"FCC 2018 - Kombi Open","SK",2018,5,5367,0.98,8560,8389,null,null,"ASG-29Es /18m","RB","Není v databázi"]
["Andrzej Smielkiewicz",null,null,"Leszno",null,"FCC 2018 - Kombi Open","SK",2018,6,5320,0.98,8381,8213,null,null,"ASG-29E /18m","A2","Není v databázi"]
["Andreas Kessler",null,null,"Romanian Airclub",null,"FCC 2018 - Kombi Open","SK",2018,7,5244,0.98,8171,8008,null,null,"ASG-29Es /18m","AK","Není v databázi"]
["Gintas Zube",null,null,"LT/KLAIPEDA",null,"FCC 2018 - Kombi Open","SK",2018,8,5163,0.98,7954,7795,null,null,"ASG-29 /18m","AR","Není v databázi"]
["Zdislaw Bednarczuk",null,null,"Bielsko-Biala",null,"FCC 2018 - Kombi Open","SK",2018,9,5139,0.98,7802,7646,null,null,"ASG-29E /18m","ZB","Není v databázi"]
["Petr Panek",{"$f":"VLOOKUP(A556,Pilot,2,0)","v":1975},{"$f":"VLOOKUP(A556,Pilot,5,0)","v":"M"},{"$f":"VLOOKUP(A556,Pilot,3,0)","v":"Dvůr Králové"},{"$f":"VLOOKUP(A556,Pilot,4,0)","v":"CZ/C2"},"FCC 2018 - Kombi Open","SK",2018,10,5109,0.98,7643,7490,null,null,"JS1-B 18","IGC",""]
["Roman Mracek",{"$f":"VLOOKUP(A557,Pilot,2,0)","v":1980},{"$f":"VLOOKUP(A557,Pilot,5,0)","v":"M"},{"$f":"VLOOKUP(A557,Pilot,3,0)","v":"Letkov"},{"$f":"VLOOKUP(A557,Pilot,4,0)","v":"CZ/C1"},"FCC 2018 - Kombi Open","SK",2018,11,5090,0.98,7497,7347,null,null,"ASG-29E /18m","QX",""]
["Adam Czeladzki",null,null,"Aeroklub Warszawski KKGT",null,"FCC 2018 - Kombi Open","SK",2018,12,5060,0.98,7338,7191,null,null,"JS1-CTJ 21","GOL","Není v databázi"]
["Andre Weidlich",null,null,"LSV Ruhr-Lenne Iserlohn",null,"FCC 2018 - Kombi Open","SK",2018,13,5028,0.98,7177,7033,null,null,"Arcus T","YAI","Není v databázi"]
["Tomasz Dul",null,null,"Aeroklub Wroclaw",null,"FCC 2018 - Kombi Open","SK",2018,14,4910,0.98,6919,6781,null,null,"ASG-29E /18m","DT","Není v databázi"]
["Jerzey Kolasinski",null,null,"Aeroklub Poznanski",null,"FCC 2018 - Kombi Open","SK",2018,15,4764,0.98,6629,6496,null,null,"JS1-CTJ 18 EVO",56,"Není v databázi"]
["Polutnik & Krasovic",null,null,"Aeroklub Celje",null,"FCC 2018 - Kombi Open","SK",2018,16,4577,0.98,6293,6167,null,null,"Arcus M","ET","Není v databázi"]
["Tomasz Chudoment",null,null,"Podhalanski",null,"FCC 2018 - Kombi Open","SK",2018,17,4519,0.98,6102,5980,null,null,"JS1-CTJ 18 EVO","B52","Není v databázi"]
["Lubomir Jakubcak",null,null,"Mlynica",null,"FCC 2018 - Kombi Open","SK",2018,18,4199,0.98,5616,5504,null,null,"Arcus M","CAR","Není v databázi"]
["Jan Divok",null,null,"Aeroklub SNV",null,"FCC 2018 - Kombi Open","SK",2018,19,4198,0.98,5490,5380,null,null,"Discus 2T /18m","DJ","Není v databázi"]
["Marek Pechanec",{"$f":"VLOOKUP(A566,Pilot,2,0)","v":1970},{"$f":"VLOOKUP(A566,Pilot,5,0)","v":"M"},{"$f":"VLOOKUP(A566,Pilot,3,0)","v":"Luhačovice"},{"$f":"VLOOKUP(A566,Pilot,4,0)","v":"CZ/M"},"FCC 2018 - Kombi Open","SK",2018,20,3534,0.98,{"$f":"ROUND(J566/MAX($J$547:$J$571)*10000*0.7+(MAX($I$547:$I$571)-I566)/(MAX($I$547:$I$571)-1)*10000*0.3,0)","v":4615},4523,null,null,"Arcus M","ARI",""]
["Pirker & Wolff",null,null,"FAS-Wien",null,"FCC 2018 - Kombi Open","SK",2018,21,3165,0.98,4073,3992,null,null,"Arcus M",3,"Není v databázi"]
["Jan Paepke",null,null,"SFC Riesa-Canitz",null,"FCC 2018 - Kombi Open","SK",2018,22,2842,0.98,3584,3512,null,null,"LAK 17 AT 18m","AKI","Není v databázi"]
["Vitaliy Borovik",null,null,"Novosibirsk",null,"FCC 2018 - Kombi Open","SK",2018,23,2613,0.98,3200,3136,null,null,"Nimbus 4DM","VB","Není v databázi"]
["Botond Szabadfi",null,null,"MALEV Aeroclub",null,"FCC 2018 - Kombi Open","SK",2018,24,2379,0.98,2811,2755,null,null,"Arcus T","AB","Není v databázi"]
["Arkadiusz Stefańczyk",null,null,"Aeroklub Kielecki",null,"FCC 2018 - Kombi Open","SK",2018,25,1071,0.98,1209,1185,null,null,"ASG-29E /18m","HE","Není v databázi"]
["Frantisek Vancura",{"$f":"VLOOKUP(A572,Pilot,2,0)","v":1966},{"$f":"VLOOKUP(A572,Pilot,5,0)","v":"M"},{"$f":"VLOOKUP(A572,Pilot,3,0)","v":"Hranice"},{"$f":"VLOOKUP(A572,Pilot,4,0)","v":"CZ/M"},"FL 2018 - Kombi","CZ",2018,1,4381,0.76,{"$f":"ROUND(J572/MAX($J$572:$J$586)*10000*0.7+(MAX($I$572:$I$586)-I572)/(MAX($I$572:$I$586)-1)*10000*0.3,0)","v":10000},7600,"x",null,"Nimbus 3T 24,5m","A1",""]
["Michal Buryan",1977,"M","Vysoké Mýto","CZ/C2","FL 2018 - Kombi","CZ",2018,2,4040,0.76,{"$f":"ROUND(J573/MAX($J$572:$J$586)*10000*0.7+(MAX($I$572:$I$586)-I573)/(MAX($I$572:$I$586)-1)*10000*0.3,0)","v":9241},7023,"x",null,"ASW-24A+W bez TN8","Y9",""]
["Zdenek Schenk",1972,"M","Hranice","CZ/M","FL 2018 - Kombi","CZ",2018,3,3930,0.76,8851,6727,null,null,"Ventus ct 17,6m","ŠNeK",""]
["Milos Matejka",1956,"M","Beroun","CZ/C1","FL 2018 - Kombi","CZ",2018,4,3830,0.76,8477,6443,"x",null,"Discus b +W","SH",""]
["Martin Suchy",1969,"M","Hranice","CZ/M","FL 2018 - Kombi","CZ",2018,5,3773,0.76,8171,6210,"x",null,"DuoDiscus","OK",""]
["Jaroslav Buryan",1953,"M","Zábřeh","CZ/M","FL 2018 - Kombi","CZ",2018,6,3595,0.76,7673,5831,null,null,"ASW-20(A)+F 15m+W","NS",""]
["Vladimir Jirka",1965,"M","Zábřeh","CZ/M","FL 2018 - Kombi","CZ",2018,7,3555,0.76,7394,5619,"x",null,"Ventus 2c 18m","VJ",""]
["Matej Plch",1987,"M","Letkov","CZ/C1","FL 2018 - Kombi","CZ",2018,8,3463,0.76,7033,5345,"x",null,"LS 8b,t,18 18m","EJ",""]
["Antonin Kutalek",1943,"M","Zábřeh","CZ/M","FL 2018 - Kombi","CZ",2018,9,2914,0.76,5942,4516,"x",null,"Mini-Nimbus c","GL",""]
["Oldrich Houzvicka",1975,"M","Frýdlant","CZ/M","FL 2018 - Kombi","CZ",2018,10,2377,0.76,4869,3700,null,null,"LS 4","FP",""]
["Lukas Kotek",1994,"M","Frýdlant","CZ/M","FL 2018 - Kombi","CZ",2018,11,2273,0.76,4489,3412,null,null,"DG-200 15m","AK",""]
["Roman Cerny",1971,"M","Hranice","CZ/M","FL 2018 - Kombi","CZ",2018,12,1724,{"$f":"VLOOKUP(F583,Soutez,12,0)","v":0.76},{"$f":"ROUND(J583/MAX($J$572:$J$586)*10000*0.7+(MAX($I$572:$I$586)-I583)/(MAX($I$572:$I$586)-1)*10000*0.3,0)","v":3397},2582,null,null,"ASW-20(A)+F 15m+W",67,{"$f":"IF(ISERROR(VLOOKUP(A583,Pilot,6,0)),\"Není v databázi\",VLOOKUP(A583,Pilot,6,0))","v":""}]
["Martin Urban",1971,"M","Frýdlant","CZ/M","FL 2018 - Kombi","CZ",2018,13,1590,0.76,2969,2256,null,null,"LS 3 15m","SJ",""]
["Jan Kristof",1962,"M","Frýdlant","CZ/M","FL 2018 - Kombi","CZ",2018,14,1396,0.76,2445,1858,"x",null,"LS 3 15m","TX",""]
["Pavel Foldyna",1976,"M","Frýdlant","CZ/M","FL 2018 - Kombi","CZ",2018,15,182,0.76,291,221,"x",null,"LS 3 15m","TXI",""]
["David Mach",1994,"M","Hronov","CZ/C2","Flatland Cup 2018 - Klub","HU",2018,1,6093,0.92,{"$f":"ROUND(J587/MAX($J$587:$J$621)*10000*0.7+(MAX($I$587:$I$621)-I587)/(MAX($I$587:$I$621)-1)*10000*0.3,0)","v":10000},9200,null,null,"Std Cirrus","XC",""]
["Jelmer Vis",null,null,"Vliegclub Hoogeveen",null,"Flatland Cup 2018 - Klub","HU",2018,2,5821,0.92,{"$f":"ROUND(J588/MAX($J$587:$J$621)*10000*0.7+(MAX($I$587:$I$621)-I588)/(MAX($I$587:$I$621)-1)*10000*0.3,0)","v":9599},8831,null,null,"Std Cirrus","HE","Není v databázi"]
["Barbora Moravcova",{"$f":"VLOOKUP(A589,Pilot,2,0)","v":1994},{"$f":"VLOOKUP(A589,Pilot,5,0)","v":"F"},{"$f":"VLOOKUP(A589,Pilot,3,0)","v":"Zbraslavice"},{"$f":"VLOOKUP(A589,Pilot,4,0)","v":"CZ/C1"},"Flatland Cup 2018 - Klub","HU",2018,3,5763,0.92,9444,8688,"x","x","ASW 19","CF",""]
["Zoltan Földi",null,null,"Alföldi Repülőklub",null,"Flatland Cup 2018 - Klub","HU",2018,4,5675,0.92,9255,8515,null,null,"Std Jantar 2 W","ZP","Není v databázi"]
["Jaromir Macoun",{"$f":"VLOOKUP(A591,Pilot,2,0)","v":1999},{"$f":"VLOOKUP(A591,Pilot,5,0)","v":"M"},{"$f":"VLOOKUP(A591,Pilot,3,0)","v":"Jičín"},{"$f":"VLOOKUP(A591,Pilot,4,0)","v":"CZ/C2"},"Flatland Cup 2018 - Klub","HU",2018,5,5658,0.92,9147,8415,null,null,"ASW 15 b","FA","Junior v roce 2021"]
["Klara Teichmannova",{"$f":"VLOOKUP(A592,Pilot,2,0)","v":1993},{"$f":"VLOOKUP(A592,Pilot,5,0)","v":"F"},{"$f":"VLOOKUP(A592,Pilot,3,0)","v":"Hronov"},{"$f":"VLOOKUP(A592,Pilot,4,0)","v":"CZ/C2"},"Flatland Cup 2018 - Klub","HU",2018,6,5590,0.92,8981,8263,null,null,"Std Cirrus","LY",""]
["Robin Smit",null,null,"GLC illustrious",null,"Flatland Cup 2018 - Klub","HU",2018,7,5562,0.92,8861,8152,null,null,"Std Cirrus","RSM","Není v databázi"]
["Janos Pós",null,null,"Muegyetemi Sportrepülő Egyesület",null,"Flatland Cup 2018 - Klub","HU",2018,8,5458,0.92,8653,7961,null,null,"Std Jantar 1","TL","Není v databázi"]
["Janos Bauer",null,null,"Vario SE",null,"Flatland Cup 2018 - Klub","HU",2018,9,5403,0.92,8501,7821,null,null,"Mini Nimbus C",55,"Není v databázi"]
["Vlagyiszlav Galuzinyec",null,null,"Szombathelyi Repülőklub",null,"Flatland Cup 2018 - Klub","HU",2018,10,5383,0.92,8390,7719,null,null,"Std Jantar 3","Gti","Není v databázi"]
["Ivan Tvrdik",{"$f":"VLOOKUP(A597,Pilot,2,0)","v":1997},{"$f":"VLOOKUP(A597,Pilot,5,0)","v":"M"},{"$f":"VLOOKUP(A597,Pilot,3,0)","v":"Letňany"},{"$f":"VLOOKUP(A597,Pilot,4,0)","v":"CZ/C1"},"Flatland Cup 2018 - Klub","HU",2018,11,4857,0.92,{"$f":"ROUND(J597/MAX($J$587:$J$621)*10000*0.7+(MAX($I$587:$I$621)-I597)/(MAX($I$587:$I$621)-1)*10000*0.3,0)","v":7698},7082,null,null,"ASW 19 b","HD","Junior v roce 2021"]
["Barnabas Tóth",null,null,"Szombathelyi Repülőklub",null,"Flatland Cup 2018 - Klub","HU",2018,12,4842,0.92,7592,6985,null,null,"Peagse","BT","Není v databázi"]
["Balazs Laktis",null,null,"MÁV Sportrepülő Egyesület",null,"Flatland Cup 2018 - Klub","HU",2018,13,4792,0.92,7447,6851,null,null,"Std Cirrus WL","CZ","Není v databázi"]
["Lizzy van Zomeren",null,null,"ACvZ",null,"Flatland Cup 2018 - Klub","HU",2018,14,4742,0.92,7301,6717,null,null,"Cirrus B","AG","Není v databázi"]
["Balazs Endrődi",null,null,"Aeroklub Farkashegy",null,"Flatland Cup 2018 - Klub","HU",2018,15,4656,0.92,7114,6545,null,null,"LS 1c","MB","Není v databázi"]
["Csaba Tóth",null,null,"Dunaferr",null,"Flatland Cup 2018 - Klub","HU",2018,16,4561,0.92,6916,6363,null,null,"Std Jantar 3 W","IX","Není v databázi"]
["Laszló Loskay",null,null,"Dunaferr",null,"Flatland Cup 2018 - Klub","HU",2018,17,4156,0.92,6363,5854,null,null,"Astir CS 77","DZ","Není v databázi"]
["Béla Borkuti",null,null,"Pelikán Repülő Egyesület",null,"Flatland Cup 2018 - Klub","HU",2018,18,4115,0.92,6228,5730,null,null,"Glassfluegel 304 W","BB","Není v databázi"]
["adam Kapuy",null,null,"Műegyetemi Sportrepülő Egyesület",null,"Flatland Cup 2018 - Klub","HU",2018,19,4096,0.92,6117,5628,null,null,"LS 4","GJ","Není v databázi"]
["Balint Biró",null,null,"MÁV Sportrepülő Egyesület",null,"Flatland Cup 2018 - Klub","HU",2018,20,4033,0.92,5957,5480,null,null,"ASW 19","CV","Není v databázi"]
["Zsombor Wéber",null,null,"Alföldi Repülőklub",null,"Flatland Cup 2018 - Klub","HU",2018,21,4021,0.92,5855,5387,null,null,"Std Jantar 2",16,"Není v databázi"]
["Andras Oswald",null,null,"Szentesi Repülőklub",null,"Flatland Cup 2018 - Klub","HU",2018,22,3972,0.92,5710,5253,null,null,"LS 3","1A","Není v databázi"]
["aron Érseki",null,null,"Opitz Nándor Repülőklub",null,"Flatland Cup 2018 - Klub","HU",2018,23,3955,0.92,5603,{"$f":"ROUND(K609*L609,0)","v":5155},null,null,"ASW 15","NK","Není v databázi"]
["Imre Tóth",null,null,"Dunaferr",null,"Flatland Cup 2018 - Klub","HU",2018,24,3686,0.92,5205,4789,null,null,"Std Jantar 2","MA","Není v databázi"]
["Richard Vajda",null,null,"Aeroklub Farkashegy",null,"Flatland Cup 2018 - Klub","HU",2018,25,3141,0.92,4491,4132,null,null,"ASW 20 W","BAS","Není v databázi"]
["Antal Salanki Tibor Szabó",null,null,"ACFH",null,"Flatland Cup 2018 - Klub","HU",2018,26,3066,0.92,4317,3972,null,null,"Twin Astir","II","Není v databázi"]
["Péter Gönczi",null,null,"Malév RK",null,"Flatland Cup 2018 - Klub","HU",2018,27,3051,0.92,4211,3874,null,null,"Janus C (FG)","DD","Není v databázi"]
["Tibor Szőke",null,null,"Szentesi Repülőklub",null,"Flatland Cup 2018 - Klub","HU",2018,28,3039,0.92,4109,3780,null,null,"LS 3","CH","Není v databázi"]
["Sandor Maté",null,null,"Aero Klub Debrecen Sportegyesület",null,"Flatland Cup 2018 - Klub","HU",2018,29,2862,0.92,3817,3512,null,null,"Mini Nimbus","MI","Není v databázi"]
["Johannes Aldrian",null,null,"ASFC Timmersdorf",null,"Flatland Cup 2018 - Klub","HU",2018,30,2388,0.92,3185,2930,null,null,"LS 7 WL","IMM","Není v databázi"]
["Janos Bence Szabó",null,null,"Malév RK",null,"Flatland Cup 2018 - Klub","HU",2018,31,2229,0.92,2914,2681,null,null,"Std Cirrus","P","Není v databázi"]
["Lilla Szamosujvari",null,null,"MÁV Sportrepülő Egyesület",null,"Flatland Cup 2018 - Klub","HU",2018,32,2207,0.92,2800,2576,null,null,"Astir CS 77","M2","Není v databázi"]
["Domonkos Kalota",null,null,"Opitz Nándor Repülőklub",null,"Flatland Cup 2018 - Klub","HU",2018,33,1915,0.92,2377,2187,null,null,"Std Libelle","B","Není v databázi"]
["Mark Travner",null,null,"Aeroklub Celje",null,"Flatland Cup 2018 - Klub","HU",2018,34,1300,0.92,1582,1455,null,null,"DG 300","CE","Není v databázi"]
["Péter Lencsés",null,null,"Hajdúszoboszló Aero Club",null,"Flatland Cup 2018 - Klub","HU",2018,35,718,0.92,825,759,null,null,"Std Jantar 1","JI","Není v databázi"]
["Jan Zapletal",{"$f":"VLOOKUP(A622,Pilot,2,0)","v":1997},{"$f":"VLOOKUP(A622,Pilot,5,0)","v":"M"},{"$f":"VLOOKUP(A622,Pilot,3,0)","v":"Břeclav"},{"$f":"VLOOKUP(A622,Pilot,4,0)","v":"CZ/M"},"Flatland Cup 2018 - Kombi","HU",2018,1,7430,0.93,{"$f":"ROUND(J622/MAX($J$622:$J$646)*10000*0.7+(MAX($I$622:$I$646)-I622)/(MAX($I$622:$I$646)-1)*10000*0.3,0)","v":10000},9300,"x",null,"LS 8","JB","Junior v roce 2021"]
["Jan Viskot",{"$f":"VLOOKUP(A623,Pilot,2,0)","v":1995},{"$f":"VLOOKUP(A623,Pilot,5,0)","v":"M"},{"$f":"VLOOKUP(A623,Pilot,3,0)","v":"Břeclav"},{"$f":"VLOOKUP(A623,Pilot,4,0)","v":"CZ/M"},"Flatland Cup 2018 - Kombi","HU",2018,2,7365,0.93,{"$f":"ROUND(J623/MAX($J$622:$J$646)*10000*0.7+(MAX($I$622:$I$646)-I623)/(MAX($I$622:$I$646)-1)*10000*0.3,0)","v":9814},9127,"x",null,"Discus 2","GX",""]
["Tamas Gal",null,null,"Dunaferr Repülo Klub",null,"Flatland Cup 2018 - Kombi","HU",2018,3,7189,0.93,9523,8856,null,null,"Ventus 2 b","V7","Není v databázi"]
["Attila Szabadfi Gabor Kapuy",null,null,"Malév Repüloklub",null,"Flatland Cup 2018 - Kombi","HU",2018,4,7159,0.93,9370,8714,null,null,"Arcus T","AB","Není v databázi"]
["Zoltan Verebélyi",null,null,"Alföldi Repüloklub",null,"Flatland Cup 2018 - Kombi","HU",2018,5,7076,0.93,9166,8524,null,null,"ASG 29","HI","Není v databázi"]
["Zoltan Hamar",null,null,"Vario Sportrepülo Egyesület",null,"Flatland Cup 2018 - Kombi","HU",2018,6,7038,0.93,9006,8376,null,null,"Ventus 2","5A","Není v databázi"]
["Zoltan Suranyi",null,null,"Pelikán Repülo Egyesület",null,"Flatland Cup 2018 - Kombi","HU",2018,7,6807,0.93,8663,8057,null,null,"Duo Discus","SGC","Není v databázi"]
["Tamas Vamosi",null,null,"Opitz Nándor Repüloklub",null,"Flatland Cup 2018 - Kombi","HU",2018,8,6725,0.93,8461,7869,null,null,"Discus 2","HUN","Není v databázi"]
["Péter Banki",null,null,"MÁV Sportrepülo Egyesület",null,"Flatland Cup 2018 - Kombi","HU",2018,9,6613,0.93,8230,7654,null,null,"ASW 20 W","M6","Není v databázi"]
["Laszló Orsy",null,null,"DAC-1930",null,"Flatland Cup 2018 - Kombi","HU",2018,10,6546,0.93,8042,7479,null,null,"LS 6","4L","Není v databázi"]
["Attila Korom",null,null,"Alföldi Repülőklub",null,"Flatland Cup 2018 - Kombi","HU",2018,11,6500,0.93,7874,7323,null,null,"ASW 20 W","MC","Není v databázi"]
["Daniel Arday",null,null,"Malév Repüloklub",null,"Flatland Cup 2018 - Kombi","HU",2018,12,6359,0.93,7616,7083,null,null,"Discus 2","HAL","Není v databázi"]
["Tamas Mayer",null,null,"Malév Repüloklub",null,"Flatland Cup 2018 - Kombi","HU",2018,13,6137,0.93,7282,6772,null,null,"ASW 20 W","AC","Není v databázi"]
["Péter Dr. Albeck",null,null,"Ocsényi Repüloklub SE",null,"Flatland Cup 2018 - Kombi","HU",2018,14,6125,0.93,7146,6646,null,null,"Ventus 2","V8","Není v databázi"]
["Richard Basa",null,null,"Alföldi Repüloklub",null,"Flatland Cup 2018 - Kombi","HU",2018,15,6124,0.93,7020,6529,null,null,"JS3","RI","Není v databázi"]
["Péter Kassai",null,null,"Malév Repüloklub",null,"Flatland Cup 2018 - Kombi","HU",2018,16,5962,0.93,6742,6270,null,null,"Discus b","7W","Není v databázi"]
["Gabor Gangl",null,null,"MÁV Sportrepülo Egyesület",null,"Flatland Cup 2018 - Kombi","HU",2018,17,5730,0.93,6398,5950,null,null,"Discus w","M5","Není v databázi"]
["Istvan Réti",null,null,"Alföldi Repüloklub",null,"Flatland Cup 2018 - Kombi","HU",2018,18,5691,0.93,6237,5800,null,null,"Ventus 2","IR","Není v databázi"]
["Laszló Kapuy",null,null,"Muegyetemi Sportrepülo Egyesület",null,"Flatland Cup 2018 - Kombi","HU",2018,19,5598,0.93,{"$f":"ROUND(J640/MAX($J$622:$J$646)*10000*0.7+(MAX($I$622:$I$646)-I640)/(MAX($I$622:$I$646)-1)*10000*0.3,0)","v":6024},5602,null,null,"Ventus 2","GE","Není v databázi"]
["Attila Szűcs",null,null,"Vario SE",null,"Flatland Cup 2018 - Kombi","HU",2018,20,5526,0.93,5831,5423,null,null,"Ventus b","G6","Není v databázi"]
["Istvan Magyar",null,null,"Opitz Nándor Repüloklub",null,"Flatland Cup 2018 - Kombi","HU",2018,21,5425,0.93,5611,5218,null,null,"ASG 29","PB","Není v databázi"]
["Zoltan Mészaros",null,null,"Aero Club Esztergom",null,"Flatland Cup 2018 - Kombi","HU",2018,22,5415,0.93,5477,5094,null,null,"ASW 20 W","BA","Není v databázi"]
["Zsolt Ősi Andras Bodzsar",null,null,"Aeroklub Farkashegy",null,"Flatland Cup 2018 - Kombi","HU",2018,23,4880,0.93,4848,4509,null,null,"Arcus E","E","Není v databázi"]
["Istvan Rajncsak",null,null,"Aeroklub Farkashegy",null,"Flatland Cup 2018 - Kombi","HU",2018,24,2596,0.93,2571,2391,null,null,"Ventus b","1B","Není v databázi"]
["Andreas Marskar",null,null,"Aeroclub Berlin",null,"Flatland Cup 2018 - Kombi","HU",2018,25,1226,0.93,1155,1074,null,null,"LS 6","HY","Není v databázi"]
["Libor Bednarik",{"$f":"VLOOKUP(A647,Pilot,2,0)","v":1972},{"$f":"VLOOKUP(A647,Pilot,5,0)","v":"M"},{"$f":"VLOOKUP(A647,Pilot,3,0)","v":"Kunovice"},{"$f":"VLOOKUP(A647,Pilot,4,0)","v":"CZ/M"},"GGP MB 2018 - Gradient GP","CZ",2018,1,45,{"$f":"VLOOKUP(F647,Soutez,12,0)","v":0.76},{"$f":"ROUND((MAX($I$647:$I$657)-I647)/(MAX($I$647:$I$657)-1)*10000,0)","v":10000},7600,"x",null,"VSO-10",94,{"$f":"IF(ISERROR(VLOOKUP(A647,Pilot,6,0)),\"Není v databázi\",VLOOKUP(A647,Pilot,6,0))","v":""}]
["Ivan Tvrdik",1997,"M","Letňany","CZ/C1","GGP MB 2018 - Gradient GP","CZ",2018,2,37,0.76,{"$f":"ROUND((MAX($I$647:$I$657)-I648)/(MAX($I$647:$I$657)-1)*10000,0)","v":9000},6840,null,null,"VSO-10",53,"Junior v roce 2021"]
["Karel Mares",1974,"M","Slaný","CZ/C1","GGP MB 2018 - Gradient GP","CZ",2018,3,28,0.76,8000,6080,null,null,"VSO-10",62,""]
["Lukas Maly",1998,"M","Vysoké Mýto","CZ/C2","GGP MB 2018 - Gradient GP","CZ",2018,4,27,0.76,7000,5320,null,null,"VSO-10",34,"Junior v roce 2021"]
["Tomas Hlavacek",1984,"M","Mladá Boleslav","CZ/C1","GGP MB 2018 - Gradient GP","CZ",2018,5,22,0.76,6000,4560,null,null,"VSO-10","C3",""]
["Karel Policky",1950,"M","Kolín","CZ/C1","GGP MB 2018 - Gradient GP","CZ",2018,6,18,0.76,5000,3800,null,null,"VSO-10","F2",""]
["Jan Zdvorak",1980,"M","Roudnice","CZ/C2","GGP MB 2018 - Gradient GP","CZ",2018,7,15,0.76,4000,3040,"x",null,"VSO-10",6,""]
["Milos Rejzl",1962,"M","Klatovy","CZ/C1","GGP MB 2018 - Gradient GP","CZ",2018,8,13,0.76,3000,2280,"x",null,"VSO-10",55,""]
["Martin Marek",1967,"M","Roudnice","CZ/C2","GGP MB 2018 - Gradient GP","CZ",2018,9,6,0.76,2000,1520,"x",null,"VSO-10",92,""]
["Martin Vana",1979,"M","Mladá Boleslav","CZ/C1","GGP MB 2018 - Gradient GP","CZ",2018,9,6,0.76,{"$f":"ROUND((MAX($I$647:$I$657)-I656)/(MAX($I$647:$I$657)-1)*10000,0)","v":2000},1520,"x",null,"VSO-10 C","V3",""]
["Martin Markl",1960,"M","Kolín","CZ/C1","GGP MB 2018 - Gradient GP","CZ",2018,11,1,0.76,0,0,null,null,"VSO-10",93,""]
["Karel Novak",1993,"M","Mladá Boleslav","CZ/C1","GGP MB 2018 - Klub GP","CZ",2018,1,37,0.77,{"$f":"ROUND((MAX($I$658:$I$667)-I658)/(MAX($I$658:$I$667)-1)*10000,0)","v":10000},7700,null,null,"Std. Cirrus","DI",""]
["Leos Strnadek",1983,"M","Hodkovice","CZ/C2","GGP MB 2018 - Klub GP","CZ",2018,2,31,0.77,{"$f":"ROUND((MAX($I$658:$I$667)-I659)/(MAX($I$658:$I$667)-1)*10000,0)","v":8889},6845,"x",null,"ASW 19","XZ",""]
["Martin Grmela",1989,"M","Zbraslavice","CZ/C1","GGP MB 2018 - Klub GP","CZ",2018,3,22,0.77,7778,5989,"x",null,"ASW 15","O2",""]
["Katerina Vojtova",1983,"F","Slaný","CZ/C1","GGP MB 2018 - Klub GP","CZ",2018,4,20,0.77,6667,5134,null,null,"Std. Cirrus","KAC",""]
["Ivan Novak",1962,"M","Mladá Boleslav","CZ/C1","GGP MB 2018 - Klub GP","CZ",2018,5,18,0.77,{"$f":"ROUND((MAX($I$658:$I$667)-I662)/(MAX($I$658:$I$667)-1)*10000,0)","v":5556},4278,null,null,"ASW 19","AH",""]
["Jiri Hula",1973,"M","Slaný","CZ/C1","GGP MB 2018 - Klub GP","CZ",2018,6,10,0.77,4444,3422,null,null,"Std. Cirrus","TI",""]
["Linda Vasatova",1990,"F","Mladá Boleslav","CZ/C1","GGP MB 2018 - Klub GP","CZ",2018,7,9,0.77,3333,2566,"x","x","ASW 19","OI",""]
["Jan Zezula",1979,"M","Letňany","CZ/C1","GGP MB 2018 - Klub GP","CZ",2018,7,9,0.77,3333,2566,null,null,"ASW 19","HD",""]
["Vladimir Hammer",2000,"M","Letkov","CZ/C1","GGP MB 2018 - Klub GP","CZ",2018,9,8,0.77,1111,855,null,null,"Std. Cirrus","U2","Junior v roce 2021"]
["Petr Lonsky",1965,"M","Toužim","CZ/C1","GGP MB 2018 - Klub GP","CZ",2018,10,2,0.77,0,0,null,null,"Std. Cirrus","FD",""]
["Jan Viskot",1995,"M","Břeclav","CZ/M","GGP MB 2018 - Pohár MV - Kombi","CZ",2018,1,4651,0.77,{"$f":"ROUND(J668/MAX($J$668:$J$678)*10000*0.7+(MAX($I$668:$I$678)-I668)/(MAX($I$668:$I$678)-1)*10000*0.3,0)","v":10000},7700,null,null,"Discus 2a","GX",""]
["Jan Smaha",1958,"M","Česká Lípa","CZ/C2","GGP MB 2018 - Pohár MV - Kombi","CZ",2018,2,4535,0.77,{"$f":"ROUND(J669/MAX($J$668:$J$678)*10000*0.7+(MAX($I$668:$I$678)-I669)/(MAX($I$668:$I$678)-1)*10000*0.3,0)","v":9525},7334,"x",null,"ASW 15","CW",""]
["Dana Novakova",1965,"F","Mladá Boleslav","CZ/C1","GGP MB 2018 - Pohár MV - Kombi","CZ",2018,3,4492,0.77,9161,7054,null,null,"LS 8","AU",""]
["Jana Treslova",1963,"F","Raná","CZ/C2","GGP MB 2018 - Pohár MV - Kombi","CZ",2018,4,4339,0.77,8630,6645,null,null,"LS 8","EU",""]
["Hana Treslova",1991,"F","Raná","CZ/C2","GGP MB 2018 - Pohár MV - Kombi","CZ",2018,5,4332,0.77,8320,6406,null,null,"LS 8","FX",""]
["Jiri Slemr",1979,"M","Vysoké Mýto","CZ/C2","GGP MB 2018 - Pohár MV - Kombi","CZ",2018,6,3960,0.77,7460,{"$f":"ROUND(K673*L673,0)","v":5744},"x",null,"Discus",65,""]
["Josef Rydl",1940,"M","Turnov","CZ/C2","GGP MB 2018 - Pohár MV - Kombi","CZ",2018,7,3426,0.77,6356,4894,null,null,"Discus","TD",""]
["Martin Soucek",1975,"M","Mladá Boleslav","CZ/C1","GGP MB 2018 - Pohár MV - Kombi","CZ",2018,8,3314,0.77,5888,4534,"x",null,"DG 200/17","MS",""]
["Jan Dersak 69",1969,"M","Kralupy","CZ/C1","GGP MB 2018 - Pohár MV - Kombi","CZ",2018,9,3061,0.77,{"$f":"ROUND(J676/MAX($J$668:$J$678)*10000*0.7+(MAX($I$668:$I$678)-I676)/(MAX($I$668:$I$678)-1)*10000*0.3,0)","v":5207},4009,null,null,"HPH 304 CZ 17,4","DJ",""]
["Lubomir Doupal",1975,"M","Kroměříž","CZ/M","GGP MB 2018 - Pohár MV - Kombi","CZ",2018,10,2717,0.77,4389,3380,"x",null,"LS 8/18m","YF",""]
["Petra Diepoldova",1978,"F","Vysoké Mýto","CZ/C2","GGP MB 2018 - Pohár MV - Kombi","CZ",2018,11,2543,0.77,3827,2947,"x","x","ASW 15","TX",""]
["Holger Karow",null,null,null,null,"Hahnweide 2018 - Duo 20m","DE",2018,1,5110,0.81,{"$f":"ROUND(J679/MAX($J$679:$J$710)*10000*0.7+(MAX($I$679:$I$710)-I679)/(MAX($I$679:$I$710)-1)*10000*0.3,0)","v":10000},8100,null,null,"Arcus M","HL","Není v databázi"]
["Yves Jeanmotte",null,null,null,null,"Hahnweide 2018 - Duo 20m","DE",2018,2,4950,0.81,{"$f":"ROUND(J680/MAX($J$679:$J$710)*10000*0.7+(MAX($I$679:$I$710)-I680)/(MAX($I$679:$I$710)-1)*10000*0.3,0)","v":9684},7844,null,null,"ASG 32 Mi","P2","Není v databázi"]
["Martin Theisinger",null,null,null,null,"Hahnweide 2018 - Duo 20m","DE",2018,3,4921,0.81,9548,7734,null,null,"Arcus M","WT","Není v databázi"]
["Katrin Senne",null,null,null,null,"Hahnweide 2018 - Duo 20m","DE",2018,4,4900,0.81,9422,7632,null,null,"ASG 32 Mi","KK","Není v databázi"]
["Stephan Mayer",null,null,null,null,"Hahnweide 2018 - Duo 20m","DE",2018,5,4769,0.81,9146,7408,null,null,"Arcus T","WA","Není v databázi"]
["Norbert Sommer",null,null,null,null,"Hahnweide 2018 - Duo 20m","DE",2018,6,4722,0.81,8985,7278,null,null,"Arcus M","7L","Není v databázi"]
["Anton Sibanc",null,null,null,null,"Hahnweide 2018 - Duo 20m","DE",2018,7,4716,0.81,8880,7193,null,null,"Arcus M","EI","Není v databázi"]
["Kevin Dilger",null,null,null,null,"Hahnweide 2018 - Duo 20m","DE",2018,8,4654,0.81,8698,7045,null,null,"Arcus T","NH","Není v databázi"]
["Joost Wolff",null,null,null,null,"Hahnweide 2018 - Duo 20m","DE",2018,9,4631,0.81,8570,6942,null,null,"Arcus T","DX","Není v databázi"]
["Andreas Lutz",null,null,null,null,"Hahnweide 2018 - Duo 20m","DE",2018,10,4619,0.81,8456,6849,null,null,"Arcus M",3,"Není v databázi"]
["Franz Gall",null,null,null,null,"Hahnweide 2018 - Duo 20m","DE",2018,11,4594,0.81,8325,6743,null,null,"Arcus M",7,"Není v databázi"]
["Frank Rodewald",null,null,null,null,"Hahnweide 2018 - Duo 20m","DE",2018,12,4537,0.81,8151,6602,null,null,"Arcus T","GX","Není v databázi"]
["Jim Acketoft",null,null,null,null,"Hahnweide 2018 - Duo 20m","DE",2018,13,4446,0.81,7929,6422,null,null,"Arcus M","TWO","Není v databázi"]
["Laurens Goudriaan",null,null,null,null,"Hahnweide 2018 - Duo 20m","DE",2018,14,4387,0.81,7752,6279,null,null,"ASG 32 Mi",32,"Není v databázi"]
["Sascha Costabel",null,null,null,null,"Hahnweide 2018 - Duo 20m","DE",2018,15,4356,0.81,7612,6166,null,null,"Arcus M","C","Není v databázi"]
["Ulrich Blahak",null,null,null,null,"Hahnweide 2018 - Duo 20m","DE",2018,16,4318,0.81,7463,6045,null,null,"Duo Discus","3E","Není v databázi"]
["Laurent Aboulin",null,null,null,null,"Hahnweide 2018 - Duo 20m","DE",2018,17,4190,0.81,7191,5825,null,null,"Arcus T","A1","Není v databázi"]
["Sjaak Selen",null,null,null,null,"Hahnweide 2018 - Duo 20m","DE",2018,18,3971,0.81,6795,5504,null,null,"Duo Discus XLT","VP","Není v databázi"]
["Stefan Krauss",null,null,null,null,"Hahnweide 2018 - Duo 20m","DE",2018,19,3943,0.81,6659,5394,null,null,"Arcus M","SS","Není v databázi"]
["Niel Deijgers",null,null,null,null,"Hahnweide 2018 - Duo 20m","DE",2018,20,3911,0.81,6519,5280,null,null,"Duo Discus","DUO","Není v databázi"]
["Nils Koster",null,null,null,null,"Hahnweide 2018 - Duo 20m","DE",2018,21,3833,0.81,6315,5115,null,null,"Arcus T","E2","Není v databázi"]
["Martin Piskacek",{"$f":"VLOOKUP(A700,Pilot,2,0)","v":1991},{"$f":"VLOOKUP(A700,Pilot,5,0)","v":"M"},{"$f":"VLOOKUP(A700,Pilot,3,0)","v":"Křižanov"},{"$f":"VLOOKUP(A700,Pilot,4,0)","v":"CZ/M"},"Hahnweide 2018 - Duo 20m","DE",2018,22,3828,0.81,{"$f":"ROUND(J700/MAX($J$679:$J$710)*10000*0.7+(MAX($I$679:$I$710)-I700)/(MAX($I$679:$I$710)-1)*10000*0.3,0)","v":6212},5032,"x",null,"Duo Discus",777,""]
["Manuel Stokinger",null,null,null,null,"Hahnweide 2018 - Duo 20m","DE",2018,23,3802,0.81,6079,4924,null,null,"Duo Discus XLT","H2","Není v databázi"]
["Markus Ganev",null,null,null,null,"Hahnweide 2018 - Duo 20m","DE",2018,24,3792,0.81,5969,4835,null,null,"Arcus M","XP","Není v databázi"]
["Christoph Maiwald",null,null,null,null,"Hahnweide 2018 - Duo 20m","DE",2018,25,3601,0.81,5610,4544,null,null,"Duo Discus XLT","K5","Není v databázi"]
["Adrian Glauner",null,null,null,null,"Hahnweide 2018 - Duo 20m","DE",2018,26,3504,0.81,5381,4359,null,null,"Duo Discus XLT","RT","Není v databázi"]
["Stefan Kessler",null,null,null,null,"Hahnweide 2018 - Duo 20m","DE",2018,27,3384,0.81,5119,4146,null,null,"Duo Discus T","7UP","Není v databázi"]
["Tim Oliver Schmidt",null,null,null,null,"Hahnweide 2018 - Duo 20m","DE",2018,28,3354,0.81,4982,4035,null,null,"Arcus M","AC2","Není v databázi"]
["Patrick Kutschat",null,null,null,null,"Hahnweide 2018 - Duo 20m","DE",2018,29,2707,0.81,3999,3239,null,null,"Duo Discus XLT","GT2","Není v databázi"]
["Christoph Heidemeyer",null,null,null,null,"Hahnweide 2018 - Duo 20m","DE",2018,30,2408,0.81,3492,2829,null,null,"Arcus T","KA","Není v databázi"]
["Hans-Joachim Riedelsheimer",null,null,null,null,"Hahnweide 2018 - Duo 20m","DE",2018,31,2321,0.81,3276,2654,null,null,"Duo Discus T","B4","Není v databázi"]
["Thomas Schaich",null,null,null,null,"Hahnweide 2018 - Duo 20m","DE",2018,32,1736,0.81,2378,1926,null,null,"Duo Discus XLT","NZ","Není v databázi"]
["Ivan Novak",{"$f":"VLOOKUP(A711,Pilot,2,0)","v":1962},{"$f":"VLOOKUP(A711,Pilot,5,0)","v":"M"},{"$f":"VLOOKUP(A711,Pilot,3,0)","v":"Mladá Boleslav"},{"$f":"VLOOKUP(A711,Pilot,4,0)","v":"CZ/C1"},"PMČR 2018 - Klub","CZ",2018,1,7017,{"$f":"VLOOKUP(F711,Soutez,12,0)","v":1.085},{"$f":"ROUND(J711/MAX($J$711:$J$739)*10000*0.7+(MAX($I$711:$I$739)-I711)/(MAX($I$711:$I$739)-1)*10000*0.3,0)","v":10000},10850,"x",null,"Cirrus Std.","DI",{"$f":"IF(ISERROR(VLOOKUP(A711,Pilot,6,0)),\"Není v databázi\",VLOOKUP(A711,Pilot,6,0))","v":""}]
["Jaroslav Tomana",1975,"M","Zbraslavice","CZ/C1","PMČR 2018 - Klub","CZ",2018,2,7013,1.085,{"$f":"ROUND(J712/MAX($J$711:$J$739)*10000*0.7+(MAX($I$711:$I$739)-I712)/(MAX($I$711:$I$739)-1)*10000*0.3,0)","v":9889},10730,null,null,"Cirrus Std.","SN",""]
["David Mach",1994,"M","Hronov","CZ/C2","PMČR 2018 - Klub","CZ",2018,3,6958,1.085,9727,10554,"x",null,"Cirrus VTC","1W",""]
["Michal Lesinger",1966,"M","Moravská Třebová","CZ/M","PMČR 2018 - Klub","CZ",2018,4,6909,1.085,9571,10385,"x",null,"ASW-19B","LL",""]
["Karel Novak",1993,"M","Mladá Boleslav","CZ/C1","PMČR 2018 - Klub","CZ",2018,5,6821,1.085,9376,10173,"x",null,"Cirrus Std.","CX",""]
["Jan Louda",1986,"M","Mladá Boleslav","CZ/C1","PMČR 2018 - Klub","CZ",2018,6,6769,1.085,9217,10000,"x",null,"ASW-19B","AH",""]
["Marek Pechanec",1970,"M","Luhačovice","CZ/M","PMČR 2018 - Klub","CZ",2018,7,6745,1.085,9086,9858,"x",null,"Cirrus Std.","SJ",""]
["Pavel Rericha",1967,"M","Moravská Třebová","CZ/M","PMČR 2018 - Klub","CZ",2018,8,6625,1.085,8859,9612,"x",null,"ASW-19B","NO",""]
["Pavel Trybenekr",1990,"M","Hořice","CZ/C2","PMČR 2018 - Klub","CZ",2018,9,6556,1.085,8683,9421,"x",null,"LS-4","PF",""]
["Klara Teichmannova",1993,"F","Hronov","CZ/C2","PMČR 2018 - Klub","CZ",2018,10,6434,1.085,8454,9173,"x","x","Cirrus Std.","LY",""]
["Slavomir Piskaty 84",1984,"M","Kunovice","CZ/M","PMČR 2018 - Klub","CZ",2018,11,6350,1.085,8263,8965,"x",null,"Cirrus Std.","PIF",""]
["Lubomir Motl",1959,"M","Kyjov","CZ/M","PMČR 2018 - Klub","CZ",2018,12,6288,1.085,8094,8782,"x",null,"LS-1f","G2",""]
["Petr Panek",1975,"M","Dvůr Králové","CZ/C2","PMČR 2018 - Klub","CZ",2018,13,6277,1.085,7976,8654,null,null,"Cirrus Std.","YU",""]
["Ivan Harasta 65",1965,"M","Toužim","CZ/C1","PMČR 2018 - Klub","CZ",2018,14,6180,1.085,7772,8433,null,null,"ASW-15B","HI",""]
["Barbora Moravcova",1994,"F","Zbraslavice","CZ/C1","PMČR 2018 - Klub","CZ",2018,15,6105,1.085,7590,8235,null,null,"ASW-19B","CF",""]
["Jan Vavrin",1987,"M","Vysoké Mýto","CZ/C2","PMČR 2018 - Klub","CZ",2018,16,5981,1.085,7359,7985,"x",null,"ASW-15B","IG",""]
["Petra Piskata",1989,"F","Luhačovice","CZ/M","PMČR 2018 - Klub","CZ",2018,17,5826,1.085,7098,7701,"x","x","Cirrus Std.","XC",""]
["Zdenek Balcarek",1967,"M","Kroměříž","CZ/M","PMČR 2018 - Klub","CZ",2018,18,5802,1.085,6967,7559,null,null,"Cirrus Std.","ZL",""]
["Antonin Novotny",1972,"M","Luhačovice","CZ/M","PMČR 2018 - Klub","CZ",2018,19,5715,1.085,6773,7349,"x",null,"Cirrus Std.","SP",""]
["Jan Kotan",1982,"M","Letňany","CZ/C1","PMČR 2018 - Klub","CZ",2018,20,5682,1.085,{"$f":"ROUND(J730/MAX($J$711:$J$739)*10000*0.7+(MAX($I$711:$I$739)-I730)/(MAX($I$711:$I$739)-1)*10000*0.3,0)","v":6633},7197,"x",null,"ASW-19B","WT",""]
["Anna Bordovska",1989,"F","Mladá Boleslav","CZ/C1","PMČR 2018 - Klub","CZ",2018,21,5674,1.085,6517,7071,null,null,"Cirrus Std.","BW",""]
["Jiri Fousek",1990,"M","Raná","CZ/C2","PMČR 2018 - Klub","CZ",2018,22,5592,1.085,6328,6866,null,null,"Cirrus Std.","LW",""]
["Pavlina Horackova",1965,"F","Šumperk","CZ/M","PMČR 2018 - Klub","CZ",2018,23,5420,1.085,6050,6564,"x","x","SZD-48 Jantar Std. 3","SU",""]
["Petr Stepanek",1989,"M","Moravská Třebová","CZ/M","PMČR 2018 - Klub","CZ",2018,24,5358,1.085,5881,6381,"x",null,"ASW-19B","AE",""]
["Zdenek Boruvka 86",1986,"M","Jičín","CZ/C2","PMČR 2018 - Klub","CZ",2018,25,5213,1.085,5629,6107,null,null,"Cirrus Std.","BJ",""]
["Frantisek Filandr",1956,"M","Most","CZ/C2","PMČR 2018 - Klub","CZ",2018,26,5083,1.085,5392,5850,null,null,"Cirrus Std.","FF",""]
["Lumir Motyka",1955,"M","Frýdlant","CZ/M","PMČR 2018 - Klub","CZ",2018,27,4669,1.085,4872,{"$f":"ROUND(K737*L737,0)","v":5286},null,null,"LS-1f","EM",""]
["Leos Strnadek",1983,"M","Hodkovice","CZ/C2","PMČR 2018 - Klub","CZ",2018,28,4601,1.085,4697,5096,null,null,"ASW-19B","XZ",""]
["Pavel Brodsky",1992,"M","Hořice","CZ/C2","PMČR 2018 - Klub","CZ",2018,29,3487,1.085,3479,3775,"x",null,"ASW 19 B","MS",""]
["Radek Krejcirik",1991,"M","Hranice","CZ/M","PMČR 2018 - Kombi 15m","CZ",2018,1,6367,1.0799999999999998,{"$f":"ROUND(J740/MAX($J$740:$J$756)*10000*0.7+(MAX($I$740:$I$756)-I740)/(MAX($I$740:$I$756)-1)*10000*0.3,0)","v":10000},10800,"x",null,"Ventus 2a 15m","AX",""]
["Pavel Louzecky",1957,"M","Přibyslav","CZ/C2","PMČR 2018 - Kombi 15m","CZ",2018,2,6272,1.0799999999999998,{"$f":"ROUND(J741/MAX($J$740:$J$756)*10000*0.7+(MAX($I$740:$I$756)-I741)/(MAX($I$740:$I$756)-1)*10000*0.3,0)","v":9708},10485,"x",null,"LS-8b","FX",""]
["Petr Koutny",1971,"M","Křižanov","CZ/M","PMČR 2018 - Kombi 15m","CZ",2018,3,6151,1.0799999999999998,{"$f":"ROUND(J742/MAX($J$740:$J$756)*10000*0.7+(MAX($I$740:$I$756)-I742)/(MAX($I$740:$I$756)-1)*10000*0.3,0)","v":9388},10139,"x",null,"LS-8b 15m","SK",""]
["Miloslav Cink",{"$f":"VLOOKUP(A743,Pilot,2,0)","v":1987},{"$f":"VLOOKUP(A743,Pilot,5,0)","v":"M"},{"$f":"VLOOKUP(A743,Pilot,3,0)","v":"Letkov"},{"$f":"VLOOKUP(A743,Pilot,4,0)","v":"CZ/C1"},"PMČR 2018 - Kombi 15m","CZ",2018,4,6051,1.0799999999999998,9090,9817,null,null,"LS-8b 15m","JB",""]
["Dana Novakova",1965,"F","Mladá Boleslav","CZ/C1","PMČR 2018 - Kombi 15m","CZ",2018,5,5749,1.0799999999999998,8571,9257,"x","x","LS-8b","AU",""]
["Jan Pavlik",1987,"M","Křižanov","CZ/M","PMČR 2018 - Kombi 15m","CZ",2018,6,5736,1.0799999999999998,8369,9039,"x",null,"LS-8b 15m","JW",""]
["Jana Veprekova",1961,"F","Dvůr Králové","CZ/C2","PMČR 2018 - Kombi 15m","CZ",2018,7,5699,1.0799999999999998,8141,8792,null,null,"LS-8b 15m","W8",""]
["Jiri Kusbach",1959,"M","Luhačovice","CZ/M","PMČR 2018 - Kombi 15m","CZ",2018,8,5694,1.0799999999999998,7948,8584,null,null,"KKB-15E FES","B",""]
["Hana Treslova",1991,"F","Raná","CZ/C2","PMČR 2018 - Kombi 15m","CZ",2018,9,5632,1.0799999999999998,7692,8307,null,null,"LS-8b 15m","EU",""]
["Jan Boruvka",1984,"M","Jičín","CZ/C2","PMČR 2018 - Kombi 15m","CZ",2018,10,5579,1.0799999999999998,7446,8042,null,null,"Ventus c 15m+W","EG",""]
["Jan Viskot",1995,"M","Břeclav","CZ/M","PMČR 2018 - Kombi 15m","CZ",2018,11,5318,1.0799999999999998,6972,7530,null,null,"Discus 2a 15m","GX",""]
["Jiri Stepanek",1956,"M","Moravská Třebová","CZ/M","PMČR 2018 - Kombi 15m","CZ",2018,12,5303,1.0799999999999998,6768,7309,"x",null,"Duo Discus XLT","JIM",""]
["Lukas Capek",1992,"M","Letňany","CZ/C1","PMČR 2018 - Kombi 15m","CZ",2018,13,5284,1.0799999999999998,6559,7084,null,null,"303 Mosquito","LC",""]
["Ondrej Bordovsky",1983,"M","Krnov","CZ/M","PMČR 2018 - Kombi 15m","CZ",2018,14,5032,1.0799999999999998,6095,6583,null,null,"Ventus a 15m WL","FW",""]
["Karel Mares",1974,"M","Slaný","CZ/C1","PMČR 2018 - Kombi 15m","CZ",2018,15,4933,1.0799999999999998,5798,6262,null,null,"LS-8a 15m","YF",""]
["Radek Zima 78",1978,"M","Hodkovice","CZ/C2","PMČR 2018 - Kombi 15m","CZ",2018,16,2779,1.0799999999999998,3243,3502,null,null,"Ventus b 15m WL 500kg","7F",""]
["Slavomir Piskaty 58",1958,"M","Kunovice","CZ/M","PMČR 2018 - Kombi 15m","CZ",2018,17,2504,1.0799999999999998,2753,2973,null,null,"Discus b + W","KAL",""]
["Roman Mracek",1980,"M","Letkov","CZ/C1","PMČR 2018 - Kombi Open","CZ",2018,1,6767,1.0499999999999998,{"$f":"ROUND(J757/MAX($J$757:$J$770)*10000*0.7+(MAX($I$757:$I$770)-I757)/(MAX($I$757:$I$770)-1)*10000*0.3,0)","v":10000},10500,null,null,"ASG-29E 18m 600kg","QX",""]
["Tomas Suchanek",1964,"M","GAC Benešov","CZ/C1","PMČR 2018 - Kombi Open","CZ",2018,2,6763,1.0499999999999998,{"$f":"ROUND(J758/MAX($J$757:$J$770)*10000*0.7+(MAX($I$757:$I$770)-I758)/(MAX($I$757:$I$770)-1)*10000*0.3,0)","v":9765},10253,null,null,"ASG-29E 18m 600kg","QZ",""]
["Danes Grula",1961,"M","Medlánky","CZ/M","PMČR 2018 - Kombi Open","CZ",2018,3,6274,1.0499999999999998,9028,9479,"x",null,"ASG-29E 18m 600kg","DX",""]
["Petr Krejcirik",1960,"M","Hranice","CZ/M","PMČR 2018 - Kombi Open","CZ",2018,4,5888,1.0499999999999998,8398,8818,null,null,"JS-1C EVO CTJ 18m","ZF",""]
["John Buchanan",null,"M","Austrálie","AU","PMČR 2018 - Kombi Open","CZ",2018,5,5805,1.0499999999999998,8082,8486,null,null,"JS-3 18m","BB","Není v databázi"]
["Petr Hotovy",{"$f":"VLOOKUP(A762,Pilot,2,0)","v":1958},{"$f":"VLOOKUP(A762,Pilot,5,0)","v":"M"},{"$f":"VLOOKUP(A762,Pilot,3,0)","v":"Česká Lípa"},{"$f":"VLOOKUP(A762,Pilot,4,0)","v":"CZ/C2"},"PMČR 2018 - Kombi Open","CZ",2018,6,5675,1.0499999999999998,7717,8103,null,null,"JS-1B 18m","IGC",""]
["Zdislaw Bednarczuk",null,"M","Polsko","PL","PMČR 2018 - Kombi Open","CZ",2018,7,5442,1.0499999999999998,7245,7607,null,null,"ASG-29E 18m 600kg","ZB","Není v databázi"]
["Lenka Kuthanova",{"$f":"VLOOKUP(A764,Pilot,2,0)","v":1960},{"$f":"VLOOKUP(A764,Pilot,5,0)","v":"F"},{"$f":"VLOOKUP(A764,Pilot,3,0)","v":"Tábor"},{"$f":"VLOOKUP(A764,Pilot,4,0)","v":"CZ/C1"},"PMČR 2018 - Kombi Open","CZ",2018,8,5297,1.0499999999999998,6864,7207,null,null,"JS-1 CTJ EVO 18m","LX",""]
["Martin Pekar",{"$f":"VLOOKUP(A765,Pilot,2,0)","v":1973},{"$f":"VLOOKUP(A765,Pilot,5,0)","v":"M"},{"$f":"VLOOKUP(A765,Pilot,3,0)","v":"Šumperk"},{"$f":"VLOOKUP(A765,Pilot,4,0)","v":"CZ/M"},"PMČR 2018 - Kombi Open","CZ",2018,9,5151,1.0499999999999998,6482,6806,null,null,"HPH 304e Shark 18m 573kg","ES",""]
["Jiri Steiger",{"$f":"VLOOKUP(A766,Pilot,2,0)","v":1969},{"$f":"VLOOKUP(A766,Pilot,5,0)","v":"M"},{"$f":"VLOOKUP(A766,Pilot,3,0)","v":"Olomouc"},{"$f":"VLOOKUP(A766,Pilot,4,0)","v":"CZ/M"},"PMČR 2018 - Kombi Open","CZ",2018,10,5131,1.0499999999999998,6231,6543,null,null,"Ventus 2 cxt 18m 600kg","JS",""]
["Eva Cerna",{"$f":"VLOOKUP(A767,Pilot,2,0)","v":1964},{"$f":"VLOOKUP(A767,Pilot,5,0)","v":"F"},{"$f":"VLOOKUP(A767,Pilot,3,0)","v":"Příbram"},{"$f":"VLOOKUP(A767,Pilot,4,0)","v":"CZ/C1"},"PMČR 2018 - Kombi Open","CZ",2018,11,5036,1.0499999999999998,5902,6197,"x","x","Ventus 2cxt 18m 600kg","EK",""]
["Takeshi Maruyama",null,"M","Japonsko","JP","PMČR 2018 - Kombi Open","CZ",2018,12,4963,1.0499999999999998,{"$f":"ROUND(J768/MAX($J$757:$J$770)*10000*0.7+(MAX($I$757:$I$770)-I768)/(MAX($I$757:$I$770)-1)*10000*0.3,0)","v":5595},5875,null,null,"ASG-29E 18m 600kg","2C","Není v databázi"]
["Ondrej Dupal",{"$f":"VLOOKUP(A769,Pilot,2,0)","v":1966},{"$f":"VLOOKUP(A769,Pilot,5,0)","v":"M"},{"$f":"VLOOKUP(A769,Pilot,3,0)","v":"GAC Benešov"},{"$f":"VLOOKUP(A769,Pilot,4,0)","v":"CZ/C1"},"PMČR 2018 - Kombi Open","CZ",2018,13,3438,1.0499999999999998,3787,3976,null,null,"ASG-29E 18m 600kg","GO",""]
["Vladimir Spilka",1940,"M","Hranice","CZ/M","PMČR 2018 - Kombi Open","CZ",2018,14,1834,1.0499999999999998,1897,1992,"x",null,"Nimbus 2b","AY",""]
["Karel Novak",1993,"M","Mladá Boleslav","CZ/C1","PMČRj 2018 - Klub","CZ",2018,1,9098,0.93500000000000005,{"$f":"ROUND(J771/MAX($J$771:$J$800)*10000*0.7+(MAX($I$771:$I$800)-I771)/(MAX($I$771:$I$800)-1)*10000*0.3,0)","v":10000},9350,null,null,"Std. Cirrus","CX",""]
["Jaromir Macoun",1999,"M","Jičín","CZ/C2","PMČRj 2018 - Klub","CZ",2018,2,8720,0.93500000000000005,{"$f":"ROUND(J772/MAX($J$771:$J$800)*10000*0.7+(MAX($I$771:$I$800)-I772)/(MAX($I$771:$I$800)-1)*10000*0.3,0)","v":9606},8982,"x",null,"Std. Cirrus","SC","Junior v roce 2021"]
["Daniel Ryba",1994,"M","Dvůr Králové","CZ/C2","PMČRj 2018 - Klub","CZ",2018,3,8690,0.93500000000000005,9479,8863,null,null,"ASW 19B","L7",""]
["Jan Zapletal",1997,"M","Břeclav","CZ/M","PMČRj 2018 - Klub","CZ",2018,4,8160,0.93500000000000005,8968,8385,null,null,"Std. Cirrus","FW","Junior v roce 2021"]
["Petr Valenta 94",1994,"M","Kunovice","CZ/M","PMČRj 2018 - Klub","CZ",2018,5,7839,{"$f":"VLOOKUP(F775,Soutez,12,0)","v":0.93500000000000005},8618,8058,"x",null,"Std. Cirrus","PIF",{"$f":"IF(ISERROR(VLOOKUP(A775,Pilot,6,0)),\"Není v databázi\",VLOOKUP(A775,Pilot,6,0))","v":""}]
["Jan Vozeh",1995,"M","Rakovník","CZ/C1","PMČRj 2018 - Klub","CZ",2018,6,7727,0.93500000000000005,8428,7880,"x",null,"Std. Cirrus","OG",""]
["Ivan Tvrdik",1997,"M","Letňany","CZ/C1","PMČRj 2018 - Klub","CZ",2018,7,7315,0.93500000000000005,8007,7487,"x",null,"Cirrus 75",77,"Junior v roce 2021"]
["Tomas Jilek",1995,"M","Raná","CZ/C2","PMČRj 2018 - Klub","CZ",2018,8,7217,0.93500000000000005,7829,7320,"x",null,"ASW 15","PI",""]
["Daniel Suchy",1995,"M","Hranice","CZ/M","PMČRj 2018 - Klub","CZ",2018,9,6775,0.93500000000000005,7385,6905,"x",null,"G 102 Astir CS","W7",""]
["Vit Morkovsky",2000,"M","Polička","CZ/C2","PMČRj 2018 - Klub","CZ",2018,10,6705,0.93500000000000005,7228,6758,null,null,"ASW 24A bez TN8","SM","Junior v roce 2021"]
["Ondrej Dvorak 98",1998,"M","Mladá Boleslav","CZ/C1","PMČRj 2018 - Klub","CZ",2018,11,6500,0.93500000000000005,6967,6514,"x",null,"ASW 19B","AH","Junior v roce 2021"]
["Josef Hlusek",1993,"M","Kunovice","CZ/M","PMČRj 2018 - Klub","CZ",2018,12,6452,0.93500000000000005,6826,6382,"x",null,"Std. Cirrus","WO",""]
["Tereza Koubkova",1999,"F","Vysoké Mýto","CZ/C2","PMČRj 2018 - Klub","CZ",2018,13,6201,0.93500000000000005,6530,6106,null,null,"Std. Cirrus","WY","Junior v roce 2021"]
["Jan Beran",1999,"M","Kladno","CZ/C1","PMČRj 2018 - Klub","CZ",2018,14,6175,0.93500000000000005,6406,5990,"x",null,"VSO-10",23,"Junior v roce 2021"]
["Tomas Moravec",2000,"M","Žamberk","CZ/C2","PMČRj 2018 - Klub","CZ",2018,15,6155,0.93500000000000005,6287,5878,"x",null,"Std. Cirrus WL","OK6","Junior v roce 2021"]
["Vladimir Hammer",2000,"M","Letkov","CZ/C1","PMČRj 2018 - Klub","CZ",2018,16,6035,0.93500000000000005,6092,5696,"x",null,"Std. Cirrus","2U","Junior v roce 2021"]
["Tomas Hulmak",1999,"M","Hosín","CZ/C1","PMČRj 2018 - Klub","CZ",2018,17,6027,0.93500000000000005,5982,5593,null,null,"ASW 15B","XI","Junior v roce 2021"]
["Lukas Maly",1998,"M","Vysoké Mýto","CZ/C2","PMČRj 2018 - Klub","CZ",2018,18,5937,0.93500000000000005,5809,5431,"x",null,"ASW 15B","AM","Junior v roce 2021"]
["Jan Kostka",1996,"M","Kladno","CZ/C1","PMČRj 2018 - Klub","CZ",2018,19,5924,0.93500000000000005,5696,5326,"x",null,"VSO-10","F8","Junior v roce 2021"]
["Michal Coufal",1999,"M","Jičín","CZ/C2","PMČRj 2018 - Klub","CZ",2018,20,5548,0.93500000000000005,5303,4958,"x",null,"Std. Cirrus","FS","Junior v roce 2021"]
["Filip Vita",2001,"M","Kroměříž","CZ/M","PMČRj 2018 - Klub","CZ",2018,21,5339,0.93500000000000005,5039,4711,"x",null,"G 102 Astir Jeans","2Y","Junior v roce 2021"]
["Marek Pechar",1995,"M","Chrudim","CZ/C2","PMČRj 2018 - Klub","CZ",2018,22,5296,0.93500000000000005,4902,4583,"x",null,"Std. Cirrus WL","JE",""]
["Lukas Kotek",1994,"M","Frýdlant","CZ/M","PMČRj 2018 - Klub","CZ",2018,23,4896,0.93500000000000005,{"$f":"ROUND(J793/MAX($J$771:$J$800)*10000*0.7+(MAX($I$771:$I$800)-I793)/(MAX($I$771:$I$800)-1)*10000*0.3,0)","v":4491},4199,"x",null,"DG 200 15m","AK",""]
["Jiri Maier 99",1999,"M","Raná","CZ/C2","PMČRj 2018 - Klub","CZ",2018,24,3926,0.93500000000000005,3641,3404,null,null,"VSO-10","I9","Junior v roce 2021"]
["Zuzana Kutilkova",1993,"F","Křižanov","CZ/M","PMČRj 2018 - Klub","CZ",2018,25,3726,0.93500000000000005,3384,3164,"x","x","LS 1 f","R7",""]
["Tereza Novakova",1993,"F","Chrudim","CZ/C2","PMČRj 2018 - Klub","CZ",2018,26,3643,0.93500000000000005,3217,3008,"x","x","Std. Cirrus","FF",""]
["Sabina Vitova",1998,"F","Kroměříž","CZ/M","PMČRj 2018 - Klub","CZ",2018,27,3597,0.93500000000000005,3078,2878,"x","x","G 102 Astir Jeans","IT","Junior v roce 2021"]
["Zuzana Markesova",2001,"F","Medlánky","CZ/M","PMČRj 2018 - Klub","CZ",2018,28,3191,0.93500000000000005,2662,2489,"x","x","G 102 Astir CS","DC","Junior v roce 2021"]
["Radek Laga",1997,"M","Kunovice","CZ/M","PMČRj 2018 - Klub","CZ",2018,29,2991,0.93500000000000005,2405,2249,"x",null,"G 102 Astir CS","O5","Junior v roce 2021"]
["Kristina Santruckova",1996,"F","Podhořany","CZ/C2","PMČRj 2018 - Klub","CZ",2018,30,2847,0.93500000000000005,2190,2048,"x","x","ASW 15B WL","KS","Junior v roce 2021"]
["Marek Pechanec",{"$f":"VLOOKUP(A801,Pilot,2,0)","v":1970},{"$f":"VLOOKUP(A801,Pilot,5,0)","v":"M"},{"$f":"VLOOKUP(A801,Pilot,3,0)","v":"Luhačovice"},{"$f":"VLOOKUP(A801,Pilot,4,0)","v":"CZ/M"},"PMRg 2018 - Klub","CZ",2018,1,6509,0.94500000000000006,{"$f":"ROUND(J801/MAX($J$801:$J$836)*10000*0.7+(MAX($I$801:$I$836)-I801)/(MAX($I$801:$I$836)-1)*10000*0.3,0)","v":10000},{"$f":"ROUND(K801*L801,0)","v":9450},null,null,"std. cirrus","SJ",""]
["Zdenek Boruvka 86",1986,"M","Jičín","CZ/C2","PMRg 2018 - Klub","CZ",2018,2,6377,0.94500000000000006,{"$f":"ROUND(J802/MAX($J$801:$J$836)*10000*0.7+(MAX($I$801:$I$836)-I802)/(MAX($I$801:$I$836)-1)*10000*0.3,0)","v":9772},9235,"x",null,"Std. Cirrus","BJ",""]
["Karel Novak",1993,"M","Mladá Boleslav","CZ/C1","PMRg 2018 - Klub","CZ",2018,3,6342,0.94500000000000006,9649,9118,null,null,"std. cirrus","DI",""]
["Daniel Ryba",1994,"M","Dvůr Králové","CZ/C2","PMRg 2018 - Klub","CZ",2018,4,6268,0.94500000000000006,9484,8962,"x",null,"ASW-19B","L7",""]
["Petr Panek",1975,"M","Dvůr Králové","CZ/C2","PMRg 2018 - Klub","CZ",2018,5,6208,0.94500000000000006,9333,8820,"x",null,"std. cirrus","YU",""]
["Vaclav Marel",1974,"M","Jaroměř","CZ/C2","PMRg 2018 - Klub","CZ",2018,6,5949,0.94500000000000006,8969,8476,null,null,"Std. Cirrus","IF",""]
["Jan Ratz",1987,"M","Zbraslavice","CZ/C1","PMRg 2018 - Klub","CZ",2018,7,5857,0.94500000000000006,8785,8302,null,null,"Std. Cirrus","REX",""]
["Lukas Koukal",1991,"M","Letkov","CZ/C1","PMRg 2018 - Klub","CZ",2018,8,5526,0.94500000000000006,8343,7884,"x",null,"ASW-15B","T1",""]
["Jan Vavrin",1987,"M","Vysoké Mýto","CZ/C2","PMRg 2018 - Klub","CZ",2018,9,5438,0.94500000000000006,8162,7713,null,null,"ASW-15B","IG",""]
["Vojtech Novotny",1992,"M","Kralupy","CZ/C1","PMRg 2018 - Klub","CZ",2018,10,5418,0.94500000000000006,8055,7612,null,null,"LS-1f","EF",""]
["Lukas Plocek",1990,"M","Mladá Boleslav","CZ/C1","PMRg 2018 - Klub","CZ",2018,11,5400,0.94500000000000006,7950,7513,"x",null,"ASW-19B","AH",""]
["Michal Krupicka",1975,"M","Most","CZ/C2","PMRg 2018 - Klub","CZ",2018,12,5390,0.94500000000000006,7854,7422,"x",null,"Std. Cirrus","K",""]
["Marek Svancara",1976,"M","GAC Benešov","CZ/C1","PMRg 2018 - Klub","CZ",2018,13,5343,0.94500000000000006,7717,7293,"x",null,"Std. Cirrus","GT",""]
["Jan Zahradka",1981,"M","Hodkovice","CZ/C2","PMRg 2018 - Klub","CZ",2018,14,5324,0.94500000000000006,7611,7192,null,null,"Std. Cirrus","AR",""]
["Jan Smaha",1958,"M","Česká Lípa","CZ/C2","PMRg 2018 - Klub","CZ",2018,15,5255,0.94500000000000006,7451,7041,null,null,"ASW-15B","CW",""]
["Jan Hruska",1988,"M","Tábor","CZ/C1","PMRg 2018 - Klub","CZ",2018,16,5175,0.94500000000000006,7280,6880,"x",null,"ASW-15B","LF",""]
["Vojtech Hajek",1987,"M","Mladá Boleslav","CZ/C1","PMRg 2018 - Klub","CZ",2018,17,5122,0.94500000000000006,7137,6744,"x",null,"Std. Cirrus","BW",""]
["Antonin Novotny",1972,"M","Luhačovice","CZ/M","PMRg 2018 - Klub","CZ",2018,18,5057,0.94500000000000006,6981,6597,null,null,"Std. Cirrus","SP",""]
["Ondrej Sindelar",1979,"M","Mladá Boleslav","CZ/C1","PMRg 2018 - Klub","CZ",2018,19,4881,0.94500000000000006,6706,6337,"x",null,"ASW-19B","OI",""]
["Jakub Kohn",1992,"M","Prostějov","CZ/M","PMRg 2018 - Klub","CZ",2018,20,4714,0.94500000000000006,6441,6087,"x",null,"ASW-15B","FK",""]
["Ladislav Jozsa",1981,"M","Medlánky","CZ/M","PMRg 2018 - Klub","CZ",2018,21,4708,0.94500000000000006,6349,6000,null,null,"Std. Cirrus","LJ",""]
["Jindrich Hruska",1986,"M","Soběslav","CZ/C1","PMRg 2018 - Klub","CZ",2018,22,4616,0.94500000000000006,6164,5825,"x",null,"ASW-15","ASW",""]
["Pavlina Horackova",1965,"F","Šumperk","CZ/M","PMRg 2018 - Klub","CZ",2018,23,4590,0.94500000000000006,6051,5718,null,null,"SZD-48 Jantar Std. 2(3)","SU",""]
["Jan Vozeh",1995,"M","Rakovník","CZ/C1","PMRg 2018 - Klub","CZ",2018,24,4499,0.94500000000000006,5867,5544,null,null,"std. cirrus","OG",""]
["David Sachl",1978,"M","Kralupy","CZ/C1","PMRg 2018 - Klub","CZ",2018,25,4374,0.94500000000000006,{"$f":"ROUND(J825/MAX($J$801:$J$836)*10000*0.7+(MAX($I$801:$I$836)-I825)/(MAX($I$801:$I$836)-1)*10000*0.3,0)","v":5647},5336,null,null,"DG-300","BK",""]
["Vilem Riha",1990,"M","Letňany","CZ/C1","PMRg 2018 - Klub","CZ",2018,26,4300,0.94500000000000006,5482,5180,"x",null,"Std. Cirrus","UB",""]
["Karel Knotek",1961,"M","Soběslav","CZ/C1","PMRg 2018 - Klub","CZ",2018,27,4163,0.94500000000000006,5248,4959,"x",null,"ASW-19","SO",""]
["Martin Kriz",1968,"M","Přibyslav","CZ/C2","PMRg 2018 - Klub","CZ",2018,28,4085,0.94500000000000006,5079,4800,"x",null,"ASW-15B","BE",""]
["Pavel Liska",1965,"M","Roudnice","CZ/C2","PMRg 2018 - Klub","CZ",2018,29,3725,0.94500000000000006,4606,4353,null,null,"ASW-19B","RCE",""]
["Tereza Koubkova",1999,"F","Vysoké Mýto","CZ/C2","PMRg 2018 - Klub","CZ",2018,30,3668,0.94500000000000006,4459,4214,null,null,"Std. Cirrus","WY","Junior v roce 2021"]
["Karel Policky",1950,"M","Kolín","CZ/C1","PMRg 2018 - Klub","CZ",2018,31,3427,0.94500000000000006,4114,3888,"x",null,"VSO-10",47,""]
["Ondrej Dvorak 98",1998,"M","Mladá Boleslav","CZ/C1","PMRg 2018 - Klub","CZ",2018,32,3377,0.94500000000000006,3975,3756,null,null,"ASW-15B","MB","Junior v roce 2021"]
["Pavel Sulc",{"$f":"VLOOKUP(A833,Pilot,2,0)","v":1976},{"$f":"VLOOKUP(A833,Pilot,5,0)","v":"M"},{"$f":"VLOOKUP(A833,Pilot,3,0)","v":"Hodkovice"},{"$f":"VLOOKUP(A833,Pilot,4,0)","v":"CZ/C2"},"PMRg 2018 - Klub","CZ",2018,33,3096,0.94500000000000006,3587,3390,"x",null,"Std. Cirrus","AC",""]
["Milada Moudra",1991,"F","Hodkovice","CZ/C2","PMRg 2018 - Klub","CZ",2018,34,2540,0.94500000000000006,2903,2743,"x","x","ASW-19B","XP",""]
["Leos Strnadek",1983,"M","Hodkovice","CZ/C2","PMRg 2018 - Klub","CZ",2018,35,2113,0.94500000000000006,2358,2228,null,null,"ASW-19B","XZ",""]
["Petr Lonsky",1965,"M","Toužim","CZ/C1","PMRg 2018 - Klub","CZ",2018,36,638,0.94500000000000006,686,648,null,null,"Cirrus VTC","JP",""]
["Jan Louda",1986,"M","Mladá Boleslav","CZ/C1","PMRg 2018 - Kombi","CZ",2018,1,7195,0.95000000000000007,{"$f":"ROUND(J837/MAX($J$837:$J$853)*10000*0.7+(MAX($I$837:$I$853)-I837)/(MAX($I$837:$I$853)-1)*10000*0.3,0)","v":10000},9500,null,null,"Ventus a 15m WL 500kg (voda)","FW",""]
["Karel Mares",1974,"M","Slaný","CZ/C1","PMRg 2018 - Kombi","CZ",2018,2,6865,0.95000000000000007,{"$f":"ROUND(J838/MAX($J$837:$J$853)*10000*0.7+(MAX($I$837:$I$853)-I838)/(MAX($I$837:$I$853)-1)*10000*0.3,0)","v":9491},9016,"x",null,"LS-8b, LS-8-18, LS-8t /18m","YF",""]
["Jana Veprekova",1961,"F","Dvůr Králové","CZ/C2","PMRg 2018 - Kombi","CZ",2018,3,6818,{"$f":"VLOOKUP(F839,Soutez,12,0)","v":0.95000000000000007},9258,8795,"x","x","LS 8,a,b,s,st,18 15m (voda)","W8",{"$f":"IF(ISERROR(VLOOKUP(A839,Pilot,6,0)),\"Není v databázi\",VLOOKUP(A839,Pilot,6,0))","v":""}]
["Hana Treslova",1991,"F","Raná","CZ/C2","PMRg 2018 - Kombi","CZ",2018,4,6765,0.95000000000000007,9019,8568,"x","x","LS 8,a,b,s,st,18 15m (voda)","FX",""]
["Dana Novakova",1965,"F","Mladá Boleslav","CZ/C1","PMRg 2018 - Kombi","CZ",2018,5,6742,0.95000000000000007,8809,8369,null,null,"LS 8,a,b,s,st,18 15m (voda)","AU",""]
["Jana Treslova",1963,"F","Raná","CZ/C2","PMRg 2018 - Kombi","CZ",2018,6,6716,0.95000000000000007,8596,8166,"x","x","LS 8,a,b,s,st,18 15m (voda)","EU",""]
["Jiri Kusbach",1959,"M","Luhačovice","CZ/M","PMRg 2018 - Kombi","CZ",2018,7,6510,0.95000000000000007,8209,7799,null,null,"KKB-18E FES (voda)","B",""]
["Radek Zima 78",1978,"M","Hodkovice","CZ/C2","PMRg 2018 - Kombi","CZ",2018,8,6481,0.95000000000000007,7993,7593,"x",null,"Ventus b /15m WL -500 kg","7F",""]
["Petr Hotovy",1958,"M","Česká Lípa","CZ/C2","PMRg 2018 - Kombi","CZ",2018,9,6061,0.95000000000000007,7397,7027,null,null,"JS-1A,B,C,BTJ,CTJ 18m (voda)","IGC",""]
["Ladislav Prokes",1954,"M","Vrchlabí","CZ/C2","PMRg 2018 - Kombi","CZ",2018,10,5935,0.95000000000000007,7087,6733,"x",null,"Discus b","VR",""]
["Jaroslav Buryan",1953,"M","Zábřeh","CZ/M","PMRg 2018 - Kombi","CZ",2018,11,5901,0.95000000000000007,6866,6523,null,null,"ASW-20(A)+F 15m+W (voda)","NS",""]
["Miroslav Koci",1961,"M","Žamberk","CZ/C2","PMRg 2018 - Kombi","CZ",2018,12,4877,0.95000000000000007,5682,5398,null,null,"Ventusy: 2cx, 2cxm, 2cxt /18m -600 kg","E8",""]
["Slavomir Piskaty 58",1958,"M","Kunovice","CZ/M","PMRg 2018 - Kombi","CZ",2018,13,4380,0.95000000000000007,5011,4760,"x",null,"Discus b +W(voda)","KAL",""]
["Martin Cicvarek",1966,"M","Liberec","CZ/C2","PMRg 2018 - Kombi","CZ",2018,14,4248,0.95000000000000007,4695,4460,null,null,"DG-400 17m","AC",""]
["Petr Frycek",1960,"M","Most","CZ/C2","PMRg 2018 - Kombi","CZ",2018,15,3737,0.95000000000000007,4011,3810,"x",null,"Nimbus 3 (25,5m,700kg)(voda)","F",""]
["Antonin Kutalek",1943,"M","Zábřeh","CZ/M","PMRg 2018 - Kombi","CZ",2018,16,2610,0.95000000000000007,{"$f":"ROUND(J852/MAX($J$837:$J$853)*10000*0.7+(MAX($I$837:$I$853)-I852)/(MAX($I$837:$I$853)-1)*10000*0.3,0)","v":2727},2591,null,null,"Mini-Nimbus c (voda)","GL",""]
["Olga Mokosova",1970,"F","Jihlava","CZ/M","PMRg 2018 - Kombi","CZ",2018,17,2309,0.95000000000000007,{"$f":"ROUND(J853/MAX($J$837:$J$853)*10000*0.7+(MAX($I$837:$I$853)-I853)/(MAX($I$837:$I$853)-1)*10000*0.3,0)","v":2246},2134,null,null,"LS 6c 18m+W (voda)","MM",""]
["Petr Krejcirik",1960,"M","Hranice","CZ/M","PMSR 2018 - Kombi","SK",2018,1,5346,0.93500000000000005,{"$f":"ROUND(J854/MAX($J$854:$J$873)*10000*0.7+(MAX($I$854:$I$873)-I854)/(MAX($I$854:$I$873)-1)*10000*0.3,0)","v":10000},9350,"x",null,"JS1-CTJ 18 EVO","ZF",""]
["Viliam Kubovcik",null,null,"AK Poprad",null,"PMSR 2018 - Kombi","SK",2018,2,5324,0.93500000000000005,{"$f":"ROUND(J855/MAX($J$854:$J$873)*10000*0.7+(MAX($I$854:$I$873)-I855)/(MAX($I$854:$I$873)-1)*10000*0.3,0)","v":9813},9175,null,null,"Ventus 2cxt","W","Není v databázi"]
["Dominik Jancik",null,null,"Nitra",null,"PMSR 2018 - Kombi","SK",2018,3,5203,0.93500000000000005,9497,8880,null,null,"LS-8 /15m","SI","Není v databázi"]
["Niko & Darnady",null,null,"AK PRIEVIDZA / AK NITRA",null,"PMSR 2018 - Kombi","SK",2018,4,5195,0.93500000000000005,9329,8723,null,null,"Duo Discus (700 kg)","2X","Není v databázi"]
["Vladimir Foltin",null,null,"Aeroklub Nitra",null,"PMSR 2018 - Kombi","SK",2018,5,5000,0.93500000000000005,8915,8336,null,null,"LS 10/18m",10,"Není v databázi"]
["Maros Divok",null,null,"Spišská Nová Ves",null,"PMSR 2018 - Kombi","SK",2018,6,4902,0.93500000000000005,8629,8068,null,null,"Discus 2b","DI","Není v databázi"]
["Lubor Kuvik",null,null,"Air Sympatia",null,"PMSR 2018 - Kombi","SK",2018,7,4658,0.93500000000000005,8152,7622,null,null,"ASG 29E/18m","LK","Není v databázi"]
["Somol & Fratrik",null,null,"SGC Martin",null,"PMSR 2018 - Kombi","SK",2018,8,4645,0.93500000000000005,7977,7458,null,null,"Duo Discus WL (700 kg)","SGC","Není v databázi"]
["Fürjes & Belakova",null,null,"SGC MARTIN",null,"PMSR 2018 - Kombi","SK",2018,9,4377,0.93500000000000005,7468,6983,null,null,"Arcus M","TWO","Není v databázi"]
["Tibor Arpas",null,null,"Nitra",null,"PMSR 2018 - Kombi","SK",2018,10,4363,0.93500000000000005,7292,6818,null,null,"LS-8 /15m","JW","Není v databázi"]
["Jana Treslova",{"$f":"VLOOKUP(A864,Pilot,2,0)","v":1963},{"$f":"VLOOKUP(A864,Pilot,5,0)","v":"F"},{"$f":"VLOOKUP(A864,Pilot,3,0)","v":"Raná"},{"$f":"VLOOKUP(A864,Pilot,4,0)","v":"CZ/C2"},"PMSR 2018 - Kombi","SK",2018,11,4327,0.93500000000000005,7087,6626,null,null,"LS-8 /15m","EU",""]
["Jozef Pesko",null,null,"Nitra",null,"PMSR 2018 - Kombi","SK",2018,12,4198,0.93500000000000005,6760,{"$f":"ROUND(K865*L865,0)","v":6321},null,null,"LS-8t /18m","HM","Není v databázi"]
["Jakubcak & Jesensky",null,null,"SGC Martin",null,"PMSR 2018 - Kombi","SK",2018,13,3595,0.93500000000000005,5813,5435,null,null,"Arcus M","CAR","Není v databázi"]
["Peter Janoska",null,null,"Nitra",null,"PMSR 2018 - Kombi","SK",2018,14,3453,0.93500000000000005,5469,5114,null,null,"LS-6c /15m","N6","Není v databázi"]
["Hupka & Holak",null,null,"Nitra",null,"PMSR 2018 - Kombi","SK",2018,15,2940,0.93500000000000005,4639,4337,null,null,"DG-1000T","NIT","Není v databázi"]
["Jan Divok",null,null,"Spišská Nová Ves",null,"PMSR 2018 - Kombi","SK",2018,16,2863,0.93500000000000005,4380,4095,null,null,"Discus 2T /18m","DJ","Není v databázi"]
["Martin Picka",{"$f":"VLOOKUP(A870,Pilot,2,0)","v":1974},{"$f":"VLOOKUP(A870,Pilot,5,0)","v":"M"},{"$f":"VLOOKUP(A870,Pilot,3,0)","v":"Tábor"},{"$f":"VLOOKUP(A870,Pilot,4,0)","v":"CZ/C1"},"PMSR 2018 - Kombi","SK",2018,17,2720,0.93500000000000005,{"$f":"ROUND(J870/MAX($J$854:$J$873)*10000*0.7+(MAX($I$854:$I$873)-I870)/(MAX($I$854:$I$873)-1)*10000*0.3,0)","v":4035},3773,null,null,"Duo Discus (750 kg)",777,""]
["Zdislaw Bednarczuk",null,null,"PL",null,"PMSR 2018 - Kombi","SK",2018,18,1868,0.93500000000000005,2762,2582,null,null,"JS 1 Revelation","ZB","Není v databázi"]
["Milos Mach",null,null,"Nové Zámky",null,"PMSR 2018 - Kombi","SK",2018,19,1862,0.93500000000000005,2596,2427,null,null,"Discus 2T /18m","JH","Není v databázi"]
["Jan Keher",null,null,"Prievidza",null,"PMSR 2018 - Kombi","SK",2018,20,1661,0.93500000000000005,2175,2034,null,null,"Discus b","DR","Není v databázi"]
["Petr Rygl",{"$f":"VLOOKUP(A874,Pilot,2,0)","v":1966},{"$f":"VLOOKUP(A874,Pilot,5,0)","v":"M"},{"$f":"VLOOKUP(A874,Pilot,3,0)","v":"Jičín"},{"$f":"VLOOKUP(A874,Pilot,4,0)","v":"CZ/C2"},"Pohár Českého Ráje 2018 - Kombi","CZ",2018,1,4221,0.77,{"$f":"ROUND(J874/MAX($J$874:$J$883)*10000*0.7+(MAX($I$874:$I$883)-I874)/(MAX($I$874:$I$883)-1)*10000*0.3,0)","v":10000},7700,"x",null,"ASW 15b","A18",""]
["Zbynek Fuksa",{"$f":"VLOOKUP(A875,Pilot,2,0)","v":1956},{"$f":"VLOOKUP(A875,Pilot,5,0)","v":"M"},{"$f":"VLOOKUP(A875,Pilot,3,0)","v":"Jičín"},{"$f":"VLOOKUP(A875,Pilot,4,0)","v":"CZ/C2"},"Pohár Českého Ráje 2018 - Kombi","CZ",2018,2,3872,0.77,{"$f":"ROUND(J875/MAX($J$874:$J$883)*10000*0.7+(MAX($I$874:$I$883)-I875)/(MAX($I$874:$I$883)-1)*10000*0.3,0)","v":9088},6998,"x",null,"Duo Discus xlt",88,""]
["Radek Tobolka",{"$f":"VLOOKUP(A876,Pilot,2,0)","v":1977},{"$f":"VLOOKUP(A876,Pilot,5,0)","v":"M"},{"$f":"VLOOKUP(A876,Pilot,3,0)","v":"Jičín"},{"$f":"VLOOKUP(A876,Pilot,4,0)","v":"CZ/C2"},"Pohár Českého Ráje 2018 - Kombi","CZ",2018,3,3659,0.77,8401,6469,"x",null,"Std. Cir.","XL",""]
["Petr Tax",{"$f":"VLOOKUP(A877,Pilot,2,0)","v":1968},{"$f":"VLOOKUP(A877,Pilot,5,0)","v":"M"},{"$f":"VLOOKUP(A877,Pilot,3,0)","v":"Jičín"},{"$f":"VLOOKUP(A877,Pilot,4,0)","v":"CZ/C2"},"Pohár Českého Ráje 2018 - Kombi","CZ",2018,4,3463,0.77,7743,5962,"x",null,"Terej","PT",""]
["I. KopaCek + L. Florian",null,null,"Jičín","CZ/C2","Pohár Českého Ráje 2018 - Kombi","CZ",2018,5,3123,0.77,6846,5271,null,null,"Std. Cirrus","SC","Není v databázi"]
["P. Kyzivat + M. Coufal",null,null,"Jičín","CZ/C2","Pohár Českého Ráje 2018 - Kombi","CZ",2018,6,2657,0.77,5740,4420,null,null,"Std. Cirrus","FS","Není v databázi"]
["Lukas Jezek",{"$f":"VLOOKUP(A880,Pilot,2,0)","v":1975},{"$f":"VLOOKUP(A880,Pilot,5,0)","v":"M"},{"$f":"VLOOKUP(A880,Pilot,3,0)","v":"Jičín"},{"$f":"VLOOKUP(A880,Pilot,4,0)","v":"CZ/C2"},"Pohár Českého Ráje 2018 - Kombi","CZ",2018,7,2521,0.77,{"$f":"ROUND(J880/MAX($J$874:$J$883)*10000*0.7+(MAX($I$874:$I$883)-I880)/(MAX($I$874:$I$883)-1)*10000*0.3,0)","v":5181},3989,"x",null,"Janus 18.2m","JC",""]
["Miroslav Trybucek",1965,"M","Jičín","CZ/C2","Pohár Českého Ráje 2018 - Kombi","CZ",2018,8,1750,0.77,3569,2748,"x",null,"Ventus 2cT/18m","OZ",""]
["Ales Holoubek",1966,"M","Jičín","CZ/C2","Pohár Českého Ráje 2018 - Kombi","CZ",2018,9,1414,0.77,2678,2062,"x",null,"ASW 15B","T",""]
["Jaromir Macoun",1999,"M","Jičín","CZ/C2","Pohár Českého Ráje 2018 - Kombi","CZ",2018,10,735,0.77,1219,939,null,null,"Std. Cirrus","CX","Junior v roce 2021"]
["Petr Hofman",1984,"M","Letňany","CZ/C1","PPV 2018 - Klub","CZ",2018,1,4925,0.91,{"$f":"ROUND(J884/MAX($J$884:$J$927)*10000*0.7+(MAX($I$884:$I$927)-I884)/(MAX($I$884:$I$927)-1)*10000*0.3,0)","v":10000},9100,"x",null,"ASW-15B","MA",""]
["Jan Zahradka",1981,"M","Hodkovice","CZ/C2","PPV 2018 - Klub","CZ",2018,2,4916,0.91,{"$f":"ROUND(J885/MAX($J$884:$J$927)*10000*0.7+(MAX($I$884:$I$927)-I885)/(MAX($I$884:$I$927)-1)*10000*0.3,0)","v":9917},9024,"x",null,"Cirrus Std.","AR",""]
["Michal Kodousek",1983,"M","Jaroměř","CZ/C2","PPV 2018 - Klub","CZ",2018,3,4862,0.91,9771,8892,"x",null,"LS-3 15m","RI",""]
["Jindrich Svorc",1978,"M","Letňany","CZ/C1","PPV 2018 - Klub","CZ",2018,4,4764,0.91,9562,8701,"x",null,"Cirrus Std.","IMI",""]
["Vaclav Marel",1974,"M","Jaroměř","CZ/C2","PPV 2018 - Klub","CZ",2018,5,4760,0.91,9486,8632,"x",null,"Cirrus Std.","IF",""]
["Petr Vodicka",1965,"M","Jaroměř","CZ/C2","PPV 2018 - Klub","CZ",2018,6,4758,0.91,9414,8567,"x",null,"Janus b","BV",""]
["Josef Kolman",1983,"M","Letňany","CZ/C1","PPV 2018 - Klub","CZ",2018,7,4188,0.91,8534,7766,"x",null,"ASW-15B","BA4",""]
["Rene Hudak",1972,"M","Kunovice","CZ/M","PPV 2018 - Klub","CZ",2018,8,4156,0.91,8419,7661,"x",null,"Cirrus Std. WL","NK",""]
["Jan Beranek",1976,"M","Jihlava","CZ/M","PPV 2018 - Klub","CZ",2018,9,4126,0.91,8306,7558,"x",null,"ASW-19B","U2",""]
["David Vrchota",1976,"M","Jaroměř","CZ/C2","PPV 2018 - Klub","CZ",2018,10,4007,0.91,8067,7341,"x",null,"Std. Cirrus 16m","GO",""]
["Jaromir Pauer",1974,"M","Hosín","CZ/C1","PPV 2018 - Klub","CZ",2018,11,3985,0.91,7966,7249,"x",null,"DG 100",78,""]
["Milan Svoboda 80",1980,"M","Havlíčkův Brod","CZ/C2","PPV 2018 - Klub","CZ",2018,12,3972,0.91,7878,7169,null,null,"VT-116 Orlik 2",46,""]
["Tomas Ptacovsky",1981,"M","Letňany","CZ/C1","PPV 2018 - Klub","CZ",2018,13,3941,0.91,7764,7065,"x",null,"ASW-19B","WTF",""]
["Martin Urner",1974,"M","Letňany","CZ/C1","PPV 2018 - Klub","CZ",2018,14,3900,0.91,7636,6949,"x",null,"ASW-15B","JJ",""]
["Pavel Liska",1965,"M","Roudnice","CZ/C2","PPV 2018 - Klub","CZ",2018,15,3729,0.91,7323,6664,"x",null,"ASW-19B","RCE",""]
["Ondrej Blaha",1976,"M","Letňany","CZ/C1","PPV 2018 - Klub","CZ",2018,16,3703,0.91,7217,6567,"x",null,"VT-116 Orlik 2",44,""]
["Miloslav Hulmak",1963,"M","Hosín","CZ/C1","PPV 2018 - Klub","CZ",2018,17,3694,0.91,7134,6492,"x",null,"ASW-15B","HH",""]
["Jaroslav Cempirek 77",1977,"M","Jihlava","CZ/M","PPV 2018 - Klub","CZ",2018,18,3629,0.91,6972,6345,"x",null,"VSO-10","G1",""]
["Ladislav Jozsa",1981,"M","Medlánky","CZ/M","PPV 2018 - Klub","CZ",2018,19,3622,0.91,6892,6272,"x",null,"Cirrus Std.","LJ",""]
["Radek Zima 75",1975,"M","Břeclav","CZ/M","PPV 2018 - Klub","CZ",2018,20,3610,{"$f":"VLOOKUP(F903,Soutez,12,0)","v":0.91},6805,6193,"x",null,"DG 100","M",{"$f":"IF(ISERROR(VLOOKUP(A903,Pilot,6,0)),\"Není v databázi\",VLOOKUP(A903,Pilot,6,0))","v":""}]
["Jan Zezula",1979,"M","Letňany","CZ/C1","PPV 2018 - Klub","CZ",2018,21,3485,0.91,6558,5968,"x",null,"ASW-19B","HD",""]
["Martin Svarc",1981,"M","Olomouc","CZ/M","PPV 2018 - Klub","CZ",2018,22,3479,0.91,6480,5897,null,null,"DG-100","HE",""]
["Jan Oscatka",1990,"M","Jaroměř","CZ/C2","PPV 2018 - Klub","CZ",2018,23,3461,0.91,6384,5809,"x",null,"Discus b","JA",""]
["Peter Kaspar",1980,"M","Vyškov","CZ/M","PPV 2018 - Klub","CZ",2018,24,3423,0.91,6261,5698,"x",null,"G-102 Astir cs77","AP",""]
["Jiri Holcman",1976,"M","Hosín","CZ/C1","PPV 2018 - Klub","CZ",2018,25,3332,0.91,6061,5516,"x",null,"ASW-19B","BO",""]
["Radoslav Pur",1973,"M","Hosín","CZ/C1","PPV 2018 - Klub","CZ",2018,26,3213,0.91,5823,5299,"x",null,"DG-200 15m","EK",""]
["Antonin Pilat",1971,"M","Vyškov","CZ/M","PPV 2018 - Klub","CZ",2018,27,3105,0.91,5599,5095,"x",null,"DG-200 15m","JB",""]
["Ivan Kuzelka",1945,"M","Havlíčkův Brod","CZ/C2","PPV 2018 - Klub","CZ",2018,28,3070,0.91,5480,4987,null,null,"VT-116 Orlik 2",116,""]
["Petr Rozhon",{"$f":"VLOOKUP(A912,Pilot,2,0)","v":1972},{"$f":"VLOOKUP(A912,Pilot,5,0)","v":"M"},{"$f":"VLOOKUP(A912,Pilot,3,0)","v":"Hosín"},{"$f":"VLOOKUP(A912,Pilot,4,0)","v":"CZ/C1"},"PPV 2018 - Klub","CZ",2018,29,3037,0.91,5363,4880,"x",null,"VSO-10",9,""]
["Tomas Hlavacek",1984,"M","Mladá Boleslav","CZ/C1","PPV 2018 - Klub","CZ",2018,30,2936,0.91,5150,4687,null,null,"ASW-15B","MR",""]
["Jiri Dockal",1982,"M","Letňany","CZ/C1","PPV 2018 - Klub","CZ",2018,31,2791,0.91,4874,4435,"x",null,"VSO-10","L9",""]
["Vaclav Petru",1974,"M","Letňany","CZ/C1","PPV 2018 - Klub","CZ",2018,32,2771,0.91,4776,4346,"x",null,"TST-3TM Alpin","AI",""]
["Libor Danhel",1966,"M","Kunovice","CZ/M","PPV 2018 - Klub","CZ",2018,33,2524,0.91,4355,3963,"x",null,"Cirrus Std.","OK",""]
["Bedrich Honzicek",1972,"M","Letňany","CZ/C1","PPV 2018 - Klub","CZ",2018,34,2472,0.91,4211,3832,"x",null,"DG-200 15m","RZ",""]
["Sarka Lochova",1966,"F","Šumperk","CZ/M","PPV 2018 - Klub","CZ",2018,35,2466,0.91,{"$f":"ROUND(J918/MAX($J$884:$J$927)*10000*0.7+(MAX($I$884:$I$927)-I918)/(MAX($I$884:$I$927)-1)*10000*0.3,0)","v":4133},3761,null,null,"ASW-15B","EZ",""]
["Stanislav John",1974,"M","Hosín","CZ/C1","PPV 2018 - Klub","CZ",2018,36,2421,0.91,3999,3639,"x",null,"DG-100","H5",""]
["Libor Bednarik",1972,"M","Kunovice","CZ/M","PPV 2018 - Klub","CZ",2018,37,2414,0.91,3919,3566,null,null,"G.103 Twin Astir",103,""]
["Jiri Janda",1966,"M","Letňany","CZ/C1","PPV 2018 - Klub","CZ",2018,38,2318,0.91,3713,3379,"x",null,"Cirrus Std.","ZT",""]
["Lubomir Papezik",1951,"M","Luhačovice","CZ/M","PPV 2018 - Klub","CZ",2018,39,2277,0.91,3585,3262,"x",null,"LS-4","FP",""]
["Jaromir Vlk",1959,"M","Šumperk","CZ/M","PPV 2018 - Klub","CZ",2018,40,2256,0.91,3486,3172,null,null,"ASW-15B","R5",""]
["Michal Vopalensky",1974,"M","Letňany","CZ/C1","PPV 2018 - Klub","CZ",2018,41,2238,0.91,3390,3085,"x",null,"Std. Cirrus","GA",""]
["Yvona Vyhnankova",1963,"F","Olomouc","CZ/M","PPV 2018 - Klub","CZ",2018,42,2175,0.91,3231,2940,"x","x","ASW-15","YZ",""]
["Tomas Ohera",1977,"M","Letňany","CZ/C1","PPV 2018 - Klub","CZ",2018,43,2088,0.91,3037,2764,"x",null,"Discus b","LH",""]
["Milos Hrabe",1979,"M","Letňany","CZ/C1","PPV 2018 - Klub","CZ",2018,44,1828,0.91,2598,2364,"x",null,"Cirrus Std.","L8",""]
["Jan Boruvka",1984,"M","Jičín","CZ/C2","PPV 2018 - Kombi","CZ",2018,1,5204,0.91,{"$f":"ROUND(J928/MAX($J$928:$J$944)*10000*0.7+(MAX($I$928:$I$944)-I928)/(MAX($I$928:$I$944)-1)*10000*0.3,0)","v":10000},9100,"x",null,"Ventus c 17,6m","EG",""]
["Josef Busek",1967,"M","Hosín","CZ/C1","PPV 2018 - Kombi","CZ",2018,2,4924,0.91,{"$f":"ROUND(J929/MAX($J$928:$J$944)*10000*0.7+(MAX($I$928:$I$944)-I929)/(MAX($I$928:$I$944)-1)*10000*0.3,0)","v":9436},{"$f":"ROUND(K929*L929,0)","v":8587},"x",null,"DuoDiscus XT","BB",""]
["Zdenek Boruvka 54",1954,"M","Jičín","CZ/C2","PPV 2018 - Kombi","CZ",2018,3,4869,0.91,9174,8348,"x",null,"LS-8-18 15m","ZB",""]
["Zdenek Schenk",1972,"M","Hranice","CZ/M","PPV 2018 - Kombi","CZ",2018,4,4612,0.91,8641,7863,null,null,"Ventus ct 17,6m","SNK",""]
["Antonin Konicek",1973,"M","Kunovice","CZ/M","PPV 2018 - Kombi","CZ",2018,5,4588,0.91,8421,7663,"x",null,"HPH 304M Shark 18m 600kg","KK",""]
["Jan Simon",1970,"M","Kralupy","CZ/C1","PPV 2018 - Kombi","CZ",2018,6,4555,0.91,8190,7453,"x",null,"Duo Discus T (700kg)","ZS",""]
["Jan Dersak 69",1969,"M","Kralupy","CZ/C1","PPV 2018 - Kombi","CZ",2018,7,4550,0.91,7995,7275,"x",null,"HPH 304CZ 17,4","DJ",""]
["Lukas Capek",1992,"M","Letňany","CZ/C1","PPV 2018 - Kombi","CZ",2018,8,4536,0.91,7789,7088,"x",null,"303 Mosquito","LC",""]
["Pavel Zima",1979,"M","Břeclav","CZ/M","PPV 2018 - Kombi","CZ",2018,9,4516,0.91,7575,6893,"x",null,"Ventus cM 17,6m","RK",""]
["David Zapletal",1970,"M","Mladá Boleslav","CZ/C1","PPV 2018 - Kombi","CZ",2018,10,3932,0.91,6602,6008,"x",null,"Ventus c 17,6m","PUP",""]
["Tomas Profeld",1964,"M","Jičín","CZ/C2","PPV 2018 - Kombi","CZ",2018,11,3620,0.91,5994,5455,"x",null,"Ventus 2cm 18m 525kg","OZ",""]
["Petr Stepanek",1989,"M","Moravská Třebová","CZ/M","PPV 2018 - Kombi","CZ",2018,12,3520,0.91,5672,5162,null,null,"Nimbus 2b","MT",""]
["Martin Jurovic",null,"M","Bratislava","SK","PPV 2018 - Kombi","CZ",2018,13,3413,0.91,5341,4860,null,null,"Duo Discus (700kg)","2X","Není v databázi"]
["Pavel Haluza",{"$f":"VLOOKUP(A941,Pilot,2,0)","v":1966},{"$f":"VLOOKUP(A941,Pilot,5,0)","v":"M"},{"$f":"VLOOKUP(A941,Pilot,3,0)","v":"Prostějov"},{"$f":"VLOOKUP(A941,Pilot,4,0)","v":"CZ/M"},"PPV 2018 - Kombi","CZ",2018,14,3093,0.91,4723,4298,"x",null,"Nimbus 2b","HT",""]
["Milos Mach",null,"M","Nové Zámky","SK","PPV 2018 - Kombi","CZ",2018,15,2589,0.91,{"$f":"ROUND(J942/MAX($J$928:$J$944)*10000*0.7+(MAX($I$928:$I$944)-I942)/(MAX($I$928:$I$944)-1)*10000*0.3,0)","v":3858},3511,null,null,"Discus 2ct 18m","JH","Není v databázi"]
["Vaclav Hruza",{"$f":"VLOOKUP(A943,Pilot,2,0)","v":1965},{"$f":"VLOOKUP(A943,Pilot,5,0)","v":"M"},{"$f":"VLOOKUP(A943,Pilot,3,0)","v":"Břeclav"},{"$f":"VLOOKUP(A943,Pilot,4,0)","v":"CZ/M"},"PPV 2018 - Kombi","CZ",2018,16,2320,0.91,{"$f":"ROUND(J943/MAX($J$928:$J$944)*10000*0.7+(MAX($I$928:$I$944)-I943)/(MAX($I$928:$I$944)-1)*10000*0.3,0)","v":3308},3010,"x",null,"HPH 304 SJ 18m 573kg","TH",""]
["Petr Malcek",{"$f":"VLOOKUP(A944,Pilot,2,0)","v":1965},{"$f":"VLOOKUP(A944,Pilot,5,0)","v":"M"},{"$f":"VLOOKUP(A944,Pilot,3,0)","v":"Letňany"},{"$f":"VLOOKUP(A944,Pilot,4,0)","v":"CZ/C1"},"PPV 2018 - Kombi","CZ",2018,17,645,0.91,868,790,null,null,"Duo Discus (700kg)",777,""]
["Janowitsch & Leitgeb",null,null,null,null,"Pribina Cup 2018 - Duo 20m","SK",2018,1,1648,0,{"$f":"ROUND(J945/MAX($J$945:$J$957)*10000*0.7+(MAX($I$945:$I$957)-I945)/(MAX($I$945:$I$957)-1)*10000*0.3,0)","v":10000},0,null,null,"Arcus E","E","Není v databázi"]
["Tourula & Kankare",null,null,"Helsingin Ilmailukerho",null,"Pribina Cup 2018 - Duo 20m","SK",2018,2,1585,0,{"$f":"ROUND(J946/MAX($J$945:$J$957)*10000*0.7+(MAX($I$945:$I$957)-I946)/(MAX($I$945:$I$957)-1)*10000*0.3,0)","v":9482},0,null,null,"DG 1000/20m","NIT","Není v databázi"]
["Prodorutti & Bardelli",null,null,null,null,"Pribina Cup 2018 - Duo 20m","SK",2018,3,1361,0,8281,0,null,null,"Arcus","BPG","Není v databázi"]
["Levin & Wettemann",null,null,"Fliegergruppe Neckartal-Koengen e.V.",null,"Pribina Cup 2018 - Duo 20m","SK",2018,4,1315,0,7836,0,null,null,"Duo Discus","H1","Není v databázi"]
["Litzelmann & Holighaus",null,null,"LSV Thermik Alfeld",null,"Pribina Cup 2018 - Duo 20m","SK",2018,5,1289,0,7475,0,null,null,"Arcus","TWO","Není v databázi"]
["Kretzschmar & Triebel",null,null,null,null,"Pribina Cup 2018 - Duo 20m","SK",2018,6,1263,0,7115,0,null,null,"Arcus","SP","Není v databázi"]
["Christoph Koch",null,null,"SFC Fürstenfeld",null,"Pribina Cup 2018 - Duo 20m","SK",2018,7,1160,0,6427,0,null,null,"Duo Discus","SI","Není v databázi"]
["Sibanc & Raner",null,null,"Aeroklub Celje",null,"Pribina Cup 2018 - Duo 20m","SK",2018,8,1144,0,6109,0,null,null,"Arcus","ET","Není v databázi"]
["Stefano Ghiorzo",null,null,"ACAO - Varese - ITALY",null,"Pribina Cup 2018 - Duo 20m","SK",2018,9,1087,0,5617,0,null,null,"HPH304TS TwinShark","TS","Není v databázi"]
["Bialy & Biala",null,null,"Radom",null,"Pribina Cup 2018 - Duo 20m","SK",2018,10,1031,0,{"$f":"ROUND(J954/MAX($J$945:$J$957)*10000*0.7+(MAX($I$945:$I$957)-I954)/(MAX($I$945:$I$957)-1)*10000*0.3,0)","v":5129},0,null,null,"Duo Discus","POL","Není v databázi"]
["Halonen & Toppari",null,null,"Imatran Ilmailukerho",null,"Pribina Cup 2018 - Duo 20m","SK",2018,11,984,0,4680,0,null,null,"Arcus","RA","Není v databázi"]
["Karel Mares",{"$f":"VLOOKUP(A956,Pilot,2,0)","v":1974},{"$f":"VLOOKUP(A956,Pilot,5,0)","v":"M"},{"$f":"VLOOKUP(A956,Pilot,3,0)","v":"Slaný"},{"$f":"VLOOKUP(A956,Pilot,4,0)","v":"CZ/C1"},"Pribina Cup 2018 - Duo 20m","SK",2018,12,774,0,3538,0,null,null,"Duo Discus","DD",""]
["Jurovic & Kuban",null,null,null,null,"Pribina Cup 2018 - Duo 20m","SK",2018,13,435,0,1848,0,null,null,"Duo Discus","2X","Není v databázi"]
["Michal Lesinger",{"$f":"VLOOKUP(A958,Pilot,2,0)","v":1966},{"$f":"VLOOKUP(A958,Pilot,5,0)","v":"M"},{"$f":"VLOOKUP(A958,Pilot,3,0)","v":"Moravská Třebová"},{"$f":"VLOOKUP(A958,Pilot,4,0)","v":"CZ/M"},"Pribina Cup 2018 - Klub","SK",2018,1,1380,0,{"$f":"ROUND(J958/MAX($J$958:$J$991)*10000*0.7+(MAX($I$958:$I$991)-I958)/(MAX($I$958:$I$991)-1)*10000*0.3,0)","v":10000},0,null,null,"ASW 19","LL",""]
["Uwe Wahlig",null,null,"Segelfluggruppe Bensheim e.V.",null,"Pribina Cup 2018 - Klub","SK",2018,2,1363,0,{"$f":"ROUND(J959/MAX($J$958:$J$991)*10000*0.7+(MAX($I$958:$I$991)-I959)/(MAX($I$958:$I$991)-1)*10000*0.3,0)","v":9823},0,null,null,"LS 3","SN","Není v databázi"]
["Florian Heilmann,",null,null,"FC Kamenz",null,"Pribina Cup 2018 - Klub","SK",2018,3,1351,0,9671,0,null,null,"Std. Jantar 3",9,"Není v databázi"]
["Felix Hoffmann",null,null,"Aero Club Buende e.V.",null,"Pribina Cup 2018 - Klub","SK",2018,4,1325,0,9448,0,null,null,"H301 Libelle","6X","Není v databázi"]
["Martin Jurovic",null,null,null,null,"Pribina Cup 2018 - Klub","SK",2018,5,1268,0,9068,0,null,null,"Pegase","J2","Není v databázi"]
["Wolli Beyer",null,null,null,null,"Pribina Cup 2018 - Klub","SK",2018,6,1267,0,8972,0,null,null,"H301 Libelle","YYY","Není v databázi"]
["Paul Altrichter",null,null,null,null,"Pribina Cup 2018 - Klub","SK",2018,6,1267,0,8972,0,null,null,"LS 4","AX","Není v databázi"]
["Edmund Schuller",null,null,null,null,"Pribina Cup 2018 - Klub","SK",2018,8,1222,0,8562,0,null,null,"ASW 24","ZS","Není v databázi"]
["Martin Picka",{"$f":"VLOOKUP(A966,Pilot,2,0)","v":1974},{"$f":"VLOOKUP(A966,Pilot,5,0)","v":"M"},{"$f":"VLOOKUP(A966,Pilot,3,0)","v":"Tábor"},{"$f":"VLOOKUP(A966,Pilot,4,0)","v":"CZ/C1"},"Pribina Cup 2018 - Klub","SK",2018,9,1188,0,8299,0,null,null,"ASW 19","BU",""]
["Mark Travner",null,null,"Aeroklub Celje",null,"Pribina Cup 2018 - Klub","SK",2018,10,1164,{"$f":"VLOOKUP(F967,Soutez,12,0)","v":0},8086,0,null,null,"DG 100","LX",{"$f":"IF(ISERROR(VLOOKUP(A967,Pilot,6,0)),\"Není v databázi\",VLOOKUP(A967,Pilot,6,0))","v":"Není v databázi"}]
["Jernej Lokovsek",null,null,"Aeroklub Ljubljana",null,"Pribina Cup 2018 - Klub","SK",2018,11,1160,0,7975,0,null,null,"Discus CS","NL","Není v databázi"]
["Milan SurovCik",null,null,"Zilina",null,"Pribina Cup 2018 - Klub","SK",2018,12,1093,0,7544,0,null,null,"Pegase","EL","Není v databázi"]
["Juliusz Pieniazek",null,null,"Aeroklub Podhalanski",null,"Pribina Cup 2018 - Klub","SK",2018,13,1038,0,7174,0,null,null,"SZD 55","QQ","Není v databázi"]
["Stefan Langer",null,null,"SFG Donauwoerth Monheim",null,"Pribina Cup 2018 - Klub","SK",2018,14,1027,0,7028,0,null,null,"Std. Libelle","SL","Není v databázi"]
["Jindrich Svorc",{"$f":"VLOOKUP(A972,Pilot,2,0)","v":1978},{"$f":"VLOOKUP(A972,Pilot,5,0)","v":"M"},{"$f":"VLOOKUP(A972,Pilot,3,0)","v":"Letňany"},{"$f":"VLOOKUP(A972,Pilot,4,0)","v":"CZ/C1"},"Pribina Cup 2018 - Klub","SK",2018,15,984,0,6719,0,null,null,"Std. Cirrus","IMI",""]
["Krisztian Kovacs",null,null,"Aero Club Szolnok, Hungary",null,"Pribina Cup 2018 - Klub","SK",2018,16,972,0,6567,0,null,null,"ASW 15","IE","Není v databázi"]
["Markus Uhlig",null,null,"FC Grossrückerswalde",null,"Pribina Cup 2018 - Klub","SK",2018,17,934,0,6283,0,null,null,"Std. Jantar 3","M4","Není v databázi"]
["Jan Kovalcik",null,null,null,null,"Pribina Cup 2018 - Klub","SK",2018,18,924,0,6142,0,null,null,"Pegase","OI","Není v databázi"]
["Patrick Schkrock",null,null,null,null,"Pribina Cup 2018 - Klub","SK",2018,19,875,0,5802,0,null,null,"Std. Libelle",82,"Není v databázi"]
["Christian Deussen",null,null,null,null,"Pribina Cup 2018 - Klub","SK",2018,20,852,0,5594,0,null,null,"DG 100","S8","Není v databázi"]
["Adam Kacvinsky",null,null,null,null,"Pribina Cup 2018 - Klub","SK",2018,21,804,0,5260,0,null,null,"ASW 19","BA4","Není v databázi"]
["Adam Bialy",null,null,null,null,"Pribina Cup 2018 - Klub","SK",2018,22,797,0,{"$f":"ROUND(J979/MAX($J$958:$J$991)*10000*0.7+(MAX($I$958:$I$991)-I979)/(MAX($I$958:$I$991)-1)*10000*0.3,0)","v":5134},0,null,null,"Std. Jantar 3","BI","Není v databázi"]
["Mindaugas Zaliukas",null,null,"Kaunas Aeroclub, Pociunai",null,"Pribina Cup 2018 - Klub","SK",2018,23,705,0,4576,0,null,null,"Glasflugel 304","MZ","Není v databázi"]
["Robert Gärtner",null,null,null,null,"Pribina Cup 2018 - Klub","SK",2018,24,680,0,4358,0,null,null,"Std. Jantar 3","3W","Není v databázi"]
["Marek Straka",null,null,null,null,"Pribina Cup 2018 - Klub","SK",2018,25,665,0,4191,0,null,null,"ASW 19","AI","Není v databázi"]
["Pawel Glowacki",null,null,null,null,"Pribina Cup 2018 - Klub","SK",2018,26,583,0,3685,0,null,null,"Pegase","J7","Není v databázi"]
["Alrik Dargel",null,null,null,null,"Pribina Cup 2018 - Klub","SK",2018,27,393,0,2630,0,null,null,"Speed Astir IIb","JF","Není v databázi"]
["Kamil Bojarski",null,null,"Aeroklub Lubelski",null,"Pribina Cup 2018 - Klub","SK",2018,28,357,0,2356,0,null,null,"SZD 51 Junior","H","Není v databázi"]
["Kinga Tchorz",null,null,null,null,"Pribina Cup 2018 - Klub","SK",2018,29,315,0,2052,0,null,null,"Std. Jantar 3","BZ","Není v databázi"]
["Igor Cech",null,null,null,null,"Pribina Cup 2018 - Klub","SK",2018,30,301,0,1890,0,null,null,"Silent 2","ZI","Není v databázi"]
["Milos Horvat",null,null,null,null,"Pribina Cup 2018 - Klub","SK",2018,31,283,0,1708,0,null,null,"ASW 15","BA5","Není v databázi"]
["Luka Ranđelović",null,null,"AK Celje",null,"Pribina Cup 2018 - Klub","SK",2018,32,280,0,1602,0,null,null,"Hornet","L5","Není v databázi"]
["Max Witke",null,null,null,null,"Pribina Cup 2018 - Klub","SK",2018,33,199,0,1100,0,null,null,"LS 7 WL","JD","Není v databázi"]
["Gerhard Cieply",null,null,null,null,"Pribina Cup 2018 - Klub","SK",2018,34,0,0,0,0,null,null,"LS 1 f","GC","Není v databázi"]
["Tomasz Hornik",null,null,"Aeroklub Nadwiślański",null,"Pribina Cup 2018 - Kombi 15m","SK",2018,1,1715,0,{"$f":"ROUND(J992/MAX($J$992:$J$1017)*10000*0.7+(MAX($I$992:$I$1017)-I992)/(MAX($I$992:$I$1017)-1)*10000*0.3,0)","v":10000},0,null,null,"Diana 2","RP","Není v databázi"]
["Jan Knischewski",null,null,null,null,"Pribina Cup 2018 - Kombi 15m","SK",2018,2,1681,0,{"$f":"ROUND(J993/MAX($J$992:$J$1017)*10000*0.7+(MAX($I$992:$I$1017)-I993)/(MAX($I$992:$I$1017)-1)*10000*0.3,0)","v":9741},{"$f":"ROUND(K993*L993,0)","v":0},null,null,"LS 8","OK","Není v databázi"]
["Karsten Leucker",null,null,"Aero-Club Ansbach",null,"Pribina Cup 2018 - Kombi 15m","SK",2018,3,1669,0,9572,0,null,null,"Discus 2b","CX","Není v databázi"]
["Simon Briel",null,null,null,null,"Pribina Cup 2018 - Kombi 15m","SK",2018,4,1651,0,9379,0,null,null,"Discus 2a","SB","Není v databázi"]
["Wojciech Wojtaczka",null,null,"Aeroklub Podhalanski",null,"Pribina Cup 2018 - Kombi 15m","SK",2018,5,1568,0,8920,0,null,null,"Discus 2a","Y","Není v databázi"]
["Thomas Hynek",null,null,"Flugschule ASKÖ Wien",null,"Pribina Cup 2018 - Kombi 15m","SK",2018,6,1545,0,8706,0,null,null,"Ventus 2b","CC","Není v databázi"]
["David Mach",{"$f":"VLOOKUP(A998,Pilot,2,0)","v":1994},{"$f":"VLOOKUP(A998,Pilot,5,0)","v":"M"},{"$f":"VLOOKUP(A998,Pilot,3,0)","v":"Hronov"},{"$f":"VLOOKUP(A998,Pilot,4,0)","v":"CZ/C2"},"Pribina Cup 2018 - Kombi 15m","SK",2018,7,1533,0,8537,0,null,null,"LS 8","JBI",""]
["Nick Fremau",null,null,"Brasschaatse Zweefvliegclub",null,"Pribina Cup 2018 - Kombi 15m","SK",2018,8,1466,0,8144,0,null,null,"LS 8","L8","Není v databázi"]
["Patrick Puskeiler",null,null,"Fliegergruppe Wolf Hirth e.V.",null,"Pribina Cup 2018 - Kombi 15m","SK",2018,9,1374,0,7648,0,null,null,"Discus 2a","ALB","Není v databázi"]
["Michael Roche",null,null,null,null,"Pribina Cup 2018 - Kombi 15m","SK",2018,10,1351,0,7434,0,null,null,"Discus 2b","YN","Není v databázi"]
["Jana Treslova",{"$f":"VLOOKUP(A1002,Pilot,2,0)","v":1963},{"$f":"VLOOKUP(A1002,Pilot,5,0)","v":"F"},{"$f":"VLOOKUP(A1002,Pilot,3,0)","v":"Raná"},{"$f":"VLOOKUP(A1002,Pilot,4,0)","v":"CZ/C2"},"Pribina Cup 2018 - Kombi 15m","SK",2018,11,1349,0,7306,0,null,null,"LS 8","EU",""]
["Robbie Seton",null,null,null,null,"Pribina Cup 2018 - Kombi 15m","SK",2018,12,1342,0,7158,0,null,null,"LS 8","ISR","Není v databázi"]
["Martin Schwab",null,null,"FG Waldviertel",null,"Pribina Cup 2018 - Kombi 15m","SK",2018,13,1275,0,6764,0,null,null,"Discus 2a","KG","Není v databázi"]
["Pascal Brunner",null,null,"SG Zuerich",null,"Pribina Cup 2018 - Kombi 15m","SK",2018,14,1076,0,5832,0,null,null,"Discus 2b","ST","Není v databázi"]
["Artur Lonczuk",null,null,null,null,"Pribina Cup 2018 - Kombi 15m","SK",2018,15,1059,0,5642,0,null,null,"LS 8","LOT","Není v databázi"]
["Hana Treslova",{"$f":"VLOOKUP(A1007,Pilot,2,0)","v":1991},{"$f":"VLOOKUP(A1007,Pilot,5,0)","v":"F"},{"$f":"VLOOKUP(A1007,Pilot,3,0)","v":"Raná"},{"$f":"VLOOKUP(A1007,Pilot,4,0)","v":"CZ/C2"},"Pribina Cup 2018 - Kombi 15m","SK",2018,16,954,0,5094,0,null,null,"Discus 2a","GX",""]
["Aldo Cernezzi",null,null,"Varese",null,"Pribina Cup 2018 - Kombi 15m","SK",2018,17,927,0,4864,0,null,null,"DG 600","DW","Není v databázi"]
["Istvan Reti",null,null,null,null,"Pribina Cup 2018 - Kombi 15m","SK",2018,18,922,0,4723,0,null,null,"Ventus 2a","IR","Není v databázi"]
["Marek Niewiadomy",null,null,"Aeroklub Rzeszowski",null,"Pribina Cup 2018 - Kombi 15m","SK",2018,19,906,0,{"$f":"ROUND(J1010/MAX($J$992:$J$1017)*10000*0.7+(MAX($I$992:$I$1017)-I1010)/(MAX($I$992:$I$1017)-1)*10000*0.3,0)","v":4538},0,null,null,"Discus 2a","I","Není v databázi"]
["Nico Klingspohn",null,null,"Luftsportverein Gifhorn e.V.",null,"Pribina Cup 2018 - Kombi 15m","SK",2018,20,796,0,3969,0,null,null,"Discus 2a","NK","Není v databázi"]
["Bjorn Gintzel",null,null,"Aeroclub Bonn-Hangelar e.V.",null,"Pribina Cup 2018 - Kombi 15m","SK",2018,21,724,0,3555,0,null,null,"LS 8","AR","Není v databázi"]
["Wolfgang Zimmermann",null,null,"Flugring Austria Wiener Neustadt",null,"Pribina Cup 2018 - Kombi 15m","SK",2018,22,582,0,2856,0,null,null,"Ventus 2b","GI","Není v databázi"]
["Gvidas Sabeckis",null,null,"KASSK",null,"Pribina Cup 2018 - Kombi 15m","SK",2018,23,557,0,2633,0,null,null,"LS 8","P2","Není v databázi"]
["Vytautas Sabeckis",null,null,null,null,"Pribina Cup 2018 - Kombi 15m","SK",2018,24,467,0,2146,0,null,null,"LAK 19/15m","ZM","Není v databázi"]
["Jonas Pitschen",null,null,"SG Zuerich",null,"Pribina Cup 2018 - Kombi 15m","SK",2018,25,326,0,1451,0,null,null,"Discus 2b","Z2","Není v databázi"]
["Philip Joens",null,null,null,null,"Pribina Cup 2018 - Kombi 15m","SK",2018,26,0,0,0,0,null,null,"LS 7","AP","Není v databázi"]
["Lukasz Wojcik",null,null,"Wloclawek",null,"Pribina Cup 2018 - Kombi Open","SK",2018,1,1598,0,{"$f":"ROUND(J1018/MAX($J$1018:$J$1035)*10000*0.7+(MAX($I$1018:$I$1035)-I1018)/(MAX($I$1018:$I$1035)-1)*10000*0.3,0)","v":10000},0,null,null,"JS 1/18m","P","Není v databázi"]
["Piotr Jarysz",null,null,"Aeroklub Koninski",null,"Pribina Cup 2018 - Kombi Open","SK",2018,2,1591,0,{"$f":"ROUND(J1019/MAX($J$1018:$J$1035)*10000*0.7+(MAX($I$1018:$I$1035)-I1019)/(MAX($I$1018:$I$1035)-1)*10000*0.3,0)","v":9793},0,null,null,"ASG 29/18m","PL","Není v databázi"]
["Yves Gerster",null,null,null,null,"Pribina Cup 2018 - Kombi Open","SK",2018,3,1410,0,8824,0,null,null,"DG 400/17m","VY","Není v databázi"]
["Robin Sittmann",null,null,"Aero Club Rhein-Nahe",null,"Pribina Cup 2018 - Kombi Open","SK",2018,4,1383,0,8529,0,null,null,"Discus 2C/18m","MA","Není v databázi"]
["Wim Akkermans",null,null,null,null,"Pribina Cup 2018 - Kombi Open","SK",2018,5,1358,0,8243,0,null,null,"ASG 29/18m","9E","Není v databázi"]
["Petr Krejcirik",{"$f":"VLOOKUP(A1023,Pilot,2,0)","v":1960},{"$f":"VLOOKUP(A1023,Pilot,5,0)","v":"M"},{"$f":"VLOOKUP(A1023,Pilot,3,0)","v":"Hranice"},{"$f":"VLOOKUP(A1023,Pilot,4,0)","v":"CZ/M"},"Pribina Cup 2018 - Kombi Open","SK",2018,6,1317,0,7887,0,null,null,"JS 1/18m","ZF",""]
["Sven Kolb",null,null,"SFG-Dornbirn",null,"Pribina Cup 2018 - Kombi Open","SK",2018,7,1159,0,7018,0,null,null,"Antares 20m","ZE","Není v databázi"]
["Bostjan Pristavec",null,null,"AK ALC Lesce Bled",null,"Pribina Cup 2018 - Kombi Open","SK",2018,8,1156,0,6829,0,null,null,"EB 28",7,"Není v databázi"]
["Jan Hertrich,",null,null,null,null,"Pribina Cup 2018 - Kombi Open","SK",2018,9,1152,0,6635,0,null,null,"LS 8/18m","EO","Není v databázi"]
["Zdislaw Bednarczuk",null,null,null,null,"Pribina Cup 2018 - Kombi Open","SK",2018,10,1133,0,6375,0,null,null,"ASG 29/18m","ZB","Není v databázi"]
["Dirk Windmüller,",null,null,"SFC Schwäbisch Hall",null,"Pribina Cup 2018 - Kombi Open","SK",2018,11,1088,0,6001,0,null,null,"ASG 29/18m","WIN","Není v databázi"]
["Petr Panek",{"$f":"VLOOKUP(A1029,Pilot,2,0)","v":1975},{"$f":"VLOOKUP(A1029,Pilot,5,0)","v":"M"},{"$f":"VLOOKUP(A1029,Pilot,3,0)","v":"Dvůr Králové"},{"$f":"VLOOKUP(A1029,Pilot,4,0)","v":"CZ/C2"},"Pribina Cup 2018 - Kombi Open","SK",2018,12,956,0,5247,0,null,null,"JS 1/18m","IGC",""]
["Rene Schoenmann",null,null,null,null,"Pribina Cup 2018 - Kombi Open","SK",2018,13,826,0,4501,0,null,null,"JS 1/18m","RS","Není v databázi"]
["Karel Krobath",null,null,null,null,"Pribina Cup 2018 - Kombi Open","SK",2018,14,750,{"$f":"VLOOKUP(F1031,Soutez,12,0)","v":0},{"$f":"ROUND(J1031/MAX($J$1018:$J$1035)*10000*0.7+(MAX($I$1018:$I$1035)-I1031)/(MAX($I$1018:$I$1035)-1)*10000*0.3,0)","v":3991},0,null,null,"HPH 304S Shark","Q",{"$f":"IF(ISERROR(VLOOKUP(A1031,Pilot,6,0)),\"Není v databázi\",VLOOKUP(A1031,Pilot,6,0))","v":"Není v databázi"}]
["Kai Glatter",null,null,"AC Pirna",null,"Pribina Cup 2018 - Kombi Open","SK",2018,15,697,0,3583,0,null,null,"JS 1/18m","MD","Není v databázi"]
["Miguel Schwan",null,null,null,null,"Pribina Cup 2018 - Kombi Open","SK",2018,16,610,0,3025,0,null,null,"Ventus 2cT/18m","IX","Není v databázi"]
["Mathias Muench",null,null,"Alpenflugzentrum Unterwossen",null,"Pribina Cup 2018 - Kombi Open","SK",2018,17,560,0,2630,0,null,null,"DG 800/18m","MU","Není v databázi"]
["Sorin Lingureanu",null,null,"Tampereen Ilmailuyhdistys",null,"Pribina Cup 2018 - Kombi Open","SK",2018,18,476,0,2085,0,null,null,"Ventus 2c/18m","ZR","Není v databázi"]
["Mark Travner",null,"M","Celje","SLO","Ranský Pohár 2018 - Kombi","CZ",2018,1,4463,0.76,{"$f":"ROUND(J1036/MAX($J$1036:$J$1054)*10000*0.7+(MAX($I$1036:$I$1054)-I1036)/(MAX($I$1036:$I$1054)-1)*10000*0.3,0)","v":10000},7600,null,null,"DG 300","CE","Není v databázi"]
["Jiri Maier 66",{"$f":"VLOOKUP(A1037,Pilot,2,0)","v":1966},{"$f":"VLOOKUP(A1037,Pilot,5,0)","v":"M"},{"$f":"VLOOKUP(A1037,Pilot,3,0)","v":"Raná"},{"$f":"VLOOKUP(A1037,Pilot,4,0)","v":"CZ/C2"},"Ranský Pohár 2018 - Kombi","CZ",2018,2,4288,0.76,{"$f":"ROUND(J1037/MAX($J$1036:$J$1054)*10000*0.7+(MAX($I$1036:$I$1054)-I1037)/(MAX($I$1036:$I$1054)-1)*10000*0.3,0)","v":9559},7265,"x",null,"Discus b","TAL",""]
["Primoz Raner",null,"M","Maribor","SLO","Ranský Pohár 2018 - Kombi","CZ",2018,3,4178,0.76,9220,7007,null,null,"DG 101G","M9","Není v databázi"]
["Matic Knez",null,"M","Celje","SLO","Ranský Pohár 2018 - Kombi","CZ",2018,4,3926,0.76,8658,6580,null,null,"DG-300","CF","Není v databázi"]
["Radovan Otto",{"$f":"VLOOKUP(A1040,Pilot,2,0)","v":1968},{"$f":"VLOOKUP(A1040,Pilot,5,0)","v":"M"},{"$f":"VLOOKUP(A1040,Pilot,3,0)","v":"Ústí nad Labem"},{"$f":"VLOOKUP(A1040,Pilot,4,0)","v":"CZ/C2"},"Ranský Pohár 2018 - Kombi","CZ",2018,5,3807,0.76,8304,6311,"x",null,"TST 10M Atlas",7,""]
["Michal Hemrle",1974,"M","Česká Lípa","CZ/C2","Ranský Pohár 2018 - Kombi","CZ",2018,6,3352,0.76,7424,5642,"x",null,"Ventus c 17.6m","XE",""]
["Jan Sustr 76",1976,"M","Raná","CZ/C2","Ranský Pohár 2018 - Kombi","CZ",2018,7,3254,0.76,7104,5399,"x",null,"DG 300","WL",""]
["Pavel Derda",1952,"M","Dvůr Králové","CZ/C2","Ranský Pohár 2018 - Kombi","CZ",2018,8,3063,0.76,6638,5045,null,null,"Cirrus VTC","WE",""]
["Petr Kohr",1970,"M","Raná","CZ/C2","Ranský Pohár 2018 - Kombi","CZ",2018,9,2943,0.76,6283,4775,"x",null,"Std. Cirrus","YF",""]
["Tomas Mezera",1973,"M","Raná","CZ/C2","Ranský Pohár 2018 - Kombi","CZ",2018,10,2882,0.76,6020,4575,null,null,"VSO 10",59,""]
["Dalibor Pek",1968,"M","Raná","CZ/C2","Ranský Pohár 2018 - Kombi","CZ",2018,11,2717,0.76,5595,4252,"x",null,"Cirrus 75","A1",""]
["Jaromir Hendrych",1954,"M","Raná","CZ/C2","Ranský Pohár 2018 - Kombi","CZ",2018,12,2659,0.76,5337,4056,null,null,"M 35",36,""]
["Robert Hribersek",null,"M","Maribor","SLO","Ranský Pohár 2018 - Kombi","CZ",2018,13,2579,0.76,{"$f":"ROUND(J1048/MAX($J$1036:$J$1054)*10000*0.7+(MAX($I$1036:$I$1054)-I1048)/(MAX($I$1036:$I$1054)-1)*10000*0.3,0)","v":5045},3834,null,null,"Cirrus 75","TR","Není v databázi"]
["Jana Mezerova",{"$f":"VLOOKUP(A1049,Pilot,2,0)","v":1975},{"$f":"VLOOKUP(A1049,Pilot,5,0)","v":"F"},{"$f":"VLOOKUP(A1049,Pilot,3,0)","v":"Raná"},{"$f":"VLOOKUP(A1049,Pilot,4,0)","v":"CZ/C2"},"Ranský Pohár 2018 - Kombi","CZ",2018,14,2360,0.76,4535,3447,null,null,"SZD 36 Cobra 15",10,""]
["Krystof Mimra",1992,"M","Most","CZ/C2","Ranský Pohár 2018 - Kombi","CZ",2018,15,2347,0.76,4348,3304,null,null,"VSO 10",51,""]
["Eduard Svoboda",1957,"M","Raná","CZ/C2","Ranský Pohár 2018 - Kombi","CZ",2018,16,2337,0.76,4165,3165,"x",null,"ASW 15B","HL",""]
["Martin Zvonicek",1972,"M","Raná","CZ/C2","Ranský Pohár 2018 - Kombi","CZ",2018,17,1883,0.76,3287,2498,"x",null,"ASW 15","ET",""]
["Vladimir Fousek",1964,"M","Raná","CZ/C2","Ranský Pohár 2018 - Kombi","CZ",2018,18,1372,0.76,2319,1762,"x",null,"Std. Cirrus","LW",""]
["Petr Lonsky",1965,"M","Toužim","CZ/C1","Ranský Pohár 2018 - Kombi","CZ",2018,19,0,0.76,0,0,null,null,"Std. Cirrus WL","YU",""]
["Vojtech Pivonka",1976,"M","Vrchlabí","CZ/C2","Safari 2018 - Duo Kombi","CZ",2018,1,4332,0.76,{"$f":"ROUND(J1055/MAX($J$1055:$J$1065)*10000*0.7+(MAX($I$1055:$I$1065)-I1055)/(MAX($I$1055:$I$1065)-1)*10000*0.3,0)","v":10000},7600,"x",null,"L 13 Blanik","AY",""]
["Petr Panek",1975,"M","Dvůr Králové","CZ/C2","Safari 2018 - Duo Kombi","CZ",2018,2,4286,0.76,{"$f":"ROUND(J1056/MAX($J$1055:$J$1065)*10000*0.7+(MAX($I$1055:$I$1065)-I1056)/(MAX($I$1055:$I$1065)-1)*10000*0.3,0)","v":9626},7316,null,null,"L-23 Super Blanik","IG",""]
["Jaroslav Rapac",1977,"M","Dvůr Králové","CZ/C2","Safari 2018 - Duo Kombi","CZ",2018,3,4138,0.76,9087,{"$f":"ROUND(K1057*L1057,0)","v":6906},"x",null,"L 23 Super Blanik","KM",""]
["Vladimir Prihoda",1953,"M","Kralupy","CZ/C1","Safari 2018 - Duo Kombi","CZ",2018,4,3880,0.76,8370,6361,"x",null,"L 23 Super Blanik","I",""]
["Jan Sindelar",1946,"M","Kunovice","CZ/M","Safari 2018 - Duo Kombi","CZ",2018,5,3615,0.76,7641,5807,null,null,"L 13 Blanik","Z",""]
["Lukas Capek",1992,"M","Letňany","CZ/C1","Safari 2018 - Duo Kombi","CZ",2018,6,3345,0.76,6905,5248,null,null,"L 13 Blanik","L",""]
["Michaela Sirmerova",2000,"F","Jihlava","CZ/M","Safari 2018 - Duo Kombi","CZ",2018,7,3185,0.76,6347,4824,"x","x","L 13 Blanik","ZZ","Junior v roce 2021"]
["Rostislav Broz",1968,"M","Vrchlabí","CZ/C2","Safari 2018 - Duo Kombi","CZ",2018,8,2772,0.76,{"$f":"ROUND(J1062/MAX($J$1055:$J$1065)*10000*0.7+(MAX($I$1055:$I$1065)-I1062)/(MAX($I$1055:$I$1065)-1)*10000*0.3,0)","v":5379},4088,"x",null,"L 13 Blanik","V",""]
["Josef Andrasovsky",1954,"M","Jaroměř","CZ/C2","Safari 2018 - Duo Kombi","CZ",2018,9,2586,0.76,4779,3632,"x",null,"L 13 Blanik","JA",""]
["Martin Markl",1960,"M","Kolín","CZ/C1","Safari 2018 - Duo Kombi","CZ",2018,10,2442,0.76,4246,3227,"x",null,"L 13 Blanik","FL",""]
["Jaroslav Nedorost",1986,"M","Letňany","CZ/C1","Safari 2018 - Duo Kombi","CZ",2018,11,1489,0.76,2406,1829,"x",null,"L 13 Blanik","BA",""]
["Josef Rydl",1940,"M","Turnov","CZ/C2","Safari 2018 - Klub","CZ",2018,1,5773,0.77,{"$f":"ROUND(J1066/MAX($J$1066:$J$1094)*10000*0.7+(MAX($I$1066:$I$1094)-I1066)/(MAX($I$1066:$I$1094)-1)*10000*0.3,0)","v":10000},7700,"x",null,"ASW-19B","AH",""]
["Marek Kornec",1957,"M","Dvůr Králové","CZ/C2","Safari 2018 - Klub","CZ",2018,2,5562,0.77,{"$f":"ROUND(J1067/MAX($J$1066:$J$1094)*10000*0.7+(MAX($I$1066:$I$1094)-I1067)/(MAX($I$1066:$I$1094)-1)*10000*0.3,0)","v":9637},7420,"x",null,"Janus C pevný podvozek","KSS",""]
["Wolfgang Sluka",1942,"M","Liberec","CZ/C2","Safari 2018 - Klub","CZ",2018,3,5489,0.77,9441,7270,"x",null,"Std. Cirrus","KA",""]
["Jaroslav Sima",1972,"M","Chomutov","CZ/C2","Safari 2018 - Klub","CZ",2018,4,5110,0.77,8875,6834,"x",null,"G-104 Speed Astir II","V2",""]
["Milan Dvorak",1965,"M","Liberec","CZ/C2","Safari 2018 - Klub","CZ",2018,5,5093,0.77,8747,6735,"x",null,"VSO10",78,""]
["Pavel Derda",1952,"M","Dvůr Králové","CZ/C2","Safari 2018 - Klub","CZ",2018,6,4994,0.77,8520,6560,"x",null,"Cirrus VTC","VE",""]
["Krzysztof Pienkowski",null,"M","Bielsko Bialski","PL","Safari 2018 - Klub","CZ",2018,7,4888,0.77,8284,6379,null,null,"LS-4","KP","Není v databázi"]
["Martin Cicvarek",{"$f":"VLOOKUP(A1073,Pilot,2,0)","v":1966},{"$f":"VLOOKUP(A1073,Pilot,5,0)","v":"M"},{"$f":"VLOOKUP(A1073,Pilot,3,0)","v":"Liberec"},{"$f":"VLOOKUP(A1073,Pilot,4,0)","v":"CZ/C2"},"Safari 2018 - Klub","CZ",2018,8,4794,0.77,8063,6209,"x",null,"DG 400 15 m","AC",""]
["Jan Hybner",1977,"M","Liberec","CZ/C2","Safari 2018 - Klub","CZ",2018,9,4523,0.77,7627,5873,"x",null,"HPH 304CZ 15m","LB",""]
["Tomas Hlavacek",1984,"M","Mladá Boleslav","CZ/C1","Safari 2018 - Klub","CZ",2018,10,4433,0.77,7411,5706,"x",null,"ASW 15b","MB",""]
["David Tejnora",1982,"M","Kolín","CZ/C1","Safari 2018 - Klub","CZ",2018,11,4084,0.77,6881,5298,"x",null,"VSO-10",73,""]
["Petr Doubek",1974,"M","Kralupy","CZ/C1","Safari 2018 - Klub","CZ",2018,12,3980,0.77,6647,5118,"x",null,"ASW 20A","Y5",""]
["Petr Hybner",1951,"M","Liberec","CZ/C2","Safari 2018 - Klub","CZ",2018,13,3727,0.77,6233,4799,"x",null,"HPH 304CZ 15m","IH",""]
["Jerzy Mikolajczyk",null,"M","AZM Płock/KSS","PL","Safari 2018 - Klub","CZ",2018,14,3686,0.77,6077,4679,null,null,"LS-4","MS","Není v databázi"]
["Leszek Wolosowicz",null,"M","Lubelski/KSS","PL","Safari 2018 - Klub","CZ",2018,15,3670,0.77,5950,4582,null,null,"PW-5","CU","Není v databázi"]
["Artur Szlachta",null,"M","KSS/LSV Seligenstadt-Zellhausen","PL","Safari 2018 - Klub","CZ",2018,16,3454,0.77,5581,4297,null,null,"LS 4","V4","Není v databázi"]
["Petr Lonsky",{"$f":"VLOOKUP(A1082,Pilot,2,0)","v":1965},{"$f":"VLOOKUP(A1082,Pilot,5,0)","v":"M"},{"$f":"VLOOKUP(A1082,Pilot,3,0)","v":"Toužim"},{"$f":"VLOOKUP(A1082,Pilot,4,0)","v":"CZ/C1"},"Safari 2018 - Klub","CZ",2018,17,3380,0.77,5384,4146,null,null,"Std. Cirrus","YU",""]
["Jarmila Zatykova",{"$f":"VLOOKUP(A1083,Pilot,2,0)","v":1959},{"$f":"VLOOKUP(A1083,Pilot,5,0)","v":"F"},{"$f":"VLOOKUP(A1083,Pilot,3,0)","v":"Kralupy"},{"$f":"VLOOKUP(A1083,Pilot,4,0)","v":"CZ/C1"},"Safari 2018 - Klub","CZ",2018,18,2605,0.77,4337,3339,"x","x","Discus b","JD",""]
["Radmila Horacek Filakovska",{"$f":"VLOOKUP(A1084,Pilot,2,0)","v":1963},{"$f":"VLOOKUP(A1084,Pilot,5,0)","v":"F"},{"$f":"VLOOKUP(A1084,Pilot,3,0)","v":"Dvůr Králové"},{"$f":"VLOOKUP(A1084,Pilot,4,0)","v":"CZ/C2"},"Safari 2018 - Klub","CZ",2018,19,2546,0.77,4159,3202,"x","x","Cirrus VTC","2W",""]
["Teodor Skoda",{"$f":"VLOOKUP(A1085,Pilot,2,0)","v":1998},{"$f":"VLOOKUP(A1085,Pilot,5,0)","v":"M"},{"$f":"VLOOKUP(A1085,Pilot,3,0)","v":"Hronov"},{"$f":"VLOOKUP(A1085,Pilot,4,0)","v":"CZ/C2"},"Safari 2018 - Klub","CZ",2018,20,2306,0.77,3760,2895,"x",null,"Janus, Janus b dvojí","V1","Junior v roce 2021"]
["Jiri Tomicek",{"$f":"VLOOKUP(A1086,Pilot,2,0)","v":1947},{"$f":"VLOOKUP(A1086,Pilot,5,0)","v":"M"},{"$f":"VLOOKUP(A1086,Pilot,3,0)","v":"Dvůr Králové"},{"$f":"VLOOKUP(A1086,Pilot,4,0)","v":"CZ/C2"},"Safari 2018 - Klub","CZ",2018,21,1884,0.77,{"$f":"ROUND(J1086/MAX($J$1066:$J$1094)*10000*0.7+(MAX($I$1066:$I$1094)-I1086)/(MAX($I$1066:$I$1094)-1)*10000*0.3,0)","v":3142},2419,"x",null,"G-103 Twin III dvoji",5,""]
["Aleksander Jedrosz",null,"M","Jelenia Göra","PL","Safari 2018 - Klub","CZ",2018,22,1757,0.77,2880,2218,null,null,"Centrair C-101A,B Pegas","AJ","Není v databázi"]
["Jiri Donat",{"$f":"VLOOKUP(A1088,Pilot,2,0)","v":1983},{"$f":"VLOOKUP(A1088,Pilot,5,0)","v":"M"},{"$f":"VLOOKUP(A1088,Pilot,3,0)","v":"Chrudim"},{"$f":"VLOOKUP(A1088,Pilot,4,0)","v":"CZ/C2"},"Safari 2018 - Klub","CZ",2018,23,1556,0.77,2530,1948,"x",null,"Std. Cirrus WL","JE",""]
["Romuald Dorofieczyk",null,"M","Jelenia Gora","PL","Safari 2018 - Klub","CZ",2018,24,1235,0.77,2033,1565,null,null,"DG 300 Club Elan WL","N5","Není v databázi"]
["Tereza Novakova",{"$f":"VLOOKUP(A1090,Pilot,2,0)","v":1993},{"$f":"VLOOKUP(A1090,Pilot,5,0)","v":"F"},{"$f":"VLOOKUP(A1090,Pilot,3,0)","v":"Chrudim"},{"$f":"VLOOKUP(A1090,Pilot,4,0)","v":"CZ/C2"},"Safari 2018 - Klub","CZ",2018,25,1199,0.77,1882,1449,null,null,"Std. Cirrus","FF",""]
["Jan Horky",{"$f":"VLOOKUP(A1091,Pilot,2,0)","v":1968},{"$f":"VLOOKUP(A1091,Pilot,5,0)","v":"M"},{"$f":"VLOOKUP(A1091,Pilot,3,0)","v":"Medlánky"},{"$f":"VLOOKUP(A1091,Pilot,4,0)","v":"CZ/M"},"Safari 2018 - Klub","CZ",2018,26,1114,0.77,1672,1287,"x",null,"LS 3a 15 m","SW",""]
["Ryszard Bendkowski",null,"M","Warszawa/KSS","PL","Safari 2018 - Klub","CZ",2018,27,713,0.77,1079,831,null,null,"SZD-48 Jantar Std. 2(3)","Fili","Není v databázi"]
["Piotr Ligwinski",null,"M","Czestochowa","PL","Safari 2018 - Klub","CZ",2018,28,384,0.77,573,441,null,null,"SZD Jantar std.2(3)","Fili","Není v databázi"]
["Krzystof Kostka",null,"M","Jelenia Gora","PL","Safari 2018 - Klub","CZ",2018,29,193,0.77,234,180,null,null,"DG-300 Club Elan WL","N5","Není v databázi"]
["Petr Hotovy",{"$f":"VLOOKUP(A1095,Pilot,2,0)","v":1958},{"$f":"VLOOKUP(A1095,Pilot,5,0)","v":"M"},{"$f":"VLOOKUP(A1095,Pilot,3,0)","v":"Česká Lípa"},{"$f":"VLOOKUP(A1095,Pilot,4,0)","v":"CZ/C2"},"Safari 2018 - Kombi","CZ",2018,1,6601,{"$f":"VLOOKUP(F1095,Soutez,12,0)","v":0.77},{"$f":"ROUND(J1095/MAX($J$1095:$J$1105)*10000*0.7+(MAX($I$1095:$I$1105)-I1095)/(MAX($I$1095:$I$1105)-1)*10000*0.3,0)","v":10000},7700,null,null,"JS-1A,B,C,BTJ,CTJ 18m (voda)","IGC",{"$f":"IF(ISERROR(VLOOKUP(A1095,Pilot,6,0)),\"Není v databázi\",VLOOKUP(A1095,Pilot,6,0))","v":""}]
["Pavel Svoboda",1938,"M","Letňany","CZ/C1","Safari 2018 - Kombi","CZ",2018,2,6051,0.77,{"$f":"ROUND(J1096/MAX($J$1095:$J$1105)*10000*0.7+(MAX($I$1095:$I$1105)-I1096)/(MAX($I$1095:$I$1105)-1)*10000*0.3,0)","v":9117},7020,"x",null,"DuoDiscus,T 700 kg (voda)","ZS",""]
["Zdenek Boruvka 54",1954,"M","Jičín","CZ/C2","Safari 2018 - Kombi","CZ",2018,3,5673,0.77,8416,6480,null,null,"LS 8,a,b,s,st,18 15m (voda)","ZB",""]
["Jan Dersak 69",1969,"M","Kralupy","CZ/C1","Safari 2018 - Kombi","CZ",2018,4,5219,0.77,7634,5878,null,null,"HPH 304CZ 17,4m (voda)","DJ",""]
["Milan Meisner",1961,"M","Dvůr Králové","CZ/C2","Safari 2018 - Kombi","CZ",2018,5,4849,0.77,6942,5345,"x",null,"Ventus c 15m+W (voda)","VV",""]
["Lukas Hynek",1979,"M","Dvůr Králové","CZ/C2","Safari 2018 - Kombi","CZ",2018,6,4767,0.77,6555,5047,null,null,"DG-200 17m (voda)","IQ",""]
["Ladislav Prokes",1954,"M","Vrchlabí","CZ/C2","Safari 2018 - Kombi","CZ",2018,7,4528,0.77,6002,4622,null,null,"Discus b voda","VR",""]
["Slavomir Tanglmajer",1966,"M","Chomutov","CZ/C2","Safari 2018 - Kombi","CZ",2018,8,3707,0.77,{"$f":"ROUND(J1102/MAX($J$1095:$J$1105)*10000*0.7+(MAX($I$1095:$I$1105)-I1102)/(MAX($I$1095:$I$1105)-1)*10000*0.3,0)","v":4831},3720,"x",null,"DG-400 17m","ST",""]
["Tomas Ditrt",1969,"M","Podhořany","CZ/C2","Safari 2018 - Kombi","CZ",2018,9,3698,0.77,4522,3482,"x",null,"ASW-20(A)+F 15m","LS",""]
["Karel Policky",1950,"M","Kolín","CZ/C1","Safari 2018 - Kombi","CZ",2018,10,3380,0.77,3884,2991,null,null,"DuoDiscus T WL,XT",777,""]
["Lubomir Doupal",1975,"M","Kroměříž","CZ/M","Safari 2018 - Kombi","CZ",2018,11,2296,0.77,2435,1875,null,null,"LS 8b,t,18 15m (voda)","YF",""]
["Evgeny Zlobin",null,null,"RUS",null,"SGP 2018 RU - Klub GP","RU",2018,1,16,0.88,{"$f":"ROUND((MAX($I$1106:$I$1122)-I1106)/(MAX($I$1106:$I$1122)-1)*10000,0)","v":10000},8800,null,null,"Std.Jantar-2","MI","Není v databázi"]
["Vladimir Radovskiy",null,null,"RUS",null,"SGP 2018 RU - Klub GP","RU",2018,2,12,0.88,{"$f":"ROUND((MAX($I$1106:$I$1122)-I1107)/(MAX($I$1106:$I$1122)-1)*10000,0)","v":9091},8000,null,null,"Jantar st.2","I","Není v databázi"]
["Petr Krejcirik",{"$f":"VLOOKUP(A1108,Pilot,2,0)","v":1960},{"$f":"VLOOKUP(A1108,Pilot,5,0)","v":"M"},{"$f":"VLOOKUP(A1108,Pilot,3,0)","v":"Hranice"},{"$f":"VLOOKUP(A1108,Pilot,4,0)","v":"CZ/M"},"SGP 2018 RU - Klub GP","RU",2018,3,11,0.88,8182,7200,null,null,"Jantar Std","VP",""]
["Vasiliy Erofeev",null,null,"RUS",null,"SGP 2018 RU - Klub GP","RU",2018,4,9,0.88,7273,6400,null,null,"Jantar Std 2","VM","Není v databázi"]
["Viacheslav Chekhov",null,null,"RUS",null,"SGP 2018 RU - Klub GP","RU",2018,5,8,0.88,6364,5600,null,null,"Jantar St","VC","Není v databázi"]
["Sergey Klyuev",null,null,"RUS",null,"SGP 2018 RU - Klub GP","RU",2018,6,7,0.88,5455,4800,null,null,"Jantar st.3","SK","Není v databázi"]
["Anton Minskiy",null,null,"RUS",null,"SGP 2018 RU - Klub GP","RU",2018,7,6,0.88,4545,4000,null,null,"Jantar Std 3","V7","Není v databázi"]
["Alexey Shkredov",null,null,"RUS",null,"SGP 2018 RU - Klub GP","RU",2018,8,5,0.88,{"$f":"ROUND((MAX($I$1106:$I$1122)-I1113)/(MAX($I$1106:$I$1122)-1)*10000,0)","v":3636},3200,null,null,"Jantar St-2","AK","Není v databázi"]
["Alexander Kaplunov",null,null,"RUS",null,"SGP 2018 RU - Klub GP","RU",2018,9,3,0.88,2727,2400,null,null,"Jantar Std 3","L","Není v databázi"]
["Maksim Palutin",null,null,"RUS",null,"SGP 2018 RU - Klub GP","RU",2018,10,3,0.88,1818,1600,null,null,"Jantar-Std-3","V","Není v databázi"]
["Ivan Kazakov",null,null,"RUS",null,"SGP 2018 RU - Klub GP","RU",2018,11,1,0.88,909,800,null,null,"Jantar-Std 3","CP","Není v databázi"]
["Aleksandr Masiukov",null,null,"RUS",null,"SGP 2018 RU - Klub GP","RU",2018,12,0,0.88,0,0,null,null,"Jantar-Std 3",52,"Není v databázi"]
["Sergei Serov",null,null,"RUS",null,"SGP 2018 RU - Klub GP","RU",2018,12,0,0.88,0,0,null,null,"Jantar std.3","AS","Není v databázi"]
["Dmitriy Pyanov",null,null,"RUS",null,"SGP 2018 RU - Klub GP","RU",2018,12,0,0.88,0,0,null,null,"Jantar St.",80,"Není v databázi"]
["Sergey Ryabchinsky",null,null,"RUS",null,"SGP 2018 RU - Klub GP","RU",2018,12,0,0.88,0,0,null,null,"Jantar","SO","Není v databázi"]
["Dmitrii Timoshenko",null,null,"RUS",null,"SGP 2018 RU - Klub GP","RU",2018,12,0,0.88,0,{"$f":"ROUND(K1121*L1121,0)","v":0},null,null,"Jantar-st-2","A","Není v databázi"]
["Erazem Polutnik",null,null,"SLO",null,"SGP 2018 RU - Klub GP","RU",2018,12,0,0.88,0,0,null,null,"Jantar Std",47,"Není v databázi"]
["Frantisek Sobek",null,null,"Aeroklub Sabinov (SK)",null,"Šariš Cup 2018 - Klub","SK",2018,1,2193,0.76,{"$f":"ROUND(J1123/MAX($J$1123:$J$1141)*10000*0.7+(MAX($I$1123:$I$1141)-I1123)/(MAX($I$1123:$I$1141)-1)*10000*0.3,0)","v":10000},7600,null,null,"DG 100","G1","Není v databázi"]
["Jozef Sobek",null,null,"Aeroklub Prešov (SK)",null,"Šariš Cup 2018 - Klub","SK",2018,2,2178,0.76,{"$f":"ROUND(J1124/MAX($J$1123:$J$1141)*10000*0.7+(MAX($I$1123:$I$1141)-I1124)/(MAX($I$1123:$I$1141)-1)*10000*0.3,0)","v":9765},7421,null,null,"Std. Cirrus","MJ","Není v databázi"]
["Jaroslav Buryan",{"$f":"VLOOKUP(A1125,Pilot,2,0)","v":1953},{"$f":"VLOOKUP(A1125,Pilot,5,0)","v":"M"},{"$f":"VLOOKUP(A1125,Pilot,3,0)","v":"Zábřeh"},{"$f":"VLOOKUP(A1125,Pilot,4,0)","v":"CZ/M"},"Šariš Cup 2018 - Klub","SK",2018,3,2065,0.76,9216,7004,"x",null,"ASW 20","NS",""]
["Matej Petrik",null,null,"Aeroklub Sabinov (SK)",null,"Šariš Cup 2018 - Klub","SK",2018,4,1793,0.76,8161,6202,null,null,"VSO-10",45,"Není v databázi"]
["Antonin Teichmann",{"$f":"VLOOKUP(A1127,Pilot,2,0)","v":1965},{"$f":"VLOOKUP(A1127,Pilot,5,0)","v":"M"},{"$f":"VLOOKUP(A1127,Pilot,3,0)","v":"Hronov"},{"$f":"VLOOKUP(A1127,Pilot,4,0)","v":"CZ/C2"},"Šariš Cup 2018 - Klub","SK",2018,5,1728,0.76,7766,5902,"x",null,"Std. Cirrus WL","ZF",""]
["Karol BenedikoviC",null,null,"AIR SYMPATIA TRENČIN",null,"Šariš Cup 2018 - Klub","SK",2018,6,1573,0.76,7083,5383,null,null,"Std. Cirrus","AM","Není v databázi"]
["Lukas Minarik",null,null,"Aeroklub Prešov (SK)",null,"Šariš Cup 2018 - Klub","SK",2018,7,1285,0.76,5977,4543,null,null,"Marianne","AMI","Není v databázi"]
["Miroslav Stempeľ",null,null,"Aeroklub Prešov (SK)",null,"Šariš Cup 2018 - Klub","SK",2018,8,1274,0.76,5754,4373,null,null,"VSO-10",10,"Není v databázi"]
["Igor Berko",null,null,"Aeroklub Spišská Nová Ves (SK)",null,"Šariš Cup 2018 - Klub","SK",2018,9,1172,0.76,5241,3983,null,null,"Std. Cirrus","SA","Není v databázi"]
["Antonin Kutalek",{"$f":"VLOOKUP(A1132,Pilot,2,0)","v":1943},{"$f":"VLOOKUP(A1132,Pilot,5,0)","v":"M"},{"$f":"VLOOKUP(A1132,Pilot,3,0)","v":"Zábřeh"},{"$f":"VLOOKUP(A1132,Pilot,4,0)","v":"CZ/M"},"Šariš Cup 2018 - Klub","SK",2018,10,1066,0.76,4715,3583,null,null,"Mini Nimbus","GL",""]
["Jozef Sopirjak",null,null,"Aeroklub Košice (SK)",null,"Šariš Cup 2018 - Klub","SK",2018,11,885,0.76,3950,3002,null,null,"DG 100","SX","Není v databázi"]
["David Rozporka",{"$f":"VLOOKUP(A1134,Pilot,2,0)","v":1994},{"$f":"VLOOKUP(A1134,Pilot,5,0)","v":"M"},{"$f":"VLOOKUP(A1134,Pilot,3,0)","v":"Hronov"},{"$f":"VLOOKUP(A1134,Pilot,4,0)","v":"CZ/C2"},"Šariš Cup 2018 - Klub","SK",2018,12,813,0.76,{"$f":"ROUND(J1134/MAX($J$1123:$J$1141)*10000*0.7+(MAX($I$1123:$I$1141)-I1134)/(MAX($I$1123:$I$1141)-1)*10000*0.3,0)","v":3533},2685,"x",null,"Janus b","V1",""]
["Marek Straka",null,null,"Aeroklub Trenčín (SK)",null,"Šariš Cup 2018 - Klub","SK",2018,13,713,0.76,3026,2300,null,null,"ASW 19 Club","AI","Není v databázi"]
["Vladimir Macek",null,null,"Aeroklub Košice (SR)",null,"Šariš Cup 2018 - Klub","SK",2018,14,682,0.76,2739,2082,null,null,"VSO-10","M9","Není v databázi"]
["Ľubomir ziduliak",null,null,"Aeroklub Košice (SK)",null,"Šariš Cup 2018 - Klub","SK",2018,15,536,0.76,2086,1585,null,null,"VSO-10","M6","Není v databázi"]
["Maros Okos",null,null,"Aeroklub Prešov (SK)",null,"Šariš Cup 2018 - Klub","SK",2018,16,437,0.76,1582,1202,null,null,"VSO-10",75,"Není v databázi"]
["Wojciech Wojtaczka",null,null,"Nowy Sacz (PL)",null,"Šariš Cup 2018 - Klub","SK",2018,17,0,0.76,0,0,null,null,"Jantar std 2","WR","Není v databázi"]
["Marek Niewiadomy",null,null,"Aeroklub Rzeszowski/KNS Bezmiechowa/ABB",null,"Šariš Cup 2018 - Klub","SK",2018,17,0,0.76,0,0,null,null,"Jantar std 2","AB","Není v databázi"]
["Marek Seman",null,null,"Aeroklub Prešov (SK)",null,"Šariš Cup 2018 - Klub","SK",2018,17,0,0.76,0,0,null,null,"VSO-10",null,"Není v databázi"]
["Ivan Harasta 65",{"$f":"VLOOKUP(A1142,Pilot,2,0)","v":1965},{"$f":"VLOOKUP(A1142,Pilot,5,0)","v":"M"},{"$f":"VLOOKUP(A1142,Pilot,3,0)","v":"Toužim"},{"$f":"VLOOKUP(A1142,Pilot,4,0)","v":"CZ/C1"},"Toužim Cup 2018 - Klub","CZ",2018,1,4531,0.91,{"$f":"ROUND(J1142/MAX($J$1142:$J$1170)*10000*0.7+(MAX($I$1142:$I$1170)-I1142)/(MAX($I$1142:$I$1170)-1)*10000*0.3,0)","v":10000},9100,"x",null,"Std. Cirrus","LY",""]
["Klara Teichmannova",1993,"F","Hronov","CZ/C2","Toužim Cup 2018 - Klub","CZ",2018,2,4300,0.91,{"$f":"ROUND(J1143/MAX($J$1142:$J$1170)*10000*0.7+(MAX($I$1142:$I$1170)-I1143)/(MAX($I$1142:$I$1170)-1)*10000*0.3,0)","v":9536},8678,null,null,"Std. Cirrus","XC",""]
["Tomas Talanda",1988,"M","Křižanov","CZ/M","Toužim Cup 2018 - Klub","CZ",2018,3,4130,0.91,9166,8341,"x",null,"ASW-19B","A1",""]
["Martin Fric",1967,"M","Raná","CZ/C2","Toužim Cup 2018 - Klub","CZ",2018,4,4097,0.91,9008,8197,"x",null,"ASW-19","FR",""]
["Michal Drab",1969,"M","Letkov","CZ/C1","Toužim Cup 2018 - Klub","CZ",2018,5,3937,0.91,8654,7875,"x",null,"LS 1d","S3",""]
["Petr Jiranek 91",1991,"M","Toužim","CZ/C1","Toužim Cup 2018 - Klub","CZ",2018,6,3891,0.91,8476,7713,"x",null,"G-102 Astir cs","PJ",""]
["Lubomir Motl",1959,"M","Kyjov","CZ/M","Toužim Cup 2018 - Klub","CZ",2018,7,3847,0.91,8300,7553,null,null,"LS 1f","G2",""]
["Pavel Jiranek",1993,"M","Toužim","CZ/C1","Toužim Cup 2018 - Klub","CZ",2018,8,3814,0.91,8142,7409,"x",null,"Std. Cirrus","IYD",""]
["Michal Cupak",1991,"M","Medlánky","CZ/M","Toužim Cup 2018 - Klub","CZ",2018,9,3671,0.91,7814,7111,"x",null,"Std. Cirrus","A7",""]
["Daniel Dvorak",1980,"M","Letkov","CZ/C1","Toužim Cup 2018 - Klub","CZ",2018,10,3654,0.91,7681,6990,"x",null,"Std. Cirrus","LD",""]
["Martin Valenta",1969,"M","Toužim","CZ/C1","Toužim Cup 2018 - Klub","CZ",2018,11,3627,0.91,7532,6854,"x",null,"LS 1c","P2",""]
["Frantisek Kriz",1961,"M","Toužim","CZ/C1","Toužim Cup 2018 - Klub","CZ",2018,12,3452,0.91,7154,6510,"x",null,"LS 1d","CL",""]
["Vit Prokop",1987,"M","Medlánky","CZ/M","Toužim Cup 2018 - Klub","CZ",2018,13,3380,0.91,6936,6312,"x",null,"Std. Cirrus","MF",""]
["Ivan Harasta 98",1998,"M","Toužim","CZ/C1","Toužim Cup 2018 - Klub","CZ",2018,14,3304,0.91,6712,6108,"x",null,"ASW-15B","HI","Junior v roce 2021"]
["Roman Jokl",1979,"M","Letkov","CZ/C1","Toužim Cup 2018 - Klub","CZ",2018,15,3267,0.91,6547,5958,"x",null,"ASW-19B","JL",""]
["Martin Zahalka",1987,"M","Staňkov","CZ/C1","Toužim Cup 2018 - Klub","CZ",2018,16,2953,0.91,5955,5419,"x",null,"DG-100","8B",""]
["Miroslav Cervenka",1980,"M","Křižanov","CZ/M","Toužim Cup 2018 - Klub","CZ",2018,17,2920,0.91,5797,5275,"x",null,"LS 1f","AF",""]
["Josef Kreutzer",1992,"M","Letkov","CZ/C1","Toužim Cup 2018 - Klub","CZ",2018,18,2233,{"$f":"VLOOKUP(F1159,Soutez,12,0)","v":0.91},4628,4211,"x",null,"ASW-15B","LA",{"$f":"IF(ISERROR(VLOOKUP(A1159,Pilot,6,0)),\"Není v databázi\",VLOOKUP(A1159,Pilot,6,0))","v":""}]
["Jiri Cincera",1966,"M","Toužim","CZ/C1","Toužim Cup 2018 - Klub","CZ",2018,19,1966,0.91,4109,3739,"x",null,"ASW-15B","TT",""]
["Tomas Seifert",1972,"M","Raná","CZ/C2","Toužim Cup 2018 - Klub","CZ",2018,20,1933,0.91,3951,3595,"x",null,"ASW-15B","MC",""]
["Lukas Zemek",1994,"M","Letkov","CZ/C1","Toužim Cup 2018 - Klub","CZ",2018,21,1835,0.91,{"$f":"ROUND(J1162/MAX($J$1142:$J$1170)*10000*0.7+(MAX($I$1142:$I$1170)-I1162)/(MAX($I$1142:$I$1170)-1)*10000*0.3,0)","v":3692},3360,"x",null,"LS 1c","VY",""]
["Petr Lonsky",1965,"M","Toužim","CZ/C1","Toužim Cup 2018 - Klub","CZ",2018,22,1626,0.91,3262,2968,null,null,"Std. Cirrus WL","YU",""]
["Jan Zanda",1983,"M","Letkov","CZ/C1","Toužim Cup 2018 - Klub","CZ",2018,23,1599,0.91,3113,2833,"x",null,"Std. Cirrus","AL",""]
["Rudolf Jung",1954,"M","Zbraslavice","CZ/C1","Toužim Cup 2018 - Klub","CZ",2018,24,1197,0.91,2385,2170,"x",null,"G-103 Twin II",null,""]
["Frantisek Brozman",1960,"M","Tachov","CZ/C1","Toužim Cup 2018 - Klub","CZ",2018,25,927,0.91,1861,1694,"x",null,"VT116 Orlik II","TI",""]
["Petr Cernicky",1974,"M","Toužim","CZ/C1","Toužim Cup 2018 - Klub","CZ",2018,26,620,0.91,1279,1164,"x",null,"G-102 Astir cs","LS",""]
["Vaclav Halek",1966,"M","Toužim","CZ/C1","Toužim Cup 2018 - Klub","CZ",2018,27,363,0.91,775,705,"x",null,"G-103 Twin III","TO",""]
["Jan Turek",1987,"M","Toužim","CZ/C1","Toužim Cup 2018 - Klub","CZ",2018,28,29,0.91,152,138,"x",null,"G-102 Astir cs","PB",""]
["Karel Grotz",1934,"M","Toužim","CZ/C1","Toužim Cup 2018 - Klub","CZ",2018,29,0,0.91,0,0,null,null,"VT 16 Orlik",16,""]
["Karel Benisek 76",1976,"M","Toužim","CZ/C1","Toužim Cup 2018 - Kombi","CZ",2018,1,4052,0.91,{"$f":"ROUND(J1171/MAX($J$1171:$J$1189)*10000*0.7+(MAX($I$1171:$I$1189)-I1171)/(MAX($I$1171:$I$1189)-1)*10000*0.3,0)","v":10000},9100,"x",null,"Ventus ct 17,6m","KB",""]
["Daniel Novak",1971,"M","Letkov","CZ/C1","Toužim Cup 2018 - Kombi","CZ",2018,2,3870,0.91,{"$f":"ROUND(J1172/MAX($J$1171:$J$1189)*10000*0.7+(MAX($I$1171:$I$1189)-I1172)/(MAX($I$1171:$I$1189)-1)*10000*0.3,0)","v":9519},8662,"x",null,"LS 8 18m","EJ",""]
["Jan Viskot",1995,"M","Břeclav","CZ/M","Toužim Cup 2018 - Kombi","CZ",2018,3,3812,0.91,9252,8419,null,null,"Discus 2a 15m","GX",""]
["Zdenek Schenk",1972,"M","Hranice","CZ/M","Toužim Cup 2018 - Kombi","CZ",2018,4,3665,0.91,8831,8036,"x",null,"Ventus ct 17,6m","SNK",""]
["Ondrej Dupal",1966,"M","GAC Benešov","CZ/C1","Toužim Cup 2018 - Kombi","CZ",2018,5,3650,0.91,8639,7861,null,null,"ASG 29 18m","GO",""]
["Petr Bartak",1984,"M","Letkov","CZ/C1","Toužim Cup 2018 - Kombi","CZ",2018,6,3615,0.91,8412,7655,"x",null,"LS 6c 18m+W","BL",""]
["Milos Pajr",1966,"M","Jičín","CZ/C2","Toužim Cup 2018 - Kombi","CZ",2018,7,3458,0.91,7974,7256,"x",null,"Duo Discus XLT",88,""]
["Roman Lanzendorf",1964,"M","Letkov","CZ/C1","Toužim Cup 2018 - Kombi","CZ",2018,8,3454,0.91,7800,7098,"x",null,"Ventus ct 17,6m","AS",""]
["Petr Jiranek 63",1962,"M","Toužim","CZ/C1","Toužim Cup 2018 - Kombi","CZ",2018,9,3446,0.91,7620,6934,"x",null,"Ventus ct 17,6m","EB",""]
["Jiri Prochazka",1971,"M","Toužim","CZ/C1","Toužim Cup 2018 - Kombi","CZ",2018,10,3410,0.91,7391,6726,"x",null,"DG-500 22m","SR",""]
["Frantisek Myska",1968,"M","Most","CZ/C2","Toužim Cup 2018 - Kombi","CZ",2018,11,3271,0.91,6984,6355,"x",null,"Ventus bt 16,6m","SK",""]
["Karel Krobath",null,"M","SFC Tulln","AT","Toužim Cup 2018 - Kombi","CZ",2018,12,3216,0.91,6722,6117,null,null,"HPH 304M Shark","Q","Není v databázi"]
["Vratislav Sram",{"$f":"VLOOKUP(A1183,Pilot,2,0)","v":1966},{"$f":"VLOOKUP(A1183,Pilot,5,0)","v":"M"},{"$f":"VLOOKUP(A1183,Pilot,3,0)","v":"Broumov"},{"$f":"VLOOKUP(A1183,Pilot,4,0)","v":"CZ/C2"},"Toužim Cup 2018 - Kombi","CZ",2018,13,3109,0.91,{"$f":"ROUND(J1183/MAX($J$1171:$J$1189)*10000*0.7+(MAX($I$1171:$I$1189)-I1183)/(MAX($I$1171:$I$1189)-1)*10000*0.3,0)","v":6371},5798,null,null,"Nimbus 2M","NB",""]
["Karl Schiffleithner",null,"M","SFC Tulln","AT","Toužim Cup 2018 - Kombi","CZ",2018,14,3064,0.91,6127,5576,null,null,"Ventus 2 ct 18m","IX","Není v databázi"]
["Raul Flicker",null,"M","SFC Tulln","AT","Toužim Cup 2018 - Kombi","CZ",2018,15,2914,0.91,5701,{"$f":"ROUND(K1185*L1185,0)","v":5188},null,null,"HPH 304S Shark","GG","Není v databázi"]
["John Buchanan",null,"M","Kingaroy","AU","Toužim Cup 2018 - Kombi","CZ",2018,16,2779,0.91,5301,4824,null,null,"JS-3, TJ 18m","BB","Není v databázi"]
["Uwe Tolkmitt",null,"M","LSV Greiz","AT","Toužim Cup 2018 - Kombi","CZ",2018,17,2100,0.91,3961,3605,null,null,"DG-400 17m","JO","Není v databázi"]
["Olga Mokosova",{"$f":"VLOOKUP(A1188,Pilot,2,0)","v":1970},{"$f":"VLOOKUP(A1188,Pilot,5,0)","v":"F"},{"$f":"VLOOKUP(A1188,Pilot,3,0)","v":"Jihlava"},{"$f":"VLOOKUP(A1188,Pilot,4,0)","v":"CZ/M"},"Toužim Cup 2018 - Kombi","CZ",2018,18,1828,0.91,3325,3026,null,null,"LS 6c 18m+W","MM",""]
["Roman Michalek",{"$f":"VLOOKUP(A1189,Pilot,2,0)","v":1974},{"$f":"VLOOKUP(A1189,Pilot,5,0)","v":"M"},{"$f":"VLOOKUP(A1189,Pilot,3,0)","v":"Toužim"},{"$f":"VLOOKUP(A1189,Pilot,4,0)","v":"CZ/C1"},"Toužim Cup 2018 - Kombi","CZ",2018,19,1119,0.91,1933,1759,"x",null,"DG-400 17m","TK",""]
["Jake Brattle",null,null,null,null,"WGC Juniors 2019 - Klub","HU",2019,1,8453,1.0449999999999999,{"$f":"ROUND(J1190/MAX($J$1190:$J$1233)*10000*0.7+(MAX($I$1190:$I$1233)-I1190)/(MAX($I$1190:$I$1233)-1)*10000*0.3,0)","v":10000},10450,null,null,"ASW-20",25,"Není v databázi"]
["Finn Sleigh",null,null,null,null,"WGC Juniors 2019 - Klub","HU",2019,2,8306,1.0449999999999999,{"$f":"ROUND(J1191/MAX($J$1190:$J$1233)*10000*0.7+(MAX($I$1190:$I$1233)-I1191)/(MAX($I$1190:$I$1233)-1)*10000*0.3,0)","v":9809},10250,null,null,"ASW-20",5,"Není v databázi"]
["Maximilian Dorsch",null,null,null,null,"WGC Juniors 2019 - Klub","HU",2019,3,8263,1.0449999999999999,9703,10140,null,null,"LS-4",39,"Není v databázi"]
["Tobias Pachowsky",null,null,null,null,"WGC Juniors 2019 - Klub","HU",2019,4,8145,1.0449999999999999,9536,9965,null,null,"LS-4a","IGP","Není v databázi"]
["David Mach",{"$f":"VLOOKUP(A1194,Pilot,2,0)","v":1994},{"$f":"VLOOKUP(A1194,Pilot,5,0)","v":"M"},{"$f":"VLOOKUP(A1194,Pilot,3,0)","v":"Hronov"},{"$f":"VLOOKUP(A1194,Pilot,4,0)","v":"CZ/C2"},"WGC Juniors 2019 - Klub","HU",2019,5,8077,1.0449999999999999,{"$f":"ROUND(J1194/MAX($J$1190:$J$1233)*10000*0.7+(MAX($I$1190:$I$1233)-I1194)/(MAX($I$1190:$I$1233)-1)*10000*0.3,0)","v":9410},9833,null,null,"LS-4","IX",""]
["Philipp Lauer",null,null,null,null,"WGC Juniors 2019 - Klub","HU",2019,6,7939,1.0449999999999999,9226,9641,null,null,"LS-4","LI","Není v databázi"]
["Robin Smit",null,null,null,null,"WGC Juniors 2019 - Klub","HU",2019,7,7888,1.0449999999999999,9114,9524,null,null,"Standard Cirrus","RSM","Není v databázi"]
["Milan SurovCik",null,null,null,null,"WGC Juniors 2019 - Klub","HU",2019,8,7803,1.0449999999999999,8973,9377,null,null,"Pegasus 101A","EL","Není v databázi"]
["Mark Travner",null,null,null,null,"WGC Juniors 2019 - Klub","HU",2019,9,7626,1.0449999999999999,8757,9151,null,null,"DG-300","CE","Není v databázi"]
["Jelmer Vis",null,null,null,null,"WGC Juniors 2019 - Klub","HU",2019,10,7608,1.0449999999999999,8672,9062,null,null,"Standard Cirrus","HE","Není v databázi"]
["Daniel Ryba",{"$f":"VLOOKUP(A1200,Pilot,2,0)","v":1994},{"$f":"VLOOKUP(A1200,Pilot,5,0)","v":"M"},{"$f":"VLOOKUP(A1200,Pilot,3,0)","v":"Dvůr Králové"},{"$f":"VLOOKUP(A1200,Pilot,4,0)","v":"CZ/C2"},"WGC Juniors 2019 - Klub","HU",2019,11,7510,1.0449999999999999,8521,8904,"x",null,"ASW-19B","L7",""]
["Thijs Bastiaanse",null,null,null,null,"WGC Juniors 2019 - Klub","HU",2019,12,7504,1.0449999999999999,8447,8827,null,null,"LS-4","AU","Není v databázi"]
["Simon Gantner",null,null,null,null,"WGC Juniors 2019 - Klub","HU",2019,13,7423,1.0449999999999999,8310,8684,null,null,"LS-4a","MN","Není v databázi"]
["Daniel Sazhin",null,null,null,null,"WGC Juniors 2019 - Klub","HU",2019,14,7299,1.0449999999999999,8137,8503,null,null,"LS-4a","8M","Není v databázi"]
["Sviatoslav Roublev",null,null,null,null,"WGC Juniors 2019 - Klub","HU",2019,15,7210,1.0449999999999999,7994,8354,null,null,"Discus Cs","G3","Není v databázi"]
["Adrien Dubreuil",null,null,null,null,"WGC Juniors 2019 - Klub","HU",2019,16,7140,1.0449999999999999,7866,8220,null,null,"LS-4","SD","Není v databázi"]
["Thomas Leduc",null,null,null,null,"WGC Juniors 2019 - Klub","HU",2019,17,7005,1.0449999999999999,7685,8031,null,null,"LS-1F","1 neo","Není v databázi"]
["Pascal Zollikofer",null,null,null,null,"WGC Juniors 2019 - Klub","HU",2019,18,6970,1.0449999999999999,7586,7927,null,null,"LS-4","FC","Není v databázi"]
["Clément Flick",null,null,null,null,"WGC Juniors 2019 - Klub","HU",2019,19,6958,1.0449999999999999,7506,7844,null,null,"LS-4","FAY","Není v databázi"]
["Mark Polajzar",null,null,null,null,"WGC Juniors 2019 - Klub","HU",2019,20,6953,1.0449999999999999,7432,7766,null,null,"DG-300","CP","Není v databázi"]
["Adam Kacvinsky",null,null,null,null,"WGC Juniors 2019 - Klub","HU",2019,21,6890,1.0449999999999999,7310,7639,null,null,"ASW-19B","BA4","Není v databázi"]
["James Stewart",null,null,null,null,"WGC Juniors 2019 - Klub","HU",2019,22,6857,1.0449999999999999,7213,7538,null,null,"LS-4a","S5","Není v databázi"]
["Noah Reitter",null,null,null,null,"WGC Juniors 2019 - Klub","HU",2019,23,6806,1.0449999999999999,7101,7421,null,null,"LS-4a","S9","Není v databázi"]
["Barbora Moravcova",{"$f":"VLOOKUP(A1213,Pilot,2,0)","v":1994},{"$f":"VLOOKUP(A1213,Pilot,5,0)","v":"F"},{"$f":"VLOOKUP(A1213,Pilot,3,0)","v":"Zbraslavice"},{"$f":"VLOOKUP(A1213,Pilot,4,0)","v":"CZ/C1"},"WGC Juniors 2019 - Klub","HU",2019,24,6783,1.0449999999999999,{"$f":"ROUND(J1213/MAX($J$1190:$J$1233)*10000*0.7+(MAX($I$1190:$I$1233)-I1213)/(MAX($I$1190:$I$1233)-1)*10000*0.3,0)","v":7012},7328,null,null,"ASW-19B","CF",""]
["Julien Duboc",null,null,null,null,"WGC Juniors 2019 - Klub","HU",2019,25,6749,1.0449999999999999,6914,7225,null,null,"LS-4",79,"Není v databázi"]
["Konrad Partyka",null,null,null,null,"WGC Juniors 2019 - Klub","HU",2019,26,6551,1.0449999999999999,6681,6982,null,null,"ASW-19","J1","Není v databázi"]
["Oskar Minds",null,null,null,null,"WGC Juniors 2019 - Klub","HU",2019,27,6496,1.0449999999999999,6565,6860,null,null,"DG-300","RU","Není v databázi"]
["Martynas LiutkeviCius",null,null,null,null,"WGC Juniors 2019 - Klub","HU",2019,28,6491,1.0449999999999999,6492,6784,null,null,"SZD-48-2 JantarSTD 2","CI","Není v databázi"]
["simon siska",null,null,null,null,"WGC Juniors 2019 - Klub","HU",2019,29,6466,1.0449999999999999,6401,6689,null,null,"ASW-19B","A1","Není v databázi"]
["Kinga Tchorz",null,null,null,null,"WGC Juniors 2019 - Klub","HU",2019,30,6463,1.0449999999999999,6329,6614,null,null,"ASW-19",11,"Není v databázi"]
["Jokūbas Motūza",null,null,null,null,"WGC Juniors 2019 - Klub","HU",2019,31,6398,1.0449999999999999,6205,6484,null,null,"Jantar Std. 1","JM","Není v databázi"]
["Rokas Liaugaudas",null,null,null,null,"WGC Juniors 2019 - Klub","HU",2019,32,6364,1.0449999999999999,6107,6382,null,null,"Pegasus 101A","PL","Není v databázi"]
["Mikko Ylihärsilä",null,null,null,null,"WGC Juniors 2019 - Klub","HU",2019,33,6312,1.0449999999999999,5994,6264,null,null,"LS7","GE","Není v databázi"]
["Tymoteusz Dolata",null,null,null,null,"WGC Juniors 2019 - Klub","HU",2019,34,6302,{"$f":"VLOOKUP(F1223,Soutez,12,0)","v":1.0449999999999999},5916,6182,null,null,"ASW-19B","JAY",{"$f":"IF(ISERROR(VLOOKUP(A1223,Pilot,6,0)),\"Není v databázi\",VLOOKUP(A1223,Pilot,6,0))","v":"Není v databázi"}]
["Mikkel Refsgaard Schmidt-Nielsen",null,null,null,null,"WGC Juniors 2019 - Klub","HU",2019,35,6023,1.0449999999999999,5616,5869,null,null,"LS-1F","BB","Není v databázi"]
["Barnabas Tóth",null,null,null,null,"WGC Juniors 2019 - Klub","HU",2019,36,5943,1.0449999999999999,5480,5727,null,null,"Pegasus 101A","BT","Není v databázi"]
["Niklas Unterrainer",null,null,null,null,"WGC Juniors 2019 - Klub","HU",2019,37,5743,1.0449999999999999,5244,5480,null,null,"LS-4","8F","Není v databázi"]
["David Collins",null,null,null,null,"WGC Juniors 2019 - Klub","HU",2019,38,5639,1.0449999999999999,5088,5317,null,null,"LS-3","1A","Není v databázi"]
["WÉBER Zsombor",null,null,null,null,"WGC Juniors 2019 - Klub","HU",2019,39,5402,1.0449999999999999,4822,5039,null,null,"SZD-48-2 JantarSTD 2",16,"Není v databázi"]
["Michael Keller",null,null,null,null,"WGC Juniors 2019 - Klub","HU",2019,40,5068,1.0449999999999999,4476,4677,null,null,"Std Cirrus 75","XII","Není v databázi"]
["Sondre Bjoro",null,null,null,null,"WGC Juniors 2019 - Klub","HU",2019,41,4886,1.0449999999999999,4255,4446,null,null,"ASW-15B","DB","Není v databázi"]
["Kristoffer D. Samuelsen",null,null,null,null,"WGC Juniors 2019 - Klub","HU",2019,42,4749,1.0449999999999999,4072,4255,null,null,"LS-1F",577,"Není v databázi"]
["Christer Ervik Mjos",null,null,null,null,"WGC Juniors 2019 - Klub","HU",2019,43,4403,1.0449999999999999,3716,3883,null,null,"ASW-15B","SW","Není v databázi"]
["Reuben Lane",null,null,null,null,"WGC Juniors 2019 - Klub","HU",2019,44,3790,1.0449999999999999,{"$f":"ROUND(J1233/MAX($J$1190:$J$1233)*10000*0.7+(MAX($I$1190:$I$1233)-I1233)/(MAX($I$1190:$I$1233)-1)*10000*0.3,0)","v":3139},3280,null,null,"LS-1F","ELY","Není v databázi"]
["Simon Schröder",null,null,null,null,"WGC Juniors 2019 - Std","HU",2019,1,7422,1.07,{"$f":"ROUND(J1234/MAX($J$1234:$J$1269)*10000*0.7+(MAX($I$1234:$I$1269)-I1234)/(MAX($I$1234:$I$1269)-1)*10000*0.3,0)","v":10000},10700,null,null,"LS-8-15 - winglet","S2","Není v databázi"]
["Simon Briel",null,null,null,null,"WGC Juniors 2019 - Std","HU",2019,2,7262,1.07,{"$f":"ROUND(J1235/MAX($J$1234:$J$1269)*10000*0.7+(MAX($I$1234:$I$1269)-I1235)/(MAX($I$1234:$I$1269)-1)*10000*0.3,0)","v":9763},10446,null,null,"Discus 2A - winglet","SB","Není v databázi"]
["Tomasz Hornik",null,null,null,null,"WGC Juniors 2019 - Std","HU",2019,3,7000,1.07,9431,10091,null,null,"Discus 2A - winglet","ii","Není v databázi"]
["Juliusz Pieniazek",null,null,null,null,"WGC Juniors 2019 - Std","HU",2019,4,6750,1.07,9109,9747,null,null,"Discus 2A - winglet","Y","Není v databázi"]
["Robin Sittmann",null,null,null,null,"WGC Juniors 2019 - Std","HU",2019,5,6729,1.07,9004,9634,null,null,"Discus 2A - winglet","RA","Není v databázi"]
["Aude Untersee",null,null,null,null,"WGC Juniors 2019 - Std","HU",2019,6,6632,1.07,8826,9444,null,null,"Discus 2A - winglet","JPA","Není v databázi"]
["Hugo Corbillé",null,null,null,null,"WGC Juniors 2019 - Std","HU",2019,7,6607,1.07,8717,9327,null,null,"LS-8-15 - winglet","7X","Není v databázi"]
["Sjoerd van Empelen",null,null,null,null,"WGC Juniors 2019 - Std","HU",2019,8,6604,1.07,8629,9233,null,null,"LS-8-15 - winglet","E8","Není v databázi"]
["Sofiane Scally",null,null,null,null,"WGC Juniors 2019 - Std","HU",2019,9,6536,1.07,8479,9073,null,null,"LS-8-15 - winglet","RJ","Není v databázi"]
["Jaromir Macoun",{"$f":"VLOOKUP(A1243,Pilot,2,0)","v":1999},{"$f":"VLOOKUP(A1243,Pilot,5,0)","v":"M"},{"$f":"VLOOKUP(A1243,Pilot,3,0)","v":"Jičín"},{"$f":"VLOOKUP(A1243,Pilot,4,0)","v":"CZ/C2"},"WGC Juniors 2019 - Std","HU",2019,10,6442,1.07,{"$f":"ROUND(J1243/MAX($J$1234:$J$1269)*10000*0.7+(MAX($I$1234:$I$1269)-I1243)/(MAX($I$1234:$I$1269)-1)*10000*0.3,0)","v":8304},8885,"x",null,"LS-8-15 - winglet","EU","Junior v roce 2021"]
["Ringaudas Kikalas",null,null,null,null,"WGC Juniors 2019 - Std","HU",2019,11,6369,1.07,8150,8721,null,null,"LS-8-15 - winglet","H8","Není v databázi"]
["Jan Viskot",{"$f":"VLOOKUP(A1245,Pilot,2,0)","v":1995},{"$f":"VLOOKUP(A1245,Pilot,5,0)","v":"M"},{"$f":"VLOOKUP(A1245,Pilot,3,0)","v":"Břeclav"},{"$f":"VLOOKUP(A1245,Pilot,4,0)","v":"CZ/M"},"WGC Juniors 2019 - Std","HU",2019,12,6360,1.07,8056,8620,null,null,"Discus 2A - winglet","GX",""]
["Emil Dalboe-Pedersen",null,null,null,null,"WGC Juniors 2019 - Std","HU",2019,13,6317,1.07,7929,8484,null,null,"LS-8-15 - winglet","SE","Není v databázi"]
["Ignas Bitinaitis",null,null,null,null,"WGC Juniors 2019 - Std","HU",2019,14,6300,1.07,7828,8376,null,null,"Discus 2A - winglet","VM","Není v databázi"]
["Balazs Laktis",null,null,null,null,"WGC Juniors 2019 - Std","HU",2019,15,6294,1.07,7736,8278,null,null,"Discus 2A - winglet","HUN","Není v databázi"]
["Nico Jägli",null,null,null,null,"WGC Juniors 2019 - Std","HU",2019,16,6290,1.07,7647,{"$f":"ROUND(K1249*L1249,0)","v":8182},null,null,"Discus 2B - winglet","2S","Není v databázi"]
["Sjors van Loon",null,null,null,null,"WGC Juniors 2019 - Std","HU",2019,17,6131,1.07,7411,7930,null,null,"LS-8-15 - winglet","M7","Není v databázi"]
["Michael Marshall",null,null,null,null,"WGC Juniors 2019 - Std","HU",2019,18,5827,1.07,7039,7532,null,null,"Discus 2A - winglet","DA","Není v databázi"]
["Peter Carter",null,null,null,null,"WGC Juniors 2019 - Std","HU",2019,19,5790,1.07,6918,7402,null,null,"LS-8-18 525 - winglet",95,"Není v databázi"]
["Simon Brown",null,null,null,null,"WGC Juniors 2019 - Std","HU",2019,20,5700,1.07,6747,7219,null,null,"LS-8-15 - winglet","B","Není v databázi"]
["Nick Fremau",null,null,null,null,"WGC Juniors 2019 - Std","HU",2019,21,5674,1.07,6637,7102,null,null,"LS-8-15 - winglet","L8","Není v databázi"]
["Samuel Posluch",null,null,null,null,"WGC Juniors 2019 - Std","HU",2019,22,5521,1.07,6407,6855,null,null,"LS-8-15 - winglet","SI","Není v databázi"]
["Lars Groot",null,null,null,null,"WGC Juniors 2019 - Std","HU",2019,23,5359,1.07,6169,6601,null,null,"LS-8-15 - winglet","E5","Není v databázi"]
["Jonas Pitschen",null,null,null,null,"WGC Juniors 2019 - Std","HU",2019,24,5304,1.07,6031,6453,null,null,"Discus 2B - winglet","UB","Není v databázi"]
["Balint Biro",null,null,null,null,"WGC Juniors 2019 - Std","HU",2019,25,5278,1.07,5921,6335,null,null,"Discus 2A - winglet","HAL","Není v databázi"]
["Jens Andersen",null,null,null,null,"WGC Juniors 2019 - Std","HU",2019,26,5264,1.07,5822,6230,null,null,"LS-8-15 - winglet","KL","Není v databázi"]
["Tizian Steiger",null,null,null,null,"WGC Juniors 2019 - Std","HU",2019,27,5174,1.07,5651,6047,null,null,"Discus 2A - winglet","O2","Není v databázi"]
["Arnulf Snekvik",null,null,null,null,"WGC Juniors 2019 - Std","HU",2019,28,5123,1.07,5517,5903,null,null,"LS-8-15 - winglet","TT","Není v databázi"]
["Jan Zapletal",{"$f":"VLOOKUP(A1262,Pilot,2,0)","v":1997},{"$f":"VLOOKUP(A1262,Pilot,5,0)","v":"M"},{"$f":"VLOOKUP(A1262,Pilot,3,0)","v":"Břeclav"},{"$f":"VLOOKUP(A1262,Pilot,4,0)","v":"CZ/M"},"WGC Juniors 2019 - Std","HU",2019,29,5104,1.07,5414,5793,null,null,"LS-8-15 - winglet","JS","Junior v roce 2021"]
["Wiktor CZUBSKI",null,null,null,null,"WGC Juniors 2019 - Std","HU",2019,30,5038,1.07,5266,5635,null,null,"LS-8-15 - winglet","LOT","Není v databázi"]
["Joshua Geerlings",null,null,null,null,"WGC Juniors 2019 - Std","HU",2019,31,5012,1.07,5156,5517,null,null,"LS-8-15 - winglet",59,"Není v databázi"]
["Laurynas supinys",null,null,null,null,"WGC Juniors 2019 - Std","HU",2019,32,4915,1.07,4978,5326,null,null,"LAK-19 - winglet","ZM","Není v databázi"]
["Viktoria Divokova",null,null,null,null,"WGC Juniors 2019 - Std","HU",2019,33,4898,1.07,4877,5218,null,null,"Discus 2B - winglet","DI","Není v databázi"]
["Sebastian Pöchlauer",null,null,null,null,"WGC Juniors 2019 - Std","HU",2019,34,4497,1.07,4413,4722,null,null,"Discus 2A - winglet","KG","Není v databázi"]
["Miroslav Beliansky",null,null,null,null,"WGC Juniors 2019 - Std","HU",2019,35,4470,1.07,4302,4603,null,null,"LS-8-15 - winglet","TC","Není v databázi"]
["Lukas Schneeberger",null,null,null,null,"WGC Juniors 2019 - Std","HU",2019,36,4048,1.07,3818,4085,null,null,"Discus B","I","Není v databázi"]
["Rene Hudak",{"$f":"VLOOKUP(A1270,Pilot,2,0)","v":1972},{"$f":"VLOOKUP(A1270,Pilot,5,0)","v":"M"},{"$f":"VLOOKUP(A1270,Pilot,3,0)","v":"Kunovice"},{"$f":"VLOOKUP(A1270,Pilot,4,0)","v":"CZ/M"},"JPJ 2019 - Klub","CZ",2019,1,2214,0.9,{"$f":"ROUND(J1270/MAX($J$1270:$J$1305)*10000*0.7+(MAX($I$1270:$I$1305)-I1270)/(MAX($I$1270:$I$1305)-1)*10000*0.3,0)","v":10000},9000,"x",null,"Std. Cirrus WL","NK",""]
["Martin Ficnar",1971,"M","Šumperk","CZ/M","JPJ 2019 - Klub","CZ",2019,2,2174,0.9,{"$f":"ROUND(J1271/MAX($J$1270:$J$1305)*10000*0.7+(MAX($I$1270:$I$1305)-I1271)/(MAX($I$1270:$I$1305)-1)*10000*0.3,0)","v":9785},8807,"x",null,"LS-3a 15m","S20",""]
["Josef Novak",1981,"M","Kunovice","CZ/M","JPJ 2019 - Klub","CZ",2019,3,2097,0.9,{"$f":"ROUND(J1272/MAX($J$1270:$J$1305)*10000*0.7+(MAX($I$1270:$I$1305)-I1272)/(MAX($I$1270:$I$1305)-1)*10000*0.3,0)","v":9454},8509,"x",null,"LS-1f","JT",""]
["Martin Urner",1974,"M","Letňany","CZ/C1","JPJ 2019 - Klub","CZ",2019,4,2082,0.9,9318,8386,"x",null,"ASW-15B","JJ",""]
["Martin Svarc",1981,"M","Olomouc","CZ/M","JPJ 2019 - Klub","CZ",2019,5,2055,0.9,9144,8230,"x",null,"DG-101 G","HE",""]
["Pavel Rericha",1967,"M","Moravská Třebová","CZ/M","JPJ 2019 - Klub","CZ",2019,6,2024,0.9,8958,8062,"x",null,"ASW-19B","NO",""]
["Jan Zezula",1979,"M","Letňany","CZ/C1","JPJ 2019 - Klub","CZ",2019,7,1974,0.9,8712,7841,"x",null,"ASW-19B","HD",""]
["Roman Schotli",1970,"M","Hranice","CZ/M","JPJ 2019 - Klub","CZ",2019,8,1954,0.9,8560,7704,"x",null,"ASW-19B",19,""]
["Petr Kolacek",1965,"M","Šumperk","CZ/M","JPJ 2019 - Klub","CZ",2019,9,1904,0.9,8314,7483,"x",null,"SZD-48 Jantar std. 2","SU",""]
["Petr Kolomaznik",1981,"M","Šumperk","CZ/M","JPJ 2019 - Klub","CZ",2019,10,1840,0.9,8023,7221,"x",null,"Discus b","SJ",""]
["Petr Havrlant",1965,"M","Šumperk","CZ/M","JPJ 2019 - Klub","CZ",2019,11,1756,0.9,7670,6903,"x",null,"ASW-15B","Q1",""]
["Jiri Koudela",1974,"M","Vyškov","CZ/M","JPJ 2019 - Klub","CZ",2019,12,1710,0.9,7436,6692,"x",null,"ASW-19B","JK",""]
["Jiri Vavrina",1958,"M","Kyjov","CZ/M","JPJ 2019 - Klub","CZ",2019,13,1592,0.9,6975,6278,"x",null,"LS-1f","BS",""]
["Jaromir Vlk",1959,"M","Šumperk","CZ/M","JPJ 2019 - Klub","CZ",2019,14,1514,0.9,6640,5976,"x",null,"ASW-15B","R5",""]
["Lukas Petrzela",1987,"M","Olomouc","CZ/M","JPJ 2019 - Klub","CZ",2019,15,1513,0.9,6548,5893,"x",null,"G-102 Astir cs","AL",""]
["Peter Kaspar",1980,"M","Vyškov","CZ/M","JPJ 2019 - Klub","CZ",2019,16,1509,0.9,6447,5802,"x",null,"G-102 Astir 77","AP",""]
["Michaela Krizova",2001,"F","Přibyslav","CZ/C2","JPJ 2019 - Klub","CZ",2019,17,1430,0.9,6109,5498,"x","x","ASW-15B","BE","Junior v roce 2021"]
["Jan Pokluda",1973,"M","Šumperk","CZ/M","JPJ 2019 - Klub","CZ",2019,18,1422,{"$f":"VLOOKUP(F1287,Soutez,12,0)","v":0.9},5996,5396,"x",null,"ASW-15B WL","JG",{"$f":"IF(ISERROR(VLOOKUP(A1287,Pilot,6,0)),\"Není v databázi\",VLOOKUP(A1287,Pilot,6,0))","v":""}]
["Yvona Vyhnankova",1963,"F","Olomouc","CZ/M","JPJ 2019 - Klub","CZ",2019,19,1293,0.9,5500,4950,"x","x","ASW-15","YZ",""]
["Antonin Pilat",1971,"M","Vyškov","CZ/M","JPJ 2019 - Klub","CZ",2019,20,1267,0.9,5329,4796,"x",null,"DG-200 15m","JB",""]
["Radek Hamrla",1973,"M","Vyškov","CZ/M","JPJ 2019 - Klub","CZ",2019,21,1172,0.9,4941,4447,"x",null,"DG-1000S 18m",66,""]
["Miroslav Mancik",1976,"M","Kyjov","CZ/M","JPJ 2019 - Klub","CZ",2019,22,1160,0.9,4815,4334,"x",null,"G-103 Twin Astir","KW",""]
["Lukas Fronek",1989,"M","Kyjov","CZ/M","JPJ 2019 - Klub","CZ",2019,23,1044,0.9,4360,3924,"x",null,"ASW-15B","E",""]
["Lubomir Papezik",1951,"M","Luhačovice","CZ/M","JPJ 2019 - Klub","CZ",2019,24,910,0.9,3848,3463,"x",null,"LS-4","FP",""]
["Sabina Vitova",1998,"F","Kroměříž","CZ/M","JPJ 2019 - Klub","CZ",2019,25,890,0.9,3696,3326,"x","x","G-102 Astir Jeans","2Y","Junior v roce 2021"]
["Libor Danhel",1966,"M","Kunovice","CZ/M","JPJ 2019 - Klub","CZ",2019,26,852,0.9,3488,3139,"x",null,"Std. Cirrus","OK",""]
["Libor Bednarik",1972,"M","Kunovice","CZ/M","JPJ 2019 - Klub","CZ",2019,27,784,0.9,3185,2867,null,null,"G-103 Twin Astir",103,""]
["Leos Nosek",1958,"M","Vyškov","CZ/M","JPJ 2019 - Klub","CZ",2019,28,750,0.9,2989,2690,"x",null,"G-104 Speed Astir II b","KF",""]
["Lukas Zach",1987,"M","Vyškov","CZ/M","JPJ 2019 - Klub","CZ",2019,29,732,0.9,{"$f":"ROUND(J1298/MAX($J$1270:$J$1305)*10000*0.7+(MAX($I$1270:$I$1305)-I1298)/(MAX($I$1270:$I$1305)-1)*10000*0.3,0)","v":2844},2560,"x",null,"G-102 Astir 77","AS",""]
["Pavel Simek",1957,"M","Vyškov","CZ/M","JPJ 2019 - Klub","CZ",2019,30,544,0.9,2161,1945,"x",null,"DG-500 Elan Trainer","4H",""]
["Michal Linhart",1982,"M","Vyškov","CZ/M","JPJ 2019 - Klub","CZ",2019,31,512,0.9,1972,1775,"x",null,"VSO-10","J9",""]
["Stanislava Zemlickova",2000,"F","Vyškov","CZ/M","JPJ 2019 - Klub","CZ",2019,32,354,0.9,1384,1246,"x","x","VSO-10","B2S","Junior v roce 2021"]
["Ludek Mikl",{"$f":"VLOOKUP(A1302,Pilot,2,0)","v":1963},{"$f":"VLOOKUP(A1302,Pilot,5,0)","v":"M"},{"$f":"VLOOKUP(A1302,Pilot,3,0)","v":"Kroměříž"},{"$f":"VLOOKUP(A1302,Pilot,4,0)","v":"CZ/M"},"JPJ 2019 - Klub","CZ",2019,33,237,0.9,926,833,"x",null,"G-102 Astir CS Jeans","L1",""]
["Karel Horalek",1976,"M","Olomouc","CZ/M","JPJ 2019 - Klub","CZ",2019,34,220,0.9,784,706,"x",null,"LS-3 15m","Y1",""]
["Pavel Handl",1971,"M","Kroměříž","CZ/M","JPJ 2019 - Klub","CZ",2019,35,0,0.9,0,0,null,null,"Phoebus A1","PH",""]
["Petr Lonsky",1965,"M","Toužim","CZ/C1","JPJ 2019 - Klub","CZ",2019,35,0,0.9,0,0,null,null,"LS-1d","CL",""]
["Antonin Konicek",1973,"M","Kunovice","CZ/M","JPJ 2019 - Kombi","CZ",2019,1,2788,0.90500000000000003,{"$f":"ROUND(J1306/MAX($J$1306:$J$1333)*10000*0.7+(MAX($I$1306:$I$1333)-I1306)/(MAX($I$1306:$I$1333)-1)*10000*0.3,0)","v":10000},9050,"x",null,"HpH 304M SHARK","KK",""]
["Frantisek Vancura",1966,"M","Hranice","CZ/M","JPJ 2019 - Kombi","CZ",2019,2,2756,0.90500000000000003,{"$f":"ROUND(J1307/MAX($J$1306:$J$1333)*10000*0.7+(MAX($I$1306:$I$1333)-I1307)/(MAX($I$1306:$I$1333)-1)*10000*0.3,0)","v":9809},8877,"x",null,"Nimbus 3T 24,5m WL","A1",""]
["Vratislav Sram",1966,"M","Broumov","CZ/C2","JPJ 2019 - Kombi","CZ",2019,3,2691,0.90500000000000003,9534,8628,"x",null,"Nimbus 2M WL","NB",""]
["Marek Blatak",1969,"M","Šumperk","CZ/M","JPJ 2019 - Kombi","CZ",2019,4,2624,0.90500000000000003,9255,8376,"x",null,"Ventus c 17,6m","W",""]
["Jan Simon",1970,"M","Kralupy","CZ/C1","JPJ 2019 - Kombi","CZ",2019,5,2604,0.90500000000000003,9094,8230,"x",null,"Ventus ct 17,6m","KR",""]
["Michal Cechmanek",1978,"M","Luhačovice","CZ/M","JPJ 2019 - Kombi","CZ",2019,6,2599,0.90500000000000003,8970,8118,"x",null,"ASW 20 L+FL 16.6m","MK",""]
["Jiri Steiger",1969,"M","Olomouc","CZ/M","JPJ 2019 - Kombi","CZ",2019,6,2599,0.90500000000000003,8970,8118,"x",null,"Ventus 2cxt 18m","JS",""]
["Miroslav Sklenar",1964,"M","Žamberk","CZ/C2","JPJ 2019 - Kombi","CZ",2019,8,2217,0.90500000000000003,7789,{"$f":"ROUND(K1313*L1313,0)","v":7049},"x",null,"Duo Discus T","VP",""]
["Vaclav Kult",1973,"M","Broumov","CZ/C2","JPJ 2019 - Kombi","CZ",2019,9,2169,0.90500000000000003,7557,6839,"x",null,"Nimbus 2b WL","VK",""]
["Zdenek Boruvka 54",1954,"M","Jičín","CZ/C2","JPJ 2019 - Kombi","CZ",2019,10,2093,0.90500000000000003,7255,6566,null,null,"LS-8 15m","ZB",""]
["Jaroslav Buryan",1953,"M","Zábřeh","CZ/M","JPJ 2019 - Kombi","CZ",2019,11,1916,0.90500000000000003,6700,6064,null,null,"ASW-20 15m WL","NS",""]
["Jiri Prochazka",1971,"M","Toužim","CZ/C1","JPJ 2019 - Kombi","CZ",2019,12,1871,0.90500000000000003,6475,5860,"x",null,"DG-500 22m","SR",""]
["Zdenek Schenk",1972,"M","Hranice","CZ/M","JPJ 2019 - Kombi","CZ",2019,13,1698,0.90500000000000003,5930,5367,null,null,"Ventus cm 17,6m","ŠNeK",""]
["Filip Vita",2001,"M","Kroměříž","CZ/M","JPJ 2019 - Kombi","CZ",2019,14,1676,0.90500000000000003,5764,5216,"x",null,"LAK-12","FL","Junior v roce 2021"]
["Miroslav Koci",1961,"M","Žamberk","CZ/C2","JPJ 2019 - Kombi","CZ",2019,15,1665,0.90500000000000003,5625,5091,null,null,"Ventus 2cxm 18m","E8",""]
["Martin Kriz",1968,"M","Přibyslav","CZ/C2","JPJ 2019 - Kombi","CZ",2019,16,1613,0.90500000000000003,5383,4872,"x",null,"ASW-20 15m WL",67,""]
["Michal Hemrle",1974,"M","Česká Lípa","CZ/C2","JPJ 2019 - Kombi","CZ",2019,17,1569,0.90500000000000003,5162,4672,"x",null,"Ventus c 17,6m","XE",""]
["Jan Matejovsky",1972,"M","Hranice","CZ/M","JPJ 2019 - Kombi","CZ",2019,18,1549,0.90500000000000003,5000,4525,"x",null,"Duo Discus","OKD",""]
["Jan Kohout",1970,"M","Žamberk","CZ/C2","JPJ 2019 - Kombi","CZ",2019,19,1494,0.90500000000000003,{"$f":"ROUND(J1324/MAX($J$1306:$J$1333)*10000*0.7+(MAX($I$1306:$I$1333)-I1324)/(MAX($I$1306:$I$1333)-1)*10000*0.3,0)","v":4751},4300,null,null,"LS-8 15m","SK",""]
["Roman Cerny",1971,"M","Hranice","CZ/M","JPJ 2019 - Kombi","CZ",2019,20,1474,0.90500000000000003,4590,4154,"x",null,"LAK-17AT 18m","B2",""]
["Pavel Haluza",1966,"M","Prostějov","CZ/M","JPJ 2019 - Kombi","CZ",2019,21,1373,0.90500000000000003,4225,3824,"x",null,"Nimbus 2b","HT",""]
["Kamil Sohr",1973,"M","Šumperk","CZ/M","JPJ 2019 - Kombi","CZ",2019,22,1363,0.90500000000000003,{"$f":"ROUND(J1327/MAX($J$1306:$J$1333)*10000*0.7+(MAX($I$1306:$I$1333)-I1327)/(MAX($I$1306:$I$1333)-1)*10000*0.3,0)","v":4089},3701,"x",null,"SZD-55 Promyk","BC",""]
["Petr Babak",1973,"M","Hořice","CZ/C2","JPJ 2019 - Kombi","CZ",2019,23,1272,0.90500000000000003,3749,3393,null,null,"Ventus c 17,6m","LS",""]
["Olga Mokosova",1970,"F","Jihlava","CZ/M","JPJ 2019 - Kombi","CZ",2019,24,1193,0.90500000000000003,3440,3113,"x","x","LS-6c 18m WL","MM",""]
["Vladimir Spilka",1940,"M","Hranice","CZ/M","JPJ 2019 - Kombi","CZ",2019,25,896,0.90500000000000003,2583,2338,"x",null,"Nimbus 2b","AY",""]
["Albrecht Beat",1953,"M","Šumperk","CZ/M","JPJ 2019 - Kombi","CZ",2019,26,815,0.90500000000000003,2268,2053,"x",null,"LS-8 15m","GL",""]
["Dusan Sys",1977,"M","Šumperk","CZ/M","JPJ 2019 - Kombi","CZ",2019,27,802,0.90500000000000003,2125,1923,"x",null,"DG-808 C 18m WL","MS",""]
["Christof Madoery",1958,"M","Šumperk","CZ/M","JPJ 2019 - Kombi","CZ",2019,28,490,0.90500000000000003,1230,1113,"x",null,"ASH-25 26m","IQ",""]
["Michal Janda",{"$f":"VLOOKUP(A1334,Pilot,2,0)","v":1972},"M","AK Broumov","CZ/C2","HOP 2019 - Klub","CZ",2019,1,1477,0,{"$f":"ROUND(J1334/MAX($J$1334:$J$1360)*10000*0.7+(MAX($I$1334:$I$1360)-I1334)/(MAX($I$1334:$I$1360)-1)*10000*0.3,0)","v":10000},0,null,null,"VT-116 Orlik 2",7402,""]
["Milan Svoboda 80",1980,"M","AK Havlíčkův Brod","CZ/C2","HOP 2019 - Klub","CZ",2019,2,1437,0,{"$f":"ROUND(J1335/MAX($J$1334:$J$1360)*10000*0.7+(MAX($I$1334:$I$1360)-I1335)/(MAX($I$1334:$I$1360)-1)*10000*0.3,0)","v":9695},0,null,null,"VT-116 Orlik 2",6446,""]
["Oldrich Slavicek",1959,"M","AK Hronov","CZ/C2","HOP 2019 - Klub","CZ",2019,3,1433,0,9561,0,null,null,"VT-116 Orlik 2",4310,""]
["Ivan Kuzelka",1945,"M","AK Havlíčkův Brod","CZ/C2","HOP 2019 - Klub","CZ",2019,4,1403,0,9303,0,null,null,"VT-116 Orlik 2",4314,""]
["Wolfgang Sluka",1942,"M","AK Liberec","CZ/C2","HOP 2019 - Klub","CZ",2019,5,1393,0,9140,0,null,null,"VT-116 Orlik 2",8425,""]
["Petr Seibrt, Dan Kubrt",null,null,"AK Náchod",null,"HOP 2019 - Klub","CZ",2019,6,1257,0,8380,0,null,null,"VT-16 Orlik",2412,"Není v databázi"]
["Ondrej Teichman",{"$f":"VLOOKUP(A1340,Pilot,2,0)","v":1984},{"$f":"VLOOKUP(A1340,Pilot,5,0)","v":"M"},"AK Dvůr Králové nad Labem",{"$f":"VLOOKUP(A1340,Pilot,4,0)","v":"CZ/C2"},"HOP 2019 - Klub","CZ",2019,7,1240,0,8184,0,null,null,"VT-116 Orlik 2",6445,""]
["Tomas Mezera",1973,"M","AK Raná","CZ/C2","HOP 2019 - Klub","CZ",2019,8,1225,0,7998,0,null,null,"VT-116 Orlik 2",8401,""]
["Jaromir Vlk",1959,"M","AK Šumperk","CZ/M","HOP 2019 - Klub","CZ",2019,9,1197,0,7750,0,null,null,"VT-116 Orlik 2",6907,""]
["Krystof Mimra",1992,"M","AK Most","CZ/C2","HOP 2019 - Klub","CZ",2019,10,1195,0,7625,0,null,null,"VT-116 Orlik 2",7413,""]
["Jana Mezerova",1975,"F","AK Raná","CZ/C2","HOP 2019 - Klub","CZ",2019,11,1142,0,7258,0,null,null,"VT-116 Orlik 2",7425,""]
["Karel Kotlan",1957,"M","AK Medlánky","CZ/M","HOP 2019 - Klub","CZ",2019,12,1083,0,6863,0,null,null,"VT-116 Orlik 2",8406,""]
["Petr Vezda",1974,"M","AK Medlánky","CZ/M","HOP 2019 - Klub","CZ",2019,13,1054,0,6611,0,null,null,"VT-116 Orlik 2",4321,""]
["Miroslav Stepan",1955,"M","AK Žamberk","CZ/C2","HOP 2019 - Klub","CZ",2019,14,1018,0,6325,0,null,null,"VT-116 Orlik 2",8412,""]
["Vaclav Kysilka",1979,"M","GAC Benešov","CZ/C1","HOP 2019 - Klub","CZ",2019,15,973,0,5996,0,null,null,"VT-116 Orlik 2",8430,""]
["Sarka Lochova",1966,"F","AK Šumperk","CZ/M","HOP 2019 - Klub","CZ",2019,16,910,0,5582,0,null,null,"VT-116 Orlik 2",7445,""]
["J.Linhart, M.Ondracek",null,null,"AK Medlánky",null,"HOP 2019 - Klub","CZ",2019,17,713,0,4533,0,null,null,"Ka 6 E",9781,"Není v databázi"]
["Michal Nutil",{"$f":"VLOOKUP(A1351,Pilot,2,0)","v":1966},{"$f":"VLOOKUP(A1351,Pilot,5,0)","v":"M"},"AK Náchod",{"$f":"VLOOKUP(A1351,Pilot,4,0)","v":"CZ/C2"},"HOP 2019 - Klub","CZ",2019,18,711,{"$f":"VLOOKUP(F1351,Soutez,12,0)","v":0},4408,0,null,null,"VT-116 Orlik 2",7424,{"$f":"IF(ISERROR(VLOOKUP(A1351,Pilot,6,0)),\"Není v databázi\",VLOOKUP(A1351,Pilot,6,0))","v":""}]
["Oldrich Hlavacek",1973,"M","AK Medlánky","CZ/M","HOP 2019 - Klub","CZ",2019,19,694,0,4212,0,null,null,"VT-116 Orlik 2",8439,""]
["Jaromir Hendrych",1954,"M","AK Raná","CZ/C2","HOP 2019 - Klub","CZ",2019,20,645,0,{"$f":"ROUND(J1353/MAX($J$1334:$J$1360)*10000*0.7+(MAX($I$1334:$I$1360)-I1353)/(MAX($I$1334:$I$1360)-1)*10000*0.3,0)","v":3865},0,null,null,"M-35",2403,""]
["Miroslav Major",1968,"M","AK Kralupy","CZ/C1","HOP 2019 - Klub","CZ",2019,21,502,0,3071,0,null,null,"VT-116 Orlik 2",7403,""]
["Ondrej Blaha",1976,"M","AK Praha Letňany","CZ/C1","HOP 2019 - Klub","CZ",2019,22,441,0,2667,0,null,null,"VT-116 Orlik 2",6444,""]
["Jan Sindelar",1946,"M","SAK Kunovice","CZ/M","HOP 2019 - Klub","CZ",2019,23,405,0,2381,0,null,null,"VT-116 Orlik 2",7410,""]
["M.Jiraskova, J. Stepan",null,null,"AK Hronov",null,"HOP 2019 - Klub","CZ",2019,24,344,0,1976,0,null,null,"VT-116 Orlik 2",6922,"Není v databázi"]
["Bohumil Rikal",{"$f":"VLOOKUP(A1358,Pilot,2,0)","v":1946},{"$f":"VLOOKUP(A1358,Pilot,5,0)","v":"M"},"AK Hronov",{"$f":"VLOOKUP(A1358,Pilot,4,0)","v":"CZ/C2"},"HOP 2019 - Klub","CZ",2019,25,264,0,1482,0,null,null,"VT-16 Orlik",3405,""]
["Martin Adamec",{"$f":"VLOOKUP(A1359,Pilot,2,0)","v":1971},{"$f":"VLOOKUP(A1359,Pilot,5,0)","v":"M"},"AK Medlánky",{"$f":"VLOOKUP(A1359,Pilot,4,0)","v":"CZ/M"},"HOP 2019 - Klub","CZ",2019,26,245,0,1277,0,null,null,"M-28",2903,""]
["Petr Vlasak",{"$f":"VLOOKUP(A1360,Pilot,2,0)","v":1974},{"$f":"VLOOKUP(A1360,Pilot,5,0)","v":"M"},"AK Medlánky",{"$f":"VLOOKUP(A1360,Pilot,4,0)","v":"CZ/M"},"HOP 2019 - Klub","CZ",2019,27,120,0,569,0,null,null,"VT-16 Orlik",2909,""]
["Timo + George Jakl",null,null,"AK Pivo",null,"HOP 2019 - Kombi","CZ",2019,1,2945,0.755,{"$f":"ROUND(J1361/MAX($J$1361:$J$1376)*10000*0.7+(MAX($I$1361:$I$1376)-I1361)/(MAX($I$1361:$I$1376)-1)*10000*0.3,0)","v":10000},7550,null,null,"ASW 22/24m (bez vody)","GJ","Není v databázi"]
["Jan Kohout",{"$f":"VLOOKUP(A1362,Pilot,2,0)","v":1970},{"$f":"VLOOKUP(A1362,Pilot,5,0)","v":"M"},{"$f":"VLOOKUP(A1362,Pilot,3,0)","v":"Žamberk"},{"$f":"VLOOKUP(A1362,Pilot,4,0)","v":"CZ/C2"},"HOP 2019 - Kombi","CZ",2019,2,2873,0.755,{"$f":"ROUND(J1362/MAX($J$1361:$J$1376)*10000*0.7+(MAX($I$1361:$I$1376)-I1362)/(MAX($I$1361:$I$1376)-1)*10000*0.3,0)","v":9629},7270,"x",null,"LS 8 15 m (voda)","SK",""]
["Zdenek Schenk",1972,"M","Hranice","CZ/M","HOP 2019 - Kombi","CZ",2019,3,2857,0.755,9391,7090,"x",null,"Ventus cm 17,6m (bez vody)","SNeK",""]
["Petr Babak",1973,"M","Hořice","CZ/C2","HOP 2019 - Kombi","CZ",2019,4,2740,0.755,8913,6729,"x",null,"Ventus c (s vodou)","LS",""]
["Vaclav Kult",1973,"M","Broumov","CZ/C2","HOP 2019 - Kombi","CZ",2019,5,2693,0.755,8601,6494,"x",null,"Nimbus 2 b WL (voda)","VK",""]
["Martin Koci",1975,"M","Ústí nad Orlicí","CZ/C2","HOP 2019 - Kombi","CZ",2019,6,2511,0.755,7968,6016,"x",null,"Discus b (bez vody)","5E",""]
["Petr Fisar",1974,"M","Ústí nad Orlicí","CZ/C2","HOP 2019 - Kombi","CZ",2019,7,2492,0.755,{"$f":"ROUND(J1367/MAX($J$1361:$J$1376)*10000*0.7+(MAX($I$1361:$I$1376)-I1367)/(MAX($I$1361:$I$1376)-1)*10000*0.3,0)","v":7723},5831,"x",null,"Mosquito b (bez vody)","PF",""]
["Miroslav + Josef Plechac",null,null,"AK Hronov",null,"HOP 2019 - Kombi","CZ",2019,8,2173,0.755,6765,5108,null,null,"Nimbus 2 WL (voda)","SP","Není v databázi"]
["Vratislav Sram",{"$f":"VLOOKUP(A1369,Pilot,2,0)","v":1966},{"$f":"VLOOKUP(A1369,Pilot,5,0)","v":"M"},{"$f":"VLOOKUP(A1369,Pilot,3,0)","v":"Broumov"},{"$f":"VLOOKUP(A1369,Pilot,4,0)","v":"CZ/C2"},"HOP 2019 - Kombi","CZ",2019,9,2159,0.755,6532,4932,null,null,"Arcus M (bez vody)","AR",""]
["Jan Rott",{"$f":"VLOOKUP(A1370,Pilot,2,0)","v":1962},{"$f":"VLOOKUP(A1370,Pilot,5,0)","v":"M"},{"$f":"VLOOKUP(A1370,Pilot,3,0)","v":"Hronov"},{"$f":"VLOOKUP(A1370,Pilot,4,0)","v":"CZ/C2"},"HOP 2019 - Kombi","CZ",2019,10,2152,0.755,6315,4768,"x",null,"Nimbus 2 b (bez vody)","EL",""]
["Zdenek Boruvka 54",{"$f":"VLOOKUP(A1371,Pilot,2,0)","v":1954},{"$f":"VLOOKUP(A1371,Pilot,5,0)","v":"M"},{"$f":"VLOOKUP(A1371,Pilot,3,0)","v":"Jičín"},{"$f":"VLOOKUP(A1371,Pilot,4,0)","v":"CZ/C2"},"HOP 2019 - Kombi","CZ",2019,11,2008,0.755,5773,4359,null,null,"LS 8 15 m (voda)","ZB",""]
["Sebastian Bode",null,"M","FSV Eisenhüttenstadt","DE","HOP 2019 - Kombi","CZ",2019,12,1902,0.755,5321,4017,null,null,"Discus b (voda)","E4","Není v databázi"]
["Christian Rakowski",null,"M","FSV Eisenhüttenstadt","DE","HOP 2019 - Kombi","CZ",2019,13,1842,0.755,{"$f":"ROUND(J1373/MAX($J$1361:$J$1376)*10000*0.7+(MAX($I$1361:$I$1376)-I1373)/(MAX($I$1361:$I$1376)-1)*10000*0.3,0)","v":4978},3758,null,null,"ASW 24 WL (bez vody)","TD","Není v databázi"]
["Jiri Suchomel",{"$f":"VLOOKUP(A1374,Pilot,2,0)","v":1950},{"$f":"VLOOKUP(A1374,Pilot,5,0)","v":"M"},{"$f":"VLOOKUP(A1374,Pilot,3,0)","v":"Broumov"},{"$f":"VLOOKUP(A1374,Pilot,4,0)","v":"CZ/C2"},"HOP 2019 - Kombi","CZ",2019,14,1718,0.755,4484,3385,"x",null,"Janus b (bez vody)","V1",""]
["Miloslav Cindr",{"$f":"VLOOKUP(A1375,Pilot,2,0)","v":1974},{"$f":"VLOOKUP(A1375,Pilot,5,0)","v":"M"},{"$f":"VLOOKUP(A1375,Pilot,3,0)","v":"Ústí nad Orlicí"},{"$f":"VLOOKUP(A1375,Pilot,4,0)","v":"CZ/C2"},"HOP 2019 - Kombi","CZ",2019,15,1642,0.755,4103,3098,"x",null,"Ventus c (bez vody)","MC",""]
["Milos Novotny",{"$f":"VLOOKUP(A1376,Pilot,2,0)","v":1973},{"$f":"VLOOKUP(A1376,Pilot,5,0)","v":"M"},{"$f":"VLOOKUP(A1376,Pilot,3,0)","v":"Hronov"},{"$f":"VLOOKUP(A1376,Pilot,4,0)","v":"CZ/C2"},"HOP 2019 - Kombi","CZ",2019,16,992,0.755,2358,1780,"x",null,"Ventus b 16.6m (bez vody)","VeV",""]
["Sebastian Kawa",null,null,"Poland",null,"EGC 2019 - 15m","SK",2019,1,10390,1.105,{"$f":"ROUND(J1377/MAX($J$1377:$J$1398)*10000*0.7+(MAX($I$1377:$I$1398)-I1377)/(MAX($I$1377:$I$1398)-1)*10000*0.3,0)","v":10000},{"$f":"ROUND(K1377*L1377,0)","v":11050},null,null,"Diana 2","RP","Není v databázi"]
["Maximilian Seis",null,null,"France",null,"EGC 2019 - 15m","SK",2019,2,9976,1.105,{"$f":"ROUND(J1378/MAX($J$1377:$J$1398)*10000*0.7+(MAX($I$1377:$I$1398)-I1378)/(MAX($I$1377:$I$1398)-1)*10000*0.3,0)","v":9578},10584,null,null,"JS3 - 15m","FM","Není v databázi"]
["Jan Omsels",null,null,"Germany",null,"EGC 2019 - 15m","SK",2019,3,9863,1.105,9359,10342,null,null,"Ventus 3T / 15m","Y4","Není v databázi"]
["Louis Bouderlique",null,null,"France",null,"EGC 2019 - 15m","SK",2019,4,9603,1.105,9041,9990,null,null,"JS3 - 15m","FQ","Není v databázi"]
["Radek Krejcirik",{"$f":"VLOOKUP(A1381,Pilot,2,0)","v":1991},{"$f":"VLOOKUP(A1381,Pilot,5,0)","v":"M"},{"$f":"VLOOKUP(A1381,Pilot,3,0)","v":"Hranice"},{"$f":"VLOOKUP(A1381,Pilot,4,0)","v":"CZ/M"},"EGC 2019 - 15m","SK",2019,5,9561,1.105,8870,9801,"x",null,"JS3 - 15m","ZE",""]
["Freddy Hein",null,null,"Germany",null,"EGC 2019 - 15m","SK",2019,6,9560,1.105,8727,9643,null,null,"Ventus 3T","IYB","Není v databázi"]
["Lukasz Grabowski",null,null,"Poland",null,"EGC 2019 - 15m","SK",2019,7,9509,1.105,8549,9447,null,null,"SZD-56-2 Diana-2","BB","Není v databázi"]
["Joris Vainius",null,null,"Lithuania",null,"EGC 2019 - 15m","SK",2019,8,9306,1.105,8270,9138,null,null,"ASG-29 /15m","M7","Není v databázi"]
["Sebastian Bauder",null,null,"Germany",null,"EGC 2019 - 15m","SK",2019,9,9058,1.105,7960,8796,null,null,"Ventus 2a/15m","PE","Není v databázi"]
["Harri Hirvola",null,null,"Finland",null,"EGC 2019 - 15m","SK",2019,10,9001,1.105,7778,8595,null,null,"Ventus 2a /15m","EH","Není v databázi"]
["Rasmus Orskov",null,null,"Denmark",null,"EGC 2019 - 15m","SK",2019,11,8623,1.105,7381,8156,null,null,"Ventus 3T /15","EK","Není v databázi"]
["Tapio Tourula",null,null,"Finland",null,"EGC 2019 - 15m","SK",2019,12,8375,1.105,7071,7813,null,null,"Ventus 2bx / 15m","KX","Není v databázi"]
["Tim Scott",null,null,"United Kingdom",null,"EGC 2019 - 15m","SK",2019,13,8355,1.105,{"$f":"ROUND(J1389/MAX($J$1377:$J$1398)*10000*0.7+(MAX($I$1377:$I$1398)-I1389)/(MAX($I$1377:$I$1398)-1)*10000*0.3,0)","v":6915},7641,null,null,"ASG-29 /15m","Z3","Není v databázi"]
["Zoltan Kore",null,null,"Hungary",null,"EGC 2019 - 15m","SK",2019,14,7917,1.105,6477,7157,null,null,"JS3 / 15m","AI","Není v databázi"]
["Vladimir Foltin",null,null,"Slovakia",null,"EGC 2019 - 15m","SK",2019,15,7881,1.105,6310,6973,null,null,"ASG 29","LK","Není v databázi"]
["Ondrej Bordovsky",{"$f":"VLOOKUP(A1392,Pilot,2,0)","v":1983},{"$f":"VLOOKUP(A1392,Pilot,5,0)","v":"M"},{"$f":"VLOOKUP(A1392,Pilot,3,0)","v":"Krnov"},{"$f":"VLOOKUP(A1392,Pilot,4,0)","v":"CZ/M"},"EGC 2019 - 15m","SK",2019,16,7828,1.105,6131,6775,null,null,"Ventus 2ax /15m","AX",""]
["Zoltan Hamar",null,null,"Hungary",null,"EGC 2019 - 15m","SK",2019,17,7136,1.105,5522,6102,null,null,"Ventus 2ax /15m","5A","Není v databázi"]
["Peter Janoska",null,null,"Slovakia",null,"EGC 2019 - 15m","SK",2019,18,6408,1.105,4889,5402,null,null,"Ventus 2bx /15m","VI","Není v databázi"]
["Francisco Ortega",null,null,"Spain",null,"EGC 2019 - 15m","SK",2019,19,6307,1.105,4678,5169,null,null,"ASW-27B","27B","Není v databázi"]
["Vitaliy Borovik",null,null,"Russian Federation",null,"EGC 2019 - 15m","SK",2019,20,5277,1.105,3841,4244,null,null,"asg29e","QZ","Není v databázi"]
["Aldo Cernezzi",null,null,"Italy",null,"EGC 2019 - 15m","SK",2019,21,4925,1.105,3461,3824,null,null,"LAK 17at","CJ","Není v databázi"]
["Herbert Pirker",null,null,"Austria",null,"EGC 2019 - 15m","SK",2019,22,2169,1.105,1461,1614,null,null,"ASG 29E /15m","MD","Není v databázi"]
["Sebastian Kawa",null,null,null,null,"EGC 2019 - 18m","PL",2019,1,3359,1.0899999999999999,{"$f":"ROUND(J1399/MAX($J$1399:$J$1426)*10000*0.7+(MAX($I$1399:$I$1426)-I1399)/(MAX($I$1399:$I$1426)-1)*10000*0.3,0)","v":10000},10900,null,null,"Diana 3","D3","Není v databázi"]
["Karol Staryszak",null,null,null,null,"EGC 2019 - 18m","PL",2019,2,3327,1.0899999999999999,{"$f":"ROUND(J1400/MAX($J$1399:$J$1426)*10000*0.7+(MAX($I$1399:$I$1426)-I1400)/(MAX($I$1399:$I$1426)-1)*10000*0.3,0)","v":9822},10706,null,null,"ASG 29E","PES","Není v databázi"]
["Wolfgang Janowitsch",null,null,null,null,"EGC 2019 - 18m","PL",2019,3,3285,1.0899999999999999,9624,10490,null,null,"Ventus 3T","WO","Není v databázi"]
["Roman Mracek",{"$f":"VLOOKUP(A1402,Pilot,2,0)","v":1980},{"$f":"VLOOKUP(A1402,Pilot,5,0)","v":"M"},{"$f":"VLOOKUP(A1402,Pilot,3,0)","v":"Letkov"},{"$f":"VLOOKUP(A1402,Pilot,4,0)","v":"CZ/C1"},"EGC 2019 - 18m","PL",2019,4,3279,1.0899999999999999,9500,10355,"x",null,"JS3-18","XM",""]
["Peter Harvey",null,null,null,null,"EGC 2019 - 18m","PL",2019,5,3275,1.0899999999999999,9381,10225,null,null,"Ventus 3T",110,"Není v databázi"]
["Christophe Abadie",null,null,null,null,"EGC 2019 - 18m","PL",2019,6,3204,1.0899999999999999,9121,9942,null,null,"JS3-18","2L","Není v databázi"]
["Jean-Denis Barrois",null,null,null,null,"EGC 2019 - 18m","PL",2019,7,3183,1.0899999999999999,8967,9774,null,null,"JS3-18","FM","Není v databázi"]
["Philip Jones",null,null,null,null,"EGC 2019 - 18m","PL",2019,8,3179,1.0899999999999999,8847,9643,null,null,"Ventus 3T",210,"Není v databázi"]
["Peter Millenaar",null,null,null,null,"EGC 2019 - 18m","PL",2019,9,3029,1.0899999999999999,8423,9181,null,null,"Ventus 3T","VY","Není v databázi"]
["Claus Triebel",null,null,null,null,"EGC 2019 - 18m","PL",2019,10,2825,1.0899999999999999,7887,8597,null,null,"JS3-18","SP","Není v databázi"]
["Bernd Schmid",null,null,null,null,"EGC 2019 - 18m","PL",2019,11,2780,1.0899999999999999,7682,8373,null,null,"Ventus 3T","I7","Není v databázi"]
["Marek Pechanec",{"$f":"VLOOKUP(A1410,Pilot,2,0)","v":1970},{"$f":"VLOOKUP(A1410,Pilot,5,0)","v":"M"},{"$f":"VLOOKUP(A1410,Pilot,3,0)","v":"Luhačovice"},{"$f":"VLOOKUP(A1410,Pilot,4,0)","v":"CZ/M"},"EGC 2019 - 18m","PL",2019,12,2750,1.0899999999999999,{"$f":"ROUND(J1410/MAX($J$1399:$J$1426)*10000*0.7+(MAX($I$1399:$I$1426)-I1410)/(MAX($I$1399:$I$1426)-1)*10000*0.3,0)","v":7509},8185,"x",null,"ASG 29E","QZ",""]
["Gyorgy Gulyas",null,null,null,null,"EGC 2019 - 18m","PL",2019,13,2673,1.0899999999999999,7237,7888,null,null,"JS3-18","AX","Není v databázi"]
["Thomas Gostner",null,null,null,null,"EGC 2019 - 18m","PL",2019,14,2671,1.0899999999999999,7122,7763,null,null,"Ventus 3T","GT","Není v databázi"]
["Mikko Nurminen",null,null,null,null,"EGC 2019 - 18m","PL",2019,15,2658,1.0899999999999999,6984,7613,null,null,"Ventus 2 cxa","AL","Není v databázi"]
["Vytautas Maciulis",null,null,null,null,"EGC 2019 - 18m","PL",2019,16,2580,1.0899999999999999,6710,7314,null,null,"LAK-17B",77,"Není v databázi"]
["Nik Salej",null,null,null,null,"EGC 2019 - 18m","PL",2019,17,2529,{"$f":"VLOOKUP(F1415,Soutez,12,0)","v":1.0899999999999999},6493,7077,null,null,"JS3-18","XD",{"$f":"IF(ISERROR(VLOOKUP(A1415,Pilot,6,0)),\"Není v databázi\",VLOOKUP(A1415,Pilot,6,0))","v":"Není v databázi"}]
["Martti Sucksdorff",null,null,null,null,"EGC 2019 - 18m","PL",2019,18,2487,1.0899999999999999,6294,6860,null,null,"ASG 29E","WS","Není v databázi"]
["Peter Szabo",null,null,null,null,"EGC 2019 - 18m","PL",2019,18,2487,1.0899999999999999,6294,6860,null,null,"JS3-18","BX","Není v databázi"]
["Henrik A. Breidahl",null,null,null,null,"EGC 2019 - 18m","PL",2019,20,2470,1.0899999999999999,6036,6579,null,null,"JS3-18",14,"Není v databázi"]
["Teet Jagomägi",null,null,null,null,"EGC 2019 - 18m","PL",2019,21,2412,1.0899999999999999,5804,6326,null,null,"JS1-18","TP","Není v databázi"]
["Bernhard Leitner",null,null,null,null,"EGC 2019 - 18m","PL",2019,22,2403,1.0899999999999999,5674,6185,null,null,"Ventus 2 cxm","LV","Není v databázi"]
["Peter Johansson",null,null,null,null,"EGC 2019 - 18m","PL",2019,23,2402,1.0899999999999999,5561,6061,null,null,"ASG 29E","2T","Není v databázi"]
["Sorin Lingureanu",null,null,null,null,"EGC 2019 - 18m","PL",2019,24,2368,1.0899999999999999,5379,5863,null,null,"ASG 29","AK","Není v databázi"]
["Werner Amann",null,null,null,null,"EGC 2019 - 18m","PL",2019,25,2302,1.0899999999999999,5131,5593,null,null,"ASG 29","WG","Není v databázi"]
["Yves Gerster",null,null,null,null,"EGC 2019 - 18m","PL",2019,26,2290,1.0899999999999999,4994,5443,null,null,"JS3-18","E1","Není v databázi"]
["Peter Cutting",null,null,null,null,"EGC 2019 - 18m","PL",2019,27,1593,1.0899999999999999,3431,3740,null,null,"ASG 29E","VZ","Není v databázi"]
["Diana Schuit",null,null,null,null,"EGC 2019 - 18m","PL",2019,28,1281,1.0899999999999999,2670,2910,null,null,"LS-10 st","LS","Není v databázi"]
["Rubaj & Matkowski",null,null,null,null,"EGC 2019 - Duo 20m","PL",2019,1,3443,1.0649999999999999,{"$f":"ROUND(J1427/MAX($J$1427:$J$1440)*10000*0.7+(MAX($I$1427:$I$1440)-I1427)/(MAX($I$1427:$I$1440)-1)*10000*0.3,0)","v":10000},10650,null,null,"ASG 32 Mi","MD","Není v databázi"]
["Jones & Coppin",null,null,null,null,"EGC 2019 - Duo 20m","PL",2019,2,3399,1.0649999999999999,{"$f":"ROUND(J1428/MAX($J$1427:$J$1440)*10000*0.7+(MAX($I$1427:$I$1440)-I1428)/(MAX($I$1427:$I$1440)-1)*10000*0.3,0)","v":9680},10309,null,null,"Arcus T",66,"Není v databázi"]
["Grote & Gmelin",null,null,null,null,"EGC 2019 - Duo 20m","PL",2019,3,3357,1.0649999999999999,{"$f":"ROUND(J1429/MAX($J$1427:$J$1440)*10000*0.7+(MAX($I$1427:$I$1440)-I1429)/(MAX($I$1427:$I$1440)-1)*10000*0.3,0)","v":9364},9973,null,null,"Arcus T","V8","Není v databázi"]
["Ghiorzo & Prodorutti",null,null,null,null,"EGC 2019 - Duo 20m","PL",2019,4,3355,1.0649999999999999,9129,9722,null,null,"Arcus M","BPG","Není v databázi"]
["Sorri & Lehto",null,null,null,null,"EGC 2019 - Duo 20m","PL",2019,5,3310,1.0649999999999999,8807,9379,null,null,"Arcus M","AM","Není v databázi"]
["Morel & Labatut",null,null,null,null,"EGC 2019 - Duo 20m","PL",2019,6,3301,1.0649999999999999,8557,9113,null,null,"Arcus T","FP","Není v databázi"]
["Achleitner & Rass",null,null,null,null,"EGC 2019 - Duo 20m","PL",2019,7,3095,1.0649999999999999,7908,8422,null,null,"ASG 32 Mi","GA","Není v databázi"]
["Scarlat & Kessler",null,null,null,null,"EGC 2019 - Duo 20m","PL",2019,8,3039,1.0649999999999999,7563,8055,null,null,"Arcus M","V9","Není v databázi"]
["Motuza & Volkov",null,null,null,null,"EGC 2019 - Duo 20m","PL",2019,9,2881,1.0649999999999999,7011,7467,null,null,"ASG 32 Mi","IV","Není v databázi"]
["Michal Lesinger",{"$f":"VLOOKUP(A1436,Pilot,2,0)","v":1966},{"$f":"VLOOKUP(A1436,Pilot,5,0)","v":"M"},{"$f":"VLOOKUP(A1436,Pilot,3,0)","v":"Moravská Třebová"},{"$f":"VLOOKUP(A1436,Pilot,4,0)","v":"CZ/M"},"EGC 2019 - Duo 20m","PL",2019,10,2714,1.0649999999999999,{"$f":"ROUND(J1436/MAX($J$1427:$J$1440)*10000*0.7+(MAX($I$1427:$I$1440)-I1436)/(MAX($I$1427:$I$1440)-1)*10000*0.3,0)","v":6441},6860,null,null,"Twin Shark","TS",""]
["Szabadfi & Szabadfi",null,null,null,null,"EGC 2019 - Duo 20m","PL",2019,11,2653,1.0649999999999999,6086,6482,null,null,"Arcus T","AB","Není v databázi"]
["Larsen & Pedersen",null,null,null,null,"EGC 2019 - Duo 20m","PL",2019,12,2514,1.0649999999999999,5573,5935,null,null,"Duo Discus T","V4","Není v databázi"]
["Timoshenko & Rudenko",null,null,null,null,"EGC 2019 - Duo 20m","PL",2019,13,2065,1.0649999999999999,4429,4717,null,null,"Arcus M","AP","Není v databázi"]
["Käppeli & Koch",null,null,null,null,"EGC 2019 - Duo 20m","PL",2019,14,1855,1.0649999999999999,3771,4016,null,null,"Arcus M",1,"Není v databázi"]
["Tom Arscott",null,null,"United Kingdom",null,"EGC 2019 - Klub","SK",2019,1,9907,1.105,{"$f":"ROUND(J1441/MAX($J$1441:$J$1471)*10000*0.7+(MAX($I$1441:$I$1471)-I1441)/(MAX($I$1441:$I$1471)-1)*10000*0.3,0)","v":10000},{"$f":"ROUND(K1441*L1441,0)","v":11050},null,null,"LS 7",768,"Není v databázi"]
["Gerrard G Dale",null,null,"United Kingdom",null,"EGC 2019 - Klub","SK",2019,2,9619,1.105,{"$f":"ROUND(J1442/MAX($J$1441:$J$1471)*10000*0.7+(MAX($I$1441:$I$1471)-I1442)/(MAX($I$1441:$I$1471)-1)*10000*0.3,0)","v":9697},10715,null,null,"ASW 24","E2","Není v databázi"]
["Uwe Wahlig",null,null,"Germany",null,"EGC 2019 - Klub","SK",2019,3,9563,1.105,9557,10560,null,null,"LS 3","SN","Není v databázi"]
["Ivan Novak",{"$f":"VLOOKUP(A1444,Pilot,2,0)","v":1962},{"$f":"VLOOKUP(A1444,Pilot,5,0)","v":"M"},{"$f":"VLOOKUP(A1444,Pilot,3,0)","v":"Mladá Boleslav"},{"$f":"VLOOKUP(A1444,Pilot,4,0)","v":"CZ/C1"},"EGC 2019 - Klub","SK",2019,4,9339,1.105,9299,10275,"x",null,"LS 4b","IX",""]
["Ferenc Tamas",null,null,"Hungary",null,"EGC 2019 - Klub","SK",2019,5,9319,1.105,9185,10149,null,null,"LS 3","1A","Není v databázi"]
["Jozef Kozar",null,null,"Slovakia",null,"EGC 2019 - Klub","SK",2019,6,9306,1.105,9075,10028,null,null,"LS 1f","MF","Není v databázi"]
["Adrien Henry",null,null,"France",null,"EGC 2019 - Klub","SK",2019,7,9212,1.105,8909,9844,null,null,"Std. Cirrus",19,"Není v databázi"]
["Jaroslav Tomana",{"$f":"VLOOKUP(A1448,Pilot,2,0)","v":1975},{"$f":"VLOOKUP(A1448,Pilot,5,0)","v":"M"},{"$f":"VLOOKUP(A1448,Pilot,3,0)","v":"Zbraslavice"},{"$f":"VLOOKUP(A1448,Pilot,4,0)","v":"CZ/C1"},"EGC 2019 - Klub","SK",2019,8,9200,1.105,{"$f":"ROUND(J1448/MAX($J$1441:$J$1471)*10000*0.7+(MAX($I$1441:$I$1471)-I1448)/(MAX($I$1441:$I$1471)-1)*10000*0.3,0)","v":8800},9724,"x",null,"Pegase 101 BC/WL","RT",""]
["Per Carlin",null,null,"Sweden",null,"EGC 2019 - Klub","SK",2019,9,8900,1.105,8488,9379,null,null,"LS 1f","G7","Není v databázi"]
["Arturas Pilvinis",null,null,"Lithuania",null,"EGC 2019 - Klub","SK",2019,10,8639,1.105,8204,9065,null,null,"SZD 55-1","AP","Není v databázi"]
["Marek Sawczuk",null,null,"Poland",null,"EGC 2019 - Klub","SK",2019,11,8605,1.105,8080,8928,null,null,"ASW 20F","SB","Není v databázi"]
["Darius Liaugaudas",null,null,"Lithuania",null,"EGC 2019 - Klub","SK",2019,12,8602,1.105,7978,8816,null,null,"Pegase 101A","PL","Není v databázi"]
["Paul Altrichter",null,null,"Austria",null,"EGC 2019 - Klub","SK",2019,13,8508,1.105,7812,8632,null,null,"LS 4","TAX","Není v databázi"]
["Sakari Pyorre",null,null,"Finland",null,"EGC 2019 - Klub","SK",2019,14,8432,1.105,7658,8462,null,null,"LS 7","PF","Není v databázi"]
["Felix Hoffmann",null,null,"Germany",null,"EGC 2019 - Klub","SK",2019,15,8389,1.105,7527,8317,null,null,"ASW 20","5B","Není v databázi"]
["Sandor Laurinyecz",null,null,"Hungary",null,"EGC 2019 - Klub","SK",2019,16,8245,1.105,7326,8095,null,null,"LS 1f","V2","Není v databázi"]
["Miroslaw Izydorczak",null,null,"Poland",null,"EGC 2019 - Klub","SK",2019,17,8215,1.105,{"$f":"ROUND(J1457/MAX($J$1441:$J$1471)*10000*0.7+(MAX($I$1441:$I$1471)-I1457)/(MAX($I$1441:$I$1471)-1)*10000*0.3,0)","v":7204},7960,null,null,"ASW 20 L","MM","Není v databázi"]
["Fréderic Hoyeau",null,null,"France",null,"EGC 2019 - Klub","SK",2019,18,7981,1.105,6939,7668,null,null,"C11","C11","Není v databázi"]
["Boris Zorz",null,null,"Slovenia",null,"EGC 2019 - Klub","SK",2019,19,7836,1.105,6737,7444,null,null,"Std. Cirrus","IPF","Není v databázi"]
["Simone Selvini",null,null,"Italy",null,"EGC 2019 - Klub","SK",2019,20,7540,1.105,6428,7103,null,null,"Std.Cirrus","2S","Není v databázi"]
["Ales Fink",null,null,"Slovenia",null,"EGC 2019 - Klub","SK",2019,21,7141,1.105,6046,6681,null,null,"DG 300","KO","Není v databázi"]
["Giacomo Dall'Olio",null,null,"Italy",null,"EGC 2019 - Klub","SK",2019,22,7021,1.105,5861,6476,null,null,"Std. Cirrus","DM","Není v databázi"]
["Sergey Serov",null,null,"Russian Federation",null,"EGC 2019 - Klub","SK",2019,23,6767,1.105,5581,6167,null,null,"ASW20","EW","Není v databázi"]
["Sergi Pujol Rodriguez",null,null,"Spain",null,"EGC 2019 - Klub","SK",2019,24,6722,1.105,5450,6022,null,null,"MiniNimbus","JJ","Není v databázi"]
["Frantisek Sobek",null,null,"Slovakia",null,"EGC 2019 - Klub","SK",2019,25,6663,1.105,5308,5865,null,null,"DG 100","G1","Není v databázi"]
["Oliver Andersson",null,null,"Sweden",null,"EGC 2019 - Klub","SK",2019,26,6550,1.105,5128,5666,null,null,"LS 1f","R4","Není v databázi"]
["Frane Franic",null,null,"Croatia",null,"EGC 2019 - Klub","SK",2019,27,4787,1.105,3782,4179,null,null,"Jantar Std. 3","HR1","Není v databázi"]
["Davide Giovanelli",null,null,"Switzerland",null,"EGC 2019 - Klub","SK",2019,28,4590,1.105,3543,3915,null,null,"Std. Cirrus",96,"Není v databázi"]
["Bruno Herencic",null,null,"Croatia",null,"EGC 2019 - Klub","SK",2019,29,3710,1.105,2821,3117,null,null,"DG 200","BC","Není v databázi"]
["Mykhailo Grytsenko",null,null,"Ukraine",null,"EGC 2019 - Klub","SK",2019,30,3294,1.105,2427,2682,null,null,"Jantar std. 3",89,"Není v databázi"]
["Juha Vainikka",null,null,"Finland",null,"EGC 2019 - Klub","SK",2019,31,2853,1.105,2016,2228,null,null,"SZD 55-1","WB","Není v databázi"]
["Petr Tichy",{"$f":"VLOOKUP(A1472,Pilot,2,0)","v":1973},{"$f":"VLOOKUP(A1472,Pilot,5,0)","v":"M"},{"$f":"VLOOKUP(A1472,Pilot,3,0)","v":"Zbraslavice"},{"$f":"VLOOKUP(A1472,Pilot,4,0)","v":"CZ/C1"},"EGC 2019 - Open","PL",2019,1,3748,1.0599999999999998,{"$f":"ROUND(J1472/MAX($J$1472:$J$1488)*10000*0.7+(MAX($I$1472:$I$1488)-I1472)/(MAX($I$1472:$I$1488)-1)*10000*0.3,0)","v":10000},10600,"x",null,"EB 29 R","IEX",""]
["Riccardo Brigliadori",null,null,null,null,"EGC 2019 - Open","PL",2019,2,3720,1.0599999999999998,{"$f":"ROUND(J1473/MAX($J$1472:$J$1488)*10000*0.7+(MAX($I$1472:$I$1488)-I1473)/(MAX($I$1472:$I$1488)-1)*10000*0.3,0)","v":9760},10346,null,null,"JS1c-21","LEO","Není v databázi"]
["Markus Frank",null,null,null,null,"EGC 2019 - Open","PL",2019,3,3629,1.0599999999999998,9403,9967,null,null,"EB 29","FB","Není v databázi"]
["Philippe de Péchy",null,null,null,null,"EGC 2019 - Open","PL",2019,4,3490,1.0599999999999998,8956,9493,null,null,"JS1c-21","EJ","Není v databázi"]
["Eric Bernard",null,null,null,null,"EGC 2019 - Open","PL",2019,5,3487,1.0599999999999998,8763,9289,null,null,"JS1c-21","EB","Není v databázi"]
["Łukasz Wójcik",null,null,null,null,"EGC 2019 - Open","PL",2019,6,3472,1.0599999999999998,8547,9060,null,null,"JS1c-21","P","Není v databázi"]
["Russell Cheetham",null,null,null,null,"EGC 2019 - Open","PL",2019,7,3470,1.0599999999999998,8356,8857,null,null,"EB 29 DR","DD","Není v databázi"]
["Pierre de Broqueville",null,null,null,null,"EGC 2019 - Open","PL",2019,8,3379,{"$f":"VLOOKUP(F1479,Soutez,12,0)","v":1.0599999999999998},7998,8478,null,null,"EB 29 DR","IP3",{"$f":"IF(ISERROR(VLOOKUP(A1479,Pilot,6,0)),\"Není v databázi\",VLOOKUP(A1479,Pilot,6,0))","v":"Není v databázi"}]
["Petr Krejcirik",{"$f":"VLOOKUP(A1480,Pilot,2,0)","v":1960},{"$f":"VLOOKUP(A1480,Pilot,5,0)","v":"M"},{"$f":"VLOOKUP(A1480,Pilot,3,0)","v":"Hranice"},{"$f":"VLOOKUP(A1480,Pilot,4,0)","v":"CZ/M"},"EGC 2019 - Open","PL",2019,9,3250,1.0599999999999998,{"$f":"ROUND(J1480/MAX($J$1472:$J$1488)*10000*0.7+(MAX($I$1472:$I$1488)-I1480)/(MAX($I$1472:$I$1488)-1)*10000*0.3,0)","v":7570},8024,null,null,"JS1c-21","ZF",""]
["Oliver Binder",null,null,null,null,"EGC 2019 - Open","PL",2019,10,3238,1.0599999999999998,7360,7802,null,null,"EB 29 DR","WB","Není v databázi"]
["Zdzisław Bednarczuk",null,null,null,null,"EGC 2019 - Open","PL",2019,11,3173,1.0599999999999998,{"$f":"ROUND(J1482/MAX($J$1472:$J$1488)*10000*0.7+(MAX($I$1472:$I$1488)-I1482)/(MAX($I$1472:$I$1488)-1)*10000*0.3,0)","v":7051},7474,null,null,"JS1c-21","B52","Není v databázi"]
["Bas Seijffert",null,null,null,null,"EGC 2019 - Open","PL",2019,12,3134,1.0599999999999998,6791,7198,null,null,"JS1c-21","BJ","Není v databázi"]
["Tim Jenkinson",null,null,null,null,"EGC 2019 - Open","PL",2019,13,2888,1.0599999999999998,6144,6513,null,null,"JS1c-21","SB","Není v databázi"]
["Alberto Sironi",null,null,null,null,"EGC 2019 - Open","PL",2019,14,2817,1.0599999999999998,5824,6173,null,null,"Quintus M","AS","Není v databázi"]
["Laszlo Halasz",null,null,null,null,"EGC 2019 - Open","PL",2019,15,2624,1.0599999999999998,5276,5593,null,null,"JS1c-21","HAB","Není v databázi"]
["Riku Rissanen",null,null,null,null,"EGC 2019 - Open","PL",2019,16,2227,1.0599999999999998,4347,4608,null,null,"EB 28 Edition","EX","Není v databázi"]
["Juha Silvennoinen",null,null,null,null,"EGC 2019 - Open","PL",2019,17,1684,1.0599999999999998,3145,3334,null,null,"LAK-20T","3G","Není v databázi"]
["Pavel Louzecky",{"$f":"VLOOKUP(A1489,Pilot,2,0)","v":1957},{"$f":"VLOOKUP(A1489,Pilot,5,0)","v":"M"},{"$f":"VLOOKUP(A1489,Pilot,3,0)","v":"Přibyslav"},{"$f":"VLOOKUP(A1489,Pilot,4,0)","v":"CZ/C2"},"EGC 2019 - Std","SK",2019,1,9992,1.105,{"$f":"ROUND(J1489/MAX($J$1489:$J$1517)*10000*0.7+(MAX($I$1489:$I$1517)-I1489)/(MAX($I$1489:$I$1517)-1)*10000*0.3,0)","v":10000},11050,"x",null,"LS-8 / 15m","FX",""]
["Robert Schroeder",null,null,"Germany",null,"EGC 2019 - Std","SK",2019,2,9937,1.105,{"$f":"ROUND(J1490/MAX($J$1489:$J$1517)*10000*0.7+(MAX($I$1489:$I$1517)-I1490)/(MAX($I$1489:$I$1517)-1)*10000*0.3,0)","v":9854},10889,null,null,"LS-8 neo / 15m","S2","Není v databázi"]
["Miloslav Cink",{"$f":"VLOOKUP(A1491,Pilot,2,0)","v":1987},{"$f":"VLOOKUP(A1491,Pilot,5,0)","v":"M"},{"$f":"VLOOKUP(A1491,Pilot,3,0)","v":"Letkov"},{"$f":"VLOOKUP(A1491,Pilot,4,0)","v":"CZ/C1"},"EGC 2019 - Std","SK",2019,3,9849,1.105,9686,10703,"x",null,"LS-8b / 15m","JB",""]
["Tomas Suchanek",{"$f":"VLOOKUP(A1492,Pilot,2,0)","v":1964},{"$f":"VLOOKUP(A1492,Pilot,5,0)","v":"M"},{"$f":"VLOOKUP(A1492,Pilot,3,0)","v":"GAC Benešov"},{"$f":"VLOOKUP(A1492,Pilot,4,0)","v":"CZ/C1"},"EGC 2019 - Std","SK",2019,4,9676,1.105,{"$f":"ROUND(J1492/MAX($J$1489:$J$1517)*10000*0.7+(MAX($I$1489:$I$1517)-I1492)/(MAX($I$1489:$I$1517)-1)*10000*0.3,0)","v":9457},10450,"x",null,"Discus 2a / 15m","GX",""]
["Lukasz Błaszczyk",null,null,"Poland",null,"EGC 2019 - Std","SK",2019,5,9634,1.105,9321,10300,null,null,"Discus 2a / 15m","I","Není v databázi"]
["Sebastian Naegel",null,null,"Germany",null,"EGC 2019 - Std","SK",2019,6,9586,1.105,9180,10144,null,null,"Discus 2ax / 15m","XN","Není v databázi"]
["Benjamin Néglais",null,null,"France",null,"EGC 2019 - Std","SK",2019,7,9397,1.105,8940,9879,null,null,"Discus 2a / 15m","ET","Není v databázi"]
["Maros Divok",null,null,"Slovakia",null,"EGC 2019 - Std","SK",2019,8,9103,1.105,8627,9533,null,null,"Discus 2b / 15m","DI","Není v databázi"]
["Filip Bojanowski",null,null,"Denmark",null,"EGC 2019 - Std","SK",2019,9,9081,1.105,8505,9398,null,null,"Discus 2a / 15m","IAX","Není v databázi"]
["Lucas Delobel",null,null,"France",null,"EGC 2019 - Std","SK",2019,10,9047,1.105,8374,9253,null,null,"Discus 2a / 15m","JPA","Není v databázi"]
["Tamas Vamosi",null,null,"Hungary",null,"EGC 2019 - Std","SK",2019,11,8770,1.105,8072,8920,null,null,"Discus 2ax / 15m","HUN","Není v databázi"]
["Alex Pop",null,null,"Romania",null,"EGC 2019 - Std","SK",2019,12,8725,1.105,7934,8767,null,null,"Discus 2a / 15m","YA","Není v databázi"]
["Dmitriy Timoshenko",null,null,"Russian Federation",null,"EGC 2019 - Std","SK",2019,13,8553,1.105,7706,8515,null,null,"Discus 2a / 15m","DT","Není v databázi"]
["Anton Minskiy",null,null,"Russian Federation",null,"EGC 2019 - Std","SK",2019,14,8460,1.105,7534,8325,null,null,"Discus 2a / 15m",2,"Není v databázi"]
["Paul Fritche",null,null,"United Kingdom",null,"EGC 2019 - Std","SK",2019,15,8363,1.105,7359,8132,null,null,"LS-8 / 15m","L4","Není v databázi"]
["Jacek Flis",null,null,"Poland",null,"EGC 2019 - Std","SK",2019,16,8348,1.105,7241,8001,null,null,"Discus 2a / 15m","Y","Není v databázi"]
["Howard Jones",null,null,"United Kingdom",null,"EGC 2019 - Std","SK",2019,17,8265,1.105,7076,{"$f":"ROUND(K1505*L1505,0)","v":7819},null,null,"Discus 2a / 15m",6,"Není v databázi"]
["Luca Urbani",null,null,"Italy",null,"EGC 2019 - Std","SK",2019,18,8246,1.105,6955,7685,null,null,"Discus 2a / 15m","LR","Není v databázi"]
["Juha Sorri",null,null,"Finland",null,"EGC 2019 - Std","SK",2019,19,8229,1.105,6836,7554,null,null,"Discus 2b / 15m","JS","Není v databázi"]
["Aku Jaakkola",null,null,"Finland",null,"EGC 2019 - Std","SK",2019,20,7805,1.105,6432,7107,null,null,"Discus 2a / 15m","AJ","Není v databázi"]
["Daniel Arday",null,null,"Hungary",null,"EGC 2019 - Std","SK",2019,21,7378,1.105,6026,6659,null,null,"Discus 2a","HAL","Není v databázi"]
["Dominik Jancik",null,null,"Slovakia",null,"EGC 2019 - Std","SK",2019,22,7082,1.105,5711,6311,null,null,"LS-8 / 15m","SI","Není v databázi"]
["Guido Dalla Rosa Prati",null,null,"Italy",null,"EGC 2019 - Std","SK",2019,23,7002,1.105,5548,6131,null,null,"LS-8 / 15m","GG","Není v databázi"]
["Poul Kim Larsen",null,null,"Denmark",null,"EGC 2019 - Std","SK",2019,24,6995,1.105,5436,6007,null,null,"Discus 2a / 15m","D2","Není v databázi"]
["Jef Kell",null,null,"Belgium",null,"EGC 2019 - Std","SK",2019,25,6555,1.105,5021,5548,null,null,"Discus 2b / 15m","YU","Není v databázi"]
["Andrius Tamulenas",null,null,"Lithuania",null,"EGC 2019 - Std","SK",2019,26,6477,1.105,4859,5369,null,null,"LS-8 / 15m","H8","Není v databázi"]
["Pascal Brunner",null,null,"Switzerland",null,"EGC 2019 - Std","SK",2019,27,3974,1.105,2998,3313,null,null,"Discus 2b / 15m","ST","Není v databázi"]
["Norbert Scarlat",null,null,"Romania",null,"EGC 2019 - Std","SK",2019,28,3265,1.105,2394,2645,null,null,"Discus 2a / 15m","YB","Není v databázi"]
["Dani Zaninovic",null,null,"Croatia",null,"EGC 2019 - Std","SK",2019,29,101,1.105,71,78,null,null,"ASW 24 WL","HR3","Není v databázi"]
["Martin Pirker",null,null,"FRA Wr. Neustadt",null,"Alpe Adria Cup 2019 - Klub","AT",2019,1,2129,0.73,{"$f":"ROUND(J1518/MAX($J$1518:$J$1537)*10000*0.7+(MAX($I$1518:$I$1537)-I1518)/(MAX($I$1518:$I$1537)-1)*10000*0.3,0)","v":10000},7300,null,null,"Ventus Cm","PM","Není v databázi"]
["Eduard Supersperger",null,null,"SMBC Kirchdorf-Micheldorf",null,"Alpe Adria Cup 2019 - Klub","AT",2019,2,2031,0.73,{"$f":"ROUND(J1519/MAX($J$1518:$J$1537)*10000*0.7+(MAX($I$1518:$I$1537)-I1519)/(MAX($I$1518:$I$1537)-1)*10000*0.3,0)","v":9520},6950,null,null,"Duo-Discus XL","M1","Není v databázi"]
["Georg Falkensammer",null,null,"FSV Feldkirchen/Ossiachersee",null,"Alpe Adria Cup 2019 - Klub","AT",2019,3,1944,0.73,9076,6625,null,null,"Discus 2b","D2","Není v databázi"]
["Herwig Wagner",null,null,"St. Flugsportunion",null,"Alpe Adria Cup 2019 - Klub","AT",2019,4,1770,0.73,8346,6093,null,null,"SZD55","KE","Není v databázi"]
["Alessandro Giaiotti",null,null,"CVNE",null,"Alpe Adria Cup 2019 - Klub","AT",2019,5,1587,0.73,7586,5538,null,null,"Ventus2b","D","Není v databázi"]
["Roman Buehler",null,null,"SG Säntis",null,"Alpe Adria Cup 2019 - Klub","AT",2019,6,1437,0.73,6935,5063,null,null,"Ventus cM","AC","Není v databázi"]
["Josef Scheiber",null,null,"SVA",null,"Alpe Adria Cup 2019 - Klub","AT",2019,7,1404,0.73,6669,4868,null,null,"Duo XLT","KPG","Není v databázi"]
["Bernd Sauter",null,null,"Deutschland",null,"Alpe Adria Cup 2019 - Klub","AT",2019,8,1382,0.73,6439,4700,null,null,"Duo Discus","W","Není v databázi"]
["Florian Forcher",null,null,"SFC Pinkafeld",null,"Alpe Adria Cup 2019 - Klub","AT",2019,9,1380,0.73,6274,4580,null,null,"DG 300 WL","N1","Není v databázi"]
["Peter Schneeweis",null,null,"ASKÖ Flugsportverein Linz",null,"Alpe Adria Cup 2019 - Klub","AT",2019,10,1294,0.73,5834,4259,null,null,"Duo Discus XT","L","Není v databázi"]
["Friedrich Hofinger",null,null,"SMBC Kirchdorf Micheldorf",null,"Alpe Adria Cup 2019 - Klub","AT",2019,11,1196,0.73,5353,3908,null,null,"Discus 2ct","KN","Není v databázi"]
["Petr Malcek",{"$f":"VLOOKUP(A1529,Pilot,2,0)","v":1965},{"$f":"VLOOKUP(A1529,Pilot,5,0)","v":"M"},{"$f":"VLOOKUP(A1529,Pilot,3,0)","v":"Letňany"},{"$f":"VLOOKUP(A1529,Pilot,4,0)","v":"CZ/C1"},"Alpe Adria Cup 2019 - Klub","AT",2019,12,1128,0.73,4972,3630,"x",null,"Duo Discus",777,""]
["Tizian Steiger",null,null,"SG Lägern",null,"Alpe Adria Cup 2019 - Klub","AT",2019,13,1125,0.73,4804,3507,null,null,"Discus 2a","O2","Není v databázi"]
["Jan Kotan",{"$f":"VLOOKUP(A1531,Pilot,2,0)","v":1982},{"$f":"VLOOKUP(A1531,Pilot,5,0)","v":"M"},{"$f":"VLOOKUP(A1531,Pilot,3,0)","v":"Letňany"},{"$f":"VLOOKUP(A1531,Pilot,4,0)","v":"CZ/C1"},"Alpe Adria Cup 2019 - Klub","AT",2019,14,1087,0.73,{"$f":"ROUND(J1531/MAX($J$1518:$J$1537)*10000*0.7+(MAX($I$1518:$I$1537)-I1531)/(MAX($I$1518:$I$1537)-1)*10000*0.3,0)","v":4521},3300,null,null,"ASW-19","WT",""]
["Martin Bühlmann",null,null,"SG Lägern",null,"Alpe Adria Cup 2019 - Klub","AT",2019,15,1066,0.73,4294,3135,null,null,"Discus 2b","2S","Není v databázi"]
["Klaus Porod",null,null,"FSV-Feldkirchen",null,"Alpe Adria Cup 2019 - Klub","AT",2019,16,974,0.73,3834,2799,null,null,"Discus 2cT","PSI","Není v databázi"]
["Herbert Pirker",null,null,"FAS",null,"Alpe Adria Cup 2019 - Klub","AT",2019,17,839,0.73,3232,2359,null,null,"ASG 29 E","MD","Není v databázi"]
["Gösta Worf",null,null,"LSR Aalen",null,"Alpe Adria Cup 2019 - Klub","AT",2019,18,746,0.73,2769,2021,null,null,"Ventus cM","GW","Není v databázi"]
["Ute Baranowski",null,null,"Alpenflugzentrum Unterwössen e.V.",null,"Alpe Adria Cup 2019 - Klub","AT",2019,19,550,0.73,1966,1435,null,null,"Ventus 2ax","IB","Není v databázi"]
["Philipp Wittwer",null,null,"SFG Dornbirn",null,"Alpe Adria Cup 2019 - Klub","AT",2019,20,60,0.73,197,144,null,null,"LS 8","ZL","Není v databázi"]
["Reinhard Haggenmueller",null,null,null,null,"Alpe Adria Cup 2019 - Kombi","AT",2019,1,2725,0.73,{"$f":"ROUND(J1538/MAX($J$1538:$J$1560)*10000*0.7+(MAX($I$1538:$I$1560)-I1538)/(MAX($I$1538:$I$1560)-1)*10000*0.3,0)","v":10000},7300,null,null,"ASG29 18E","RR","Není v databázi"]
["Sven Kolb",null,null,"SFG-Dornbirn",null,"Alpe Adria Cup 2019 - Kombi","AT",2019,2,2705,0.73,{"$f":"ROUND(J1539/MAX($J$1538:$J$1560)*10000*0.7+(MAX($I$1538:$I$1560)-I1539)/(MAX($I$1538:$I$1560)-1)*10000*0.3,0)","v":9812},7163,null,null,"Antares LF20e","ZF","Není v databázi"]
["Thomas Krüger",null,null,"AC Bad Neustadt",null,"Alpe Adria Cup 2019 - Kombi","AT",2019,3,2505,0.73,9162,6688,null,null,"EB 29","TK","Není v databázi"]
["Guido Halter",null,null,"SG Säntis",null,"Alpe Adria Cup 2019 - Kombi","AT",2019,4,2460,0.73,8910,6504,null,null,"ASH25M","HU","Není v databázi"]
["Roland Henz",null,null,"AFZ Unterwössen",null,"Alpe Adria Cup 2019 - Kombi","AT",2019,5,2352,0.73,8496,6202,null,null,"Ventus 2cxT","T3","Není v databázi"]
["Paul Bernhard",null,null,"Steirische Flugsportunion",null,"Alpe Adria Cup 2019 - Kombi","AT",2019,6,2314,{"$f":"VLOOKUP(F1543,Soutez,12,0)","v":0.73},8262,6031,null,null,"ASH25Mi","NG",{"$f":"IF(ISERROR(VLOOKUP(A1543,Pilot,6,0)),\"Není v databázi\",VLOOKUP(A1543,Pilot,6,0))","v":"Není v databázi"}]
["Volker Polhaus",null,null,"Deutschland",null,"Alpe Adria Cup 2019 - Kombi","AT",2019,7,2275,0.73,8026,5859,null,null,"ASH26E","BV","Není v databázi"]
["Wolfgang Falkensammer",null,null,"FSV Feldkirchen/Ossiachersee",null,"Alpe Adria Cup 2019 - Kombi","AT",2019,8,2259,0.73,7848,5729,null,null,"Antares 18T","FW","Není v databázi"]
["Karel Krobath",null,null,"SFC Tulln",null,"Alpe Adria Cup 2019 - Kombi","AT",2019,9,2107,0.73,7322,5345,null,null,"HPH 304 MS","Q","Není v databázi"]
["Michael Wolff",null,null,"Direktmitglied",null,"Alpe Adria Cup 2019 - Kombi","AT",2019,10,2037,0.73,7005,5114,null,null,"Ventus 3M","WZ","Není v databázi"]
["Erich Niedl",null,null,"USFC Tulln",null,"Alpe Adria Cup 2019 - Kombi","AT",2019,11,1895,0.73,6504,4748,null,null,"Ventus 2cxT","CX","Není v databázi"]
["Joachim Hirt",null,null,"LSV Schwarzwald Baar e.v.",null,"Alpe Adria Cup 2019 - Kombi","AT",2019,12,1529,0.73,5428,3962,null,null,"Nimbus 3DM","MM","Není v databázi"]
["Gerold Auerbach",null,null,"LSV Salzburg",null,"Alpe Adria Cup 2019 - Kombi","AT",2019,13,1474,0.73,5150,3760,null,null,"ASH 31","FT","Není v databázi"]
["René Schönmann",null,null,"SGBF Segelfluggruppe Basel Fricktal",null,"Alpe Adria Cup 2019 - Kombi","AT",2019,14,1423,0.73,4883,3565,null,null,"JS1 C 21m","LI","Není v databázi"]
["Franz Salomon",null,null,"Steirische Flugsportunion",null,"Alpe Adria Cup 2019 - Kombi","AT",2019,15,1407,0.73,4705,3435,null,null,"Arcus M","FS","Není v databázi"]
["Alexander Schütz",null,null,"AFZ Unterwössen",null,"Alpe Adria Cup 2019 - Kombi","AT",2019,16,1395,0.73,4538,3313,null,null,"Ventus2cT","AI","Není v databázi"]
["Fridolin Hauser",null,null,"Lägern",null,"Alpe Adria Cup 2019 - Kombi","AT",2019,17,1329,0.73,4232,3089,null,null,"ASG 32 MI","HM","Není v databázi"]
["Konrad Feichter",null,null,"FSV Feldkirchen",null,"Alpe Adria Cup 2019 - Kombi","AT",2019,18,1328,0.73,4093,2988,null,null,"Arcus-T","UHM","Není v databázi"]
["Wolfgang Zimmermann",null,null,"Flugring Austria Wr. Neustadt",null,"Alpe Adria Cup 2019 - Kombi","AT",2019,19,1174,0.73,{"$f":"ROUND(J1556/MAX($J$1538:$J$1560)*10000*0.7+(MAX($I$1538:$I$1560)-I1556)/(MAX($I$1538:$I$1560)-1)*10000*0.3,0)","v":3561},2600,null,null,"Ventus 2cxm","XM","Není v databázi"]
["Werner Danz",null,null,"SG Glarnerland",null,"Alpe Adria Cup 2019 - Kombi","AT",2019,20,1001,0.73,2980,2175,null,null,"Antares 18T","BT","Není v databázi"]
["Raoul Flicker",null,null,"SFC Tulln",null,"Alpe Adria Cup 2019 - Kombi","AT",2019,21,870,0.73,2508,1831,null,null,"Ventus","FF","Není v databázi"]
["Markus Zacherl",null,null,"AFZ Unterwössen",null,"Alpe Adria Cup 2019 - Kombi","AT",2019,22,537,0.73,1516,1107,null,null,"ASH 25 M","HG","Není v databázi"]
["Aurel Hallbrucker",null,null,"ISV",null,"Alpe Adria Cup 2019 - Kombi","AT",2019,23,445,0.73,1143,834,null,null,"Arcus M",2,"Není v databázi"]
["Milan Surovcik",null,null,"AK Zilina",null,"MAM 2019 - Klub","SK",2019,1,6069,0.77500000000000002,{"$f":"ROUND(J1561/MAX($J$1561:$J$1594)*10000*0.7+(MAX($I$1561:$I$1594)-I1561)/(MAX($I$1561:$I$1594)-1)*10000*0.3,0)","v":10000},7750,null,null,"Pegase","EL","Není v databázi"]
["Milos Srank",null,null,"AK Nove Zamky",null,"MAM 2019 - Klub","SK",2019,2,5953,0.77500000000000002,{"$f":"ROUND(J1562/MAX($J$1561:$J$1594)*10000*0.7+(MAX($I$1561:$I$1594)-I1562)/(MAX($I$1561:$I$1594)-1)*10000*0.3,0)","v":9775},7576,null,null,"ASW 24A WL","CK","Není v databázi"]
["Marek Straka",null,null,"AK Trencin",null,"MAM 2019 - Klub","SK",2019,3,5894,0.77500000000000002,9616,7452,null,null,"LS 3","AI","Není v databázi"]
["Bohumil Vasek",null,null,"AK Partizanske",null,"MAM 2019 - Klub","SK",2019,4,5880,0.77500000000000002,9509,7369,null,null,"Pegase","LL","Není v databázi"]
["Jozef Sopirjak",null,null,"AK Kosice",null,"MAM 2019 - Klub","SK",2019,5,5436,0.77500000000000002,8906,6902,null,null,"DG 101","SX","Není v databázi"]
["Dusan Zubak",null,null,"AK Partizanske",null,"MAM 2019 - Klub","SK",2019,6,5284,0.77500000000000002,8640,6696,null,null,"vso-10","M8","Není v databázi"]
["Pavlinsky & Belusko",null,null,"AK Presov",null,"MAM 2019 - Klub","SK",2019,7,5110,0.77500000000000002,8348,6470,null,null,"Marianne","AM","Není v databázi"]
["Samuel Posluch",null,null,"SGC Martin",null,"MAM 2019 - Klub","SK",2019,8,5065,0.77500000000000002,8206,6360,null,null,"Std. Cirrus WL","LX","Není v databázi"]
["Martin Toman",null,null,"AK Presosv",null,"MAM 2019 - Klub","SK",2019,9,4968,0.77500000000000002,8003,{"$f":"ROUND(K1569*L1569,0)","v":6202},null,null,"Std. Cirrus","MJ","Není v databázi"]
["Marek Seman",null,null,"AK Presov",null,"MAM 2019 - Klub","SK",2019,10,4796,0.77500000000000002,7714,5978,null,null,"Std. Cirrus","CV","Není v databázi"]
["Erik Mikulas",null,null,"AK Partizanske",null,"MAM 2019 - Klub","SK",2019,11,4647,0.77500000000000002,7451,5775,null,null,"LS 1 f","LS","Není v databázi"]
["Anton Zelenaj",null,null,"AK Nove Zamky",null,"MAM 2019 - Klub","SK",2019,12,4558,0.77500000000000002,7257,5624,null,null,"ASW 15 b","TZ","Není v databázi"]
["Jan Zubak",null,null,"AK Partizanske",null,"MAM 2019 - Klub","SK",2019,13,4209,0.77500000000000002,6764,5242,null,null,"vso-10",82,"Není v databázi"]
["Peter Hupka",null,null,"AK Nitra",null,"MAM 2019 - Klub","SK",2019,14,4024,0.77500000000000002,6459,5006,null,null,"Pegase",101,"Není v databázi"]
["Mlynarik & Mlynarikova",null,null,"AK Banska Bystrica",null,"MAM 2019 - Klub","SK",2019,15,3956,0.77500000000000002,6290,4875,null,null,"Twin Astir 1","VLT","Není v databázi"]
["Stefan Liska",null,null,"AK Trnava",null,"MAM 2019 - Klub","SK",2019,16,3939,0.77500000000000002,6180,4790,null,null,"Pegase","H","Není v databázi"]
["Ludovit Homola",null,null,"AK Bratislava",null,"MAM 2019 - Klub","SK",2019,17,3851,0.77500000000000002,5987,4640,null,null,"ASW 20","II","Není v databázi"]
["Peter Klepac",null,null,"AK Nitra",null,"MAM 2019 - Klub","SK",2019,18,3670,0.77500000000000002,5688,4408,null,null,"astir CS",78,"Není v databázi"]
["Juraj Vysny",null,null,"AK Senica",null,"MAM 2019 - Klub","SK",2019,19,3665,0.77500000000000002,5591,4333,null,null,"Mosquito","JS","Není v databázi"]
["Jozef Vyletel",null,null,"AK Ocova",null,"MAM 2019 - Klub","SK",2019,20,3576,0.77500000000000002,5397,4183,null,null,"VSO-10",18,"Není v databázi"]
["Juraj Borcha",null,null,"AK PARTIZANSKE",null,"MAM 2019 - Klub","SK",2019,21,3493,0.77500000000000002,5211,4039,null,null,"Std. Cirrus WL","SZ","Není v databázi"]
["Peter Gosanyi",null,null,"AK Nove Zamky",null,"MAM 2019 - Klub","SK",2019,22,3450,0.77500000000000002,5070,3929,null,null,"Discus 2a","VP","Není v databázi"]
["Ivan Chabada",null,null,"AK Banska Bystrica",null,"MAM 2019 - Klub","SK",2019,23,3415,0.77500000000000002,4939,3828,null,null,"PIK 20 B","KM","Není v databázi"]
["Jan Jagos",null,null,"AK Banska Bystrica",null,"MAM 2019 - Klub","SK",2019,24,3035,0.77500000000000002,4410,3418,null,null,"PIK 20 D","F1","Není v databázi"]
["Rastislav Krak",null,null,"AK Poprad",null,"MAM 2019 - Klub","SK",2019,25,2773,0.77500000000000002,4017,3113,null,null,"Twin Astir RG","TAT","Není v databázi"]
["Marek Kuban",null,null,"AK Bratislava",null,"MAM 2019 - Klub","SK",2019,26,2572,0.77500000000000002,3694,2863,null,null,"ASW 19b","BA6","Není v databázi"]
["Bohuslav Vanik",null,null,"AK Ocova",null,"MAM 2019 - Klub","SK",2019,27,2441,0.77500000000000002,3452,2675,null,null,"vso-10","M1","Není v databázi"]
["Frantisek Michalik",null,null,"AK Trencin",null,"MAM 2019 - Klub","SK",2019,28,2429,0.77500000000000002,{"$f":"ROUND(J1588/MAX($J$1561:$J$1594)*10000*0.7+(MAX($I$1561:$I$1594)-I1588)/(MAX($I$1561:$I$1594)-1)*10000*0.3,0)","v":3347},2594,null,null,"DG 300","FM","Není v databázi"]
["Marian Szabo",null,null,"AK Partizanske",null,"MAM 2019 - Klub","SK",2019,29,1888,0.77500000000000002,2632,2040,null,null,"VT-116 Orlik 2",84,"Není v databázi"]
["Peter Usiak",null,null,"AK Banska Bystrica",null,"MAM 2019 - Klub","SK",2019,30,1765,0.77500000000000002,2399,1859,null,null,"Astir CS 77","WW","Není v databázi"]
["Lubomir Beno",null,null,"AK PARTIZANSKE",null,"MAM 2019 - Klub","SK",2019,31,1469,0.77500000000000002,1967,1524,null,null,"vso-10","H6","Není v databázi"]
["Maros Okos",null,null,"AK Presov",null,"MAM 2019 - Klub","SK",2019,32,1190,0.77500000000000002,1554,1204,null,null,"vso-10",75,"Není v databázi"]
["Martin Marincak",null,null,"AK Presov",null,"MAM 2019 - Klub","SK",2019,33,61,0.77500000000000002,161,125,null,null,"vso-10",10,"Není v databázi"]
["Katarina Golc",null,null,"AK Murska Sobota",null,"MAM 2019 - Klub","SK",2019,34,49,0.77500000000000002,57,44,null,null,"vso-10","I5","Není v databázi"]
["Kotvas & Simoncic",null,null,"AK Bratislava",null,"MAM 2019 - Kombi","SK",2019,1,5968,0.77500000000000002,{"$f":"ROUND(J1595/MAX($J$1595:$J$1605)*10000*0.7+(MAX($I$1595:$I$1605)-I1595)/(MAX($I$1595:$I$1605)-1)*10000*0.3,0)","v":10000},7750,null,null,"DG 1000 T 20m","NIT","Není v databázi"]
["Kromka & Kollar",null,null,"AK Poprad",null,"MAM 2019 - Kombi","SK",2019,2,5877,0.77500000000000002,{"$f":"ROUND(J1596/MAX($J$1595:$J$1605)*10000*0.7+(MAX($I$1595:$I$1605)-I1596)/(MAX($I$1595:$I$1605)-1)*10000*0.3,0)","v":9560},7409,null,null,"Arcus M","TA3","Není v databázi"]
["Spaniel & Skrabalek",null,null,"AK Bratislava",null,"MAM 2019 - Kombi","SK",2019,3,5343,0.77500000000000002,8600,6665,null,null,"Duo Discus","2X","Není v databázi"]
["Dusan Bernat",null,null,"SGC Martin",null,"MAM 2019 - Kombi","SK",2019,4,5185,0.77500000000000002,8082,6264,null,null,"Ventus 17.6m","AD","Není v databázi"]
["Milan Lojdl",null,null,"AK Martin",null,"MAM 2019 - Kombi","SK",2019,5,4784,0.77500000000000002,7278,5640,null,null,"Ventus 2cxa 18m","MJ1","Není v databázi"]
["Benedikt Laho",null,null,"AK Trnava",null,"MAM 2019 - Kombi","SK",2019,6,4677,0.77500000000000002,6819,5285,null,null,"Discus 2ct /18m","JH","Není v databázi"]
["Viktoria Divokova",null,null,"Spišska Nová Ves",null,"MAM 2019 - Kombi","SK",2019,7,4234,0.77500000000000002,5966,4624,null,null,"Discus b","3D","Není v databázi"]
["Lubomir Doupal",{"$f":"VLOOKUP(A1602,Pilot,2,0)","v":1975},{"$f":"VLOOKUP(A1602,Pilot,5,0)","v":"M"},{"$f":"VLOOKUP(A1602,Pilot,3,0)","v":"Kroměříž"},{"$f":"VLOOKUP(A1602,Pilot,4,0)","v":"CZ/M"},"MAM 2019 - Kombi","SK",2019,8,3745,0.77500000000000002,{"$f":"ROUND(J1602/MAX($J$1595:$J$1605)*10000*0.7+(MAX($I$1595:$I$1605)-I1602)/(MAX($I$1595:$I$1605)-1)*10000*0.3,0)","v":5059},3921,"x",null,"LS 8 /18 m","YF",""]
["Peter Abonyi",null,null,"SGC Martin",null,"MAM 2019 - Kombi","SK",2019,9,3357,0.77500000000000002,4271,3310,null,null,"Ventus c 17,6","SF","Není v databázi"]
["Daniel Kronek",null,null,"SGC Martin",null,"MAM 2019 - Kombi","SK",2019,10,2910,0.77500000000000002,3413,2645,null,null,"Ventus bT 17.6m","DK","Není v databázi"]
["Miroslav Belilansky",null,null,"AK Patrizanske",null,"MAM 2019 - Kombi","SK",2019,"HC",1897,0.77500000000000002,null,0,null,null,"LS 8t 15m","TC","Není v databázi"]
["Tilo Holighaus",null,null,null,null,"WSGP Final 2019 - 18m GP","SP",2019,1,49,1.08,{"$f":"ROUND((MAX($I$1606:$I$1624)-I1606)/(MAX($I$1606:$I$1624)-1)*10000,0)","v":10000},10800,null,null,"Ventus-3T","3V","Není v databázi"]
["Sebastian Kawa",null,null,null,null,"WSGP Final 2019 - 18m GP","SP",2019,2,35,{"$f":"VLOOKUP(F1607,Soutez,12,0)","v":1.08},{"$f":"ROUND((MAX($I$1606:$I$1624)-I1607)/(MAX($I$1606:$I$1624)-1)*10000,0)","v":9444},10200,null,null,"JS3","JS3",{"$f":"IF(ISERROR(VLOOKUP(A1607,Pilot,6,0)),\"Není v databázi\",VLOOKUP(A1607,Pilot,6,0))","v":"Není v databázi"}]
["Louis Bouderlique",null,null,null,null,"WSGP Final 2019 - 18m GP","SP",2019,3,28,1.08,8889,9600,null,null,"JS3","FQ","Není v databázi"]
["Didier Hauss",null,null,null,null,"WSGP Final 2019 - 18m GP","SP",2019,4,23,1.08,8333,9000,null,null,"JS 1","FD","Není v databázi"]
["Maximilian Seis",null,null,null,null,"WSGP Final 2019 - 18m GP","SP",2019,5,22,1.08,7778,8400,null,null,"JS 3","FM","Není v databázi"]
["Christoph Limpert",null,null,null,null,"WSGP Final 2019 - 18m GP","SP",2019,6,21,1.08,7222,7800,null,null,"ASG29Es","CC","Není v databázi"]
["Pete Temple",null,null,null,null,"WSGP Final 2019 - 18m GP","SP",2019,7,19,1.08,6667,7200,null,null,"ASG29E","BS","Není v databázi"]
["Gintas Zube",null,null,null,null,"WSGP Final 2019 - 18m GP","SP",2019,8,16,1.08,6111,6600,null,null,"ASG29","AR","Není v databázi"]
["Gilles Navas",null,null,null,null,"WSGP Final 2019 - 18m GP","SP",2019,9,15,1.08,5556,6000,null,null,"JS-MD3","AX","Není v databázi"]
["Łukasz Wójcik",null,null,null,null,"WSGP Final 2019 - 18m GP","SP",2019,10,12,1.08,5000,5400,null,null,"Ventus 3","AT","Není v databázi"]
["Jon Gatfield",null,null,null,null,"WSGP Final 2019 - 18m GP","SP",2019,11,12,1.08,4444,4800,null,null,"ASG 29Es","YO","Není v databázi"]
["Mike Young",null,null,null,null,"WSGP Final 2019 - 18m GP","SP",2019,12,10,1.08,{"$f":"ROUND((MAX($I$1606:$I$1624)-I1617)/(MAX($I$1606:$I$1624)-1)*10000,0)","v":3889},4200,null,null,"Ventus 3",120,"Není v databázi"]
["Petr Krejcirik",{"$f":"VLOOKUP(A1618,Pilot,2,0)","v":1960},{"$f":"VLOOKUP(A1618,Pilot,5,0)","v":"M"},{"$f":"VLOOKUP(A1618,Pilot,3,0)","v":"Hranice"},{"$f":"VLOOKUP(A1618,Pilot,4,0)","v":"CZ/M"},"WSGP Final 2019 - 18m GP","SP",2019,13,10,1.08,{"$f":"ROUND((MAX($I$1606:$I$1624)-I1618)/(MAX($I$1606:$I$1624)-1)*10000,0)","v":3333},3600,null,null,"JS-MD3","ZF",""]
["Thomas Gostner",null,null,null,null,"WSGP Final 2019 - 18m GP","SP",2019,14,4,1.08,2778,3000,null,null,"Ventus 3T","GT","Není v databázi"]
["Adam Czeladzki",null,null,null,null,"WSGP Final 2019 - 18m GP","SP",2019,15,1,1.08,2222,2400,null,null,"JS1 c evo jet","GOL","Není v databázi"]
["Evgeny Zlobin",null,null,null,null,"WSGP Final 2019 - 18m GP","SP",2019,16,0,1.08,1667,1800,null,null,"JS 1b","IGC","Není v databázi"]
["Graham Parker",null,null,null,null,"WSGP Final 2019 - 18m GP","SP",2019,17,0,1.08,1111,1200,null,null,"ASG29E",70,"Není v databázi"]
["Aldo Rodriguez",null,null,null,null,"WSGP Final 2019 - 18m GP","SP",2019,18,0,1.08,556,600,null,null,"Lak 17A","LE","Není v databázi"]
["Vladimir Radovskiy",null,null,null,null,"WSGP Final 2019 - 18m GP","SP",2019,19,0,1.08,0,0,null,null,"JS 1","MD","Není v databázi"]
["Jan Ratz",{"$f":"VLOOKUP(A1625,Pilot,2,0)","v":1987},{"$f":"VLOOKUP(A1625,Pilot,5,0)","v":"M"},{"$f":"VLOOKUP(A1625,Pilot,3,0)","v":"Zbraslavice"},{"$f":"VLOOKUP(A1625,Pilot,4,0)","v":"CZ/C1"},"Adrenalin GP 2019 - Klub GP","CZ",2019,1,49,0.91500000000000004,{"$f":"ROUND((MAX($I$1625:$I$1636)-I1625)/(MAX($I$1625:$I$1636)-1)*10000,0)","v":10000},9150,"x",null,"Std. Cirrus","REX",""]
["Zdenek Balcarek",{"$f":"VLOOKUP(A1626,Pilot,2,0)","v":1967},{"$f":"VLOOKUP(A1626,Pilot,5,0)","v":"M"},{"$f":"VLOOKUP(A1626,Pilot,3,0)","v":"Kroměříž"},{"$f":"VLOOKUP(A1626,Pilot,4,0)","v":"CZ/M"},"Adrenalin GP 2019 - Klub GP","CZ",2019,2,35,0.91500000000000004,{"$f":"ROUND((MAX($I$1625:$I$1636)-I1626)/(MAX($I$1625:$I$1636)-1)*10000,0)","v":9091},8318,"x",null,"Std. Cirrus","ZL",""]
["Roman Stoklasa",{"$f":"VLOOKUP(A1627,Pilot,2,0)","v":1984},{"$f":"VLOOKUP(A1627,Pilot,5,0)","v":"M"},{"$f":"VLOOKUP(A1627,Pilot,3,0)","v":"Medlánky"},{"$f":"VLOOKUP(A1627,Pilot,4,0)","v":"CZ/M"},"Adrenalin GP 2019 - Klub GP","CZ",2019,3,27,0.91500000000000004,8182,7487,"x",null,"Std. Cirrus","MS",""]
["Jan Sponer",{"$f":"VLOOKUP(A1628,Pilot,2,0)","v":1988},{"$f":"VLOOKUP(A1628,Pilot,5,0)","v":"M"},{"$f":"VLOOKUP(A1628,Pilot,3,0)","v":"Medlánky"},{"$f":"VLOOKUP(A1628,Pilot,4,0)","v":"CZ/M"},"Adrenalin GP 2019 - Klub GP","CZ",2019,4,18,0.91500000000000004,7273,6655,"x",null,"Std. Cirrus","MI",""]
["Marek Niewiadomy",null,"M","Bielsko-Bialski","PL","Adrenalin GP 2019 - Klub GP","CZ",2019,5,17,0.91500000000000004,6364,5823,null,null,"SZD-48 Jantar Std. 2","FK","Není v databázi"]
["Rostislav Stryk",{"$f":"VLOOKUP(A1630,Pilot,2,0)","v":1972},{"$f":"VLOOKUP(A1630,Pilot,5,0)","v":"M"},{"$f":"VLOOKUP(A1630,Pilot,3,0)","v":"Frýdlant"},{"$f":"VLOOKUP(A1630,Pilot,4,0)","v":"CZ/M"},"Adrenalin GP 2019 - Klub GP","CZ",2019,6,16,0.91500000000000004,{"$f":"ROUND((MAX($I$1625:$I$1636)-I1630)/(MAX($I$1625:$I$1636)-1)*10000,0)","v":5455},4991,"x",null,"Std. Cirrus",22,""]
["Radim Zielinski",1969,"M","Frýdlant","CZ/M","Adrenalin GP 2019 - Klub GP","CZ",2019,7,9,0.91500000000000004,4545,4159,"x",null,"LS 1f","EM",""]
["Stanislav Doskocil",1978,"M","Medlánky","CZ/M","Adrenalin GP 2019 - Klub GP","CZ",2019,8,8,0.91500000000000004,3636,3327,"x",null,"Std. Cirrus","SD",""]
["Vit Prokop",1987,"M","Medlánky","CZ/M","Adrenalin GP 2019 - Klub GP","CZ",2019,9,3,0.91500000000000004,2727,{"$f":"ROUND(K1633*L1633,0)","v":2495},null,null,"Std. Cirrus","A7",""]
["Jan Matejovsky",1972,"M","Hranice","CZ/M","Adrenalin GP 2019 - Klub GP","CZ",2019,10,1,0.91500000000000004,1818,1663,"x",null,"Std. Cirrus","BY",""]
["Martin Svacina",1965,"M","Frýdlant","CZ/M","Adrenalin GP 2019 - Klub GP","CZ",2019,10,1,0.91500000000000004,1818,1663,"x",null,"Std. Cirrus","E",""]
["Petr Brezina",1963,"M","Frýdlant","CZ/M","Adrenalin GP 2019 - Klub GP","CZ",2019,12,0,0.91500000000000004,0,0,null,null,"G 102 Club Astir","BH",""]
["Zdenek Balcarek",1967,"M","Kroměříž","CZ/M","AZ Cup 2019 - Klub","CZ",2019,1,3186,0.91500000000000004,{"$f":"ROUND(J1637/MAX($J$1637:$J$1673)*10000*0.7+(MAX($I$1637:$I$1673)-I1637)/(MAX($I$1637:$I$1673)-1)*10000*0.3,0)","v":10000},9150,"x",null,"Std. Cirrus","ZL",""]
["Ivan Harasta 65",1965,"M","Toužim","CZ/C1","AZ Cup 2019 - Klub","CZ",2019,2,3093,0.91500000000000004,{"$f":"ROUND(J1638/MAX($J$1637:$J$1673)*10000*0.7+(MAX($I$1637:$I$1673)-I1638)/(MAX($I$1637:$I$1673)-1)*10000*0.3,0)","v":9712},{"$f":"ROUND(K1638*L1638,0)","v":8886},"x",null,"ASW-15B","HI",""]
["David Sachl",1978,"M","Kralupy","CZ/C1","AZ Cup 2019 - Klub","CZ",2019,3,3075,0.91500000000000004,9589,8774,"x",null,"DG 300","BK",""]
["Barbora Moravcova",1994,"F","Zbraslavice","CZ/C1","AZ Cup 2019 - Klub","CZ",2019,4,2999,0.91500000000000004,9339,8545,"x","x","ASW-19B","CF",""]
["Zdenek Boruvka 86",1986,"M","Jičín","CZ/C2","AZ Cup 2019 - Klub","CZ",2019,5,2960,0.91500000000000004,9170,8391,"x",null,"Std. Cirrus","BJ",""]
["Frantisek Filandr",1956,"M","Most","CZ/C2","AZ Cup 2019 - Klub","CZ",2019,6,2799,0.91500000000000004,8733,7991,"x",null,"Std. Cirrus","FF",""]
["Vojtech Novotny",1992,"M","Kralupy","CZ/C1","AZ Cup 2019 - Klub","CZ",2019,7,2709,0.91500000000000004,8452,7734,"x",null,"LS-1f","EF",""]
["Lukas Koukal",1991,"M","Letkov","CZ/C1","AZ Cup 2019 - Klub","CZ",2019,8,2687,0.91500000000000004,8320,7613,null,null,"ASW-15B","T1",""]
["Martin Urban",1971,"M","Frýdlant","CZ/M","AZ Cup 2019 - Klub","CZ",2019,9,2681,0.91500000000000004,8224,7525,"x",null,"LS 3a 15m","SJ",""]
["Jan Ratz",1987,"M","Zbraslavice","CZ/C1","AZ Cup 2019 - Klub","CZ",2019,10,2671,0.91500000000000004,8118,7428,null,null,"Std. Cirrus","REX",""]
["Jakub Kmosek",1978,"M","Zbraslavice","CZ/C1","AZ Cup 2019 - Klub","CZ",2019,11,2570,0.91500000000000004,7813,7149,"x",null,"Std. Cirrus","ST",""]
["Oldrich Houzvicka",1975,"M","Frýdlant","CZ/M","AZ Cup 2019 - Klub","CZ",2019,12,2537,0.91500000000000004,7657,7006,"x",null,"ASW-24 WL",76,""]
["Martin Grmela",1989,"M","Zbraslavice","CZ/C1","AZ Cup 2019 - Klub","CZ",2019,13,2526,0.91500000000000004,7550,6908,"x",null,"Std. Cirrus","C1",""]
["Simon Siska",null,"M","SGC Martin","SK","AZ Cup 2019 - Klub","CZ",2019,14,2487,0.91500000000000004,{"$f":"ROUND(J1650/MAX($J$1637:$J$1673)*10000*0.7+(MAX($I$1637:$I$1673)-I1650)/(MAX($I$1637:$I$1673)-1)*10000*0.3,0)","v":7381},6754,null,null,"ASW-19B","A11","Není v databázi"]
["Martin Piskacek",{"$f":"VLOOKUP(A1651,Pilot,2,0)","v":1991},{"$f":"VLOOKUP(A1651,Pilot,5,0)","v":"M"},{"$f":"VLOOKUP(A1651,Pilot,3,0)","v":"Křižanov"},{"$f":"VLOOKUP(A1651,Pilot,4,0)","v":"CZ/M"},"AZ Cup 2019 - Klub","CZ",2019,15,2400,0.91500000000000004,7106,6502,"x",null,"Std. Cirrus",75,""]
["Martin Fric",1967,"M","Raná","CZ/C2","AZ Cup 2019 - Klub","CZ",2019,16,2390,0.91500000000000004,7001,6406,"x",null,"ASW-19","FR",""]
["Katerina Vojtova",1983,"F","Slaný","CZ/C1","AZ Cup 2019 - Klub","CZ",2019,17,2321,0.91500000000000004,6766,6191,"x","x","Std. Cirrus","KAC",""]
["Anna Bordovska",1989,"F","Mladá Boleslav","CZ/C1","AZ Cup 2019 - Klub","CZ",2019,18,2254,0.91500000000000004,6536,5980,"x","x","Std. Cirrus","BW",""]
["Jan Pubec",1979,"M","Plzeň Bory","CZ/C1","AZ Cup 2019 - Klub","CZ",2019,19,2227,0.91500000000000004,6393,5850,"x",null,"Std. Cirrus","LM",""]
["Jiri Fousek",1990,"M","Raná","CZ/C2","AZ Cup 2019 - Klub","CZ",2019,20,2219,0.91500000000000004,6292,5757,"x",null,"Std. Cirrus","LW",""]
["Matej Krestes",1986,"M","Slaný","CZ/C1","AZ Cup 2019 - Klub","CZ",2019,21,2180,0.91500000000000004,6123,5603,"x",null,"Std. Cirrus","CON",""]
["Tomas Jung",1950,"M","Zbraslavice","CZ/C1","AZ Cup 2019 - Klub","CZ",2019,22,2160,0.91500000000000004,5996,5486,"x",null,"ASW-19B","O2",""]
["Jan Zahradka",1981,"M","Hodkovice","CZ/C2","AZ Cup 2019 - Klub","CZ",2019,23,2146,0.91500000000000004,5882,5382,null,null,"Std. Cirrus","AR",""]
["Jan Hruska",1988,"M","Tábor","CZ/C1","AZ Cup 2019 - Klub","CZ",2019,24,1946,0.91500000000000004,5359,4903,"x",null,"ASW-15B","LF",""]
["Jiri Vondracek",1989,"M","Kladno","CZ/C1","AZ Cup 2019 - Klub","CZ",2019,25,1834,0.91500000000000004,5030,4602,"x",null,"ASW-19B","V",""]
["Viktor Becan",1979,"M","GAC Benešov","CZ/C1","AZ Cup 2019 - Klub","CZ",2019,26,1722,0.91500000000000004,4700,4301,"x",null,"LS-1d","VB",""]
["Petr Brezina",1963,"M","Frýdlant","CZ/M","AZ Cup 2019 - Klub","CZ",2019,27,1707,0.91500000000000004,4584,4194,"x",null,"G 102 Astir CS","BH",""]
["Linda Vasatova",1990,"F","Mladá Boleslav","CZ/C1","AZ Cup 2019 - Klub","CZ",2019,28,1630,0.91500000000000004,4331,3963,"x","x","ASW-19B","AH",""]
["Jan Smekal",1976,"M","Zbraslavice","CZ/C1","AZ Cup 2019 - Klub","CZ",2019,29,1616,0.91500000000000004,4217,3859,"x",null,"ASW-19","FY",""]
["Ales Holoubek",1966,"M","Jičín","CZ/C2","AZ Cup 2019 - Klub","CZ",2019,30,1195,0.91500000000000004,3209,2936,"x",null,"ASW-15B NG","T",""]
["Jiri Hodan",1959,"M","Zbraslavice","CZ/C1","AZ Cup 2019 - Klub","CZ",2019,31,1165,0.91500000000000004,3060,2800,"x",null,"G 103 Twin Astir","RB",""]
["Kristina Santruckova",1996,"F","Podhořany","CZ/C2","AZ Cup 2019 - Klub","CZ",2019,32,1106,0.91500000000000004,2847,2605,"x","x","ASW-15B WL","KS","Junior v roce 2021"]
["Tomas Hlavacek",1984,"M","Mladá Boleslav","CZ/C1","AZ Cup 2019 - Klub","CZ",2019,33,954,0.91500000000000004,2429,2223,"x",null,"Std. Cirrus","FU",""]
["Dalibor Pek",1968,"M","Raná","CZ/C2","AZ Cup 2019 - Klub","CZ",2019,34,902,0.91500000000000004,2232,2042,null,null,"Std. Cirrus","A1",""]
["Lukas Kotek",1994,"M","Frýdlant","CZ/M","AZ Cup 2019 - Klub","CZ",2019,35,808,{"$f":"VLOOKUP(F1671,Soutez,12,0)","v":0.91500000000000004},1942,1777,"x",null,"DG-200","AK",{"$f":"IF(ISERROR(VLOOKUP(A1671,Pilot,6,0)),\"Není v databázi\",VLOOKUP(A1671,Pilot,6,0))","v":""}]
["Pavel Svrcek",1972,"M","Frýdlant","CZ/M","AZ Cup 2019 - Klub","CZ",2019,36,508,0.91500000000000004,1199,1097,"x",null,"LS 3a 15m","TX",""]
["Jan Mittner",1986,"M","Zbraslavice","CZ/C1","AZ Cup 2019 - Klub","CZ",2019,37,415,0.91500000000000004,912,834,"x",null,"DG-101G","RR",""]
["Ondrej Dupal",1966,"M","GAC Benešov","CZ/C1","AZ Cup 2019 - Kombi","CZ",2019,1,3505,0.93500000000000005,{"$f":"ROUND(J1674/MAX($J$1674:$J$1703)*10000*0.7+(MAX($I$1674:$I$1703)-I1674)/(MAX($I$1674:$I$1703)-1)*10000*0.3,0)","v":10000},{"$f":"ROUND(K1674*L1674,0)","v":9350},"x",null,"ASG 29E 18m","GO",""]
["Tomas Suchanek",1964,"M","GAC Benešov","CZ/C1","AZ Cup 2019 - Kombi","CZ",2019,2,3446,0.93500000000000005,{"$f":"ROUND(J1675/MAX($J$1674:$J$1703)*10000*0.7+(MAX($I$1674:$I$1703)-I1675)/(MAX($I$1674:$I$1703)-1)*10000*0.3,0)","v":9779},9143,null,null,"Ventus c 17.6m","UP",""]
["Alena Netusilova",1970,"F","Zbraslavice","CZ/C1","AZ Cup 2019 - Kombi","CZ",2019,3,3335,0.93500000000000005,9454,8839,null,null,"JS1-18m","JX",""]
["Radek Kucirek",1973,"M","Havlíčkův Brod","CZ/C2","AZ Cup 2019 - Kombi","CZ",2019,4,3303,0.93500000000000005,9286,8682,"x",null,"EB 28 edition 28.3m","NA",""]
["Petr Koutny",1971,"M","Křižanov","CZ/M","AZ Cup 2019 - Kombi","CZ",2019,5,3268,0.93500000000000005,9113,8521,null,null,"LS-8-18 18m","SK",""]
["Martin Hrivna",1978,"M","Zbraslavice","CZ/C1","AZ Cup 2019 - Kombi","CZ",2019,6,3191,0.93500000000000005,8856,8280,"x",null,"ASG 29E 18m","NX",""]
["Tomas Rendla",1973,"M","Zbraslavice","CZ/C1","AZ Cup 2019 - Kombi","CZ",2019,7,3083,0.93500000000000005,8537,7982,null,null,"Arcus M","EY",""]
["Lenka Kuthanova",1960,"F","Tábor","CZ/C1","AZ Cup 2019 - Kombi","CZ",2019,8,3033,0.93500000000000005,8333,7791,"x","x","JS1-18m","LX",""]
["Jan Boruvka",1984,"M","Jičín","CZ/C2","AZ Cup 2019 - Kombi","CZ",2019,9,3019,0.93500000000000005,8202,7669,"x",null,"Ventus c 17.6m","EG",""]
["Petr Starek",1974,"M","Zbraslavice","CZ/C1","AZ Cup 2019 - Kombi","CZ",2019,10,2959,0.93500000000000005,7979,7460,"x",null,"HPH 304 SJ 18m 573kg",66,""]
["Martin Vnoucek",1972,"M","Vlašim","CZ/C1","AZ Cup 2019 - Kombi","CZ",2019,11,2940,0.93500000000000005,7837,7328,"x",null,"ASG 29E 18m","QX",""]
["Jaromir Jedlicka",1972,"M","Letňany","CZ/C1","AZ Cup 2019 - Kombi","CZ",2019,12,2804,0.93500000000000005,7462,6977,"x",null,"Hph 304MS 18m 600kg","TJ",""]
["Jan Dersak 69",1969,"M","Kralupy","CZ/C1","AZ Cup 2019 - Kombi","CZ",2019,13,2495,0.93500000000000005,6742,6304,null,null,"HPH 304 SJ 18m 573kg","DJ",""]
["Karel Krobath",null,"M","SFC Tulln","AT","AZ Cup 2019 - Kombi","CZ",2019,14,2472,0.93500000000000005,6592,6164,null,null,"Hph 304MS 18m 600kg","Q","Není v databázi"]
["Jan Zapletal",{"$f":"VLOOKUP(A1688,Pilot,2,0)","v":1997},{"$f":"VLOOKUP(A1688,Pilot,5,0)","v":"M"},{"$f":"VLOOKUP(A1688,Pilot,3,0)","v":"Břeclav"},{"$f":"VLOOKUP(A1688,Pilot,4,0)","v":"CZ/M"},"AZ Cup 2019 - Kombi","CZ",2019,15,2451,0.93500000000000005,6447,6028,null,null,"LS-8-18 15m","JS","Junior v roce 2021"]
["Jan Viskot",1995,"M","Břeclav","CZ/M","AZ Cup 2019 - Kombi","CZ",2019,16,2312,0.93500000000000005,6066,5672,null,null,"Discus 2a","GX",""]
["Karel Benisek 76",1976,"M","Toužim","CZ/C1","AZ Cup 2019 - Kombi","CZ",2019,17,2176,0.93500000000000005,5691,5321,null,null,"Ventus ct 17.6m","KB",""]
["Jan Horak",1971,"M","Zbraslavice","CZ/C1","AZ Cup 2019 - Kombi","CZ",2019,18,2173,0.93500000000000005,5581,5218,null,null,"ASW-20A WL","WX",""]
["Petr Jiranek 63",1962,"M","Toužim","CZ/C1","AZ Cup 2019 - Kombi","CZ",2019,19,2087,0.93500000000000005,5306,4961,"x",null,"Ventus ct 17.6m","EB",""]
["Ivo Burda",1962,"M","Zbraslavice","CZ/C1","AZ Cup 2019 - Kombi","CZ",2019,20,1837,0.93500000000000005,4703,4397,"x",null,"Ventus 2cxm 18m 565kg","IB",""]
["Jiri Pelucha",1984,"M","Frýdlant","CZ/M","AZ Cup 2019 - Kombi","CZ",2019,21,1721,0.93500000000000005,4368,4084,"x",null,"Duo Discus 700kg",777,""]
["Dusan Bernat",null,"M","LSV Kreis Pinneberg","DE","AZ Cup 2019 - Kombi","CZ",2019,22,1715,0.93500000000000005,4253,3977,null,null,"Ventus c 17.6m","AD","Není v databázi"]
["David Zapletal",{"$f":"VLOOKUP(A1696,Pilot,2,0)","v":1970},{"$f":"VLOOKUP(A1696,Pilot,5,0)","v":"M"},{"$f":"VLOOKUP(A1696,Pilot,3,0)","v":"Mladá Boleslav"},{"$f":"VLOOKUP(A1696,Pilot,4,0)","v":"CZ/C1"},"AZ Cup 2019 - Kombi","CZ",2019,23,1683,0.93500000000000005,4085,3819,"x",null,"Ventus c 17.6m","PUP",""]
["Karl Schiffleithner",null,"M","SFC Tulln","AT","AZ Cup 2019 - Kombi","CZ",2019,24,1624,0.93500000000000005,3864,3613,null,null,"Duo Discus T 700kg","MM","Není v databázi"]
["David Popovsky",{"$f":"VLOOKUP(A1698,Pilot,2,0)","v":1976},{"$f":"VLOOKUP(A1698,Pilot,5,0)","v":"M"},{"$f":"VLOOKUP(A1698,Pilot,3,0)","v":"Rakovník"},{"$f":"VLOOKUP(A1698,Pilot,4,0)","v":"CZ/C1"},"AZ Cup 2019 - Kombi","CZ",2019,25,1352,0.93500000000000005,3217,3008,"x",null,"Ventus b 16.6m WL","JET",""]
["Vaclav Svoboda",{"$f":"VLOOKUP(A1699,Pilot,2,0)","v":1970},{"$f":"VLOOKUP(A1699,Pilot,5,0)","v":"M"},{"$f":"VLOOKUP(A1699,Pilot,3,0)","v":"Letkov"},{"$f":"VLOOKUP(A1699,Pilot,4,0)","v":"CZ/C1"},"AZ Cup 2019 - Kombi","CZ",2019,26,1249,0.93500000000000005,2908,2719,null,null,"LS-8-18 18m",301,""]
["Roman Lanzendorf",{"$f":"VLOOKUP(A1700,Pilot,2,0)","v":1964},{"$f":"VLOOKUP(A1700,Pilot,5,0)","v":"M"},{"$f":"VLOOKUP(A1700,Pilot,3,0)","v":"Letkov"},{"$f":"VLOOKUP(A1700,Pilot,4,0)","v":"CZ/C1"},"AZ Cup 2019 - Kombi","CZ",2019,27,1235,0.93500000000000005,2777,2596,null,null,"Ventus ct 17.6m","AW",""]
["Petr Bartak",{"$f":"VLOOKUP(A1701,Pilot,2,0)","v":1984},{"$f":"VLOOKUP(A1701,Pilot,5,0)","v":"M"},{"$f":"VLOOKUP(A1701,Pilot,3,0)","v":"Letkov"},{"$f":"VLOOKUP(A1701,Pilot,4,0)","v":"CZ/C1"},"AZ Cup 2019 - Kombi","CZ",2019,28,1203,0.93500000000000005,2609,2439,null,null,"LS-6c 18m WL","BL",""]
["Milan Lojdl",null,"M","Martin","SK","AZ Cup 2019 - Kombi","CZ",2019,29,1065,0.93500000000000005,{"$f":"ROUND(J1702/MAX($J$1674:$J$1703)*10000*0.7+(MAX($I$1674:$I$1703)-I1702)/(MAX($I$1674:$I$1703)-1)*10000*0.3,0)","v":2230},2085,null,null,"Ventus 2cx","MJ1","Není v databázi"]
["Lubomir Doupal",{"$f":"VLOOKUP(A1703,Pilot,2,0)","v":1975},{"$f":"VLOOKUP(A1703,Pilot,5,0)","v":"M"},{"$f":"VLOOKUP(A1703,Pilot,3,0)","v":"Kroměříž"},{"$f":"VLOOKUP(A1703,Pilot,4,0)","v":"CZ/M"},"AZ Cup 2019 - Kombi","CZ",2019,30,437,0.93500000000000005,873,816,null,null,"LS-8-18 18m","YF",""]
["Tom Arscott",null,null,"Lasham Gliding Society",null,"FCC 2019 - Klub","SK",2019,1,3594,0.96500000000000008,{"$f":"ROUND(J1704/MAX($J$1704:$J$1742)*10000*0.7+(MAX($I$1704:$I$1742)-I1704)/(MAX($I$1704:$I$1742)-1)*10000*0.3,0)","v":10000},9650,null,null,"LS 7 WL",768,"Není v databázi"]
["Gerrard Dale",null,null,"Lasham and Omarama Gliding Club",null,"FCC 2019 - Klub","SK",2019,2,3587,0.96500000000000008,{"$f":"ROUND(J1705/MAX($J$1704:$J$1742)*10000*0.7+(MAX($I$1704:$I$1742)-I1705)/(MAX($I$1704:$I$1742)-1)*10000*0.3,0)","v":9907},9560,null,null,"ASW-24(\"A\") WL","E2","Není v databázi"]
["Uwe Wahlig",null,null,"Segelfluggruppe Bensheim e.V.",null,"FCC 2019 - Klub","SK",2019,3,3422,0.96500000000000008,9507,9174,null,null,"lLS-3 /15 M WL","SN","Není v databázi"]
["Arkadiusz Downar",null,null,null,null,"FCC 2019 - Klub","SK",2019,4,3299,0.96500000000000008,9189,8867,null,null,"Pegase C101 a","EMi","Není v databázi"]
["Tim Milner",null,null,"Wolds gliding Club",null,"FCC 2019 - Klub","SK",2019,5,3135,0.96500000000000008,8790,8482,null,null,"LS-3 /15m","LS5","Není v databázi"]
["Jaroslav Tomana",{"$f":"VLOOKUP(A1709,Pilot,2,0)","v":1975},{"$f":"VLOOKUP(A1709,Pilot,5,0)","v":"M"},{"$f":"VLOOKUP(A1709,Pilot,3,0)","v":"Zbraslavice"},{"$f":"VLOOKUP(A1709,Pilot,4,0)","v":"CZ/C1"},"FCC 2019 - Klub","SK",2019,6,3009,0.96500000000000008,8466,8170,null,null,"Pegase 101.BC-W","RT",""]
["Boris Zorz",null,null,"Lesce",null,"FCC 2019 - Klub","SK",2019,7,3008,0.96500000000000008,8385,8092,null,null,"Std. Cirrus WL","IPF","Není v databázi"]
["Lubomir Motl",{"$f":"VLOOKUP(A1711,Pilot,2,0)","v":1959},{"$f":"VLOOKUP(A1711,Pilot,5,0)","v":"M"},{"$f":"VLOOKUP(A1711,Pilot,3,0)","v":"Kyjov"},{"$f":"VLOOKUP(A1711,Pilot,4,0)","v":"CZ/M"},"FCC 2019 - Klub","SK",2019,8,2978,0.96500000000000008,8248,7959,null,null,"LS-1f","G2",""]
["Ivan Novak",{"$f":"VLOOKUP(A1712,Pilot,2,0)","v":1962},{"$f":"VLOOKUP(A1712,Pilot,5,0)","v":"M"},{"$f":"VLOOKUP(A1712,Pilot,3,0)","v":"Mladá Boleslav"},{"$f":"VLOOKUP(A1712,Pilot,4,0)","v":"CZ/C1"},"FCC 2019 - Klub","SK",2019,9,2943,0.96500000000000008,8100,7817,null,null,"LS 4","IX",""]
["Nico Le Roux",null,null,"Cape Gliding Club",null,"FCC 2019 - Klub","SK",2019,10,2889,0.96500000000000008,7916,7639,null,null,"Libelle H201","YI","Není v databázi"]
["Adam Woolley",null,null,"Kingaroy",null,"FCC 2019 - Klub","SK",2019,11,2821,0.96500000000000008,7705,7435,null,null,"Std. Cirrus","XII","Není v databázi"]
["Joanna Biedermann",null,null,"Aeroclub Nadwislanski",null,"FCC 2019 - Klub","SK",2019,12,2731,0.96500000000000008,7451,7190,null,null,"LS-4","OG","Není v databázi"]
["Marek Sawczuk",null,null,"Aeroklub Warszawski",null,"FCC 2019 - Klub","SK",2019,13,2714,0.96500000000000008,7339,7082,null,null,"ASW-20F","SB","Není v databázi"]
["Ferenc Tamas",null,null,"Szeged Aero Club (DAC-1930)",null,"FCC 2019 - Klub","SK",2019,14,2648,0.96500000000000008,7131,6881,null,null,"LS 3/15","1A","Není v databázi"]
["Sergey Serov",null,null,"Usman",null,"FCC 2019 - Klub","SK",2019,15,2539,0.96500000000000008,6840,6601,null,null,"Std. Cirrus","AM","Není v databázi"]
["Oliver Sven",null,null,"Cape Gliding Club",null,"FCC 2019 - Klub","SK",2019,16,2518,0.96500000000000008,6720,6485,null,null,"Std. Cirrus","UY","Není v databázi"]
["Lumir Motyka",{"$f":"VLOOKUP(A1720,Pilot,2,0)","v":1955},{"$f":"VLOOKUP(A1720,Pilot,5,0)","v":"M"},{"$f":"VLOOKUP(A1720,Pilot,3,0)","v":"Frýdlant"},{"$f":"VLOOKUP(A1720,Pilot,4,0)","v":"CZ/M"},"FCC 2019 - Klub","SK",2019,17,2420,0.96500000000000008,6450,6224,"x",null,"LS-1f","EM",""]
["Stanislaw Biela",null,null,"Nowy Targ",null,"FCC 2019 - Klub","SK",2019,18,2324,0.96500000000000008,6184,5968,null,null,"SZD 55-1","BS","Není v databázi"]
["Miroslaw Izydorczak",null,null,"Warszawa",null,"FCC 2019 - Klub","SK",2019,19,2275,0.96500000000000008,6010,5800,null,null,"LIBELLE STD H 201 B",4040,"Není v databázi"]
["Slavomir Piskaty 84",{"$f":"VLOOKUP(A1723,Pilot,2,0)","v":1984},{"$f":"VLOOKUP(A1723,Pilot,5,0)","v":"M"},{"$f":"VLOOKUP(A1723,Pilot,3,0)","v":"Kunovice"},{"$f":"VLOOKUP(A1723,Pilot,4,0)","v":"CZ/M"},"FCC 2019 - Klub","SK",2019,20,2262,0.96500000000000008,{"$f":"ROUND(J1723/MAX($J$1704:$J$1742)*10000*0.7+(MAX($I$1704:$I$1742)-I1723)/(MAX($I$1704:$I$1742)-1)*10000*0.3,0)","v":5906},5699,"x",null,"Std. Cirrus","PIF",""]
["Arturas Pilvinis",null,null,"Telsiu",null,"FCC 2019 - Klub","SK",2019,21,2238,0.96500000000000008,5780,5578,null,null,"SZD-55 Promyk","AP","Není v databázi"]
["Murati & Gonczi",null,null,null,null,"FCC 2019 - Klub","SK",2019,22,2185,0.96500000000000008,5598,5402,null,null,"Janus C (FG)","DD","Není v databázi"]
["Kamil Wojcik",null,null,"Wroclawek",null,"FCC 2019 - Klub","SK",2019,23,2165,0.96500000000000008,5480,5288,null,null,"LS-4","WW","Není v databázi"]
["Marek Herbreder",null,null,"Szcecin",null,"FCC 2019 - Klub","SK",2019,24,2041,0.96500000000000008,5159,4978,null,null,"SZD-55 Promyk","TK","Není v databázi"]
["Wojciech Izdebski",null,null,"Gdansk",null,"FCC 2019 - Klub","SK",2019,25,1911,0.96500000000000008,4827,4658,null,null,"DG 101G","G1","Není v databázi"]
["Arkadiusz Bajura",null,null,"Czestochowa",null,"FCC 2019 - Klub","SK",2019,26,1892,0.96500000000000008,4711,4546,null,null,"Mini-Nimbus c","CC","Není v databázi"]
["Konrad Jaczkowski",null,null,"Częstochowski",null,"FCC 2019 - Klub","SK",2019,27,1879,0.96500000000000008,4607,4446,null,null,"Discus b WL","VE","Není v databázi"]
["Alexey Kucherov",null,null,"Shevlino",null,"FCC 2019 - Klub","SK",2019,28,1761,0.96500000000000008,4298,4148,null,null,"ASW 20","EW","Není v databázi"]
["Rafal Siankowski",null,null,"Radomski",null,"FCC 2019 - Klub","SK",2019,29,1737,0.96500000000000008,4173,4027,null,null,"SZD-48 Jantar std. 3","AA","Není v databázi"]
["Dani Zaninovic",null,null,"Split",null,"FCC 2019 - Klub","SK",2019,30,1695,0.96500000000000008,4012,3872,null,null,"ASW-24(\"A\") WL","HR3","Není v databázi"]
["Marek Bialy",null,null,"Radom",null,"FCC 2019 - Klub","SK",2019,31,1678,0.96500000000000008,3900,3764,null,null,"SZD-48 Jantar std. 3","W2","Není v databázi"]
["Marius Rachwal",null,null,"Ziemi Zamojskiej",null,"FCC 2019 - Klub","SK",2019,32,1547,{"$f":"VLOOKUP(F1735,Soutez,12,0)","v":0.96500000000000008},3566,3441,null,null,"SZD-48 Jantar std. 3","VI",{"$f":"IF(ISERROR(VLOOKUP(A1735,Pilot,6,0)),\"Není v databázi\",VLOOKUP(A1735,Pilot,6,0))","v":"Není v databázi"}]
["Andrzej Szczerba",null,null,"Leszcznski",null,"FCC 2019 - Klub","SK",2019,33,1460,0.96500000000000008,3317,3201,null,null,"SZD-48 Jantar std. 2","MZ","Není v databázi"]
["Aleksandar Diklic",null,null,"Zrenjanin",null,"FCC 2019 - Klub","SK",2019,34,1303,0.96500000000000008,2933,2830,null,null,"DG-100",30,"Není v databázi"]
["Agata Kaszczuk",null,null,"Wrocław",null,"FCC 2019 - Klub","SK",2019,35,1168,0.96500000000000008,2591,{"$f":"ROUND(K1738*L1738,0)","v":2500},null,null,"LS-1f","MR","Není v databázi"]
["Juraj Sidor",null,null,"AK Holic",null,"FCC 2019 - Klub","SK",2019,36,1029,0.96500000000000008,2241,2163,null,null,"Std. Cirrus","NM","Není v databázi"]
["Frane Franic",null,null,"Vitar",null,"FCC 2019 - Klub","SK",2019,37,995,0.96500000000000008,2096,2023,null,null,"Jantar STD 3","HR1","Není v databázi"]
["Neil McLaughlin",null,null,"Lasham, UK",null,"FCC 2019 - Klub","SK",2019,38,872,0.96500000000000008,1777,1715,null,null,"Mini-Nimbus",2,"Není v databázi"]
["Jerzy Mikolajczyk",null,null,"AZM Plock",null,"FCC 2019 - Klub","SK",2019,39,742,0.96500000000000008,1445,1394,null,null,"LS-4","YL","Není v databázi"]
["Poul Kim Larsen",null,null,"Midtsjallands Svaveflyveklub",null,"FCC 2019 - Kombi 15m","SK",2019,1,3137,0.98,{"$f":"ROUND(J1743/MAX($J$1743:$J$1780)*10000*0.7+(MAX($I$1743:$I$1780)-I1743)/(MAX($I$1743:$I$1780)-1)*10000*0.3,0)","v":10000},9800,null,null,"Discus 2a","D2","Není v databázi"]
["Miloslav Cink",{"$f":"VLOOKUP(A1744,Pilot,2,0)","v":1987},{"$f":"VLOOKUP(A1744,Pilot,5,0)","v":"M"},{"$f":"VLOOKUP(A1744,Pilot,3,0)","v":"Letkov"},{"$f":"VLOOKUP(A1744,Pilot,4,0)","v":"CZ/C1"},"FCC 2019 - Kombi 15m","SK",2019,2,3035,0.98,{"$f":"ROUND(J1744/MAX($J$1743:$J$1780)*10000*0.7+(MAX($I$1743:$I$1780)-I1744)/(MAX($I$1743:$I$1780)-1)*10000*0.3,0)","v":9691},9497,null,null,"LS-8b","JB",""]
["Jacek Flis",null,null,"Ziemi Zamojskiej / KKGT",null,"FCC 2019 - Kombi 15m","SK",2019,3,3028,0.98,9595,9403,null,null,"Discus 2a","Y","Není v databázi"]
["Marius Pluscauskas",null,null,"Vilnius aeroclub",null,"FCC 2019 - Kombi 15m","SK",2019,4,2903,0.98,9235,9050,null,null,"Ventus 2 ax","XY","Není v databázi"]
["Jana Veprekova",{"$f":"VLOOKUP(A1747,Pilot,2,0)","v":1961},{"$f":"VLOOKUP(A1747,Pilot,5,0)","v":"F"},{"$f":"VLOOKUP(A1747,Pilot,3,0)","v":"Dvůr Králové"},{"$f":"VLOOKUP(A1747,Pilot,4,0)","v":"CZ/C2"},"FCC 2019 - Kombi 15m","SK",2019,5,2879,0.98,9100,8918,"x","x","LS 8","W8",""]
["Jiri Kusbach",{"$f":"VLOOKUP(A1748,Pilot,2,0)","v":1959},{"$f":"VLOOKUP(A1748,Pilot,5,0)","v":"M"},{"$f":"VLOOKUP(A1748,Pilot,3,0)","v":"Luhačovice"},{"$f":"VLOOKUP(A1748,Pilot,4,0)","v":"CZ/M"},"FCC 2019 - Kombi 15m","SK",2019,6,2829,0.98,8907,8729,"x",null,"KKB 15E-FES","B",""]
["Pavel Louzecky",{"$f":"VLOOKUP(A1749,Pilot,2,0)","v":1957},{"$f":"VLOOKUP(A1749,Pilot,5,0)","v":"M"},{"$f":"VLOOKUP(A1749,Pilot,3,0)","v":"Přibyslav"},{"$f":"VLOOKUP(A1749,Pilot,4,0)","v":"CZ/C2"},"FCC 2019 - Kombi 15m","SK",2019,7,2797,0.98,8755,8580,null,null,"LS-8","FX",""]
["Zdun & RAWECKI",null,null,null,null,"FCC 2019 - Kombi 15m","SK",2019,8,2794,0.98,8667,8494,null,null,"Duo Discus XL","POL","Není v databázi"]
["Slavomir Valecko",{"$f":"VLOOKUP(A1751,Pilot,2,0)","v":1960},{"$f":"VLOOKUP(A1751,Pilot,5,0)","v":"M"},{"$f":"VLOOKUP(A1751,Pilot,3,0)","v":"Hranice"},{"$f":"VLOOKUP(A1751,Pilot,4,0)","v":"CZ/M"},"FCC 2019 - Kombi 15m","SK",2019,9,2787,0.98,8570,8399,"x",null,"Discus CS","IYB",""]
["Dana Novakova",{"$f":"VLOOKUP(A1752,Pilot,2,0)","v":1965},{"$f":"VLOOKUP(A1752,Pilot,5,0)","v":"F"},{"$f":"VLOOKUP(A1752,Pilot,3,0)","v":"Mladá Boleslav"},{"$f":"VLOOKUP(A1752,Pilot,4,0)","v":"CZ/C1"},"FCC 2019 - Kombi 15m","SK",2019,10,2767,0.98,8445,8276,null,null,"LS-8","AU",""]
["Lukasz Grabowski",null,null,"Aeroklub Wloclawski",null,"FCC 2019 - Kombi 15m","SK",2019,11,2695,0.98,8203,8039,null,null,"SZD-56-2 Diana-2","RP","Není v databázi"]
["Zoltan Hamar",null,null,"Vario SE",null,"FCC 2019 - Kombi 15m","SK",2019,12,2681,0.98,8091,7929,null,null,"Ventus 2xa 15m","5A","Není v databázi"]
["Maros Divok",null,null,"SNV",null,"FCC 2019 - Kombi 15m","SK",2019,13,2678,0.98,8003,7843,null,null,"Discus 2b","DI","Není v databázi"]
["Filip Bojanowski",null,null,"ØSF",null,"FCC 2019 - Kombi 15m","SK",2019,14,2625,0.98,7803,7647,null,null,"Discus 2a","AX","Není v databázi"]
["Pavel Trojan",{"$f":"VLOOKUP(A1757,Pilot,2,0)","v":1960},{"$f":"VLOOKUP(A1757,Pilot,5,0)","v":"M"},{"$f":"VLOOKUP(A1757,Pilot,3,0)","v":"Chrudim"},{"$f":"VLOOKUP(A1757,Pilot,4,0)","v":"CZ/C2"},"FCC 2019 - Kombi 15m","SK",2019,15,2610,0.98,7689,7535,"x",null,"Duo Discus T (700kg)","ZS",""]
["Joris Vainius",null,null,"Vilnius",null,"FCC 2019 - Kombi 15m","SK",2019,16,2579,0.98,7539,7388,null,null,"ASG 29","M7","Není v databázi"]
["Oliver Springer",null,null,"Luftsportverein Oldenburg-Bad Zwischenahn e.V.",null,"FCC 2019 - Kombi 15m","SK",2019,17,2527,0.98,7342,7195,null,null,"ASG 29 Es","OS","Není v databázi"]
["Ondrej Bordovsky",{"$f":"VLOOKUP(A1760,Pilot,2,0)","v":1983},{"$f":"VLOOKUP(A1760,Pilot,5,0)","v":"M"},{"$f":"VLOOKUP(A1760,Pilot,3,0)","v":"Krnov"},{"$f":"VLOOKUP(A1760,Pilot,4,0)","v":"CZ/M"},"FCC 2019 - Kombi 15m","SK",2019,18,2511,0.98,7225,7081,null,null,"VENTUS 2AX","AXi",""]
["Alex Pop",null,null,"Romanian Airclub",null,"FCC 2019 - Kombi 15m","SK",2019,19,2406,0.98,6909,6771,null,null,"Discus 2a /15m","YB","Není v databázi"]
["Dariusz Czech",null,null,"Stalowowolski",null,"FCC 2019 - Kombi 15m","SK",2019,20,2356,0.98,6717,6583,null,null,"LAK 19 15m","DC","Není v databázi"]
["Jana Treslova",{"$f":"VLOOKUP(A1763,Pilot,2,0)","v":1963},{"$f":"VLOOKUP(A1763,Pilot,5,0)","v":"F"},{"$f":"VLOOKUP(A1763,Pilot,3,0)","v":"Raná"},{"$f":"VLOOKUP(A1763,Pilot,4,0)","v":"CZ/C2"},"FCC 2019 - Kombi 15m","SK",2019,21,2320,0.98,6555,6424,null,null,"Ventus bT15m","VT",""]
["Radek Krejcirik",{"$f":"VLOOKUP(A1764,Pilot,2,0)","v":1991},{"$f":"VLOOKUP(A1764,Pilot,5,0)","v":"M"},{"$f":"VLOOKUP(A1764,Pilot,3,0)","v":"Hranice"},{"$f":"VLOOKUP(A1764,Pilot,4,0)","v":"CZ/M"},"FCC 2019 - Kombi 15m","SK",2019,22,2277,0.98,6378,6250,null,null,"ASG 29E 15m 525kg","QZ",""]
["Simon Brown",null,null,"Lasham",null,"FCC 2019 - Kombi 15m","SK",2019,23,2245,0.98,6226,6101,null,null,"LS-8 15 m","Bi","Není v databázi"]
["Petr Carter",null,null,"Lasham",null,"FCC 2019 - Kombi 15m","SK",2019,24,2179,0.98,5997,5877,null,null,"LS-8 15 m",95,"Není v databázi"]
["Dawid Pretorius",null,null,"Cape Gliding Club",null,"FCC 2019 - Kombi 15m","SK",2019,25,2143,0.98,5836,5719,null,null,"LS-8","VZ","Není v databázi"]
["Lukasz Blaszczyk",null,null,"Ostrow",null,"FCC 2019 - Kombi 15m","SK",2019,26,2121,0.98,5706,5592,null,null,"Discus 2a","I","Není v databázi"]
["Piotr Jarysz",null,null,"Aeroklub Koninski",null,"FCC 2019 - Kombi 15m","SK",2019,27,2070,0.98,5511,5401,null,null,"Ls-6","BB","Není v databázi"]
["Hana Treslova",{"$f":"VLOOKUP(A1770,Pilot,2,0)","v":1991},{"$f":"VLOOKUP(A1770,Pilot,5,0)","v":"F"},{"$f":"VLOOKUP(A1770,Pilot,3,0)","v":"Raná"},{"$f":"VLOOKUP(A1770,Pilot,4,0)","v":"CZ/C2"},"FCC 2019 - Kombi 15m","SK",2019,28,1898,0.98,5046,4945,null,null,"LS 8a","EU",""]
["Dimitry Timoshenko",null,null,"Shevlino",null,"FCC 2019 - Kombi 15m","SK",2019,29,1887,0.98,4940,4841,null,null,"Discus 2a","DT","Není v databázi"]
["Oldrich Bartonik",{"$f":"VLOOKUP(A1772,Pilot,2,0)","v":1961},{"$f":"VLOOKUP(A1772,Pilot,5,0)","v":"M"},{"$f":"VLOOKUP(A1772,Pilot,3,0)","v":"Luhačovice"},{"$f":"VLOOKUP(A1772,Pilot,4,0)","v":"CZ/M"},"FCC 2019 - Kombi 15m","SK",2019,30,1835,0.98,4743,4648,"x",null,"KKB 15","N1",""]
["Aldo CERNEZZI",null,null,"ACAO Varese",null,"FCC 2019 - Kombi 15m","SK",2019,31,1596,0.98,4129,4046,null,null,"DG-600M 15m WL","DW","Není v databázi"]
["Judyta Czyż",null,null,"Bielsko Bialski",null,"FCC 2019 - Kombi 15m","SK",2019,32,1426,0.98,3669,3596,null,null,"LS-8 15 m","LOT","Není v databázi"]
["Iakov Shrage",null,null,"Neboshevlino",null,"FCC 2019 - Kombi 15m","SK",2019,33,777,0.98,2139,2096,null,null,"LS 8T","TC","Není v databázi"]
["Guido Dalla Rosa Prati",null,null,"Parma",null,"FCC 2019 - Kombi 15m","SK",2019,34,749,0.98,1996,1956,null,null,"LS-8 15 m","GG","Není v databázi"]
["Slavomir Piskaty 58",{"$f":"VLOOKUP(A1777,Pilot,2,0)","v":1958},{"$f":"VLOOKUP(A1777,Pilot,5,0)","v":"M"},{"$f":"VLOOKUP(A1777,Pilot,3,0)","v":"Kunovice"},{"$f":"VLOOKUP(A1777,Pilot,4,0)","v":"CZ/M"},"FCC 2019 - Kombi 15m","SK",2019,35,692,0.98,{"$f":"ROUND(J1777/MAX($J$1743:$J$1780)*10000*0.7+(MAX($I$1743:$I$1780)-I1777)/(MAX($I$1743:$I$1780)-1)*10000*0.3,0)","v":1787},1751,null,null,"Discus CS","KAL",""]
["Luca Urbani",null,null,"ACCVV Rieti",null,"FCC 2019 - Kombi 15m","SK",2019,36,655,0.98,1624,1592,null,null,"Discus 2a","LR","Není v databázi"]
["Jan Keher",null,null,"Prievidza",null,"FCC 2019 - Kombi 15m","SK",2019,37,498,0.98,1192,1168,null,null,"Discus CS","DR","Není v databázi"]
["Istvan Reti",null,null,"Alfoldi Repülőklub",null,"FCC 2019 - Kombi 15m","SK",2019,38,206,0.98,460,451,null,null,"Ventus 2a /15m","IR","Není v databázi"]
["Scarlat & Kessler",null,null,"Romanian Airclub",null,"FCC 2019 - Kombi Open","SK",2019,1,3384,0.93500000000000005,{"$f":"ROUND(J1781/MAX($J$1781:$J$1807)*10000*0.7+(MAX($I$1781:$I$1807)-I1781)/(MAX($I$1781:$I$1807)-1)*10000*0.3,0)","v":10000},9350,null,null,"Arcus M","V9","Není v databázi"]
["Danes Grula",{"$f":"VLOOKUP(A1782,Pilot,2,0)","v":1961},{"$f":"VLOOKUP(A1782,Pilot,5,0)","v":"M"},{"$f":"VLOOKUP(A1782,Pilot,3,0)","v":"Medlánky"},{"$f":"VLOOKUP(A1782,Pilot,4,0)","v":"CZ/M"},"FCC 2019 - Kombi Open","SK",2019,2,3303,0.93500000000000005,{"$f":"ROUND(J1782/MAX($J$1781:$J$1807)*10000*0.7+(MAX($I$1781:$I$1807)-I1782)/(MAX($I$1781:$I$1807)-1)*10000*0.3,0)","v":9717},9085,null,null,"ASG 29E 18m","DX",""]
["Andrzej Smielkiewicz",null,null,"Leszno",null,"FCC 2019 - Kombi Open","SK",2019,3,3249,0.93500000000000005,9490,8873,null,null,"ASG-29E /18m","A2","Není v databázi"]
["Tomasz Dul",null,null,"LSV Dinslaken",null,"FCC 2019 - Kombi Open","SK",2019,4,3236,0.93500000000000005,9348,8740,null,null,"ASG-29E /18m","DTi","Není v databázi"]
["Gintas Zube",null,null,"LT/KLAIPEDA",null,"FCC 2019 - Kombi Open","SK",2019,5,3093,0.93500000000000005,8937,8356,null,null,"ASG-29 /18m","AR","Není v databázi"]
["Vytautas Rasimavicius",null,null,"Pociunai",null,"FCC 2019 - Kombi Open","SK",2019,6,3004,0.93500000000000005,8637,8076,null,null,"JS1A-18","LRi","Není v databázi"]
["Pawel Frackowiak",null,null,"Aeroklub Poznanski",null,"FCC 2019 - Kombi Open","SK",2019,7,2949,0.93500000000000005,8408,7861,null,null,"LAK 17B FES /18m",77,"Není v databázi"]
["Petr Krejcirik",{"$f":"VLOOKUP(A1788,Pilot,2,0)","v":1960},{"$f":"VLOOKUP(A1788,Pilot,5,0)","v":"M"},{"$f":"VLOOKUP(A1788,Pilot,3,0)","v":"Hranice"},{"$f":"VLOOKUP(A1788,Pilot,4,0)","v":"CZ/M"},"FCC 2019 - Kombi Open","SK",2019,8,2778,0.93500000000000005,{"$f":"ROUND(J1788/MAX($J$1781:$J$1807)*10000*0.7+(MAX($I$1781:$I$1807)-I1788)/(MAX($I$1781:$I$1807)-1)*10000*0.3,0)","v":7939},7423,null,null,"JS MD Single","ZF",""]
["Jerzey Kolasinski",null,null,"Aeroklub Poznanski/KKGT",null,"FCC 2019 - Kombi Open","SK",2019,9,2699,0.93500000000000005,7660,7162,null,null,"JS1-CTJ 18 EVO",56,"Není v databázi"]
["Vitaliy Borovik",null,null,"Novosibirsk",null,"FCC 2019 - Kombi Open","SK",2019,10,2650,0.93500000000000005,7443,6959,null,null,"Nimbus-4M","VB","Není v databázi"]
["Adam Czeladzki",null,null,"Aeroklub Warszawski KKGT",null,"FCC 2019 - Kombi Open","SK",2019,11,2568,0.93500000000000005,7158,6693,null,null,"JS1-CTJ 18 m","GOL","Není v databázi"]
["Leszek Staryszak",null,null,"Warsaw",null,"FCC 2019 - Kombi Open","SK",2019,12,2482,0.93500000000000005,6865,6419,null,null,"ASG29E","BG","Není v databázi"]
["Lukas Benedikt",null,null,"Trnava",null,"FCC 2019 - Kombi Open","SK",2019,13,2453,0.93500000000000005,6690,6255,null,null,"Ventus 3F - 18m","LB","Není v databázi"]
["Zdislaw Bednarczuk",null,null,"Bielsko-Biala",null,"FCC 2019 - Kombi Open","SK",2019,14,2404,0.93500000000000005,6473,6052,null,null,"JS1-18 m EVO","B52","Není v databázi"]
["Jan Divok",null,null,"Aeroklub SNV",null,"FCC 2019 - Kombi Open","SK",2019,15,2301,0.93500000000000005,6144,5745,null,null,"Discus 2T /18m","DJ","Není v databázi"]
["Conrad Hartter",null,null,"FSV Tübingen",null,"FCC 2019 - Kombi Open","SK",2019,16,2262,0.93500000000000005,5948,5561,null,null,"JS1-C 21","OT","Není v databázi"]
["Thomas Bonsack",null,null,"LSV Oldenburg Bad Zwischenahn e.v",null,"FCC 2019 - Kombi Open","SK",2019,17,2198,0.93500000000000005,5701,5330,null,null,"ASG-29E /18m","KT","Není v databázi"]
["Herbert Pirker",null,null,"FAS-Wien",null,"FCC 2019 - Kombi Open","SK",2019,18,2182,0.93500000000000005,5552,5191,null,null,"ASG 29E 18m","MD","Není v databázi"]
["Laurens Goudriaan",null,null,"Cape Gliding Club",null,"FCC 2019 - Kombi Open","SK",2019,19,2167,{"$f":"VLOOKUP(F1799,Soutez,12,0)","v":0.93500000000000005},5406,5055,null,null,"ASG 32 MI","LO",{"$f":"IF(ISERROR(VLOOKUP(A1799,Pilot,6,0)),\"Není v databázi\",VLOOKUP(A1799,Pilot,6,0))","v":"Není v databázi"}]
["Sickert & Weidlich",null,null,null,null,"FCC 2019 - Kombi Open","SK",2019,20,2139,0.93500000000000005,5232,4892,null,null,"Arcus T","YA","Není v databázi"]
["Klaus Kalmbach",null,null,"FSV Tuebingen e.V.",null,"FCC 2019 - Kombi Open","SK",2019,21,1866,0.93500000000000005,4552,4256,null,null,"JS3-18 m","CT","Není v databázi"]
["Michele Wolff",null,null,"Omarama Gliding Club",null,"FCC 2019 - Kombi Open","SK",2019,22,1455,0.93500000000000005,3587,{"$f":"ROUND(K1802*L1802,0)","v":3354},null,null,"Arcus M",4,"Není v databázi"]
["Luka Znidarsic",null,null,"AK Postojna",null,"FCC 2019 - Kombi Open","SK",2019,23,1282,0.93500000000000005,3113,2911,null,null,"Ventus 3F - 18m","LZ","Není v databázi"]
["Botond Szabadfi",null,null,"MALEV Aeroclub",null,"FCC 2019 - Kombi Open","SK",2019,24,1272,0.93500000000000005,2977,2783,null,null,"Arcus T","AB","Není v databázi"]
["Jan Paepke",null,null,"SFC Riesa-Canitz",null,"FCC 2019 - Kombi Open","SK",2019,25,1249,0.93500000000000005,2814,2631,null,null,"LAK 17 AT 18m","AKI","Není v databázi"]
["Arkadiusz Stefańczyk",null,null,"Aeroklub Kielecki",null,"FCC 2019 - Kombi Open","SK",2019,26,770,0.93500000000000005,1708,1597,null,null,"ASG-29E /18m","HE","Není v databázi"]
["Tomasz Chudoment",null,null,"Podhalanski",null,"FCC 2019 - Kombi Open","SK",2019,27,0,0.93500000000000005,0,0,null,null,"JS3","JS3","Není v databázi"]
["Jaroslav Buryan",{"$f":"VLOOKUP(A1808,Pilot,2,0)","v":1953},{"$f":"VLOOKUP(A1808,Pilot,5,0)","v":"M"},{"$f":"VLOOKUP(A1808,Pilot,3,0)","v":"Zábřeh"},{"$f":"VLOOKUP(A1808,Pilot,4,0)","v":"CZ/M"},"FL 2019 - Kombi","CZ",2019,1,3387,0.76500000000000001,{"$f":"ROUND(J1808/MAX($J$1808:$J$1821)*10000*0.7+(MAX($I$1808:$I$1821)-I1808)/(MAX($I$1808:$I$1821)-1)*10000*0.3,0)","v":10000},7650,"x",null,"ASW 20","NS",""]
["Milos Matejka",1956,"M","Beroun","CZ/C1","FL 2019 - Kombi","CZ",2019,2,3309,0.76500000000000001,{"$f":"ROUND(J1809/MAX($J$1808:$J$1821)*10000*0.7+(MAX($I$1808:$I$1821)-I1809)/(MAX($I$1808:$I$1821)-1)*10000*0.3,0)","v":9608},7350,"x",null,"Discus bM","SH",""]
["Lumir Motyka",1955,"M","Frýdlant","CZ/M","FL 2019 - Kombi","CZ",2019,3,3246,0.76500000000000001,9247,7074,"x",null,"LAK 12","DE",""]
["Miroslav Koci",1961,"M","Žamberk","CZ/C2","FL 2019 - Kombi","CZ",2019,4,3168,0.76500000000000001,8855,6774,"x",null,"Ventus 2c/18m","E8",""]
["Jiri Pelucha",1984,"M","Frýdlant","CZ/M","FL 2019 - Kombi","CZ",2019,5,3116,0.76500000000000001,8517,6516,"x",null,"Arcus M","FJ",""]
["Miroslav Sklenar",1964,"M","Žamberk","CZ/C2","FL 2019 - Kombi","CZ",2019,6,2884,0.76500000000000001,7807,5972,"x",null,"Duo Discus T","VP",""]
["Matej Plch",1987,"M","Letkov","CZ/C1","FL 2019 - Kombi","CZ",2019,7,2758,0.76500000000000001,7315,5596,"x",null,"LS 8/18m","EJ",""]
["Frantisek Vancura",1966,"M","Hranice","CZ/M","FL 2019 - Kombi","CZ",2019,8,2715,0.76500000000000001,6996,5352,null,null,"Nimbus 3T/24.5m","A1",""]
["Zdenek Schenk",1972,"M","Hranice","CZ/M","FL 2019 - Kombi","CZ",2019,9,2713,0.76500000000000001,6761,5172,null,null,"Ventus cm 17.6m","ŠNeK",""]
["Jan Kristof",1962,"M","Frýdlant","CZ/M","FL 2019 - Kombi","CZ",2019,10,2137,0.76500000000000001,{"$f":"ROUND(J1817/MAX($J$1808:$J$1821)*10000*0.7+(MAX($I$1808:$I$1821)-I1817)/(MAX($I$1808:$I$1821)-1)*10000*0.3,0)","v":5340},4085,"x",null,"LS 3","TX",""]
["Martin Suchy",1969,"M","Hranice","CZ/M","FL 2019 - Kombi","CZ",2019,11,2078,0.76500000000000001,4987,3815,"x",null,"Duo Discus","OK",""]
["Roman Cerny",1971,"M","Hranice","CZ/M","FL 2019 - Kombi","CZ",2019,12,1610,0.76500000000000001,3789,2899,"x",null,"LAK 17/18m","B2",""]
["Martin Urban",1971,"M","Frýdlant","CZ/M","FL 2019 - Kombi","CZ",2019,13,846,0.76500000000000001,1979,1514,null,null,"LS 3a","SJ",""]
["Vit Grossmann",1977,"M","Hranice","CZ/M","FL 2019 - Kombi","CZ",2019,14,117,0.76500000000000001,242,185,"x",null,"Ventus c 17,6m","FC",""]
["Karel Novak",1993,"M","Mladá Boleslav","CZ/C1","GGP MB 2019 - Klub GP","CZ",2019,1,45,0,{"$f":"ROUND((MAX($I$1822:$I$1831)-I1822)/(MAX($I$1822:$I$1831)-1)*10000,0)","v":10000},0,null,null,"Std. Cirrus","DI",""]
["Michal Kratochvil",1984,"M","Slaný","CZ/C1","GGP MB 2019 - Klub GP","CZ",2019,2,31,0,{"$f":"ROUND((MAX($I$1822:$I$1831)-I1823)/(MAX($I$1822:$I$1831)-1)*10000,0)","v":8571},0,null,null,"Std. Cirrus","BW",""]
["Jan Hruska",1988,"M","Tábor","CZ/C1","GGP MB 2019 - Klub GP","CZ",2019,3,24,0,7143,0,null,null,"ASW 15","LF",""]
["Jan Jindra",1981,"M","Roudnice","CZ/C2","GGP MB 2019 - Klub GP","CZ",2019,4,21,0,5714,0,null,null,"Std. Cirrus","FD",""]
["Jan Zahradka",1981,"M","Hodkovice","CZ/C2","GGP MB 2019 - Klub GP","CZ",2019,5,19,0,4286,0,null,null,"Std. Cirrus","AR",""]
["Katerina Vojtova",1983,"F","Slaný","CZ/C1","GGP MB 2019 - Klub GP","CZ",2019,6,18,0,2857,0,null,null,"Std. Cirrus","KAC",""]
["Linda Vasatova",1990,"F","Mladá Boleslav","CZ/C1","GGP MB 2019 - Klub GP","CZ",2019,7,16,0,1429,0,null,null,"ASW 19","OI",""]
["Jan Zezula",1979,"M","Letňany","CZ/C1","GGP MB 2019 - Klub GP","CZ",2019,8,7,0,0,0,null,null,"ASW 19","HD",""]
["Tomas Hlavacek",1984,"M","Mladá Boleslav","CZ/C1","GGP MB 2019 - Klub GP","CZ",2019,8,7,0,{"$f":"ROUND((MAX($I$1822:$I$1831)-I1830)/(MAX($I$1822:$I$1831)-1)*10000,0)","v":0},0,null,null,"Std. Cirrus","FU",""]
["Zdenek Buben",1978,"M","Hodkovice","CZ/C2","GGP MB 2019 - Klub GP","CZ",2019,"HC",0,0,null,0,null,null,"ASW 15","B","","Nenastoupil do soutěže"]
["Martin Soucek",1975,"M","Mladá Boleslav","CZ/C1","GGP MB 2019 - Pohár MV - Kombi","CZ",2019,1,3644,0,{"$f":"ROUND(J1832/MAX($J$1832:$J$1837)*10000*0.7+(MAX($I$1832:$I$1837)-I1832)/(MAX($I$1832:$I$1837)-1)*10000*0.3,0)","v":10000},0,null,null,"DG 200/17","MS",""]
["Dana Novakova",1965,"F","Mladá Boleslav","CZ/C1","GGP MB 2019 - Pohár MV - Kombi","CZ",2019,2,3353,0,{"$f":"ROUND(J1833/MAX($J$1832:$J$1837)*10000*0.7+(MAX($I$1832:$I$1837)-I1833)/(MAX($I$1832:$I$1837)-1)*10000*0.3,0)","v":8841},0,null,null,"LS-8/15m","AU",""]
["Jan Smaha",1958,"M","Česká Lípa","CZ/C2","GGP MB 2019 - Pohár MV - Kombi","CZ",2019,3,3235,0,8014,0,null,null,"ASW 15B","CW",""]
["Ondrej Sindelar",1979,"M","Mladá Boleslav","CZ/C1","GGP MB 2019 - Pohár MV - Kombi","CZ",2019,4,3005,0,6973,0,null,null,"ASW 15 B","MB",""]
["Libor Kovarnik",1968,"M","Mladá Boleslav","CZ/C1","GGP MB 2019 - Pohár MV - Kombi","CZ",2019,5,1688,0,3843,0,null,null,"VSO-10","C3",""]
["Bedrich Honzicek",1972,"M","Letňany","CZ/C1","GGP MB 2019 - Pohár MV - Kombi","CZ",2019,6,1252,0,{"$f":"ROUND(J1837/MAX($J$1832:$J$1837)*10000*0.7+(MAX($I$1832:$I$1837)-I1837)/(MAX($I$1832:$I$1837)-1)*10000*0.3,0)","v":2405},0,null,null,"DG 200","RZ",""]
["Wolfgang Janowitsch",null,null,"FRA-Wr.Neustadt",null,"OSS 2019 - 18m","AT",2019,1,3803,0.91500000000000004,{"$f":"ROUND(J1838/MAX($J$1838:$J$1856)*10000*0.7+(MAX($I$1838:$I$1856)-I1838)/(MAX($I$1838:$I$1856)-1)*10000*0.3,0)","v":10000},9150,null,null,"Ventus 3T","WO","Není v databázi"]
["Michael Rass",null,null,"FC ST.JOHANN IN TIROL",null,"OSS 2019 - 18m","AT",2019,2,3685,0.91500000000000004,{"$f":"ROUND(J1839/MAX($J$1838:$J$1856)*10000*0.7+(MAX($I$1838:$I$1856)-I1839)/(MAX($I$1838:$I$1856)-1)*10000*0.3,0)","v":9616},8799,null,null,"ASG 29 ES","MR","Není v databázi"]
["Andreas Lutz",null,null,"SFC Ried",null,"OSS 2019 - 18m","AT",2019,3,3660,0.91500000000000004,9403,8604,null,null,"Ventus 3","A","Není v databázi"]
["Andreas Sandhöfner",null,null,"FSK Sturmvogel",null,"OSS 2019 - 18m","AT",2019,4,3574,0.91500000000000004,9078,8306,null,null,"ASG29 Es","AY","Není v databázi"]
["Martin Pirker",null,null,"FRA Wr. Neustadt",null,"OSS 2019 - 18m","AT",2019,5,3451,0.91500000000000004,8685,7947,null,null,"Ventus cM","PM","Není v databázi"]
["Heimo Demmerer",null,null,"SFC Mariazell",null,"OSS 2019 - 18m","AT",2019,6,3355,0.91500000000000004,8342,7633,null,null,"Ventus 2CM","OD","Není v databázi"]
["Werner Amann",null,null,"SFG-Hohenems",null,"OSS 2019 - 18m","AT",2019,7,3092,0.91500000000000004,7691,7037,null,null,"ASG 29","WG","Není v databázi"]
["Friedrich Hofinger",null,null,"SMBC Kirchdorf Micheldorf",null,"OSS 2019 - 18m","AT",2019,8,3091,0.91500000000000004,7523,6884,null,null,"Discus 2ct","KN","Není v databázi"]
["Joachim Krais",null,null,"FLG Blaubeuren",null,"OSS 2019 - 18m","AT",2019,9,2978,0.91500000000000004,7148,6540,null,null,"Ventus 2cxM","IKK","Není v databázi"]
["Reinhard Haggenmüller",null,null,"Fliegerclub St.Johann T.",null,"OSS 2019 - 18m","AT",2019,10,2946,0.91500000000000004,6923,6335,null,null,"ASG 29 E","RR","Není v databázi"]
["Kurt Sautter",null,null,"LSV Rossfeld",null,"OSS 2019 - 18m","AT",2019,11,2713,0.91500000000000004,6327,5789,null,null,"Ventus 2cxM","IKI","Není v databázi"]
["Erich Niedl",null,null,"USFC Tulln",null,"OSS 2019 - 18m","AT",2019,12,2544,0.91500000000000004,5849,5352,null,null,"Ventus 2cxT","CX","Není v databázi"]
["Karel Krobath",null,null,"SFC Tulln",null,"OSS 2019 - 18m","AT",2019,13,2495,0.91500000000000004,5592,5117,null,null,"HPH 304MS","Q","Není v databázi"]
["Bernhard Leitner",null,null,"ISV",null,"OSS 2019 - 18m","AT",2019,14,2490,0.91500000000000004,5417,4957,null,null,"Ventus 2cxM","LV","Není v databázi"]
["Ondrej Dupal",{"$f":"VLOOKUP(A1852,Pilot,2,0)","v":1966},{"$f":"VLOOKUP(A1852,Pilot,5,0)","v":"M"},{"$f":"VLOOKUP(A1852,Pilot,3,0)","v":"GAC Benešov"},{"$f":"VLOOKUP(A1852,Pilot,4,0)","v":"CZ/C1"},"OSS 2019 - 18m","AT",2019,15,2470,0.91500000000000004,{"$f":"ROUND(J1852/MAX($J$1838:$J$1856)*10000*0.7+(MAX($I$1838:$I$1856)-I1852)/(MAX($I$1838:$I$1856)-1)*10000*0.3,0)","v":5213},4770,null,null,"ASG29E","GO",""]
["Andreas Klugsberger",null,null,"SCMB Kirchdorf Micheldorf",null,"OSS 2019 - 18m","AT",2019,16,2461,0.91500000000000004,5030,4602,null,null,"ASH 26","HF","Není v databázi"]
["Daniel Feilmeier",null,null,null,null,"OSS 2019 - 18m","AT",2019,17,2344,0.91500000000000004,4648,4253,null,null,"Discus 2c FES","UL","Není v databázi"]
["Andrej Kolar",null,null,"ALC Lesce",null,"OSS 2019 - 18m","AT",2019,18,2328,0.91500000000000004,4452,4074,null,null,"Ventus 3M","WZ","Není v databázi"]
["Raoul Flicker",null,null,"SFC Tulln",null,"OSS 2019 - 18m","AT",2019,19,2232,0.91500000000000004,4108,3759,null,null,"Ventus 2cxT","IX","Není v databázi"]
["David Richter-Trummer",null,null,"SMBC Kirchdorf-Micheldorf",null,"OSS 2019 - Klub","AT",2019,1,3229,0.90500000000000003,{"$f":"ROUND(J1857/MAX($J$1857:$J$1872)*10000*0.7+(MAX($I$1857:$I$1872)-I1857)/(MAX($I$1857:$I$1872)-1)*10000*0.3,0)","v":10000},9050,null,null,"H301","RT","Není v databázi"]
["Paul Altrichter",null,null,"Union Fliegergruppe Waldveirtel",null,"OSS 2019 - Klub","AT",2019,2,3038,0.90500000000000003,{"$f":"ROUND(J1858/MAX($J$1857:$J$1872)*10000*0.7+(MAX($I$1857:$I$1872)-I1858)/(MAX($I$1857:$I$1872)-1)*10000*0.3,0)","v":9386},8494,null,null,"LS4","AX","Není v databázi"]
["Miguel Schwan",null,null,"SFC Tulln",null,"OSS 2019 - Klub","AT",2019,3,2970,0.90500000000000003,9039,8180,null,null,"LS4 WL","T5","Není v databázi"]
["Erich Hinterholzer",null,null,"FC St.Johann i.T.",null,"OSS 2019 - Klub","AT",2019,4,2928,0.90500000000000003,8747,7916,null,null,"ASW24 WL","LX","Není v databázi"]
["Jan Jagiello",null,null,"FSTO",null,"OSS 2019 - Klub","AT",2019,5,2907,0.90500000000000003,8502,7694,null,null,"Std. Libelle",25,"Není v databázi"]
["Helmut Köglbauer",null,null,"SFC-Ried",null,"OSS 2019 - Klub","AT",2019,6,2877,0.90500000000000003,8237,7454,null,null,"Std. Cirrus WL","4ME","Není v databázi"]
["Vinzenz Neuwirth",null,null,"FRA Wr. Neustadt",null,"OSS 2019 - Klub","AT",2019,7,2755,{"$f":"VLOOKUP(F1863,Soutez,12,0)","v":0.90500000000000003},7772,7034,null,null,"LS7 WL","3O",{"$f":"IF(ISERROR(VLOOKUP(A1863,Pilot,6,0)),\"Není v databázi\",VLOOKUP(A1863,Pilot,6,0))","v":"Není v databázi"}]
["Gerald Moser-Fürst",null,null,"USFC Krems",null,"OSS 2019 - Klub","AT",2019,8,2685,0.90500000000000003,7421,6716,null,null,"Discus CS","K1","Není v databázi"]
["Simon Lemmerer",null,null,"HFSG Grimming",null,"OSS 2019 - Klub","AT",2019,9,2473,0.90500000000000003,6761,6119,null,null,"Standard Libelle 201B","SL","Není v databázi"]
["Arnold Fauner",null,null,"Akaflieg Graz",null,"OSS 2019 - Klub","AT",2019,10,2372,0.90500000000000003,6342,{"$f":"ROUND(K1866*L1866,0)","v":5740},null,null,"DG300","IPW","Není v databázi"]
["Jakob Pühringer",null,null,"FRA Wiener Neustadt",null,"OSS 2019 - Klub","AT",2019,11,2052,0.90500000000000003,5448,4930,null,null,"Ls4","F4","Není v databázi"]
["Rudolf Huber",null,null,"BSV Voith St. Pölten",null,"OSS 2019 - Klub","AT",2019,12,1966,0.90500000000000003,5062,4581,null,null,"Std. Cirrus WL","SI","Není v databázi"]
["Stefan Krummholz",null,null,"USFC Krems",null,"OSS 2019 - Klub","AT",2019,13,1924,0.90500000000000003,4771,4318,null,null,"Kestrel","KS","Není v databázi"]
["Georg Donner",null,null,"Flugsportgruppe Union Linz",null,"OSS 2019 - Klub","AT",2019,14,1896,0.90500000000000003,4510,4082,null,null,"DG-101G","HX","Není v databázi"]
["Rainer Wanko",null,null,"FG Waldviertel",null,"OSS 2019 - Klub","AT",2019,15,1246,0.90500000000000003,{"$f":"ROUND(J1871/MAX($J$1857:$J$1872)*10000*0.7+(MAX($I$1857:$I$1872)-I1871)/(MAX($I$1857:$I$1872)-1)*10000*0.3,0)","v":2901},2625,null,null,"Discus","MB","Není v databázi"]
["Constantin Jakobljevich",null,null,"SFG Ybbs",null,"OSS 2019 - Klub","AT",2019,16,1224,0.90500000000000003,2653,2401,null,null,"Discus CS","CJ","Není v databázi"]
["Achleitner & Haslinger",null,null,null,null,"OSS 2019 - Kombi","AT",2019,1,3833,0.9,{"$f":"ROUND(J1873/MAX($J$1873:$J$1883)*10000*0.7+(MAX($I$1873:$I$1883)-I1873)/(MAX($I$1873:$I$1883)-1)*10000*0.3,0)","v":10000},9000,null,null,"ASG 32 Mi","GA","Není v databázi"]
["Martin Schwab",null,null,"FG Waldviertel",null,"OSS 2019 - Kombi","AT",2019,2,3755,0.9,{"$f":"ROUND(J1874/MAX($J$1873:$J$1883)*10000*0.7+(MAX($I$1873:$I$1883)-I1874)/(MAX($I$1873:$I$1883)-1)*10000*0.3,0)","v":9558},8602,null,null,"Discus 2T","FUN","Není v databázi"]
["Supersperger & Federlehner",null,null,null,null,"OSS 2019 - Kombi","AT",2019,3,3604,0.9,8982,8084,null,null,"Arcus M","PS","Není v databázi"]
["Schneeweis & Mayrhofer",null,null,"ASKÖ Flugsportverein Linz",null,"OSS 2019 - Kombi","AT",2019,4,3012,0.9,7601,6841,null,null,"Duo Discus XT","L","Není v databázi"]
["Thomas Hynek",null,null,"Flugschule ASKÖ Wien",null,"OSS 2019 - Kombi","AT",2019,5,2967,0.9,7218,6496,null,null,"Ventus 2b","CC","Není v databázi"]
["Scheiber & Schneider",null,null,"Segelflugverein Außerfern",null,"OSS 2019 - Kombi","AT",2019,6,2966,0.9,6917,6225,null,null,"Duo-Discus XLT","KPG","Není v databázi"]
["Embacher & Olinger",null,null,null,null,"OSS 2019 - Kombi","AT",2019,7,2839,0.9,6385,5747,null,null,"Duo Discus T","JOY","Není v databázi"]
["Artner & Meindlhumer",null,null,"ASKÖ Flugsportverein Linz",null,"OSS 2019 - Kombi","AT",2019,8,2485,0.9,{"$f":"ROUND(J1880/MAX($J$1873:$J$1883)*10000*0.7+(MAX($I$1873:$I$1883)-I1880)/(MAX($I$1873:$I$1883)-1)*10000*0.3,0)","v":5438},4894,null,null,"Duo-Discus","8Y","Není v databázi"]
["Wolfgang Zimmermann",null,null,"Flugring Austria Wiener Neustadt",null,"OSS 2019 - Kombi","AT",2019,9,2422,0.9,5023,4521,null,null,"Ventus2b","GI","Není v databázi"]
["Philipp Wittwer",null,null,"SFG Dornbirn",null,"OSS 2019 - Kombi","AT",2019,10,2288,0.9,4478,4030,null,null,"LS 8","ZL","Není v databázi"]
["Thomas Aigner",null,null,"SFC Ried",null,"OSS 2019 - Kombi","AT",2019,11,2039,0.9,3724,3352,null,null,"Ventus 2B","TOM","Není v databázi"]
["Peter Hartmann",null,null,"ASKÖ Flugsportverein Linz",null,"OSS 2019 - Open","AT",2019,1,3725,0,{"$f":"ROUND(J1884/MAX($J$1884:$J$1891)*10000*0.7+(MAX($I$1884:$I$1891)-I1884)/(MAX($I$1884:$I$1891)-1)*10000*0.3,0)","v":10000},0,null,null,"Antares 23T","PC","Není v databázi"]
["Alexander Müller",null,null,"LSC Bayreuth e.V.",null,"OSS 2019 - Open","AT",2019,2,3409,0,{"$f":"ROUND(J1885/MAX($J$1884:$J$1891)*10000*0.7+(MAX($I$1884:$I$1891)-I1885)/(MAX($I$1884:$I$1891)-1)*10000*0.3,0)","v":8978},0,null,null,"EB 29","AM","Není v databázi"]
["Sven Kolb",null,null,"SFG-Dornbirn",null,"OSS 2019 - Open","AT",2019,3,3031,0,7839,0,null,null,"Antares LF20e","ZF","Není v databázi"]
["Christian Hynek",null,null,"steckenflug.at",null,"OSS 2019 - Open","AT",2019,4,2905,0,7173,0,null,null,"EB 29 DR","DD","Není v databázi"]
["Benno Beesten",null,null,"LSG Fallersleben",null,"OSS 2019 - Open","AT",2019,5,2766,0,6484,0,null,null,"Nimbus 4M","TEX","Není v databázi"]
["Christian Derold",null,null,"ISV",null,"OSS 2019 - Open","AT",2019,6,2215,0,5020,0,null,null,"Antares 23E","LS","Není v databázi"]
["Rüdiger Spann",null,null,"LSV Salzburg",null,"OSS 2019 - Open","AT",2019,7,2029,0,{"$f":"ROUND(J1890/MAX($J$1884:$J$1891)*10000*0.7+(MAX($I$1884:$I$1891)-I1890)/(MAX($I$1884:$I$1891)-1)*10000*0.3,0)","v":4241},0,null,null,"Antares 23E","RS","Není v databázi"]
["Gerold Auerbach",null,null,"Österreich",null,"OSS 2019 - Open","AT",2019,8,1868,0,3510,0,null,null,"ASH 31 MI","FT","Není v databázi"]
["David Mach",{"$f":"VLOOKUP(A1892,Pilot,2,0)","v":1994},{"$f":"VLOOKUP(A1892,Pilot,5,0)","v":"M"},{"$f":"VLOOKUP(A1892,Pilot,3,0)","v":"Hronov"},{"$f":"VLOOKUP(A1892,Pilot,4,0)","v":"CZ/C2"},"PMCŘ 2019 - Klub","CZ",2019,1,3902,1.0649999999999999,{"$f":"ROUND(J1892/MAX($J$1892:$J$1919)*10000*0.7+(MAX($I$1892:$I$1919)-I1892)/(MAX($I$1892:$I$1919)-1)*10000*0.3,0)","v":10000},10650,"x",null,"LS-4 (102.1)","IX",""]
["Karel Novak",1993,"M","Mladá Boleslav","CZ/C1","PMCŘ 2019 - Klub","CZ",2019,2,3585,1.0649999999999999,{"$f":"ROUND(J1893/MAX($J$1892:$J$1919)*10000*0.7+(MAX($I$1892:$I$1919)-I1893)/(MAX($I$1892:$I$1919)-1)*10000*0.3,0)","v":9320},9926,"x",null,"Std. Cirrus (98.6)","DI",""]
["Tomas Suchanek",1964,"M","GAC Benešov","CZ/C1","PMCŘ 2019 - Klub","CZ",2019,3,3518,1.0649999999999999,9089,9680,null,null,"LS 1-d","VB",""]
["Ivan Novak",1962,"M","Mladá Boleslav","CZ/C1","PMCŘ 2019 - Klub","CZ",2019,4,3478,1.0649999999999999,8906,9485,"x",null,"Std. Cirrus (98.6)","XC",""]
["Jan Louda",1986,"M","Mladá Boleslav","CZ/C1","PMCŘ 2019 - Klub","CZ",2019,5,3465,1.0649999999999999,8772,9342,"x",null,"ASW-19. ASW-19B (100.2)","OI",""]
["Michal Lesinger",1966,"M","Moravská Třebová","CZ/M","PMCŘ 2019 - Klub","CZ",2019,6,3214,1.0649999999999999,8210,8744,null,null,"ASW-19. ASW-19B (100.2)","LL",""]
["Petr Stepanek",1989,"M","Moravská Třebová","CZ/M","PMCŘ 2019 - Klub","CZ",2019,7,3210,1.0649999999999999,8092,8618,"x",null,"ASW-19. ASW-19B (100.2)","AE",""]
["Lubomir Motl",1959,"M","Kyjov","CZ/M","PMCŘ 2019 - Klub","CZ",2019,8,3200,1.0649999999999999,7963,8481,"x",null,"LS-1f. LS-1f (45) (100.1)","G2",""]
["Pavel Trybenekr",1990,"M","Hořice","CZ/C2","PMCŘ 2019 - Klub","CZ",2019,9,3193,1.0649999999999999,7839,8349,"x",null,"LS-4 (102.1)","PF",""]
["David Sachl",1978,"M","Kralupy","CZ/C1","PMCŘ 2019 - Klub","CZ",2019,10,3015,1.0649999999999999,7409,7891,"x",null,"DG-300 (103.7)","BK",""]
["Slavomir Piskaty 84",1984,"M","Kunovice","CZ/M","PMCŘ 2019 - Klub","CZ",2019,11,2942,1.0649999999999999,7167,7633,"x",null,"Std. Cirrus (98.6)","PIF",""]
["Jan Ratz",1987,"M","Zbraslavice","CZ/C1","PMCŘ 2019 - Klub","CZ",2019,12,2931,1.0649999999999999,7036,7493,null,null,"Std. Cirrus (98.6)","REX",""]
["Tereza Koubkova",1999,"F","Vysoké Mýto","CZ/C2","PMCŘ 2019 - Klub","CZ",2019,13,2850,1.0649999999999999,6779,7220,"x","x","Std. Cirrus (98.6)","WY","Junior v roce 2021"]
["Ivan Harasta 65",1965,"M","Toužim","CZ/C1","PMCŘ 2019 - Klub","CZ",2019,14,2837,1.0649999999999999,6645,7077,null,null,"ASW-15B (97.9)","HI",""]
["Ivan Tvrdik",1997,"M","Letňany","CZ/C1","PMCŘ 2019 - Klub","CZ",2019,15,2790,1.0649999999999999,6450,6869,null,null,"ASW-19. ASW-19B (100.2)","KZ","Junior v roce 2021"]
["Pavlina Horackova",1965,"F","Šumperk","CZ/M","PMCŘ 2019 - Klub","CZ",2019,16,2778,1.0649999999999999,6317,6728,"x","x","SZD-48 Jantar std. 2 (3) (99.9)","SU",""]
["Petr Valenta 94",1994,"M","Kunovice","CZ/M","PMCŘ 2019 - Klub","CZ",2019,17,2709,1.0649999999999999,6082,6477,null,null,"Std. Cirrus (98.6)","OK",""]
["Petra Piskata",1989,"F","Luhačovice","CZ/M","PMCŘ 2019 - Klub","CZ",2019,18,2672,1.0649999999999999,5905,6289,"x",null,"LS-4 (102.1)","FP",""]
["Petr Panek",1975,"M","Dvůr Králové","CZ/C2","PMCŘ 2019 - Klub","CZ",2019,19,2661,1.0649999999999999,5774,6149,null,null,"Std. Cirrus WL","YU",""]
["Barbora Moravcova",1994,"F","Zbraslavice","CZ/C1","PMCŘ 2019 - Klub","CZ",2019,20,2587,1.0649999999999999,5530,5889,null,null,"ASW-19. ASW-19B (100.2)","CF",""]
["Jakub Kohn",1992,"M","Prostějov","CZ/M","PMCŘ 2019 - Klub","CZ",2019,21,2491,1.0649999999999999,5247,5588,"x",null,"ASW-15B (97.9)","FK",""]
["Frantisek Filandr",1956,"M","Most","CZ/C2","PMCŘ 2019 - Klub","CZ",2019,22,2469,1.0649999999999999,5096,5427,"x",null,"Std. Cirrus (98.6)","FF",""]
["Lumir Motyka",1955,"M","Frýdlant","CZ/M","PMCŘ 2019 - Klub","CZ",2019,23,2372,1.0649999999999999,{"$f":"ROUND(J1914/MAX($J$1892:$J$1919)*10000*0.7+(MAX($I$1892:$I$1919)-I1914)/(MAX($I$1892:$I$1919)-1)*10000*0.3,0)","v":4811},5124,null,null,"LS-1f. LS-1f (45) (100.1)","EM",""]
["Zdenek Balcarek",1967,"M","Kroměříž","CZ/M","PMCŘ 2019 - Klub","CZ",2019,24,2078,1.0649999999999999,4172,4443,null,null,"Std. Cirrus (98.6)","ZL",""]
["Marek Svancara",1976,"M","GAC Benešov","CZ/C1","PMCŘ 2019 - Klub","CZ",2019,25,1991,1.0649999999999999,3905,4159,"x",null,"Std. Cirrus (98.6)","GT",""]
["Vojtech Hajek",1987,"M","Mladá Boleslav","CZ/C1","PMCŘ 2019 - Klub","CZ",2019,26,1865,1.0649999999999999,3568,3800,"x",null,"Std. Cirrus (98.6)","BW",""]
["Ondrej Dvorak 98",1998,"M","Mladá Boleslav","CZ/C1","PMCŘ 2019 - Klub","CZ",2019,27,1611,1.0649999999999999,3001,3196,null,null,"ASW-15B (97,9)","MB","Junior v roce 2021"]
["Klara Teichmannova",1993,"F","Hronov","CZ/C2","PMCŘ 2019 - Klub","CZ",2019,28,1574,1.0649999999999999,2824,3008,null,null,"LS-3 /15m (104.4)","EI",""]
["Miloslav Cink",1987,"M","Letkov","CZ/C1","PMCŘ 2019 - Kombi 15m","CZ",2019,1,3524,1.07,{"$f":"ROUND(J1920/MAX($J$1920:$J$1932)*10000*0.7+(MAX($I$1920:$I$1932)-I1920)/(MAX($I$1920:$I$1932)-1)*10000*0.3,0)","v":10000},10700,"x",null,"LS-8. LS-8a. LS-8b. LS-8s. LS-8-18. LS-8s. LS-8st /15m (s vodou) (111.7)","JB",""]
["Pavel Louzecky",1957,"M","Přibyslav","CZ/C2","PMCŘ 2019 - Kombi 15m","CZ",2019,2,3500,1.07,{"$f":"ROUND(J1921/MAX($J$1920:$J$1932)*10000*0.7+(MAX($I$1920:$I$1932)-I1921)/(MAX($I$1920:$I$1932)-1)*10000*0.3,0)","v":9702},10381,"x",null,"LS-8. LS-8a. LS-8b. LS-8s. LS-8-18. LS-8s. LS-8st /15m (s vodou) (111.7)","AU",""]
["Petr Koutny",1971,"M","Křižanov","CZ/M","PMCŘ 2019 - Kombi 15m","CZ",2019,3,3263,1.07,{"$f":"ROUND(J1922/MAX($J$1920:$J$1932)*10000*0.7+(MAX($I$1920:$I$1932)-I1922)/(MAX($I$1920:$I$1932)-1)*10000*0.3,0)","v":8982},9611,"x",null,"LS-8. LS-8a. LS-8b. LS-8s. LS-8-18. LS-8s. LS-8st /15m (s vodou) (111.7)","SK",""]
["Radek Krejcirik",1991,"M","Hranice","CZ/M","PMCŘ 2019 - Kombi 15m","CZ",2019,4,3236,1.07,8678,9285,null,null,"Ventus 2a /15m (s vodou) (117.1)","AX",""]
["Jiri Kusbach",{"$f":"VLOOKUP(A1924,Pilot,2,0)","v":1959},{"$f":"VLOOKUP(A1924,Pilot,5,0)","v":"M"},{"$f":"VLOOKUP(A1924,Pilot,3,0)","v":"Luhačovice"},{"$f":"VLOOKUP(A1924,Pilot,4,0)","v":"CZ/M"},"PMCŘ 2019 - Kombi 15m","CZ",2019,5,3103,1.07,8164,8735,"x",null,"KKB 15E-FES (s vodou) (108.8)","B",""]
["Jana Veprekova",1961,"F","Dvůr Králové","CZ/C2","PMCŘ 2019 - Kombi 15m","CZ",2019,6,2800,1.07,7312,7824,null,null,"LS-8. LS-8a. LS-8b. LS-8s. LS-8-18. LS-8s. LS-8st /15m (s vodou) (111.7)","W8",""]
["Jan Pavlik",1987,"M","Křižanov","CZ/M","PMCŘ 2019 - Kombi 15m","CZ",2019,7,2737,1.07,6937,7423,null,null,"LS-8. LS-8a. LS-8b. LS-8s. LS-8-18. LS-8s. LS-8st /15m (s vodou) (111.7)","JW",""]
["Jan Viskot",1995,"M","Břeclav","CZ/M","PMCŘ 2019 - Kombi 15m","CZ",2019,8,2613,{"$f":"VLOOKUP(F1927,Soutez,12,0)","v":1.07},6440,6891,null,null,"Discus 2a /15m (s vodou) (112.6)","GX",{"$f":"IF(ISERROR(VLOOKUP(A1927,Pilot,6,0)),\"Není v databázi\",VLOOKUP(A1927,Pilot,6,0))","v":""}]
["Hana Treslova",1991,"F","Raná","CZ/C2","PMCŘ 2019 - Kombi 15m","CZ",2019,9,2549,1.07,6063,6487,null,null,"LS-8. LS-8a. LS-8b. LS-8s. LS-8-18. LS-8s. LS-8st /15m (s vodou) (111.7)","EU",""]
["Jan Boruvka",1984,"M","Jičín","CZ/C2","PMCŘ 2019 - Kombi 15m","CZ",2019,10,2404,1.07,5525,5912,null,null,"Ventus c /15m WL (s vodou) (114.4)","EG",""]
["Dana Novakova",1965,"F","Mladá Boleslav","CZ/C1","PMCŘ 2019 - Kombi 15m","CZ",2019,11,2276,1.07,5021,{"$f":"ROUND(K1930*L1930,0)","v":5372},null,null,"LS-8. LS-8a. LS-8b. LS-8s. LS-8-18. LS-8s. LS-8st /15m (s vodou) (111.7)","FX",""]
["Radek Zima 78",1978,"M","Hodkovice","CZ/C2","PMCŘ 2019 - Kombi 15m","CZ",2019,12,2097,1.07,4415,4724,"x",null,"Ventus b /15m WL -500 kg (s vodou) (113.3)","7F",""]
["Slavomir Piskaty 58",1958,"M","Kunovice","CZ/M","PMCŘ 2019 - Kombi 15m","CZ",2019,13,998,1.07,1982,2121,null,null,"Discus b WL (s vodou) (109.2)","KAL",""]
["Ondrej Dupal",1966,"M","GAC Benešov","CZ/C1","PMCŘ 2019 - Kombi Open","CZ",2019,1,3219,1.0299999999999998,{"$f":"ROUND(J1933/MAX($J$1933:$J$1945)*10000*0.7+(MAX($I$1933:$I$1945)-I1933)/(MAX($I$1933:$I$1945)-1)*10000*0.3,0)","v":10000},10300,"x",null,"ASG-29. ASG-29E /18m (s vodou) (120.9)","GO",""]
["Alena Netusilova",1970,"F","Zbraslavice","CZ/C1","PMCŘ 2019 - Kombi Open","CZ",2019,2,3189,1.0299999999999998,{"$f":"ROUND(J1934/MAX($J$1933:$J$1945)*10000*0.7+(MAX($I$1933:$I$1945)-I1934)/(MAX($I$1933:$I$1945)-1)*10000*0.3,0)","v":9685},9976,"x","x","JS1-C 18 EVO. JS1-CTJ 18 EVO (s vodou) (121.6)","JX",""]
["Danes Grula",1961,"M","Medlánky","CZ/M","PMCŘ 2019 - Kombi Open","CZ",2019,3,3044,1.0299999999999998,9119,9393,"x",null,"ASG-29. ASG-29E /18m (s vodou) (120.9)","DX",""]
["Jana Treslova",1963,"F","Raná","CZ/C2","PMCŘ 2019 - Kombi Open","CZ",2019,4,2956,1.0299999999999998,8678,8938,"x","x","JS3. JS3 TJ-18m (s vodou) (122.7)","ZE",""]
["Tomas Rendla",1973,"M","Zbraslavice","CZ/C1","PMCŘ 2019 - Kombi Open","CZ",2019,5,2733,1.0299999999999998,7943,8181,"x",null,"Arcus E. Arcus M. Arcus S. Arcus T (s vodou) (117.1)","EY",""]
["Radek Kucirek",1973,"M","Havlíčkův Brod","CZ/C2","PMCŘ 2019 - Kombi Open","CZ",2019,6,2714,1.0299999999999998,7652,7882,null,null,"EB-28 edition 28.3m (s vodou) (125.3)","NA",""]
["Petr Krejcirik",1960,"M","Hranice","CZ/M","PMCŘ 2019 - Kombi Open","CZ",2019,7,2592,1.0299999999999998,7137,7351,null,null,"JS1-CTJ 18 EVO","ZF",""]
["Lenka Kuthanova",1960,"F","Tábor","CZ/C1","PMCŘ 2019 - Kombi Open","CZ",2019,8,2489,1.0299999999999998,6663,6863,null,null,"JS1-C 18 EVO. JS1-CTJ 18 EVO (s vodou) (121.6)","LX",""]
["Jiri Steiger",1969,"M","Olomouc","CZ/M","PMCŘ 2019 - Kombi Open","CZ",2019,9,2488,1.0299999999999998,6410,6602,"x",null,"Ventus 2ct /18m 600 kg (s vodou) (120.3)","JS",""]
["Eva Cerna",1964,"F","Příbram","CZ/C1","PMCŘ 2019 - Kombi Open","CZ",2019,10,2372,1.0299999999999998,5908,6085,"x","x","HpH 304M SHARK /18m 600kg","EP",""]
["Karel Mares",1974,"M","Slaný","CZ/C1","PMCŘ 2019 - Kombi Open","CZ",2019,11,2282,1.0299999999999998,5462,5626,"x",null,"Nimbus 2","MR",""]
["Lukas Benedikt",null,"M","Trnava","SK","PMCŘ 2019 - Kombi Open","CZ",2019,12,1984,1.0299999999999998,{"$f":"ROUND(J1944/MAX($J$1933:$J$1945)*10000*0.7+(MAX($I$1933:$I$1945)-I1944)/(MAX($I$1933:$I$1945)-1)*10000*0.3,0)","v":4564},4701,null,null,"Ventus 3F - 18m (s vodou) (119.8)","LB","Není v databázi"]
["Martin Hrivna",{"$f":"VLOOKUP(A1945,Pilot,2,0)","v":1978},{"$f":"VLOOKUP(A1945,Pilot,5,0)","v":"M"},{"$f":"VLOOKUP(A1945,Pilot,3,0)","v":"Zbraslavice"},{"$f":"VLOOKUP(A1945,Pilot,4,0)","v":"CZ/C1"},"PMCŘ 2019 - Kombi Open","CZ",2019,13,1819,1.0299999999999998,{"$f":"ROUND(J1945/MAX($J$1933:$J$1945)*10000*0.7+(MAX($I$1933:$I$1945)-I1945)/(MAX($I$1933:$I$1945)-1)*10000*0.3,0)","v":3956},4075,null,null,"ASG-29. ASG-29E /18m (s vodou) (120.9)","NX",""]
["David Mach",1994,"M","Hronov","CZ/C2","PMČRj 2019 - Klub","CZ",2019,1,5324,0.92500000000000004,{"$f":"ROUND(J1946/MAX($J$1946:$J$1976)*10000*0.7+(MAX($I$1946:$I$1976)-I1946)/(MAX($I$1946:$I$1976)-1)*10000*0.3,0)","v":10000},9250,null,null,"Std. Cirrus","XC",""]
["Daniel Ryba",1994,"M","Dvůr Králové","CZ/C2","PMČRj 2019 - Klub","CZ",2019,2,4993,0.92500000000000004,{"$f":"ROUND(J1947/MAX($J$1946:$J$1976)*10000*0.7+(MAX($I$1946:$I$1976)-I1947)/(MAX($I$1946:$I$1976)-1)*10000*0.3,0)","v":9465},8755,null,null,"ASW 19B","L7",""]
["Barbora Moravcova",1994,"F","Zbraslavice","CZ/C1","PMČRj 2019 - Klub","CZ",2019,3,4955,0.92500000000000004,9315,8616,"x","x","ASW 19B","CF",""]
["Jaromir Macoun",1999,"M","Jičín","CZ/C2","PMČRj 2019 - Klub","CZ",2019,4,4654,0.92500000000000004,8819,8158,null,null,"LS 8 15 m","EU","Junior v roce 2021"]
["Petr Valenta 94",1994,"M","Kunovice","CZ/M","PMČRj 2019 - Klub","CZ",2019,5,4576,0.92500000000000004,8617,7971,"x",null,"Std. Cirrus","PIF",""]
["Vit Morkovsky",2000,"M","Polička","CZ/C2","PMČRj 2019 - Klub","CZ",2019,6,4322,0.92500000000000004,8183,7569,"x",null,"ASW-24A bez TN8","SM","Junior v roce 2021"]
["Ivan Tvrdik",1997,"M","Letňany","CZ/C1","PMČRj 2019 - Klub","CZ",2019,7,4161,0.92500000000000004,7871,7281,"x",null,"Discus b","LH","Junior v roce 2021"]
["Jan Vozeh",1995,"M","Rakovník","CZ/C1","PMČRj 2019 - Klub","CZ",2019,8,3904,0.92500000000000004,7433,6876,"x",null,"Std. Cirrus","OG",""]
["Tomas Jilek",1995,"M","Raná","CZ/C2","PMČRj 2019 - Klub","CZ",2019,9,3685,0.92500000000000004,7045,6517,"x",null,"ASW 15","PI",""]
["Tereza Koubkova",1999,"F","Vysoké Mýto","CZ/C2","PMČRj 2019 - Klub","CZ",2019,10,3573,0.92500000000000004,6798,6288,null,null,"Std. Cirrus","WY","Junior v roce 2021"]
["David Rozporka",1994,"M","Hronov","CZ/C2","PMČRj 2019 - Klub","CZ",2019,11,3316,0.92500000000000004,6360,5883,"x",null,"Std. Cirrus","LY",""]
["Vladimir Hammer",2000,"M","Letkov","CZ/C1","PMČRj 2019 - Klub","CZ",2019,12,3196,0.92500000000000004,6102,5644,null,null,"Std. Cirrus","2U","Junior v roce 2021"]
["Tomas Moravec",2000,"M","Žamberk","CZ/C2","PMČRj 2019 - Klub","CZ",2019,13,3098,0.92500000000000004,5873,5433,"x",null,"Std. Cirrus WL","OK6","Junior v roce 2021"]
["Jan Beran",1999,"M","Kladno","CZ/C1","PMČRj 2019 - Klub","CZ",2019,14,3094,0.92500000000000004,5768,5335,"x",null,"ASW 15B","2P","Junior v roce 2021"]
["Tibor Hezina",2002,"M","Křižanov","CZ/M","PMČRj 2019 - Klub","CZ",2019,15,2912,0.92500000000000004,5429,5022,"x",null,"Std. Cirrus","IJ","Junior v roce 2021"]
["Marek Loukota",2000,"M","Letkov","CZ/C1","PMČRj 2019 - Klub","CZ",2019,16,2879,0.92500000000000004,5285,4889,"x",null,"Std. Cirrus","SB","Junior v roce 2021"]
["Jan Stastny",2003,"M","Medlánky","CZ/M","PMČRj 2019 - Klub","CZ",2019,17,2841,0.92500000000000004,5135,4750,"x",null,"ASW 15B","TW","Junior v roce 2021"]
["Lukas Maly",1998,"M","Vysoké Mýto","CZ/C2","PMČRj 2019 - Klub","CZ",2019,18,2824,0.92500000000000004,5013,4637,null,null,"VSO-10","VM","Junior v roce 2021"]
["Jiri Maier 99",1999,"M","Raná","CZ/C2","PMČRj 2019 - Klub","CZ",2019,19,2807,0.92500000000000004,4891,4524,null,null,"Std. Cirrus","CI","Junior v roce 2021"]
["Marek Pechar",1995,"M","Chrudim","CZ/C2","PMČRj 2019 - Klub","CZ",2019,20,2736,0.92500000000000004,4697,4345,"x",null,"Std. Cirrus WL","JE",""]
["Josef Hlusek",1993,"M","Kunovice","CZ/M","PMČRj 2019 - Klub","CZ",2019,21,2684,0.92500000000000004,4529,4189,"x",null,"Std. Cirrus","WO",""]
["Jakub Malik",1999,"M","Letňany","CZ/C1","PMČRj 2019 - Klub","CZ",2019,22,2581,0.92500000000000004,{"$f":"ROUND(J1967/MAX($J$1946:$J$1976)*10000*0.7+(MAX($I$1946:$I$1976)-I1967)/(MAX($I$1946:$I$1976)-1)*10000*0.3,0)","v":4294},3972,"x",null,"VSO-10","L5","Junior v roce 2021"]
["Tomas Hulmak",1999,"M","Hosín","CZ/C1","PMČRj 2019 - Klub","CZ",2019,23,2576,0.92500000000000004,{"$f":"ROUND(J1968/MAX($J$1946:$J$1976)*10000*0.7+(MAX($I$1946:$I$1976)-I1968)/(MAX($I$1946:$I$1976)-1)*10000*0.3,0)","v":4187},3873,null,null,"ASW 15B","HH","Junior v roce 2021"]
["Michal Coufal",1999,"M","Jičín","CZ/C2","PMČRj 2019 - Klub","CZ",2019,24,2553,0.92500000000000004,{"$f":"ROUND(J1969/MAX($J$1946:$J$1976)*10000*0.7+(MAX($I$1946:$I$1976)-I1969)/(MAX($I$1946:$I$1976)-1)*10000*0.3,0)","v":4057},3753,"x",null,"Std. Cirrus","FS","Junior v roce 2021"]
["Michaela Krizova",2001,"F","Přibyslav","CZ/C2","PMČRj 2019 - Klub","CZ",2019,25,2335,0.92500000000000004,3670,3395,null,null,"ASW 15B","BE","Junior v roce 2021"]
["Lukas Kotek",1994,"M","Frýdlant","CZ/M","PMČRj 2019 - Klub","CZ",2019,26,2268,0.92500000000000004,3482,3221,"x",null,"DG-200 15m","AK",""]
["Jakub Koudelka",2000,"M","Křižanov","CZ/M","PMČRj 2019 - Klub","CZ",2019,27,1984,0.92500000000000004,3009,2783,"x",null,"ASW 15B",17,"Junior v roce 2021"]
["Eliska Bohunovska",2001,"F","Hranice","CZ/M","PMČRj 2019 - Klub","CZ",2019,28,1476,0.92500000000000004,2241,2073,"x","x","Std. Cirrus","HC","Junior v roce 2021"]
["Sabina Vitova",1998,"F","Kroměříž","CZ/M","PMČRj 2019 - Klub","CZ",2019,29,1434,0.92500000000000004,2085,1929,"x","x","Astir CS Jeans","2Y","Junior v roce 2021"]
["Lukas Zemek",1994,"M","Letkov","CZ/C1","PMČRj 2019 - Klub","CZ",2019,30,1007,0.92500000000000004,1424,1317,"x",null,"LS 1-c","VY",""]
["Tomas Ondrusek",1994,"M","Letkov","CZ/C1","PMČRj 2019 - Klub","CZ",2019,31,0,0.92500000000000004,0,0,null,null,"Discus b","SJ",""]
["Karel Novak",{"$f":"VLOOKUP(A1977,Pilot,2,0)","v":1993},{"$f":"VLOOKUP(A1977,Pilot,5,0)","v":"M"},{"$f":"VLOOKUP(A1977,Pilot,3,0)","v":"Mladá Boleslav"},{"$f":"VLOOKUP(A1977,Pilot,4,0)","v":"CZ/C1"},"PMRg 2019 - Klub","CZ",2019,1,7016,0.93500000000000005,{"$f":"ROUND(J1977/MAX($J$1977:$J$2000)*10000*0.7+(MAX($I$1977:$I$2000)-I1977)/(MAX($I$1977:$I$2000)-1)*10000*0.3,0)","v":10000},9350,null,null,"Std. Cirrus","DI",""]
["Michal Lesinger",1966,"M","Moravská Třebová","CZ/M","PMRg 2019 - Klub","CZ",2019,2,6536,0.93500000000000005,{"$f":"ROUND(J1978/MAX($J$1977:$J$2000)*10000*0.7+(MAX($I$1977:$I$2000)-I1978)/(MAX($I$1977:$I$2000)-1)*10000*0.3,0)","v":9391},8781,null,null,"ASW-19B","LL",""]
["Vojtech Novotny",1992,"M","Kralupy","CZ/C1","PMRg 2019 - Klub","CZ",2019,3,6445,0.93500000000000005,9169,8573,"x",null,"LS 1f","EF",""]
["Jiri Stepanek",1956,"M","Moravská Třebová","CZ/M","PMRg 2019 - Klub","CZ",2019,4,6307,0.93500000000000005,8901,8322,"x",null,"ASW-15B","LE",""]
["Jan Zahradka",1981,"M","Hodkovice","CZ/C2","PMRg 2019 - Klub","CZ",2019,5,6168,0.93500000000000005,8632,8071,"x",null,"Std. Cirrus","AR",""]
["Zdenek Boruvka 86",1986,"M","Jičín","CZ/C2","PMRg 2019 - Klub","CZ",2019,6,6082,0.93500000000000005,8416,7869,null,null,"Std. Cirrus","BJ",""]
["Michal Krupicka",1975,"M","Most","CZ/C2","PMRg 2019 - Klub","CZ",2019,7,5981,0.93500000000000005,8185,7653,"x",null,"Std. Cirrus","K",""]
["Jan Vavrin",1987,"M","Vysoké Mýto","CZ/C2","PMRg 2019 - Klub","CZ",2019,8,5958,0.93500000000000005,8031,7509,"x",null,"ASW-15B","IG",""]
["Tereza Koubkova",1999,"F","Vysoké Mýto","CZ/C2","PMRg 2019 - Klub","CZ",2019,9,5495,0.93500000000000005,7439,6955,"x","x","Std. Cirrus","WY","Junior v roce 2021"]
["Vaclav Marel",1974,"M","Jaroměř","CZ/C2","PMRg 2019 - Klub","CZ",2019,10,5399,0.93500000000000005,7213,6744,"x",null,"Std. Cirrus","IF",""]
["Jindrich Hruska",1986,"M","Soběslav","CZ/C1","PMRg 2019 - Klub","CZ",2019,11,5336,0.93500000000000005,7019,6563,"x",null,"303 Mosquito","UFO",""]
["Jan Vozeh",1995,"M","Rakovník","CZ/C1","PMRg 2019 - Klub","CZ",2019,12,5287,0.93500000000000005,6840,6395,"x",null,"Std. Cirrus","OG",""]
["Lukas Plocek",1990,"M","Mladá Boleslav","CZ/C1","PMRg 2019 - Klub","CZ",2019,13,5284,0.93500000000000005,6707,6271,"x",null,"ASW-19B","AH",""]
["Pavlina Horackova",1965,"F","Šumperk","CZ/M","PMRg 2019 - Klub","CZ",2019,14,5256,0.93500000000000005,6548,6122,"x","x","SZD-48 Jantar Std. 2(3)","SU",""]
["Jan Smaha",1958,"M","Česká Lípa","CZ/C2","PMRg 2019 - Klub","CZ",2019,15,4916,{"$f":"VLOOKUP(F1991,Soutez,12,0)","v":0.93500000000000005},6079,5684,null,null,"ASW-15B","CW",{"$f":"IF(ISERROR(VLOOKUP(A1991,Pilot,6,0)),\"Není v databázi\",VLOOKUP(A1991,Pilot,6,0))","v":""}]
["Martin Stepanek",1987,"M","Moravská Třebová","CZ/M","PMRg 2019 - Klub","CZ",2019,16,4840,0.93500000000000005,5872,5490,"x",null,"ASW-15B","ZP",""]
["Lukas Maly",1998,"M","Vysoké Mýto","CZ/C2","PMRg 2019 - Klub","CZ",2019,17,4697,0.93500000000000005,{"$f":"ROUND(J1993/MAX($J$1977:$J$2000)*10000*0.7+(MAX($I$1977:$I$2000)-I1993)/(MAX($I$1977:$I$2000)-1)*10000*0.3,0)","v":5599},5235,"x",null,"ASW-15B","AM","Junior v roce 2021"]
["Ladislav Jozsa",1981,"M","Medlánky","CZ/M","PMRg 2019 - Klub","CZ",2019,18,4541,0.93500000000000005,5313,{"$f":"ROUND(K1994*L1994,0)","v":4968},null,null,"Std. Cirrus","LJ",""]
["Vaclav Zak",1962,"M","GAC Benešov","CZ/C1","PMRg 2019 - Klub","CZ",2019,19,4256,0.93500000000000005,4898,4580,"x",null,"Std. Cirrus","TS",""]
["Karel Knotek",1961,"M","Soběslav","CZ/C1","PMRg 2019 - Klub","CZ",2019,20,4021,0.93500000000000005,4534,4239,"x",null,"ASW-19","SO",""]
["Josef Hlusek",1993,"M","Kunovice","CZ/M","PMRg 2019 - Klub","CZ",2019,21,3831,0.93500000000000005,4214,3940,null,null,"Std. Cirrus G","WO",""]
["Jan Florian",1992,"M","Zbraslavice","CZ/C1","PMRg 2019 - Klub","CZ",2019,22,3824,0.93500000000000005,4076,3811,"x",null,"Std. Cirrus","C1",""]
["Petr Velek",1975,"M","GAC Benešov","CZ/C1","PMRg 2019 - Klub","CZ",2019,23,3398,0.93500000000000005,3521,3292,"x",null,"LS 1c","I",""]
["Kristina Santruckova",1996,"F","Podhořany","CZ/C2","PMRg 2019 - Klub","CZ",2019,24,2941,0.93500000000000005,2934,2743,"x","x","ASW-15B WL","KS","Junior v roce 2021"]
["Jan Louda",1986,"M","Mladá Boleslav","CZ/C1","PMRg 2019 - Kombi","CZ",2019,1,6191,0.93500000000000005,{"$f":"ROUND(J2001/MAX($J$2001:$J$2013)*10000*0.7+(MAX($I$2001:$I$2013)-I2001)/(MAX($I$2001:$I$2013)-1)*10000*0.3,0)","v":10000},9350,"x",null,"Ventus a 15m WL 500kg (voda)","FW",""]
["Karel Mares",1974,"M","Slaný","CZ/C1","PMRg 2019 - Kombi","CZ",2019,2,6041,0.93500000000000005,{"$f":"ROUND(J2002/MAX($J$2001:$J$2013)*10000*0.7+(MAX($I$2001:$I$2013)-I2002)/(MAX($I$2001:$I$2013)-1)*10000*0.3,0)","v":9580},8957,"x",null,"Ventus b 16.6m WL","7F",""]
["Hana Treslova",1991,"F","Raná","CZ/C2","PMRg 2019 - Kombi","CZ",2019,3,5887,0.93500000000000005,9156,8561,"x","x","LS 8 15m (voda)","AU",""]
["Zdenek Boruvka 54",1954,"M","Jičín","CZ/C2","PMRg 2019 - Kombi","CZ",2019,4,5813,0.93500000000000005,8823,8250,"x",null,"LS 8 15m (voda)","ZB",""]
["Dana Novakova",1965,"F","Mladá Boleslav","CZ/C1","PMRg 2019 - Kombi","CZ",2019,5,5693,0.93500000000000005,8437,7889,null,null,"LS 8 15m (voda)","FX",""]
["Miroslav Koci",1961,"M","Žamberk","CZ/C2","PMRg 2019 - Kombi","CZ",2019,6,5213,0.93500000000000005,7644,7147,"x",null,"Ventus 2cxm 18m 565kg (voda)","E8",""]
["Jana Treslova",1963,"F","Raná","CZ/C2","PMRg 2019 - Kombi","CZ",2019,7,5029,0.93500000000000005,7186,6719,null,null,"JS-3, TJ 18m (voda)","ZE",""]
["Jiri Slemr",1979,"M","Vysoké Mýto","CZ/C2","PMRg 2019 - Kombi","CZ",2019,8,4840,0.93500000000000005,6722,6285,"x",null,"Discus b (voda)",65,""]
["Lenka Kuthanova",{"$f":"VLOOKUP(A2009,Pilot,2,0)","v":1960},"F","Tábor","CZ/C1","PMRg 2019 - Kombi","CZ",2019,9,4767,0.93500000000000005,6390,5975,null,null,"JS-1C (TJ) 18m EVO","LX",""]
["Barbora Kubickova",1993,"F","Medlánky","CZ/M","PMRg 2019 - Kombi","CZ",2019,10,4477,0.93500000000000005,5812,5434,"x","x","LAK 17 A 18m WL","BI",""]
["Petr Frycek",1960,"M","Most","CZ/C2","PMRg 2019 - Kombi","CZ",2019,11,3755,0.93500000000000005,{"$f":"ROUND(J2011/MAX($J$2001:$J$2013)*10000*0.7+(MAX($I$2001:$I$2013)-I2011)/(MAX($I$2001:$I$2013)-1)*10000*0.3,0)","v":4746},4438,"x",null,"Nimbus 3 (25,5m, 700kg) (voda)","F",""]
["Slavomir Piskaty 58",1958,"M","Kunovice","CZ/M","PMRg 2019 - Kombi","CZ",2019,12,3547,0.93500000000000005,4260,3983,"x",null,"Discus b (voda) WL","KAL",""]
["Ladislav Prokes",1954,"M","Vrchlabí","CZ/C2","PMRg 2019 - Kombi","CZ",2019,13,3314,0.93500000000000005,3747,3503,null,null,"Discus b (voda)","VR",""]
["Josef Kozar",null,null,"Aeroklub Martin",null,"PMSR 2019 - Klub","SK",2019,1,5690,0.92,{"$f":"ROUND(J2014/MAX($J$2014:$J$2037)*10000*0.7+(MAX($I$2014:$I$2037)-I2014)/(MAX($I$2014:$I$2037)-1)*10000*0.3,0)","v":10000},9200,null,null,"LS 1 f","MF","Není v databázi"]
["Milan ml. Surovcik",null,null,"AK Žilina",null,"PMSR 2019 - Klub","SK",2019,2,5114,0.92,{"$f":"ROUND(J2015/MAX($J$2014:$J$2037)*10000*0.7+(MAX($I$2014:$I$2037)-I2015)/(MAX($I$2014:$I$2037)-1)*10000*0.3,0)","v":9161},8428,null,null,"C-101A Pegase","EL","Není v databázi"]
["Martin Snirc",null,null,"AK Nitra",null,"PMSR 2019 - Klub","SK",2019,3,5015,0.92,8909,8196,null,null,"DG 400 17m",400,"Není v databázi"]
["Jan Kovalcik",null,null,"AK Bratislava",null,"PMSR 2019 - Klub","SK",2019,4,4974,0.92,8728,8030,null,null,"C-101A Pegase","OI","Není v databázi"]
["Filip Pechac",null,null,"AK Nitra",null,"PMSR 2019 - Klub","SK",2019,5,4921,0.92,8532,7849,null,null,"ASW 20A","EW","Není v databázi"]
["Radoslav Cagala",null,null,"AK Nitra",null,"PMSR 2019 - Klub","SK",2019,6,4879,0.92,8350,7682,null,null,"DG 400 17m","RD","Není v databázi"]
["Karol Benedikovic",null,null,"Air Sympatia",null,"PMSR 2019 - Klub","SK",2019,7,4736,0.92,8044,7400,null,null,"Std. Cirrus","AM","Není v databázi"]
["Simon Siska",null,null,"SGC Martin",null,"PMSR 2019 - Klub","SK",2019,8,4681,0.92,7846,7218,null,null,"ASW 19B","A1","Není v databázi"]
["Frantisek Sobek",null,null,"AK Sabinov",null,"PMSR 2019 - Klub","SK",2019,9,4584,0.92,7596,6988,null,null,"DG 100","G1","Není v databázi"]
["Martin Jurovic",null,null,"AK Bratislava",null,"PMSR 2019 - Klub","SK",2019,10,4492,0.92,7352,6764,null,null,"C-101A Pegase","J2","Není v databázi"]
["Samuel Posluch",null,null,"SGC Martin",null,"PMSR 2019 - Klub","SK",2019,11,4433,0.92,7149,6577,null,null,"Std. Cirrus WL","LX","Není v databázi"]
["Tibor Noga",null,null,"SGC Martin",null,"PMSR 2019 - Klub","SK",2019,12,4171,0.92,6697,6161,null,null,"ASW 19B","A4","Není v databázi"]
["Daniel Smolka",null,null,"AK Prievidza",null,"PMSR 2019 - Klub","SK",2019,13,4020,0.92,6380,5870,null,null,"ASW 20A","MP","Není v databázi"]
["Edmund Schuller",null,null,"Ak Lucenec",null,"PMSR 2019 - Klub","SK",2019,14,4003,0.92,6229,5731,null,null,"ASW 24WL","ZS","Není v databázi"]
["Marek Straka",null,null,"AK Trencin",null,"PMSR 2019 - Klub","SK",2019,15,3932,0.92,6011,5530,null,null,"LS 3","AI","Není v databázi"]
["Martin Picka",{"$f":"VLOOKUP(A2029,Pilot,2,0)","v":1974},{"$f":"VLOOKUP(A2029,Pilot,5,0)","v":"M"},{"$f":"VLOOKUP(A2029,Pilot,3,0)","v":"Tábor"},{"$f":"VLOOKUP(A2029,Pilot,4,0)","v":"CZ/C1"},"PMSR 2019 - Klub","SK",2019,16,3489,0.92,5336,4909,"x",null,"ASW 19B","BU",""]
["Adam Kacvinsky",null,null,"AK Bratislava",null,"PMSR 2019 - Klub","SK",2019,17,3423,0.92,5124,4714,null,null,"ASW 19","BA4","Není v databázi"]
["Jan Hlinka",null,null,"AK Martin",null,"PMSR 2019 - Klub","SK",2019,18,3300,0.92,4842,4455,null,null,"Std. Cirrus","DZ","Není v databázi"]
["Jan Vavrin",{"$f":"VLOOKUP(A2032,Pilot,2,0)","v":1987},{"$f":"VLOOKUP(A2032,Pilot,5,0)","v":"M"},{"$f":"VLOOKUP(A2032,Pilot,3,0)","v":"Vysoké Mýto"},{"$f":"VLOOKUP(A2032,Pilot,4,0)","v":"CZ/C2"},"PMSR 2019 - Klub","SK",2019,19,3298,0.92,{"$f":"ROUND(J2032/MAX($J$2014:$J$2037)*10000*0.7+(MAX($I$2014:$I$2037)-I2032)/(MAX($I$2014:$I$2037)-1)*10000*0.3,0)","v":4709},4332,null,null,"ASW 15B","IG",""]
["Viktor Hnata",null,null,"Aeroklub Holíč",null,"PMSR 2019 - Klub","SK",2019,20,3294,0.92,4574,4208,null,null,"Std. Cirrus","V1","Není v databázi"]
["Matej Petrik",null,null,"Aeroklub Sabinov",null,"PMSR 2019 - Klub","SK",2019,21,2558,0.92,3538,3255,null,null,"Std. Cirrus","XII","Není v databázi"]
["Peter Abonyi",null,null,"Ružomberok",null,"PMSR 2019 - Klub","SK",2019,22,2136,0.92,2889,2658,null,null,"ASW-15","MB","Není v databázi"]
["Peter Sedmak",null,null,"Aeroklub Martin",null,"PMSR 2019 - Klub","SK",2019,23,1654,0.92,2165,1992,null,null,"LS 4","BM","Není v databázi"]
["Alberto Rizzi",null,null,"AK Holic",null,"PMSR 2019 - Klub","SK",2019,24,1173,0.92,1443,1328,null,null,"DG 202 17m","SJ","Není v databázi"]
["Jan Pavlik",{"$f":"VLOOKUP(A2038,Pilot,2,0)","v":1987},{"$f":"VLOOKUP(A2038,Pilot,5,0)","v":"M"},{"$f":"VLOOKUP(A2038,Pilot,3,0)","v":"Křižanov"},{"$f":"VLOOKUP(A2038,Pilot,4,0)","v":"CZ/M"},"PMSR 2019 - Kombi 15m","SK",2019,1,5824,0.93,{"$f":"ROUND(J2038/MAX($J$2038:$J$2047)*10000*0.7+(MAX($I$2037:$I$2047)-I2038)/(MAX($I$2037:$I$2047)-1)*10000*0.3,0)","v":10000},9300,"x",null,"LS 8a","JW",""]
["Maros Divok",null,null,"Spišská Nová Ves",null,"PMSR 2019 - Kombi 15m","SK",2019,2,5182,0.93,{"$f":"ROUND(J2039/MAX($J$2038:$J$2047)*10000*0.7+(MAX($I$2037:$I$2047)-I2039)/(MAX($I$2037:$I$2047)-1)*10000*0.3,0)","v":9098},8461,null,null,"Discus 2","DI","Není v databázi"]
["Jiri Kusbach",{"$f":"VLOOKUP(A2040,Pilot,2,0)","v":1959},{"$f":"VLOOKUP(A2040,Pilot,5,0)","v":"M"},{"$f":"VLOOKUP(A2040,Pilot,3,0)","v":"Luhačovice"},{"$f":"VLOOKUP(A2040,Pilot,4,0)","v":"CZ/M"},"PMSR 2019 - Kombi 15m","SK",2019,3,4613,0.93,8284,7704,null,null,"KKB-15 FES","B",""]
["Dominik Jancik",null,null,"AK Nitra",null,"PMSR 2019 - Kombi 15m","SK",2019,4,4574,0.93,8106,7539,null,null,"LS 8s","SI","Není v databázi"]
["Tibor Arpas",null,null,"AK Nitra",null,"PMSR 2019 - Kombi 15m","SK",2019,5,4569,0.93,7970,7412,null,null,"LS 8T/15m","HM","Není v databázi"]
["Radek Krejcirik",{"$f":"VLOOKUP(A2043,Pilot,2,0)","v":1991},{"$f":"VLOOKUP(A2043,Pilot,5,0)","v":"M"},{"$f":"VLOOKUP(A2043,Pilot,3,0)","v":"Hranice"},{"$f":"VLOOKUP(A2043,Pilot,4,0)","v":"CZ/M"},"PMSR 2019 - Kombi 15m","SK",2019,6,4450,0.93,7696,7157,null,null,"JS 3 15m","ZE",""]
["Hana Treslova",{"$f":"VLOOKUP(A2044,Pilot,2,0)","v":1991},{"$f":"VLOOKUP(A2044,Pilot,5,0)","v":"F"},{"$f":"VLOOKUP(A2044,Pilot,3,0)","v":"Raná"},{"$f":"VLOOKUP(A2044,Pilot,4,0)","v":"CZ/C2"},"PMSR 2019 - Kombi 15m","SK",2019,7,4220,0.93,7290,6780,null,null,"LS 8a","W8",""]
["Jana Treslova",{"$f":"VLOOKUP(A2045,Pilot,2,0)","v":1963},{"$f":"VLOOKUP(A2045,Pilot,5,0)","v":"F"},{"$f":"VLOOKUP(A2045,Pilot,3,0)","v":"Raná"},{"$f":"VLOOKUP(A2045,Pilot,4,0)","v":"CZ/C2"},"PMSR 2019 - Kombi 15m","SK",2019,8,3684,0.93,{"$f":"ROUND(J2045/MAX($J$2038:$J$2047)*10000*0.7+(MAX($I$2037:$I$2047)-I2045)/(MAX($I$2037:$I$2047)-1)*10000*0.3,0)","v":6515},6059,null,null,"ASG 29E 15m","QZ",""]
["Miroslav Beliansky",null,null,"AK Partizánske",null,"PMSR 2019 - Kombi 15m","SK",2019,9,3393,0.93,6035,5613,null,null,"LS 8T/15m","TC","Není v databázi"]
["Tibor Fratrik",null,null,"SGC Martin",null,"PMSR 2019 - Kombi 15m","SK",2019,10,2530,0.93,4867,4526,null,null,"Ls 6a","GI","Není v databázi"]
["Viliam Kubovcik",null,null,"AK Poprad",null,"PMSR 2019 - Kombi Open","SK",2019,1,4953,0.92,{"$f":"ROUND(J2048/MAX($J$2048:$J$2061)*10000*0.7+(MAX($I$2048:$I$2061)-I2048)/(MAX($I$2048:$I$2061)-1)*10000*0.3,0)","v":10000},9200,null,null,"Ventus 2cxT 18m","VV","Není v databázi"]
["Petr Krejcirik",{"$f":"VLOOKUP(A2049,Pilot,2,0)","v":1960},{"$f":"VLOOKUP(A2049,Pilot,5,0)","v":"M"},{"$f":"VLOOKUP(A2049,Pilot,3,0)","v":"Hranice"},{"$f":"VLOOKUP(A2049,Pilot,4,0)","v":"CZ/M"},"PMSR 2019 - Kombi Open","SK",2019,2,4841,0.92,{"$f":"ROUND(J2049/MAX($J$2048:$J$2061)*10000*0.7+(MAX($I$2048:$I$2061)-I2049)/(MAX($I$2048:$I$2061)-1)*10000*0.3,0)","v":9611},8842,"x",null,"JS-MD Single","ZF",""]
["Petr Hotovy",{"$f":"VLOOKUP(A2050,Pilot,2,0)","v":1958},{"$f":"VLOOKUP(A2050,Pilot,5,0)","v":"M"},{"$f":"VLOOKUP(A2050,Pilot,3,0)","v":"Česká Lípa"},{"$f":"VLOOKUP(A2050,Pilot,4,0)","v":"CZ/C2"},"PMSR 2019 - Kombi Open","SK",2019,3,4748,0.92,9249,8509,"x",null,"JS 1 B TJ","IGC",""]
["Branislav Jesensky",null,null,"SGC Martin",null,"PMSR 2019 - Kombi Open","SK",2019,4,4677,0.92,8918,8205,null,null,"Ventus 2cxT 18m","J","Není v databázi"]
["Jan Divok",null,null,"Spišská Nová Ves",null,"PMSR 2019 - Kombi Open","SK",2019,5,4346,0.92,8219,7561,null,null,"Discus 2CT/18m","DJ","Není v databázi"]
["Lukas Benedikt",null,null,"AK Trnava",null,"PMSR 2019 - Kombi Open","SK",2019,6,4310,0.92,7937,7302,null,null,"Ventus 3 Fes 18m","LB","Není v databázi"]
["Pavol Cerny",null,null,"SGC Martin",null,"PMSR 2019 - Kombi Open","SK",2019,7,4142,0.92,7469,6871,null,null,"HPH 304 Shark","EP","Není v databázi"]
["Martin Fürjes",null,null,"SGC Martin",null,"PMSR 2019 - Kombi Open","SK",2019,8,3907,{"$f":"VLOOKUP(F2055,Soutez,12,0)","v":0.92},6906,6354,null,null,"JS 1C Revelation 21m","MD",{"$f":"IF(ISERROR(VLOOKUP(A2055,Pilot,6,0)),\"Není v databázi\",VLOOKUP(A2055,Pilot,6,0))","v":"Není v databázi"}]
["Niko & Darnady",null,null,"AK Prievidza",null,"PMSR 2019 - Kombi Open","SK",2019,9,3771,0.92,6483,5964,null,null,"Duo Discus",777,"Není v databázi"]
["Jozef Pesko",null,null,null,null,"PMSR 2019 - Kombi Open","SK",2019,10,3353,0.92,5662,5209,null,null,"DG-1000T","NIT","Není v databázi"]
["Jakubcak & Sulirova",null,null,"SGC Martin",null,"PMSR 2019 - Kombi Open","SK",2019,11,3254,0.92,5291,{"$f":"ROUND(K2058*L2058,0)","v":4868},null,null,"Arcus M","CAR","Není v databázi"]
["Milan Lojdl",null,null,"AK Martin",null,"PMSR 2019 - Kombi Open","SK",2019,12,3134,0.92,4891,4500,null,null,"Ventus 2cxT 18m","MJ1","Není v databázi"]
["Peter Pokorny",null,null,"AK Bratislava",null,"PMSR 2019 - Kombi Open","SK",2019,13,3064,0.92,4561,4196,null,null,"ASG 29E","9E","Není v databázi"]
["Ondrej Dupal",{"$f":"VLOOKUP(A2061,Pilot,2,0)","v":1966},{"$f":"VLOOKUP(A2061,Pilot,5,0)","v":"M"},{"$f":"VLOOKUP(A2061,Pilot,3,0)","v":"GAC Benešov"},{"$f":"VLOOKUP(A2061,Pilot,4,0)","v":"CZ/C1"},"PMSR 2019 - Kombi Open","SK",2019,14,2553,0.92,{"$f":"ROUND(J2061/MAX($J$2048:$J$2061)*10000*0.7+(MAX($I$2048:$I$2061)-I2061)/(MAX($I$2048:$I$2061)-1)*10000*0.3,0)","v":3608},3319,null,null,"ASG 29E","GO",""]
["Ilja Kopacek",1943,"M","Jičín","CZ/C2","Pohár Českého Ráje 2019 - Kombi","CZ",2019,1,1711,0.73,{"$f":"ROUND(J2062/MAX($J$2062:$J$2073)*10000*0.7+(MAX($I$2062:$I$2073)-I2062)/(MAX($I$2062:$I$2073)-1)*10000*0.3,0)","v":10000},7300,"x",null,"Std. Cirrus","XL",""]
["Ales Holoubek",1966,"M","Jičín","CZ/C2","Pohár Českého Ráje 2019 - Kombi","CZ",2019,2,1569,0.73,{"$f":"ROUND(J2063/MAX($J$2062:$J$2073)*10000*0.7+(MAX($I$2062:$I$2073)-I2063)/(MAX($I$2062:$I$2073)-1)*10000*0.3,0)","v":9146},6677,"x",null,"ASW 15b NG","T",""]
["Radek Tobolka",1977,"M","Jičín","CZ/C2","Pohár Českého Ráje 2019 - Kombi","CZ",2019,3,1493,0.73,8563,6251,"x",null,"St.Cirrus","SC",""]
["Milos Pajr",1966,"M","Jičín","CZ/C2","Pohár Českého Ráje 2019 - Kombi","CZ",2019,4,1400,0.73,7909,5774,"x",null,"HPH_304MS","QS",""]
["Miroslav Trybucek",1965,"M","Jičín","CZ/C2","Pohár Českého Ráje 2019 - Kombi","CZ",2019,5,1394,0.73,7612,5557,"x",null,"Ventus 2cM/18m","OZ",""]
["Petr Rygl",1966,"M","Jičín","CZ/C2","Pohár Českého Ráje 2019 - Kombi","CZ",2019,6,1356,0.73,7184,5244,"x",null,"ASW 15","A18",""]
["Petr Kyzivat",1970,"M","Jičín","CZ/C2","Pohár Českého Ráje 2019 - Kombi","CZ",2019,7,1314,0.73,6739,4919,"x",null,"Std. Cirrus","FS",""]
["Petr Tax",1968,"M","Jičín","CZ/C2","Pohár Českého Ráje 2019 - Kombi","CZ",2019,8,1294,0.73,6385,4661,"x",null,"TEREJ","VIP",""]
["Vokrinek & Vokrinkova",null,null,"Hodkovice",null,"Pohár Českého Ráje 2019 - Kombi","CZ",2019,9,1178,0.73,{"$f":"ROUND(J2070/MAX($J$2062:$J$2073)*10000*0.7+(MAX($I$2062:$I$2073)-I2070)/(MAX($I$2062:$I$2073)-1)*10000*0.3,0)","v":5638},4116,null,null,"TWIN ASTIR","BL","Není v databázi"]
["Coufal & Jezek",null,null,"Jičín",null,"Pohár Českého Ráje 2019 - Kombi","CZ",2019,10,814,0.73,3876,2829,null,null,"Janus 18.2m","JC","Není v databázi"]
["Jiri Pixa",{"$f":"VLOOKUP(A2072,Pilot,2,0)","v":1968},{"$f":"VLOOKUP(A2072,Pilot,5,0)","v":"M"},{"$f":"VLOOKUP(A2072,Pilot,3,0)","v":"Slaný"},{"$f":"VLOOKUP(A2072,Pilot,4,0)","v":"CZ/C1"},"Pohár Českého Ráje 2019 - Kombi","CZ",2019,11,740,0.73,3300,2409,"x",null,"VSO-10","G9",""]
["Fuksa & další",null,null,"Jičín",null,"Pohár Českého Ráje 2019 - Kombi","CZ",2019,12,601,0.73,2459,1795,null,null,"Duo Discus XL",88,"Není v databázi"]
["Jiri Holcman",{"$f":"VLOOKUP(A2074,Pilot,2,0)","v":1976},{"$f":"VLOOKUP(A2074,Pilot,5,0)","v":"M"},{"$f":"VLOOKUP(A2074,Pilot,3,0)","v":"Hosín"},{"$f":"VLOOKUP(A2074,Pilot,4,0)","v":"CZ/C1"},"PPV 2019 - Klub","CZ",2019,1,1986,0.9,{"$f":"ROUND(J2074/MAX($J$2074:$J$2120)*10000*0.7+(MAX($I$2074:$I$2120)-I2074)/(MAX($I$2074:$I$2120)-1)*10000*0.3,0)","v":10000},9000,"x",null,"ASW 19","BO",""]
["Josef Novotny",1983,"M","Přibyslav","CZ/C2","PPV 2019 - Klub","CZ",2019,2,1983,0.9,{"$f":"ROUND(J2075/MAX($J$2074:$J$2120)*10000*0.7+(MAX($I$2074:$I$2120)-I2075)/(MAX($I$2074:$I$2120)-1)*10000*0.3,0)","v":9924},8932,"x",null,"Cirrus Std.","AW",""]
["Jaromir Pauer",1974,"M","Hosín","CZ/C1","PPV 2019 - Klub","CZ",2019,3,1914,0.9,9616,8654,"x",null,"DG101G",78,""]
["Michal Kodousek",1983,"M","Jaroměř","CZ/C2","PPV 2019 - Klub","CZ",2019,4,1854,0.9,9339,8405,"x",null,"LS 3","RI",""]
["Radoslav Pur",1973,"M","Hosín","CZ/C1","PPV 2019 - Klub","CZ",2019,5,1847,0.9,9249,8324,"x",null,"DG200","EK",""]
["Karel Horalek",1976,"M","Olomouc","CZ/M","PPV 2019 - Klub","CZ",2019,6,1842,0.9,9166,8249,"x",null,"LS 3 15m","Y1",""]
["Martin Svarc",1981,"M","Olomouc","CZ/M","PPV 2019 - Klub","CZ",2019,7,1796,0.9,8939,8045,"x",null,"DG101G","HE",""]
["Vaclav Marel",1974,"M","Jaroměř","CZ/C2","PPV 2019 - Klub","CZ",2019,8,1788,0.9,8846,7961,"x",null,"Cirrus Std.","IF",""]
["Petr Hofman",1984,"M","Letňany","CZ/C1","PPV 2019 - Klub","CZ",2019,9,1771,0.9,8720,7848,"x",null,"ASW 15B","MA",""]
["Jindrich Svorc",1978,"M","Letňany","CZ/C1","PPV 2019 - Klub","CZ",2019,10,1766,0.9,8638,7774,"x",null,"Cirrus Std.","IMI",""]
["Milan Svoboda 80",1980,"M","Havlíčkův Brod","CZ/C2","PPV 2019 - Klub","CZ",2019,10,1766,0.9,8638,7774,"x",null,"VT-116 Orlik 2",46,""]
["Juraj Dudas",1990,"M","Křižanov","CZ/M","PPV 2019 - Klub","CZ",2019,12,1755,0.9,8468,7621,"x",null,"Cirrus Std.","XII",""]
["Miloslav Hulmak",1963,"M","Hosín","CZ/C1","PPV 2019 - Klub","CZ",2019,13,1740,0.9,8350,7515,"x",null,"ASW 15B","I",""]
["Jaroslav Cempirek 77",1977,"M","Jihlava","CZ/M","PPV 2019 - Klub","CZ",2019,14,1736,0.9,8271,7444,"x",null,"VSO-10","G1",""]
["Josef Kolman",1983,"M","Letňany","CZ/C1","PPV 2019 - Klub","CZ",2019,15,1714,0.9,8128,7315,"x",null,"ASW-15B","BA4",""]
["Radek Zima 75",1975,"M","Břeclav","CZ/M","PPV 2019 - Klub","CZ",2019,16,1710,0.9,8049,7244,"x",null,"DG 100","M",""]
["Matous Schmidt",1981,"M","Letňany","CZ/C1","PPV 2019 - Klub","CZ",2019,17,1685,0.9,7896,7106,"x",null,"Discus b","LH",""]
["Pavel Liska",1965,"M","Roudnice","CZ/C2","PPV 2019 - Klub","CZ",2019,18,1666,0.9,7763,6987,"x",null,"VSO-10",6,""]
["Jan Oscatka",1990,"M","Jaroměř","CZ/C2","PPV 2019 - Klub","CZ",2019,19,1637,0.9,7596,6836,"x",null,"Cirrus Std.","GO",""]
["David Vrchota",1976,"M","Jaroměř","CZ/C2","PPV 2019 - Klub","CZ",2019,20,1634,0.9,7520,6768,"x",null,"Janus b","BV",""]
["Jan Beranek",1976,"M","Jihlava","CZ/M","PPV 2019 - Klub","CZ",2019,21,1625,0.9,7423,6681,"x",null,"ASW 19B","U2",""]
["Martin Urner",1974,"M","Letňany","CZ/C1","PPV 2019 - Klub","CZ",2019,22,1557,0.9,7118,6406,null,null,"ASW 15B","JJ",""]
["Petr Rozhon",1972,"M","Hosín","CZ/C1","PPV 2019 - Klub","CZ",2019,23,1552,0.9,7036,6332,"x",null,"VSO-10",9,""]
["Jiri Koudela",1974,"M","Vyškov","CZ/M","PPV 2019 - Klub","CZ",2019,24,1494,0.9,6766,6089,"x",null,"ASW 19B","JK",""]
["Tomas Hulmak",1999,"M","Hosín","CZ/C1","PPV 2019 - Klub","CZ",2019,25,1466,0.9,6602,5942,"x",null,"ASW 15B","HH","Junior v roce 2021"]
["Tomas Ptacovsky",1981,"M","Letňany","CZ/C1","PPV 2019 - Klub","CZ",2019,26,1458,0.9,6509,5858,"x",null,"ASW 19B","WTF",""]
["Ivan Kuzelka",1945,"M","Havlíčkův Brod","CZ/C2","PPV 2019 - Klub","CZ",2019,27,1379,0.9,6165,5549,"x",null,"VT-116 Orlik 2",null,""]
["Ondrej Blaha",1976,"M","Letňany","CZ/C1","PPV 2019 - Klub","CZ",2019,28,1266,0.9,5701,5131,"x",null,"VT-116 Orlik 2",44,""]
["Roman Lengal",1987,"M","Břeclav","CZ/M","PPV 2019 - Klub","CZ",2019,29,1237,0.9,5534,4981,"x",null,"Cirrus - VTC",13,""]
["Vilem Riha",1990,"M","Letňany","CZ/C1","PPV 2019 - Klub","CZ",2019,30,1227,0.9,5433,4890,"x",null,"Cirrus Std.","YU",""]
["Libor Danhel",1966,"M","Kunovice","CZ/M","PPV 2019 - Klub","CZ",2019,31,1207,0.9,5298,4768,"x",null,"Cirrus Std.","OK",""]
["Ondrej Hart",1990,"M","Letňany","CZ/C1","PPV 2019 - Klub","CZ",2019,32,1191,0.9,5176,4658,"x",null,"VSO-10","M4",""]
["Libor Bednarik",{"$f":"VLOOKUP(A2106,Pilot,2,0)","v":1972},{"$f":"VLOOKUP(A2106,Pilot,5,0)","v":"M"},{"$f":"VLOOKUP(A2106,Pilot,3,0)","v":"Kunovice"},{"$f":"VLOOKUP(A2106,Pilot,4,0)","v":"CZ/M"},"PPV 2019 - Klub","CZ",2019,33,1175,0.9,5055,4550,"x",null,"Cirrus Std.","PIF",""]
["Vaclav Petru",1974,"M","Letňany","CZ/C1","PPV 2019 - Klub","CZ",2019,34,1159,0.9,4933,4440,"x",null,"TST-3TM","AI",""]
["Yvona Vyhnankova",1963,"F","Olomouc","CZ/M","PPV 2019 - Klub","CZ",2019,35,1129,0.9,4762,4286,"x","x","ASW 15","YZ",""]
["Petr Valenta 76",1976,"M","Jaroměř","CZ/C2","PPV 2019 - Klub","CZ",2019,36,1124,0.9,4679,4211,"x",null,"Discus b","JA",""]
["Jiri Dockal",1982,"M","Letňany","CZ/C1","PPV 2019 - Klub","CZ",2019,37,1097,0.9,4519,4067,"x",null,"VSO-10","L9",""]
["Lubomir Papezik",1951,"M","Luhačovice","CZ/M","PPV 2019 - Klub","CZ",2019,38,924,0.9,3844,3460,"x",null,"LS 4","FP",""]
["Jan Zezula",1979,"M","Letňany","CZ/C1","PPV 2019 - Klub","CZ",2019,39,800,0.9,{"$f":"ROUND(J2112/MAX($J$2074:$J$2120)*10000*0.7+(MAX($I$2074:$I$2120)-I2112)/(MAX($I$2074:$I$2120)-1)*10000*0.3,0)","v":3341},3007,null,null,"ASW 19B","HD",""]
["Vaclav Ochotny",1966,"M","Kunovice","CZ/M","PPV 2019 - Klub","CZ",2019,40,608,0.9,2600,2340,"x",null,"DG 400 15m","VZ",""]
["Jiri Kohoutek",1983,"M","Olomouc","CZ/M","PPV 2019 - Klub","CZ",2019,41,571,0.9,2404,2164,"x",null,"DG101G","IL",""]
["Milos Hrabe",1979,"M","Letňany","CZ/C1","PPV 2019 - Klub","CZ",2019,42,542,0.9,2236,2012,"x",null,"VSO-10","L2",""]
["Lukas Zach",1987,"M","Vyškov","CZ/M","PPV 2019 - Klub","CZ",2019,43,417,0.9,1731,1558,"x",null,"Grob Astir","AS",""]
["Stanislav John",1974,"M","Hosín","CZ/C1","PPV 2019 - Klub","CZ",2019,44,398,0.9,1598,1438,"x",null,"DG101G","H5",""]
["Michaela Sirmerova",2000,"F","Jihlava","CZ/M","PPV 2019 - Klub","CZ",2019,45,360,0.9,1399,1259,"x","x","ASW 15B","A5","Junior v roce 2021"]
["Antonin Pilat",1971,"M","Vyškov","CZ/M","PPV 2019 - Klub","CZ",2019,46,306,{"$f":"VLOOKUP(F2119,Soutez,12,0)","v":0.9},1144,1030,"x",null,"DG 200 - 15","JB",{"$f":"IF(ISERROR(VLOOKUP(A2119,Pilot,6,0)),\"Není v databázi\",VLOOKUP(A2119,Pilot,6,0))","v":""}]
["Jiri Janda",1966,"M","Letňany","CZ/C1","PPV 2019 - Klub","CZ",2019,47,122,0.9,430,387,"x",null,"Cirrus Std.","ZT",""]
["Jan Boruvka",1984,"M","Jičín","CZ/C2","PPV 2019 - Kombi","CZ",2019,1,2263,0.90500000000000003,{"$f":"ROUND(J2121/MAX($J$2121:$J$2139)*10000*0.7+(MAX($I$2121:$I$2139)-I2121)/(MAX($I$2121:$I$2139)-1)*10000*0.3,0)","v":10000},9050,"x",null,"Ventus C 17,6m","EG",""]
["Pavel Zima",1979,"M","Břeclav","CZ/M","PPV 2019 - Kombi","CZ",2019,2,2152,0.90500000000000003,{"$f":"ROUND(J2122/MAX($J$2121:$J$2139)*10000*0.7+(MAX($I$2121:$I$2139)-I2122)/(MAX($I$2121:$I$2139)-1)*10000*0.3,0)","v":9490},{"$f":"ROUND(K2122*L2122,0)","v":8588},"x",null,"Ventus CM 17.6m","RK",""]
["Radek Kucirek",1973,"M","Havlíčkův Brod","CZ/C2","PPV 2019 - Kombi","CZ",2019,3,2150,0.90500000000000003,9317,8432,null,null,"EB 28","NA",""]
["Petr Hotovy",1958,"M","Česká Lípa","CZ/C2","PPV 2019 - Kombi","CZ",2019,4,2070,0.90500000000000003,8903,8057,null,null,"JS1B TJ","IGC",""]
["Lukas Benedikt",null,"M","AK Trnava","SK","PPV 2019 - Kombi","CZ",2019,5,2055,0.90500000000000003,8690,7864,null,null,"Ventus 3F 17,6m","LB","Není v databázi"]
["Jan Kantor",{"$f":"VLOOKUP(A2126,Pilot,2,0)","v":1983},{"$f":"VLOOKUP(A2126,Pilot,5,0)","v":"M"},{"$f":"VLOOKUP(A2126,Pilot,3,0)","v":"Letňany"},{"$f":"VLOOKUP(A2126,Pilot,4,0)","v":"CZ/C1"},"PPV 2019 - Kombi","CZ",2019,6,2012,0.90500000000000003,8390,7593,"x",null,"Ventus C 17,6m","UČ",""]
["Josef Busek",1967,"M","Hosín","CZ/C1","PPV 2019 - Kombi","CZ",2019,7,1765,0.90500000000000003,7460,6751,"x",null,"DuoDiscus X","BB",""]
["Jan Dersak 69",1969,"M","Kralupy","CZ/C1","PPV 2019 - Kombi","CZ",2019,8,1740,0.90500000000000003,7216,6530,null,null,"HPH 304 SJ","DJ",""]
["Michael Fik",1972,"M","Strakonice","CZ/C1","PPV 2019 - Kombi","CZ",2019,9,1725,0.90500000000000003,7003,6338,"x",null,"Ventus C 17,6m","GE",""]
["Jan Kohout",1970,"M","Žamberk","CZ/C2","PPV 2019 - Kombi","CZ",2019,10,1688,0.90500000000000003,6721,6083,"x",null,"LS 8","SK",""]
["Antonin Konicek",1973,"M","Kunovice","CZ/M","PPV 2019 - Kombi","CZ",2019,11,1606,0.90500000000000003,6301,5702,"x",null,"HPH 304 MS","KK",""]
["Petr Babak",1973,"M","Hořice","CZ/C2","PPV 2019 - Kombi","CZ",2019,12,1527,0.90500000000000003,5890,5330,"x",null,"Ventus C 17,6m","LS",""]
["David Zapletal",1970,"M","Mladá Boleslav","CZ/C1","PPV 2019 - Kombi","CZ",2019,13,1517,0.90500000000000003,5692,5151,"x",null,"Ventus C 17,6m","PUP",""]
["Jan Simon",1970,"M","Kralupy","CZ/C1","PPV 2019 - Kombi","CZ",2019,14,1509,0.90500000000000003,5501,4978,null,null,"Ventus CT 17.6m","KR",""]
["Petr Malcek",1965,"M","Letňany","CZ/C1","PPV 2019 - Kombi","CZ",2019,15,1207,0.90500000000000003,4400,3982,"x",null,"DuoDiscus XT","DD",""]
["Milos Mach",null,"M","Nove Zamky","SK","PPV 2019 - Kombi","CZ",2019,16,1204,0.90500000000000003,{"$f":"ROUND(J2136/MAX($J$2121:$J$2139)*10000*0.7+(MAX($I$2121:$I$2139)-I2136)/(MAX($I$2121:$I$2139)-1)*10000*0.3,0)","v":4224},3823,null,null,"Discus 2","JH","Není v databázi"]
["Michal Hemrle",{"$f":"VLOOKUP(A2137,Pilot,2,0)","v":1974},{"$f":"VLOOKUP(A2137,Pilot,5,0)","v":"M"},{"$f":"VLOOKUP(A2137,Pilot,3,0)","v":"Česká Lípa"},{"$f":"VLOOKUP(A2137,Pilot,4,0)","v":"CZ/C2"},"PPV 2019 - Kombi","CZ",2019,17,1128,0.90500000000000003,3823,3460,null,null,"Ventus C 17,6m","XE",""]
["Zdenek Boruvka 54",{"$f":"VLOOKUP(A2138,Pilot,2,0)","v":1954},{"$f":"VLOOKUP(A2138,Pilot,5,0)","v":"M"},{"$f":"VLOOKUP(A2138,Pilot,3,0)","v":"Jičín"},{"$f":"VLOOKUP(A2138,Pilot,4,0)","v":"CZ/C2"},"PPV 2019 - Kombi","CZ",2019,18,1074,0.90500000000000003,3489,3158,null,null,"LS 8","ZB",""]
["Pavel Haluza",{"$f":"VLOOKUP(A2139,Pilot,2,0)","v":1966},{"$f":"VLOOKUP(A2139,Pilot,5,0)","v":"M"},{"$f":"VLOOKUP(A2139,Pilot,3,0)","v":"Prostějov"},{"$f":"VLOOKUP(A2139,Pilot,4,0)","v":"CZ/M"},"PPV 2019 - Kombi","CZ",2019,19,669,0.90500000000000003,2069,1872,null,null,"Nimbus 2","HT",""]
["Briel & Levin",null,null,"LSV Homberg/Ohm",null,"Pribina Cup 2019 - Duo 20m","SK",2019,1,2977,0.92,{"$f":"ROUND(J2140/MAX($J$2140:$J$2152)*10000*0.7+(MAX($I$2140:$I$2152)-I2140)/(MAX($I$2140:$I$2152)-1)*10000*0.3,0)","v":10000},9200,null,null,"Duo Discus X","H1","Není v databázi"]
["Weidlich & Moeller",null,null,null,null,"Pribina Cup 2019 - Duo 20m","SK",2019,2,2905,0.92,{"$f":"ROUND(J2141/MAX($J$2140:$J$2152)*10000*0.7+(MAX($I$2140:$I$2152)-I2141)/(MAX($I$2140:$I$2152)-1)*10000*0.3,0)","v":9581},8815,null,null,"Arcus","YA","Není v databázi"]
["Goralski & Holighaus",null,null,null,null,"Pribina Cup 2019 - Duo 20m","SK",2019,3,2872,0.92,9253,8513,null,null,"Arcus",20,"Není v databázi"]
["Buhlmann & Schlautmann",null,null,"FLC Schwandorf",null,"Pribina Cup 2019 - Duo 20m","SK",2019,4,2792,0.92,8815,8110,null,null,"Arcus","ES","Není v databázi"]
["Emmerich & Kretzschmar",null,null,"Aero Club Lichtenfels",null,"Pribina Cup 2019 - Duo 20m","SK",2019,5,2723,0.92,8403,7731,null,null,"Arcus T","ISP","Není v databázi"]
["Czeladzki & Biela",null,null,"Nowy Targ",null,"Pribina Cup 2019 - Duo 20m","SK",2019,6,2585,0.92,7828,7202,null,null,"Duo Discus (750kg)","POL","Není v databázi"]
["Corporaal & Corporaal",null,null,null,null,"Pribina Cup 2019 - Duo 20m","SK",2019,7,2362,0.92,7054,6490,null,null,"Duo Discus (750kg)","WO","Není v databázi"]
["Tourula & Kankare",null,null,"Helsingin Ilmailukerho",null,"Pribina Cup 2019 - Duo 20m","SK",2019,8,2341,0.92,6755,6215,null,null,"DG-1000T 20m","NIT","Není v databázi"]
["Fischer & Stahf",null,null,"FCC Berlin e.V.",null,"Pribina Cup 2019 - Duo 20m","SK",2019,9,2326,0.92,{"$f":"ROUND(J2148/MAX($J$2140:$J$2152)*10000*0.7+(MAX($I$2140:$I$2152)-I2148)/(MAX($I$2140:$I$2152)-1)*10000*0.3,0)","v":6469},5951,null,null,"Arcus","V8","Není v databázi"]
["de Boer & Ooijevaar",null,null,null,null,"Pribina Cup 2019 - Duo 20m","SK",2019,10,2124,0.92,5744,5284,null,null,"Duo Discus (750kg)","2T","Není v databázi"]
["Szabadfi & Tornyai",null,null,"MALEV Aeroclub",null,"Pribina Cup 2019 - Duo 20m","SK",2019,11,1907,0.92,4984,4585,null,null,"Arcus","AB","Není v databázi"]
["Gevad & Andersen",null,null,null,null,"Pribina Cup 2019 - Duo 20m","SK",2019,12,1814,0.92,4515,4154,null,null,"Duo Discus XL","MF","Není v databázi"]
["Schwan & Hudler",null,null,null,null,"Pribina Cup 2019 - Duo 20m","SK",2019,13,1468,0.92,3452,3176,null,null,"Duo Discus (700kg)","MM","Není v databázi"]
["Miroslaw Izydorczak",null,null,null,null,"Pribina Cup 2019 - Klub","SK",2019,"HC","3322",0.94500000000000006,null,{"$f":"ROUND(K2153*L2153,0)","v":0},null,null,"ASW 20 /15m","SB",{"$f":"IF(ISERROR(VLOOKUP(A2153,Pilot,6,0)),\"Není v databázi\",VLOOKUP(A2153,Pilot,6,0))","v":"Není v databázi"}]
["Mark Travner",null,null,"Aeroklub Celje",null,"Pribina Cup 2019 - Klub","SK",2019,1,3210,0.94500000000000006,{"$f":"ROUND(J2154/MAX($J$2153:$J$2196)*10000*0.7+(MAX($I$2153:$I$2196)-I2154)/(MAX($I$2153:$I$2196)-1)*10000*0.3,0)","v":10000},9450,null,null,"DG 300","CE","Není v databázi"]
["Ales Kovac",null,null,null,null,"Pribina Cup 2019 - Klub","SK",2019,2,3194,0.94500000000000006,{"$f":"ROUND(J2155/MAX($J$2153:$J$2196)*10000*0.7+(MAX($I$2153:$I$2196)-I2155)/(MAX($I$2153:$I$2196)-1)*10000*0.3,0)","v":9894},9350,null,null,"DG 300","CF","Není v databázi"]
["Tobias Pachowsky",null,null,null,null,"Pribina Cup 2019 - Klub","SK",2019,3,3158,0.94500000000000006,9744,9208,null,null,"LS-4","IGP","Není v databázi"]
["Hauke Schmoranzer",null,null,null,null,"Pribina Cup 2019 - Klub","SK",2019,4,3140,0.94500000000000006,9633,9103,null,null,"LS-4","P9","Není v databázi"]
["Uwe Wahlig",null,null,"Segelfluggruppe Bensheim e.V.",null,"Pribina Cup 2019 - Klub","SK",2019,5,3121,0.94500000000000006,9520,8996,null,null,"LS-3 /15m WL","SN","Není v databázi"]
["Pawel Glowacki",null,null,null,null,"Pribina Cup 2019 - Klub","SK",2019,6,2967,0.94500000000000006,9113,8612,null,null,"Pegase C101A","J7","Není v databázi"]
["Ales Fink",null,null,"KOROSKI AEROKLUB SLOVENJ GRADEC",null,"Pribina Cup 2019 - Klub","SK",2019,7,2953,0.94500000000000006,9011,8515,null,null,"DG 300","KO","Není v databázi"]
["Gerrit Feige",null,null,"LSV Gifhorn",null,"Pribina Cup 2019 - Klub","SK",2019,8,2861,0.94500000000000006,8739,8258,null,null,"LS-4","ILM","Není v databázi"]
["Martin Jurovic",null,null,null,null,"Pribina Cup 2019 - Klub","SK",2019,9,2857,0.94500000000000006,8659,8183,null,null,"Pegase C101A","J2","Není v databázi"]
["Jan Kovalcik",null,null,null,null,"Pribina Cup 2019 - Klub","SK",2019,10,2829,0.94500000000000006,8526,8057,null,null,"Pegase C101A","OI","Není v databázi"]
["Milan Surovcik",null,null,"Slovak national aeroclub",null,"Pribina Cup 2019 - Klub","SK",2019,11,2825,0.94500000000000006,8446,7981,null,null,"Pegase C101A","EL","Není v databázi"]
["Mindaugas Zaliukas",null,null,"Kaunas Aeroclub, Pociunai",null,"Pribina Cup 2019 - Klub","SK",2019,12,2804,0.94500000000000006,8329,7871,null,null,"HpH 304cz /15m","MZ","Není v databázi"]
["Markus Uhlig",null,null,"FC Grossrückerswalde",null,"Pribina Cup 2019 - Klub","SK",2019,13,2593,0.94500000000000006,7797,7368,null,null,"Jantar Std.3","M4","Není v databázi"]
["Felix Hoffmann",null,null,"Aero Club Buende e.V.",null,"Pribina Cup 2019 - Klub","SK",2019,14,2570,0.94500000000000006,7676,7254,null,null,"ASW 20 /15m","K2","Není v databázi"]
["Wolli Beyer",null,null,null,null,"Pribina Cup 2019 - Klub","SK",2019,15,2558,0.94500000000000006,7578,7161,null,null,"ASW 20 /15m","5B","Není v databázi"]
["Adam Kacvinsky",null,null,"AK Bratislava",null,"Pribina Cup 2019 - Klub","SK",2019,16,2541,0.94500000000000006,7470,7059,null,null,"ASW 19","BA4","Není v databázi"]
["Klara Teichmannova",{"$f":"VLOOKUP(A2170,Pilot,2,0)","v":1993},{"$f":"VLOOKUP(A2170,Pilot,5,0)","v":"F"},{"$f":"VLOOKUP(A2170,Pilot,3,0)","v":"Hronov"},{"$f":"VLOOKUP(A2170,Pilot,4,0)","v":"CZ/C2"},"Pribina Cup 2019 - Klub","SK",2019,17,2514,0.94500000000000006,7339,6935,"x",null,"Std. Cirrus","LY",""]
["Marek Sawczuk",null,null,"Aeroklub Warszawski",null,"Pribina Cup 2019 - Klub","SK",2019,18,2513,0.94500000000000006,7266,6866,null,null,"Jantar Std.3","PT","Není v databázi"]
["Dominik Süß",null,null,null,null,"Pribina Cup 2019 - Klub","SK",2019,19,2482,0.94500000000000006,7127,6735,null,null,"H-201b Std. Libelle WL","ULI","Není v databázi"]
["Luka Ranđelović",null,null,"AK Celje",null,"Pribina Cup 2019 - Klub","SK",2019,20,2466,0.94500000000000006,7020,6634,null,null,"DG 300","Y3","Není v databázi"]
["Martin Picka",{"$f":"VLOOKUP(A2174,Pilot,2,0)","v":1974},{"$f":"VLOOKUP(A2174,Pilot,5,0)","v":"M"},{"$f":"VLOOKUP(A2174,Pilot,3,0)","v":"Tábor"},{"$f":"VLOOKUP(A2174,Pilot,4,0)","v":"CZ/C1"},"Pribina Cup 2019 - Klub","SK",2019,21,2423,0.94500000000000006,6855,6478,"x",null,"ASW-19B","BU",""]
["Ivan Novak",{"$f":"VLOOKUP(A2175,Pilot,2,0)","v":1962},{"$f":"VLOOKUP(A2175,Pilot,5,0)","v":"M"},{"$f":"VLOOKUP(A2175,Pilot,3,0)","v":"Mladá Boleslav"},{"$f":"VLOOKUP(A2175,Pilot,4,0)","v":"CZ/C1"},"Pribina Cup 2019 - Klub","SK",2019,22,2378,0.94500000000000006,6686,6318,null,null,"LS-4","IX",""]
["Paul Altrichter",null,null,null,null,"Pribina Cup 2019 - Klub","SK",2019,23,2334,0.94500000000000006,6518,6160,null,null,"LS-4","AK","Není v databázi"]
["Christoph Koch",null,null,"SFC Fürstenfeld",null,"Pribina Cup 2019 - Klub","SK",2019,24,2292,0.94500000000000006,6355,6005,null,null,"Discus CS","JB","Není v databázi"]
["Adam Kapuy",null,null,"MSE",null,"Pribina Cup 2019 - Klub","SK",2019,25,2265,0.94500000000000006,6225,5883,null,null,"LS-4","GJ","Není v databázi"]
["Florian Heilmann",null,null,"FC Kamenz",null,"Pribina Cup 2019 - Klub","SK",2019,26,2249,0.94500000000000006,6119,5782,null,null,"Jantar Std.3",9,"Není v databázi"]
["Zbigniew Górecki",null,null,"Łódź",null,"Pribina Cup 2019 - Klub","SK",2019,27,2211,0.94500000000000006,5964,5636,null,null,"LS-1f","C1","Není v databázi"]
["Ulrich Luta",null,null,"FVA Aachen / SFC Riedelbach",null,"Pribina Cup 2019 - Klub","SK",2019,28,2203,0.94500000000000006,5875,5552,null,null,"LS-4","ZU","Není v databázi"]
["Michal Lesinger",{"$f":"VLOOKUP(A2182,Pilot,2,0)","v":1966},{"$f":"VLOOKUP(A2182,Pilot,5,0)","v":"M"},{"$f":"VLOOKUP(A2182,Pilot,3,0)","v":"Moravská Třebová"},{"$f":"VLOOKUP(A2182,Pilot,4,0)","v":"CZ/M"},"Pribina Cup 2019 - Klub","SK",2019,29,2190,0.94500000000000006,5776,5458,null,null,"ASW 19","LL",""]
["Konrad Partyka",null,null,null,null,"Pribina Cup 2019 - Klub","SK",2019,30,2165,{"$f":"VLOOKUP(F2183,Soutez,12,0)","v":0.94500000000000006},5650,5339,null,null,"SZD-48-3 Brawo","BZ","Není v databázi"]
["Marek Bialy",null,null,"Radom",null,"Pribina Cup 2019 - Klub","SK",2019,31,2093,0.94500000000000006,5421,5123,null,null,"Jantar Std.3","W2",{"$f":"IF(ISERROR(VLOOKUP(A2184,Pilot,6,0)),\"Není v databázi\",VLOOKUP(A2184,Pilot,6,0))","v":"Není v databázi"}]
["Martynas Slizys",null,null,"Pociunai",null,"Pribina Cup 2019 - Klub","SK",2019,32,2036,0.94500000000000006,5226,4939,null,null,"Jantar Std.3","CT","Není v databázi"]
["Robert Toth",null,null,"Aero Club Szolnok, Hungary",null,"Pribina Cup 2019 - Klub","SK",2019,33,1957,0.94500000000000006,4982,4708,null,null,"Std. Libelle","PI","Není v databázi"]
["Edmund Schuller",null,null,null,null,"Pribina Cup 2019 - Klub","SK",2019,34,1887,0.94500000000000006,4758,{"$f":"ROUND(K2187*L2187,0)","v":4496},null,null,"ASW-24(A)+W","ZS","Není v databázi"]
["Marcin Bernaszuk",null,null,"Aeroklub Wrocławski",null,"Pribina Cup 2019 - Klub","SK",2019,35,1668,0.94500000000000006,4209,3978,null,null,"Jantar Std.3","EX","Není v databázi"]
["Miha Premrl",null,null,null,null,"Pribina Cup 2019 - Klub","SK",2019,36,1628,0.94500000000000006,4050,3827,null,null,"DG-100","I9","Není v databázi"]
["Maximilian Ebert",null,null,null,null,"Pribina Cup 2019 - Klub","SK",2019,37,1582,0.94500000000000006,3878,3665,null,null,"LS-1f","PM","Není v databázi"]
["Wojciech Kubiak",null,null,"Aeroklub Krakowski",null,"Pribina Cup 2019 - Klub","SK",2019,38,1387,0.94500000000000006,3382,3196,null,null,"SZD 55","W07","Není v databázi"]
["Niklas Unterrainer",null,null,"FC St. Johann in Tirol",null,"Pribina Cup 2019 - Klub","SK",2019,39,1202,0.94500000000000006,2907,2747,null,null,"LS-4","8F","Není v databázi"]
["Balazs Endrodi",null,null,"Aeroklub Farkashegy",null,"Pribina Cup 2019 - Klub","SK",2019,40,874,0.94500000000000006,2120,2003,null,null,"ASW 19","FH","Není v databázi"]
["Richard Vajda",null,null,null,null,"Pribina Cup 2019 - Klub","SK",2019,41,739,0.94500000000000006,1754,1658,null,null,"ASW 20 /15m","BAS","Není v databázi"]
["Milos Horvat",null,null,null,null,"Pribina Cup 2019 - Klub","SK",2019,42,701,0.94500000000000006,1600,1512,null,null,"ASW 20 /15m","H","Není v databázi"]
["Igor Cech",null,null,null,null,"Pribina Cup 2019 - Klub","SK",2019,43,14,0.94500000000000006,31,29,null,null,"Silent 2","ZI","Není v databázi"]
["Tomasz Hornik",null,null,"Aeroklub Nadwislanski",null,"Pribina Cup 2019 - Kombi 15m","SK",2019,1,3272,0.95000000000000007,{"$f":"ROUND(J2197/MAX($J$2197:$J$2233)*10000*0.7+(MAX($I$2197:$I$2233)-I2197)/(MAX($I$2197:$I$2233)-1)*10000*0.3,0)","v":10000},9500,null,null,"Discus 2a /15m","II","Není v databázi"]
["Radek Krejcirik",{"$f":"VLOOKUP(A2198,Pilot,2,0)","v":1991},{"$f":"VLOOKUP(A2198,Pilot,5,0)","v":"M"},{"$f":"VLOOKUP(A2198,Pilot,3,0)","v":"Hranice"},{"$f":"VLOOKUP(A2198,Pilot,4,0)","v":"CZ/M"},"Pribina Cup 2019 - Kombi 15m","SK",2019,2,3199,0.95000000000000007,{"$f":"ROUND(J2198/MAX($J$2197:$J$2233)*10000*0.7+(MAX($I$2197:$I$2233)-I2198)/(MAX($I$2197:$I$2233)-1)*10000*0.3,0)","v":9760},9272,null,null,"Ventus 2A","AX",""]
["Lukasz Grabowski",null,null,null,null,"Pribina Cup 2019 - Kombi 15m","SK",2019,3,2984,0.95000000000000007,9217,8756,null,null,"Diana 2","RP","Není v databázi"]
["Dana Novakova",{"$f":"VLOOKUP(A2200,Pilot,2,0)","v":1965},{"$f":"VLOOKUP(A2200,Pilot,5,0)","v":"F"},{"$f":"VLOOKUP(A2200,Pilot,3,0)","v":"Mladá Boleslav"},{"$f":"VLOOKUP(A2200,Pilot,4,0)","v":"CZ/C1"},"Pribina Cup 2019 - Kombi 15m","SK",2019,4,2866,0.95000000000000007,8881,8437,"x",null,"LS 8/15m","AU",""]
["Nils Fecker",null,null,null,null,"Pribina Cup 2019 - Kombi 15m","SK",2019,5,2860,0.95000000000000007,8785,8346,null,null,"Ventus 2A","V","Není v databázi"]
["Jana Veprekova",{"$f":"VLOOKUP(A2202,Pilot,2,0)","v":1961},{"$f":"VLOOKUP(A2202,Pilot,5,0)","v":"F"},{"$f":"VLOOKUP(A2202,Pilot,3,0)","v":"Dvůr Králové"},{"$f":"VLOOKUP(A2202,Pilot,4,0)","v":"CZ/C2"},"Pribina Cup 2019 - Kombi 15m","SK",2019,6,2759,0.95000000000000007,8486,8062,"x",null,"LS 8/15m","W8",""]
["Moritz Lukas Habschied",null,null,null,null,"Pribina Cup 2019 - Kombi 15m","SK",2019,7,2733,0.95000000000000007,8347,7930,null,null,"ASW-27B WL","N1","Není v databázi"]
["Philipp Lauer",null,null,null,null,"Pribina Cup 2019 - Kombi 15m","SK",2019,8,2672,0.95000000000000007,8133,7726,null,null,"LS 8/15m","OLC","Není v databázi"]
["Jan Pavlik",{"$f":"VLOOKUP(A2205,Pilot,2,0)","v":1987},{"$f":"VLOOKUP(A2205,Pilot,5,0)","v":"M"},{"$f":"VLOOKUP(A2205,Pilot,3,0)","v":"Křižanov"},{"$f":"VLOOKUP(A2205,Pilot,4,0)","v":"CZ/M"},"Pribina Cup 2019 - Kombi 15m","SK",2019,9,2665,0.95000000000000007,8035,7633,null,null,"LS-8a /15m","JW",""]
["Wolfgang Zimmermann",null,null,"Flugring Austria Wiener Neustadt",null,"Pribina Cup 2019 - Kombi 15m","SK",2019,10,2647,0.95000000000000007,7913,7517,null,null,"Ventus 2b /15m","CI","Není v databázi"]
["Jedrzej Sklodowski",null,null,"Aeroklub Kujawski",null,"Pribina Cup 2019 - Kombi 15m","SK",2019,11,2601,0.95000000000000007,7731,7344,null,null,"LS-6a /15m","VVI","Není v databázi"]
["Jana Treslova",{"$f":"VLOOKUP(A2208,Pilot,2,0)","v":1963},{"$f":"VLOOKUP(A2208,Pilot,5,0)","v":"F"},{"$f":"VLOOKUP(A2208,Pilot,3,0)","v":"Raná"},{"$f":"VLOOKUP(A2208,Pilot,4,0)","v":"CZ/C2"},"Pribina Cup 2019 - Kombi 15m","SK",2019,12,2577,0.95000000000000007,7596,7216,null,null,"Discus 2","GX",""]
["Karsten Leucker",null,null,"Aero-Club Ansbach",null,"Pribina Cup 2019 - Kombi 15m","SK",2019,13,2553,0.95000000000000007,7462,7089,null,null,"Discus 2b /15m","CX","Není v databázi"]
["Piotr Jarysz",null,null,"Aeroklub Koninski",null,"Pribina Cup 2019 - Kombi 15m","SK",2019,14,2514,0.95000000000000007,7295,6930,null,null,"LS-6","BB","Není v databázi"]
["Michael Wisbacher",null,null,null,null,"Pribina Cup 2019 - Kombi 15m","SK",2019,15,2492,0.95000000000000007,7165,6807,null,null,"LS-8a /15m","M1","Není v databázi"]
["Aldo Cernezzi",null,null,"Varese",null,"Pribina Cup 2019 - Kombi 15m","SK",2019,16,2433,0.95000000000000007,6955,6607,null,null,"DG 600/15m","DU","Není v databázi"]
["Wilhelm-Alexander Klomp",null,null,"LV Aachen",null,"Pribina Cup 2019 - Kombi 15m","SK",2019,17,2426,0.95000000000000007,6857,6514,null,null,"Discus 2b /15m","NW2","Není v databázi"]
["Martin Schwab",null,null,"FG Waldviertel",null,"Pribina Cup 2019 - Kombi 15m","SK",2019,18,2417,0.95000000000000007,6754,6416,null,null,"Discus 2T /15m","FUN","Není v databázi"]
["Hana Treslova",{"$f":"VLOOKUP(A2215,Pilot,2,0)","v":1991},{"$f":"VLOOKUP(A2215,Pilot,5,0)","v":"F"},{"$f":"VLOOKUP(A2215,Pilot,3,0)","v":"Raná"},{"$f":"VLOOKUP(A2215,Pilot,4,0)","v":"CZ/C2"},"Pribina Cup 2019 - Kombi 15m","SK",2019,19,2393,0.95000000000000007,{"$f":"ROUND(J2215/MAX($J$2197:$J$2233)*10000*0.7+(MAX($I$2197:$I$2233)-I2215)/(MAX($I$2197:$I$2233)-1)*10000*0.3,0)","v":6619},6288,null,null,"LS 8/15m","EU",""]
["Tibor Fratrik",null,null,"SGC Martin",null,"Pribina Cup 2019 - Kombi 15m","SK",2019,20,2241,0.95000000000000007,6211,5900,null,null,"LS-6","GI","Není v databázi"]
["Wiktor Czubski",null,null,null,null,"Pribina Cup 2019 - Kombi 15m","SK",2019,21,2230,0.95000000000000007,6104,5799,null,null,"LS-8a /15m","LOT","Není v databázi"]
["Lukas Schneeberger",null,null,null,null,"Pribina Cup 2019 - Kombi 15m","SK",2019,22,2189,0.95000000000000007,5933,5636,null,null,"Discus B","I","Není v databázi"]
["Istvan Magyar",null,null,null,null,"Pribina Cup 2019 - Kombi 15m","SK",2019,23,2080,0.95000000000000007,5617,5336,null,null,"ASG-29(E) 15m","PBI","Není v databázi"]
["Sandor Laurinyecz",null,null,null,null,"Pribina Cup 2019 - Kombi 15m","SK",2019,24,2011,0.95000000000000007,5386,5117,null,null,"Discus 2a /15m","HUN","Není v databázi"]
["Juliusz Pieniazek",null,null,"Aeroklub Podhalanski",null,"Pribina Cup 2019 - Kombi 15m","SK",2019,25,2008,0.95000000000000007,5296,5031,null,null,"Discus 2a /15m","Y","Není v databázi"]
["Christoph Kahler",null,null,null,null,"Pribina Cup 2019 - Kombi 15m","SK",2019,26,1975,0.95000000000000007,5142,4885,null,null,"Discus 2b /15m","NW1","Není v databázi"]
["Sebastian Pöchlauer",null,null,null,null,"Pribina Cup 2019 - Kombi 15m","SK",2019,27,1948,0.95000000000000007,5001,4751,null,null,"Discus 2a /15m","KG","Není v databázi"]
["Istvan Réti",null,null,null,null,"Pribina Cup 2019 - Kombi 15m","SK",2019,28,1856,0.95000000000000007,4721,4485,null,null,"Ventus 2A","IR","Není v databázi"]
["Miroslav Beliansky",null,null,null,null,"Pribina Cup 2019 - Kombi 15m","SK",2019,29,1853,0.95000000000000007,4631,4399,null,null,"LS-8s(t) /15m","TC","Není v databázi"]
["Pascal Brunner",null,null,"SG Zuerich",null,"Pribina Cup 2019 - Kombi 15m","SK",2019,30,1577,0.95000000000000007,3957,3759,null,null,"Discus 2b /15m","ST","Není v databázi"]
["Andrius Tamulenas",null,null,null,null,"Pribina Cup 2019 - Kombi 15m","SK",2019,31,1422,0.95000000000000007,3542,3365,null,null,"LS-8-18 /15m","H8","Není v databázi"]
["Ambrus Vancso",null,null,"Dunaferr",null,"Pribina Cup 2019 - Kombi 15m","SK",2019,32,1343,0.95000000000000007,3290,3126,null,null,"Ventus bT /15m","PB","Není v databázi"]
["Philip Joens",null,null,null,null,"Pribina Cup 2019 - Kombi 15m","SK",2019,33,1306,0.95000000000000007,3127,2971,null,null,"LS-7WL","AP","Není v databázi"]
["Laszlo Kapuy",null,null,null,null,"Pribina Cup 2019 - Kombi 15m","SK",2019,34,1280,0.95000000000000007,2988,2839,null,null,"Ventus 2cxm /15m 525kg","GE","Není v databázi"]
["Christoph S. Ackermann",null,null,"SG Freiburg",null,"Pribina Cup 2019 - Kombi 15m","SK",2019,35,892,0.95000000000000007,2075,1971,null,null,"Ventus B/15m (500kg)","AW","Není v databázi"]
["Marko Virtanen",null,null,null,null,"Pribina Cup 2019 - Kombi 15m","SK",2019,36,624,0.95000000000000007,1418,1347,null,null,"LS-8s /15m","SI","Není v databázi"]
["Jonas Pitschen",null,null,"SG Zuerich",null,"Pribina Cup 2019 - Kombi 15m","SK",2019,37,161,0.95000000000000007,344,327,null,null,"Discus 2b /15m","UB","Není v databázi"]
["Sebastian Kawa",null,null,"Aeroclub Bielsko Biala",null,"Pribina Cup 2019 - Kombi Open","SK",2019,1,3406,0.96500000000000008,{"$f":"ROUND(J2234/MAX($J$2234:$J$2269)*10000*0.7+(MAX($I$2234:$I$2269)-I2234)/(MAX($I$2234:$I$2269)-1)*10000*0.3,0)","v":10000},9650,null,null,"Diana 3 FES","D8","Není v databázi"]
["Karol Staryszak",null,null,"Mielec",null,"Pribina Cup 2019 - Kombi Open","SK",2019,2,3403,0.96500000000000008,{"$f":"ROUND(J2235/MAX($J$2234:$J$2269)*10000*0.7+(MAX($I$2234:$I$2269)-I2235)/(MAX($I$2234:$I$2269)-1)*10000*0.3,0)","v":9908},9561,null,null,"ASG-29 18m","PES","Není v databázi"]
["Petr Krejcirik",{"$f":"VLOOKUP(A2236,Pilot,2,0)","v":1960},{"$f":"VLOOKUP(A2236,Pilot,5,0)","v":"M"},{"$f":"VLOOKUP(A2236,Pilot,3,0)","v":"Hranice"},{"$f":"VLOOKUP(A2236,Pilot,4,0)","v":"CZ/M"},"Pribina Cup 2019 - Kombi Open","SK",2019,3,2996,0.96500000000000008,8986,8671,"x",null,"JS1-C(TJ) 18 EVO","Z",""]
["Wolfgang Janowitsch",null,null,"FRA-Wiener Neustadt",null,"Pribina Cup 2019 - Kombi Open","SK",2019,4,2910,0.96500000000000008,8723,8418,null,null,"Arcus",3,"Není v databázi"]
["Ondrej Dupal",{"$f":"VLOOKUP(A2238,Pilot,2,0)","v":1966},{"$f":"VLOOKUP(A2238,Pilot,5,0)","v":"M"},{"$f":"VLOOKUP(A2238,Pilot,3,0)","v":"GAC Benešov"},{"$f":"VLOOKUP(A2238,Pilot,4,0)","v":"CZ/C1"},"Pribina Cup 2019 - Kombi Open","SK",2019,5,2862,0.96500000000000008,8539,8240,null,null,"ASG-29 18m","GO",""]
["Andreas Sandhöfner",null,null,"FSK Sturmvogel",null,"Pribina Cup 2019 - Kombi Open","SK",2019,6,2848,0.96500000000000008,8425,8130,null,null,"ASG 29/18m","AY","Není v databázi"]
["Zdislaw Bednarczuk",null,null,null,null,"Pribina Cup 2019 - Kombi Open","SK",2019,7,2833,0.96500000000000008,8308,8017,null,null,"JS1-C(TJ) 21","B52","Není v databázi"]
["Lukasz Wojcik",null,null,"Wloclawek",null,"Pribina Cup 2019 - Kombi Open","SK",2019,8,2810,0.96500000000000008,8175,7889,null,null,"JS1-C(TJ) 21m","P","Není v databázi"]
["Anton Sibanc",null,null,"Aeroklub Celje",null,"Pribina Cup 2019 - Kombi Open","SK",2019,9,2789,0.96500000000000008,8046,7764,null,null,"ASG 29/18m","E3","Není v databázi"]
["Heimo Demmerer",null,null,"SFC Mariazell",null,"Pribina Cup 2019 - Kombi Open","SK",2019,10,2720,0.96500000000000008,7819,7545,null,null,"Ventus 2cm /18m 525 kg","OD","Není v databázi"]
["Johannes Dibbern",null,null,null,null,"Pribina Cup 2019 - Kombi Open","SK",2019,11,2687,0.96500000000000008,7665,7397,null,null,"HPH 304ES Shark/18m (600kg)","D3","Není v databázi"]
["Andreas Lutz",null,null,"SFC-Ried; Akaflieg Muenchen; FG Wolf Hirth",null,"Pribina Cup 2019 - Kombi Open","SK",2019,12,2683,0.96500000000000008,7571,7306,null,null,"Ventus 3(T/M) /18m","WOI","Není v databázi"]
["Stefan Langer",null,null,"SFG Donauwoerth Monheim",null,"Pribina Cup 2019 - Kombi Open","SK",2019,13,2611,0.96500000000000008,7338,7081,null,null,"ASG-29 18m","SL","Není v databázi"]
["Viliam KubovCik",null,null,"AK Poprad",null,"Pribina Cup 2019 - Kombi Open","SK",2019,14,2605,{"$f":"VLOOKUP(F2247,Soutez,12,0)","v":0.96500000000000008},7240,6987,null,null,"Ventus 2cx(m/t) /18m 600kg","VV",{"$f":"IF(ISERROR(VLOOKUP(A2247,Pilot,6,0)),\"Není v databázi\",VLOOKUP(A2247,Pilot,6,0))","v":"Není v databázi"}]
["Pristavec & Avsenek",null,null,null,null,"Pribina Cup 2019 - Kombi Open","SK",2019,15,2559,0.96500000000000008,7059,6812,null,null,"EB 28 /28,3m",7,"Není v databázi"]
["Henning Kjersgaard Nielsen",null,null,"Midtsjaellands Svaeveflyveklub",null,"Pribina Cup 2019 - Kombi Open","SK",2019,16,2528,0.96500000000000008,6910,6668,null,null,"Ventus 2c /18m 525kg","T","Není v databázi"]
["Jan Hertrich",null,null,null,null,"Pribina Cup 2019 - Kombi Open","SK",2019,17,2451,0.96500000000000008,6666,{"$f":"ROUND(K2250*L2250,0)","v":6433},null,null,"LS-8-18 /18m","EO","Není v databázi"]
["Max Böswald",null,null,"FC Eichstätt",null,"Pribina Cup 2019 - Kombi Open","SK",2019,18,2432,0.96500000000000008,6541,6312,null,null,"Discus 2c FES /18m","FES","Není v databázi"]
["Joze Verdev",null,null,null,null,"Pribina Cup 2019 - Kombi Open","SK",2019,19,2425,0.96500000000000008,6441,6216,null,null,"JS1 /18m","DZ","Není v databázi"]
["Sorin Lingureanu",null,null,"Tampereen Ilmailuyhdistys",null,"Pribina Cup 2019 - Kombi Open","SK",2019,20,2385,0.96500000000000008,6273,6053,null,null,"Ventus 2c /18m 525kg","ZR","Není v databázi"]
["Sven Kolb",null,null,"SFG-Dornbirn",null,"Pribina Cup 2019 - Kombi Open","SK",2019,21,2277,0.96500000000000008,5965,5756,null,null,"Antares/20m","ZF","Není v databázi"]
["Marek Pechanec",{"$f":"VLOOKUP(A2255,Pilot,2,0)","v":1970},{"$f":"VLOOKUP(A2255,Pilot,5,0)","v":"M"},{"$f":"VLOOKUP(A2255,Pilot,3,0)","v":"Luhačovice"},{"$f":"VLOOKUP(A2255,Pilot,4,0)","v":"CZ/M"},"Pribina Cup 2019 - Kombi Open","SK",2019,21,2277,0.96500000000000008,5965,5756,"x",null,"ASG 29(E) 18m","QZ",""]
["Werner Danz",null,null,null,null,"Pribina Cup 2019 - Kombi Open","SK",2019,23,2257,0.96500000000000008,5753,5552,null,null,"Antares 18S/T","BT","Není v databázi"]
["Kai Glatter",null,null,"AC Pirna",null,"Pribina Cup 2019 - Kombi Open","SK",2019,24,2158,0.96500000000000008,5464,5273,null,null,"JS1-C(TJ) 18 EVO","YE","Není v databázi"]
["Till Berthold",null,null,null,null,"Pribina Cup 2019 - Kombi Open","SK",2019,25,2128,0.96500000000000008,5316,5130,null,null,"Discus 2c/2T /18m","S2","Není v databázi"]
["Natalie Luebben",null,null,null,null,"Pribina Cup 2019 - Kombi Open","SK",2019,26,2127,0.96500000000000008,5229,5046,null,null,"ASH-31/Mi 21m",31,"Není v databázi"]
["Robin Sittmann",null,null,"Aero Club Rhein-Nahe",null,"Pribina Cup 2019 - Kombi Open","SK",2019,27,2042,0.96500000000000008,4968,4794,null,null,"Discus 2c/2T /18m","MA","Není v databázi"]
["Michal Lewczuk",null,null,"Warsaw Aero Club",null,"Pribina Cup 2019 - Kombi Open","SK",2019,28,1975,0.96500000000000008,4745,4579,null,null,"JS-1A/B/C(TJ) 18","GOL","Není v databázi"]
["Rene Schoenmann",null,null,null,null,"Pribina Cup 2019 - Kombi Open","SK",2019,29,1930,0.96500000000000008,4567,4407,null,null,"JS1-C(TJ) 21","LI","Není v databázi"]
["Mathias Muench",null,null,"Alpenflugzentrum Unterwossen",null,"Pribina Cup 2019 - Kombi Open","SK",2019,30,1772,0.96500000000000008,4156,4011,null,null,"DG-800 /18m","MU","Není v databázi"]
["Bogdan Dorozko",null,null,null,null,"Pribina Cup 2019 - Kombi Open","SK",2019,31,1604,0.96500000000000008,3725,3595,null,null,"ASG-29 18m","29L","Není v databázi"]
["Vytautas Maciulis",null,null,null,null,"Pribina Cup 2019 - Kombi Open","SK",2019,32,1278,0.96500000000000008,2969,2865,null,null,"LAK 17B FES /18m",77,"Není v databázi"]
["Jernej Lokovsek",null,null,"Aeroklub Ljubljana",null,"Pribina Cup 2019 - Kombi Open","SK",2019,33,1132,0.96500000000000008,2584,2494,null,null,"LAK 17A/18m","JL","Není v databázi"]
["Alexander Schuetz",null,null,"AFZ Unterwoessen",null,"Pribina Cup 2019 - Kombi Open","SK",2019,34,1062,0.96500000000000008,2354,2272,null,null,"Ventus 2cx(m/t) /18m 600kg","AI","Není v databázi"]
["Hannu Halonen",null,null,"Imatran Ilmailukerho",null,"Pribina Cup 2019 - Kombi Open","SK",2019,35,744,0.96500000000000008,1615,1558,null,null,"Ventus 3(T/M) /18m","3W","Není v databázi"]
["Carsten Rasmussen",null,null,"MSF",null,"Pribina Cup 2019 - Kombi Open","SK",2019,36,435,0.96500000000000008,894,863,null,null,"DG-800 /18m+W","DI","Není v databázi"]
["Radovan Otto",{"$f":"VLOOKUP(A2270,Pilot,2,0)","v":1968},{"$f":"VLOOKUP(A2270,Pilot,5,0)","v":"M"},{"$f":"VLOOKUP(A2270,Pilot,3,0)","v":"Ústí nad Labem"},{"$f":"VLOOKUP(A2270,Pilot,4,0)","v":"CZ/C2"},"Ranský Pohár 2019 - Kombi","CZ",2019,1,1651,0.73,{"$f":"ROUND(J2270/MAX($J$2270:$J$2285)*10000*0.7+(MAX($I$2270:$I$2285)-I2270)/(MAX($I$2270:$I$2285)-1)*10000*0.3,0)","v":10000},7300,"x",null,"TST-10 Atlas M",7,""]
["Jaromir Hendrych",1954,"M","Raná","CZ/C2","Ranský Pohár 2019 - Kombi","CZ",2019,2,1594,0.73,{"$f":"ROUND(J2271/MAX($J$2270:$J$2285)*10000*0.7+(MAX($I$2270:$I$2285)-I2271)/(MAX($I$2270:$I$2285)-1)*10000*0.3,0)","v":9558},6977,"x",null,"M-35",36,""]
["Eduard Svoboda",1957,"M","Raná","CZ/C2","Ranský Pohár 2019 - Kombi","CZ",2019,3,1558,0.73,9206,6720,"x",null,"ASW 15B","HL",""]
["Jiri Maier 66",1966,"M","Raná","CZ/C2","Ranský Pohár 2019 - Kombi","CZ",2019,4,1457,0.73,8577,6261,"x",null,"Discus bT","TAL",""]
["Jan Sustr 76",1976,"M","Raná","CZ/C2","Ranský Pohár 2019 - Kombi","CZ",2019,5,1395,0.73,8115,5924,"x",null,"DG 300","WL",""]
["Tomas Mezera",1973,"M","Raná","CZ/C2","Ranský Pohár 2019 - Kombi","CZ",2019,6,1337,0.73,7669,5598,"x",null,"Janus 18.2m","RA",""]
["Jaromir Vlk",1959,"M","Šumperk","CZ/M","Ranský Pohár 2019 - Kombi","CZ",2019,7,1325,0.73,7418,5415,null,null,"ASW 15B","R5",""]
["Jiri Maier 99",1999,"M","Raná","CZ/C2","Ranský Pohár 2019 - Kombi","CZ",2019,8,1187,0.73,6633,4842,"x",null,"Std. Cirrus","CI","Junior v roce 2021"]
["Jana Mezerova",1975,"F","Raná","CZ/C2","Ranský Pohár 2019 - Kombi","CZ",2019,9,1183,0.73,6416,4684,"x","x","VSO-10",59,""]
["Zbynek Bican",1961,"M","Raná","CZ/C2","Ranský Pohár 2019 - Kombi","CZ",2019,10,1011,0.73,5486,4005,"x",null,"LS 3","H1",""]
["Pavel Derda",1952,"M","Dvůr Králové","CZ/C2","Ranský Pohár 2019 - Kombi","CZ",2019,11,1005,0.73,5261,3841,null,null,"Cirrus/Cirrus VTC 17.74","VE",""]
["Sarka Lochova",1966,"F","Šumperk","CZ/M","Ranský Pohár 2019 - Kombi","CZ",2019,12,982,0.73,{"$f":"ROUND(J2281/MAX($J$2270:$J$2285)*10000*0.7+(MAX($I$2270:$I$2285)-I2281)/(MAX($I$2270:$I$2285)-1)*10000*0.3,0)","v":4964},3624,"x","x","ASW 15B","EZ",""]
["David Krcil",1976,"M","Raná","CZ/C2","Ranský Pohár 2019 - Kombi","CZ",2019,13,767,0.73,3852,2812,"x",null,"ASW15B","BE",""]
["Tereza Krcilova Spalenkova",1981,"F","Raná","CZ/C2","Ranský Pohár 2019 - Kombi","CZ",2019,14,622,0.73,3037,2217,"x","x","ASW15","TK",""]
["Michal Hemrle",1974,"M","Česká Lípa","CZ/C2","Ranský Pohár 2019 - Kombi","CZ",2019,15,613,0.73,2799,2043,null,null,"Ventus 17.6m","XE",""]
["Krystof Mimra",1992,"M","Most","CZ/C2","Ranský Pohár 2019 - Kombi","CZ",2019,16,451,0.73,1912,1396,null,null,"VSO-10",51,""]
["Ondrej Teichman",1984,"M","Dvůr Králové","CZ/C2","Safari 2019 - Duo Kombi","CZ",2019,1,4311,0.77,{"$f":"ROUND(J2286/MAX($J$2286:$J$2300)*10000*0.7+(MAX($I$2286:$I$2300)-I2286)/(MAX($I$2286:$I$2300)-1)*10000*0.3,0)","v":10000},7700,"x",null,"L-23 Blanik","KM",""]
["Jan Sindelar",1946,"M","Kunovice","CZ/M","Safari 2019 - Duo Kombi","CZ",2019,2,4247,0.77,{"$f":"ROUND(J2287/MAX($J$2286:$J$2300)*10000*0.7+(MAX($I$2286:$I$2300)-I2287)/(MAX($I$2286:$I$2300)-1)*10000*0.3,0)","v":9682},7455,"x",null,"L-13 Blanik","Z",""]
["Vojtech Pivonka",1976,"M","Vrchlabí","CZ/C2","Safari 2019 - Duo Kombi","CZ",2019,3,3768,0.77,8690,6691,"x",null,"L-13 Blanik","AY",""]
["Rostislav Broz",1968,"M","Vrchlabí","CZ/C2","Safari 2019 - Duo Kombi","CZ",2019,4,3329,0.77,7763,5978,"x",null,"L-13 Blanik","V",""]
["Petr Panek",1975,"M","Dvůr Králové","CZ/C2","Safari 2019 - Duo Kombi","CZ",2019,5,3321,0.77,7535,5802,null,null,"L-13 Blanik","XX",""]
["Vladimir Prihoda",1953,"M","Kralupy","CZ/C1","Safari 2019 - Duo Kombi","CZ",2019,6,3317,0.77,7315,5633,"x",null,"L-23 Super Blanik","I",""]
["Lukas Capek",1992,"M","Letňany","CZ/C1","Safari 2019 - Duo Kombi","CZ",2019,7,3273,0.77,{"$f":"ROUND(J2292/MAX($J$2286:$J$2300)*10000*0.7+(MAX($I$2286:$I$2300)-I2292)/(MAX($I$2286:$I$2300)-1)*10000*0.3,0)","v":7029},5412,"x",null,"L 13 Blanik","L",""]
["Petr Hybner",1951,"M","Liberec","CZ/C2","Safari 2019 - Duo Kombi","CZ",2019,8,3035,0.77,6428,4950,"x",null,"L-23 Super Blanik",23,""]
["Pavel Kuriscak",1987,"M","Beroun","CZ/C1","Safari 2019 - Duo Kombi","CZ",2019,9,2217,0.77,4886,3762,"x",null,"L-13 Blanik","BU",""]
["Martin Markl",1960,"M","Kolín","CZ/C1","Safari 2019 - Duo Kombi","CZ",2019,10,2001,0.77,4321,3327,"x",null,"L-13 Blanik","FL",""]
["Ivan Ladr",1940,"M","Dvůr Králové","CZ/C2","Safari 2019 - Duo Kombi","CZ",2019,11,1868,0.77,{"$f":"ROUND(J2296/MAX($J$2286:$J$2300)*10000*0.7+(MAX($I$2286:$I$2300)-I2296)/(MAX($I$2286:$I$2300)-1)*10000*0.3,0)","v":3890},2995,"x",null,"L-13 Blanik","LT",""]
["Jaroslav Nedorost",1986,"M","Letňany","CZ/C1","Safari 2019 - Duo Kombi","CZ",2019,12,1840,0.77,3631,2796,"x",null,"L-13 Blanik","BA",""]
["Martin Benesovsky",1900,"M","Kolín","CZ/C1","Safari 2019 - Duo Kombi","CZ",2019,13,759,0.77,1661,1279,"x",null,"L-13 Blanik","FI",""]
["Bohumir Zajdl",1950,"M","Dvůr Králové","CZ/C2","Safari 2019 - Duo Kombi","CZ",2019,14,661,0.77,{"$f":"ROUND(J2299/MAX($J$2286:$J$2300)*10000*0.7+(MAX($I$2286:$I$2300)-I2299)/(MAX($I$2286:$I$2300)-1)*10000*0.3,0)","v":1288},992,"x",null,"L-13","LT",""]
["Michal Richter",1983,"M","Kolín","CZ/C1","Safari 2019 - Duo Kombi","CZ",2019,15,597,0.77,969,746,"x",null,"L-13 Blanik","FI",""]
["Marek Kornec",1957,"M","Dvůr Králové","CZ/C2","Safari 2019 - Klub","CZ",2019,1,6191,0.76500000000000001,{"$f":"ROUND(J2301/MAX($J$2301:$J$2328)*10000*0.7+(MAX($I$2301:$I$2328)-I2301)/(MAX($I$2301:$I$2328)-1)*10000*0.3,0)","v":10000},7650,"x",null,"Janus C FG","KSS",""]
["Milan Dvorak",1965,"M","Liberec","CZ/C2","Safari 2019 - Klub","CZ",2019,2,6084,0.76500000000000001,{"$f":"ROUND(J2302/MAX($J$2301:$J$2328)*10000*0.7+(MAX($I$2301:$I$2328)-I2302)/(MAX($I$2301:$I$2328)-1)*10000*0.3,0)","v":9768},7473,"x",null,"HPH 304cz 15 m","IH",""]
["Wolfgang Sluka",1942,"M","Liberec","CZ/C2","Safari 2019 - Klub","CZ",2019,3,5746,0.76500000000000001,9275,7095,"x",null,"Std.Cirrus","KA",""]
["Jaroslav Sima",1972,"M","Chomutov","CZ/C2","Safari 2019 - Klub","CZ",2019,4,5567,0.76500000000000001,8961,6855,"x",null,"G-104 Speed Astir II","V2",""]
["Jan Hybner",1977,"M","Liberec","CZ/C2","Safari 2019 - Klub","CZ",2019,5,5548,0.76500000000000001,8829,6754,"x",null,"HPH 304cz 15 m","LB",""]
["Tomas Kulhavy",2001,"M","Liberec","CZ/C2","Safari 2019 - Klub","CZ",2019,6,5470,0.76500000000000001,8629,6601,"x",null,"VSO-10",78,"Junior v roce 2021"]
["Krzysztof Pienkowski",null,"M","Bialsko-Biala","PL","Safari 2019 - Klub","CZ",2019,7,5412,0.76500000000000001,8453,6467,null,null,"LS4","KP","Není v databázi"]
["Pavel Derda",{"$f":"VLOOKUP(A2308,Pilot,2,0)","v":1952},{"$f":"VLOOKUP(A2308,Pilot,5,0)","v":"M"},{"$f":"VLOOKUP(A2308,Pilot,3,0)","v":"Dvůr Králové"},{"$f":"VLOOKUP(A2308,Pilot,4,0)","v":"CZ/C2"},"Safari 2019 - Klub","CZ",2019,8,5022,0.76500000000000001,7900,6044,"x",null,"Cirrus VTC","VE",""]
["Vaclav Sehnal",{"$f":"VLOOKUP(A2309,Pilot,2,0)","v":1962},{"$f":"VLOOKUP(A2309,Pilot,5,0)","v":"M"},{"$f":"VLOOKUP(A2309,Pilot,3,0)","v":"Kolín"},{"$f":"VLOOKUP(A2309,Pilot,4,0)","v":"CZ/C1"},"Safari 2019 - Klub","CZ",2019,9,4674,0.76500000000000001,7396,5658,"x",null,"ASK-21 duo","SFC",""]
["Jarmila Zatykova",{"$f":"VLOOKUP(A2310,Pilot,2,0)","v":1959},{"$f":"VLOOKUP(A2310,Pilot,5,0)","v":"F"},{"$f":"VLOOKUP(A2310,Pilot,3,0)","v":"Kralupy"},{"$f":"VLOOKUP(A2310,Pilot,4,0)","v":"CZ/C1"},"Safari 2019 - Klub","CZ",2019,10,4667,0.76500000000000001,7277,5567,"x","x","Discus b","JD",""]
["Martin Cicvarek",{"$f":"VLOOKUP(A2311,Pilot,2,0)","v":1966},{"$f":"VLOOKUP(A2311,Pilot,5,0)","v":"M"},{"$f":"VLOOKUP(A2311,Pilot,3,0)","v":"Liberec"},{"$f":"VLOOKUP(A2311,Pilot,4,0)","v":"CZ/C2"},"Safari 2019 - Klub","CZ",2019,11,4556,{"$f":"VLOOKUP(F2311,Soutez,12,0)","v":0.76500000000000001},7040,5386,"x",null,"DG-400 15 m","AC",{"$f":"IF(ISERROR(VLOOKUP(A2311,Pilot,6,0)),\"Není v databázi\",VLOOKUP(A2311,Pilot,6,0))","v":""}]
["Marek Malinsky",{"$f":"VLOOKUP(A2312,Pilot,2,0)","v":1985},{"$f":"VLOOKUP(A2312,Pilot,5,0)","v":"M"},{"$f":"VLOOKUP(A2312,Pilot,3,0)","v":"Chrudim"},{"$f":"VLOOKUP(A2312,Pilot,4,0)","v":"CZ/C2"},"Safari 2019 - Klub","CZ",2019,12,4057,0.76500000000000001,6365,4869,"x",null,"Std. Cirrus","A",""]
["Leszek Wolosowicz",null,"M","Lublin/KSS","PL","Safari 2019 - Klub","CZ",2019,13,4022,0.76500000000000001,6214,4754,null,null,"PW-5","CU","Není v databázi"]
["Artur Szlachta",null,"M","LSV Seligensstadt-Zellhausen","DE","Safari 2019 - Klub","CZ",2019,14,3811,0.76500000000000001,5865,{"$f":"ROUND(K2314*L2314,0)","v":4487},null,null,"LS 4","V4","Není v databázi"]
["Petr Doubek",{"$f":"VLOOKUP(A2315,Pilot,2,0)","v":1974},{"$f":"VLOOKUP(A2315,Pilot,5,0)","v":"M"},{"$f":"VLOOKUP(A2315,Pilot,3,0)","v":"Kralupy"},{"$f":"VLOOKUP(A2315,Pilot,4,0)","v":"CZ/C1"},"Safari 2019 - Klub","CZ",2019,15,3644,0.76500000000000001,5565,4257,"x",null,"ASW-20(A)+F 15m","Y5",""]
["Petr Lonsky",{"$f":"VLOOKUP(A2316,Pilot,2,0)","v":1965},{"$f":"VLOOKUP(A2316,Pilot,5,0)","v":"M"},{"$f":"VLOOKUP(A2316,Pilot,3,0)","v":"Toužim"},{"$f":"VLOOKUP(A2316,Pilot,4,0)","v":"CZ/C1"},"Safari 2019 - Klub","CZ",2019,16,3376,0.76500000000000001,5150,3940,null,null,"LS 1d","CL",""]
["Karel Ertl",{"$f":"VLOOKUP(A2317,Pilot,2,0)","v":1939},{"$f":"VLOOKUP(A2317,Pilot,5,0)","v":"M"},{"$f":"VLOOKUP(A2317,Pilot,3,0)","v":"LK Břeclav"},{"$f":"VLOOKUP(A2317,Pilot,4,0)","v":"CZ/M"},"Safari 2019 - Klub","CZ",2019,17,3359,0.76500000000000001,{"$f":"ROUND(J2317/MAX($J$2301:$J$2328)*10000*0.7+(MAX($I$2301:$I$2328)-I2317)/(MAX($I$2301:$I$2328)-1)*10000*0.3,0)","v":5020},3840,"x",null,"TST-10M Atlas","KE",""]
["Jiri Skarka",{"$f":"VLOOKUP(A2318,Pilot,2,0)","v":1965},{"$f":"VLOOKUP(A2318,Pilot,5,0)","v":"M"},{"$f":"VLOOKUP(A2318,Pilot,3,0)","v":"Chomutov"},{"$f":"VLOOKUP(A2318,Pilot,4,0)","v":"CZ/C2"},"Safari 2019 - Klub","CZ",2019,18,3061,0.76500000000000001,4572,3498,"x",null,"ASW-19","HK",""]
["Piotr Ligwinski",null,"M","Czestochowa","PL","Safari 2019 - Klub","CZ",2019,19,3035,0.76500000000000001,4432,3390,null,null,"SZD 48 Jantar std 2,3","DA","Není v databázi"]
["Tereza Novakova",{"$f":"VLOOKUP(A2320,Pilot,2,0)","v":1993},{"$f":"VLOOKUP(A2320,Pilot,5,0)","v":"F"},{"$f":"VLOOKUP(A2320,Pilot,3,0)","v":"Chrudim"},{"$f":"VLOOKUP(A2320,Pilot,4,0)","v":"CZ/C2"},"Safari 2019 - Klub","CZ",2019,20,2930,0.76500000000000001,4202,3215,"x","x","Std Cirrus","FF",""]
["Lukas Hykl",{"$f":"VLOOKUP(A2321,Pilot,2,0)","v":1985},{"$f":"VLOOKUP(A2321,Pilot,5,0)","v":"M"},{"$f":"VLOOKUP(A2321,Pilot,3,0)","v":"Kolín"},{"$f":"VLOOKUP(A2321,Pilot,4,0)","v":"CZ/C1"},"Safari 2019 - Klub","CZ",2019,21,1590,0.76500000000000001,2576,1971,"x",null,"SZD-48 Jantar Std.2(3) WL","VS",""]
["Petr Omelka",{"$f":"VLOOKUP(A2322,Pilot,2,0)","v":1970},{"$f":"VLOOKUP(A2322,Pilot,5,0)","v":"M"},{"$f":"VLOOKUP(A2322,Pilot,3,0)","v":"Vyškov"},{"$f":"VLOOKUP(A2322,Pilot,4,0)","v":"CZ/M"},"Safari 2019 - Klub","CZ",2019,22,1363,0.76500000000000001,2208,1689,"x",null,"G-104 Speed Astir II b","KF",""]
["Krzysztof Kostka",null,"M","Jelenia Gora","PL","Safari 2019 - Klub","CZ",2019,23,1005,0.76500000000000001,1692,1294,null,null,"DG 300 Club Elan WL","N5","Není v databázi"]
["Ryszard Bendkowski",null,"M","Warszawa","PL","Safari 2019 - Klub","CZ",2019,24,919,0.76500000000000001,1484,1135,null,null,"SZD-48 Jantar std. 2(3)","Fili","Není v databázi"]
["Jiri Donat",{"$f":"VLOOKUP(A2325,Pilot,2,0)","v":1983},{"$f":"VLOOKUP(A2325,Pilot,5,0)","v":"M"},{"$f":"VLOOKUP(A2325,Pilot,3,0)","v":"Chrudim"},{"$f":"VLOOKUP(A2325,Pilot,4,0)","v":"CZ/C2"},"Safari 2019 - Klub","CZ",2019,25,887,0.76500000000000001,1336,1022,"x",null,"G-103 Twin Basic dvojí","VT",""]
["Leos Nosek",{"$f":"VLOOKUP(A2326,Pilot,2,0)","v":1958},{"$f":"VLOOKUP(A2326,Pilot,5,0)","v":"M"},{"$f":"VLOOKUP(A2326,Pilot,3,0)","v":"Vyškov"},{"$f":"VLOOKUP(A2326,Pilot,4,0)","v":"CZ/M"},"Safari 2019 - Klub","CZ",2019,26,688,0.76500000000000001,1000,765,"x",null,"G-104 Speed Astir II b","KF",""]
["Romuald Dorofieczyk",null,"M","Jelenia Gora","PL","Safari 2019 - Klub","CZ",2019,27,303,0.76500000000000001,454,347,null,null,"DG-300 Club ELAN WL","N5","Není v databázi"]
["Aleksander Jedrosz",null,"M","Jelenia Gora","PL","Safari 2019 - Klub","CZ",2019,28,0,0.76500000000000001,0,0,null,null,"Centrair C 101A,B Pegas","AJ","Není v databázi"]
["Jana Veprekova",{"$f":"VLOOKUP(A2329,Pilot,2,0)","v":1961},{"$f":"VLOOKUP(A2329,Pilot,5,0)","v":"F"},{"$f":"VLOOKUP(A2329,Pilot,3,0)","v":"Dvůr Králové"},{"$f":"VLOOKUP(A2329,Pilot,4,0)","v":"CZ/C2"},"Safari 2019 - Kombi","CZ",2019,1,6283,0.77,{"$f":"ROUND(J2329/MAX($J$2329:$J$2339)*10000*0.7+(MAX($I$2329:$I$2339)-I2329)/(MAX($I$2329:$I$2339)-1)*10000*0.3,0)","v":10000},7700,null,null,"LS 8, a,b,s,st 15m voda","W8",""]
["Lukas Hynek",1979,"M","Dvůr Králové","CZ/C2","Safari 2019 - Kombi","CZ",2019,2,6117,0.77,{"$f":"ROUND(J2330/MAX($J$2329:$J$2339)*10000*0.7+(MAX($I$2329:$I$2339)-I2330)/(MAX($I$2329:$I$2339)-1)*10000*0.3,0)","v":9515},7327,"x",null,"DG 200 17m voda","IQ",""]
["Jan Nyc",1943,"M","Dvůr Králové","CZ/C2","Safari 2019 - Kombi","CZ",2019,3,6069,0.77,9162,7055,"x",null,"DuoDiscus T 700 kg voda","ZS",""]
["Milan Meisner",1961,"M","Dvůr Králové","CZ/C2","Safari 2019 - Kombi","CZ",2019,4,5690,0.77,8439,6498,"x",null,"Ventus c 17,6 m voda","VV",""]
["Jan Dersak 69",1969,"M","Kralupy","CZ/C1","Safari 2019 - Kombi","CZ",2019,5,5429,0.77,7849,6044,null,null,"HPH 304JS /18m 573 kg voda","DJ",""]
["Ladislav Prokes",1954,"M","Vrchlabí","CZ/C2","Safari 2019 - Kombi","CZ",2019,6,4397,0.77,6399,4927,"x",null,"Discus b voda","VR",""]
["Slavomir Tanglmajer",1966,"M","Chomutov","CZ/C2","Safari 2019 - Kombi","CZ",2019,7,3577,0.77,5185,3992,"x",null,"DG-400 17 m","ST",""]
["Karel Policky",1950,"M","Kolín","CZ/C1","Safari 2019 - Kombi","CZ",2019,8,2826,0.77,{"$f":"ROUND(J2336/MAX($J$2329:$J$2339)*10000*0.7+(MAX($I$2329:$I$2339)-I2336)/(MAX($I$2329:$I$2339)-1)*10000*0.3,0)","v":4048},3117,"x",null,"DuoDiscus 700 kg voda",777,""]
["Jan Pazour",1979,"M","Dvůr Králové","CZ/C2","Safari 2019 - Kombi","CZ",2019,9,2770,0.77,3686,2838,"x",null,"ASW-20L+FL 16,6 m bez v","JP",""]
["Tomas Ditrt",1969,"M","Podhořany","CZ/C2","Safari 2019 - Kombi","CZ",2019,10,2372,0.77,2943,2266,"x",null,"ASW 20 x+ F 15 m","LS",""]
["Maciej Walasek",null,"M","Krakow","PL","Safari 2019 - Kombi","CZ",2019,11,918,0.77,1023,788,null,null,"LS 6c 18m WL","KK","Není v databázi"]
["Gintas Zube",null,null,null,null,"SGP 2019 BH - 18m GP","BH",2019,1,37,0.92500000000000004,{"$f":"ROUND((MAX($I$2340:$I$2354)-I2340)/(MAX($I$2340:$I$2354)-1)*10000,0)","v":10000},9250,null,null,"ASG-29 18m","AR","Není v databázi"]
["Bostjan Pristavec",null,null,null,null,"SGP 2019 BH - 18m GP","BH",2019,2,35,0.92500000000000004,{"$f":"ROUND((MAX($I$2340:$I$2354)-I2341)/(MAX($I$2340:$I$2354)-1)*10000,0)","v":9286},8590,null,null,"JS3 - 18m Jet","AX","Není v databázi"]
["Petr Panek",{"$f":"VLOOKUP(A2342,Pilot,2,0)","v":1975},{"$f":"VLOOKUP(A2342,Pilot,5,0)","v":"M"},{"$f":"VLOOKUP(A2342,Pilot,3,0)","v":"Dvůr Králové"},{"$f":"VLOOKUP(A2342,Pilot,4,0)","v":"CZ/C2"},"SGP 2019 BH - 18m GP","BH",2019,3,28,0.92500000000000004,{"$f":"ROUND((MAX($I$2340:$I$2354)-I2342)/(MAX($I$2340:$I$2354)-1)*10000,0)","v":8571},7928,"x",null,"JS-1 TJ Revelation 18m","IGC",""]
["Stefan Langer",null,null,null,null,"SGP 2019 BH - 18m GP","BH",2019,4,25,0.92500000000000004,7857,7268,null,null,"ASG29","SL","Není v databázi"]
["Joze Verdev",null,null,null,null,"SGP 2019 BH - 18m GP","BH",2019,5,20,0.92500000000000004,7143,6607,null,null,"JS-1 TJ Revelation 18m","DZ","Není v databázi"]
["Gilles Navas",null,null,null,null,"SGP 2019 BH - 18m GP","BH",2019,6,20,0.92500000000000004,6429,5947,null,null,"ASG-29E 18m","1L","Není v databázi"]
["Luka znidarsiC",null,null,null,null,"SGP 2019 BH - 18m GP","BH",2019,7,20,0.92500000000000004,5714,5285,null,null,"Ventus 3","LZ","Není v databázi"]
["Uros Krasovic",null,null,null,null,"SGP 2019 BH - 18m GP","BH",2019,8,20,0.92500000000000004,5000,4625,null,null,"Ventus 3","EM","Není v databázi"]
["Jürgen Wenzel",null,null,null,null,"SGP 2019 BH - 18m GP","BH",2019,9,15,0.92500000000000004,4286,3965,null,null,"ASG-29E 18m","OS","Není v databázi"]
["Zdzisław Bednarczuk",null,null,null,null,"SGP 2019 BH - 18m GP","BH",2019,10,15,0.92500000000000004,{"$f":"ROUND((MAX($I$2340:$I$2354)-I2349)/(MAX($I$2340:$I$2354)-1)*10000,0)","v":3571},3303,null,null,"JS3 JET","JS3","Není v databázi"]
["Klaus Kalmbach",null,null,null,null,"SGP 2019 BH - 18m GP","BH",2019,11,15,0.92500000000000004,2857,2643,null,null,"JS-1 TJ Revelation 18m","OT","Není v databázi"]
["Jon Gatfield",null,null,null,null,"SGP 2019 BH - 18m GP","BH",2019,12,9,0.92500000000000004,2143,1982,null,null,"ASG-29E 18m","YO","Není v databázi"]
["Milan Petkovic",null,null,null,null,"SGP 2019 BH - 18m GP","BH",2019,13,9,0.92500000000000004,1429,1322,null,null,"ASG29 ES","E3","Není v databázi"]
["Jernej Lokovsek",null,null,null,null,"SGP 2019 BH - 18m GP","BH",2019,14,0,0.92500000000000004,714,660,null,null,"LAK 17AT","JL","Není v databázi"]
["Goesta Worf",null,null,null,null,"SGP 2019 BH - 18m GP","BH",2019,15,0,0.92500000000000004,0,0,null,null,"Ventus cM 17.6m","GW","Není v databázi"]
["Petr Panek",{"$f":"VLOOKUP(A2355,Pilot,2,0)","v":1975},{"$f":"VLOOKUP(A2355,Pilot,5,0)","v":"M"},{"$f":"VLOOKUP(A2355,Pilot,3,0)","v":"Dvůr Králové"},{"$f":"VLOOKUP(A2355,Pilot,4,0)","v":"CZ/C2"},"Šariš Cup 2019 - Klub","SK",2019,1,2000,0.75,{"$f":"ROUND(J2355/MAX($J$2355:$J$2369)*10000*0.7+(MAX($I$2355:$I$2369)-I2355)/(MAX($I$2355:$I$2369)-1)*10000*0.3,0)","v":10000},7500,null,null,"Std. Cirrus WL","YU",""]
["Frantisek Sobek",null,null,"AK Sabinov",null,"Šariš Cup 2019 - Klub","SK",2019,2,1986,0.75,{"$f":"ROUND(J2356/MAX($J$2355:$J$2369)*10000*0.7+(MAX($I$2355:$I$2369)-I2356)/(MAX($I$2355:$I$2369)-1)*10000*0.3,0)","v":9701},7276,null,null,"DG 100","G1","Není v databázi"]
["Martin snirc",null,null,"AK Nitra",null,"Šariš Cup 2019 - Klub","SK",2019,3,1937,0.75,9280,6960,null,null,"DG 400/17",400,"Není v databázi"]
["Karol BenedikoviC",null,null,"Air Sympatia",null,"Šariš Cup 2019 - Klub","SK",2019,4,1932,0.75,9012,6759,null,null,"Std. Cirrus","AM","Není v databázi"]
["Jozef Sobek",null,null,"AK Prešov",null,"Šariš Cup 2019 - Klub","SK",2019,5,1846,0.75,8461,6346,null,null,"Std. Cirrus","MJ","Není v databázi"]
["Marek Straka",null,null,"AK Trenčín",null,"Šariš Cup 2019 - Klub","SK",2019,6,1836,0.75,8176,6132,null,null,"LS 3","AI","Není v databázi"]
["Marek Seman",null,null,"AK Prešov",null,"Šariš Cup 2019 - Klub","SK",2019,7,1694,0.75,7429,5572,null,null,"Std. Cirrus","CV","Není v databázi"]
["Jozef Sopirjak",null,null,"AK Košice",null,"Šariš Cup 2019 - Klub","SK",2019,8,1472,0.75,6402,4802,null,null,"DG 101G Elan","SX","Není v databázi"]
["Matej Petrik",null,null,"AK Sabinov",null,"Šariš Cup 2019 - Klub","SK",2019,9,1076,0.75,{"$f":"ROUND(J2363/MAX($J$2355:$J$2369)*10000*0.7+(MAX($I$2355:$I$2369)-I2363)/(MAX($I$2355:$I$2369)-1)*10000*0.3,0)","v":4766},3575,null,null,"Std. Cirrus","XII","Není v databázi"]
["Vladimir Macek",null,null,"Aeroklub Košice",null,"Šariš Cup 2019 - Klub","SK",2019,10,795,0.75,3533,2650,null,null,"VSO-10",45,"Není v databázi"]
["Jan Puk",null,null,"Aeroklub Poprad Tatry",null,"Šariš Cup 2019 - Klub","SK",2019,11,619,0.75,2667,2000,null,null,"G 103 Twin II","TAT","Není v databázi"]
["Maros Okos",null,null,"AK Prešov",null,"Šariš Cup 2019 - Klub","SK",2019,12,38,0.75,383,287,null,null,"VSO-10",75,"Není v databázi"]
["Lubomir ziduliak",null,null,"AK Košice",null,"Šariš Cup 2019 - Klub","SK",2019,13,0,0.75,0,0,null,null,"VSO-10","M6","Není v databázi"]
["Frantisek Sopko",null,null,"AK Prešov",null,"Šariš Cup 2019 - Klub","SK",2019,13,0,0.75,0,0,null,null,"Marianne",null,"Není v databázi"]
["Tomas Hlavacek",{"$f":"VLOOKUP(A2369,Pilot,2,0)","v":1984},{"$f":"VLOOKUP(A2369,Pilot,5,0)","v":"M"},{"$f":"VLOOKUP(A2369,Pilot,3,0)","v":"Mladá Boleslav"},{"$f":"VLOOKUP(A2369,Pilot,4,0)","v":"CZ/C1"},"Šariš Cup 2019 - Klub","SK",2019,13,0,0.75,{"$f":"ROUND(J2369/MAX($J$2355:$J$2369)*10000*0.7+(MAX($I$2355:$I$2369)-I2369)/(MAX($I$2355:$I$2369)-1)*10000*0.3,0)","v":0},0,null,null,"Std. Cirrus",null,""]
["Viliam Kubovcik",null,null,"AK Poprad Tatry",null,"Šariš Cup 2019 - Kombi","SK",2019,1,3667,0,{"$f":"ROUND(J2370/MAX($J$2370:$J$2375)*10000*0.7+(MAX($I$2370:$I$2375)-I2370)/(MAX($I$2370:$I$2375)-1)*10000*0.3,0)","v":10000},0,null,null,"Ventus 2cxt","VV","Není v databázi"]
["Lukas Benedikt",null,null,"AK Trnava",null,"Šariš Cup 2019 - Kombi","SK",2019,2,2717,0,{"$f":"ROUND(J2371/MAX($J$2370:$J$2375)*10000*0.7+(MAX($I$2370:$I$2375)-I2371)/(MAX($I$2370:$I$2375)-1)*10000*0.3,0)","v":7587},0,null,null,"Ventus 3f","LB","Není v databázi"]
["Jaroslav Buryan",{"$f":"VLOOKUP(A2372,Pilot,2,0)","v":1953},{"$f":"VLOOKUP(A2372,Pilot,5,0)","v":"M"},"AK Zábřeh",{"$f":"VLOOKUP(A2372,Pilot,4,0)","v":"CZ/M"},"Šariš Cup 2019 - Kombi","SK",2019,3,2679,0,6914,0,null,null,"ASW 20 15mW","NS",""]
["Ľubik Jakubcak",null,null,"SGC Martin",null,"Šariš Cup 2019 - Kombi","SK",2019,4,2277,0,{"$f":"ROUND(J2373/MAX($J$2370:$J$2375)*10000*0.7+(MAX($I$2370:$I$2375)-I2373)/(MAX($I$2370:$I$2375)-1)*10000*0.3,0)","v":5547},0,null,null,"Arcus M","CAR","Není v databázi"]
["Jan Moravec",{"$f":"VLOOKUP(A2374,Pilot,2,0)","v":1979},{"$f":"VLOOKUP(A2374,Pilot,5,0)","v":"M"},"AK Zábřeh",{"$f":"VLOOKUP(A2374,Pilot,4,0)","v":"CZ/M"},"Šariš Cup 2019 - Kombi","SK",2019,5,965,0,2442,0,null,null,"ASW-20 CL 16,59m",96,""]
["Braňo Jesensky",null,null,"SGC Martin",null,"Šariš Cup 2019 - Kombi","SK",2019,6,0,{"$f":"VLOOKUP(F2375,Soutez,12,0)","v":0},0,0,null,null,"Ventus 2cxt",null,{"$f":"IF(ISERROR(VLOOKUP(A2375,Pilot,6,0)),\"Není v databázi\",VLOOKUP(A2375,Pilot,6,0))","v":"Není v databázi"}]
["Hornak & Sitar",null,null,null,null,"Top Gun 2019 - Kombi","SK",2019,1,1930,0.73,{"$f":"ROUND(J2376/MAX($J$2376:$J$2385)*10000*0.7+(MAX($I$2376:$I$2385)-I2376)/(MAX($I$2376:$I$2385)-1)*10000*0.3,0)","v":10000},7300,null,null,"Duo Discus XL","DUO","Není v databázi"]
["Kromka & Kollar",null,null,null,null,"Top Gun 2019 - Kombi","SK",2019,2,1838,0.73,{"$f":"ROUND(J2377/MAX($J$2376:$J$2385)*10000*0.7+(MAX($I$2376:$I$2385)-I2377)/(MAX($I$2376:$I$2385)-1)*10000*0.3,0)","v":9333},6813,null,null,"Arcus M","TA3","Není v databázi"]
["Peter Pokorny",null,null,null,null,"Top Gun 2019 - Kombi","SK",2019,3,1835,0.73,8989,{"$f":"ROUND(K2378*L2378,0)","v":6562},null,null,"ASG 29/18m","9E","Není v databázi"]
["Vladimir Jirka",{"$f":"VLOOKUP(A2379,Pilot,2,0)","v":1965},{"$f":"VLOOKUP(A2379,Pilot,5,0)","v":"M"},{"$f":"VLOOKUP(A2379,Pilot,3,0)","v":"Zábřeh"},{"$f":"VLOOKUP(A2379,Pilot,4,0)","v":"CZ/M"},"Top Gun 2019 - Kombi","SK",2019,4,1767,0.73,{"$f":"ROUND(J2379/MAX($J$2376:$J$2385)*10000*0.7+(MAX($I$2376:$I$2385)-I2379)/(MAX($I$2376:$I$2385)-1)*10000*0.3,0)","v":8409},6139,"x",null,"Ventus 2cM/18m","VJ",""]
["Trojan & Blatak",null,null,null,null,"Top Gun 2019 - Kombi","SK",2019,5,1576,0.73,7383,5390,null,null,"Duo Discus T","ZS","Není v databázi"]
["Miroslav Tapuska",null,null,null,null,"Top Gun 2019 - Kombi","SK",2019,6,1405,0.73,6429,4693,null,null,"Discus 2T/18m","AL","Není v databázi"]
["Jakubcak & Sulirova",null,null,null,null,"Top Gun 2019 - Kombi","SK",2019,7,1321,0.73,5791,4227,null,null,"Arcus M","CAR","Není v databázi"]
["Jozef Snirc",null,null,null,null,"Top Gun 2019 - Kombi","SK",2019,8,1017,0.73,4355,3179,null,null,"Discus 2T/18m","AE","Není v databázi"]
["Jan Keher",null,null,null,null,"Top Gun 2019 - Kombi","SK",2019,9,981,0.73,3891,2840,null,null,"Discus CS","DR","Není v databázi"]
["Vaclav Hruza",{"$f":"VLOOKUP(A2385,Pilot,2,0)","v":1965},{"$f":"VLOOKUP(A2385,Pilot,5,0)","v":"M"},{"$f":"VLOOKUP(A2385,Pilot,3,0)","v":"Břeclav"},{"$f":"VLOOKUP(A2385,Pilot,4,0)","v":"CZ/M"},"Top Gun 2019 - Kombi","SK",2019,10,0,0.73,0,0,null,null,"HPH 304S Shark","TBD",""]
["Jan Pubec",1979,"M","Plzeň Bory","CZ/C1","Toužim Cup 2019 - Klub","CZ",2019,1,3734,0.91,{"$f":"ROUND(J2386/MAX($J$2386:$J$2416)*10000*0.7+(MAX($I$2386:$I$2416)-I2386)/(MAX($I$2386:$I$2416)-1)*10000*0.3,0)","v":10000},9100,"x",null,"Std. Cirrus","LM",""]
["Lukas Koukal",1991,"M","Letkov","CZ/C1","Toužim Cup 2019 - Klub","CZ",2019,2,3655,0.91,{"$f":"ROUND(J2387/MAX($J$2386:$J$2416)*10000*0.7+(MAX($I$2386:$I$2416)-I2387)/(MAX($I$2386:$I$2416)-1)*10000*0.3,0)","v":9752},8874,"x",null,"ASW-15B","T1",""]
["Petr Jiranek 91",1991,"M","Toužim","CZ/C1","Toužim Cup 2019 - Klub","CZ",2019,3,3577,0.91,9506,8650,"x",null,"G-102 Astir cs","PJ",""]
["Martin Zahalka",1987,"M","Staňkov","CZ/C1","Toužim Cup 2019 - Klub","CZ",2019,4,3544,0.91,9344,8503,"x",null,"DG-100,101G","8B",""]
["Roman Jokl",1979,"M","Letkov","CZ/C1","Toužim Cup 2019 - Klub","CZ",2019,5,3517,0.91,9193,8366,"x",null,"ASW-19B","JL",""]
["Michal Drab",1969,"M","Letkov","CZ/C1","Toužim Cup 2019 - Klub","CZ",2019,6,3459,0.91,8984,8175,"x",null,"LS 1d","S3",""]
["Pavel Jiranek",1993,"M","Toužim","CZ/C1","Toužim Cup 2019 - Klub","CZ",2019,7,3414,0.91,8800,8008,"x",null,"Std. Cirrus","IYD",""]
["Ladislav Jozsa",1981,"M","Medlánky","CZ/M","Toužim Cup 2019 - Klub","CZ",2019,8,3376,0.91,8629,7852,"x",null,"Std. Cirrus","LJ",""]
["Jan Hlavacek",1965,"M","Rakovník","CZ/C1","Toužim Cup 2019 - Klub","CZ",2019,9,3369,0.91,8516,7750,"x",null,"Discus b","SJ",""]
["Martin Fric",1967,"M","Raná","CZ/C2","Toužim Cup 2019 - Klub","CZ",2019,10,3261,0.91,8213,7474,"x",null,"LS 3 15m","H1",""]
["Ivan Harasta 98",1998,"M","Toužim","CZ/C1","Toužim Cup 2019 - Klub","CZ",2019,11,3117,0.91,7843,7137,"x",null,"ASW-15B","HI","Junior v roce 2021"]
["Ivan Harasta 65",1965,"M","Toužim","CZ/C1","Toužim Cup 2019 - Klub","CZ",2019,12,3063,0.91,7642,6954,null,null,"ASW-15B","TT",""]
["Tomas Talanda",1988,"M","Křižanov","CZ/M","Toužim Cup 2019 - Klub","CZ",2019,13,2772,0.91,6997,6367,"x",null,"LS 1f","DP",""]
["Martin Valenta",1969,"M","Toužim","CZ/C1","Toužim Cup 2019 - Klub","CZ",2019,14,2753,0.91,6861,6244,"x",null,"LS 1c","P2",""]
["Petr Lonsky",1965,"M","Toužim","CZ/C1","Toužim Cup 2019 - Klub","CZ",2019,15,2743,0.91,6742,6135,"x",null,"LS 1d","CL",""]
["Lubomir Motl",1959,"M","Kyjov","CZ/M","Toužim Cup 2019 - Klub","CZ",2019,16,2634,0.91,6438,5859,null,null,"LS 1f","G2",""]
["Josef Kreutzer",1992,"M","Letkov","CZ/C1","Toužim Cup 2019 - Klub","CZ",2019,17,2461,0.91,6014,5473,"x",null,"Std. Cirrus","AL",""]
["Rostislav Fric",1973,"M","Raná","CZ/C2","Toužim Cup 2019 - Klub","CZ",2019,18,2377,0.91,5756,5238,"x",null,"ASW-19","FR",""]
["Jan Heroudek",1970,"M","Rakovník","CZ/C1","Toužim Cup 2019 - Klub","CZ",2019,19,2285,0.91,5484,4990,"x",null,"DG-100,101G",75,""]
["Stanislav Doskocil",1978,"M","Medlánky","CZ/M","Toužim Cup 2019 - Klub","CZ",2019,20,2106,0.91,5048,4594,"x",null,"Std. Cirrus","SD",""]
["Tomas Seifert",1972,"M","Raná","CZ/C2","Toužim Cup 2019 - Klub","CZ",2019,21,2058,0.91,4858,4421,"x",null,"ASW-15B","MC",""]
["Martin Nejezchleb",1979,"M","Plzeň Bory","CZ/C1","Toužim Cup 2019 - Klub","CZ",2019,22,1847,0.91,4363,3970,"x",null,"Twin III","TO",""]
["Tomas Jung",1950,"M","Zbraslavice","CZ/C1","Toužim Cup 2019 - Klub","CZ",2019,23,1682,0.91,3953,3597,null,null,"ASW-19 Club","O2",""]
["Jan Zanda",1983,"M","Letkov","CZ/C1","Toužim Cup 2019 - Klub","CZ",2019,24,1563,0.91,3630,3303,"x",null,"LS 1c","AN",""]
["Vit Prokop",1987,"M","Medlánky","CZ/M","Toužim Cup 2019 - Klub","CZ",2019,25,1467,0.91,3350,3049,"x",null,"Std. Cirrus","MF",""]
["Jiri Cincera",1966,"M","Toužim","CZ/C1","Toužim Cup 2019 - Klub","CZ",2019,26,1413,0.91,3149,2866,"x",null,"G-102 Astir cs","LS",""]
["Frantisek Brozman",1960,"M","Tachov","CZ/C1","Toužim Cup 2019 - Klub","CZ",2019,27,1169,0.91,{"$f":"ROUND(J2412/MAX($J$2386:$J$2416)*10000*0.7+(MAX($I$2386:$I$2416)-I2412)/(MAX($I$2386:$I$2416)-1)*10000*0.3,0)","v":2591},2358,"x",null,"VT116 Orlik II","TI",""]
["Vaclav Halek",1966,"M","Toužim","CZ/C1","Toužim Cup 2019 - Klub","CZ",2019,28,1048,0.91,2265,2061,"x",null,"G-102 Astir cs","PB",""]
["Vaclav Hrdina",1984,"M","Letkov","CZ/C1","Toužim Cup 2019 - Klub","CZ",2019,29,815,0.91,1728,1572,"x",null,"Std. Cirrus","SB",""]
["Jan Konecny",1972,"M","Rakovník","CZ/C1","Toužim Cup 2019 - Klub","CZ",2019,30,665,0.91,1347,1226,"x",null,"LS 7",72,""]
["Frantisek Kriz",1961,"M","Toužim","CZ/C1","Toužim Cup 2019 - Klub","CZ",2019,31,514,0.91,964,877,"x",null,"LS 1d","FK",""]
["Tomas Rendla",1973,"M","Zbraslavice","CZ/C1","Toužim Cup 2019 - Kombi","CZ",2019,1,3751,0.90500000000000003,{"$f":"ROUND(J2417/MAX($J$2417:$J$2438)*10000*0.7+(MAX($I$2417:$I$2438)-I2417)/(MAX($I$2417:$I$2438)-1)*10000*0.3,0)","v":10000},9050,"x",null,"Arcus M","EY",""]
["Vratislav Sram",1966,"M","Broumov","CZ/C2","Toužim Cup 2019 - Kombi","CZ",2019,2,3324,0.90500000000000003,{"$f":"ROUND(J2418/MAX($J$2417:$J$2438)*10000*0.7+(MAX($I$2417:$I$2438)-I2418)/(MAX($I$2417:$I$2438)-1)*10000*0.3,0)","v":9060},8199,"x",null,"Nimbus 2, 2b,2M (voda)","NB",""]
["Ondrej Dupal",1966,"M","GAC Benešov","CZ/C1","Toužim Cup 2019 - Kombi","CZ",2019,3,3280,0.90500000000000003,8835,7996,null,null,"ASG 29E 18m 600kg (voda)","GO",""]
["Karel Benisek 76",1976,"M","Toužim","CZ/C1","Toužim Cup 2019 - Kombi","CZ",2019,4,3187,0.90500000000000003,8519,7710,"x",null,"Ventus ct 17,6m (voda)","KB",""]
["Andreas Frech",null,"M","SFC Tulln","AT","Toužim Cup 2019 - Kombi","CZ",2019,5,3055,0.90500000000000003,8130,7358,null,null,"Duo Discus T","TWO","Není v databázi"]
["Daniel Novak",{"$f":"VLOOKUP(A2422,Pilot,2,0)","v":1971},{"$f":"VLOOKUP(A2422,Pilot,5,0)","v":"M"},{"$f":"VLOOKUP(A2422,Pilot,3,0)","v":"Letkov"},{"$f":"VLOOKUP(A2422,Pilot,4,0)","v":"CZ/C1"},"Toužim Cup 2019 - Kombi","CZ",2019,6,3020,0.90500000000000003,7922,7169,"x",null,"Nimbus 3/24.5m",12,""]
["Zdenek Schenk",1972,"M","Hranice","CZ/M","Toužim Cup 2019 - Kombi","CZ",2019,7,2966,0.90500000000000003,7678,6949,null,null,"Ventus cm 17,6m","ŠNeK",""]
["Jaroslav Hot",1965,"M","Toužim","CZ/C1","Toužim Cup 2019 - Kombi","CZ",2019,8,2837,0.90500000000000003,7294,6601,"x",null,"Ventus cm 17,6m (voda)","SW",""]
["Roman Lanzendorf",1964,"M","Letkov","CZ/C1","Toužim Cup 2019 - Kombi","CZ",2019,9,2807,0.90500000000000003,7095,6421,"x",null,"Ventus ct 17,6m","AW",""]
["Milos Pajr",1966,"M","Jičín","CZ/C2","Toužim Cup 2019 - Kombi","CZ",2019,10,2786,0.90500000000000003,6913,6256,"x",null,"HPH 304M Shark 560kg 18m (voda)","HPH",""]
["Tomas Profeld",1964,"M","Jičín","CZ/C2","Toužim Cup 2019 - Kombi","CZ",2019,11,2738,0.90500000000000003,6681,6046,"x",null,"Ventus 2 cm 18m 525kg (voda)","OZ",""]
["Jiri Prochazka",1971,"M","Toužim","CZ/C1","Toužim Cup 2019 - Kombi","CZ",2019,12,2697,0.90500000000000003,6462,5848,null,null,"DG-500 22m","SR",""]
["Petr Bartak",1984,"M","Letkov","CZ/C1","Toužim Cup 2019 - Kombi","CZ",2019,13,2627,0.90500000000000003,6188,5600,"x",null,"LS 6c 18m+W (voda)","BL",""]
["Frantisek Myska",1968,"M","Most","CZ/C2","Toužim Cup 2019 - Kombi","CZ",2019,14,2612,0.90500000000000003,6017,5445,"x",null,"Ventus bt 16,6m","SK",""]
["Karl Schiffleithner",null,"M","SFC Tulln","AT","Toužim Cup 2019 - Kombi","CZ",2019,15,2574,0.90500000000000003,5804,5253,null,null,"Ventus 2cxt 18m 600kg","IX","Není v databázi"]
["Petr Jiranek 63",{"$f":"VLOOKUP(A2432,Pilot,2,0)","v":1962},{"$f":"VLOOKUP(A2432,Pilot,5,0)","v":"M"},{"$f":"VLOOKUP(A2432,Pilot,3,0)","v":"Toužim"},{"$f":"VLOOKUP(A2432,Pilot,4,0)","v":"CZ/C1"},"Toužim Cup 2019 - Kombi","CZ",2019,16,2463,0.90500000000000003,{"$f":"ROUND(J2432/MAX($J$2417:$J$2438)*10000*0.7+(MAX($I$2417:$I$2438)-I2432)/(MAX($I$2417:$I$2438)-1)*10000*0.3,0)","v":5454},4936,null,null,"Ventus ct 17,6m (voda)","EB",""]
["Vaclav Svoboda",{"$f":"VLOOKUP(A2433,Pilot,2,0)","v":1970},{"$f":"VLOOKUP(A2433,Pilot,5,0)","v":"M"},{"$f":"VLOOKUP(A2433,Pilot,3,0)","v":"Letkov"},{"$f":"VLOOKUP(A2433,Pilot,4,0)","v":"CZ/C1"},"Toužim Cup 2019 - Kombi","CZ",2019,17,2090,0.90500000000000003,4615,4177,"x",null,"LS 8b,t,18 18m (voda)",301,""]
["Olga Mokosova",{"$f":"VLOOKUP(A2434,Pilot,2,0)","v":1970},{"$f":"VLOOKUP(A2434,Pilot,5,0)","v":"F"},{"$f":"VLOOKUP(A2434,Pilot,3,0)","v":"Jihlava"},{"$f":"VLOOKUP(A2434,Pilot,4,0)","v":"CZ/M"},"Toužim Cup 2019 - Kombi","CZ",2019,18,1993,0.90500000000000003,4291,3883,"x","x","LS 6c 18m+W (voda)","MM",""]
["Uwe Tolkmitt",null,"M","LSV Greiz","DE","Toužim Cup 2019 - Kombi","CZ",2019,19,1707,0.90500000000000003,3614,3271,null,null,"DG-400 17m","JO","Není v databázi"]
["Jaroslav Cejka",{"$f":"VLOOKUP(A2436,Pilot,2,0)","v":1952},{"$f":"VLOOKUP(A2436,Pilot,5,0)","v":"M"},{"$f":"VLOOKUP(A2436,Pilot,3,0)","v":"Letkov"},{"$f":"VLOOKUP(A2436,Pilot,4,0)","v":"CZ/C1"},"Toužim Cup 2019 - Kombi","CZ",2019,20,1643,0.90500000000000003,3352,3034,"x",null,"LS 8/18m","EJ",""]
["Roman Michalek",{"$f":"VLOOKUP(A2437,Pilot,2,0)","v":1974},{"$f":"VLOOKUP(A2437,Pilot,5,0)","v":"M"},{"$f":"VLOOKUP(A2437,Pilot,3,0)","v":"Toužim"},{"$f":"VLOOKUP(A2437,Pilot,4,0)","v":"CZ/C1"},"Toužim Cup 2019 - Kombi","CZ",2019,21,1527,0.90500000000000003,2992,2708,"x",null,"DG-400 17m","TK",""]
["Raul Flicker",null,"M","SFC Tulln","AT","Toužim Cup 2019 - Kombi","CZ",2019,22,1426,0.90500000000000003,2661,2408,null,null,"Ventus 2CM","FF","Není v databázi"]
["Alena Netusilova",{"$f":"VLOOKUP(A2439,Pilot,2,0)","v":1970},{"$f":"VLOOKUP(A2439,Pilot,5,0)","v":"F"},{"$f":"VLOOKUP(A2439,Pilot,3,0)","v":"Zbraslavice"},{"$f":"VLOOKUP(A2439,Pilot,4,0)","v":"CZ/C1"},"Zbraslavický bludišťák 2019 - Kombi","CZ",2019,1,605,{"$f":"VLOOKUP(F2439,Soutez,12,0)","v":0},{"$f":"ROUND(J2439/MAX($J$2439:$J$2457)*10000*0.7+(MAX($I$2439:$I$2457)-I2439)/(MAX($I$2439:$I$2457)-1)*10000*0.3,0)","v":10000},0,null,null,"JS 3","ZE",{"$f":"IF(ISERROR(VLOOKUP(A2439,Pilot,6,0)),\"Není v databázi\",VLOOKUP(A2439,Pilot,6,0))","v":""}]
["Jan Ratz",1987,"M","Zbraslavice","CZ/C1","Zbraslavický bludišťák 2019 - Kombi","CZ",2019,2,514,0,{"$f":"ROUND(J2440/MAX($J$2439:$J$2457)*10000*0.7+(MAX($I$2439:$I$2457)-I2440)/(MAX($I$2439:$I$2457)-1)*10000*0.3,0)","v":8780},0,null,null,"Std. Cirrus","REX",""]
["Martin Chovan",1973,"M","Zbraslavice","CZ/C1","Zbraslavický bludišťák 2019 - Kombi","CZ",2019,3,495,0,8394,0,null,null,"Std. Cirrus","C1",""]
["Jakub Kmosek",1978,"M","Zbraslavice","CZ/C1","Zbraslavický bludišťák 2019 - Kombi","CZ",2019,4,365,0,6723,{"$f":"ROUND(K2442*L2442,0)","v":0},null,null,"Std. Cirrus","ST",""]
["Richard Jensen",1965,"M","Zbraslavice","CZ/C1","Zbraslavický bludišťák 2019 - Kombi","CZ",2019,5,358,0,6475,0,null,null,"VSO-10",47,""]
["Barbora Moravcova",1994,"F","Zbraslavice","CZ/C1","Zbraslavický bludišťák 2019 - Kombi","CZ",2019,6,357,0,6297,0,null,null,"ASW 19B","CF",""]
["Vojtech Svoboda",1994,"M","Zbraslavice","CZ/C1","Zbraslavický bludišťák 2019 - Kombi","CZ",2019,7,324,0,5749,0,null,null,"VSO-10","F2",""]
["Jiri Balak",1978,"M","Zbraslavice","CZ/C1","Zbraslavický bludišťák 2019 - Kombi","CZ",2019,8,320,0,5536,0,null,null,"G 102 Club Astir","MW",""]
["Jiri Hodan",1959,"M","Zbraslavice","CZ/C1","Zbraslavický bludišťák 2019 - Kombi","CZ",2019,9,279,0,4895,0,null,null,"G 103 Twin II","RB",""]
["Jan Smekal",1976,"M","Zbraslavice","CZ/C1","Zbraslavický bludišťák 2019 - Kombi","CZ",2019,10,271,0,4636,0,null,null,"ASW 20","NW",""]
["Petr Starek",1974,"M","Zbraslavice","CZ/C1","Zbraslavický bludišťák 2019 - Kombi","CZ",2019,11,223,0,3913,0,null,null,"HPH 304 Shark",66,""]
["Rudolf Jung",1954,"M","Zbraslavice","CZ/C1","Zbraslavický bludišťák 2019 - Kombi","CZ",2019,12,167,0,3099,0,null,null,"VSM-40","D",""]
["Milan Riha",1973,"M","Zbraslavice","CZ/C1","Zbraslavický bludišťák 2019 - Kombi","CZ",2019,13,151,0,{"$f":"ROUND(J2451/MAX($J$2439:$J$2457)*10000*0.7+(MAX($I$2439:$I$2457)-I2451)/(MAX($I$2439:$I$2457)-1)*10000*0.3,0)","v":2747},0,null,null,"ASW 19B","O2",""]
["David Darnady",null,"M",null,"SK","Zbraslavický bludišťák 2019 - Kombi","CZ",2019,14,127,0,2303,0,null,null,"ASW 20",null,"Není v databázi"]
["Ondrej Prazsky",{"$f":"VLOOKUP(A2453,Pilot,2,0)","v":1978},{"$f":"VLOOKUP(A2453,Pilot,5,0)","v":"M"},{"$f":"VLOOKUP(A2453,Pilot,3,0)","v":"Zbraslavice"},{"$f":"VLOOKUP(A2453,Pilot,4,0)","v":"CZ/C1"},"Zbraslavický bludišťák 2019 - Kombi","CZ",2019,15,119,0,2044,0,null,null,"Std. Cirrus","P2",""]
["Jan Bejdl",1978,"M","Zbraslavice","CZ/C1","Zbraslavický bludišťák 2019 - Kombi","CZ",2019,16,93,0,1576,0,null,null,"G 102 Club Astir","J1",""]
["Michaela Rendlova",2004,"F","Toužim","CZ/C1","Zbraslavický bludišťák 2019 - Kombi","CZ",2019,17,46,0,866,0,null,null,"JS 1 Revelation","VX","Junior v roce 2021"]
["Lenka Kuthanova",1960,"F","Tábor","CZ/C1","Zbraslavický bludišťák 2019 - Kombi","CZ",2019,18,45,0,687,0,null,null,"JS 1 Revelation","LX",""]
["David Sachl",1978,"M","Kralupy","CZ/C1","Zbraslavický bludišťák 2019 - Kombi","CZ",2019,19,16,0,185,0,null,null,"DG 300",null,""]
["Vojtech Novotny",1992,"M","Kralupy","CZ/C1","JPJ 2020 - Klub","CZ",2020,1,5131,0.91,{"$f":"ROUND(J2458/MAX($J$2458:$J$2490)*10000*0.7+(MAX($I$2458:$I$2490)-I2458)/(MAX($I$2458:$I$2490)-1)*10000*0.3,0)","v":10000},9100,"x",null,"LS-1f","EF",""]
["Josef Novotny",1983,"M","Přibyslav","CZ/C2","JPJ 2020 - Klub","CZ",2020,2,5093,0.91,{"$f":"ROUND(J2459/MAX($J$2458:$J$2490)*10000*0.7+(MAX($I$2458:$I$2490)-I2459)/(MAX($I$2458:$I$2490)-1)*10000*0.3,0)","v":9854},8967,"x",null,"Std. Cirrus","AW",""]
["Jindrich Svorc",1978,"M","Letňany","CZ/C1","JPJ 2020 - Klub","CZ",2020,3,4998,0.91,9631,8764,"x",null,"Std. Cirrus","IMI",""]
["Martin Ficnar",1971,"M","Šumperk","CZ/M","JPJ 2020 - Klub","CZ",2020,4,4951,0.91,9473,8620,"x",null,"LS-3a 15m","S20",""]
["Martin Urner",1974,"M","Letňany","CZ/C1","JPJ 2020 - Klub","CZ",2020,5,4917,0.91,9333,8493,"x",null,"ASW-15B","JJ",""]
["Petr Kolomaznik",1981,"M","Šumperk","CZ/M","JPJ 2020 - Klub","CZ",2020,6,4491,0.91,8658,7879,"x",null,"LS-1f","LS",""]
["Antonin Novotny",1972,"M","Luhačovice","CZ/M","JPJ 2020 - Klub","CZ",2020,7,4462,0.91,8525,7758,"x",null,"Std. Cirrus","SP",""]
["Petr Valenta 94",1994,"M","Kunovice","CZ/M","JPJ 2020 - Klub","CZ",2020,8,4433,0.91,8391,7636,"x",null,"Astir CS","BU",""]
["Josef Novak",1981,"M","Kunovice","CZ/M","JPJ 2020 - Klub","CZ",2020,9,4284,0.91,8094,7366,"x",null,"LS-1f","JT",""]
["Petr Havrlant",1965,"M","Šumperk","CZ/M","JPJ 2020 - Klub","CZ",2020,10,4150,0.91,7818,7114,"x",null,"ASW-15B","Q1",""]
["Libor Bednarik",1972,"M","Kunovice","CZ/M","JPJ 2020 - Klub","CZ",2020,11,4109,0.91,7668,6978,"x",null,"Std. Cirrus","PIF",""]
["Michaela Krizova",2001,"F","Přibyslav","CZ/C2","JPJ 2020 - Klub","CZ",2020,12,4088,0.91,7546,6867,"x","x","ASW-15B","BE","Junior v roce 2021"]
["Rene Hudak",1972,"M","Kunovice","CZ/M","JPJ 2020 - Klub","CZ",2020,13,4087,0.91,7451,6780,"x",null,"Std. Cirrus WL","NK",""]
["Martin Svarc",1981,"M","Olomouc","CZ/M","JPJ 2020 - Klub","CZ",2020,14,3935,0.91,7150,6507,"x",null,"DG-101 G","HE",""]
["Jiri Koudela",1974,"M","Vyškov","CZ/M","JPJ 2020 - Klub","CZ",2020,15,3905,0.91,7015,6384,"x",null,"ASW-19B","JK",""]
["Petr Kolacek",1965,"M","Šumperk","CZ/M","JPJ 2020 - Klub","CZ",2020,16,3354,0.91,6169,5614,"x",null,"SZD-48 Jantar std. 3","IX",""]
["Roman Schotli",1970,"M","Hranice","CZ/M","JPJ 2020 - Klub","CZ",2020,17,3343,0.91,6061,5516,"x",null,"ASW-19B",19,""]
["Karel Horalek",1976,"M","Olomouc","CZ/M","JPJ 2020 - Klub","CZ",2020,18,3229,0.91,5811,5288,"x",null,"LS-3 15m","Y1",""]
["Stepan Obrovsky",1990,"M","Frýdlant","CZ/M","JPJ 2020 - Klub","CZ",2020,19,3150,0.91,5610,5105,"x",null,"Std. Cirrus",22,""]
["Josef Hlusek",1993,"M","Kunovice","CZ/M","JPJ 2020 - Klub","CZ",2020,20,3138,0.91,5500,5005,"x",null,"Std. Cirrus","WO",""]
["Peter Kaspar",1980,"M","Vyškov","CZ/M","JPJ 2020 - Klub","CZ",2020,21,3111,0.91,5369,4886,"x",null,"Astir CS 77","AP",""]
["Pavel Simek",1957,"M","Vyškov","CZ/M","JPJ 2020 - Klub","CZ",2020,22,2989,0.91,5109,4649,"x",null,"DG-1000S 18m",66,""]
["Jan Pokluda",1973,"M","Šumperk","CZ/M","JPJ 2020 - Klub","CZ",2020,23,2868,0.91,4850,4414,"x",null,"ASW-15B WL","JG",""]
["Lukas Petrzela",1987,"M","Olomouc","CZ/M","JPJ 2020 - Klub","CZ",2020,24,2349,0.91,4048,3684,"x",null,"Astir CS","AL",""]
["Ludek Mikl",1963,"M","Kroměříž","CZ/M","JPJ 2020 - Klub","CZ",2020,25,1806,0.91,3214,2925,"x",null,"Astir CS Jeans","L1",""]
["Yvona Vyhnankova",1963,"F","Olomouc","CZ/M","JPJ 2020 - Klub","CZ",2020,26,1650,0.91,2907,2645,null,null,"ASW-15","YZ",""]
["Petr Lonsky",1965,"M","Toužim","CZ/C1","JPJ 2020 - Klub","CZ",2020,27,1585,0.91,{"$f":"ROUND(J2484/MAX($J$2458:$J$2490)*10000*0.7+(MAX($I$2458:$I$2490)-I2484)/(MAX($I$2458:$I$2490)-1)*10000*0.3,0)","v":2725},2480,null,null,"Cirrus VTC","JP",""]
["Jan Zezula",{"$f":"VLOOKUP(A2485,Pilot,2,0)","v":1979},{"$f":"VLOOKUP(A2485,Pilot,5,0)","v":"M"},{"$f":"VLOOKUP(A2485,Pilot,3,0)","v":"Letňany"},{"$f":"VLOOKUP(A2485,Pilot,4,0)","v":"CZ/C1"},"JPJ 2020 - Klub","CZ",2020,28,1455,0.91,2454,2233,null,null,"ASW-19B","HD",""]
["Viktor Zimcik",1976,"M","Kunovice","CZ/M","JPJ 2020 - Klub","CZ",2020,29,738,0.91,1382,1258,"x",null,"Astir CS","O5",""]
["Jan Podhrazsky",1976,"M","Šumperk","CZ/M","JPJ 2020 - Klub","CZ",2020,30,696,0.91,1231,1120,"x",null,"Astir CS 77","NZ",""]
["Karel Ertl",1939,"M","LK Břeclav","CZ/M","JPJ 2020 - Klub","CZ",2020,31,695,0.91,1136,1034,"x",null,"TST-10M Atlas","KE",""]
["Libor Danhel",1966,"M","Kunovice","CZ/M","JPJ 2020 - Klub","CZ",2020,32,300,0.91,503,458,null,null,"Std. Cirrus","OK",""]
["Pavel Handl",1971,"M","Kroměříž","CZ/M","JPJ 2020 - Klub","CZ",2020,33,279,0.91,381,347,"x",null,"Phoebus A1","P1",""]
["Frantisek Vancura",1966,"M","Hranice","CZ/M","JPJ 2020 - Kombi","CZ",2020,1,4741,0.91,{"$f":"ROUND(J2491/MAX($J$2491:$J$2511)*10000*0.7+(MAX($I$2491:$I$2511)-I2491)/(MAX($I$2491:$I$2511)-1)*10000*0.3,0)","v":10000},9100,"x",null,"Nimbus 3T 24,5m WL 750kg","A1",""]
["Marek Blatak",1969,"M","Šumperk","CZ/M","JPJ 2020 - Kombi","CZ",2020,2,4740,0.91,{"$f":"ROUND(J2492/MAX($J$2491:$J$2511)*10000*0.7+(MAX($I$2491:$I$2511)-I2492)/(MAX($I$2491:$I$2511)-1)*10000*0.3,0)","v":9849},8963,"x",null,"Duo Discus T 700kg","ZS",""]
["Kamil Sohr",1973,"M","Šumperk","CZ/M","JPJ 2020 - Kombi","CZ",2020,3,4645,0.91,9558,8698,"x",null,"Ventus c 17,6m","W",""]
["Jiri Steiger",1969,"M","Olomouc","CZ/M","JPJ 2020 - Kombi","CZ",2020,4,4451,0.91,9122,8301,"x",null,"Duo Discus XLT","JIM",""]
["Michal Cechmanek",1978,"M","Luhačovice","CZ/M","JPJ 2020 - Kombi","CZ",2020,5,4371,0.91,8854,8057,"x",null,"ASW-20 L +FL 16,6m","MK",""]
["Jan Dersak 69",1969,"M","Kralupy","CZ/C1","JPJ 2020 - Kombi","CZ",2020,6,4344,0.91,8664,7884,"x",null,"HpH 304JS SHARK 18m 573kg","DJ",""]
["Miroslav Koci",1961,"M","Žamberk","CZ/C2","JPJ 2020 - Kombi","CZ",2020,7,4315,0.91,8471,7709,"x",null,"Ventus 2cxm 18m 565kg","E8",""]
["Tomas Prikryl",1973,"M","Vyškov","CZ/M","JPJ 2020 - Kombi","CZ",2020,8,4070,0.91,7959,7243,"x",null,"Ventus 2cm 18m 525kg","FN",""]
["Zdenek Schenk",1972,"M","Hranice","CZ/M","JPJ 2020 - Kombi","CZ",2020,9,3921,0.91,{"$f":"ROUND(J2499/MAX($J$2491:$J$2511)*10000*0.7+(MAX($I$2491:$I$2511)-I2499)/(MAX($I$2491:$I$2511)-1)*10000*0.3,0)","v":7589},6906,null,null,"Ventus cm 17,6m","ŠNeK",""]
["Jaroslav Buryan",1953,"M","Zábřeh","CZ/M","JPJ 2020 - Kombi","CZ",2020,10,3872,0.91,7367,6704,"x",null,"ASW-20 (A)+F 15m WL","NS",""]
["Jan Simon",1970,"M","Kralupy","CZ/C1","JPJ 2020 - Kombi","CZ",2020,11,3730,0.91,7007,6376,"x",null,"Ventus ct 17,6m","KR",""]
["Ladislav Jozsa",1981,"M","Medlánky","CZ/M","JPJ 2020 - Kombi","CZ",2020,12,3666,0.91,6763,6154,"x",null,"Ventus c 17.6m","WW",""]
["Miroslav Sklenar",1964,"M","Žamberk","CZ/C2","JPJ 2020 - Kombi","CZ",2020,13,3582,{"$f":"VLOOKUP(F2503,Soutez,12,0)","v":0.91},6489,5905,"x",null,"Duo Discus 700kg","VP",{"$f":"IF(ISERROR(VLOOKUP(A2503,Pilot,6,0)),\"Není v databázi\",VLOOKUP(A2503,Pilot,6,0))","v":""}]
["Roman Cerny",1971,"M","Hranice","CZ/M","JPJ 2020 - Kombi","CZ",2020,14,3089,0.91,5611,5106,"x",null,"LAK-17AT 18m","B2",""]
["Pavel Haluza",1966,"M","Prostějov","CZ/M","JPJ 2020 - Kombi","CZ",2020,15,2817,0.91,5059,4604,"x",null,"Nimbus 2b","HT",""]
["Vit Grossmann",1977,"M","Hranice","CZ/M","JPJ 2020 - Kombi","CZ",2020,16,2783,0.91,4859,{"$f":"ROUND(K2506*L2506,0)","v":4422},"x",null,"Duo Discus 700kg","OK",""]
["Tomas Profeld",1964,"M","Jičín","CZ/C2","JPJ 2020 - Kombi","CZ",2020,17,2577,0.91,4405,4009,null,null,"Ventus 2cm 18m 525kg","OZ",""]
["Martin Kriz",1968,"M","Přibyslav","CZ/C2","JPJ 2020 - Kombi","CZ",2020,18,2528,0.91,4183,3807,"x",null,"ASW-20 (A)+F 15m WL",67,""]
["Albrecht Beat",1953,"M","Šumperk","CZ/M","JPJ 2020 - Kombi","CZ",2020,19,2176,0.91,3513,3197,"x",null,"LS-8 15m","GL",""]
["Vladimir Spilka",1940,"M","Hranice","CZ/M","JPJ 2020 - Kombi","CZ",2020,20,1712,0.91,2678,2437,"x",null,"Nimbus 2b","AY",""]
["Antonin Kutalek",1943,"M","Zábřeh","CZ/M","JPJ 2020 - Kombi","CZ",2020,21,1439,0.91,2125,1934,"x",null,"Mini-Nimbus c","GLk",""]
["Klara Teichmannova",1993,"F","Hronov","CZ/C2","HOP 2020 - Klub","CZ",2020,1,3803,0.755,{"$f":"ROUND(J2512/MAX($J$2512:$J$2537)*10000*0.7+(MAX($I$2512:$I$2537)-I2512)/(MAX($I$2512:$I$2537)-1)*10000*0.3,0)","v":10000},7550,"x","x","VT-116 Orlik 2",5509,""]
["Michal Janda",1972,"M","Broumov","CZ/C2","HOP 2020 - Klub","CZ",2020,2,3743,0.755,{"$f":"ROUND(J2513/MAX($J$2512:$J$2537)*10000*0.7+(MAX($I$2512:$I$2537)-I2513)/(MAX($I$2512:$I$2537)-1)*10000*0.3,0)","v":9770},7376,"x",null,"VT-116 Orlik 2",7402,""]
["Oldrich Slavicek",1959,"M","Hronov","CZ/C2","HOP 2020 - Klub","CZ",2020,3,3647,0.755,9473,7152,"x",null,"VT-116 Orlik 2",4310,""]
["Milan Svoboda 80",1980,"M","Havlíčkův Brod","CZ/C2","HOP 2020 - Klub","CZ",2020,4,3533,0.755,9143,6903,"x",null,"VT-116 Orlik 2",6446,""]
["Miroslav Stepan",1955,"M","Žamberk","CZ/C2","HOP 2020 - Klub","CZ",2020,5,3450,0.755,8870,6697,"x",null,"VT-116 Orlik 2",8412,""]
["Wolfgang Sluka",{"$f":"VLOOKUP(A2517,Pilot,2,0)","v":1942},"M","Liberec","CZ/C2","HOP 2020 - Klub","CZ",2020,6,3386,0.755,8632,6517,null,null,"VT-116 Orlik 2",8425,""]
["Tomas Mezera",1973,"M","Raná","CZ/C2","HOP 2020 - Klub","CZ",2020,7,3095,0.755,7977,6023,"x",null,"VT-116 Orlik 2",8401,""]
["Josef Linhart, Milos Dedera",null,"M","AK Medlánky",null,"HOP 2020 - Klub","CZ",2020,8,2950,0.755,7590,5730,null,null,"Ka 6 E",9781,"Není v databázi"]
["Jaromir Vlk",{"$f":"VLOOKUP(A2520,Pilot,2,0)","v":1959},{"$f":"VLOOKUP(A2520,Pilot,5,0)","v":"M"},{"$f":"VLOOKUP(A2520,Pilot,3,0)","v":"Šumperk"},{"$f":"VLOOKUP(A2520,Pilot,4,0)","v":"CZ/M"},"HOP 2020 - Klub","CZ",2020,9,2829,0.755,7247,5471,"x",null,"VT-116 Orlik 2",6907,""]
["Ondrej Teichman",1984,"M","Dvůr Králové","CZ/C2","HOP 2020 - Klub","CZ",2020,10,2678,0.755,6849,5171,"x",null,"VT-116 Orlik 2",6445,""]
["Jaromir Hendrych",1954,"M","Raná","CZ/C2","HOP 2020 - Klub","CZ",2020,11,2603,0.755,6591,4976,"x",null,"M-35",2403,""]
["Michal Nutil",1966,"M","Náchod","CZ/C2","HOP 2020 - Klub","CZ",2020,12,2510,0.755,6300,4757,"x",null,"VT-116 Orlik 2",7424,""]
["Vaclav Kysilka",1979,"M","GAC Benešov","CZ/C1","HOP 2020 - Klub","CZ",2020,13,2509,0.755,6178,4664,"x",null,"VT-116 Orlik 2",8430,""]
["Petr Vezda",1974,"M","Medlánky","CZ/M","HOP 2020 - Klub","CZ",2020,14,2312,0.755,{"$f":"ROUND(J2525/MAX($J$2512:$J$2537)*10000*0.7+(MAX($I$2512:$I$2537)-I2525)/(MAX($I$2512:$I$2537)-1)*10000*0.3,0)","v":5696},4300,"x",null,"VT-116 Orlik 2",4321,""]
["Oldrich Hlavacek",1973,"M","Medlánky","CZ/M","HOP 2020 - Klub","CZ",2020,15,2261,0.755,5482,4139,"x",null,"VT-116 Orlik 2",4307,""]
["Jana Mezerova",1975,"F","Raná","CZ/C2","HOP 2020 - Klub","CZ",2020,16,2245,0.755,5332,4026,"x","x","VT-116 Orlik 2",7425,""]
["Matej Jelinek",1999,"M","Hronov","CZ/C2","HOP 2020 - Klub","CZ",2020,17,2172,0.755,5078,3834,"x",null,"VT-116 Orlik 2",6922,"Junior v roce 2021"]
["Krystof Mimra",1992,"M","Most","CZ/C2","HOP 2020 - Klub","CZ",2020,18,2135,0.755,{"$f":"ROUND(J2529/MAX($J$2512:$J$2537)*10000*0.7+(MAX($I$2512:$I$2537)-I2529)/(MAX($I$2512:$I$2537)-1)*10000*0.3,0)","v":4890},3692,"x",null,"VT-116 Orlik 2",7413,""]
["Petr Seibrt",1974,"M","Náchod","CZ/C2","HOP 2020 - Klub","CZ",2020,19,2134,0.755,4768,3600,"x",null,"VT-16 Orlik",2412,""]
["Milos Hrabe",1979,"M","Letňany","CZ/C1","HOP 2020 - Klub","CZ",2020,20,2019,0.755,4436,3349,"x",null,"VT-116 Orlik 2",6444,""]
["Miroslav Major",1968,"M","Kralupy","CZ/C1","HOP 2020 - Klub","CZ",2020,21,1923,0.755,4140,3126,"x",null,"VT-116 Orlik 2",7403,""]
["Petr Vlasak",1974,"M","Medlánky","CZ/M","HOP 2020 - Klub","CZ",2020,22,1563,0.755,3357,2535,"x",null,"VT-16 Orlik",2909,""]
["sarka Lochova",1966,"F","Šumperk","CZ/M","HOP 2020 - Klub","CZ",2020,23,1561,0.755,3233,2441,null,null,"VT-116 Orlik 2",7445,""]
["Tomas Holenda",1956,"M","Havlíčkův Brod","CZ/C2","HOP 2020 - Klub","CZ",2020,24,1378,0.755,2776,2096,"x",null,"VT-116 Orlik 2",4314,""]
["Jiri Klicnar",1965,"M","Medlánky","CZ/M","HOP 2020 - Klub","CZ",2020,25,1316,0.755,2542,1919,"x",null,"M-28",2903,""]
["Martin Adamec",1971,"M","Medlánky","CZ/M","HOP 2020 - Klub","CZ",2020,26,723,0.755,1331,1005,"x",null,"VT-116 Orlik 2",8406,""]
["David Mach",1994,"M","Hronov","CZ/C2","HOP 2020 - Kombi","CZ",2020,1,4289,0.76,{"$f":"ROUND(J2538/MAX($J$2538:$J$2556)*10000*0.7+(MAX($I$2538:$I$2556)-I2538)/(MAX($I$2538:$I$2556)-1)*10000*0.3,0)","v":10000},7600,null,null,"ASG 29/18m (voda)","QZ",""]
["Sebastian Bode",null,"M","FSV Eisenhüttenstadt","DE","HOP 2020 - Kombi","CZ",2020,2,3315,0.76,{"$f":"ROUND(J2539/MAX($J$2538:$J$2556)*10000*0.7+(MAX($I$2538:$I$2556)-I2539)/(MAX($I$2538:$I$2556)-1)*10000*0.3,0)","v":8244},6265,null,null,"HPH 304S Shark (voda)","AY","Není v databázi"]
["Martin Koci",{"$f":"VLOOKUP(A2540,Pilot,2,0)","v":1975},{"$f":"VLOOKUP(A2540,Pilot,5,0)","v":"M"},{"$f":"VLOOKUP(A2540,Pilot,3,0)","v":"Ústí nad Orlicí"},{"$f":"VLOOKUP(A2540,Pilot,4,0)","v":"CZ/C2"},"HOP 2020 - Kombi","CZ",2020,3,3267,0.76,7999,6079,"x",null,"Discus b (bez vody)","XE",""]
["Zdenek Schenk",1972,"M","Hranice","CZ/M","HOP 2020 - Kombi","CZ",2020,4,3181,0.76,7692,5846,null,null,"Ventus cm 17,6m (bez vody)","SNeK",""]
["Zdenek Boruvka 54",1954,"M","Jičín","CZ/C2","HOP 2020 - Kombi","CZ",2020,5,3160,0.76,7491,5693,null,null,"LS 8 15 m (voda)","ZB",""]
["Vratislav Sram",1966,"M","Broumov","CZ/C2","HOP 2020 - Kombi","CZ",2020,6,3150,0.76,7308,5554,null,null,"Janus b (bez vody)","KG",""]
["Petr Fisar",1974,"M","Ústí nad Orlicí","CZ/C2","HOP 2020 - Kombi","CZ",2020,7,3142,0.76,7128,5417,"x",null,"Mosquito b (bez vody)","PF",""]
["Jan Kohout",1970,"M","Žamberk","CZ/C2","HOP 2020 - Kombi","CZ",2020,8,3091,0.76,6878,5227,null,null,"LS 8 15 m (voda)","SK",""]
["Michal Maly",1982,"M","Broumov","CZ/C2","HOP 2020 - Kombi","CZ",2020,9,2954,0.76,6488,4931,"x",null,"Ventus c 17,6 (voda)","JN",""]
["Petr Babak",1973,"M","Hořice","CZ/C2","HOP 2020 - Kombi","CZ",2020,10,2905,0.76,6241,4743,"x",null,"Ventus c 17,6 (voda)","LS",""]
["Vaclav Kult",1973,"M","Broumov","CZ/C2","HOP 2020 - Kombi","CZ",2020,11,2837,0.76,5964,4533,null,null,"Nimbus 2 b WL (voda)","VK",""]
["Christian Rakowski",null,"M","FSV Eisenhüttenstadt","DE","HOP 2020 - Kombi","CZ",2020,12,2820,0.76,5769,4384,null,null,"ASW 24 WL (bez vody)","TD","Není v databázi"]
["Timo+George Jakl",null,"M","AK Ústí nad Orlicí","CZ/DE","HOP 2020 - Kombi","CZ",2020,13,2770,0.76,5521,4196,null,null,"Janus b (bez vody)","GJ","Není v databázi"]
["Jan Rott",{"$f":"VLOOKUP(A2551,Pilot,2,0)","v":1962},{"$f":"VLOOKUP(A2551,Pilot,5,0)","v":"M"},{"$f":"VLOOKUP(A2551,Pilot,3,0)","v":"Hronov"},{"$f":"VLOOKUP(A2551,Pilot,4,0)","v":"CZ/C2"},"HOP 2020 - Kombi","CZ",2020,14,2767,0.76,5349,4065,"x",null,"HPH 304 cz 17,4 (bez vody)","Jou",""]
["Jan Cerveny",{"$f":"VLOOKUP(A2552,Pilot,2,0)","v":1984},{"$f":"VLOOKUP(A2552,Pilot,5,0)","v":"M"},{"$f":"VLOOKUP(A2552,Pilot,3,0)","v":"Jaroměř"},{"$f":"VLOOKUP(A2552,Pilot,4,0)","v":"CZ/C2"},"HOP 2020 - Kombi","CZ",2020,15,2690,0.76,5057,3843,"x",null,"LS 3a (bez vody)","EI",""]
["Miloslav Cindr",{"$f":"VLOOKUP(A2553,Pilot,2,0)","v":1974},{"$f":"VLOOKUP(A2553,Pilot,5,0)","v":"M"},{"$f":"VLOOKUP(A2553,Pilot,3,0)","v":"Ústí nad Orlicí"},{"$f":"VLOOKUP(A2553,Pilot,4,0)","v":"CZ/C2"},"HOP 2020 - Kombi","CZ",2020,16,2306,0.76,4264,3241,"x",null,"Ventus c 17,6 (bez vody)","MC",""]
["Jiri Suchomel",{"$f":"VLOOKUP(A2554,Pilot,2,0)","v":1950},{"$f":"VLOOKUP(A2554,Pilot,5,0)","v":"M"},{"$f":"VLOOKUP(A2554,Pilot,3,0)","v":"Broumov"},{"$f":"VLOOKUP(A2554,Pilot,4,0)","v":"CZ/C2"},"HOP 2020 - Kombi","CZ",2020,17,2203,0.76,3929,2986,"x",null,"Janus b (bez vody)","V1",""]
["Miroslav+Josef Plechac",null,"M","AK Hronov","CZ/C2","HOP 2020 - Kombi","CZ",2020,18,2138,0.76,{"$f":"ROUND(J2555/MAX($J$2538:$J$2556)*10000*0.7+(MAX($I$2538:$I$2556)-I2555)/(MAX($I$2538:$I$2556)-1)*10000*0.3,0)","v":3656},2779,null,null,"Nimbus 2 WL (voda)","PM","Není v databázi"]
["Milos Novotny",{"$f":"VLOOKUP(A2556,Pilot,2,0)","v":1973},{"$f":"VLOOKUP(A2556,Pilot,5,0)","v":"M"},{"$f":"VLOOKUP(A2556,Pilot,3,0)","v":"Hronov"},{"$f":"VLOOKUP(A2556,Pilot,4,0)","v":"CZ/C2"},"HOP 2020 - Kombi","CZ",2020,19,1757,0.76,2868,2180,"x",null,"Ventus b 16.6m (bez vody)","VeV",""]
["Friedrich Hofinger",null,"M","SMBC Kirchdorf Micheldorf",null,"Alpe Adria Cup 2020 - Kombi 106","AT",2020,1,4989,0.76500000000000001,{"$f":"ROUND(J2557/MAX($J$2557:$J$2577)*10000*0.7+(MAX($I$2557:$I$2577)-I2557)/(MAX($I$2557:$I$2577)-1)*10000*0.3,0)","v":10000},7650,null,null,"Discus 2ct","KN","Není v databázi"]
["Supersperger & Puhl",null,null,"SMBC Kirchdorf/Micheldorf",null,"Alpe Adria Cup 2020 - Kombi 106","AT",2020,2,4988,0.76500000000000001,{"$f":"ROUND(J2558/MAX($J$2557:$J$2577)*10000*0.7+(MAX($I$2557:$I$2577)-I2558)/(MAX($I$2557:$I$2577)-1)*10000*0.3,0)","v":9849},7534,null,null,"DUO Discus","M1","Není v databázi"]
["Jan Jagiello",null,"M","Österreich",null,"Alpe Adria Cup 2020 - Kombi 106","AT",2020,3,4625,0.76500000000000001,9189,7030,null,null,"Ventus CM","SN","Není v databázi"]
["Achleitner & Haslinger",null,null,"Österreich",null,"Alpe Adria Cup 2020 - Kombi 106","AT",2020,4,4560,0.76500000000000001,8948,6845,null,null,"ASG32Mi","GA","Není v databázi"]
["Petr Malcek",{"$f":"VLOOKUP(A2561,Pilot,2,0)","v":1965},{"$f":"VLOOKUP(A2561,Pilot,5,0)","v":"M"},{"$f":"VLOOKUP(A2561,Pilot,3,0)","v":"Letňany"},{"$f":"VLOOKUP(A2561,Pilot,4,0)","v":"CZ/C1"},"Alpe Adria Cup 2020 - Kombi 106","AT",2020,5,4331,0.76500000000000001,{"$f":"ROUND(J2561/MAX($J$2557:$J$2577)*10000*0.7+(MAX($I$2557:$I$2577)-I2561)/(MAX($I$2557:$I$2577)-1)*10000*0.3,0)","v":8477},6485,"x",null,"LS6c-18w","F5",""]
["Herbert Pirker",null,"M","FAS",null,"Alpe Adria Cup 2020 - Kombi 106","AT",2020,6,4269,0.76500000000000001,8240,6304,null,null,"Ventus Cm","PM","Není v databázi"]
["van Houweninge & Hallbrucker",null,null,"ISV",null,"Alpe Adria Cup 2020 - Kombi 106","AT",2020,7,4218,0.76500000000000001,8018,6134,null,null,"Arcus M",3,"Není v databázi"]
["Klaus Porod",null,"M","FSV Feldkirchen",null,"Alpe Adria Cup 2020 - Kombi 106","AT",2020,8,4073,0.76500000000000001,7665,5864,null,null,"Discus 2cT","PSI","Není v databázi"]
["Philipp Wittwer",null,"M","Österreich",null,"Alpe Adria Cup 2020 - Kombi 106","AT",2020,9,4060,0.76500000000000001,7497,5735,null,null,"LS 8","ZL","Není v databázi"]
["Sauter & Hecht",null,null,"FSG Wangen",null,"Alpe Adria Cup 2020 - Kombi 106","AT",2020,10,3684,0.76500000000000001,6819,5217,null,null,"Arcus M","EW","Není v databázi"]
["Herwig Wagner",null,"M","St. Flugsportunion",null,"Alpe Adria Cup 2020 - Kombi 106","AT",2020,11,3325,{"$f":"VLOOKUP(F2567,Soutez,12,0)","v":0.76500000000000001},6165,4716,null,null,"SZD 55","KE",{"$f":"IF(ISERROR(VLOOKUP(A2567,Pilot,6,0)),\"Není v databázi\",VLOOKUP(A2567,Pilot,6,0))","v":"Není v databázi"}]
["Florian Forcher",null,"M","SFC Pinkafeld",null,"Alpe Adria Cup 2020 - Kombi 106","AT",2020,11,3325,0.76500000000000001,6165,4716,null,null,"DG 300 WL","N1","Není v databázi"]
["Schneeweis & Mayrhofer",null,null,"ASKÖ Flugsportverein Linz",null,"Alpe Adria Cup 2020 - Kombi 106","AT",2020,13,2946,0.76500000000000001,5333,4080,null,null,"Duo Discus","L","Není v databázi"]
["Feichter & Treffner",null,null,"Österreich",null,"Alpe Adria Cup 2020 - Kombi 106","AT",2020,14,2944,0.76500000000000001,5181,{"$f":"ROUND(K2570*L2570,0)","v":3963},null,null,"Arcus-T","UHM","Není v databázi"]
["Ute Baranowski",null,"M","Alpenflugzentrum Unterwössen e.V.",null,"Alpe Adria Cup 2020 - Kombi 106","AT",2020,15,2406,0.76500000000000001,4276,3271,null,null,"Ventus 2ax","IB","Není v databázi"]
["Tomasz Królik",null,"M",null,null,"Alpe Adria Cup 2020 - Kombi 106","AT",2020,16,2258,0.76500000000000001,3918,2997,null,null,"Ventus a","TT","Není v databázi"]
["Karl Ortner",null,"M","SMBC",null,"Alpe Adria Cup 2020 - Kombi 106","AT",2020,17,1960,0.76500000000000001,3350,2563,null,null,"Ventus2b","M3","Není v databázi"]
["Hauser & Wöckner",null,null,"Lägern",null,"Alpe Adria Cup 2020 - Kombi 106","AT",2020,18,1756,0.76500000000000001,2914,2229,null,null,"ASG32 Mi","HM","Není v databázi"]
["Flicker & Frech",null,null,null,null,"Alpe Adria Cup 2020 - Kombi 106","AT",2020,19,1528,0.76500000000000001,2444,1870,null,null,"Duo Discus","MM","Není v databázi"]
["Alexander Lukasik",null,"M","Deutschland",null,"Alpe Adria Cup 2020 - Kombi 106","AT",2020,20,1476,0.76500000000000001,2221,1699,null,null,"SZD-55","FY","Není v databázi"]
["Salomon & Dawkins",null,null,"Steirische Flugsportunion",null,"Alpe Adria Cup 2020 - Kombi 106","AT",2020,21,640,0.76500000000000001,898,687,null,null,"Arcus M","FS","Není v databázi"]
["Wolfgang Janowitsch",null,"M","FRA-Wr.Neustadt",null,"Alpe Adria Cup 2020 - Kombi Open","AT",2020,1,5992,0.77500000000000002,{"$f":"ROUND(J2578/MAX($J$2578:$J$2601)*10000*0.7+(MAX($I$2578:$I$2601)-I2578)/(MAX($I$2578:$I$2601)-1)*10000*0.3,0)","v":10000},7750,null,null,"Ventus 3T","WO","Není v databázi"]
["Heimo Demmerer",null,"M","SFC-Mariazell",null,"Alpe Adria Cup 2020 - Kombi Open","AT",2020,2,5820,0.77500000000000002,{"$f":"ROUND(J2579/MAX($J$2578:$J$2601)*10000*0.7+(MAX($I$2578:$I$2601)-I2579)/(MAX($I$2578:$I$2601)-1)*10000*0.3,0)","v":9669},7493,null,null,"Ventus 2CM","OD","Není v databázi"]
["Stefan Sidler",null,"M","SG Knonaueramt",null,"Alpe Adria Cup 2020 - Kombi Open","AT",2020,3,5597,0.77500000000000002,9278,7190,null,null,"ASG 29","KF","Není v databázi"]
["Sven Kolb",null,"M","HGSV",null,"Alpe Adria Cup 2020 - Kombi Open","AT",2020,4,5294,0.77500000000000002,8793,6815,null,null,"Antares LF20e","ZF","Není v databázi"]
["Michael Rass",null,"M","St.Johann",null,"Alpe Adria Cup 2020 - Kombi Open","AT",2020,5,5267,0.77500000000000002,8631,6689,null,null,"Ventus 2cT","HA","Není v databázi"]
["Thomas Krüger",null,"M","Deutschland",null,"Alpe Adria Cup 2020 - Kombi Open","AT",2020,6,5148,0.77500000000000002,8362,6481,null,null,"EB 29","TK","Není v databázi"]
["Andreas Lutz",null,"M","SFC Ried/ FGWH",null,"Alpe Adria Cup 2020 - Kombi Open","AT",2020,7,5140,0.77500000000000002,8222,6372,null,null,"Ventus 3","A","Není v databázi"]
["Werner Danz",null,"M","SG Glarnerland",null,"Alpe Adria Cup 2020 - Kombi Open","AT",2020,8,5124,0.77500000000000002,8073,6257,null,null,"Antares 18T","BT","Není v databázi"]
["Dominik Mauchle",null,"M","SG Bad Ragaz",null,"Alpe Adria Cup 2020 - Kombi Open","AT",2020,9,4948,0.77500000000000002,7737,5996,null,null,"DG-808C","D","Není v databázi"]
["Klaus Kalmbach",null,"M","FSV Tübingen e.V.",null,"Alpe Adria Cup 2020 - Kombi Open","AT",2020,10,4834,0.77500000000000002,7473,5792,null,null,"Nimbus4M","OL","Není v databázi"]
["Christoph Limpert",null,"M","Rhönflug Gersfeld",null,"Alpe Adria Cup 2020 - Kombi Open","AT",2020,11,4617,0.77500000000000002,7089,5494,null,null,"ASG29","CC","Není v databázi"]
["Christian Hynek",null,"M","streckenflug.at",null,"Alpe Adria Cup 2020 - Kombi Open","AT",2020,12,4553,0.77500000000000002,6884,5335,null,null,"EB29DR","DD","Není v databázi"]
["Andreas Klugsberger",null,"M",null,null,"Alpe Adria Cup 2020 - Kombi Open","AT",2020,13,4435,0.77500000000000002,6616,5127,null,null,"ASH26E","HF","Není v databázi"]
["Georg Falkensammer",null,"M","FSV Feldkirchen/Ossiachersee",null,"Alpe Adria Cup 2020 - Kombi Open","AT",2020,14,4075,0.77500000000000002,6065,4700,null,null,"Antares 18T","FW","Není v databázi"]
["Rainer Cronjäger",null,"M","SG Knonaueramt",null,"Alpe Adria Cup 2020 - Kombi Open","AT",2020,15,4041,0.77500000000000002,5895,4569,null,null,"ASH 31MI","I","Není v databázi"]
["Matthias Hölzl",null,"M","AFZ Unterwössen",null,"Alpe Adria Cup 2020 - Kombi Open","AT",2020,16,3953,0.77500000000000002,5661,4387,null,null,"ASG29e","HNO","Není v databázi"]
["Thomas Hynek",null,"M","Flugschule ASKÖ Wioen",null,"Alpe Adria Cup 2020 - Kombi Open","AT",2020,17,3848,0.77500000000000002,5408,4191,null,null,"Ventus 2cm","HU","Není v databázi"]
["Wolfgang Zimmermann",null,"M","Flugring Wr. Neustadt",null,"Alpe Adria Cup 2020 - Kombi Open","AT",2020,18,3736,0.77500000000000002,5147,3989,null,null,"Ventus3M","WZ","Není v databázi"]
["Rene Schönmann",null,"M","Segelfluggruppe Basel Fricktal",null,"Alpe Adria Cup 2020 - Kombi Open","AT",2020,19,3489,0.77500000000000002,{"$f":"ROUND(J2596/MAX($J$2578:$J$2601)*10000*0.7+(MAX($I$2578:$I$2601)-I2596)/(MAX($I$2578:$I$2601)-1)*10000*0.3,0)","v":4728},3664,null,null,"JS1-C 18m","LI","Není v databázi"]
["Conrad Hartter",null,"M","FSV Tuebingen",null,"Alpe Adria Cup 2020 - Kombi Open","AT",2020,20,3000,0.77500000000000002,4026,3120,null,null,"JS1c 18m","OT","Není v databázi"]
["Gerold Auerbach",null,"M","LSV Salzburg",null,"Alpe Adria Cup 2020 - Kombi Open","AT",2020,21,2211,0.77500000000000002,2974,2305,null,null,"ASH 31","FT","Není v databázi"]
["Karel Krobath",null,"M","SFC Tulln",null,"Alpe Adria Cup 2020 - Kombi Open","AT",2020,22,1993,0.77500000000000002,2589,2006,null,null,"HPH 304MS","Q","Není v databázi"]
["Erich Niedl",null,"M","USFC Tulln",null,"Alpe Adria Cup 2020 - Kombi Open","AT",2020,23,1019,0.77500000000000002,1321,1024,null,null,"Ventus 2cxT","CX","Není v databázi"]
["Alexander Schütz",null,"M","AFZ Unterwössen",null,"Alpe Adria Cup 2020 - Kombi Open","AT",2020,24,0,0.77500000000000002,0,0,null,null,"Ventus 2cT","AI","Není v databázi"]
["Michal Cupak",{"$f":"VLOOKUP(A2602,Pilot,2,0)","v":1991},{"$f":"VLOOKUP(A2602,Pilot,5,0)","v":"M"},{"$f":"VLOOKUP(A2602,Pilot,3,0)","v":"Medlánky"},{"$f":"VLOOKUP(A2602,Pilot,4,0)","v":"CZ/M"},"Adrenalin GP 2020 - Klub GP","CZ",2020,1,7,0,{"$f":"ROUND((MAX($I$2602:$I$2610)-I2602)/(MAX($I$2602:$I$2610)-1)*10000,0)","v":10000},0,null,null,"Std. Cirrus","A7",""]
["Jan Mareth",1979,"M","Frýdlant","CZ/M","Adrenalin GP 2020 - Klub GP","CZ",2020,2,5,0,{"$f":"ROUND((MAX($I$2602:$I$2610)-I2603)/(MAX($I$2602:$I$2610)-1)*10000,0)","v":8000},0,null,null,"ASW 15b","PA",""]
["Stepan Obrovsky",1990,"M","Frýdlant","CZ/M","Adrenalin GP 2020 - Klub GP","CZ",2020,2,5,0,8000,0,null,null,"Std. Cirrus",75,""]
["Rostislav Stryk",1972,"M","Frýdlant","CZ/M","Adrenalin GP 2020 - Klub GP","CZ",2020,4,1,0,{"$f":"ROUND((MAX($I$2602:$I$2610)-I2605)/(MAX($I$2602:$I$2610)-1)*10000,0)","v":4000},0,null,null,"Std. Cirrus",22,""]
["Vit Prokop",1987,"M","Medlánky","CZ/M","Adrenalin GP 2020 - Klub GP","CZ",2020,4,1,0,4000,0,null,null,"Std. Cirrus","MF",""]
["Lukas Kotek",1994,"M","Frýdlant","CZ/M","Adrenalin GP 2020 - Klub GP","CZ",2020,6,0,0,0,0,null,null,"Astir CS","BH",""]
["Stanislav Doskocil",1978,"M","Medlánky","CZ/M","Adrenalin GP 2020 - Klub GP","CZ",2020,6,0,0,0,0,null,null,"Std. Cirrus","SD",""]
["Oldrich Houzvicka",1975,"M","Frýdlant","CZ/M","Adrenalin GP 2020 - Klub GP","CZ",2020,6,0,0,0,0,null,null,"LS 1 f","EM",""]
["Martin Svacina",1965,"M","Frýdlant","CZ/M","Adrenalin GP 2020 - Klub GP","CZ",2020,6,0,0,0,0,null,null,"Std. Cirrus","E",""]
["Ivan Novak",1962,"M","Mladá Boleslav","CZ/C1","AZ Cup 2020 - Klub","CZ",2020,1,2366,0.90500000000000003,{"$f":"ROUND(J2611/MAX($J$2611:$J$2637)*10000*0.7+(MAX($I$2611:$I$2637)-I2611)/(MAX($I$2611:$I$2637)-1)*10000*0.3,0)","v":10000},9050,null,null,"LS-4","IX",""]
["Jaroslav Tomana",1975,"M","Zbraslavice","CZ/C1","AZ Cup 2020 - Klub","CZ",2020,2,2342,0.90500000000000003,{"$f":"ROUND(J2612/MAX($J$2611:$J$2637)*10000*0.7+(MAX($I$2611:$I$2637)-I2612)/(MAX($I$2611:$I$2637)-1)*10000*0.3,0)","v":9814},8882,null,null,"Pegase 101 BC","RT",""]
["Zdenek Boruvka 86",1986,"M","Jičín","CZ/C2","AZ Cup 2020 - Klub","CZ",2020,3,2109,0.90500000000000003,9009,8153,null,null,"Std. Cirrus","BJ",""]
["Vojtech Novotny",1992,"M","Kralupy","CZ/C1","AZ Cup 2020 - Klub","CZ",2020,4,1844,0.90500000000000003,8109,7339,null,null,"LS1-f","EF",""]
["David Sachl",1978,"M","Kralupy","CZ/C1","AZ Cup 2020 - Klub","CZ",2020,5,1806,0.90500000000000003,7882,7133,"x",null,"DG-300 Elan","BK",""]
["Jakub Kmosek",1978,"M","Zbraslavice","CZ/C1","AZ Cup 2020 - Klub","CZ",2020,6,1731,0.90500000000000003,7544,6827,"x",null,"Std. Cirrus","ST",""]
["Martin Urban",1971,"M","Frýdlant","CZ/M","AZ Cup 2020 - Klub","CZ",2020,7,1726,0.90500000000000003,7414,6710,"x",null,"LS3a","SJ",""]
["David Popovsky",1976,"M","Rakovník","CZ/C1","AZ Cup 2020 - Klub","CZ",2020,8,1720,0.90500000000000003,7281,6589,"x",null,"ASW 24(A)",76,""]
["Dalibor Pek",1968,"M","Raná","CZ/C2","AZ Cup 2020 - Klub","CZ",2020,9,1718,0.90500000000000003,7160,6480,"x",null,"STD. CIRRUS","GP",""]
["Jan Zahradka",1981,"M","Hodkovice","CZ/C2","AZ Cup 2020 - Klub","CZ",2020,10,1667,0.90500000000000003,6893,6238,null,null,"Std.Cirrus","AR",""]
["Zdenek Balcarek",1967,"M","Kroměříž","CZ/M","AZ Cup 2020 - Klub","CZ",2020,11,1663,0.90500000000000003,6766,6123,null,null,"Std. Cirrus","ZL",""]
["David Vrchota",1976,"M","Jaroměř","CZ/C2","AZ Cup 2020 - Klub","CZ",2020,12,1593,0.90500000000000003,6444,5832,null,null,"Janus B dvojí","BV",""]
["Lumir Motyka",1955,"M","Frýdlant","CZ/M","AZ Cup 2020 - Klub","CZ",2020,13,1526,0.90500000000000003,6130,5548,null,null,"Std. Cirrus",22,""]
["Jan Florian",1992,"M","Zbraslavice","CZ/C1","AZ Cup 2020 - Klub","CZ",2020,14,1494,0.90500000000000003,5920,5358,"x",null,"Std. Cirrus","C1",""]
["Jiri Hodan",1959,"M","Zbraslavice","CZ/C1","AZ Cup 2020 - Klub","CZ",2020,15,1487,0.90500000000000003,5784,5235,"x",null,"Twin Astir G 103","RB",""]
["Matous Schmidt",1981,"M","Letňany","CZ/C1","AZ Cup 2020 - Klub","CZ",2020,16,1459,0.90500000000000003,5586,5055,"x",null,"Std.Cirrus","IMI",""]
["Tomas Moravec",2000,"M","Žamberk","CZ/C2","AZ Cup 2020 - Klub","CZ",2020,17,1458,0.90500000000000003,5467,4948,null,null,"Std.Cirrus WL","OK6","Junior v roce 2021"]
["Jan Ratz",1987,"M","Zbraslavice","CZ/C1","AZ Cup 2020 - Klub","CZ",2020,18,1414,0.90500000000000003,5222,4726,null,null,"Std. Cirrus","REX",""]
["Jan Oscatka",1990,"M","Jaroměř","CZ/C2","AZ Cup 2020 - Klub","CZ",2020,19,1398,0.90500000000000003,5059,4578,"x",null,"Discus b","JA",""]
["Tomas Jung",1950,"M","Zbraslavice","CZ/C1","AZ Cup 2020 - Klub","CZ",2020,20,1313,0.90500000000000003,4692,4246,"x",null,"ASW 19","O2",""]
["Robin Förster",null,"M","BAeC-Mitte","DE","AZ Cup 2020 - Klub","CZ",2020,21,1235,{"$f":"VLOOKUP(F2631,Soutez,12,0)","v":0.90500000000000003},{"$f":"ROUND(J2631/MAX($J$2611:$J$2637)*10000*0.7+(MAX($I$2611:$I$2637)-I2631)/(MAX($I$2611:$I$2637)-1)*10000*0.3,0)","v":4346},3933,null,null,"ASW24 E WL","RF",{"$f":"IF(ISERROR(VLOOKUP(A2631,Pilot,6,0)),\"Není v databázi\",VLOOKUP(A2631,Pilot,6,0))","v":"Není v databázi"}]
["Juraj Dudas",{"$f":"VLOOKUP(A2632,Pilot,2,0)","v":1990},{"$f":"VLOOKUP(A2632,Pilot,5,0)","v":"M"},{"$f":"VLOOKUP(A2632,Pilot,3,0)","v":"Křižanov"},{"$f":"VLOOKUP(A2632,Pilot,4,0)","v":"CZ/M"},"AZ Cup 2020 - Klub","CZ",2020,22,967,0.90500000000000003,3438,3111,"x",null,"Pegase C101A","ZD",""]
["Petr Velek",1975,"M","GAC Benešov","CZ/C1","AZ Cup 2020 - Klub","CZ",2020,23,880,0.90500000000000003,3065,2774,null,null,"DG 400, 15m","HX",""]
["Jan Sustr 76",1976,"M","Raná","CZ/C2","AZ Cup 2020 - Klub","CZ",2020,24,690,0.90500000000000003,2388,{"$f":"ROUND(K2634*L2634,0)","v":2161},null,null,"DG-300 ELAN","WL",""]
["Martin Grmela",1989,"M","Zbraslavice","CZ/C1","AZ Cup 2020 - Klub","CZ",2020,25,625,0.90500000000000003,2080,1882,"x",null,"ASW-19","FY",""]
["Petr Brezina",1963,"M","Frýdlant","CZ/M","AZ Cup 2020 - Klub","CZ",2020,26,308,0.90500000000000003,1027,929,"x",null,"DG 200","AK",""]
["Petr Lonsky",1965,"M","Toužim","CZ/C1","AZ Cup 2020 - Klub","CZ",2020,27,0,0.90500000000000003,0,0,null,null,"std Cirrus","FD",""]
["Jan Kotan",1982,"M","Letňany","CZ/C1","AZ Cup 2020 - Kombi A","CZ",2020,1,2474,0.9,{"$f":"ROUND(J2638/MAX($J$2638:$J$2657)*10000*0.7+(MAX($I$2638:$I$2657)-I2638)/(MAX($I$2638:$I$2657)-1)*10000*0.3,0)","v":10000},9000,"x",null,"Ventus 2bx 15m","YA",""]
["Ondrej Dvorak 87",1987,"M","Raná","CZ/C2","AZ Cup 2020 - Kombi A","CZ",2020,2,2352,0.9,{"$f":"ROUND(J2639/MAX($J$2638:$J$2657)*10000*0.7+(MAX($I$2638:$I$2657)-I2639)/(MAX($I$2638:$I$2657)-1)*10000*0.3,0)","v":9497},8547,"x",null,"Ventus A WL 500kg","FW",""]
["Michal Lesinger",1966,"M","Moravská Třebová","CZ/M","AZ Cup 2020 - Kombi A","CZ",2020,3,2247,0.9,9042,8138,null,null,"ASG 32 Mi","DX",""]
["Jana Veprekova",1961,"F","Dvůr Králové","CZ/C2","AZ Cup 2020 - Kombi A","CZ",2020,4,2240,0.9,8864,7978,null,null,"LS8","W8",""]
["Jan Horak",1971,"M","Zbraslavice","CZ/C1","AZ Cup 2020 - Kombi A","CZ",2020,5,2178,0.9,8531,7678,"x",null,"ASW-20","WX",""]
["Jan Smekal",1976,"M","Zbraslavice","CZ/C1","AZ Cup 2020 - Kombi A","CZ",2020,6,2077,0.9,8087,7278,"x",null,"ASW-20","NW",""]
["Jan Zapletal",1997,"M","Břeclav","CZ/M","AZ Cup 2020 - Kombi A","CZ",2020,7,2072,0.9,7915,7124,null,null,"LS8","JS","Junior v roce 2021"]
["Jan Pavlik",1987,"M","Křižanov","CZ/M","AZ Cup 2020 - Kombi A","CZ",2020,8,1955,0.9,7426,6683,null,null,"LS8a/15m","JW",""]
["Hana Treslova",1991,"F","Raná","CZ/C2","AZ Cup 2020 - Kombi A","CZ",2020,9,1922,0.9,7175,6458,null,null,"Ventus 2ax","AX",""]
["Barbora Moravcova",1994,"F","Zbraslavice","CZ/C1","AZ Cup 2020 - Kombi A","CZ",2020,10,1914,0.9,6994,6295,null,null,"LS8 15m","EU",""]
["Dana Novakova",1965,"F","Mladá Boleslav","CZ/C1","AZ Cup 2020 - Kombi A","CZ",2020,11,1890,0.9,6769,6092,null,null,"LS-8","AU",""]
["Eduard Niko",null,"M","Prievidza","SK","AZ Cup 2020 - Kombi A","CZ",2020,12,1865,0.9,{"$f":"ROUND(J2649/MAX($J$2638:$J$2657)*10000*0.7+(MAX($I$2638:$I$2657)-I2649)/(MAX($I$2638:$I$2657)-1)*10000*0.3,0)","v":6540},5886,null,null,"ASW-20","EW","Není v databázi"]
["Jana Treslova",{"$f":"VLOOKUP(A2650,Pilot,2,0)","v":1963},{"$f":"VLOOKUP(A2650,Pilot,5,0)","v":"F"},{"$f":"VLOOKUP(A2650,Pilot,3,0)","v":"Raná"},{"$f":"VLOOKUP(A2650,Pilot,4,0)","v":"CZ/C2"},"AZ Cup 2020 - Kombi A","CZ",2020,13,1819,0.9,6252,5627,null,null,"Discus 2a","GX",""]
["Jiri Kusbach",1959,"M","Luhačovice","CZ/M","AZ Cup 2020 - Kombi A","CZ",2020,14,1555,0.9,5347,4812,null,null,"KKB 15FES","B",""]
["Jan Kohout",1970,"M","Žamberk","CZ/C2","AZ Cup 2020 - Kombi A","CZ",2020,15,1481,0.9,4980,4482,null,null,"LS 8A","SK",""]
["Tomas Rendla",1973,"M","Zbraslavice","CZ/C1","AZ Cup 2020 - Kombi A","CZ",2020,16,1424,0.9,4661,4195,null,null,"Arcus M","EY",""]
["Martin Pekar",1973,"M","Šumperk","CZ/M","AZ Cup 2020 - Kombi A","CZ",2020,17,1403,0.9,4443,3999,"x",null,"304 TS TwinShark","TS",""]
["Radek Zima 78",1978,"M","Hodkovice","CZ/C2","AZ Cup 2020 - Kombi A","CZ",2020,18,1299,0.9,3991,3592,null,null,"Ventus b/15m WL","7F",""]
["Ladislav Jozsa",1981,"M","Medlánky","CZ/M","AZ Cup 2020 - Kombi A","CZ",2020,19,1222,0.9,3615,3254,null,null,"Ventus C 15m WL","WW",""]
["Petr Starek",1974,"M","Zbraslavice","CZ/C1","AZ Cup 2020 - Kombi A","CZ",2020,20,1090,0.9,3084,2776,"x",null,"304 TS TwinShark","DL",""]
["Radek Kucirek",1973,"M","Havlíčkův Brod","CZ/C2","AZ Cup 2020 - Kombi B","CZ",2020,1,2179,0.93,{"$f":"ROUND(J2658/MAX($J$2658:$J$2678)*10000*0.7+(MAX($I$2658:$I$2678)-I2658)/(MAX($I$2658:$I$2678)-1)*10000*0.3,0)","v":10000},9300,"x",null,"EB 28 Edition","NA",""]
["Petr Tichy",1973,"M","Zbraslavice","CZ/C1","AZ Cup 2020 - Kombi B","CZ",2020,2,2106,0.93,{"$f":"ROUND(J2659/MAX($J$2658:$J$2678)*10000*0.7+(MAX($I$2658:$I$2678)-I2659)/(MAX($I$2658:$I$2678)-1)*10000*0.3,0)","v":9615},8942,"x",null,"ASG-29E","AJ",""]
["Roman Mracek",1980,"M","Letkov","CZ/C1","AZ Cup 2020 - Kombi B","CZ",2020,3,2028,0.93,9215,8570,null,null,"LS8-18","EJ",""]
["Tomas Suchanek",1964,"M","GAC Benešov","CZ/C1","AZ Cup 2020 - Kombi B","CZ",2020,4,1995,0.93,8959,8332,null,null,"LS - 8 18m","FX",""]
["Ondrej Dupal",1966,"M","GAC Benešov","CZ/C1","AZ Cup 2020 - Kombi B","CZ",2020,5,1977,0.93,8751,8138,null,null,"ASG 29E","GO",""]
["Radek Krejcirik",1991,"M","Hranice","CZ/M","AZ Cup 2020 - Kombi B","CZ",2020,6,1965,0.93,8563,7964,null,null,"JS1C EVO","ZF",""]
["Alena Netusilova",1970,"F","Zbraslavice","CZ/C1","AZ Cup 2020 - Kombi B","CZ",2020,7,1918,0.93,8262,7684,null,null,"JS1 EVO 18m","JX",""]
["Jan Louda",1986,"M","Mladá Boleslav","CZ/C1","AZ Cup 2020 - Kombi B","CZ",2020,8,1832,0.93,7835,7287,null,null,"JS-3","ZE",""]
["David Mach",1994,"M","Hronov","CZ/C2","AZ Cup 2020 - Kombi B","CZ",2020,9,1813,0.93,7624,7090,null,null,"JS3","XM",""]
["Lukas Benedikt",null,"M","AK Trnava","SK","AZ Cup 2020 - Kombi B","CZ",2020,10,1528,0.93,{"$f":"ROUND(J2667/MAX($J$2658:$J$2678)*10000*0.7+(MAX($I$2658:$I$2678)-I2667)/(MAX($I$2658:$I$2678)-1)*10000*0.3,0)","v":6559},6100,null,null,"Ventus 3 f","LB","Není v databázi"]
["Pavel Opat",{"$f":"VLOOKUP(A2668,Pilot,2,0)","v":1975},{"$f":"VLOOKUP(A2668,Pilot,5,0)","v":"M"},{"$f":"VLOOKUP(A2668,Pilot,3,0)","v":"Rakovník"},{"$f":"VLOOKUP(A2668,Pilot,4,0)","v":"CZ/C1"},"AZ Cup 2020 - Kombi B","CZ",2020,11,1451,0.93,6161,5730,"x",null,"DG-800s 18m+W","HC",""]
["Martin Hrivna",1978,"M","Zbraslavice","CZ/C1","AZ Cup 2020 - Kombi B","CZ",2020,12,1310,0.93,5558,5169,null,null,"ASG 29E","NX",""]
["Lenka Kuthanova",1960,"F","Tábor","CZ/C1","AZ Cup 2020 - Kombi B","CZ",2020,13,1304,0.93,5389,5012,null,null,"JS1 EVO18m","LX",""]
["Ivo Burda",1962,"M","Zbraslavice","CZ/C1","AZ Cup 2020 - Kombi B","CZ",2020,14,1270,0.93,5130,4771,"x",null,"Ventus2cxM","IB",""]
["Petr Krejcirik",1960,"M","Hranice","CZ/M","AZ Cup 2020 - Kombi B","CZ",2020,15,1096,0.93,4421,4112,null,null,"ASG 29E","QZ",""]
["Jan Dersak 69",1969,"M","Kralupy","CZ/C1","AZ Cup 2020 - Kombi B","CZ",2020,16,1016,0.93,4014,3733,null,null,"HPH 304 JS","DJ",""]
["Petr Jiranek 63",1962,"M","Toužim","CZ/C1","AZ Cup 2020 - Kombi B","CZ",2020,17,894,0.93,3472,3229,null,null,"Ventus cT 17,6","EB",""]
["Jaroslav Potmesil",1964,"M","Zbraslavice","CZ/C1","AZ Cup 2020 - Kombi B","CZ",2020,18,802,0.93,3026,2814,"x",null,"HPH 304MS",61,""]
["Pavel Jiranek",1993,"M","Toužim","CZ/C1","AZ Cup 2020 - Kombi B","CZ",2020,19,799,0.93,2867,2666,null,null,"Ventus cM 17,6","SW",""]
["Michaela Rendlova",2004,"F","Toužim","CZ/C1","AZ Cup 2020 - Kombi B","CZ",2020,20,790,0.93,2688,2500,"x","x","JS1 EVO","VX","Junior v roce 2021"]
["Michal Posluzny",1968,"M","Medlánky","CZ/M","AZ Cup 2020 - Kombi B","CZ",2020,21,646,0.93,2075,1930,"x",null,"JS3","QX1",""]
["Jiri Kusbach",1959,"M","Luhačovice","CZ/M","Fatraglide 2020 - Klub","SK",2020,1,987,0.73,{"$f":"ROUND(J2679/MAX($J$2679:$J$2688)*10000*0.7+(MAX($I$2679:$I$2688)-I2679)/(MAX($I$2679:$I$2688)-1)*10000*0.3,0)","v":10000},7300,null,null,"KKB-15E-FES","B",""]
["Milan Surovcik Jr.",null,"M","Žilina",null,"Fatraglide 2020 - Klub","SK",2020,2,950,0.73,{"$f":"ROUND(J2680/MAX($J$2679:$J$2688)*10000*0.7+(MAX($I$2679:$I$2688)-I2680)/(MAX($I$2679:$I$2688)-1)*10000*0.3,0)","v":9404},6865,null,null,"Centrair C-101A Pegase","EL","Není v databázi"]
["Tibor Noga",null,"M","SGC Martin",null,"Fatraglide 2020 - Klub","SK",2020,3,929,0.73,8922,6513,null,null,"ASW-19B","A4","Není v databázi"]
["Gabor Bors",null,"M","Opitz",null,"Fatraglide 2020 - Klub","SK",2020,4,593,0.73,6206,4530,null,null,"Mini-Nimbus","SU","Není v databázi"]
["Peter Sedmak",null,"M","Martin",null,"Fatraglide 2020 - Klub","SK",2020,5,563,0.73,5660,4132,null,null,"Centrair C-101A Pegase","MT","Není v databázi"]
["Peter Gossanyi",null,"M","Nové Zámky",null,"Fatraglide 2020 - Klub","SK",2020,6,438,0.73,{"$f":"ROUND(J2684/MAX($J$2679:$J$2688)*10000*0.7+(MAX($I$2679:$I$2688)-I2684)/(MAX($I$2679:$I$2688)-1)*10000*0.3,0)","v":4440},3241,null,null,"Discus CS","VP","Není v databázi"]
["Marek Seman",null,"M","Prešov",null,"Fatraglide 2020 - Klub","SK",2020,7,317,0.73,3248,2371,null,null,"Std. Cirrus","CV","Není v databázi"]
["Jozef Zabka",null,"M","Partizánske",null,"Fatraglide 2020 - Klub","SK",2020,8,223,0.73,2248,1641,null,null,"Std. Cirrus","LX","Není v databázi"]
["Peter Gasparovic",null,"M","SGC Martin",null,"Fatraglide 2020 - Klub","SK",2020,9,103,0.73,1064,777,null,null,"G-103 Twin Astir dvojí (zatahovací podvozek)","VLT","Není v databázi"]
["Ivan Chabada",null,"M","Banská Bystrica",null,"Fatraglide 2020 - Klub","SK",2020,10,1,0.73,7,5,null,null,"Pik-20B","KM","Není v databázi"]
["Martin Fürjes",null,"M","SGC Martin",null,"Fatraglide 2020 - Kombi","SK",2020,1,2360,0.76,{"$f":"ROUND(J2689/MAX($J$2689:$J$2706)*10000*0.7+(MAX($I$2689:$I$2706)-I2689)/(MAX($I$2689:$I$2706)-1)*10000*0.3,0)","v":10000},7600,null,null,"JS3, JS3 TJ-18m",3,"Není v databázi"]
["Jan Divok",null,"M","SNV",null,"Fatraglide 2020 - Kombi","SK",2020,2,2337,0.76,{"$f":"ROUND(J2690/MAX($J$2689:$J$2706)*10000*0.7+(MAX($I$2689:$I$2706)-I2690)/(MAX($I$2689:$I$2706)-1)*10000*0.3,0)","v":9755},7414,null,null,"Discus 2T /18m","DJ","Není v databázi"]
["Branislav Jesensky",null,"M","SGC Martin",null,"Fatraglide 2020 - Kombi","SK",2020,3,2193,0.76,9152,6956,null,null,"Ventus 2cxt /18m -600 kg","J","Není v databázi"]
["Viktoria Divokova",null,"F","Spišska Nová Ves",null,"Fatraglide 2020 - Kombi","SK",2020,4,2125,0.76,8774,6668,null,null,"LS-8-18 / 18m","SI","Není v databázi"]
["Maros Divok",null,"M","SNV",null,"Fatraglide 2020 - Kombi","SK",2020,5,2119,0.76,8579,6520,null,null,"Ventus c /17,6m","D3","Není v databázi"]
["Petr Hotovy",{"$f":"VLOOKUP(A2694,Pilot,2,0)","v":1958},{"$f":"VLOOKUP(A2694,Pilot,5,0)","v":"M"},{"$f":"VLOOKUP(A2694,Pilot,3,0)","v":"Česká Lípa"},{"$f":"VLOOKUP(A2694,Pilot,4,0)","v":"CZ/C2"},"Fatraglide 2020 - Kombi","SK",2020,6,2054,0.76,8210,6240,null,null,"JS1-BTJ 18","IGC",""]
["Samuel Posluch",null,"M","Martin",null,"Fatraglide 2020 - Kombi","SK",2020,7,1995,{"$f":"VLOOKUP(F2695,Soutez,12,0)","v":0.76},7859,5973,null,null,"Ventus 2b 15m","VI",{"$f":"IF(ISERROR(VLOOKUP(A2695,Pilot,6,0)),\"Není v databázi\",VLOOKUP(A2695,Pilot,6,0))","v":"Není v databázi"}]
["Peter Pokorny",null,"M","Bratislava",null,"Fatraglide 2020 - Kombi","SK",2020,8,1918,0.76,7454,5665,null,null,"ASG-29E /18m","9E","Není v databázi"]
["Lukas Benedikt",null,"M","Trnava",null,"Fatraglide 2020 - Kombi","SK",2020,9,1620,0.76,6393,4859,null,null,"Ventus 3F - 18m","LB","Není v databázi"]
["Kromka & Kollar",null,"M",null,null,"Fatraglide 2020 - Kombi","SK",2020,10,1577,0.76,6089,{"$f":"ROUND(K2698*L2698,0)","v":4628},null,null,"Arcus M","TA3","Není v databázi"]
["Vaclav Hruza",{"$f":"VLOOKUP(A2699,Pilot,2,0)","v":1965},{"$f":"VLOOKUP(A2699,Pilot,5,0)","v":"M"},{"$f":"VLOOKUP(A2699,Pilot,3,0)","v":"Břeclav"},{"$f":"VLOOKUP(A2699,Pilot,4,0)","v":"CZ/M"},"Fatraglide 2020 - Kombi","SK",2020,11,1191,0.76,4768,3624,"x",null,"HpH 304MS SHARK","TH",""]
["Milan Lojdl",null,"M","Martin",null,"Fatraglide 2020 - Kombi","SK",2020,12,1188,0.76,4583,3483,null,null,"Ventus 2cxt /18m 600kg","MJ1","Není v databázi"]
["Lubomir Jakubcak",null,"M","SGC Martin",null,"Fatraglide 2020 - Kombi","SK",2020,13,1056,0.76,4015,3051,null,null,"Arcus M","CÁR","Není v databázi"]
["Jozef Pesko",null,"M","Nitra",null,"Fatraglide 2020 - Kombi","SK",2020,14,997,0.76,3663,2784,null,null,"LS-8t /18m","HM","Není v databázi"]
["Lubomir Doupal",{"$f":"VLOOKUP(A2703,Pilot,2,0)","v":1975},{"$f":"VLOOKUP(A2703,Pilot,5,0)","v":"M"},{"$f":"VLOOKUP(A2703,Pilot,3,0)","v":"Kroměříž"},{"$f":"VLOOKUP(A2703,Pilot,4,0)","v":"CZ/M"},"Fatraglide 2020 - Kombi","SK",2020,15,995,0.76,{"$f":"ROUND(J2703/MAX($J$2689:$J$2706)*10000*0.7+(MAX($I$2689:$I$2706)-I2703)/(MAX($I$2689:$I$2706)-1)*10000*0.3,0)","v":3481},2646,null,null,"Ventus 2cxt /18m -600 kg","LD",""]
["Peter Abonyi",null,"M",null,null,"Fatraglide 2020 - Kombi","SK",2020,16,789,0.76,2693,2047,null,null,"Ventus c /17,6m","PA","Není v databázi"]
["Dusan Bernat",null,"M","SGC Martin",null,"Fatraglide 2020 - Kombi","SK",2020,17,705,0.76,2268,1724,null,null,"Ventus c /17,6m","AD","Není v databázi"]
["Daniel Kronek",null,"M","SGC Martin",null,"Fatraglide 2020 - Kombi","SK",2020,18,52,0.76,154,117,null,null,"Ventus bt /17,6m","DK","Není v databázi"]
["Lubomir Motl",{"$f":"VLOOKUP(A2707,Pilot,2,0)","v":1959},{"$f":"VLOOKUP(A2707,Pilot,5,0)","v":"M"},{"$f":"VLOOKUP(A2707,Pilot,3,0)","v":"Kyjov"},{"$f":"VLOOKUP(A2707,Pilot,4,0)","v":"CZ/M"},"FCC 2020 - Klub","SK",2020,1,7094,0.92500000000000004,{"$f":"ROUND(J2707/MAX($J$2707:$J$2717)*10000*0.7+(MAX($I$2707:$I$2717)-I2707)/(MAX($I$2707:$I$2717)-1)*10000*0.3,0)","v":10000},9250,"x",null,"LS-1f","G2",""]
["Petra Piskata",{"$f":"VLOOKUP(A2708,Pilot,2,0)","v":1989},{"$f":"VLOOKUP(A2708,Pilot,5,0)","v":"F"},{"$f":"VLOOKUP(A2708,Pilot,3,0)","v":"Luhačovice"},{"$f":"VLOOKUP(A2708,Pilot,4,0)","v":"CZ/M"},"FCC 2020 - Klub","SK",2020,2,7018,0.92500000000000004,{"$f":"ROUND(J2708/MAX($J$2707:$J$2717)*10000*0.7+(MAX($I$2707:$I$2717)-I2708)/(MAX($I$2707:$I$2717)-1)*10000*0.3,0)","v":9625},8903,"x","x","LS-4","FP",""]
["Lumir Motyka",{"$f":"VLOOKUP(A2709,Pilot,2,0)","v":1955},{"$f":"VLOOKUP(A2709,Pilot,5,0)","v":"M"},{"$f":"VLOOKUP(A2709,Pilot,3,0)","v":"Frýdlant"},{"$f":"VLOOKUP(A2709,Pilot,4,0)","v":"CZ/M"},"FCC 2020 - Klub","SK",2020,3,6930,0.92500000000000004,9238,8545,"x",null,"LS-1f","EM",""]
["Attila Korom",null,"M","ARK",null,"FCC 2020 - Klub","SK",2020,4,6344,0.92500000000000004,8360,7733,null,null,"ASW-20 (A)+F /15m WL","MC","Není v databázi"]
["Jakub Kos",null,"M","Bialsko-Biala",null,"FCC 2020 - Klub","SK",2020,5,5896,0.92500000000000004,7618,7047,null,null,"SZD-48 Jantar std. 3","ZAR","Není v databázi"]
["Bernard Dobre",null,"M","Aeroklub Postojna",null,"FCC 2020 - Klub","SK",2020,6,5855,0.92500000000000004,7277,6731,null,null,"DG-101 G","GO","Není v databázi"]
["Stanislaw Biela",null,"M","Nowy Targ",null,"FCC 2020 - Klub","SK",2020,7,5687,0.92500000000000004,6812,6301,null,null,"SZD-55 Promyk","BS","Není v databázi"]
["Krzysztof Kotarski",null,"M","Nadwislanski",null,"FCC 2020 - Klub","SK",2020,8,5383,0.92500000000000004,6212,5746,null,null,"ASW 19B","J1","Není v databázi"]
["Gonczi",null,"M","Malév",null,"FCC 2020 - Klub","SK",2020,9,5149,0.92500000000000004,5681,5255,null,null,"Janus C (FG)","DD","Není v databázi"]
["Jan Keher",null,"M","Prievidza",null,"FCC 2020 - Klub","SK",2020,10,3974,0.92500000000000004,4221,3904,null,null,"Discus CS","DR","Není v databázi"]
["Slavomir Piskaty 58",{"$f":"VLOOKUP(A2717,Pilot,2,0)","v":1958},{"$f":"VLOOKUP(A2717,Pilot,5,0)","v":"M"},{"$f":"VLOOKUP(A2717,Pilot,3,0)","v":"Kunovice"},{"$f":"VLOOKUP(A2717,Pilot,4,0)","v":"CZ/M"},"FCC 2020 - Klub","SK",2020,11,3373,0.92500000000000004,{"$f":"ROUND(J2717/MAX($J$2707:$J$2717)*10000*0.7+(MAX($I$2707:$I$2717)-I2717)/(MAX($I$2707:$I$2717)-1)*10000*0.3,0)","v":3328},3078,"x",null,"Discus CS","KAL",""]
["Lukasz Grabowski",null,"M","Włocławski",null,"FCC 2020 - Kombi","SK",2020,1,7635,0.94500000000000006,{"$f":"ROUND(J2718/MAX($J$2718:$J$2734)*10000*0.7+(MAX($I$2718:$I$2734)-I2718)/(MAX($I$2718:$I$2734)-1)*10000*0.3,0)","v":10000},9450,null,null,"JS1-C 18 EVO","P","Není v databázi"]
["Gintas Zube",null,"M","LT/KLAIPEDA",null,"FCC 2020 - Kombi","SK",2020,2,7368,0.94500000000000006,{"$f":"ROUND(J2719/MAX($J$2718:$J$2734)*10000*0.7+(MAX($I$2718:$I$2734)-I2719)/(MAX($I$2718:$I$2734)-1)*10000*0.3,0)","v":9568},9042,null,null,"ASG-29E /18m","AR","Není v databázi"]
["Luka Znidarsic",null,"M","AK Postojna",null,"FCC 2020 - Kombi","SK",2020,3,7109,0.94500000000000006,9143,8640,null,null,"Ventus 3F - 18m","LZ","Není v databázi"]
["Joze Verdev",null,"M","Šaleški Aeroklub",null,"FCC 2020 - Kombi","SK",2020,4,6910,0.94500000000000006,8773,8290,null,null,"JS1-CTJ 18","DZ","Není v databázi"]
["Jernej Lokovsek",null,"M","ALC",null,"FCC 2020 - Kombi","SK",2020,5,6582,0.94500000000000006,8285,7829,null,null,"JS3 TJ-18m","NL","Není v databázi"]
["Teet Jagomagi",null,"M","Ridali",null,"FCC 2020 - Kombi","SK",2020,6,6300,0.94500000000000006,7839,7408,null,null,"JS1-B 18","TP","Není v databázi"]
["Judyta Czyz",null,"F","Bielsko Bialski",null,"FCC 2020 - Kombi","SK",2020,7,5848,0.94500000000000006,7237,6839,null,null,"ASG-29E /18m","PL","Není v databázi"]
["Zoltan Hamar",null,"M","Vario SE",null,"FCC 2020 - Kombi","SK",2020,8,5841,0.94500000000000006,7043,6656,null,null,"Ventus 2cxa, 15m","5A","Není v databázi"]
["Janos Sindely",null,"M","Alfoldi Repülőklub",null,"FCC 2020 - Kombi","SK",2020,9,5704,0.94500000000000006,6730,6360,null,null,"JS1-C 21","RZ","Není v databázi"]
["Adam Czeladzki",null,"M","Aeroklub Warszawski KKGT",null,"FCC 2020 - Kombi","SK",2020,10,5619,0.94500000000000006,6464,6108,null,null,"Duo Discus XLT","POL","Není v databázi"]
["Peter Harsfalvi",null,"M","Albatrosz Nyíregyháza",null,"FCC 2020 - Kombi","SK",2020,11,4725,0.94500000000000006,5457,5157,null,null,"JS1-C 21","AAD","Není v databázi"]
["Drahos Sitar",null,"M","Aeroklub Prievidza",null,"FCC 2020 - Kombi","SK",2020,12,4255,0.94500000000000006,4839,4573,null,null,"ASG-29E /18m","LK","Není v databázi"]
["Jan Paepke",null,"M","SFC Riesa-Canitz",null,"FCC 2020 - Kombi","SK",2020,13,3743,0.94500000000000006,{"$f":"ROUND(J2730/MAX($J$2718:$J$2734)*10000*0.7+(MAX($I$2718:$I$2734)-I2730)/(MAX($I$2718:$I$2734)-1)*10000*0.3,0)","v":4182},3952,null,null,"LAK 17 AT 18m","AK","Není v databázi"]
["Tornyai & Szabadfi",null,"M","Malev Aeroclub LHDK",null,"FCC 2020 - Kombi","SK",2020,14,3689,0.94500000000000006,3945,3728,null,null,"Arcus T","AB","Není v databázi"]
["Benedikt Laho",null,"M","Trnava",null,"FCC 2020 - Kombi","SK",2020,15,2942,0.94500000000000006,3072,2903,null,null,"Discus 2T /18m","JH","Není v databázi"]
["Arkadiusz Stefańczyk",null,"M","Aeroklub Kielecki/SGT",null,"FCC 2020 - Kombi","SK",2020,16,2304,0.94500000000000006,2300,2174,null,null,"ASH 31 Mi 21m","ME","Není v databázi"]
["Istvan Reti",null,"M","Alfoldi Repülőklub",null,"FCC 2020 - Kombi","SK",2020,17,1695,0.94500000000000006,1554,1469,null,null,"ASG-29E /18m","IR","Není v databázi"]
["Frantisek Vancura",{"$f":"VLOOKUP(A2735,Pilot,2,0)","v":1966},{"$f":"VLOOKUP(A2735,Pilot,5,0)","v":"M"},{"$f":"VLOOKUP(A2735,Pilot,3,0)","v":"Hranice"},{"$f":"VLOOKUP(A2735,Pilot,4,0)","v":"CZ/M"},"FL 2020 - Kombi","CZ",2020,1,809,0,{"$f":"ROUND(J2735/MAX($J$2735:$J$2745)*10000*0.7+(MAX($I$2735:$I$2745)-I2735)/(MAX($I$2735:$I$2745)-1)*10000*0.3,0)","v":10000},0,null,null,"Nimbus 3T/24.5m","A1",""]
["Lumir Motyka",1955,"M","Frýdlant","CZ/M","FL 2020 - Kombi","CZ",2020,2,782,0,{"$f":"ROUND(J2736/MAX($J$2735:$J$2745)*10000*0.7+(MAX($I$2735:$I$2745)-I2736)/(MAX($I$2735:$I$2745)-1)*10000*0.3,0)","v":9466},0,null,null,"LAK 12","DE",""]
["Pavel Foldyna",1976,"M","Frýdlant","CZ/M","FL 2020 - Kombi","CZ",2020,3,709,0,8535,0,null,null,"Arcus M","FJ",""]
["Jaroslav Buryan",1953,"M","Zábřeh","CZ/M","FL 2020 - Kombi","CZ",2020,4,694,0,8105,0,null,null,"ASW 20","NS",""]
["Radim Hahn",1972,"M","Zábřeh","CZ/M","FL 2020 - Kombi","CZ",2020,5,602,0,7009,0,null,null,"ASH 26E","I",""]
["Milos Matejka",1956,"M","Beroun","CZ/C1","FL 2020 - Kombi","CZ",2020,6,537,0,6146,0,null,null,"Discus b","SH",""]
["Martin Suchy",1969,"M","Hranice","CZ/M","FL 2020 - Kombi","CZ",2020,7,375,0,4445,0,null,null,"Duo Discus","OK",""]
["Petr Brezina",1963,"M","Frýdlant","CZ/M","FL 2020 - Kombi","CZ",2020,8,241,0,{"$f":"ROUND(J2742/MAX($J$2735:$J$2745)*10000*0.7+(MAX($I$2735:$I$2745)-I2742)/(MAX($I$2735:$I$2745)-1)*10000*0.3,0)","v":2985},0,null,null,"DG 200","AK",""]
["Jan Kristof",1962,"M","Frýdlant","CZ/M","FL 2020 - Kombi","CZ",2020,9,234,0,2625,0,null,null,"LS 3","TX",""]
["Antonin Kutalek",1943,"M","Zábřeh","CZ/M","FL 2020 - Kombi","CZ",2020,10,53,0,759,0,null,null,"Mini Nimbus c","GL",""]
["Vit Grossmann",1977,"M","Hranice","CZ/M","FL 2020 - Kombi","CZ",2020,11,0,0,0,0,null,null,"Ventus c 17.6m","FC",""]
["Viktor Romacik",null,"M",null,null,"Oldtimer Pribina Star 2020 - Klub","SK",2020,1,861,0.75,{"$f":"ROUND(J2746/MAX($J$2746:$J$2762)*10000*0.7+(MAX($I$2746:$I$2762)-I2746)/(MAX($I$2746:$I$2762)-1)*10000*0.3,0)","v":10000},7500,null,null,"H-201B Libelle","RR","Není v databázi"]
["Ludovit Homola",null,"M",null,null,"Oldtimer Pribina Star 2020 - Klub","SK",2020,2,822,0.75,{"$f":"ROUND(J2747/MAX($J$2746:$J$2762)*10000*0.7+(MAX($I$2746:$I$2762)-I2747)/(MAX($I$2746:$I$2762)-1)*10000*0.3,0)","v":9452},7089,null,null,"VSO-10","I5","Není v databázi"]
["Vladimir Abraham",{"$f":"VLOOKUP(A2748,Pilot,2,0)","v":1962},{"$f":"VLOOKUP(A2748,Pilot,5,0)","v":"M"},{"$f":"VLOOKUP(A2748,Pilot,3,0)","v":"Raná"},{"$f":"VLOOKUP(A2748,Pilot,4,0)","v":"CZ/C2"},"Oldtimer Pribina Star 2020 - Klub","SK",2020,3,800,0.75,9043,6782,"x",null,"K6 Cr","YZ",""]
["Radovan Uhelsky",null,"M",null,null,"Oldtimer Pribina Star 2020 - Klub","SK",2020,4,721,0.75,8169,6127,null,null,"VT-16 Orlik","m24","Není v databázi"]
["Juraj Vysny",null,"M",null,null,"Oldtimer Pribina Star 2020 - Klub","SK",2020,5,719,0.75,7922,5942,null,null,"Mosquito B","JS","Není v databázi"]
["Milan Boros",null,"M",null,null,"Oldtimer Pribina Star 2020 - Klub","SK",2020,6,714,0.75,7651,5738,null,null,"VSO-10","KO","Není v databázi"]
["Ivana Jurovicova",null,"F",null,null,"Oldtimer Pribina Star 2020 - Klub","SK",2020,7,660,0.75,6981,5236,null,null,"Libelle","J3","Není v databázi"]
["Marian Szabó",null,"M",null,null,"Oldtimer Pribina Star 2020 - Klub","SK",2020,8,659,0.75,6742,5057,null,null,"VT-116 Orlik 2","m84","Není v databázi"]
["Vaclav cerny",{"$f":"VLOOKUP(A2754,Pilot,2,0)","v":1949},{"$f":"VLOOKUP(A2754,Pilot,5,0)","v":"M"},{"$f":"VLOOKUP(A2754,Pilot,3,0)","v":"Plasy"},{"$f":"VLOOKUP(A2754,Pilot,4,0)","v":"CZ/C1"},"Oldtimer Pribina Star 2020 - Klub","SK",2020,9,616,0.75,6162,4622,null,null,"VT-125 Sohaj","V",""]
["Norbert Karolyi",null,"M",null,null,"Oldtimer Pribina Star 2020 - Klub","SK",2020,10,558,0.75,5460,4095,null,null,"SZD 36 Cobra 15","k29","Není v databázi"]
["Frantisek Ehn",null,"M",null,null,"Oldtimer Pribina Star 2020 - Klub","SK",2020,11,517,0.75,4896,3672,null,null,"VSO-10","m65","Není v databázi"]
["Jaroslav Kares",{"$f":"VLOOKUP(A2757,Pilot,2,0)","v":1962},{"$f":"VLOOKUP(A2757,Pilot,5,0)","v":"M"},{"$f":"VLOOKUP(A2757,Pilot,3,0)","v":"Olomouc"},{"$f":"VLOOKUP(A2757,Pilot,4,0)","v":"CZ/M"},"Oldtimer Pribina Star 2020 - Klub","SK",2020,12,479,0.75,{"$f":"ROUND(J2757/MAX($J$2746:$J$2762)*10000*0.7+(MAX($I$2746:$I$2762)-I2757)/(MAX($I$2746:$I$2762)-1)*10000*0.3,0)","v":4356},3267,"x",null,"SF-27A Scheibe","k14",""]
["Zdeno Hrcka",null,"M",null,null,"Oldtimer Pribina Star 2020 - Klub","SK",2020,13,198,0.75,1841,1381,null,null,"C101 PEGASE","H","Není v databázi"]
["Michal Baxa",null,"M",null,null,"Oldtimer Pribina Star 2020 - Klub","SK",2020,14,0,{"$f":"VLOOKUP(F2759,Soutez,12,0)","v":0.75},0,0,null,null,"VSO-10","m35",{"$f":"IF(ISERROR(VLOOKUP(A2759,Pilot,6,0)),\"Není v databázi\",VLOOKUP(A2759,Pilot,6,0))","v":"Není v databázi"}]
["Oto Gese",null,"M",null,null,"Oldtimer Pribina Star 2020 - Klub","SK",2020,14,0,0.75,0,0,null,null,"L 13 Blanik","m17","Není v databázi"]
["Igor Ott",null,"M",null,null,"Oldtimer Pribina Star 2020 - Klub","SK",2020,14,0,0.75,0,0,null,null,"LG-425 SOHAJ","N","Není v databázi"]
["Józi Ott",null,"M",null,null,"Oldtimer Pribina Star 2020 - Klub","SK",2020,"HC",0,0.75,null,{"$f":"ROUND(K2762*L2762,0)","v":0},null,null,"Z-23 HONZA","m56","Není v databázi"]
["Ondrej Bordovsky",{"$f":"VLOOKUP(A2763,Pilot,2,0)","v":1983},{"$f":"VLOOKUP(A2763,Pilot,5,0)","v":"M"},{"$f":"VLOOKUP(A2763,Pilot,3,0)","v":"Krnov"},{"$f":"VLOOKUP(A2763,Pilot,4,0)","v":"CZ/M"},"PMCŘ 2020 - Klub","CZ",2020,1,7555,1.085,{"$f":"ROUND(J2763/MAX($J$2763:$J$2787)*10000*0.7+(MAX($I$2763:$I$2787)-I2763)/(MAX($I$2763:$I$2787)-1)*10000*0.3,0)","v":10000},10850,"x",null,"Std.Cirrus","BW",""]
["Jan Ratz",{"$f":"VLOOKUP(A2764,Pilot,2,0)","v":1987},{"$f":"VLOOKUP(A2764,Pilot,5,0)","v":"M"},{"$f":"VLOOKUP(A2764,Pilot,3,0)","v":"Zbraslavice"},{"$f":"VLOOKUP(A2764,Pilot,4,0)","v":"CZ/C1"},"PMCŘ 2020 - Klub","CZ",2020,2,7424,1.085,{"$f":"ROUND(J2764/MAX($J$2763:$J$2787)*10000*0.7+(MAX($I$2763:$I$2787)-I2764)/(MAX($I$2763:$I$2787)-1)*10000*0.3,0)","v":9754},10583,"x",null,"Std.Cirrus","REX",""]
["Finn Sleigh",null,"M","Gliding Now","UK","PMCŘ 2020 - Klub","CZ",2020,3,7280,1.085,9495,10302,null,null,"ASW20",5,"Není v databázi"]
["Daniel Ryba",{"$f":"VLOOKUP(A2766,Pilot,2,0)","v":1994},{"$f":"VLOOKUP(A2766,Pilot,5,0)","v":"M"},{"$f":"VLOOKUP(A2766,Pilot,3,0)","v":"Dvůr Králové"},{"$f":"VLOOKUP(A2766,Pilot,4,0)","v":"CZ/C2"},"PMCŘ 2020 - Klub","CZ",2020,4,7228,1.085,9322,10114,"x",null,"ASW19B","L7",""]
["Jaroslav Tomana",{"$f":"VLOOKUP(A2767,Pilot,2,0)","v":1975},{"$f":"VLOOKUP(A2767,Pilot,5,0)","v":"M"},{"$f":"VLOOKUP(A2767,Pilot,3,0)","v":"Zbraslavice"},{"$f":"VLOOKUP(A2767,Pilot,4,0)","v":"CZ/C1"},"PMCŘ 2020 - Klub","CZ",2020,5,7213,1.085,9183,9964,"x",null,"Pegase 101 BC","RT",""]
["Michal Lesinger",{"$f":"VLOOKUP(A2768,Pilot,2,0)","v":1966},{"$f":"VLOOKUP(A2768,Pilot,5,0)","v":"M"},{"$f":"VLOOKUP(A2768,Pilot,3,0)","v":"Moravská Třebová"},{"$f":"VLOOKUP(A2768,Pilot,4,0)","v":"CZ/M"},"PMCŘ 2020 - Klub","CZ",2020,6,7082,1.085,8937,9697,"x",null,"ASW19B","LL",""]
["Pavel Trybenekr",{"$f":"VLOOKUP(A2769,Pilot,2,0)","v":1990},{"$f":"VLOOKUP(A2769,Pilot,5,0)","v":"M"},{"$f":"VLOOKUP(A2769,Pilot,3,0)","v":"Hořice"},{"$f":"VLOOKUP(A2769,Pilot,4,0)","v":"CZ/C2"},"PMCŘ 2020 - Klub","CZ",2020,7,7037,1.085,8770,9515,"x",null,"LS4","PF",""]
["Toby Freeland",null,"M","Imperial College - Lasham","UK","PMCŘ 2020 - Klub","CZ",2020,8,6922,1.085,8539,9265,null,null,"ASW24 WL",96,"Není v databázi"]
["Ivan Novak",{"$f":"VLOOKUP(A2771,Pilot,2,0)","v":1962},{"$f":"VLOOKUP(A2771,Pilot,5,0)","v":"M"},{"$f":"VLOOKUP(A2771,Pilot,3,0)","v":"Mladá Boleslav"},{"$f":"VLOOKUP(A2771,Pilot,4,0)","v":"CZ/C1"},"PMCŘ 2020 - Klub","CZ",2020,9,6777,1.085,8279,8983,null,null,"LS4","IX",""]
["Pavel Rericha",{"$f":"VLOOKUP(A2772,Pilot,2,0)","v":1967},{"$f":"VLOOKUP(A2772,Pilot,5,0)","v":"M"},{"$f":"VLOOKUP(A2772,Pilot,3,0)","v":"Moravská Třebová"},{"$f":"VLOOKUP(A2772,Pilot,4,0)","v":"CZ/M"},"PMCŘ 2020 - Klub","CZ",2020,10,6731,1.085,8112,8802,"x",null,"ASW19B","NO",""]
["Vit Morkovsky",{"$f":"VLOOKUP(A2773,Pilot,2,0)","v":2000},{"$f":"VLOOKUP(A2773,Pilot,5,0)","v":"M"},{"$f":"VLOOKUP(A2773,Pilot,3,0)","v":"Polička"},{"$f":"VLOOKUP(A2773,Pilot,4,0)","v":"CZ/C2"},"PMCŘ 2020 - Klub","CZ",2020,11,6532,1.085,7802,8465,"x",null,"ASW24","SM","Junior v roce 2021"]
["Henry Inigo-Jones",null,"M","Lasham","UK","PMCŘ 2020 - Klub","CZ",2020,12,6373,1.085,7530,8170,null,null,"DG 300",950,"Není v databázi"]
["Zdenek Boruvka 86",{"$f":"VLOOKUP(A2775,Pilot,2,0)","v":1986},{"$f":"VLOOKUP(A2775,Pilot,5,0)","v":"M"},{"$f":"VLOOKUP(A2775,Pilot,3,0)","v":"Jičín"},{"$f":"VLOOKUP(A2775,Pilot,4,0)","v":"CZ/C2"},"PMCŘ 2020 - Klub","CZ",2020,13,6320,1.085,7356,7981,null,null,"Std.Cirrus","BJ",""]
["Jan Hruska",{"$f":"VLOOKUP(A2776,Pilot,2,0)","v":1988},{"$f":"VLOOKUP(A2776,Pilot,5,0)","v":"M"},{"$f":"VLOOKUP(A2776,Pilot,3,0)","v":"Tábor"},{"$f":"VLOOKUP(A2776,Pilot,4,0)","v":"CZ/C1"},"PMCŘ 2020 - Klub","CZ",2020,14,6124,1.085,7049,7648,"x",null,"ASW15B","LF",""]
["Zdenek Balcarek",{"$f":"VLOOKUP(A2777,Pilot,2,0)","v":1967},{"$f":"VLOOKUP(A2777,Pilot,5,0)","v":"M"},{"$f":"VLOOKUP(A2777,Pilot,3,0)","v":"Kroměříž"},{"$f":"VLOOKUP(A2777,Pilot,4,0)","v":"CZ/M"},"PMCŘ 2020 - Klub","CZ",2020,15,5703,1.085,6534,7089,null,null,"Std.Cirrus","ZL",""]
["Lukas Schneeberger",null,"M","SMBC Eferding","AT","PMCŘ 2020 - Klub","CZ",2020,16,5575,1.085,6290,6825,null,null,"ASW19","I","Není v databázi"]
["Jiri Stepanek",{"$f":"VLOOKUP(A2779,Pilot,2,0)","v":1956},{"$f":"VLOOKUP(A2779,Pilot,5,0)","v":"M"},{"$f":"VLOOKUP(A2779,Pilot,3,0)","v":"Moravská Třebová"},{"$f":"VLOOKUP(A2779,Pilot,4,0)","v":"CZ/M"},"PMCŘ 2020 - Klub","CZ",2020,17,5563,1.085,6154,6677,"x",null,"ASW15b","LE",""]
["Martin Stepanek",{"$f":"VLOOKUP(A2780,Pilot,2,0)","v":1987},{"$f":"VLOOKUP(A2780,Pilot,5,0)","v":"M"},{"$f":"VLOOKUP(A2780,Pilot,3,0)","v":"Moravská Třebová"},{"$f":"VLOOKUP(A2780,Pilot,4,0)","v":"CZ/M"},"PMCŘ 2020 - Klub","CZ",2020,18,5421,1.085,5898,6399,"x",null,"ASW15B","ZP",""]
["Petr Stepanek",{"$f":"VLOOKUP(A2781,Pilot,2,0)","v":1989},{"$f":"VLOOKUP(A2781,Pilot,5,0)","v":"M"},{"$f":"VLOOKUP(A2781,Pilot,3,0)","v":"Moravská Třebová"},{"$f":"VLOOKUP(A2781,Pilot,4,0)","v":"CZ/M"},"PMCŘ 2020 - Klub","CZ",2020,19,5341,1.085,5699,6183,"x",null,"ASW19B","AE",""]
["Edmund Schuller",null,"M","Lučenec","SK","PMCŘ 2020 - Klub","CZ",2020,20,5306,1.085,5541,6012,null,null,"ASW24 WL","ZS","Není v databázi"]
["Pavlina Horackova",{"$f":"VLOOKUP(A2783,Pilot,2,0)","v":1965},{"$f":"VLOOKUP(A2783,Pilot,5,0)","v":"F"},{"$f":"VLOOKUP(A2783,Pilot,3,0)","v":"Šumperk"},{"$f":"VLOOKUP(A2783,Pilot,4,0)","v":"CZ/M"},"PMCŘ 2020 - Klub","CZ",2020,21,5146,1.085,5268,5716,null,null,"SZD 48 Jantar Std. 2","SU",""]
["Ivan Harasta 65",{"$f":"VLOOKUP(A2784,Pilot,2,0)","v":1965},{"$f":"VLOOKUP(A2784,Pilot,5,0)","v":"M"},{"$f":"VLOOKUP(A2784,Pilot,3,0)","v":"Toužim"},{"$f":"VLOOKUP(A2784,Pilot,4,0)","v":"CZ/C1"},"PMCŘ 2020 - Klub","CZ",2020,22,5130,1.085,5128,5564,null,null,"ASW 19b","KZ",""]
["Ivan Tvrdik",{"$f":"VLOOKUP(A2785,Pilot,2,0)","v":1997},{"$f":"VLOOKUP(A2785,Pilot,5,0)","v":"M"},{"$f":"VLOOKUP(A2785,Pilot,3,0)","v":"Letňany"},{"$f":"VLOOKUP(A2785,Pilot,4,0)","v":"CZ/C1"},"PMCŘ 2020 - Klub","CZ",2020,23,5104,1.085,4979,5402,null,null,"Discus CS","LH","Junior v roce 2021"]
["Szymon Bartus",null,"M","Lasham GS","UK","PMCŘ 2020 - Klub","CZ",2020,24,4414,1.085,4215,4573,null,null,"Discus b",296,"Není v databázi"]
["Tomas Moravec",{"$f":"VLOOKUP(A2787,Pilot,2,0)","v":2000},{"$f":"VLOOKUP(A2787,Pilot,5,0)","v":"M"},{"$f":"VLOOKUP(A2787,Pilot,3,0)","v":"Žamberk"},{"$f":"VLOOKUP(A2787,Pilot,4,0)","v":"CZ/C2"},"PMCŘ 2020 - Klub","CZ",2020,25,4136,1.085,3832,4158,null,null,"Std. Cirrus WL","OK6","Junior v roce 2021"]
["Petr Koutny",1971,"M","Křižanov","CZ/M","PMCŘ 2020 - Kombi 15m","CZ",2020,1,7466,1.0899999999999999,{"$f":"ROUND(J2788/MAX($J$2788:$J$2809)*10000*0.7+(MAX($I$2788:$I$2809)-I2788)/(MAX($I$2788:$I$2809)-1)*10000*0.3,0)","v":10000},10900,"x",null,"LS8 15m","SK",""]
["Jan Pavlik",1987,"M","Křižanov","CZ/M","PMCŘ 2020 - Kombi 15m","CZ",2020,2,7421,1.0899999999999999,{"$f":"ROUND(J2789/MAX($J$2788:$J$2809)*10000*0.7+(MAX($I$2788:$I$2809)-I2789)/(MAX($I$2788:$I$2809)-1)*10000*0.3,0)","v":9815},10698,"x",null,"LS8a 15m","JW",""]
["Miloslav Cink",1987,"M","Letkov","CZ/C1","PMCŘ 2020 - Kombi 15m","CZ",2020,3,6950,1.0899999999999999,9230,10061,"x",null,"LS8b 15m","JB",""]
["Pavel Louzecky",1957,"M","Přibyslav","CZ/C2","PMCŘ 2020 - Kombi 15m","CZ",2020,4,6751,1.0899999999999999,8901,9702,null,null,"LS8 15m","FX",""]
["Karel Novak",1993,"M","Mladá Boleslav","CZ/C1","PMCŘ 2020 - Kombi 15m","CZ",2020,5,6578,1.0899999999999999,8596,9370,"x",null,"JS3 15m","XM",""]
["Jiri Kusbach",1959,"M","Luhačovice","CZ/M","PMCŘ 2020 - Kombi 15m","CZ",2020,6,6548,1.0899999999999999,8425,9183,"x",null,"KKB-15E","B",""]
["Jan Zapletal",1997,"M","Břeclav","CZ/M","PMCŘ 2020 - Kombi 15m","CZ",2020,7,6542,1.0899999999999999,8277,9022,"x",null,"LS8 15m","JS","Junior v roce 2021"]
["Petr Krejcirik",1960,"M","Hranice","CZ/M","PMCŘ 2020 - Kombi 15m","CZ",2020,8,6252,1.0899999999999999,7862,8570,null,null,"JS MD3 15m","VB",""]
["Hana Treslova",1991,"F","Raná","CZ/C2","PMCŘ 2020 - Kombi 15m","CZ",2020,9,6243,1.0899999999999999,7710,8404,"x",null,"Ventus 2ax 15m","AX",""]
["Jan Kotan",1982,"M","Letňany","CZ/C1","PMCŘ 2020 - Kombi 15m","CZ",2020,10,6188,1.0899999999999999,7516,8192,"x",null,"Ventus 2bx 15m","YA",""]
["Jan Vavrin",1987,"M","Vysoké Mýto","CZ/C2","PMCŘ 2020 - Kombi 15m","CZ",2020,11,6171,1.0899999999999999,7357,8019,"x",null,"DuoDiscus T 700kg",777,""]
["Barbora Moravcova",1994,"F","Zbraslavice","CZ/C1","PMCŘ 2020 - Kombi 15m","CZ",2020,12,6114,1.0899999999999999,7161,7805,null,null,"LS8a 15m","EU",""]
["Zdenek Boruvka 54",1954,"M","Jičín","CZ/C2","PMCŘ 2020 - Kombi 15m","CZ",2020,13,6085,1.0899999999999999,6991,7620,"x",null,"LS8 15m","ZB",""]
["Jan Boruvka",1984,"M","Jičín","CZ/C2","PMCŘ 2020 - Kombi 15m","CZ",2020,14,6043,1.0899999999999999,6809,7422,null,null,"Ventus c 15m","EG",""]
["Jan Horak",1971,"M","Zbraslavice","CZ/C1","PMCŘ 2020 - Kombi 15m","CZ",2020,15,5930,1.0899999999999999,6560,7150,"x",null,"ASW20 (A) 15m + WL","WX",""]
["Radek Zima 78",1978,"M","Hodkovice","CZ/C2","PMCŘ 2020 - Kombi 15m","CZ",2020,16,5803,1.0899999999999999,6298,6865,"x",null,"Ventus b WL 15m 500kg","7F",""]
["Jana Treslova",1963,"F","Raná","CZ/C2","PMCŘ 2020 - Kombi 15m","CZ",2020,17,5740,1.0899999999999999,6096,6645,null,null,"Discus 2a 15m","GX",""]
["Dana Novakova",1965,"F","Mladá Boleslav","CZ/C1","PMCŘ 2020 - Kombi 15m","CZ",2020,18,5663,1.0899999999999999,5881,6410,null,null,"LS8 15m","AU",""]
["Lukas Kirchberger",null,"M","SFC Mariazell","AT","PMCŘ 2020 - Kombi 15m","CZ",2020,19,5622,1.0899999999999999,5700,6213,null,null,"LS 7 WL","LK","Není v databázi"]
["Matthew Scutter",null,"M","Adelaide Soaring Club","AU","PMCŘ 2020 - Kombi 15m","CZ",2020,20,5242,1.0899999999999999,5201,5669,null,null,"Diana 2 FES","LI","Není v databázi"]
["Jan Louda",{"$f":"VLOOKUP(A2808,Pilot,2,0)","v":1986},{"$f":"VLOOKUP(A2808,Pilot,5,0)","v":"M"},{"$f":"VLOOKUP(A2808,Pilot,3,0)","v":"Mladá Boleslav"},{"$f":"VLOOKUP(A2808,Pilot,4,0)","v":"CZ/C1"},"PMCŘ 2020 - Kombi 15m","CZ",2020,21,5008,1.0899999999999999,{"$f":"ROUND(J2808/MAX($J$2788:$J$2809)*10000*0.7+(MAX($I$2788:$I$2809)-I2808)/(MAX($I$2788:$I$2809)-1)*10000*0.3,0)","v":4838},5273,null,null,"JS3 15m","ZE",""]
["Jana Veprekova",1961,"F","Dvůr Králové","CZ/C2","PMCŘ 2020 - Kombi 15m","CZ",2020,22,624,1.0899999999999999,585,638,null,null,"LS8 15m","W8",""]
["David Mach",1994,"M","Hronov","CZ/C2","PMCŘ 2020 - Kombi Open","CZ",2020,1,7261,1.0699999999999998,{"$f":"ROUND(J2810/MAX($J$2810:$J$2830)*10000*0.7+(MAX($I$2810:$I$2830)-I2810)/(MAX($I$2810:$I$2830)-1)*10000*0.3,0)","v":10000},10700,"x",null,"ASG29e","QZ",""]
["Tomas Suchanek",1964,"M","GAC Benešov","CZ/C1","PMCŘ 2020 - Kombi Open","CZ",2020,2,7146,1.0699999999999998,{"$f":"ROUND(J2811/MAX($J$2810:$J$2830)*10000*0.7+(MAX($I$2810:$I$2830)-I2811)/(MAX($I$2810:$I$2830)-1)*10000*0.3,0)","v":9739},10421,"x",null,"Ventus C 17.6","UP",""]
["Radek Krejcirik",1991,"M","Hranice","CZ/M","PMCŘ 2020 - Kombi Open","CZ",2020,3,6983,1.0699999999999998,9432,10092,"x",null,"JS1 c 18m","ZF",""]
["Roman Mracek",1980,"M","Letkov","CZ/C1","PMCŘ 2020 - Kombi Open","CZ",2020,4,6789,1.0699999999999998,9095,9732,"x",null,"LS8 s 18m","EJ",""]
["Radek Kucirek",1973,"M","Havlíčkův Brod","CZ/C2","PMCŘ 2020 - Kombi Open","CZ",2020,5,6709,1.0699999999999998,8868,9489,"x",null,"EB 28 28,3m","NA",""]
["Ondrej Dupal",1966,"M","GAC Benešov","CZ/C1","PMCŘ 2020 - Kombi Open","CZ",2020,6,6625,1.0699999999999998,8637,9242,"x",null,"ASG29E","GO",""]
["Alena Netusilova",1970,"F","Zbraslavice","CZ/C1","PMCŘ 2020 - Kombi Open","CZ",2020,7,6534,1.0699999999999998,8399,8987,"x","x","JS1 c 21m","JX",""]
["Petr Tichy",1973,"M","Zbraslavice","CZ/C1","PMCŘ 2020 - Kombi Open","CZ",2020,8,6531,1.0699999999999998,8246,8823,null,null,"ASG29 E","AJ",""]
["Danes Grula",1961,"M","Medlánky","CZ/M","PMCŘ 2020 - Kombi Open","CZ",2020,9,6338,1.0699999999999998,7910,8464,null,null,"ASG29E","DX",""]
["Tomas Rendla",1973,"M","Zbraslavice","CZ/C1","PMCŘ 2020 - Kombi Open","CZ",2020,10,6240,1.0699999999999998,7666,8203,"x",null,"EB29R","EX",""]
["Vladimir Foltin",null,"M","Aeroklub Nitra","SK","PMCŘ 2020 - Kombi Open","CZ",2020,11,6045,1.0699999999999998,7328,7841,null,null,"JS3",3,"Není v databázi"]
["Petr Panek",{"$f":"VLOOKUP(A2821,Pilot,2,0)","v":1975},{"$f":"VLOOKUP(A2821,Pilot,5,0)","v":"M"},{"$f":"VLOOKUP(A2821,Pilot,3,0)","v":"Dvůr Králové"},{"$f":"VLOOKUP(A2821,Pilot,4,0)","v":"CZ/C2"},"PMCŘ 2020 - Kombi Open","CZ",2020,12,5888,1.0699999999999998,7026,7518,"x",null,"JS1 b 18m","IGC",""]
["Michaela Rendlova",{"$f":"VLOOKUP(A2822,Pilot,2,0)","v":2004},{"$f":"VLOOKUP(A2822,Pilot,5,0)","v":"F"},{"$f":"VLOOKUP(A2822,Pilot,3,0)","v":"Toužim"},{"$f":"VLOOKUP(A2822,Pilot,4,0)","v":"CZ/C1"},"PMCŘ 2020 - Kombi Open","CZ",2020,13,5786,1.0699999999999998,6778,7252,"x","x","JS1c 18m","VX","Junior v roce 2021"]
["Martin Hrivna",{"$f":"VLOOKUP(A2823,Pilot,2,0)","v":1978},{"$f":"VLOOKUP(A2823,Pilot,5,0)","v":"M"},{"$f":"VLOOKUP(A2823,Pilot,3,0)","v":"Zbraslavice"},{"$f":"VLOOKUP(A2823,Pilot,4,0)","v":"CZ/C1"},"PMCŘ 2020 - Kombi Open","CZ",2020,14,5493,{"$f":"VLOOKUP(F2823,Soutez,12,0)","v":1.0699999999999998},6346,6790,"x",null,"ASG29E","NX",{"$f":"IF(ISERROR(VLOOKUP(A2823,Pilot,6,0)),\"Není v databázi\",VLOOKUP(A2823,Pilot,6,0))","v":""}]
["Christian Hynek",null,"M","ASKÖ Flugsport Wien","AT","PMCŘ 2020 - Kombi Open","CZ",2020,15,5476,1.0699999999999998,{"$f":"ROUND(J2824/MAX($J$2810:$J$2830)*10000*0.7+(MAX($I$2810:$I$2830)-I2824)/(MAX($I$2810:$I$2830)-1)*10000*0.3,0)","v":6179},6612,null,null,"EB29 DR","DD","Není v databázi"]
["Lenka Kuthanova",{"$f":"VLOOKUP(A2825,Pilot,2,0)","v":1960},{"$f":"VLOOKUP(A2825,Pilot,5,0)","v":"F"},{"$f":"VLOOKUP(A2825,Pilot,3,0)","v":"Tábor"},{"$f":"VLOOKUP(A2825,Pilot,4,0)","v":"CZ/C1"},"PMCŘ 2020 - Kombi Open","CZ",2020,16,5219,1.0699999999999998,5781,6186,null,null,"JS1 c 21m","LX",""]
["Martin Picka",1974,"M","Tábor","CZ/C1","PMCŘ 2020 - Kombi Open","CZ",2020,17,4874,1.0699999999999998,5299,{"$f":"ROUND(K2826*L2826,0)","v":5670},"x",null,"Ventus 2C 18m","CX",""]
["Petr Bartak",1984,"M","Letkov","CZ/C1","PMCŘ 2020 - Kombi Open","CZ",2020,18,4848,1.0699999999999998,5124,5483,null,null,"LS6 18W","BL",""]
["Eva Cerna",1964,"F","Příbram","CZ/C1","PMCŘ 2020 - Kombi Open","CZ",2020,19,4444,1.0699999999999998,4584,4905,"x",null,"Ventus 2cxt","FR",""]
["Karel Mares",1974,"M","Slaný","CZ/C1","PMCŘ 2020 - Kombi Open","CZ",2020,20,4159,1.0699999999999998,4160,4451,null,null,"Ventus C","YF",""]
["Vaclav Svoboda",1970,"M","Letkov","CZ/C1","PMCŘ 2020 - Kombi Open","CZ",2020,21,3919,1.0699999999999998,3778,4042,null,null,"LS8 18m",301,""]
["Jan Viskot",1995,"M","Břeclav","CZ/M","PMČRj 2020 - Klub","CZ",2020,1,7135,0.93,{"$f":"ROUND(J2831/MAX($J$2831:$J$2867)*10000*0.7+(MAX($I$2831:$I$2867)-I2831)/(MAX($I$2831:$I$2867)-1)*10000*0.3,0)","v":10000},9300,"x",null,"LS4b","6L",""]
["Jan Zapletal",1997,"M","Břeclav","CZ/M","PMČRj 2020 - Klub","CZ",2020,2,6733,0.93,{"$f":"ROUND(J2832/MAX($J$2831:$J$2867)*10000*0.7+(MAX($I$2831:$I$2867)-I2832)/(MAX($I$2831:$I$2867)-1)*10000*0.3,0)","v":9522},8855,"x",null,"LS8","JS","Junior v roce 2021"]
["Jaromir Macoun",1999,"M","Jičín","CZ/C2","PMČRj 2020 - Klub","CZ",2020,3,6635,0.93,9343,8689,"x",null,"LS-8","EU","Junior v roce 2021"]
["Vit Morkovsky",2000,"M","Polička","CZ/C2","PMČRj 2020 - Klub","CZ",2020,4,6547,0.93,9173,8531,"x",null,"ASW-24","SM","Junior v roce 2021"]
["Toby Freeland",null,"M","Imperial College - Lasham","UK","PMČRj 2020 - Klub","CZ",2020,5,6466,0.93,9010,8379,null,null,"ASW24 W",96,"Není v databázi"]
["Ivan Tvrdik",{"$f":"VLOOKUP(A2836,Pilot,2,0)","v":1997},{"$f":"VLOOKUP(A2836,Pilot,5,0)","v":"M"},{"$f":"VLOOKUP(A2836,Pilot,3,0)","v":"Letňany"},{"$f":"VLOOKUP(A2836,Pilot,4,0)","v":"CZ/C1"},"PMČRj 2020 - Klub","CZ",2020,6,6263,0.93,8728,8117,"x",null,"ASW-19b","KZ","Junior v roce 2021"]
["Tereza Koubkova",{"$f":"VLOOKUP(A2837,Pilot,2,0)","v":1999},{"$f":"VLOOKUP(A2837,Pilot,5,0)","v":"F"},{"$f":"VLOOKUP(A2837,Pilot,3,0)","v":"Vysoké Mýto"},{"$f":"VLOOKUP(A2837,Pilot,4,0)","v":"CZ/C2"},"PMČRj 2020 - Klub","CZ",2020,7,6177,0.93,8560,7961,"x","x","Std. Cirrus","WY","Junior v roce 2021"]
["Michaela Krizova",{"$f":"VLOOKUP(A2838,Pilot,2,0)","v":2001},{"$f":"VLOOKUP(A2838,Pilot,5,0)","v":"F"},{"$f":"VLOOKUP(A2838,Pilot,3,0)","v":"Přibyslav"},{"$f":"VLOOKUP(A2838,Pilot,4,0)","v":"CZ/C2"},"PMČRj 2020 - Klub","CZ",2020,8,6176,0.93,8476,7883,"x","x","ASW 15b","BE","Junior v roce 2021"]
["Henry Inigo-Jones",null,"M","Lasham Gliding Society","UK","PMČRj 2020 - Klub","CZ",2020,9,6147,0.93,{"$f":"ROUND(J2839/MAX($J$2831:$J$2867)*10000*0.7+(MAX($I$2831:$I$2867)-I2839)/(MAX($I$2831:$I$2867)-1)*10000*0.3,0)","v":8364},7779,null,null,"DG 300 Club",950,"Není v databázi"]
["Tibor Hezina",{"$f":"VLOOKUP(A2840,Pilot,2,0)","v":2002},{"$f":"VLOOKUP(A2840,Pilot,5,0)","v":"M"},{"$f":"VLOOKUP(A2840,Pilot,3,0)","v":"Křižanov"},{"$f":"VLOOKUP(A2840,Pilot,4,0)","v":"CZ/M"},"PMČRj 2020 - Klub","CZ",2020,10,5872,0.93,8011,7450,"x",null,"Std.Cirrus","IJ","Junior v roce 2021"]
["Jan Stastny",2003,"M","Medlánky","CZ/M","PMČRj 2020 - Klub","CZ",2020,11,5826,0.93,7882,7330,"x",null,"ASW-15B","TW","Junior v roce 2021"]
["Tomas Jilek",1995,"M","Raná","CZ/C2","PMČRj 2020 - Klub","CZ",2020,12,5793,0.93,7767,7223,"x",null,"ASW 15A","PI",""]
["Daniel Suchy",1995,"M","Hranice","CZ/M","PMČRj 2020 - Klub","CZ",2020,13,5792,0.93,7682,7144,"x",null,"Astir CS","W7",""]
["Tomas Hulmak",1999,"M","Hosín","CZ/C1","PMČRj 2020 - Klub","CZ",2020,14,5757,0.93,7565,7035,"x",null,"ASW-15b","HH","Junior v roce 2021"]
["Lukas Kriz",2003,"M","Křižanov","CZ/M","PMČRj 2020 - Klub","CZ",2020,15,5751,0.93,7476,6953,"x",null,"Std.Cirrus","EJ","Junior v roce 2021"]
["Tomas Kulhavy",2001,"M","Liberec","CZ/C2","PMČRj 2020 - Klub","CZ",2020,16,5654,0.93,7297,6786,"x",null,"HpH G304CZ","IH","Junior v roce 2021"]
["Lukas Maly",1998,"M","Vysoké Mýto","CZ/C2","PMČRj 2020 - Klub","CZ",2020,17,5646,0.93,7206,6702,"x",null,"ASW-15B","AM","Junior v roce 2021"]
["Vladimir Hammer",2000,"M","Letkov","CZ/C1","PMČRj 2020 - Klub","CZ",2020,18,5552,0.93,7030,6538,"x",null,"Std. Cirrus","XII","Junior v roce 2021"]
["Lukas Volek",2004,"M","Hodkovice","CZ/C2","PMČRj 2020 - Klub","CZ",2020,19,5290,0.93,6690,6222,"x",null,"ASW-15B","BF","Junior v roce 2021"]
["Tomas Hynek",2002,"M","Dvůr Králové","CZ/C2","PMČRj 2020 - Klub","CZ",2020,20,5249,0.93,6566,6106,"x",null,"DG-200","IQ","Junior v roce 2021"]
["Petr Gebauer",1999,"M","Mladá Boleslav","CZ/C1","PMČRj 2020 - Klub","CZ",2020,21,5125,0.93,6361,5916,"x",null,"ASW-19","AH","Junior v roce 2021"]
["Ondrej Dvorak 98",1998,"M","Mladá Boleslav","CZ/C1","PMČRj 2020 - Klub","CZ",2020,22,5124,0.93,6277,5838,"x",null,"ASW-15b","MB","Junior v roce 2021"]
["Tomas Moravec",2000,"M","Žamberk","CZ/C2","PMČRj 2020 - Klub","CZ",2020,23,4857,0.93,5932,5517,"x",null,"Std.CirrusWL","OK6","Junior v roce 2021"]
["Marek Pechar",1995,"M","Chrudim","CZ/C2","PMČRj 2020 - Klub","CZ",2020,24,4797,0.93,5790,5385,"x",null,"Std. Cirrus","JE",""]
["Jan Vozeh",1995,"M","Rakovník","CZ/C1","PMČRj 2020 - Klub","CZ",2020,25,4752,0.93,5662,5266,null,null,"Std. Cirrus","OG",""]
["Jan Beran",1999,"M","Kladno","CZ/C1","PMČRj 2020 - Klub","CZ",2020,26,4656,0.93,5485,5101,"x",null,"ASW - 19B","HB","Junior v roce 2021"]
["Jiri Maier 99",1999,"M","Raná","CZ/C2","PMČRj 2020 - Klub","CZ",2020,27,4437,0.93,5186,4823,"x",null,"Discus bT WL","TAL","Junior v roce 2021"]
["Jakub Malik",1999,"M","Letňany","CZ/C1","PMČRj 2020 - Klub","CZ",2020,28,4046,0.93,4719,4389,"x",null,"VSO-10","L5","Junior v roce 2021"]
["Jan Adam",2002,"M","Podhořany","CZ/C2","PMČRj 2020 - Klub","CZ",2020,29,3982,0.93,4573,4253,"x",null,"Std. Cirrus","YX","Junior v roce 2021"]
["Katerina Vancurova",2002,"F","Hranice","CZ/M","PMČRj 2020 - Klub","CZ",2020,30,3693,0.93,4206,3912,"x","x","Std.Cirrus","HC","Junior v roce 2021"]
["Jan Cibulka",2002,"M","Letňany","CZ/C1","PMČRj 2020 - Klub","CZ",2020,31,3243,0.93,3682,3424,"x",null,"VSO-10","L2","Junior v roce 2021"]
["Jan Camr",2002,"M","Jaroměř","CZ/C2","PMČRj 2020 - Klub","CZ",2020,32,3174,0.93,3531,3284,"x",null,"VSO-10",31,"Junior v roce 2021"]
["Zuzana Markesova",2001,"F","Medlánky","CZ/M","PMČRj 2020 - Klub","CZ",2020,33,2996,0.93,3273,3044,"x","x","Std.Cirrus","MP","Junior v roce 2021"]
["Michal Coufal",1999,"M","Jičín","CZ/C2","PMČRj 2020 - Klub","CZ",2020,34,2800,0.93,2997,2787,"x",null,"Std.Cirrus","FS","Junior v roce 2021"]
["Filip Vita",2001,"M","Kroměříž","CZ/M","PMČRj 2020 - Klub","CZ",2020,35,2687,0.93,2803,2607,"x",null,"Astir","2Y","Junior v roce 2021"]
["Jakub Koudelka",2000,"M","Křižanov","CZ/M","PMČRj 2020 - Klub","CZ",2020,36,2608,0.93,2642,2457,"x",null,"ASW-19b","A1","Junior v roce 2021"]
["Tim Raasch",2000,"M","Polička","CZ/C2","PMČRj 2020 - Klub","CZ",2020,37,983,0.93,964,897,"x",null,"VSO-10","H5","Junior v roce 2021"]
["Michal Lesinger",1966,"M","Moravská Třebová","CZ/M","PMRg 2020 - Klub","CZ",2020,1,4243,0.91500000000000004,{"$f":"ROUND(J2868/MAX($J$2868:$J$2891)*10000*0.7+(MAX($I$2868:$I$2891)-I2868)/(MAX($I$2868:$I$2891)-1)*10000*0.3,0)","v":10000},9150,"x",null,"ASW 19B","LL",""]
["Zdenek Boruvka 86",1986,"M","Jičín","CZ/C2","PMRg 2020 - Klub","CZ",2020,2,4134,0.91500000000000004,{"$f":"ROUND(J2869/MAX($J$2868:$J$2891)*10000*0.7+(MAX($I$2868:$I$2891)-I2869)/(MAX($I$2868:$I$2891)-1)*10000*0.3,0)","v":9690},8866,"x",null,"STD. CIRRUS","BJ",""]
["Jan Zahradka",1981,"M","Hodkovice","CZ/C2","PMRg 2020 - Klub","CZ",2020,3,3619,0.91500000000000004,8710,7970,"x",null,"Std. Cirrus","AR",""]
["Marek Svancara",1976,"M","GAC Benešov","CZ/C1","PMRg 2020 - Klub","CZ",2020,4,3499,0.91500000000000004,8381,7669,"x",null,"Std. Cirrus","GT",""]
["Jan Stastny",{"$f":"VLOOKUP(A2872,Pilot,2,0)","v":2003},{"$f":"VLOOKUP(A2872,Pilot,5,0)","v":"M"},{"$f":"VLOOKUP(A2872,Pilot,3,0)","v":"Medlánky"},{"$f":"VLOOKUP(A2872,Pilot,4,0)","v":"CZ/M"},"PMRg 2020 - Klub","CZ",2020,5,3276,0.91500000000000004,7883,7213,"x",null,"ASW-15B","TW","Junior v roce 2021"]
["Jindrich Hruska",1986,"M","Soběslav","CZ/C1","PMRg 2020 - Klub","CZ",2020,6,3243,0.91500000000000004,7698,7044,"x",null,"Mosquito","UFO",""]
["Jiri Vondracek",1989,"M","Kladno","CZ/C1","PMRg 2020 - Klub","CZ",2020,7,3122,0.91500000000000004,7368,6742,"x",null,"ASW-15B","2P",""]
["Vladimir Hammer",2000,"M","Letkov","CZ/C1","PMRg 2020 - Klub","CZ",2020,8,3106,0.91500000000000004,7211,6598,"x",null,"Std. Cirrus","XII","Junior v roce 2021"]
["Miloslav Hulmak",1963,"M","Hosín","CZ/C1","PMRg 2020 - Klub","CZ",2020,9,3030,0.91500000000000004,6955,6364,"x",null,"ASW15B","HH",""]
["Pavlina Horackova",1965,"F","Šumperk","CZ/M","PMRg 2020 - Klub","CZ",2020,10,2891,0.91500000000000004,{"$f":"ROUND(J2877/MAX($J$2868:$J$2891)*10000*0.7+(MAX($I$2868:$I$2891)-I2877)/(MAX($I$2868:$I$2891)-1)*10000*0.3,0)","v":6596},6035,null,null,"SZD 48 Jantar Std. 2","SU",""]
["Jan Florian",1992,"M","Zbraslavice","CZ/C1","PMRg 2020 - Klub","CZ",2020,11,2831,0.91500000000000004,6366,5825,"x",null,"Std. Cirrus","C1",""]
["Tomas Hulmak",1999,"M","Hosín","CZ/C1","PMRg 2020 - Klub","CZ",2020,12,2823,0.91500000000000004,6223,5694,"x",null,"ASW-15B","XI","Junior v roce 2021"]
["Jiri Holcman",1976,"M","Hosín","CZ/C1","PMRg 2020 - Klub","CZ",2020,13,2717,0.91500000000000004,5917,5414,"x",null,"ASW-19","BO",""]
["Petr Rozhon",1972,"M","Hosín","CZ/C1","PMRg 2020 - Klub","CZ",2020,14,2611,0.91500000000000004,5612,5135,"x",null,"vso-10",9,""]
["Pavel Koudelka",1973,"M","Křižanov","CZ/M","PMRg 2020 - Klub","CZ",2020,15,2442,0.91500000000000004,5203,4761,"x",null,"Std.Cirrus","ICQ",""]
["Michal Vranek",1993,"M","Hosín","CZ/C1","PMRg 2020 - Klub","CZ",2020,16,2440,0.91500000000000004,5069,4638,"x",null,"DG-100","8W",""]
["Jan Beran",1999,"M","Kladno","CZ/C1","PMRg 2020 - Klub","CZ",2020,17,2275,0.91500000000000004,4666,4269,null,null,"ASW 19","HB","Junior v roce 2021"]
["Martin Tison",2000,"M","Hosín","CZ/C1","PMRg 2020 - Klub","CZ",2020,18,2175,0.91500000000000004,4371,3999,"x",null,"ASW-15B","EZ","Junior v roce 2021"]
["Petr Velek",1975,"M","GAC Benešov","CZ/C1","PMRg 2020 - Klub","CZ",2020,19,2138,0.91500000000000004,4179,3824,"x",null,"DG400","HX",""]
["Lukas Plocek",1990,"M","Mladá Boleslav","CZ/C1","PMRg 2020 - Klub","CZ",2020,20,1896,{"$f":"VLOOKUP(F2887,Soutez,12,0)","v":0.91500000000000004},{"$f":"ROUND(J2887/MAX($J$2868:$J$2891)*10000*0.7+(MAX($I$2868:$I$2891)-I2887)/(MAX($I$2868:$I$2891)-1)*10000*0.3,0)","v":3650},3340,"x",null,"ASW-19B","AH",{"$f":"IF(ISERROR(VLOOKUP(A2887,Pilot,6,0)),\"Není v databázi\",VLOOKUP(A2887,Pilot,6,0))","v":""}]
["Vaclav Zak",1962,"M","GAC Benešov","CZ/C1","PMRg 2020 - Klub","CZ",2020,21,1721,0.91500000000000004,3231,2956,"x",null,"Std. Cirrus","TS",""]
["Jiri Krofta",1988,"M","Hosín","CZ/C1","PMRg 2020 - Klub","CZ",2020,22,1563,0.91500000000000004,2839,2598,"x",null,"Std. Cirrus","2U",""]
["Frantisek Suna",1983,"M","Hosín","CZ/C1","PMRg 2020 - Klub","CZ",2020,23,1461,0.91500000000000004,2541,{"$f":"ROUND(K2890*L2890,0)","v":2325},"x",null,"DG-100",78,""]
["Petr Sochor",1986,"M","Hosín","CZ/C1","PMRg 2020 - Klub","CZ",2020,24,1308,0.91500000000000004,2158,1975,"x",null,"ASW15B","6Y",""]
["Danes Grula",1961,"M","Medlánky","CZ/M","PMRg 2020 - Kombi","CZ",2020,1,4243,0.92,{"$f":"ROUND(J2892/MAX($J$2892:$J$2903)*10000*0.7+(MAX($I$2892:$I$2903)-I2892)/(MAX($I$2892:$I$2903)-1)*10000*0.3,0)","v":10000},9200,"x",null,"ASG29E","DX",""]
["Petr Hotovy",1958,"M","Česká Lípa","CZ/C2","PMRg 2020 - Kombi","CZ",2020,2,4106,0.92,{"$f":"ROUND(J2893/MAX($J$2892:$J$2903)*10000*0.7+(MAX($I$2892:$I$2903)-I2893)/(MAX($I$2892:$I$2903)-1)*10000*0.3,0)","v":9501},8741,"x",null,"JS1B 18m","IGC",""]
["Josef Busek",1967,"M","Hosín","CZ/C1","PMRg 2020 - Kombi","CZ",2020,3,3900,0.92,{"$f":"ROUND(J2894/MAX($J$2892:$J$2903)*10000*0.7+(MAX($I$2892:$I$2903)-I2894)/(MAX($I$2892:$I$2903)-1)*10000*0.3,0)","v":8889},8178,"x",null,"Duodiscus X 750kg","BB",""]
["Michael Fik",1972,"M","Strakonice","CZ/C1","PMRg 2020 - Kombi","CZ",2020,4,3722,0.92,8322,7656,"x",null,"Ventus C 17,6","GE",""]
["Hana Treslova",1991,"F","Raná","CZ/C2","PMRg 2020 - Kombi","CZ",2020,5,3460,0.92,7617,7008,null,null,"Ventus 2ax","AX",""]
["Jaromir Macoun",1999,"M","Jičín","CZ/C2","PMRg 2020 - Kombi","CZ",2020,6,3413,0.92,7267,6686,null,null,"LS 8","EU","Junior v roce 2021"]
["Jaromir Pauer",1974,"M","Hosín","CZ/C1","PMRg 2020 - Kombi","CZ",2020,7,3293,0.92,6796,6252,"x",null,"Ventus C 17,6m","XE",""]
["Karel Novak",1993,"M","Mladá Boleslav","CZ/C1","PMRg 2020 - Kombi","CZ",2020,8,3255,0.92,6461,5944,null,null,"JS-3","XM",""]
["Jaroslav Potmesil",1964,"M","Zbraslavice","CZ/C1","PMRg 2020 - Kombi","CZ",2020,9,2273,0.92,4568,4203,"x",null,"304TS TwinShark","DL",""]
["Radek Zima 78",1978,"M","Hodkovice","CZ/C2","PMRg 2020 - Kombi","CZ",2020,10,1751,0.92,3434,3159,null,null,"Ventus b 16,6m 430kg WL","7F",""]
["Jan Kohout",1970,"M","Žamberk","CZ/C2","PMRg 2020 - Kombi","CZ",2020,11,1320,0.92,{"$f":"ROUND(J2902/MAX($J$2892:$J$2903)*10000*0.7+(MAX($I$2892:$I$2903)-I2902)/(MAX($I$2892:$I$2903)-1)*10000*0.3,0)","v":2450},2254,null,null,"LS8a","SK",""]
["Radoslav Pur",1973,"M","Hosín","CZ/C1","PMRg 2020 - Kombi","CZ",2020,12,1147,0.92,{"$f":"ROUND(J2903/MAX($J$2892:$J$2903)*10000*0.7+(MAX($I$2892:$I$2903)-I2903)/(MAX($I$2892:$I$2903)-1)*10000*0.3,0)","v":1892},1741,"x",null,"DG-200","EK",""]
["Ivan Novak",{"$f":"VLOOKUP(A2904,Pilot,2,0)","v":1962},"M","Mladá Boleslav","CZ/C1","PMSR 2020 - Klub","SK",2020,1,7906,0.93500000000000005,{"$f":"ROUND(J2904/MAX($J$2904:$J$2928)*10000*0.7+(MAX($I$2904:$I$2928)-I2904)/(MAX($I$2904:$I$2928)-1)*10000*0.3,0)","v":10000},9350,null,null,"LS-4","IX",""]
["Josef Kozar",null,"M","AK MARTIN",null,"PMSR 2020 - Klub","SK",2020,2,7804,0.93500000000000005,9785,9149,null,null,"LS1-f","MF","Není v databázi"]
["Milan Surovcik Ml.",null,"M","AK ZILINA",null,"PMSR 2020 - Klub","SK",2020,3,7612,0.93500000000000005,9490,8873,null,null,"C-101A Pegase","EL","Není v databázi"]
["Samuel Posluch",null,"M","AK MATRIN",null,"PMSR 2020 - Klub","SK",2020,4,7312,0.93500000000000005,9099,8508,null,null,"C101A Pegase","ZD","Není v databázi"]
["Jan Kovalcik",null,"M","AK BRATISLAVA",null,"PMSR 2020 - Klub","SK",2020,5,7299,0.93500000000000005,8963,8380,null,null,"C101A Pegase","OI","Není v databázi"]
["Martin Jurovic",null,"M","AK BRATISLAVA",null,"PMSR 2020 - Klub","SK",2020,6,7222,0.93500000000000005,8769,8199,null,null,"C101A Pegase","J2","Není v databázi"]
["Edmund Schuller",null,"M","AK LUCENEC",null,"PMSR 2020 - Klub","SK",2020,7,7204,0.93500000000000005,8628,8067,null,null,"ASW 24WL","ZS","Není v databázi"]
["Roman Petro",null,"M","AK NITRA",null,"PMSR 2020 - Klub","SK",2020,8,7064,0.93500000000000005,8379,7834,null,null,"C101A Pegase",101,"Není v databázi"]
["Tibor Noga",null,"M","SGC Martin",null,"PMSR 2020 - Klub","SK",2020,9,6987,0.93500000000000005,8186,7654,null,null,"ASW 19 B","A4","Není v databázi"]
["Martin Sabla",null,"M","AK Sp. Nova Ves",null,"PMSR 2020 - Klub","SK",2020,10,6938,0.93500000000000005,8018,7497,null,null,"Std. Cirrus","SA","Není v databázi"]
["Simon Siska",null,"M","AK Martin",null,"PMSR 2020 - Klub","SK",2020,11,6828,0.93500000000000005,7796,7289,null,null,"Ls-4","BM","Není v databázi"]
["Marek Straka",null,"M","AK TRENCIN",null,"PMSR 2020 - Klub","SK",2020,12,6743,0.93500000000000005,7595,7101,null,null,"LS 3","AI","Není v databázi"]
["Tibor Fratrik",null,"M","SGC Martin",null,"PMSR 2020 - Klub","SK",2020,13,6473,0.93500000000000005,7231,6761,null,null,"ASW-19","A1","Není v databázi"]
["Bohumil Vasek",null,"M","AK PARTIZANSKE",null,"PMSR 2020 - Klub","SK",2020,14,6399,0.93500000000000005,7041,6583,null,null,"C101AP Pegase","LL","Není v databázi"]
["Karol Benedikovic",null,"M","AIR SYMPATIA",null,"PMSR 2020 - Klub","SK",2020,15,6178,0.93500000000000005,6720,6283,null,null,"Std.Cirrus","AM","Není v databázi"]
["Jakub Kos",null,"M","GOrska Szkoła Szybowcowa Zar",null,"PMSR 2020 - Klub","SK",2020,16,6101,0.93500000000000005,6527,6103,null,null,"SZD-48 Jantar Standard 3","ZAR","Není v databázi"]
["Milos Srank",null,"M","AK NOVE ZAMKY",null,"PMSR 2020 - Klub","SK",2020,17,5845,0.93500000000000005,6175,5774,null,null,"ASW-24WL","CK","Není v databázi"]
["Jan Hlinka",null,"M","AK MARTIN",null,"PMSR 2020 - Klub","SK",2020,18,5790,0.93500000000000005,6001,5611,null,null,"C101A Pegase","MT","Není v databázi"]
["Jozef Sopirjak",null,"M","AK KOSICE",null,"PMSR 2020 - Klub","SK",2020,19,4965,0.93500000000000005,5146,4812,null,null,"DG 101G ELAN","SX","Není v databázi"]
["Lubomir Belusko",null,"M","AK PRESOV",null,"PMSR 2020 - Klub","SK",2020,20,4876,0.93500000000000005,4942,4621,null,null,"Centrair 201B Marianne","AMI","Není v databázi"]
["Anton Zelanaj",null,"M","AK NOVE ZAMKY",null,"PMSR 2020 - Klub","SK",2020,21,4589,0.93500000000000005,4563,4266,null,null,"ASW 15B","TZ","Není v databázi"]
["Erik Mikulas",null,"M","AK PARTIZANSKE",null,"PMSR 2020 - Klub","SK",2020,22,4532,0.93500000000000005,4388,4103,null,null,"LS 1 f","LS","Není v databázi"]
["Marek Seman",null,"M","AK PRESOV",null,"PMSR 2020 - Klub","SK",2020,23,4284,0.93500000000000005,4043,3780,null,null,"C101-D Pegase","HS","Není v databázi"]
["Branislav Studienka",null,"M","AK TRENCIN",null,"PMSR 2020 - Klub","SK",2020,24,4000,0.93500000000000005,3667,3429,null,null,"Std. Astir III",72,"Není v databázi"]
["Alberto Rizzi",null,"M","AK HOLIC",null,"PMSR 2020 - Klub","SK",2020,25,2090,0.93500000000000005,1850,1730,null,null,"DG-202","SJ","Není v databázi"]
["Maros Divok",null,"M","AK SPISKA NOVA VES",null,"PMSR 2020 - Kombi 15m","SK",2020,1,7678,0.93500000000000005,{"$f":"ROUND(J2929/MAX($J$2929:$J$2939)*10000*0.7+(MAX($I$2929:$I$2939)-I2929)/(MAX($I$2929:$I$2939)-1)*10000*0.3,0)","v":10000},9350,null,null,"Discus","3D","Není v databázi"]
["Dana Novakova",{"$f":"VLOOKUP(A2930,Pilot,2,0)","v":1965},{"$f":"VLOOKUP(A2930,Pilot,5,0)","v":"F"},{"$f":"VLOOKUP(A2930,Pilot,3,0)","v":"Mladá Boleslav"},{"$f":"VLOOKUP(A2930,Pilot,4,0)","v":"CZ/C1"},"PMSR 2020 - Kombi 15m","SK",2020,2,7608,0.93500000000000005,9636,9010,"x","x","LS-8","AU",""]
["Viktoria Divokova",null,"F","Spišska Nová Ves",null,"PMSR 2020 - Kombi 15m","SK",2020,3,7070,0.93500000000000005,8846,8271,null,null,"Discus 2b","DI","Není v databázi"]
["Jana Treslova",{"$f":"VLOOKUP(A2932,Pilot,2,0)","v":1963},{"$f":"VLOOKUP(A2932,Pilot,5,0)","v":"F"},{"$f":"VLOOKUP(A2932,Pilot,3,0)","v":"Raná"},{"$f":"VLOOKUP(A2932,Pilot,4,0)","v":"CZ/C2"},"PMSR 2020 - Kombi 15m","SK",2020,4,6939,0.93500000000000005,8426,7878,"x",null,"Discus 2","GX",""]
["Dominik Jancik",null,"M","Nitra",null,"PMSR 2020 - Kombi 15m","SK",2020,5,6804,0.93500000000000005,8003,7483,null,null,"LS 8","SI","Není v databázi"]
["Jiri Kusbach",{"$f":"VLOOKUP(A2934,Pilot,2,0)","v":1959},{"$f":"VLOOKUP(A2934,Pilot,5,0)","v":"M"},{"$f":"VLOOKUP(A2934,Pilot,3,0)","v":"Luhačovice"},{"$f":"VLOOKUP(A2934,Pilot,4,0)","v":"CZ/M"},"PMSR 2020 - Kombi 15m","SK",2020,6,6723,0.93500000000000005,7629,7133,null,null,"KKB 15 FES","B",""]
["Tibor Arpas",null,"M","AK NITRA",null,"PMSR 2020 - Kombi 15m","SK",2020,7,6502,0.93500000000000005,7128,6665,null,null,"LS 8","TC","Není v databázi"]
["Slavomir Valecko",{"$f":"VLOOKUP(A2936,Pilot,2,0)","v":1960},{"$f":"VLOOKUP(A2936,Pilot,5,0)","v":"M"},{"$f":"VLOOKUP(A2936,Pilot,3,0)","v":"Hranice"},{"$f":"VLOOKUP(A2936,Pilot,4,0)","v":"CZ/M"},"PMSR 2020 - Kombi 15m","SK",2020,8,6421,0.93500000000000005,6754,6315,"x",null,"Discus CS","IYB",""]
["Peter Janoska",null,"M","AK NITRA",null,"PMSR 2020 - Kombi 15m","SK",2020,9,5823,0.93500000000000005,5909,5525,null,null,"LS- 6c/15m","N6","Není v databázi"]
["Oldrich Bartonik",{"$f":"VLOOKUP(A2938,Pilot,2,0)","v":1961},{"$f":"VLOOKUP(A2938,Pilot,5,0)","v":"M"},{"$f":"VLOOKUP(A2938,Pilot,3,0)","v":"Luhačovice"},{"$f":"VLOOKUP(A2938,Pilot,4,0)","v":"CZ/M"},"PMSR 2020 - Kombi 15m","SK",2020,10,4833,0.93500000000000005,4706,4400,"x",null,"KKB-15","N1",""]
["Jozef Pesko",null,"M","AK NITRA",null,"PMSR 2020 - Kombi 15m","SK",2020,11,4359,0.93500000000000005,3974,3716,null,null,"LS 8t","HM","Není v databázi"]
["Roman Mracek",{"$f":"VLOOKUP(A2940,Pilot,2,0)","v":1980},{"$f":"VLOOKUP(A2940,Pilot,5,0)","v":"M"},{"$f":"VLOOKUP(A2940,Pilot,3,0)","v":"Letkov"},{"$f":"VLOOKUP(A2940,Pilot,4,0)","v":"CZ/C1"},"PMSR 2020 - Kombi Open","SK",2020,1,7750,0.93500000000000005,{"$f":"ROUND(J2940/MAX($J$2940:$J$2959)*10000*0.7+(MAX($I$2940:$I$2959)-I2940)/(MAX($I$2940:$I$2959)-1)*10000*0.3,0)","v":10000},9350,null,null,"LS8-18","JB",""]
["Vladimir Foltin",null,"M","AK NITRA",null,"PMSR 2020 - Kombi Open","SK",2020,2,7325,0.93500000000000005,9449,8835,null,null,"JS3 18m",3,"Není v databázi"]
["Tomas Bobok",null,"M","Prievidza",null,"PMSR 2020 - Kombi Open","SK",2020,3,6739,0.93500000000000005,8754,8185,null,null,"Discus 2ct","AL","Není v databázi"]
["Lukas Benedikt",null,"M","AK Trnava",null,"PMSR 2020 - Kombi Open","SK",2020,4,6516,0.93500000000000005,8385,7840,null,null,"Ventus 3 fes","LB","Není v databázi"]
["Kollar & KROMKA",null,"M","AK POPRAD",null,"PMSR 2020 - Kombi Open","SK",2020,5,5900,0.93500000000000005,7662,7164,null,null,"Arcus M","TA3","Není v databázi"]
["Jan Divok",null,"M","AK SPISKA NOVA VES",null,"PMSR 2020 - Kombi Open","SK",2020,6,5768,0.93500000000000005,7376,6897,null,null,"Discus 2cT","DJ","Není v databázi"]
["Aldo Cernezzi",null,"M","Varese",null,"PMSR 2020 - Kombi Open","SK",2020,7,5684,0.93500000000000005,7134,6670,null,null,"DG800B","TI","Není v databázi"]
["Gabriela Belakova",null,"F","AK PRIEVIDZA",null,"PMSR 2020 - Kombi Open","SK",2020,8,5627,0.93500000000000005,6916,6466,null,null,"Discus 2cT","EF","Není v databázi"]
["Jakubcak & SULIROVA",null,null,"SGC MARTIN",null,"PMSR 2020 - Kombi Open","SK",2020,9,5615,0.93500000000000005,6738,6300,null,null,"Arcus M","CÁR","Není v databázi"]
["Eduard Niko",null,"M","Aeroclub Prievidza",null,"PMSR 2020 - Kombi Open","SK",2020,10,5472,0.93500000000000005,6442,6023,null,null,"Discus 2ct","AE","Není v databázi"]
["Skrabalek & Simoncic",null,"M","AK BRATISLAVA",null,"PMSR 2020 - Kombi Open","SK",2020,11,5225,0.93500000000000005,6053,5660,null,null,"Duo Discus","2X","Není v databázi"]
["Petr Krejcirik",{"$f":"VLOOKUP(A2951,Pilot,2,0)","v":1960},{"$f":"VLOOKUP(A2951,Pilot,5,0)","v":"M"},{"$f":"VLOOKUP(A2951,Pilot,3,0)","v":"Hranice"},{"$f":"VLOOKUP(A2951,Pilot,4,0)","v":"CZ/M"},"PMSR 2020 - Kombi Open","SK",2020,12,4716,{"$f":"VLOOKUP(F2951,Soutez,12,0)","v":0.93500000000000005},5426,5073,null,null,"JS 1 Revelation","ZF",{"$f":"IF(ISERROR(VLOOKUP(A2951,Pilot,6,0)),\"Není v databázi\",VLOOKUP(A2951,Pilot,6,0))","v":""}]
["Pavol Cerny",null,"M","SGC Martin",null,"PMSR 2020 - Kombi Open","SK",2020,13,4681,0.93500000000000005,5228,4888,null,null,"Ventus 2CxT","FR","Není v databázi"]
["Benedikt Laho",null,"M","AK TRNAVA",null,"PMSR 2020 - Kombi Open","SK",2020,14,4430,0.93500000000000005,4835,4521,null,null,"Discus 2ct","JH","Není v databázi"]
["Peter Abonyi",null,"M","AK RUZOMBEROK",null,"PMSR 2020 - Kombi Open","SK",2020,15,4253,0.93500000000000005,4508,{"$f":"ROUND(K2954*L2954,0)","v":4215},null,null,"Ventus C; 17,6m","PA","Není v databázi"]
["Hupka & HOLAK",null,"M","AK NITRA",null,"PMSR 2020 - Kombi Open","SK",2020,16,4143,0.93500000000000005,4242,3966,null,null,"DG-1000T","NIT","Není v databázi"]
["Lubomir Doupal",{"$f":"VLOOKUP(A2956,Pilot,2,0)","v":1975},{"$f":"VLOOKUP(A2956,Pilot,5,0)","v":"M"},{"$f":"VLOOKUP(A2956,Pilot,3,0)","v":"Kroměříž"},{"$f":"VLOOKUP(A2956,Pilot,4,0)","v":"CZ/M"},"PMSR 2020 - Kombi Open","SK",2020,17,3725,0.93500000000000005,3698,3458,"x",null,"VENTUS 2cxT","LD",""]
["Milan Lojdl",null,"M","AK MARTIN",null,"PMSR 2020 - Kombi Open","SK",2020,18,3416,0.93500000000000005,3252,3041,null,null,"VENTUS 2cxT","MJ1","Není v databázi"]
["Peter Pokorny",null,"M","AK BRATISLAVA",null,"PMSR 2020 - Kombi Open","SK",2020,19,0,0.93500000000000005,0,0,null,null,"ASG29E","9E","Není v databázi"]
["Petr Hotovy",{"$f":"VLOOKUP(A2959,Pilot,2,0)","v":1958},{"$f":"VLOOKUP(A2959,Pilot,5,0)","v":"M"},{"$f":"VLOOKUP(A2959,Pilot,3,0)","v":"Česká Lípa"},{"$f":"VLOOKUP(A2959,Pilot,4,0)","v":"CZ/C2"},"PMSR 2020 - Kombi Open","SK",2020,19,0,0.93500000000000005,0,0,null,null,"JS1 B TJ","IGC",""]
["Michal Coufal",1999,"M","Jičín","CZ/C2","Pohár Českého Ráje 2020 - Kombi","CZ",2020,1,1855,0,{"$f":"ROUND(J2960/MAX($J$2960:$J$2969)*10000*0.7+(MAX($I$2960:$I$2969)-I2960)/(MAX($I$2960:$I$2969)-1)*10000*0.3,0)","v":10000},0,null,null,"Std. Cirrus","FS","Junior v roce 2021"]
["Petr Tax",1968,"M","Jičín","CZ/C2","Pohár Českého Ráje 2020 - Kombi","CZ",2020,2,1562,0,{"$f":"ROUND(J2961/MAX($J$2960:$J$2969)*10000*0.7+(MAX($I$2960:$I$2969)-I2961)/(MAX($I$2960:$I$2969)-1)*10000*0.3,0)","v":8519},0,null,null,"Terej","VIP",""]
["Zbynek Fuksa",1956,"M","Jičín","CZ/C2","Pohár Českého Ráje 2020 - Kombi","CZ",2020,3,1437,0,{"$f":"ROUND(J2962/MAX($J$2960:$J$2969)*10000*0.7+(MAX($I$2960:$I$2969)-I2962)/(MAX($I$2960:$I$2969)-1)*10000*0.3,0)","v":7673},0,null,null,"Duo Discus XL",88,""]
["Radek Tobolka",1977,"M","Jičín","CZ/C2","Pohár Českého Ráje 2020 - Kombi","CZ",2020,4,1244,0,{"$f":"ROUND(J2963/MAX($J$2960:$J$2969)*10000*0.7+(MAX($I$2960:$I$2969)-I2963)/(MAX($I$2960:$I$2969)-1)*10000*0.3,0)","v":6569},0,null,null,"Std. cirrus","XL",""]
["Petr Kyzivat",1970,"M","Jičín","CZ/C2","Pohár Českého Ráje 2020 - Kombi","CZ",2020,5,1156,0,{"$f":"ROUND(J2964/MAX($J$2960:$J$2969)*10000*0.7+(MAX($I$2960:$I$2969)-I2964)/(MAX($I$2960:$I$2969)-1)*10000*0.3,0)","v":5862},0,null,null,"std. cirrus","SC",""]
["Lukas Jezek",{"$f":"VLOOKUP(A2965,Pilot,2,0)","v":1975},"M",{"$f":"VLOOKUP(A2965,Pilot,3,0)","v":"Jičín"},{"$f":"VLOOKUP(A2965,Pilot,4,0)","v":"CZ/C2"},"Pohár Českého Ráje 2020 - Kombi","CZ",2020,"HC",1142,0,null,{"$f":"ROUND(K2965*L2965,0)","v":0},null,null,"L-13",null,{"$f":"IF(ISERROR(VLOOKUP(A2965,Pilot,6,0)),\"Není v databázi\",VLOOKUP(A2965,Pilot,6,0))","v":""}]
["Ilja Kopacek",1943,"M","Jičín","CZ/C2","Pohár Českého Ráje 2020 - Kombi","CZ",2020,6,1091,0,{"$f":"ROUND(J2966/MAX($J$2960:$J$2969)*10000*0.7+(MAX($I$2960:$I$2969)-I2966)/(MAX($I$2960:$I$2969)-1)*10000*0.3,0)","v":5242},0,null,null,"Janus 18.2m","JC",""]
["Pavel Kyzivat",1973,"M","Zbraslavice","CZ/C1","Pohár Českého Ráje 2020 - Kombi","CZ",2020,7,561,0,{"$f":"ROUND(J2967/MAX($J$2960:$J$2969)*10000*0.7+(MAX($I$2960:$I$2969)-I2967)/(MAX($I$2960:$I$2969)-1)*10000*0.3,0)","v":2867},0,null,null,"ASW 19","PM",""]
["Miroslav Trybucek",1965,"M","Jičín","CZ/C2","Pohár Českého Ráje 2020 - Kombi","CZ",2020,8,548,0,{"$f":"ROUND(J2968/MAX($J$2960:$J$2969)*10000*0.7+(MAX($I$2960:$I$2969)-I2968)/(MAX($I$2960:$I$2969)-1)*10000*0.3,0)","v":2443},0,null,null,"Ventus 2cM/18m","OZ",""]
["Jiri Pixa",1968,"M","Slaný","CZ/C1","Pohár Českého Ráje 2020 - Kombi","CZ",2020,9,184,0,{"$f":"ROUND(J2969/MAX($J$2960:$J$2969)*10000*0.7+(MAX($I$2960:$I$2969)-I2969)/(MAX($I$2960:$I$2969)-1)*10000*0.3,0)","v":694},0,null,null,"VSO-10","G9",""]
["Jan Ratz",1987,"M","Zbraslavice","CZ/C1","Pozdní sběr 2020 - Kombi","CZ",2020,1,524,0,{"$f":"ROUND(J2970/MAX($J$2970:$J$2976)*10000*0.7+(MAX($I$2970:$I$2976)-I2970)/(MAX($I$2970:$I$2976)-1)*10000*0.3,0)","v":10000},0,null,null,"Cirrus Std.","REX",""]
["Jan Smekal",1976,"M","Zbraslavice","CZ/C1","Pozdní sběr 2020 - Kombi","CZ",2020,2,396,0,7790,0,null,null,"ASW 20","NW",""]
["Martin Grmela",1989,"M","Zbraslavice","CZ/C1","Pozdní sběr 2020 - Kombi","CZ",2020,3,306,0,6088,0,null,null,"ASW 19","FY",""]
["Jakub Kmosek",1978,"M","Zbraslavice","CZ/C1","Pozdní sběr 2020 - Kombi","CZ",2020,4,302,0,5534,0,null,null,"Std. Cirrus","ST",""]
["Alena Netusilova",1970,"F","Zbraslavice","CZ/C1","Pozdní sběr 2020 - Kombi","CZ",2020,5,279,0,4727,0,null,null,"ASG 29E 18m","AJ",""]
["Petr Havelka",1997,"M","Zbraslavice","CZ/C1","Pozdní sběr 2020 - Kombi","CZ",2020,6,159,0,2624,0,null,null,"ASW 19","IS","Junior v roce 2021"]
["Tomas Turek",1988,"M","Zbraslavice","CZ/C1","Pozdní sběr 2020 - Kombi","CZ",2020,7,94,0,1256,0,null,null,"Std. Cirrus","C1",""]
["Robert Hribersek",null,"M","Maribor","SI","Ranský Pohár 2020 - Kombi","CZ",2020,1,3363,0.76,{"$f":"ROUND(J2977/MAX($J$2977:$J$3000)*10000*0.7+(MAX($I$2977:$I$3000)-I2977)/(MAX($I$2977:$I$3000)-1)*10000*0.3,0)","v":10000},7600,null,null,"Std. Cirrus 75","TR","Není v databázi"]
["Jiri Maier 99",{"$f":"VLOOKUP(A2978,Pilot,2,0)","v":1999},{"$f":"VLOOKUP(A2978,Pilot,5,0)","v":"M"},{"$f":"VLOOKUP(A2978,Pilot,3,0)","v":"Raná"},{"$f":"VLOOKUP(A2978,Pilot,4,0)","v":"CZ/C2"},"Ranský Pohár 2020 - Kombi","CZ",2020,2,3113,0.76,{"$f":"ROUND(J2978/MAX($J$2977:$J$3000)*10000*0.7+(MAX($I$2977:$I$3000)-I2978)/(MAX($I$2977:$I$3000)-1)*10000*0.3,0)","v":9349},7105,"x",null,"Discus bT WL","TAL","Junior v roce 2021"]
["Martin Zvonicek",1972,"M","Raná","CZ/C2","Ranský Pohár 2020 - Kombi","CZ",2020,3,3096,0.76,9183,6979,"x",null,"ASW 15","EET",""]
["Jan Smaha",1958,"M","Česká Lípa","CZ/C2","Ranský Pohár 2020 - Kombi","CZ",2020,4,3022,0.76,8899,6763,"x",null,"ASW 15B","CW",""]
["Tomas Novak",1974,"M","Česká Lípa","CZ/C2","Ranský Pohár 2020 - Kombi","CZ",2020,5,2956,0.76,8631,6560,"x",null,"Std. Cirrus","CV",""]
["Krystof Mimra",1992,"M","Most","CZ/C2","Ranský Pohár 2020 - Kombi","CZ",2020,6,2866,0.76,8313,6318,"x",null,"VSO-10",51,""]
["Jiri Maier 66",1966,"M","Raná","CZ/C2","Ranský Pohár 2020 - Kombi","CZ",2020,7,2791,0.76,8027,6101,"x",null,"ASW 24E","JM",""]
["Ludek Souhrada",1974,"M","Raná","CZ/C2","Ranský Pohár 2020 - Kombi","CZ",2020,8,2634,0.76,7570,5753,"x",null,"Janus 18.2m","RA",""]
["Dalibor Pek",1968,"M","Raná","CZ/C2","Ranský Pohár 2020 - Kombi","CZ",2020,9,2630,0.76,7431,5648,"x",null,"Std. Cirrus","GP",""]
["Jaroslav Vancata",1985,"M","Raná","CZ/C2","Ranský Pohár 2020 - Kombi","CZ",2020,10,2609,0.76,7257,5515,"x",null,"LS 7 WL","2B",""]
["Eduard Svoboda",1957,"M","Raná","CZ/C2","Ranský Pohár 2020 - Kombi","CZ",2020,11,2542,0.76,6987,5310,"x",null,"ASW 15B","HL",""]
["Michal Hemrle",1974,"M","Česká Lípa","CZ/C2","Ranský Pohár 2020 - Kombi","CZ",2020,12,2332,0.76,6419,4878,"x",null,"ASG 29E","ET",""]
["Pavel Derda",1952,"M","Dvůr Králové","CZ/C2","Ranský Pohár 2020 - Kombi","CZ",2020,13,2219,0.76,6054,4601,null,null,"Cirrus VTC 17.74","VE",""]
["Tomas Mezera",1973,"M","Raná","CZ/C2","Ranský Pohár 2020 - Kombi","CZ",2020,14,2064,0.76,{"$f":"ROUND(J2990/MAX($J$2977:$J$3000)*10000*0.7+(MAX($I$2977:$I$3000)-I2990)/(MAX($I$2977:$I$3000)-1)*10000*0.3,0)","v":5601},4257,null,null,"VSO-10",59,""]
["Sarka Lochova",1966,"F","Šumperk","CZ/M","Ranský Pohár 2020 - Kombi","CZ",2020,15,2050,0.76,5441,4135,"x","x","M-35",35,""]
["Jana Mezerova",1975,"F","Raná","CZ/C2","Ranský Pohár 2020 - Kombi","CZ",2020,16,1992,0.76,5190,3944,"x","x","LS 1-0","AL",""]
["Jan Sustr 76",1976,"M","Raná","CZ/C2","Ranský Pohár 2020 - Kombi","CZ",2020,17,1940,0.76,4951,3763,"x",null,"DG 300","WL",""]
["Jaromir Vlk",1959,"M","Šumperk","CZ/M","Ranský Pohár 2020 - Kombi","CZ",2020,18,1516,0.76,3938,2993,null,null,"ASW 15B","R5",""]
["Zbynek Bican",1961,"M","Raná","CZ/C2","Ranský Pohár 2020 - Kombi","CZ",2020,19,1484,0.76,3741,2843,"x",null,"LS 3","H1",""]
["Jaromir Hendrych",1954,"M","Raná","CZ/C2","Ranský Pohár 2020 - Kombi","CZ",2020,20,1463,0.76,3567,2711,null,null,"M-35",36,""]
["Tereza Krcilova Spalenkova",1981,"F","Raná","CZ/C2","Ranský Pohár 2020 - Kombi","CZ",2020,21,1448,0.76,3405,2588,"x","x","ASW 15","KA",""]
["Vojtech Kostejn",1974,"M","Hodkovice","CZ/C2","Ranský Pohár 2020 - Kombi","CZ",2020,22,1444,0.76,3267,2483,"x",null,"ASW 15B","I",""]
["Stanislav Vrabec",1975,"M","Česká Lípa","CZ/C2","Ranský Pohár 2020 - Kombi","CZ",2020,23,1266,0.76,2766,2102,"x",null,"G-102 Astir CS","X",""]
["David Krcil",1976,"M","Raná","CZ/C2","Ranský Pohár 2020 - Kombi","CZ",2020,24,1011,0.76,2104,1599,"x",null,"ASW 15B","BE",""]
["Rostislav Broz",1968,"M","Vrchlabí","CZ/C2","Safari 2020 - Duo Kombi","CZ",2020,1,632,0,{"$f":"ROUND(J3001/MAX($J$3001:$J$3014)*10000*0.7+(MAX($I$3001:$I$3014)-I3001)/(MAX($I$3001:$I$3014)-1)*10000*0.3,0)","v":10000},0,null,null,"L13 Blanik","V",""]
["Vladimir Prihoda",1953,"M","Kralupy","CZ/C1","Safari 2020 - Duo Kombi","CZ",2020,1,632,0,{"$f":"ROUND(J3002/MAX($J$3001:$J$3014)*10000*0.7+(MAX($I$3001:$I$3014)-I3002)/(MAX($I$3001:$I$3014)-1)*10000*0.3,0)","v":10000},0,null,null,"L-23 Super Blanik dvoji","X",""]
["Petr Hosek",2001,"M","Beroun","CZ/C1","Safari 2020 - Duo Kombi","CZ",2020,3,591,0,9000,0,null,null,"L13 Blanik","BU","Junior v roce 2021"]
["Jan Hybner",1977,"M","Liberec","CZ/C2","Safari 2020 - Duo Kombi","CZ",2020,4,493,0,7642,0,null,null,"L-23 Super Blanik",23,""]
["Petr Panek",1975,"M","Dvůr Králové","CZ/C2","Safari 2020 - Duo Kombi","CZ",2020,5,490,0,7336,0,null,null,"L-23 Super Blanik","Y",""]
["Jaroslav Rapac",1977,"M","Dvůr Králové","CZ/C2","Safari 2020 - Duo Kombi","CZ",2020,6,443,0,6543,0,null,null,"L-23 Super Blanik","KM",""]
["Vojtech Pivonka",1976,"M","Vrchlabí","CZ/C2","Safari 2020 - Duo Kombi","CZ",2020,7,429,0,6115,0,null,null,"L-13 Blanik","AY",""]
["Martin Sehnoutka",1970,"M","Dvůr Králové","CZ/C2","Safari 2020 - Duo Kombi","CZ",2020,8,369,0,{"$f":"ROUND(J3008/MAX($J$3001:$J$3014)*10000*0.7+(MAX($I$3001:$I$3014)-I3008)/(MAX($I$3001:$I$3014)-1)*10000*0.3,0)","v":5178},0,null,null,"L 13 Blanik","VF",""]
["Vladislav Cadsky",null,"M",null,"SK","Safari 2020 - Duo Kombi","CZ",2020,9,257,0,3665,0,null,null,"L-13 Blanik","FI","Není v databázi"]
["Kuk",{"$f":"VLOOKUP(A3010,Pilot,2,0)","v":1900},{"$f":"VLOOKUP(A3010,Pilot,5,0)","v":"M"},{"$f":"VLOOKUP(A3010,Pilot,3,0)","v":"Dvůr Králové"},{"$f":"VLOOKUP(A3010,Pilot,4,0)","v":"CZ/C2"},"Safari 2020 - Duo Kombi","CZ",2020,10,210,0,2871,0,null,null,"L-13 Blanik dvoji","ET",""]
["Martin Markl",1960,"M","Kolín","CZ/C1","Safari 2020 - Duo Kombi","CZ",2020,11,87,0,1236,0,null,null,"L 13 Blanik dvoji","FL",""]
["Martin Benesovsky",1900,"M","Kolín","CZ/C1","Safari 2020 - Duo Kombi","CZ",2020,12,0,0,0,0,null,null,"L 13 Blanik dvoji","FI",""]
["Pavel Kuriscak",1987,"M","Beroun","CZ/C1","Safari 2020 - Duo Kombi","CZ",2020,12,0,0,0,0,null,null,"L13 Blanik","BU",""]
["Jan Karnik",1976,"M","Letkov","CZ/C1","Safari 2020 - Duo Kombi","CZ",2020,12,0,0,0,0,null,null,"L-23 Super Blanik","LR",""]
["Petr Lonsky",1965,"M","Toužim","CZ/C1","Safari 2020 - Klub","CZ",2020,1,1919,{"$f":"VLOOKUP(F3015,Soutez,12,0)","v":0.75},{"$f":"ROUND(J3015/MAX($J$3015:$J$3040)*10000*0.7+(MAX($I$3015:$I$3040)-I3015)/(MAX($I$3015:$I$3040)-1)*10000*0.3,0)","v":10000},7500,"x",null,"Cirrus VTC","JP",{"$f":"IF(ISERROR(VLOOKUP(A3015,Pilot,6,0)),\"Není v databázi\",VLOOKUP(A3015,Pilot,6,0))","v":""}]
["Marek Kornec",1957,"M","Dvůr Králové","CZ/C2","Safari 2020 - Klub","CZ",2020,2,1911,0.75,{"$f":"ROUND(J3016/MAX($J$3015:$J$3040)*10000*0.7+(MAX($I$3015:$I$3040)-I3016)/(MAX($I$3015:$I$3040)-1)*10000*0.3,0)","v":9851},7388,"x",null,"Janus C (FG)","KSS",""]
["David Tejnora",1982,"M","Kolín","CZ/C1","Safari 2020 - Klub","CZ",2020,3,1904,0.75,9705,7279,"x",null,"Std. Cirrus",17,""]
["Jan Hybner",1977,"M","Liberec","CZ/C2","Safari 2020 - Klub","CZ",2020,4,1868,0.75,9454,{"$f":"ROUND(K3018*L3018,0)","v":7091},"x",null,"HpH 304cz /15m","LB",""]
["Wolfgang Sluka",1942,"M","Liberec","CZ/C2","Safari 2020 - Klub","CZ",2020,5,1847,0.75,9257,6943,"x",null,"Std. Cirrus","KA",""]
["Milan Dvorak",1965,"M","Liberec","CZ/C2","Safari 2020 - Klub","CZ",2020,6,1675,0.75,8510,6383,"x",null,"HpH 304cz /15m","IH",""]
["Tomas Kulhavy",2001,"M","Liberec","CZ/C2","Safari 2020 - Klub","CZ",2020,7,1552,0.75,7941,5956,"x",null,"VSO-10",78,"Junior v roce 2021"]
["Martin Cicvarek",1966,"M","Liberec","CZ/C2","Safari 2020 - Klub","CZ",2020,8,1467,0.75,7511,5633,"x",null,"DG-400 15m","AC",""]
["Pavel Derda",1952,"M","Dvůr Králové","CZ/C2","Safari 2020 - Klub","CZ",2020,9,1382,0.75,7081,5311,"x",null,"Cirrus VTC","VE",""]
["Jan Zezula",1979,"M","Letňany","CZ/C1","Safari 2020 - Klub","CZ",2020,10,1148,0.75,6108,4581,"x",null,"ASW-19B","HD",""]
["Tomas Hynek",2002,"M","Dvůr Králové","CZ/C2","Safari 2020 - Klub","CZ",2020,11,1047,0.75,5619,4214,"x",null,"DG-200 15m","IQ","Junior v roce 2021"]
["Marek Malinsky",1985,"M","Chrudim","CZ/C2","Safari 2020 - Klub","CZ",2020,12,959,0.75,5178,3884,"x",null,"Std. Cirrus","EX",""]
["Vaclav Sehnal",1962,"M","Kolín","CZ/C1","Safari 2020 - Klub","CZ",2020,13,936,0.75,4974,3731,"x",null,"ASK-21 dvojí","E7",""]
["Artur Szlachta",null,"M","KSS/LSV Zellhausen","DE","Safari 2020 - Klub","CZ",2020,14,920,0.75,4796,3597,null,null,"LS-4","V4","Není v databázi"]
["Jaroslav Sima",{"$f":"VLOOKUP(A3029,Pilot,2,0)","v":1972},{"$f":"VLOOKUP(A3029,Pilot,5,0)","v":"M"},{"$f":"VLOOKUP(A3029,Pilot,3,0)","v":"Chomutov"},{"$f":"VLOOKUP(A3029,Pilot,4,0)","v":"CZ/C2"},"Safari 2020 - Klub","CZ",2020,15,917,0.75,4665,3499,"x",null,"G-104 Speed Astir II","V2",""]
["Petr Velek",{"$f":"VLOOKUP(A3030,Pilot,2,0)","v":1975},{"$f":"VLOOKUP(A3030,Pilot,5,0)","v":"M"},{"$f":"VLOOKUP(A3030,Pilot,3,0)","v":"GAC Benešov"},{"$f":"VLOOKUP(A3030,Pilot,4,0)","v":"CZ/C1"},"Safari 2020 - Klub","CZ",2020,16,910,0.75,4519,3389,"x",null,"DG-400 15m","HX",""]
["Jerzy Mikolajczyk",null,"M","SAZM Plock","PL","Safari 2020 - Klub","CZ",2020,17,893,0.75,4337,3253,null,null,"LS-4","YL","Není v databázi"]
["Jiri Skarka",{"$f":"VLOOKUP(A3032,Pilot,2,0)","v":1965},{"$f":"VLOOKUP(A3032,Pilot,5,0)","v":"M"},{"$f":"VLOOKUP(A3032,Pilot,3,0)","v":"Chomutov"},{"$f":"VLOOKUP(A3032,Pilot,4,0)","v":"CZ/C2"},"Safari 2020 - Klub","CZ",2020,18,822,0.75,{"$f":"ROUND(J3032/MAX($J$3015:$J$3040)*10000*0.7+(MAX($I$3015:$I$3040)-I3032)/(MAX($I$3015:$I$3040)-1)*10000*0.3,0)","v":3958},2969,"x",null,"ASW-19","HK",""]
["Jiri Donat",{"$f":"VLOOKUP(A3033,Pilot,2,0)","v":1983},{"$f":"VLOOKUP(A3033,Pilot,5,0)","v":"M"},{"$f":"VLOOKUP(A3033,Pilot,3,0)","v":"Chrudim"},{"$f":"VLOOKUP(A3033,Pilot,4,0)","v":"CZ/C2"},"Safari 2020 - Klub","CZ",2020,19,711,0.75,3434,2576,"x",null,"Std. Cirrus WL","JE",""]
["Lukas Hykl",{"$f":"VLOOKUP(A3034,Pilot,2,0)","v":1985},{"$f":"VLOOKUP(A3034,Pilot,5,0)","v":"M"},{"$f":"VLOOKUP(A3034,Pilot,3,0)","v":"Kolín"},{"$f":"VLOOKUP(A3034,Pilot,4,0)","v":"CZ/C1"},"Safari 2020 - Klub","CZ",2020,20,640,0.75,3055,2291,"x",null,"SZD-48 Jantar std. 2 (3) WL","VS",""]
["Ryszard Bendkowski",null,"M","Warszawa","PL","Safari 2020 - Klub","CZ",2020,21,409,0.75,2092,1569,null,null,"SZD-41A Jantar std.","Fili","Není v databázi"]
["Karel Ertl",{"$f":"VLOOKUP(A3036,Pilot,2,0)","v":1939},{"$f":"VLOOKUP(A3036,Pilot,5,0)","v":"M"},{"$f":"VLOOKUP(A3036,Pilot,3,0)","v":"LK Břeclav"},{"$f":"VLOOKUP(A3036,Pilot,4,0)","v":"CZ/M"},"Safari 2020 - Klub","CZ",2020,22,349,0.75,1753,1315,"x",null,"TST-10M Atlas","KE",""]
["Jiri Tomicek",{"$f":"VLOOKUP(A3037,Pilot,2,0)","v":1947},{"$f":"VLOOKUP(A3037,Pilot,5,0)","v":"M"},{"$f":"VLOOKUP(A3037,Pilot,3,0)","v":"Dvůr Králové"},{"$f":"VLOOKUP(A3037,Pilot,4,0)","v":"CZ/C2"},"Safari 2020 - Klub","CZ",2020,23,344,0.75,1615,1211,"x",null,"G-103 Twin Astir solo",5,""]
["Romuald Dorofieczyk",null,"M","Jelenia Gora","PL","Safari 2020 - Klub","CZ",2020,24,140,0.75,751,563,null,null,"DG-300 WL","N5","Není v databázi"]
["Petr Omelka",{"$f":"VLOOKUP(A3039,Pilot,2,0)","v":1970},{"$f":"VLOOKUP(A3039,Pilot,5,0)","v":"M"},{"$f":"VLOOKUP(A3039,Pilot,3,0)","v":"Vyškov"},{"$f":"VLOOKUP(A3039,Pilot,4,0)","v":"CZ/M"},"Safari 2020 - Klub","CZ",2020,25,113,0.75,532,399,"x",null,"DG-400 15m","MR",""]
["Leos Nosek",1958,"M","Vyškov","CZ/M","Safari 2020 - Klub","CZ",2020,26,18,0.75,66,50,"x",null,"G-104 Speed Astir II b","LE",""]
["Jana Veprekova",1961,"F","Dvůr Králové","CZ/C2","Safari 2020 - Kombi","CZ",2020,1,3481,0.76500000000000001,{"$f":"ROUND(J3041/MAX($J$3041:$J$3052)*10000*0.7+(MAX($I$3041:$I$3052)-I3041)/(MAX($I$3041:$I$3052)-1)*10000*0.3,0)","v":10000},7650,null,null,"LS8 a,b,s,18 /15m (voda)","W8",""]
["Lukas Hynek",1979,"M","Dvůr Králové","CZ/C2","Safari 2020 - Kombi","CZ",2020,2,3330,0.76500000000000001,{"$f":"ROUND(J3042/MAX($J$3041:$J$3052)*10000*0.7+(MAX($I$3041:$I$3052)-I3042)/(MAX($I$3041:$I$3052)-1)*10000*0.3,0)","v":9424},7209,"x",null,"Nimbus 3 /22,9m WL -750kg (voda)","HS",""]
["Milan Meisner",1961,"M","Dvůr Králové","CZ/C2","Safari 2020 - Kombi","CZ",2020,3,3319,0.76500000000000001,9129,6984,"x",null,"Ventus c /17,6m (voda)","VV",""]
["David Mach",1994,"M","Hronov","CZ/C2","Safari 2020 - Kombi","CZ",2020,4,3161,0.76500000000000001,8538,6532,null,null,"JS3 TJ - 18m (voda)","XM",""]
["Jan Simon",1970,"M","Kralupy","CZ/C1","Safari 2020 - Kombi","CZ",2020,5,3147,0.76500000000000001,8237,6301,null,null,"Duo Discus T (700kg) (voda)","ZS",""]
["Ladislav Prokes",1954,"M","Vrchlabí","CZ/C2","Safari 2020 - Kombi","CZ",2020,6,2995,0.76500000000000001,7659,5859,"x",null,"Discus b (voda)","VR",""]
["Zdenek Boruvka 54",1954,"M","Jičín","CZ/C2","Safari 2020 - Kombi","CZ",2020,7,2817,0.76500000000000001,7028,5376,null,null,"LS8 a,b,s,18 /15m (voda)","ZB",""]
["Jan Pazour",1979,"M","Dvůr Králové","CZ/C2","Safari 2020 - Kombi","CZ",2020,8,2456,0.76500000000000001,6030,4613,"x",null,"ASW-20 L+FL /16,6m","JP",""]
["Tomas Ditrt",1969,"M","Podhořany","CZ/C2","Safari 2020 - Kombi","CZ",2020,9,2371,0.76500000000000001,{"$f":"ROUND(J3049/MAX($J$3041:$J$3052)*10000*0.7+(MAX($I$3041:$I$3052)-I3049)/(MAX($I$3041:$I$3052)-1)*10000*0.3,0)","v":5586},4273,"x",null,"ASW-20 (A)+F /15m","LS",""]
["Jan Dersak 69",1969,"M","Kralupy","CZ/C1","Safari 2020 - Kombi","CZ",2020,10,1962,0.76500000000000001,4491,3436,null,null,"HpH 304JS SHARK /18m (573kg) (voda)","DJ",""]
["Slavomir Tanglmajer",1966,"M","Chomutov","CZ/C2","Safari 2020 - Kombi","CZ",2020,11,1762,0.76500000000000001,3816,2919,"x",null,"DG-400 17m","ST",""]
["Karel Policky",1950,"M","Kolín","CZ/C1","Safari 2020 - Kombi","CZ",2020,12,912,0.76500000000000001,1834,1403,null,null,"Duo Discus XL",777,""]
["Benedikt & Cerny",null,"M","SGC Martin",null,"Septembrova cena 2020 - Kombi","SK",2020,1,76,0,{"$f":"ROUND(J3053/MAX($J$3053:$J$3064)*10000*0.7+(MAX($I$3053:$I$3064)-I3053)/(MAX($I$3053:$I$3064)-1)*10000*0.3,0)","v":10000},0,null,null,"Janus CFM","T","Není v databázi"]
["Jan Kovalcik",null,"M","Bratislava",null,"Septembrova cena 2020 - Kombi","SK",2020,2,65,0,{"$f":"ROUND(J3054/MAX($J$3053:$J$3064)*10000*0.7+(MAX($I$3053:$I$3064)-I3054)/(MAX($I$3053:$I$3064)-1)*10000*0.3,0)","v":8714},0,null,null,"Discusc 2c /18m","Z","Není v databázi"]
["Zdeno Hrcka",null,"M","Trnava",null,"Septembrova cena 2020 - Kombi","SK",2020,3,42,0,6323,0,null,null,"Centrair C-101A Pegase","H","Není v databázi"]
["Beliansky & Karolyiova",null,"M","Bratislava",null,"Septembrova cena 2020 - Kombi","SK",2020,4,39,0,5774,0,null,null,"G-103 Twin Trainer dvojí","BA3","Není v databázi"]
["Juraj Dudas",{"$f":"VLOOKUP(A3057,Pilot,2,0)","v":1990},{"$f":"VLOOKUP(A3057,Pilot,5,0)","v":"M"},{"$f":"VLOOKUP(A3057,Pilot,3,0)","v":"Křižanov"},{"$f":"VLOOKUP(A3057,Pilot,4,0)","v":"CZ/M"},"Septembrova cena 2020 - Kombi","SK",2020,5,31,0,{"$f":"ROUND(J3057/MAX($J$3053:$J$3064)*10000*0.7+(MAX($I$3053:$I$3064)-I3057)/(MAX($I$3053:$I$3064)-1)*10000*0.3,0)","v":4764},0,null,null,"Centrair C-101A Pegase","ZD",""]
["Marek Kuban",null,"M","Bratislava",null,"Septembrova cena 2020 - Kombi","SK",2020,6,29,0,4307,0,null,null,"ASW-19","BA6","Není v databázi"]
["Oldrich Spaniel",null,"M","Bratislava",null,"Septembrova cena 2020 - Kombi","SK",2020,7,28,0,3943,0,null,null,"ASW-19","BA4","Není v databázi"]
["Marek Mikula",null,"M","Trnava",null,"Septembrova cena 2020 - Kombi","SK",2020,7,28,0,3943,0,null,null,"ASW-15","X1","Není v databázi"]
["Benedikt Laho",null,"M","Trnava",null,"Septembrova cena 2020 - Kombi","SK",2020,9,27,0,3305,0,null,null,"Discus 2cT /18m","JH","Není v databázi"]
["Ivana Jurovicova",null,"F","Bratislava",null,"Septembrova cena 2020 - Kombi","SK",2020,10,22,0,2572,0,null,null,"H-201 Std. Libelle WL","J3","Není v databázi"]
["Stefan Simoncic",null,"M","Bratislava",null,"Septembrova cena 2020 - Kombi","SK",2020,11,19,0,2023,0,null,null,"Duo Discus (700 kg),","2X","Není v databázi"]
["Branislav Jankech",null,"M","AEROCLUB BRATISLAVA",null,"Septembrova cena 2020 - Kombi","SK",2020,12,17,0,1566,0,null,null,"ASW-15","BA5","Není v databázi"]
["Jozef Sobek",null,"M","AK Prešov",null,"Šariš Cup 2020 - Klub","SK",2020,1,4763,0.76500000000000001,{"$f":"ROUND(J3065/MAX($J$3065:$J$3075)*10000*0.7+(MAX($I$3065:$I$3075)-I3065)/(MAX($I$3065:$I$3075)-1)*10000*0.3,0)","v":10000},7650,null,null,"Std. Cirrus","MJ","Není v databázi"]
["Frantisek Sobek",null,"M","AK Sabinov",null,"Šariš Cup 2020 - Klub","SK",2020,2,4723,0.76500000000000001,{"$f":"ROUND(J3066/MAX($J$3065:$J$3075)*10000*0.7+(MAX($I$3065:$I$3075)-I3066)/(MAX($I$3065:$I$3075)-1)*10000*0.3,0)","v":9641},7375,null,null,"DG 100","G1","Není v databázi"]
["Miroslav stempeľ",null,"M","AK Prešov",null,"Šariš Cup 2020 - Klub","SK",2020,3,3777,0.76500000000000001,7951,6083,null,null,"Std. Cirrus","CV","Není v databázi"]
["Juraj Sidor",null,"M","AK Holíč",null,"Šariš Cup 2020 - Klub","SK",2020,4,3523,0.76500000000000001,7278,5568,null,null,"Std. Cirrus","L4","Není v databázi"]
["Marek Imrich",null,"M","AK Sabinov",null,"Šariš Cup 2020 - Klub","SK",2020,5,3485,0.76500000000000001,6922,5295,null,null,"VSO-10","M9","Není v databázi"]
["Matej Petrik",null,"M","AK Sabinov",null,"Šariš Cup 2020 - Klub","SK",2020,6,3020,0.76500000000000001,5938,4543,null,null,"VSO-10",45,"Není v databázi"]
["Alberto Rizzi",null,"M","AK Holíč",null,"Šariš Cup 2020 - Klub","SK",2020,7,2543,0.76500000000000001,4937,3777,null,null,"DG 202","SJ","Není v databázi"]
["Jozef Sopirjak",null,"M","AK Košice",null,"Šariš Cup 2020 - Klub","SK",2020,8,2334,0.76500000000000001,4330,3312,null,null,"DG 101 G Elan","SX","Není v databázi"]
["Macek Macek",null,"M","AK Košice",null,"Šariš Cup 2020 - Klub","SK",2020,9,1317,0.76500000000000001,2536,1940,null,null,"L 23 Super Blanik",24,"Není v databázi"]
["Petr Velek",{"$f":"VLOOKUP(A3074,Pilot,2,0)","v":1975},{"$f":"VLOOKUP(A3074,Pilot,5,0)","v":"M"},{"$f":"VLOOKUP(A3074,Pilot,3,0)","v":"GAC Benešov"},{"$f":"VLOOKUP(A3074,Pilot,4,0)","v":"CZ/C1"},"Šariš Cup 2020 - Klub","SK",2020,10,1227,0.76500000000000001,{"$f":"ROUND(J3074/MAX($J$3065:$J$3075)*10000*0.7+(MAX($I$3065:$I$3075)-I3074)/(MAX($I$3065:$I$3075)-1)*10000*0.3,0)","v":2103},1609,null,null,"DG 400","HX",""]
["Ivana Sidorova",null,"F","AK Holíč",null,"Šariš Cup 2020 - Klub","SK",2020,11,320,0.76500000000000001,470,360,null,null,"Std. Cirrus","NM","Není v databázi"]
["Jan Viskot",{"$f":"VLOOKUP(A3076,Pilot,2,0)","v":1995},{"$f":"VLOOKUP(A3076,Pilot,5,0)","v":"M"},{"$f":"VLOOKUP(A3076,Pilot,3,0)","v":"Břeclav"},{"$f":"VLOOKUP(A3076,Pilot,4,0)","v":"CZ/M"},"Toužim Cup 2020 - Klub","CZ",2020,1,4190,0.91500000000000004,{"$f":"ROUND(J3076/MAX($J$3076:$J$3105)*10000*0.7+(MAX($I$3076:$I$3105)-I3076)/(MAX($I$3076:$I$3105)-1)*10000*0.3,0)","v":10000},9150,"x",null,"Std. Cirrus","W",""]
["Lukas Koukal",1991,"M","Letkov","CZ/C1","Toužim Cup 2020 - Klub","CZ",2020,2,3927,0.91500000000000004,{"$f":"ROUND(J3077/MAX($J$3076:$J$3105)*10000*0.7+(MAX($I$3076:$I$3105)-I3077)/(MAX($I$3076:$I$3105)-1)*10000*0.3,0)","v":9457},8653,"x",null,"ASW 15B","T1",""]
["Martin Zahalka",1987,"M","Staňkov","CZ/C1","Toužim Cup 2020 - Klub","CZ",2020,3,3878,0.91500000000000004,9272,8484,"x",null,"DG 100","8B",""]
["Jan Pubec",1979,"M","Plzeň Bory","CZ/C1","Toužim Cup 2020 - Klub","CZ",2020,4,3840,{"$f":"VLOOKUP(F3079,Soutez,12,0)","v":0.91500000000000004},9105,8331,"x",null,"Std. Cirrus","LM",{"$f":"IF(ISERROR(VLOOKUP(A3079,Pilot,6,0)),\"Není v databázi\",VLOOKUP(A3079,Pilot,6,0))","v":""}]
["Ivan Harasta 65",1965,"M","Toužim","CZ/C1","Toužim Cup 2020 - Klub","CZ",2020,5,3763,0.91500000000000004,8873,8119,"x",null,"ASW 19","KZ",""]
["Petr Jiranek 91",1991,"M","Toužim","CZ/C1","Toužim Cup 2020 - Klub","CZ",2020,6,3701,0.91500000000000004,8666,7929,"x",null,"Astir CS","PJ",""]
["Pavel Jiranek",1993,"M","Toužim","CZ/C1","Toužim Cup 2020 - Klub","CZ",2020,7,3623,0.91500000000000004,8432,{"$f":"ROUND(K3082*L3082,0)","v":7715},"x",null,"Std. Cirrus","IYD",""]
["Lubomir Motl",1959,"M","Kyjov","CZ/M","Toužim Cup 2020 - Klub","CZ",2020,8,3605,0.91500000000000004,8299,7594,null,null,"LS 1 f","G2",""]
["Michal Drab",1969,"M","Letkov","CZ/C1","Toužim Cup 2020 - Klub","CZ",2020,9,3571,0.91500000000000004,8138,7446,"x",null,"LS 1-d","S3",""]
["Michal Cupak",1991,"M","Medlánky","CZ/M","Toužim Cup 2020 - Klub","CZ",2020,10,3537,0.91500000000000004,7978,7300,"x",null,"Std. Cirrus","A7",""]
["Roman Jokl",1979,"M","Letkov","CZ/C1","Toužim Cup 2020 - Klub","CZ",2020,11,3456,0.91500000000000004,7739,7081,"x",null,"ASW 19","JL",""]
["Daniel Dvorak",1980,"M","Letkov","CZ/C1","Toužim Cup 2020 - Klub","CZ",2020,12,3449,0.91500000000000004,7624,6976,"x",null,"Std. Cirrus","LD",""]
["Tomas Talanda",1988,"M","Křižanov","CZ/M","Toužim Cup 2020 - Klub","CZ",2020,13,3273,0.91500000000000004,7227,6613,"x",null,"ASW 19","DS",""]
["Jiri Prochazka",1971,"M","Toužim","CZ/C1","Toužim Cup 2020 - Klub","CZ",2020,14,3225,0.91500000000000004,7043,6444,"x",null,"Janus CM ohne EZ","J59",""]
["Ivan Harasta 98",1998,"M","Toužim","CZ/C1","Toužim Cup 2020 - Klub","CZ",2020,15,3084,0.91500000000000004,6704,6134,"x",null,"ASW 15B","HI","Junior v roce 2021"]
["Petr Lonsky",1965,"M","Toužim","CZ/C1","Toužim Cup 2020 - Klub","CZ",2020,16,2753,0.91500000000000004,6048,5534,"x",null,"Cirrus / VTC 17,74m","JP",""]
["Tomas Jung",1950,"M","Zbraslavice","CZ/C1","Toužim Cup 2020 - Klub","CZ",2020,17,2538,0.91500000000000004,5585,5110,"x",null,"ASW 19","O2",""]
["Jiri Cincera",1966,"M","Toužim","CZ/C1","Toužim Cup 2020 - Klub","CZ",2020,18,2456,0.91500000000000004,5344,4890,"x",null,"ASW 15B","TT",""]
["Martin Valenta",1969,"M","Toužim","CZ/C1","Toužim Cup 2020 - Klub","CZ",2020,19,2416,0.91500000000000004,5174,4734,"x",null,"LS 1-c","T2",""]
["Josef Kreutzer",1992,"M","Letkov","CZ/C1","Toužim Cup 2020 - Klub","CZ",2020,20,2151,0.91500000000000004,{"$f":"ROUND(J3095/MAX($J$3076:$J$3105)*10000*0.7+(MAX($I$3076:$I$3105)-I3095)/(MAX($I$3076:$I$3105)-1)*10000*0.3,0)","v":4628},4235,"x",null,"Std. Cirrus","AL",""]
["Tomas Seifert",1972,"M","Raná","CZ/C2","Toužim Cup 2020 - Klub","CZ",2020,21,2034,0.91500000000000004,4329,3961,"x",null,"ASW 15B","MC",""]
["Rudolf Jung",1954,"M","Zbraslavice","CZ/C1","Toužim Cup 2020 - Klub","CZ",2020,22,2012,0.91500000000000004,4189,3833,"x",null,"Twin Astir","TO",""]
["Vaclav Halek",1966,"M","Toužim","CZ/C1","Toužim Cup 2020 - Klub","CZ",2020,23,1948,0.91500000000000004,3979,3641,"x",null,"LS 1-d","CL",""]
["Vit Prokop",1987,"M","Medlánky","CZ/M","Toužim Cup 2020 - Klub","CZ",2020,24,1945,0.91500000000000004,3870,3541,"x",null,"Std. Cirrus","MF",""]
["Martin Fric",1967,"M","Raná","CZ/C2","Toužim Cup 2020 - Klub","CZ",2020,25,1862,0.91500000000000004,3628,3320,null,null,"Janus 18,2m","RA",""]
["Martin Nejezchleb",1979,"M","Plzeň Bory","CZ/C1","Toužim Cup 2020 - Klub","CZ",2020,26,1733,0.91500000000000004,3309,3028,"x",null,"ASW 15B",90,""]
["Petr Cernicky",1974,"M","Toužim","CZ/C1","Toužim Cup 2020 - Klub","CZ",2020,27,1659,0.91500000000000004,3082,2820,"x",null,"Astir CS","LS",""]
["Frantisek Kriz",1961,"M","Toužim","CZ/C1","Toužim Cup 2020 - Klub","CZ",2020,28,1563,0.91500000000000004,2818,2578,"x",null,"LS 1-d","FK",""]
["Vaclav Hrdina",1984,"M","Letkov","CZ/C1","Toužim Cup 2020 - Klub","CZ",2020,29,798,0.91500000000000004,1437,1315,"x",null,"LS 1-c","AN",""]
["Frantisek Brozman",1960,"M","Tachov","CZ/C1","Toužim Cup 2020 - Klub","CZ",2020,30,399,0.91500000000000004,667,610,"x",null,"Astir CS Jeans","FB",""]
["Ondrej Dupal",1966,"M","GAC Benešov","CZ/C1","Toužim Cup 2020 - Kombi","CZ",2020,1,4021,0.91,{"$f":"ROUND(J3106/MAX($J$3106:$J$3128)*10000*0.7+(MAX($I$3106:$I$3128)-I3106)/(MAX($I$3106:$I$3128)-1)*10000*0.3,0)","v":10000},9100,null,null,"ASG 29 18m","GO",""]
["Vratislav Sram",1966,"M","Broumov","CZ/C2","Toužim Cup 2020 - Kombi","CZ",2020,2,3650,0.91,{"$f":"ROUND(J3107/MAX($J$3106:$J$3128)*10000*0.7+(MAX($I$3106:$I$3128)-I3107)/(MAX($I$3106:$I$3128)-1)*10000*0.3,0)","v":9218},8388,"x",null,"Nimbus 2M","NB",""]
["Marek Blatak",1969,"M","Šumperk","CZ/M","Toužim Cup 2020 - Kombi","CZ",2020,3,3551,0.91,{"$f":"ROUND(J3108/MAX($J$3106:$J$3128)*10000*0.7+(MAX($I$3106:$I$3128)-I3108)/(MAX($I$3106:$I$3128)-1)*10000*0.3,0)","v":8909},8107,"x",null,"Duo Discus T","ZS",""]
["Karel Benisek 76",1976,"M","Toužim","CZ/C1","Toužim Cup 2020 - Kombi","CZ",2020,4,3467,0.91,{"$f":"ROUND(J3109/MAX($J$3106:$J$3128)*10000*0.7+(MAX($I$3106:$I$3128)-I3109)/(MAX($I$3106:$I$3128)-1)*10000*0.3,0)","v":8626},7850,"x",null,"Ventus cT 17,6m","KB",""]
["Tomas Rendla",1973,"M","Zbraslavice","CZ/C1","Toužim Cup 2020 - Kombi","CZ",2020,5,3432,0.91,8429,7670,null,null,"EB 29","EX",""]
["Karel Krobath",null,"M","SFC Tulln","AT","Toužim Cup 2020 - Kombi","CZ",2020,6,3373,0.91,8190,7453,null,null,"HPH 304 Shark","Q","Není v databázi"]
["Zdenek Schenk",{"$f":"VLOOKUP(A3112,Pilot,2,0)","v":1972},{"$f":"VLOOKUP(A3112,Pilot,5,0)","v":"M"},{"$f":"VLOOKUP(A3112,Pilot,3,0)","v":"Hranice"},{"$f":"VLOOKUP(A3112,Pilot,4,0)","v":"CZ/M"},"Toužim Cup 2020 - Kombi","CZ",2020,7,3228,0.91,7801,7099,"x",null,"Ventus cM 17,6m","ŠNeK",""]
["Frantisek Myska",1968,"M","Most","CZ/C2","Toužim Cup 2020 - Kombi","CZ",2020,8,3172,0.91,7567,6886,"x",null,"Ventus bT 16,6m","SK",""]
["Michaela Rendlova",2004,"F","Toužim","CZ/C1","Toužim Cup 2020 - Kombi","CZ",2020,9,3150,0.91,7393,6728,"x","x","JS 1 Revelation 18m","VX","Junior v roce 2021"]
["Petr Bartak",1984,"M","Letkov","CZ/C1","Toužim Cup 2020 - Kombi","CZ",2020,10,2876,0.91,6779,6169,"x",null,"LS 6 18m","BL",""]
["Jaroslav Hot",1965,"M","Toužim","CZ/C1","Toužim Cup 2020 - Kombi","CZ",2020,11,2838,0.91,6577,5985,"x",null,"Ventus cM 17,6m","SW",""]
["Vaclav Svoboda",1970,"M","Letkov","CZ/C1","Toužim Cup 2020 - Kombi","CZ",2020,12,2805,0.91,6383,5809,"x",null,"LS 8 18m",301,""]
["Petr Jiranek 63",1962,"M","Toužim","CZ/C1","Toužim Cup 2020 - Kombi","CZ",2020,13,2793,0.91,6226,5666,"x",null,"Ventus cT 17,6m","EB",""]
["Tomas Profeld",1964,"M","Jičín","CZ/C2","Toužim Cup 2020 - Kombi","CZ",2020,14,2785,0.91,6076,5529,"x",null,"Ventus 2c / M / T 18m","OZ",""]
["Jan Zanda",1983,"M","Letkov","CZ/C1","Toužim Cup 2020 - Kombi","CZ",2020,15,2766,0.91,5906,5374,"x",null,"Duo Discus","DL",""]
["Karl Schiffleithner",null,"M","SFC Tulln",null,"Toužim Cup 2020 - Kombi","CZ",2020,16,2684,0.91,{"$f":"ROUND(J3121/MAX($J$3106:$J$3128)*10000*0.7+(MAX($I$3106:$I$3128)-I3121)/(MAX($I$3106:$I$3128)-1)*10000*0.3,0)","v":5627},5121,null,null,"Ventus 2c / M / T 18m","WG","Není v databázi"]
["Roman Lanzendorf",{"$f":"VLOOKUP(A3122,Pilot,2,0)","v":1964},{"$f":"VLOOKUP(A3122,Pilot,5,0)","v":"M"},{"$f":"VLOOKUP(A3122,Pilot,3,0)","v":"Letkov"},{"$f":"VLOOKUP(A3122,Pilot,4,0)","v":"CZ/C1"},"Toužim Cup 2020 - Kombi","CZ",2020,17,2541,0.91,5242,4770,"x",null,"Ventus cT 17,6m","AW",""]
["Olga Mokosova",{"$f":"VLOOKUP(A3123,Pilot,2,0)","v":1970},{"$f":"VLOOKUP(A3123,Pilot,5,0)","v":"F"},{"$f":"VLOOKUP(A3123,Pilot,3,0)","v":"Jihlava"},{"$f":"VLOOKUP(A3123,Pilot,4,0)","v":"CZ/M"},"Toužim Cup 2020 - Kombi","CZ",2020,18,2503,0.91,5039,4585,"x","x","LS 6 18m","MM",""]
["Antonin Kutalek",{"$f":"VLOOKUP(A3124,Pilot,2,0)","v":1943},{"$f":"VLOOKUP(A3124,Pilot,5,0)","v":"M"},{"$f":"VLOOKUP(A3124,Pilot,3,0)","v":"Zábřeh"},{"$f":"VLOOKUP(A3124,Pilot,4,0)","v":"CZ/M"},"Toužim Cup 2020 - Kombi","CZ",2020,19,2405,0.91,4732,4306,"x",null,"Mini Nimbus","GL",""]
["Ludek Kluger",{"$f":"VLOOKUP(A3125,Pilot,2,0)","v":1963},{"$f":"VLOOKUP(A3125,Pilot,5,0)","v":"M"},{"$f":"VLOOKUP(A3125,Pilot,3,0)","v":"Tábor"},{"$f":"VLOOKUP(A3125,Pilot,4,0)","v":"CZ/C1"},"Toužim Cup 2020 - Kombi","CZ",2020,20,1987,0.91,3868,3520,"x",null,"HPH 304S Shark","LK",""]
["Milos Pajr",{"$f":"VLOOKUP(A3126,Pilot,2,0)","v":1966},{"$f":"VLOOKUP(A3126,Pilot,5,0)","v":"M"},{"$f":"VLOOKUP(A3126,Pilot,3,0)","v":"Jičín"},{"$f":"VLOOKUP(A3126,Pilot,4,0)","v":"CZ/C2"},"Toužim Cup 2020 - Kombi","CZ",2020,21,1907,0.91,3593,3270,null,null,"HPH 304S Shark","MS",""]
["Uwe Tolkmitt",null,"M","LSV Greiz",null,"Toužim Cup 2020 - Kombi","CZ",2020,22,1894,0.91,3434,3125,null,null,"DG-400 17m","JO","Není v databázi"]
["Roman Michalek",{"$f":"VLOOKUP(A3128,Pilot,2,0)","v":1974},{"$f":"VLOOKUP(A3128,Pilot,5,0)","v":"M"},{"$f":"VLOOKUP(A3128,Pilot,3,0)","v":"Toužim"},{"$f":"VLOOKUP(A3128,Pilot,4,0)","v":"CZ/C1"},"Toužim Cup 2020 - Kombi","CZ",2020,23,1682,0.91,2928,2664,"x",null,"DG-400 17m","TK",""]
["Ulf Kern",{"$f":"VLOOKUP(A3129,Pilot,2,0)","v":1958},{"$f":"VLOOKUP(A3129,Pilot,5,0)","v":"M"},{"$f":"VLOOKUP(A3129,Pilot,3,0)","v":"Raná"},{"$f":"VLOOKUP(A3129,Pilot,4,0)","v":"CZ/C2"},"Závody Šohajů 2020 - Klub","CZ",2020,1,549,0,{"$f":"ROUND(J3129/MAX($J$3129:$J$3143)*10000*0.7+(MAX($I$3129:$I$3143)-I3129)/(MAX($I$3129:$I$3143)-1)*10000*0.3,0)","v":10000},0,null,null,"VT-125 Sohaj","L",""]
["Sarka Lochova",{"$f":"VLOOKUP(A3130,Pilot,2,0)","v":1966},{"$f":"VLOOKUP(A3130,Pilot,5,0)","v":"F"},{"$f":"VLOOKUP(A3130,Pilot,3,0)","v":"Šumperk"},{"$f":"VLOOKUP(A3130,Pilot,4,0)","v":"CZ/M"},"Závody Šohajů 2020 - Klub","CZ",2020,2,412,0,{"$f":"ROUND(J3130/MAX($J$3129:$J$3143)*10000*0.7+(MAX($I$3129:$I$3143)-I3130)/(MAX($I$3129:$I$3143)-1)*10000*0.3,0)","v":8039},0,null,null,"Ka 6",22,""]
["Johannes Fischer, Jiri Lenik",null,null,null,"DE/CZ","Závody Šohajů 2020 - Klub","CZ",2020,3,393,0,7582,0,null,null,"Nord 2000","N","Není v databázi"]
["Petr Seibrt",{"$f":"VLOOKUP(A3132,Pilot,2,0)","v":1974},{"$f":"VLOOKUP(A3132,Pilot,5,0)","v":"M"},{"$f":"VLOOKUP(A3132,Pilot,3,0)","v":"Náchod"},{"$f":"VLOOKUP(A3132,Pilot,4,0)","v":"CZ/C2"},"Závody Šohajů 2020 - Klub","CZ",2020,4,383,0,7241,0,null,null,"Bergfalke IV","RZ2",""]
["Miroslav Mitrus",{"$f":"VLOOKUP(A3133,Pilot,2,0)","v":1972},{"$f":"VLOOKUP(A3133,Pilot,5,0)","v":"M"},{"$f":"VLOOKUP(A3133,Pilot,3,0)","v":"GAC Benešov"},{"$f":"VLOOKUP(A3133,Pilot,4,0)","v":"CZ/C1"},"Závody Šohajů 2020 - Klub","CZ",2020,4,383,0,7241,0,null,null,"VT-125 Sohaj","F",""]
["Jaromir Hendrych",{"$f":"VLOOKUP(A3134,Pilot,2,0)","v":1954},{"$f":"VLOOKUP(A3134,Pilot,5,0)","v":"M"},{"$f":"VLOOKUP(A3134,Pilot,3,0)","v":"Raná"},{"$f":"VLOOKUP(A3134,Pilot,4,0)","v":"CZ/C2"},"Závody Šohajů 2020 - Klub","CZ",2020,6,346,0,6340,0,null,null,"VT-125 Sohaj","H",""]
["Jiri Slouka, Jiri Klicnar",null,null,"Medlánky","CZ/M","Závody Šohajů 2020 - Klub","CZ",2020,7,333,0,5960,0,null,null,"Lunak LF 107",17,"Není v databázi"]
["Christian Gernot",null,"M",null,"DE","Závody Šohajů 2020 - Klub","CZ",2020,8,267,0,4904,0,null,null,"Ka 8",77,"Není v databázi"]
["Zbynek Bican",{"$f":"VLOOKUP(A3137,Pilot,2,0)","v":1961},{"$f":"VLOOKUP(A3137,Pilot,5,0)","v":"M"},{"$f":"VLOOKUP(A3137,Pilot,3,0)","v":"Raná"},{"$f":"VLOOKUP(A3137,Pilot,4,0)","v":"CZ/C2"},"Závody Šohajů 2020 - Klub","CZ",2020,9,233,0,4257,0,null,null,"VT-130","K",""]
["Michal Ondracek",{"$f":"VLOOKUP(A3138,Pilot,2,0)","v":1966},{"$f":"VLOOKUP(A3138,Pilot,5,0)","v":"M"},{"$f":"VLOOKUP(A3138,Pilot,3,0)","v":"Medlánky"},{"$f":"VLOOKUP(A3138,Pilot,4,0)","v":"CZ/M"},"Závody Šohajů 2020 - Klub","CZ",2020,10,213,0,{"$f":"ROUND(J3138/MAX($J$3129:$J$3143)*10000*0.7+(MAX($I$3129:$I$3143)-I3138)/(MAX($I$3129:$I$3143)-1)*10000*0.3,0)","v":3787},0,null,null,"Ka 6 E","2W",""]
["Reinhard Muller",null,"M",null,"DE","Závody Šohajů 2020 - Klub","CZ",2020,10,213,0,3787,0,null,null,"MG 23","MG","Není v databázi"]
["Vladimir Abraham",{"$f":"VLOOKUP(A3140,Pilot,2,0)","v":1962},{"$f":"VLOOKUP(A3140,Pilot,5,0)","v":"M"},{"$f":"VLOOKUP(A3140,Pilot,3,0)","v":"Raná"},{"$f":"VLOOKUP(A3140,Pilot,4,0)","v":"CZ/C2"},"Závody Šohajů 2020 - Klub","CZ",2020,12,194,0,3116,0,null,null,"Ka 6","YZ",""]
["Tomas Mezera, Josef Mezera",null,null,"Raná","CZ/C2","Závody Šohajů 2020 - Klub","CZ",2020,13,135,0,2150,0,null,null,"VT-425 Sohaj","T","Není v databázi"]
["Vaclav cerny",{"$f":"VLOOKUP(A3142,Pilot,2,0)","v":1949},{"$f":"VLOOKUP(A3142,Pilot,5,0)","v":"M"},{"$f":"VLOOKUP(A3142,Pilot,3,0)","v":"Plasy"},{"$f":"VLOOKUP(A3142,Pilot,4,0)","v":"CZ/C1"},"Závody Šohajů 2020 - Klub","CZ",2020,14,109,0,1604,0,null,null,"Lunak LF 107","W15",""]
["Edgar Kraus",null,"M",null,"DE","Závody Šohajů 2020 - Klub","CZ",2020,15,106,{"$f":"VLOOKUP(F3143,Soutez,12,0)","v":0},1352,0,null,null,"L-Spatz","L55","Není v databázi"]
["Michal Kratochvil",{"$f":"VLOOKUP(A3144,Pilot,2,0)","v":1984},{"$f":"VLOOKUP(A3144,Pilot,5,0)","v":"M"},{"$f":"VLOOKUP(A3144,Pilot,3,0)","v":"Slaný"},{"$f":"VLOOKUP(A3144,Pilot,4,0)","v":"CZ/C1"},"GGP MB 2020 - Gradient GP","CZ",2020,1,21,0.9,{"$f":"ROUND((MAX($I$3144:$I$3153)-I3144)/(MAX($I$3144:$I$3153)-1)*10000,0)","v":10000},{"$f":"ROUND(K3144*L3144,0)","v":9000},"x",null,"VSO-10",56,{"$f":"IF(ISERROR(VLOOKUP(A3144,Pilot,6,0)),\"Není v databázi\",VLOOKUP(A3144,Pilot,6,0))","v":""}]
["Jan Hejret",{"$f":"VLOOKUP(A3145,Pilot,2,0)","v":1976},{"$f":"VLOOKUP(A3145,Pilot,5,0)","v":"M"},{"$f":"VLOOKUP(A3145,Pilot,3,0)","v":"Jaroměř"},{"$f":"VLOOKUP(A3145,Pilot,4,0)","v":"CZ/C2"},"GGP MB 2020 - Gradient GP","CZ",2020,2,17,0.9,8889,{"$f":"ROUND(K3145*L3145,0)","v":8000},"x",null,"VSO-10","J6",""]
["Barbora Moravcova",{"$f":"VLOOKUP(A3146,Pilot,2,0)","v":1994},{"$f":"VLOOKUP(A3146,Pilot,5,0)","v":"F"},{"$f":"VLOOKUP(A3146,Pilot,3,0)","v":"Zbraslavice"},{"$f":"VLOOKUP(A3146,Pilot,4,0)","v":"CZ/C1"},"GGP MB 2020 - Gradient GP","CZ",2020,3,15,0.9,7778,7000,null,null,"VSO-10","F2",""]
["David Vrchota",{"$f":"VLOOKUP(A3147,Pilot,2,0)","v":1976},{"$f":"VLOOKUP(A3147,Pilot,5,0)","v":"M"},{"$f":"VLOOKUP(A3147,Pilot,3,0)","v":"Jaroměř"},{"$f":"VLOOKUP(A3147,Pilot,4,0)","v":"CZ/C2"},"GGP MB 2020 - Gradient GP","CZ",2020,4,10,0.9,6667,6000,"x",null,"VSO-10",60,""]
["Bednarik &",null,null,"Kunovice",null,"GGP MB 2020 - Gradient GP","CZ",2020,5,8,0.9,5556,5000,null,null,"VSO-10",94,"Není v databázi"]
["Martin Krizovic",{"$f":"VLOOKUP(A3149,Pilot,2,0)","v":1971},{"$f":"VLOOKUP(A3149,Pilot,5,0)","v":"M"},{"$f":"VLOOKUP(A3149,Pilot,3,0)","v":"Přibyslav"},{"$f":"VLOOKUP(A3149,Pilot,4,0)","v":"CZ/C2"},"GGP MB 2020 - Gradient GP","CZ",2020,5,8,0.9,5556,5000,"x",null,"VSO-10","G3",""]
["Jan Zdvorak",1980,"M","Roudnice","CZ/C2","GGP MB 2020 - Gradient GP","CZ",2020,7,4,0.9,3333,3000,"x",null,"VSO-10",6,""]
["Karel Policky",1950,"M","Kolín","CZ/C1","GGP MB 2020 - Gradient GP","CZ",2020,8,3,0.9,2222,2000,"x",null,"VSO-10",47,""]
["Libor Kovarnik",1968,"M","Mladá Boleslav","CZ/C1","GGP MB 2020 - Gradient GP","CZ",2020,9,2,0.9,1111,{"$f":"ROUND(K3152*L3152,0)","v":1000},"x",null,"VSO-10","C3",""]
["Jaroslav Kral",1961,"M","Přibyslav","CZ/C2","GGP MB 2020 - Gradient GP","CZ",2020,10,0,0.9,0,0,null,null,"VSO-10",3,""]
["Ondrej Bordovsky",1983,"M","Krnov","CZ/M","GGP MB 2020 - Klub GP","CZ",2020,1,32,0.92,{"$f":"ROUND((MAX($I$3154:$I$3166)-I3154)/(MAX($I$3154:$I$3166)-1)*10000,0)","v":10000},{"$f":"ROUND(K3154*L3154,0)","v":9200},"x",null,"Std. Cirrus","BW",""]
["Jaroslav Tomana",1975,"M","Zbraslavice","CZ/C1","GGP MB 2020 - Klub GP","CZ",2020,2,29,0.92,9091,{"$f":"ROUND(K3155*L3155,0)","v":8364},null,null,"C-101BC Pegase WL","RT",""]
["Lukas Hynek",1979,"M","Dvůr Králové","CZ/C2","GGP MB 2020 - Klub GP","CZ",2020,3,24,0.92,8182,7527,"x",null,"Cirrus/Cirrus VTC","2W",""]
["Jan Zahradka",1981,"M","Hodkovice","CZ/C2","GGP MB 2020 - Klub GP","CZ",2020,4,21,0.92,7273,6691,null,null,"Std. Cirrus","AR",""]
["Ondrej Dvorak 98",1998,"M","Mladá Boleslav","CZ/C1","GGP MB 2020 - Klub GP","CZ",2020,4,21,0.92,7273,6691,"x",null,"ASW 15 b","MB","Junior v roce 2021"]
["Katerina Vojtova",1983,"F","Slaný","CZ/C1","GGP MB 2020 - Klub GP","CZ",2020,6,17,0.92,5455,5019,"x","x","Std. Cirrus","KAC",""]
["Linda Vasatova",1990,"F","Mladá Boleslav","CZ/C1","GGP MB 2020 - Klub GP","CZ",2020,7,15,0.92,4545,4181,"x","x","ASW 19","XS",""]
["Jan Zezula",1979,"M","Letňany","CZ/C1","GGP MB 2020 - Klub GP","CZ",2020,8,10,0.92,3636,3345,null,null,"ASW 19","HD",""]
["David Sachl",1978,"M","Kralupy","CZ/C1","GGP MB 2020 - Klub GP","CZ",2020,8,10,0.92,3636,3345,null,null,"DG 300 Club ELAN","BK",""]
["Jan Jindra",1981,"M","Roudnice","CZ/C2","GGP MB 2020 - Klub GP","CZ",2020,10,9,0.92,1818,1673,"x",null,"Std. Cirrus WL","FD",""]
["Matej Krestes",1986,"M","Slaný","CZ/C1","GGP MB 2020 - Klub GP","CZ",2020,11,8,0.92,909,{"$f":"ROUND(K3164*L3164,0)","v":836},"x",null,"Std. Cirrus","CON",""]
["Tomas Hlavacek",1984,"M","Mladá Boleslav","CZ/C1","GGP MB 2020 - Klub GP","CZ",2020,12,0,0.92,0,0,null,null,"ASW 19 b","AH",""]
["Martin Marek",1967,"M","Roudnice","CZ/C2","GGP MB 2020 - Klub GP","CZ",2020,12,0,0.92,0,0,null,null,"Std. Cirrus","2X",""]
["Lenka Kuthanova",1960,"F","Tábor","CZ/C1","GGP MB 2020 - Pohár MV - Kombi","CZ",2020,1,2524,0.93,{"$f":"ROUND(J3167/MAX($J$3167:$J$3185)*10000*0.7+(MAX($I$3167:$I$3185)-I3167)/(MAX($I$3167:$I$3185)-1)*10000*0.3,0)","v":10000},{"$f":"ROUND(K3167*L3167,0)","v":9300},"x","x","JS1 CTJ 18 EVO","LX",""]
["Alena Netusilova",1970,"F","Zbraslavice","CZ/C1","GGP MB 2020 - Pohár MV - Kombi","CZ",2020,2,2446,0.93,9617,{"$f":"ROUND(K3168*L3168,0)","v":8944},"x",null,"JS 1 CTJ 18 EVO","JX",""]
["Karel Novak",1993,"M","Mladá Boleslav","CZ/C1","GGP MB 2020 - Pohár MV - Kombi","CZ",2020,3,2343,0.93,9165,8523,null,null,"LS 8, 15m","AU",""]
["Jan Dersak 69",1969,"M","Kralupy","CZ/C1","GGP MB 2020 - Pohár MV - Kombi","CZ",2020,4,2234,0.93,8696,8087,"x",null,"HPH 304SJ Shark","DJ",""]
["Radek Krejcirik",1991,"M","Hranice","CZ/M","GGP MB 2020 - Pohár MV - Kombi","CZ",2020,5,2215,0.93,8476,7883,null,null,"JS 1 CTJ 18 EVO","ZF",""]
["Ivan Novak",1962,"M","Mladá Boleslav","CZ/C1","GGP MB 2020 - Pohár MV - Kombi","CZ",2020,6,2167,0.93,8177,7605,null,null,"Std. Cirrus","DI",""]
["Vojtech Hajek",1987,"M","Mladá Boleslav","CZ/C1","GGP MB 2020 - Pohár MV - Kombi","CZ",2020,7,2139,0.93,7932,7377,"x",null,"Duo Discus 700kg",777,""]
["Hana Treslova",1991,"F","Raná","CZ/C2","GGP MB 2020 - Pohár MV - Kombi","CZ",2020,8,2062,0.93,7552,7023,null,null,"JS 3 18m","XM",""]
["Jan Smaha",1958,"M","Česká Lípa","CZ/C2","GGP MB 2020 - Pohár MV - Kombi","CZ",2020,9,2009,0.93,7238,6731,"x",null,"ASW-15B","CW",""]
["Antonin Bordovsky",1951,"M","Krnov","CZ/M","GGP MB 2020 - Pohár MV - Kombi","CZ",2020,10,1970,0.93,6964,6477,"x",null,"Ventus C 17,6","SEX",""]
["Zdenek Boruvka 54",1954,"M","Jičín","CZ/C2","GGP MB 2020 - Pohár MV - Kombi","CZ",2020,11,1772,0.93,6248,5811,null,null,"LS 8, 15m","ZB",""]
["Martin Soucek",1975,"M","Mladá Boleslav","CZ/C1","GGP MB 2020 - Pohár MV - Kombi","CZ",2020,12,1691,0.93,5856,5446,"x",null,"DG200 17m","MS",""]
["Jiri Slemr",1979,"M","Vysoké Mýto","CZ/C2","GGP MB 2020 - Pohár MV - Kombi","CZ",2020,13,1647,0.93,5568,5178,"x",null,"Discus b voda",65,""]
["Jana Treslova",1963,"F","Raná","CZ/C2","GGP MB 2020 - Pohár MV - Kombi","CZ",2020,14,1586,0.93,5232,4866,null,null,"Ventus 2 a","AX",""]
["Daniela Frankova",1997,"M","Jaroměř","CZ/C2","GGP MB 2020 - Pohár MV - Kombi","CZ",2020,15,1512,0.93,4860,4520,"x",null,"Janus b 18.2m","BV","Junior v roce 2021"]
["Tomas Hynek",2002,"M","Dvůr Králové","CZ/C2","GGP MB 2020 - Pohár MV - Kombi","CZ",2020,16,1383,0.93,4336,{"$f":"ROUND(K3182*L3182,0)","v":4032},"x",null,"DG-200 17m","IQ","Junior v roce 2021"]
["Marek Kornec",1957,"M","Dvůr Králové","CZ/C2","GGP MB 2020 - Pohár MV - Kombi","CZ",2020,17,1371,0.93,4136,3846,null,null,"Janus C FG-bez vody","KSS",""]
["Zbynek Kuchta",1976,"M","Klatovy","CZ/C1","GGP MB 2020 - Pohár MV - Kombi","CZ",2020,18,262,0.93,893,830,"x",null,"G102 CS77 bez vody","I",""]
["Milos Rejzl",1962,"M","Klatovy","CZ/C1","GGP MB 2020 - Pohár MV - Kombi","CZ",2020,19,209,{"$f":"VLOOKUP(F3185,Soutez,12,0)","v":0.93},{"$f":"ROUND(J3185/MAX($J$3167:$J$3185)*10000*0.7+(MAX($I$3167:$I$3185)-I3185)/(MAX($I$3167:$I$3185)-1)*10000*0.3,0)","v":580},{"$f":"ROUND(K3185*L3185,0)","v":539},"x",null,"Nimbus 2","MR",{"$f":"IF(ISERROR(VLOOKUP(A3185,Pilot,6,0)),\"Není v databázi\",VLOOKUP(A3185,Pilot,6,0))","v":""}]
["Elena Fergnani",null,null,"Italy",null,"WGC Women 2020 - Klub","AU",2020,1,7859,1.0549999999999999,{"$f":"ROUND(J3186/MAX($J$3186:$J$3202)*10000*0.7+(MAX($I$3186:$I$3202)-I3186)/(MAX($I$3186:$I$3202)-1)*10000*0.3,0)","v":10000},{"$f":"ROUND(K3186*L3186,0)","v":10550},null,null,"Discus",40,"Není v databázi"]
["Christine Grote",null,null,"Germany",null,"WGC Women 2020 - Klub","AU",2020,2,7735,1.0549999999999999,{"$f":"ROUND(J3187/MAX($J$3186:$J$3202)*10000*0.7+(MAX($I$3186:$I$3202)-I3187)/(MAX($I$3186:$I$3202)-1)*10000*0.3,0)","v":9702},{"$f":"ROUND(K3187*L3187,0)","v":10236},null,null,"LS 4","CQL","Není v databázi"]
["Céline Rault",null,null,"France",null,"WGC Women 2020 - Klub","AU",2020,3,7708,1.0549999999999999,9491,10013,null,null,"LS 4B","V57","Není v databázi"]
["Jo Davis",null,null,"Australia",null,"WGC Women 2020 - Klub","AU",2020,4,7703,1.0549999999999999,9299,9810,null,null,"ASW 20","IIC","Není v databázi"]
["Sabrina Vogt",null,null,"Germany",null,"WGC Women 2020 - Klub","AU",2020,5,7667,1.0549999999999999,9079,9578,null,null,"LS 4 WL","BM","Není v databázi"]
["Claudia Hill",null,null,"United Kingdom",null,"WGC Women 2020 - Klub","AU",2020,6,7402,1.0549999999999999,8655,9131,null,null,"LS 4","WH","Není v databázi"]
["Judyta Czyz",null,null,"Poland",null,"WGC Women 2020 - Klub","AU",2020,7,7378,1.0549999999999999,8447,8912,null,null,"ASW 19","J1","Není v databázi"]
["Kinga Tchorz",null,null,"Poland",null,"WGC Women 2020 - Klub","AU",2020,8,7324,1.0549999999999999,8211,8663,null,null,"SZD-48-3","BI","Není v databázi"]
["Barbora Moravcova",{"$f":"VLOOKUP(A3194,Pilot,2,0)","v":1994},{"$f":"VLOOKUP(A3194,Pilot,5,0)","v":"F"},{"$f":"VLOOKUP(A3194,Pilot,3,0)","v":"Zbraslavice"},{"$f":"VLOOKUP(A3194,Pilot,4,0)","v":"CZ/C1"},"WGC Women 2020 - Klub","AU",2020,9,7163,1.0549999999999999,7880,8313,null,null,"ASW 19B","UKE",""]
["Jenny Ganderton",null,null,"Australia",null,"WGC Women 2020 - Klub","AU",2020,10,7091,1.0549999999999999,{"$f":"ROUND(J3195/MAX($J$3186:$J$3202)*10000*0.7+(MAX($I$3186:$I$3202)-I3195)/(MAX($I$3186:$I$3202)-1)*10000*0.3,0)","v":7628},8048,null,null,"Mosquito","KW","Není v databázi"]
["Ines Engelhardt",null,null,"Germany",null,"WGC Women 2020 - Klub","AU",2020,11,7040,1.0549999999999999,7396,7803,null,null,"LS 4","AJ","Není v databázi"]
["Klara Teichmannova",{"$f":"VLOOKUP(A3197,Pilot,2,0)","v":1993},{"$f":"VLOOKUP(A3197,Pilot,5,0)","v":"F"},{"$f":"VLOOKUP(A3197,Pilot,3,0)","v":"Hronov"},{"$f":"VLOOKUP(A3197,Pilot,4,0)","v":"CZ/C2"},"WGC Women 2020 - Klub","AU",2020,12,7022,1.0549999999999999,7192,7588,null,"x","LS 4","CQO",""]
["Amélie Audier",null,null,"France",null,"WGC Women 2020 - Klub","AU",2020,13,6954,1.0549999999999999,6944,7326,null,null,"LS 4","SC","Není v databázi"]
["Kathryn Fosha",null,null,"USA",null,"WGC Women 2020 - Klub","AU",2020,14,6916,1.0549999999999999,6723,7093,null,null,"LS 1 f","MF","Není v databázi"]
["Petra Piskata",{"$f":"VLOOKUP(A3200,Pilot,2,0)","v":1989},{"$f":"VLOOKUP(A3200,Pilot,5,0)","v":"F"},{"$f":"VLOOKUP(A3200,Pilot,3,0)","v":"Luhačovice"},{"$f":"VLOOKUP(A3200,Pilot,4,0)","v":"CZ/M"},"WGC Women 2020 - Klub","AU",2020,15,6576,1.0549999999999999,6232,6575,null,"x","LS 1 f","JO",""]
["Sylvia Grandstaff",null,null,"USA",null,"WGC Women 2020 - Klub","AU",2020,16,6299,1.0549999999999999,5798,6117,null,null,"LS 7 WL","XJY","Není v databázi"]
["Kerrie Claffey",null,null,"Australia",null,"WGC Women 2020 - Klub","AU",2020,17,5668,1.0549999999999999,5048,5326,null,null,"SZD 55","T1","Není v databázi"]
["Sarah Arnold",null,null,"USA",null,"WGC Women 2020 - Std","AU",2020,1,7998,1.0699999999999998,{"$f":"ROUND(J3203/MAX($J$3203:$J$3218)*10000*0.7+(MAX($I$3203:$I$3218)-I3203)/(MAX($I$3203:$I$3218)-1)*10000*0.3,0)","v":10000},{"$f":"ROUND(K3203*L3203,0)","v":10700},null,null,"Discus 2","XBY","Není v databázi"]
["Aude Grangeray",null,null,"France",null,"WGC Women 2020 - Std","AU",2020,2,7932,1.0699999999999998,9742,{"$f":"ROUND(K3204*L3204,0)","v":10424},null,null,"Discus 2a","ET","Není v databázi"]
["Ayala Truelove",null,null,"United Kingdom",null,"WGC Women 2020 - Std","AU",2020,3,7601,1.0699999999999998,9253,9901,null,null,"LS 8","L7","Není v databázi"]
["Dana Novakova",{"$f":"VLOOKUP(A3206,Pilot,2,0)","v":1965},{"$f":"VLOOKUP(A3206,Pilot,5,0)","v":"F"},{"$f":"VLOOKUP(A3206,Pilot,3,0)","v":"Mladá Boleslav"},{"$f":"VLOOKUP(A3206,Pilot,4,0)","v":"CZ/C1"},"WGC Women 2020 - Std","AU",2020,4,7540,1.0699999999999998,8999,9629,null,"x","LS 8","FX",""]
["Hana Treslova",1991,"F","Raná","CZ/C2","WGC Women 2020 - Std","AU",2020,5,7526,1.0699999999999998,8787,9402,null,"x","LS 8","EU",""]
["Jana Veprekova",1961,"F","Dvůr Králové","CZ/C2","WGC Women 2020 - Std","AU",2020,6,7476,1.0699999999999998,8543,9141,null,"x","LS 8","W8",""]
["Lisa Trotter",null,null,"Australia",null,"WGC Women 2020 - Std","AU",2020,7,7418,1.0699999999999998,8292,8872,null,null,"LS 8","LT","Není v databázi"]
["Claire Scutter",null,null,"Australia",null,"WGC Women 2020 - Std","AU",2020,8,7325,1.0699999999999998,8011,8572,null,null,"LS 8","CC","Není v databázi"]
["Akemi Ichikawa",null,null,"Japan",null,"WGC Women 2020 - Std","AU",2020,9,7225,1.0699999999999998,7723,8264,null,null,"LS 8","1A","Není v databázi"]
["Aude Untersee",null,null,"France",null,"WGC Women 2020 - Std","AU",2020,10,7134,1.0699999999999998,7444,7965,null,null,"Discus 2a","JPA","Není v databázi"]
["Agata Kaszczuk",null,null,"Poland",null,"WGC Women 2020 - Std","AU",2020,11,7112,1.0699999999999998,7225,7731,null,null,"LS 8","P1","Není v databázi"]
["Serena Triebel",null,null,"Germany",null,"WGC Women 2020 - Std","AU",2020,12,7057,1.0699999999999998,6976,7464,null,null,"LS 8","PO","Není v databázi"]
["Ulrike Teichmann",null,null,"Germany",null,"WGC Women 2020 - Std","AU",2020,13,7047,1.0699999999999998,6768,7242,null,null,"LS 8","S7","Není v databázi"]
["Cornelia Schaich",null,null,"Germany",null,"WGC Women 2020 - Std","AU",2020,14,6897,1.0699999999999998,6436,6887,null,null,"LS 8T","FQF","Není v databázi"]
["Anna Piotrowska",null,null,"Poland",null,"WGC Women 2020 - Std","AU",2020,15,6819,1.0699999999999998,6168,6600,null,null,"LS 8","LOT","Není v databázi"]
["Catherine Conway",null,null,"Australia",null,"WGC Women 2020 - Std","AU",2020,16,5943,1.0699999999999998,5201,5565,null,null,"Discus 2b","XZ","Není v databázi"]
["Mélanie Gadoulet",null,null,"France",null,"WGC Women 2020 - 18m","AU",2020,1,8137,1.0599999999999998,{"$f":"ROUND(J3219/MAX($J$3219:$J$3232)*10000*0.7+(MAX($I$3219:$I$3232)-I3219)/(MAX($I$3219:$I$3232)-1)*10000*0.3,0)","v":10000},{"$f":"ROUND(K3219*L3219,0)","v":10600},null,null,"JS 3","FQ","Není v databázi"]
["Anne Ducarouge",null,null,"France",null,"WGC Women 2020 - 18m","AU",2020,2,8123,1.0599999999999998,9757,{"$f":"ROUND(K3220*L3220,0)","v":10342},null,null,"JS 3","FM","Není v databázi"]
["Katrin Senne",null,null,"Germany",null,"WGC Women 2020 - 18m","AU",2020,3,7829,1.0599999999999998,9273,9829,null,null,"JS 3","1B","Není v databázi"]
["Elizabeth Sparrow",null,null,"United Kingdom",null,"WGC Women 2020 - 18m","AU",2020,4,7739,1.0599999999999998,8965,9503,null,null,"ASG 29",51,"Není v databázi"]
["Alena Netusilova",{"$f":"VLOOKUP(A3223,Pilot,2,0)","v":1970},{"$f":"VLOOKUP(A3223,Pilot,5,0)","v":"F"},{"$f":"VLOOKUP(A3223,Pilot,3,0)","v":"Zbraslavice"},{"$f":"VLOOKUP(A3223,Pilot,4,0)","v":"CZ/C1"},"WGC Women 2020 - 18m","AU",2020,5,7466,1.0599999999999998,8500,9010,null,"x","JS 3","XM",""]
["Ailsa McMillan",null,null,"Australia",null,"WGC Women 2020 - 18m","AU",2020,6,7461,1.0599999999999998,8265,8761,null,null,"JS1","OG","Není v databázi"]
["Lisa Turner",null,null,"Australia",null,"WGC Women 2020 - 18m","AU",2020,7,7186,1.0599999999999998,7797,8265,null,null,"ASG 29","HS","Není v databázi"]
["Jana Treslova",{"$f":"VLOOKUP(A3226,Pilot,2,0)","v":1963},{"$f":"VLOOKUP(A3226,Pilot,5,0)","v":"F"},{"$f":"VLOOKUP(A3226,Pilot,3,0)","v":"Raná"},{"$f":"VLOOKUP(A3226,Pilot,4,0)","v":"CZ/C2"},"WGC Women 2020 - 18m","AU",2020,8,7036,1.0599999999999998,7437,7883,null,"x","JS 3","ZE",""]
["Joanna Biedermann",null,null,"Poland",null,"WGC Women 2020 - 18m","AU",2020,9,6658,1.0599999999999998,6882,7295,null,null,"JS1 C","P","Není v databázi"]
["Margherita Acquaderni",null,null,"Italy",null,"WGC Women 2020 - 18m","AU",2020,10,6587,1.0599999999999998,6590,6985,null,null,"Ventus 3",57,"Není v databázi"]
["Stefanie Mühl",null,null,"Germany",null,"WGC Women 2020 - 18m","AU",2020,11,6513,1.0599999999999998,6295,6673,null,null,"ASG 29","PT","Není v databázi"]
["Eva Cerna",{"$f":"VLOOKUP(A3230,Pilot,2,0)","v":1964},{"$f":"VLOOKUP(A3230,Pilot,5,0)","v":"F"},{"$f":"VLOOKUP(A3230,Pilot,3,0)","v":"Příbram"},{"$f":"VLOOKUP(A3230,Pilot,4,0)","v":"CZ/C1"},"WGC Women 2020 - 18m","AU",2020,12,6083,1.0599999999999998,5695,6037,null,"x","JS 1C","ZF",""]
["Jenny Thompson",null,null,"Australia",null,"WGC Women 2020 - 18m","AU",2020,13,5861,1.0599999999999998,5273,5589,null,null,"ASG 29","J7","Není v databázi"]
["Diana Schuit",null,null,"Luxembourg",null,"WGC Women 2020 - 18m","AU",2020,14,5552,1.0599999999999998,4776,5063,null,null,"JS 3","MM","Není v databázi"]

{"sheet":"Temp","index":6,"n_rows":1,"n_cols":19,"rows_kept":1,"cut":false,"hidden":false,"merged":[]}
["Jmeno","Rok narození","M/F","Aeroklub","Region","Soutěž","Stát","Rok","Pořadí ve třídě","Body ve třídě","Kinp","Bi","Bi×Kinp","G","W","Typ","CN","Junior","Poznámka"]

{"sheet":"Zebrik G","index":7,"n_rows":480,"n_cols":14,"rows_kept":480,"cut":false,"hidden":false,"merged":[]}
[{"$f":"\"Všeobecný Žebřík pilotů plachtařů PK AeČR \"&A6","v":"Všeobecný Žebřík pilotů plachtařů PK AeČR 2020"},null,null,null,null,null,null,null,{"$f":"Zmeny!A5","v":"2020-11-23"},"Rev.",{"$f":"Zmeny!B5","v":"02"},{"$f":"Zmeny!C5","v":"Doplněno WWGC 2020 Lake Keepit, opraveny chyby"}]
[]
[null,"G","x",null,null,null,null,null,"Junior v roce:","Junior v roce:",{"$f":"\"Repre družstvo \"&I4","v":"Repre družstvo 2021"},{"$f":"\"Repre výběr \"&I4","v":"Repre výběr 2021"},{"$f":"\"W \"&L3","v":"W Repre výběr 2021"},"Poznámka"]
[null,null,null,null,null,null,null,null,{"$f":"A6+1","v":2021},{"$f":"I4+1","v":2022},"(RD)","(RV)","(WRV)"]
["Pořadí",null,null,null,null,null,"Data",null,{"$f":"COUNTIF(I7:I985,\"Junior v roce \"&$I$4)","v":43},{"$f":"COUNTIF(J7:J985,\"Junior v roce \"&$J$4)","v":41},{"$f":"COUNTIF(K7:K985,\"RD \"&$I$4)","v":0},{"$f":"COUNTIF(L7:L985,\"RV \"&$I$4)","v":34},{"$f":"COUNTIF(M7:M985,\"WRV \"&$I$4)","v":9},{"$f":"COUNTIF(N7:N985,\"<>\")","v":0}]
[2020,"Jméno","Rok narození","M/F","Aeroklub","Region","Součet z Bi×Kinp","Počet G"]
[{"$f":"RANK(G7,G:G)","v":1},"Pavel Louzecky",1957,"M","Přibyslav","CZ/C2",31916,3,{"$f":"IF(C7=\"(prázdné)\",\"\",IF(($I$4-C7)>25,\"\",\"Junior v roce \"&$I$4))","v":""},{"$f":"IF(C7=\"(prázdné)\",\"\",IF(($J$4-C7)>25,\"\",\"Junior v roce \"&$J$4))","v":""},null,"RV 2021",{"$f":"IF(ISERROR(VLOOKUP(B7,'Zebrik W'!$B$7:$L$1001,11,0)),\"\",IF(VLOOKUP(B7,'Zebrik W'!$B$7:$L$1001,11,0)=0,\"--\",VLOOKUP(B7,'Zebrik W'!$B$7:$L$1001,11,0)))","v":""}]
[2,"David Mach",1994,"M","Hronov","CZ/C2",31904,3,{"$f":"IF(C8=\"(prázdné)\",\"\",IF(($I$4-C8)>25,\"\",\"Junior v roce \"&$I$4))","v":""},{"$f":"IF(C8=\"(prázdné)\",\"\",IF(($J$4-C8)>25,\"\",\"Junior v roce \"&$J$4))","v":""},null,"RV 2021",{"$f":"IF(ISERROR(VLOOKUP(B8,'Zebrik W'!$B$7:$L$1001,11,0)),\"\",IF(VLOOKUP(B8,'Zebrik W'!$B$7:$L$1001,11,0)=0,\"--\",VLOOKUP(B8,'Zebrik W'!$B$7:$L$1001,11,0)))","v":""}]
[3,"Miloslav Cink",1987,"M","Letkov","CZ/C1",31464,3,{"$f":"IF(C9=\"(prázdné)\",\"\",IF(($I$4-C9)>25,\"\",\"Junior v roce \"&$I$4))","v":""},"",null,"RV 2021",{"$f":"IF(ISERROR(VLOOKUP(B9,'Zebrik W'!$B$7:$L$1001,11,0)),\"\",IF(VLOOKUP(B9,'Zebrik W'!$B$7:$L$1001,11,0)=0,\"--\",VLOOKUP(B9,'Zebrik W'!$B$7:$L$1001,11,0)))","v":""}]
[4,"Tomas Suchanek",1964,"M","GAC Benešov","CZ/C1",31333,3,"","",null,"RV 2021",{"$f":"IF(ISERROR(VLOOKUP(B10,'Zebrik W'!$B$7:$L$1001,11,0)),\"\",IF(VLOOKUP(B10,'Zebrik W'!$B$7:$L$1001,11,0)=0,\"--\",VLOOKUP(B10,'Zebrik W'!$B$7:$L$1001,11,0)))","v":""}]
[5,"Radek Krejcirik",1991,"M","Hranice","CZ/M",30693,3,"","",null,"RV 2021",{"$f":"IF(ISERROR(VLOOKUP(B11,'Zebrik W'!$B$7:$L$1001,11,0)),\"\",IF(VLOOKUP(B11,'Zebrik W'!$B$7:$L$1001,11,0)=0,\"--\",VLOOKUP(B11,'Zebrik W'!$B$7:$L$1001,11,0)))","v":""}]
[6,"Petr Koutny",1971,"M","Křižanov","CZ/M",30650,3,"","",null,"RV 2021",{"$f":"IF(ISERROR(VLOOKUP(B12,'Zebrik W'!$B$7:$L$1001,11,0)),\"\",IF(VLOOKUP(B12,'Zebrik W'!$B$7:$L$1001,11,0)=0,\"--\",VLOOKUP(B12,'Zebrik W'!$B$7:$L$1001,11,0)))","v":""}]
[7,"Roman Mracek",1980,"M","Letkov","CZ/C1",30641,3,"","",null,"RV 2021",{"$f":"IF(ISERROR(VLOOKUP(B13,'Zebrik W'!$B$7:$L$1001,11,0)),\"\",IF(VLOOKUP(B13,'Zebrik W'!$B$7:$L$1001,11,0)=0,\"--\",VLOOKUP(B13,'Zebrik W'!$B$7:$L$1001,11,0)))","v":""}]
[8,"Ivan Novak",1962,"M","Mladá Boleslav","CZ/C1",30610,3,"","",null,"RV 2021",{"$f":"IF(ISERROR(VLOOKUP(B14,'Zebrik W'!$B$7:$L$1001,11,0)),\"\",IF(VLOOKUP(B14,'Zebrik W'!$B$7:$L$1001,11,0)=0,\"--\",VLOOKUP(B14,'Zebrik W'!$B$7:$L$1001,11,0)))","v":""}]
[9,"Jaroslav Tomana",1975,"M","Zbraslavice","CZ/C1",30560,3,"","",null,"RV 2021",{"$f":"IF(ISERROR(VLOOKUP(B15,'Zebrik W'!$B$7:$L$1001,11,0)),\"\",IF(VLOOKUP(B15,'Zebrik W'!$B$7:$L$1001,11,0)=0,\"--\",VLOOKUP(B15,'Zebrik W'!$B$7:$L$1001,11,0)))","v":""}]
[10,"Petr Tichy",1973,"M","Zbraslavice","CZ/C1",30300,3,"","",null,"RV 2021",{"$f":"IF(ISERROR(VLOOKUP(B16,'Zebrik W'!$B$7:$L$1001,11,0)),\"\",IF(VLOOKUP(B16,'Zebrik W'!$B$7:$L$1001,11,0)=0,\"--\",VLOOKUP(B16,'Zebrik W'!$B$7:$L$1001,11,0)))","v":""}]
[11,"Karel Novak",1993,"M","Mladá Boleslav","CZ/C1",29469,3,"","",null,"RV 2021",{"$f":"IF(ISERROR(VLOOKUP(B17,'Zebrik W'!$B$7:$L$1001,11,0)),\"\",IF(VLOOKUP(B17,'Zebrik W'!$B$7:$L$1001,11,0)=0,\"--\",VLOOKUP(B17,'Zebrik W'!$B$7:$L$1001,11,0)))","v":""}]
[12,"Michal Lesinger",1966,"M","Moravská Třebová","CZ/M",29232,3,"","",null,"RV 2021",{"$f":"IF(ISERROR(VLOOKUP(B18,'Zebrik W'!$B$7:$L$1001,11,0)),\"\",IF(VLOOKUP(B18,'Zebrik W'!$B$7:$L$1001,11,0)=0,\"--\",VLOOKUP(B18,'Zebrik W'!$B$7:$L$1001,11,0)))","v":""}]
[13,"Ondrej Bordovsky",1983,"M","Krnov","CZ/M",29184,3,"","",null,"RV 2021",{"$f":"IF(ISERROR(VLOOKUP(B19,'Zebrik W'!$B$7:$L$1001,11,0)),\"\",IF(VLOOKUP(B19,'Zebrik W'!$B$7:$L$1001,11,0)=0,\"--\",VLOOKUP(B19,'Zebrik W'!$B$7:$L$1001,11,0)))","v":""}]
[14,"Jan Pavlik",1987,"M","Křižanov","CZ/M",29037,3,"","",null,"RV 2021",{"$f":"IF(ISERROR(VLOOKUP(B20,'Zebrik W'!$B$7:$L$1001,11,0)),\"\",IF(VLOOKUP(B20,'Zebrik W'!$B$7:$L$1001,11,0)=0,\"--\",VLOOKUP(B20,'Zebrik W'!$B$7:$L$1001,11,0)))","v":""}]
[15,"Ondrej Dupal",1966,"M","GAC Benešov","CZ/C1",28892,3,"","",null,"RV 2021",{"$f":"IF(ISERROR(VLOOKUP(B21,'Zebrik W'!$B$7:$L$1001,11,0)),\"\",IF(VLOOKUP(B21,'Zebrik W'!$B$7:$L$1001,11,0)=0,\"--\",VLOOKUP(B21,'Zebrik W'!$B$7:$L$1001,11,0)))","v":""}]
[16,"Jan Louda",1986,"M","Mladá Boleslav","CZ/C1",28692,3,"","",null,"RV 2021",{"$f":"IF(ISERROR(VLOOKUP(B22,'Zebrik W'!$B$7:$L$1001,11,0)),\"\",IF(VLOOKUP(B22,'Zebrik W'!$B$7:$L$1001,11,0)=0,\"--\",VLOOKUP(B22,'Zebrik W'!$B$7:$L$1001,11,0)))","v":""}]
[17,"Jan Ratz",1987,"M","Zbraslavice","CZ/C1",28209,3,"","",null,"RV 2021",{"$f":"IF(ISERROR(VLOOKUP(B23,'Zebrik W'!$B$7:$L$1001,11,0)),\"\",IF(VLOOKUP(B23,'Zebrik W'!$B$7:$L$1001,11,0)=0,\"--\",VLOOKUP(B23,'Zebrik W'!$B$7:$L$1001,11,0)))","v":""}]
[18,"Danes Grula",1961,"M","Medlánky","CZ/M",28072,3,"","",null,"RV 2021",{"$f":"IF(ISERROR(VLOOKUP(B24,'Zebrik W'!$B$7:$L$1001,11,0)),\"\",IF(VLOOKUP(B24,'Zebrik W'!$B$7:$L$1001,11,0)=0,\"--\",VLOOKUP(B24,'Zebrik W'!$B$7:$L$1001,11,0)))","v":""}]
[19,"Daniel Ryba",1994,"M","Dvůr Králové","CZ/C2",27980,3,"","",null,"RV 2021",{"$f":"IF(ISERROR(VLOOKUP(B25,'Zebrik W'!$B$7:$L$1001,11,0)),\"\",IF(VLOOKUP(B25,'Zebrik W'!$B$7:$L$1001,11,0)=0,\"--\",VLOOKUP(B25,'Zebrik W'!$B$7:$L$1001,11,0)))","v":""}]
[20,"Alena Netusilova",1970,"F","Zbraslavice","CZ/C1",27907,3,{"$f":"IF(C26=\"(prázdné)\",\"\",IF(($I$4-C26)>25,\"\",\"Junior v roce \"&$I$4))","v":""},"",null,"RV 2021",{"$f":"IF(ISERROR(VLOOKUP(B26,'Zebrik W'!$B$7:$L$1001,11,0)),\"\",IF(VLOOKUP(B26,'Zebrik W'!$B$7:$L$1001,11,0)=0,\"--\",VLOOKUP(B26,'Zebrik W'!$B$7:$L$1001,11,0)))","v":"WRV 2021"}]
[21,"Jan Viskot",1995,"M","Břeclav","CZ/M",27577,3,"","",null,null,{"$f":"IF(ISERROR(VLOOKUP(B27,'Zebrik W'!$B$7:$L$1001,11,0)),\"\",IF(VLOOKUP(B27,'Zebrik W'!$B$7:$L$1001,11,0)=0,\"--\",VLOOKUP(B27,'Zebrik W'!$B$7:$L$1001,11,0)))","v":""}]
[22,"Radek Kucirek",1973,"M","Havlíčkův Brod","CZ/C2",27471,3,"","",null,null,{"$f":"IF(ISERROR(VLOOKUP(B28,'Zebrik W'!$B$7:$L$1001,11,0)),\"\",IF(VLOOKUP(B28,'Zebrik W'!$B$7:$L$1001,11,0)=0,\"--\",VLOOKUP(B28,'Zebrik W'!$B$7:$L$1001,11,0)))","v":""}]
[23,"Pavel Trybenekr",1990,"M","Hořice","CZ/C2",27285,3,"","",null,null,{"$f":"IF(ISERROR(VLOOKUP(B29,'Zebrik W'!$B$7:$L$1001,11,0)),\"\",IF(VLOOKUP(B29,'Zebrik W'!$B$7:$L$1001,11,0)=0,\"--\",VLOOKUP(B29,'Zebrik W'!$B$7:$L$1001,11,0)))","v":""}]
[24,"Jan Zapletal",1997,"M","Břeclav","CZ/M",27177,3,"Junior v roce 2021","Junior v roce 2022",null,"RV 2021",{"$f":"IF(ISERROR(VLOOKUP(B30,'Zebrik W'!$B$7:$L$1001,11,0)),\"\",IF(VLOOKUP(B30,'Zebrik W'!$B$7:$L$1001,11,0)=0,\"--\",VLOOKUP(B30,'Zebrik W'!$B$7:$L$1001,11,0)))","v":""}]
[25,"Petr Krejcirik",1960,"M","Hranice","CZ/M",26863,3,"","",null,null,{"$f":"IF(ISERROR(VLOOKUP(B31,'Zebrik W'!$B$7:$L$1001,11,0)),\"\",IF(VLOOKUP(B31,'Zebrik W'!$B$7:$L$1001,11,0)=0,\"--\",VLOOKUP(B31,'Zebrik W'!$B$7:$L$1001,11,0)))","v":""}]
[26,"Dana Novakova",1965,"F","Mladá Boleslav","CZ/C1",26704,3,"","",null,"RV 2021",{"$f":"IF(ISERROR(VLOOKUP(B32,'Zebrik W'!$B$7:$L$1001,11,0)),\"\",IF(VLOOKUP(B32,'Zebrik W'!$B$7:$L$1001,11,0)=0,\"--\",VLOOKUP(B32,'Zebrik W'!$B$7:$L$1001,11,0)))","v":"WRV 2021"}]
[27,"Jiri Kusbach",1959,"M","Luhačovice","CZ/M",26647,3,"","",null,null,{"$f":"IF(ISERROR(VLOOKUP(B33,'Zebrik W'!$B$7:$L$1001,11,0)),\"\",IF(VLOOKUP(B33,'Zebrik W'!$B$7:$L$1001,11,0)=0,\"--\",VLOOKUP(B33,'Zebrik W'!$B$7:$L$1001,11,0)))","v":""}]
[28,"Jaromir Macoun",1999,"M","Jičín","CZ/C2",26556,3,"Junior v roce 2021","Junior v roce 2022",null,"RV 2021",{"$f":"IF(ISERROR(VLOOKUP(B34,'Zebrik W'!$B$7:$L$1001,11,0)),\"\",IF(VLOOKUP(B34,'Zebrik W'!$B$7:$L$1001,11,0)=0,\"--\",VLOOKUP(B34,'Zebrik W'!$B$7:$L$1001,11,0)))","v":""}]
[29,"Lubomir Motl",1959,"M","Kyjov","CZ/M",26513,3,"","",null,null,{"$f":"IF(ISERROR(VLOOKUP(B35,'Zebrik W'!$B$7:$L$1001,11,0)),\"\",IF(VLOOKUP(B35,'Zebrik W'!$B$7:$L$1001,11,0)=0,\"--\",VLOOKUP(B35,'Zebrik W'!$B$7:$L$1001,11,0)))","v":""}]
[30,"Zdenek Boruvka 86",1986,"M","Jičín","CZ/C2",26492,3,"","",null,null,{"$f":"IF(ISERROR(VLOOKUP(B36,'Zebrik W'!$B$7:$L$1001,11,0)),\"\",IF(VLOOKUP(B36,'Zebrik W'!$B$7:$L$1001,11,0)=0,\"--\",VLOOKUP(B36,'Zebrik W'!$B$7:$L$1001,11,0)))","v":""}]
[31,"Pavel Rericha",1967,"M","Moravská Třebová","CZ/M",26476,3,"","",null,null,{"$f":"IF(ISERROR(VLOOKUP(B37,'Zebrik W'!$B$7:$L$1001,11,0)),\"\",IF(VLOOKUP(B37,'Zebrik W'!$B$7:$L$1001,11,0)=0,\"--\",VLOOKUP(B37,'Zebrik W'!$B$7:$L$1001,11,0)))","v":""}]
[32,"Ivan Harasta 65",1965,"M","Toužim","CZ/C1",26105,3,"","",null,null,{"$f":"IF(ISERROR(VLOOKUP(B38,'Zebrik W'!$B$7:$L$1001,11,0)),\"\",IF(VLOOKUP(B38,'Zebrik W'!$B$7:$L$1001,11,0)=0,\"--\",VLOOKUP(B38,'Zebrik W'!$B$7:$L$1001,11,0)))","v":""}]
[33,"Barbora Moravcova",1994,"F","Zbraslavice","CZ/C1",25849,3,"","",null,"RV 2021",{"$f":"IF(ISERROR(VLOOKUP(B39,'Zebrik W'!$B$7:$L$1001,11,0)),\"\",IF(VLOOKUP(B39,'Zebrik W'!$B$7:$L$1001,11,0)=0,\"--\",VLOOKUP(B39,'Zebrik W'!$B$7:$L$1001,11,0)))","v":"WRV 2021"}]
[34,"Jan Boruvka",1984,"M","Jičín","CZ/C2",25819,3,"","",null,null,{"$f":"IF(ISERROR(VLOOKUP(B40,'Zebrik W'!$B$7:$L$1001,11,0)),\"\",IF(VLOOKUP(B40,'Zebrik W'!$B$7:$L$1001,11,0)=0,\"--\",VLOOKUP(B40,'Zebrik W'!$B$7:$L$1001,11,0)))","v":""}]
[35,"Jana Veprekova",1961,"F","Dvůr Králové","CZ/C2",25775,3,"","",null,"RV 2021",{"$f":"IF(ISERROR(VLOOKUP(B41,'Zebrik W'!$B$7:$L$1001,11,0)),\"\",IF(VLOOKUP(B41,'Zebrik W'!$B$7:$L$1001,11,0)=0,\"--\",VLOOKUP(B41,'Zebrik W'!$B$7:$L$1001,11,0)))","v":"WRV 2021"}]
[36,"Frantisek Vancura",1966,"M","Hranice","CZ/M",25577,3,"","",null,null,{"$f":"IF(ISERROR(VLOOKUP(B42,'Zebrik W'!$B$7:$L$1001,11,0)),\"\",IF(VLOOKUP(B42,'Zebrik W'!$B$7:$L$1001,11,0)=0,\"--\",VLOOKUP(B42,'Zebrik W'!$B$7:$L$1001,11,0)))","v":""}]
[37,"Hana Treslova",1991,"F","Raná","CZ/C2",25533,3,"","",null,"RV 2021",{"$f":"IF(ISERROR(VLOOKUP(B43,'Zebrik W'!$B$7:$L$1001,11,0)),\"\",IF(VLOOKUP(B43,'Zebrik W'!$B$7:$L$1001,11,0)=0,\"--\",VLOOKUP(B43,'Zebrik W'!$B$7:$L$1001,11,0)))","v":"WRV 2021"}]
[38,"Marek Blatak",1969,"M","Šumperk","CZ/M",25446,3,{"$f":"IF(C44=\"(prázdné)\",\"\",IF(($I$4-C44)>25,\"\",\"Junior v roce \"&$I$4))","v":""},{"$f":"IF(C44=\"(prázdné)\",\"\",IF(($J$4-C44)>25,\"\",\"Junior v roce \"&$J$4))","v":""},null,null,{"$f":"IF(ISERROR(VLOOKUP(B44,'Zebrik W'!$B$7:$L$1001,11,0)),\"\",IF(VLOOKUP(B44,'Zebrik W'!$B$7:$L$1001,11,0)=0,\"--\",VLOOKUP(B44,'Zebrik W'!$B$7:$L$1001,11,0)))","v":""}]
[39,"Tomas Rendla",1973,"M","Zbraslavice","CZ/C1",25434,3,"","",null,null,{"$f":"IF(ISERROR(VLOOKUP(B45,'Zebrik W'!$B$7:$L$1001,11,0)),\"\",IF(VLOOKUP(B45,'Zebrik W'!$B$7:$L$1001,11,0)=0,\"--\",VLOOKUP(B45,'Zebrik W'!$B$7:$L$1001,11,0)))","v":""}]
[40,"Petr Hotovy",1958,"M","Česká Lípa","CZ/C2",25416,3,"","",null,null,{"$f":"IF(ISERROR(VLOOKUP(B46,'Zebrik W'!$B$7:$L$1001,11,0)),\"\",IF(VLOOKUP(B46,'Zebrik W'!$B$7:$L$1001,11,0)=0,\"--\",VLOOKUP(B46,'Zebrik W'!$B$7:$L$1001,11,0)))","v":""}]
[41,"Lukas Koukal",1991,"M","Letkov","CZ/C1",25411,3,"","",null,null,{"$f":"IF(ISERROR(VLOOKUP(B47,'Zebrik W'!$B$7:$L$1001,11,0)),\"\",IF(VLOOKUP(B47,'Zebrik W'!$B$7:$L$1001,11,0)=0,\"--\",VLOOKUP(B47,'Zebrik W'!$B$7:$L$1001,11,0)))","v":""}]
[42,"Vojtech Novotny",1992,"M","Kralupy","CZ/C1",25407,3,"","",null,null,{"$f":"IF(ISERROR(VLOOKUP(B48,'Zebrik W'!$B$7:$L$1001,11,0)),\"\",IF(VLOOKUP(B48,'Zebrik W'!$B$7:$L$1001,11,0)=0,\"--\",VLOOKUP(B48,'Zebrik W'!$B$7:$L$1001,11,0)))","v":""}]
[43,"Jindrich Svorc",1978,"M","Letňany","CZ/C1",25239,3,"","",null,null,{"$f":"IF(ISERROR(VLOOKUP(B49,'Zebrik W'!$B$7:$L$1001,11,0)),\"\",IF(VLOOKUP(B49,'Zebrik W'!$B$7:$L$1001,11,0)=0,\"--\",VLOOKUP(B49,'Zebrik W'!$B$7:$L$1001,11,0)))","v":""}]
[44,"Vratislav Sram",1966,"M","Broumov","CZ/C2",25215,3,"","",null,null,{"$f":"IF(ISERROR(VLOOKUP(B50,'Zebrik W'!$B$7:$L$1001,11,0)),\"\",IF(VLOOKUP(B50,'Zebrik W'!$B$7:$L$1001,11,0)=0,\"--\",VLOOKUP(B50,'Zebrik W'!$B$7:$L$1001,11,0)))","v":""}]
[45,"Zdenek Balcarek",1967,"M","Kroměříž","CZ/M",25214,3,"","",null,null,{"$f":"IF(ISERROR(VLOOKUP(B51,'Zebrik W'!$B$7:$L$1001,11,0)),\"\",IF(VLOOKUP(B51,'Zebrik W'!$B$7:$L$1001,11,0)=0,\"--\",VLOOKUP(B51,'Zebrik W'!$B$7:$L$1001,11,0)))","v":""}]
[46,"Jan Zahradka",1981,"M","Hodkovice","CZ/C2",25065,3,"","",null,null,{"$f":"IF(ISERROR(VLOOKUP(B52,'Zebrik W'!$B$7:$L$1001,11,0)),\"\",IF(VLOOKUP(B52,'Zebrik W'!$B$7:$L$1001,11,0)=0,\"--\",VLOOKUP(B52,'Zebrik W'!$B$7:$L$1001,11,0)))","v":""}]
[47,"Jana Treslova",1963,"F","Raná","CZ/C2",24982,3,"","",null,"RV 2021",{"$f":"IF(ISERROR(VLOOKUP(B53,'Zebrik W'!$B$7:$L$1001,11,0)),\"\",IF(VLOOKUP(B53,'Zebrik W'!$B$7:$L$1001,11,0)=0,\"--\",VLOOKUP(B53,'Zebrik W'!$B$7:$L$1001,11,0)))","v":"WRV 2021"}]
[48,"Lenka Kuthanova",1960,"F","Tábor","CZ/C1",24788,3,"","",null,"RV 2021",{"$f":"IF(ISERROR(VLOOKUP(B54,'Zebrik W'!$B$7:$L$1001,11,0)),\"\",IF(VLOOKUP(B54,'Zebrik W'!$B$7:$L$1001,11,0)=0,\"--\",VLOOKUP(B54,'Zebrik W'!$B$7:$L$1001,11,0)))","v":"WRV 2021"}]
[49,"Karel Benisek 76",1976,"M","Toužim","CZ/C1",24660,3,"","",null,null,{"$f":"IF(ISERROR(VLOOKUP(B55,'Zebrik W'!$B$7:$L$1001,11,0)),\"\",IF(VLOOKUP(B55,'Zebrik W'!$B$7:$L$1001,11,0)=0,\"--\",VLOOKUP(B55,'Zebrik W'!$B$7:$L$1001,11,0)))","v":""}]
[50,"Vit Morkovsky",2000,"M","Polička","CZ/C2",24565,3,"Junior v roce 2021","Junior v roce 2022",null,"RV 2021",{"$f":"IF(ISERROR(VLOOKUP(B56,'Zebrik W'!$B$7:$L$1001,11,0)),\"\",IF(VLOOKUP(B56,'Zebrik W'!$B$7:$L$1001,11,0)=0,\"--\",VLOOKUP(B56,'Zebrik W'!$B$7:$L$1001,11,0)))","v":""}]
[51,"Jan Kotan",1982,"M","Letňany","CZ/C1",24389,3,"","",null,null,{"$f":"IF(ISERROR(VLOOKUP(B57,'Zebrik W'!$B$7:$L$1001,11,0)),\"\",IF(VLOOKUP(B57,'Zebrik W'!$B$7:$L$1001,11,0)=0,\"--\",VLOOKUP(B57,'Zebrik W'!$B$7:$L$1001,11,0)))","v":""}]
[52,"Petr Jiranek 91",1991,"M","Toužim","CZ/C1",24292,3,"","",null,null,{"$f":"IF(ISERROR(VLOOKUP(B58,'Zebrik W'!$B$7:$L$1001,11,0)),\"\",IF(VLOOKUP(B58,'Zebrik W'!$B$7:$L$1001,11,0)=0,\"--\",VLOOKUP(B58,'Zebrik W'!$B$7:$L$1001,11,0)))","v":""}]
[53,"Petr Panek",1975,"M","Dvůr Králové","CZ/C2",24266,3,"","",null,null,{"$f":"IF(ISERROR(VLOOKUP(B59,'Zebrik W'!$B$7:$L$1001,11,0)),\"\",IF(VLOOKUP(B59,'Zebrik W'!$B$7:$L$1001,11,0)=0,\"--\",VLOOKUP(B59,'Zebrik W'!$B$7:$L$1001,11,0)))","v":""}]
[54,"Zdenek Boruvka 54",1954,"M","Jičín","CZ/C2",24218,3,"","",null,null,{"$f":"IF(ISERROR(VLOOKUP(B60,'Zebrik W'!$B$7:$L$1001,11,0)),\"\",IF(VLOOKUP(B60,'Zebrik W'!$B$7:$L$1001,11,0)=0,\"--\",VLOOKUP(B60,'Zebrik W'!$B$7:$L$1001,11,0)))","v":""}]
[55,"Martin Urner",1974,"M","Letňany","CZ/C1",23828,3,"","",null,null,{"$f":"IF(ISERROR(VLOOKUP(B61,'Zebrik W'!$B$7:$L$1001,11,0)),\"\",IF(VLOOKUP(B61,'Zebrik W'!$B$7:$L$1001,11,0)=0,\"--\",VLOOKUP(B61,'Zebrik W'!$B$7:$L$1001,11,0)))","v":""}]
[56,"Marek Pechanec",1970,"M","Luhačovice","CZ/M",23799,3,"","",null,null,{"$f":"IF(ISERROR(VLOOKUP(B62,'Zebrik W'!$B$7:$L$1001,11,0)),\"\",IF(VLOOKUP(B62,'Zebrik W'!$B$7:$L$1001,11,0)=0,\"--\",VLOOKUP(B62,'Zebrik W'!$B$7:$L$1001,11,0)))","v":""}]
[57,"David Sachl",1978,"M","Kralupy","CZ/C1",23798,3,"","",null,null,{"$f":"IF(ISERROR(VLOOKUP(B63,'Zebrik W'!$B$7:$L$1001,11,0)),\"\",IF(VLOOKUP(B63,'Zebrik W'!$B$7:$L$1001,11,0)=0,\"--\",VLOOKUP(B63,'Zebrik W'!$B$7:$L$1001,11,0)))","v":""}]
[58,"Petr Valenta 94",1994,"M","Kunovice","CZ/M",23665,3,"","",null,null,{"$f":"IF(ISERROR(VLOOKUP(B64,'Zebrik W'!$B$7:$L$1001,11,0)),\"\",IF(VLOOKUP(B64,'Zebrik W'!$B$7:$L$1001,11,0)=0,\"--\",VLOOKUP(B64,'Zebrik W'!$B$7:$L$1001,11,0)))","v":""}]
[59,"Klara Teichmannova",1993,"F","Hronov","CZ/C2",23658,3,"","",null,"RV 2021",{"$f":"IF(ISERROR(VLOOKUP(B65,'Zebrik W'!$B$7:$L$1001,11,0)),\"\",IF(VLOOKUP(B65,'Zebrik W'!$B$7:$L$1001,11,0)=0,\"--\",VLOOKUP(B65,'Zebrik W'!$B$7:$L$1001,11,0)))","v":"WRV 2021"}]
[60,"Karel Mares",1974,"M","Slaný","CZ/C1",23599,3,"","",null,null,{"$f":"IF(ISERROR(VLOOKUP(B66,'Zebrik W'!$B$7:$L$1001,11,0)),\"\",IF(VLOOKUP(B66,'Zebrik W'!$B$7:$L$1001,11,0)=0,\"--\",VLOOKUP(B66,'Zebrik W'!$B$7:$L$1001,11,0)))","v":""}]
[61,"Josef Busek",1967,"M","Hosín","CZ/C1",23516,3,"","",null,null,{"$f":"IF(ISERROR(VLOOKUP(B67,'Zebrik W'!$B$7:$L$1001,11,0)),\"\",IF(VLOOKUP(B67,'Zebrik W'!$B$7:$L$1001,11,0)=0,\"--\",VLOOKUP(B67,'Zebrik W'!$B$7:$L$1001,11,0)))","v":""}]
[62,"Jan Vavrin",1987,"M","Vysoké Mýto","CZ/C2",23513,3,"","",null,null,{"$f":"IF(ISERROR(VLOOKUP(B68,'Zebrik W'!$B$7:$L$1001,11,0)),\"\",IF(VLOOKUP(B68,'Zebrik W'!$B$7:$L$1001,11,0)=0,\"--\",VLOOKUP(B68,'Zebrik W'!$B$7:$L$1001,11,0)))","v":""}]
[63,"Michal Drab",1969,"M","Letkov","CZ/C1",23496,3,"","",null,null,{"$f":"IF(ISERROR(VLOOKUP(B69,'Zebrik W'!$B$7:$L$1001,11,0)),\"\",IF(VLOOKUP(B69,'Zebrik W'!$B$7:$L$1001,11,0)=0,\"--\",VLOOKUP(B69,'Zebrik W'!$B$7:$L$1001,11,0)))","v":""}]
[64,"Rene Hudak",1972,"M","Kunovice","CZ/M",23441,3,"","",null,null,{"$f":"IF(ISERROR(VLOOKUP(B70,'Zebrik W'!$B$7:$L$1001,11,0)),\"\",IF(VLOOKUP(B70,'Zebrik W'!$B$7:$L$1001,11,0)=0,\"--\",VLOOKUP(B70,'Zebrik W'!$B$7:$L$1001,11,0)))","v":""}]
[{"$f":"RANK(G71,G:G)","v":65},"Vaclav Marel",1974,"M","Jaroměř","CZ/C2",23337,3,"","",null,null,{"$f":"IF(ISERROR(VLOOKUP(B71,'Zebrik W'!$B$7:$L$1001,11,0)),\"\",IF(VLOOKUP(B71,'Zebrik W'!$B$7:$L$1001,11,0)=0,\"--\",VLOOKUP(B71,'Zebrik W'!$B$7:$L$1001,11,0)))","v":""}]
[66,"Jan Pubec",1979,"M","Plzeň Bory","CZ/C1",23281,3,"","",null,null,{"$f":"IF(ISERROR(VLOOKUP(B72,'Zebrik W'!$B$7:$L$1001,11,0)),\"\",IF(VLOOKUP(B72,'Zebrik W'!$B$7:$L$1001,11,0)=0,\"--\",VLOOKUP(B72,'Zebrik W'!$B$7:$L$1001,11,0)))","v":""}]
[67,"Jan Dersak 69",1969,"M","Kralupy","CZ/C1",23246,3,"","",null,null,{"$f":"IF(ISERROR(VLOOKUP(B73,'Zebrik W'!$B$7:$L$1001,11,0)),\"\",IF(VLOOKUP(B73,'Zebrik W'!$B$7:$L$1001,11,0)=0,\"--\",VLOOKUP(B73,'Zebrik W'!$B$7:$L$1001,11,0)))","v":""}]
[68,"Pavel Jiranek",1993,"M","Toužim","CZ/C1",23132,3,"","",null,null,{"$f":"IF(ISERROR(VLOOKUP(B74,'Zebrik W'!$B$7:$L$1001,11,0)),\"\",IF(VLOOKUP(B74,'Zebrik W'!$B$7:$L$1001,11,0)=0,\"--\",VLOOKUP(B74,'Zebrik W'!$B$7:$L$1001,11,0)))","v":""}]
[69,"Jiri Steiger",1969,"M","Olomouc","CZ/M",23021,3,"","",null,null,{"$f":"IF(ISERROR(VLOOKUP(B75,'Zebrik W'!$B$7:$L$1001,11,0)),\"\",IF(VLOOKUP(B75,'Zebrik W'!$B$7:$L$1001,11,0)=0,\"--\",VLOOKUP(B75,'Zebrik W'!$B$7:$L$1001,11,0)))","v":""}]
[70,"Petra Piskata",1989,"F","Luhačovice","CZ/M",22893,3,"","",null,"RV 2021",{"$f":"IF(ISERROR(VLOOKUP(B76,'Zebrik W'!$B$7:$L$1001,11,0)),\"\",IF(VLOOKUP(B76,'Zebrik W'!$B$7:$L$1001,11,0)=0,\"--\",VLOOKUP(B76,'Zebrik W'!$B$7:$L$1001,11,0)))","v":"WRV 2021"}]
[71,"Ivan Tvrdik",1997,"M","Letňany","CZ/C1",22885,3,"Junior v roce 2021","Junior v roce 2022",null,"RV 2021",{"$f":"IF(ISERROR(VLOOKUP(B77,'Zebrik W'!$B$7:$L$1001,11,0)),\"\",IF(VLOOKUP(B77,'Zebrik W'!$B$7:$L$1001,11,0)=0,\"--\",VLOOKUP(B77,'Zebrik W'!$B$7:$L$1001,11,0)))","v":""}]
[72,"Martin Svarc",1981,"M","Olomouc","CZ/M",22782,3,"","",null,null,{"$f":"IF(ISERROR(VLOOKUP(B78,'Zebrik W'!$B$7:$L$1001,11,0)),\"\",IF(VLOOKUP(B78,'Zebrik W'!$B$7:$L$1001,11,0)=0,\"--\",VLOOKUP(B78,'Zebrik W'!$B$7:$L$1001,11,0)))","v":""}]
[73,"Marek Kornec",1957,"M","Dvůr Králové","CZ/C2",22458,3,"","",null,null,{"$f":"IF(ISERROR(VLOOKUP(B79,'Zebrik W'!$B$7:$L$1001,11,0)),\"\",IF(VLOOKUP(B79,'Zebrik W'!$B$7:$L$1001,11,0)=0,\"--\",VLOOKUP(B79,'Zebrik W'!$B$7:$L$1001,11,0)))","v":""}]
[74,"Antonin Konicek",1973,"M","Kunovice","CZ/M",22415,3,"","",null,null,{"$f":"IF(ISERROR(VLOOKUP(B80,'Zebrik W'!$B$7:$L$1001,11,0)),\"\",IF(VLOOKUP(B80,'Zebrik W'!$B$7:$L$1001,11,0)=0,\"--\",VLOOKUP(B80,'Zebrik W'!$B$7:$L$1001,11,0)))","v":""}]
[75,"Martin Zahalka",1987,"M","Staňkov","CZ/C1",22406,3,"","",null,null,{"$f":"IF(ISERROR(VLOOKUP(B81,'Zebrik W'!$B$7:$L$1001,11,0)),\"\",IF(VLOOKUP(B81,'Zebrik W'!$B$7:$L$1001,11,0)=0,\"--\",VLOOKUP(B81,'Zebrik W'!$B$7:$L$1001,11,0)))","v":""}]
[76,"Jan Horak",1971,"M","Zbraslavice","CZ/C1",22314,3,"","",null,null,{"$f":"IF(ISERROR(VLOOKUP(B82,'Zebrik W'!$B$7:$L$1001,11,0)),\"\",IF(VLOOKUP(B82,'Zebrik W'!$B$7:$L$1001,11,0)=0,\"--\",VLOOKUP(B82,'Zebrik W'!$B$7:$L$1001,11,0)))","v":""}]
[77,"Jiri Stepanek",1956,"M","Moravská Třebová","CZ/M",22308,3,"","",null,null,{"$f":"IF(ISERROR(VLOOKUP(B83,'Zebrik W'!$B$7:$L$1001,11,0)),\"\",IF(VLOOKUP(B83,'Zebrik W'!$B$7:$L$1001,11,0)=0,\"--\",VLOOKUP(B83,'Zebrik W'!$B$7:$L$1001,11,0)))","v":""}]
[78,"Slavomir Piskaty 84",1984,"M","Kunovice","CZ/M",22297,3,"","",null,null,{"$f":"IF(ISERROR(VLOOKUP(B84,'Zebrik W'!$B$7:$L$1001,11,0)),\"\",IF(VLOOKUP(B84,'Zebrik W'!$B$7:$L$1001,11,0)=0,\"--\",VLOOKUP(B84,'Zebrik W'!$B$7:$L$1001,11,0)))","v":""}]
[79,"Martin Hrivna",1978,"M","Zbraslavice","CZ/C1",22246,3,"","",null,null,{"$f":"IF(ISERROR(VLOOKUP(B85,'Zebrik W'!$B$7:$L$1001,11,0)),\"\",IF(VLOOKUP(B85,'Zebrik W'!$B$7:$L$1001,11,0)=0,\"--\",VLOOKUP(B85,'Zebrik W'!$B$7:$L$1001,11,0)))","v":""}]
[80,"Zdenek Schenk",1972,"M","Hranice","CZ/M",22225,3,"","",null,null,{"$f":"IF(ISERROR(VLOOKUP(B86,'Zebrik W'!$B$7:$L$1001,11,0)),\"\",IF(VLOOKUP(B86,'Zebrik W'!$B$7:$L$1001,11,0)=0,\"--\",VLOOKUP(B86,'Zebrik W'!$B$7:$L$1001,11,0)))","v":""}]
[81,"Jaromir Pauer",1974,"M","Hosín","CZ/C1",22155,3,"","",null,null,{"$f":"IF(ISERROR(VLOOKUP(B87,'Zebrik W'!$B$7:$L$1001,11,0)),\"\",IF(VLOOKUP(B87,'Zebrik W'!$B$7:$L$1001,11,0)=0,\"--\",VLOOKUP(B87,'Zebrik W'!$B$7:$L$1001,11,0)))","v":""}]
[82,"Tereza Koubkova",1999,"F","Vysoké Mýto","CZ/C2",22136,3,"Junior v roce 2021","Junior v roce 2022",null,"RV 2021",{"$f":"IF(ISERROR(VLOOKUP(B88,'Zebrik W'!$B$7:$L$1001,11,0)),\"\",IF(VLOOKUP(B88,'Zebrik W'!$B$7:$L$1001,11,0)=0,\"--\",VLOOKUP(B88,'Zebrik W'!$B$7:$L$1001,11,0)))","v":"--"}]
[83,"Martin Fric",1967,"M","Raná","CZ/C2",22077,3,"","",null,null,{"$f":"IF(ISERROR(VLOOKUP(B89,'Zebrik W'!$B$7:$L$1001,11,0)),\"\",IF(VLOOKUP(B89,'Zebrik W'!$B$7:$L$1001,11,0)=0,\"--\",VLOOKUP(B89,'Zebrik W'!$B$7:$L$1001,11,0)))","v":""}]
[84,"Lukas Hynek",1979,"M","Dvůr Králové","CZ/C2",22063,3,"","",null,null,{"$f":"IF(ISERROR(VLOOKUP(B90,'Zebrik W'!$B$7:$L$1001,11,0)),\"\",IF(VLOOKUP(B90,'Zebrik W'!$B$7:$L$1001,11,0)=0,\"--\",VLOOKUP(B90,'Zebrik W'!$B$7:$L$1001,11,0)))","v":""}]
[85,"Jan Simon",1970,"M","Kralupy","CZ/C1",22059,3,"","",null,null,{"$f":"IF(ISERROR(VLOOKUP(B91,'Zebrik W'!$B$7:$L$1001,11,0)),\"\",IF(VLOOKUP(B91,'Zebrik W'!$B$7:$L$1001,11,0)=0,\"--\",VLOOKUP(B91,'Zebrik W'!$B$7:$L$1001,11,0)))","v":""}]
[86,"Milan Svoboda 80",1980,"M","Havlíčkův Brod","CZ/C2",21889,3,"","",null,null,{"$f":"IF(ISERROR(VLOOKUP(B92,'Zebrik W'!$B$7:$L$1001,11,0)),\"\",IF(VLOOKUP(B92,'Zebrik W'!$B$7:$L$1001,11,0)=0,\"--\",VLOOKUP(B92,'Zebrik W'!$B$7:$L$1001,11,0)))","v":""}]
[87,"Lumir Motyka",1955,"M","Frýdlant","CZ/M",21843,3,"","",null,null,{"$f":"IF(ISERROR(VLOOKUP(B93,'Zebrik W'!$B$7:$L$1001,11,0)),\"\",IF(VLOOKUP(B93,'Zebrik W'!$B$7:$L$1001,11,0)=0,\"--\",VLOOKUP(B93,'Zebrik W'!$B$7:$L$1001,11,0)))","v":""}]
[88,"Miroslav Koci",1961,"M","Žamberk","CZ/C2",21630,3,"","",null,null,{"$f":"IF(ISERROR(VLOOKUP(B94,'Zebrik W'!$B$7:$L$1001,11,0)),\"\",IF(VLOOKUP(B94,'Zebrik W'!$B$7:$L$1001,11,0)=0,\"--\",VLOOKUP(B94,'Zebrik W'!$B$7:$L$1001,11,0)))","v":""}]
[89,"Roman Jokl",1979,"M","Letkov","CZ/C1",21405,3,"","",null,null,{"$f":"IF(ISERROR(VLOOKUP(B95,'Zebrik W'!$B$7:$L$1001,11,0)),\"\",IF(VLOOKUP(B95,'Zebrik W'!$B$7:$L$1001,11,0)=0,\"--\",VLOOKUP(B95,'Zebrik W'!$B$7:$L$1001,11,0)))","v":""}]
[90,"Jaroslav Buryan",1953,"M","Zábřeh","CZ/M",21358,3,"","",null,null,{"$f":"IF(ISERROR(VLOOKUP(B96,'Zebrik W'!$B$7:$L$1001,11,0)),\"\",IF(VLOOKUP(B96,'Zebrik W'!$B$7:$L$1001,11,0)=0,\"--\",VLOOKUP(B96,'Zebrik W'!$B$7:$L$1001,11,0)))","v":""}]
[91,"Tomas Talanda",1988,"M","Křižanov","CZ/M",21321,3,"","",null,null,{"$f":"IF(ISERROR(VLOOKUP(B97,'Zebrik W'!$B$7:$L$1001,11,0)),\"\",IF(VLOOKUP(B97,'Zebrik W'!$B$7:$L$1001,11,0)=0,\"--\",VLOOKUP(B97,'Zebrik W'!$B$7:$L$1001,11,0)))","v":""}]
[92,"Wolfgang Sluka",1942,"M","Liberec","CZ/C2",21308,3,"","",null,null,{"$f":"IF(ISERROR(VLOOKUP(B98,'Zebrik W'!$B$7:$L$1001,11,0)),\"\",IF(VLOOKUP(B98,'Zebrik W'!$B$7:$L$1001,11,0)=0,\"--\",VLOOKUP(B98,'Zebrik W'!$B$7:$L$1001,11,0)))","v":""}]
[93,"Petr Stepanek",1989,"M","Moravská Třebová","CZ/M",21182,3,"","",null,null,{"$f":"IF(ISERROR(VLOOKUP(B99,'Zebrik W'!$B$7:$L$1001,11,0)),\"\",IF(VLOOKUP(B99,'Zebrik W'!$B$7:$L$1001,11,0)=0,\"--\",VLOOKUP(B99,'Zebrik W'!$B$7:$L$1001,11,0)))","v":""}]
[94,"Jan Vozeh",1995,"M","Rakovník","CZ/C1",21151,3,"","",null,null,{"$f":"IF(ISERROR(VLOOKUP(B100,'Zebrik W'!$B$7:$L$1001,11,0)),\"\",IF(VLOOKUP(B100,'Zebrik W'!$B$7:$L$1001,11,0)=0,\"--\",VLOOKUP(B100,'Zebrik W'!$B$7:$L$1001,11,0)))","v":""}]
[95,"Tomas Jilek",1995,"M","Raná","CZ/C2",21060,3,"","",null,null,{"$f":"IF(ISERROR(VLOOKUP(B101,'Zebrik W'!$B$7:$L$1001,11,0)),\"\",IF(VLOOKUP(B101,'Zebrik W'!$B$7:$L$1001,11,0)=0,\"--\",VLOOKUP(B101,'Zebrik W'!$B$7:$L$1001,11,0)))","v":""}]
[96,"Jakub Kmosek",1978,"M","Zbraslavice","CZ/C1",20986,3,"","",null,null,{"$f":"IF(ISERROR(VLOOKUP(B102,'Zebrik W'!$B$7:$L$1001,11,0)),\"\",IF(VLOOKUP(B102,'Zebrik W'!$B$7:$L$1001,11,0)=0,\"--\",VLOOKUP(B102,'Zebrik W'!$B$7:$L$1001,11,0)))","v":""}]
[97,"Jan Smaha",1958,"M","Česká Lípa","CZ/C2",20828,3,"","",null,null,{"$f":"IF(ISERROR(VLOOKUP(B103,'Zebrik W'!$B$7:$L$1001,11,0)),\"\",IF(VLOOKUP(B103,'Zebrik W'!$B$7:$L$1001,11,0)=0,\"--\",VLOOKUP(B103,'Zebrik W'!$B$7:$L$1001,11,0)))","v":""}]
[98,"Milan Dvorak",1965,"M","Liberec","CZ/C2",20591,3,"","",null,null,{"$f":"IF(ISERROR(VLOOKUP(B104,'Zebrik W'!$B$7:$L$1001,11,0)),\"\",IF(VLOOKUP(B104,'Zebrik W'!$B$7:$L$1001,11,0)=0,\"--\",VLOOKUP(B104,'Zebrik W'!$B$7:$L$1001,11,0)))","v":""}]
[99,"Slavomir Valecko",1960,"M","Hranice","CZ/M",20456,3,"","",null,null,{"$f":"IF(ISERROR(VLOOKUP(B105,'Zebrik W'!$B$7:$L$1001,11,0)),\"\",IF(VLOOKUP(B105,'Zebrik W'!$B$7:$L$1001,11,0)=0,\"--\",VLOOKUP(B105,'Zebrik W'!$B$7:$L$1001,11,0)))","v":""}]
[100,"Miloslav Hulmak",1963,"M","Hosín","CZ/C1",20371,3,"","",null,null,{"$f":"IF(ISERROR(VLOOKUP(B106,'Zebrik W'!$B$7:$L$1001,11,0)),\"\",IF(VLOOKUP(B106,'Zebrik W'!$B$7:$L$1001,11,0)=0,\"--\",VLOOKUP(B106,'Zebrik W'!$B$7:$L$1001,11,0)))","v":""}]
[101,"Ladislav Jozsa",1981,"M","Medlánky","CZ/M",20278,3,"","",null,null,{"$f":"IF(ISERROR(VLOOKUP(B107,'Zebrik W'!$B$7:$L$1001,11,0)),\"\",IF(VLOOKUP(B107,'Zebrik W'!$B$7:$L$1001,11,0)=0,\"--\",VLOOKUP(B107,'Zebrik W'!$B$7:$L$1001,11,0)))","v":""}]
[102,"Michaela Krizova",2001,"F","Přibyslav","CZ/C2",20248,3,{"$f":"IF(C108=\"(prázdné)\",\"\",IF(($I$4-C108)>25,\"\",\"Junior v roce \"&$I$4))","v":"Junior v roce 2021"},{"$f":"IF(C108=\"(prázdné)\",\"\",IF(($J$4-C108)>25,\"\",\"Junior v roce \"&$J$4))","v":"Junior v roce 2022"},null,"RV 2021",{"$f":"IF(ISERROR(VLOOKUP(B108,'Zebrik W'!$B$7:$L$1001,11,0)),\"\",IF(VLOOKUP(B108,'Zebrik W'!$B$7:$L$1001,11,0)=0,\"--\",VLOOKUP(B108,'Zebrik W'!$B$7:$L$1001,11,0)))","v":"--"}]
[103,"Jan Kohout",1970,"M","Žamberk","CZ/C2",20127,3,"","",null,null,{"$f":"IF(ISERROR(VLOOKUP(B109,'Zebrik W'!$B$7:$L$1001,11,0)),\"\",IF(VLOOKUP(B109,'Zebrik W'!$B$7:$L$1001,11,0)=0,\"--\",VLOOKUP(B109,'Zebrik W'!$B$7:$L$1001,11,0)))","v":""}]
[104,"David Vrchota",1976,"M","Jaroměř","CZ/C2",20109,3,"","",null,null,{"$f":"IF(ISERROR(VLOOKUP(B110,'Zebrik W'!$B$7:$L$1001,11,0)),\"\",IF(VLOOKUP(B110,'Zebrik W'!$B$7:$L$1001,11,0)=0,\"--\",VLOOKUP(B110,'Zebrik W'!$B$7:$L$1001,11,0)))","v":""}]
[105,"Frantisek Filandr",1956,"M","Most","CZ/C2",20104,3,"","",null,null,{"$f":"IF(ISERROR(VLOOKUP(B111,'Zebrik W'!$B$7:$L$1001,11,0)),\"\",IF(VLOOKUP(B111,'Zebrik W'!$B$7:$L$1001,11,0)=0,\"--\",VLOOKUP(B111,'Zebrik W'!$B$7:$L$1001,11,0)))","v":""}]
[106,"Jiri Holcman",1976,"M","Hosín","CZ/C1",19930,3,"","",null,null,{"$f":"IF(ISERROR(VLOOKUP(B112,'Zebrik W'!$B$7:$L$1001,11,0)),\"\",IF(VLOOKUP(B112,'Zebrik W'!$B$7:$L$1001,11,0)=0,\"--\",VLOOKUP(B112,'Zebrik W'!$B$7:$L$1001,11,0)))","v":""}]
[107,"Jan Hybner",1977,"M","Liberec","CZ/C2",19718,3,"","",null,null,{"$f":"IF(ISERROR(VLOOKUP(B113,'Zebrik W'!$B$7:$L$1001,11,0)),\"\",IF(VLOOKUP(B113,'Zebrik W'!$B$7:$L$1001,11,0)=0,\"--\",VLOOKUP(B113,'Zebrik W'!$B$7:$L$1001,11,0)))","v":""}]
[108,"Martin Urban",1971,"M","Frýdlant","CZ/M",19656,3,"","",null,null,{"$f":"IF(ISERROR(VLOOKUP(B114,'Zebrik W'!$B$7:$L$1001,11,0)),\"\",IF(VLOOKUP(B114,'Zebrik W'!$B$7:$L$1001,11,0)=0,\"--\",VLOOKUP(B114,'Zebrik W'!$B$7:$L$1001,11,0)))","v":""}]
[109,"Jiri Maier 66",1966,"M","Raná","CZ/C2",19627,3,"","",null,null,{"$f":"IF(ISERROR(VLOOKUP(B115,'Zebrik W'!$B$7:$L$1001,11,0)),\"\",IF(VLOOKUP(B115,'Zebrik W'!$B$7:$L$1001,11,0)=0,\"--\",VLOOKUP(B115,'Zebrik W'!$B$7:$L$1001,11,0)))","v":""}]
[110,"Jindrich Hruska",1986,"M","Soběslav","CZ/C1",19432,3,"","",null,null,{"$f":"IF(ISERROR(VLOOKUP(B116,'Zebrik W'!$B$7:$L$1001,11,0)),\"\",IF(VLOOKUP(B116,'Zebrik W'!$B$7:$L$1001,11,0)=0,\"--\",VLOOKUP(B116,'Zebrik W'!$B$7:$L$1001,11,0)))","v":""}]
[111,"Jan Hruska",1988,"M","Tábor","CZ/C1",19431,3,"","",null,null,{"$f":"IF(ISERROR(VLOOKUP(B117,'Zebrik W'!$B$7:$L$1001,11,0)),\"\",IF(VLOOKUP(B117,'Zebrik W'!$B$7:$L$1001,11,0)=0,\"--\",VLOOKUP(B117,'Zebrik W'!$B$7:$L$1001,11,0)))","v":""}]
[112,"Petr Bartak",1984,"M","Letkov","CZ/C1",19424,3,"","",null,null,{"$f":"IF(ISERROR(VLOOKUP(B118,'Zebrik W'!$B$7:$L$1001,11,0)),\"\",IF(VLOOKUP(B118,'Zebrik W'!$B$7:$L$1001,11,0)=0,\"--\",VLOOKUP(B118,'Zebrik W'!$B$7:$L$1001,11,0)))","v":""}]
[113,"Pavlina Horackova",1965,"F","Šumperk","CZ/M",19414,3,"","",null,null,{"$f":"IF(ISERROR(VLOOKUP(B119,'Zebrik W'!$B$7:$L$1001,11,0)),\"\",IF(VLOOKUP(B119,'Zebrik W'!$B$7:$L$1001,11,0)=0,\"--\",VLOOKUP(B119,'Zebrik W'!$B$7:$L$1001,11,0)))","v":"--"}]
[114,"Ivan Harasta 98",1998,"M","Toužim","CZ/C1",19379,3,"Junior v roce 2021","Junior v roce 2022",null,null,{"$f":"IF(ISERROR(VLOOKUP(B120,'Zebrik W'!$B$7:$L$1001,11,0)),\"\",IF(VLOOKUP(B120,'Zebrik W'!$B$7:$L$1001,11,0)=0,\"--\",VLOOKUP(B120,'Zebrik W'!$B$7:$L$1001,11,0)))","v":""}]
[115,"Tomas Kulhavy",2001,"M","Liberec","CZ/C2",19343,3,"Junior v roce 2021","Junior v roce 2022",null,null,{"$f":"IF(ISERROR(VLOOKUP(B121,'Zebrik W'!$B$7:$L$1001,11,0)),\"\",IF(VLOOKUP(B121,'Zebrik W'!$B$7:$L$1001,11,0)=0,\"--\",VLOOKUP(B121,'Zebrik W'!$B$7:$L$1001,11,0)))","v":""}]
[116,"Jan Stastny",2003,"M","Medlánky","CZ/M",19293,3,"Junior v roce 2021","Junior v roce 2022",null,null,{"$f":"IF(ISERROR(VLOOKUP(B122,'Zebrik W'!$B$7:$L$1001,11,0)),\"\",IF(VLOOKUP(B122,'Zebrik W'!$B$7:$L$1001,11,0)=0,\"--\",VLOOKUP(B122,'Zebrik W'!$B$7:$L$1001,11,0)))","v":""}]
[117,"Milos Pajr",1966,"M","Jičín","CZ/C2",19286,3,"","",null,null,{"$f":"IF(ISERROR(VLOOKUP(B123,'Zebrik W'!$B$7:$L$1001,11,0)),\"\",IF(VLOOKUP(B123,'Zebrik W'!$B$7:$L$1001,11,0)=0,\"--\",VLOOKUP(B123,'Zebrik W'!$B$7:$L$1001,11,0)))","v":""}]
[118,"Radek Zima 78",1978,"M","Hodkovice","CZ/C2",19182,3,"","",null,null,{"$f":"IF(ISERROR(VLOOKUP(B124,'Zebrik W'!$B$7:$L$1001,11,0)),\"\",IF(VLOOKUP(B124,'Zebrik W'!$B$7:$L$1001,11,0)=0,\"--\",VLOOKUP(B124,'Zebrik W'!$B$7:$L$1001,11,0)))","v":""}]
[119,"Petr Lonsky",1965,"M","Toužim","CZ/C1",19169,3,"","",null,null,{"$f":"IF(ISERROR(VLOOKUP(B125,'Zebrik W'!$B$7:$L$1001,11,0)),\"\",IF(VLOOKUP(B125,'Zebrik W'!$B$7:$L$1001,11,0)=0,\"--\",VLOOKUP(B125,'Zebrik W'!$B$7:$L$1001,11,0)))","v":""}]
[120,"Jiri Koudela",1974,"M","Vyškov","CZ/M",19165,3,"","",null,null,{"$f":"IF(ISERROR(VLOOKUP(B126,'Zebrik W'!$B$7:$L$1001,11,0)),\"\",IF(VLOOKUP(B126,'Zebrik W'!$B$7:$L$1001,11,0)=0,\"--\",VLOOKUP(B126,'Zebrik W'!$B$7:$L$1001,11,0)))","v":""}]
[121,"Vaclav Kult",1973,"M","Broumov","CZ/C2",19148,3,"","",null,null,{"$f":"IF(ISERROR(VLOOKUP(B127,'Zebrik W'!$B$7:$L$1001,11,0)),\"\",IF(VLOOKUP(B127,'Zebrik W'!$B$7:$L$1001,11,0)=0,\"--\",VLOOKUP(B127,'Zebrik W'!$B$7:$L$1001,11,0)))","v":""}]
[122,"Libor Bednarik",1972,"M","Kunovice","CZ/M",19128,3,"","",null,null,{"$f":"IF(ISERROR(VLOOKUP(B128,'Zebrik W'!$B$7:$L$1001,11,0)),\"\",IF(VLOOKUP(B128,'Zebrik W'!$B$7:$L$1001,11,0)=0,\"--\",VLOOKUP(B128,'Zebrik W'!$B$7:$L$1001,11,0)))","v":""}]
[123,"Marek Svancara",1976,"M","GAC Benešov","CZ/C1",19121,3,"","",null,null,{"$f":"IF(ISERROR(VLOOKUP(B129,'Zebrik W'!$B$7:$L$1001,11,0)),\"\",IF(VLOOKUP(B129,'Zebrik W'!$B$7:$L$1001,11,0)=0,\"--\",VLOOKUP(B129,'Zebrik W'!$B$7:$L$1001,11,0)))","v":""}]
[124,"Ondrej Dvorak 98",1998,"M","Mladá Boleslav","CZ/C1",19043,3,"Junior v roce 2021","Junior v roce 2022",null,null,{"$f":"IF(ISERROR(VLOOKUP(B130,'Zebrik W'!$B$7:$L$1001,11,0)),\"\",IF(VLOOKUP(B130,'Zebrik W'!$B$7:$L$1001,11,0)=0,\"--\",VLOOKUP(B130,'Zebrik W'!$B$7:$L$1001,11,0)))","v":""}]
[125,"Jiri Prochazka",1971,"M","Toužim","CZ/C1",19030,3,"","",null,null,{"$f":"IF(ISERROR(VLOOKUP(B131,'Zebrik W'!$B$7:$L$1001,11,0)),\"\",IF(VLOOKUP(B131,'Zebrik W'!$B$7:$L$1001,11,0)=0,\"--\",VLOOKUP(B131,'Zebrik W'!$B$7:$L$1001,11,0)))","v":""}]
[126,"Miroslav Sklenar",1964,"M","Žamberk","CZ/C2",18926,3,"","",null,null,{"$f":"IF(ISERROR(VLOOKUP(B132,'Zebrik W'!$B$7:$L$1001,11,0)),\"\",IF(VLOOKUP(B132,'Zebrik W'!$B$7:$L$1001,11,0)=0,\"--\",VLOOKUP(B132,'Zebrik W'!$B$7:$L$1001,11,0)))","v":""}]
[127,"Vladimir Hammer",2000,"M","Letkov","CZ/C1",18832,3,"Junior v roce 2021","Junior v roce 2022",null,null,{"$f":"IF(ISERROR(VLOOKUP(B133,'Zebrik W'!$B$7:$L$1001,11,0)),\"\",IF(VLOOKUP(B133,'Zebrik W'!$B$7:$L$1001,11,0)=0,\"--\",VLOOKUP(B133,'Zebrik W'!$B$7:$L$1001,11,0)))","v":""}]
[128,"Milan Meisner",1961,"M","Dvůr Králové","CZ/C2",18827,3,"","",null,null,{"$f":"IF(ISERROR(VLOOKUP(B134,'Zebrik W'!$B$7:$L$1001,11,0)),\"\",IF(VLOOKUP(B134,'Zebrik W'!$B$7:$L$1001,11,0)=0,\"--\",VLOOKUP(B134,'Zebrik W'!$B$7:$L$1001,11,0)))","v":""}]
[{"$f":"RANK(G135,G:G)","v":129},"Frantisek Myska",1968,"M","Most","CZ/C2",18686,3,"","",null,null,{"$f":"IF(ISERROR(VLOOKUP(B135,'Zebrik W'!$B$7:$L$1001,11,0)),\"\",IF(VLOOKUP(B135,'Zebrik W'!$B$7:$L$1001,11,0)=0,\"--\",VLOOKUP(B135,'Zebrik W'!$B$7:$L$1001,11,0)))","v":""}]
[130,"Tomas Hulmak",1999,"M","Hosín","CZ/C1",18671,3,"Junior v roce 2021","Junior v roce 2022",null,null,{"$f":"IF(ISERROR(VLOOKUP(B136,'Zebrik W'!$B$7:$L$1001,11,0)),\"\",IF(VLOOKUP(B136,'Zebrik W'!$B$7:$L$1001,11,0)=0,\"--\",VLOOKUP(B136,'Zebrik W'!$B$7:$L$1001,11,0)))","v":""}]
[131,"Ondrej Teichman",1984,"M","Dvůr Králové","CZ/C2",18571,3,"","",null,null,{"$f":"IF(ISERROR(VLOOKUP(B137,'Zebrik W'!$B$7:$L$1001,11,0)),\"\",IF(VLOOKUP(B137,'Zebrik W'!$B$7:$L$1001,11,0)=0,\"--\",VLOOKUP(B137,'Zebrik W'!$B$7:$L$1001,11,0)))","v":""}]
[132,"Jan Zezula",1979,"M","Letňany","CZ/C1",18390,3,"","",null,null,{"$f":"IF(ISERROR(VLOOKUP(B138,'Zebrik W'!$B$7:$L$1001,11,0)),\"\",IF(VLOOKUP(B138,'Zebrik W'!$B$7:$L$1001,11,0)=0,\"--\",VLOOKUP(B138,'Zebrik W'!$B$7:$L$1001,11,0)))","v":""}]
[133,"Roman Lanzendorf",1964,"M","Letkov","CZ/C1",18289,3,"","",null,null,{"$f":"IF(ISERROR(VLOOKUP(B139,'Zebrik W'!$B$7:$L$1001,11,0)),\"\",IF(VLOOKUP(B139,'Zebrik W'!$B$7:$L$1001,11,0)=0,\"--\",VLOOKUP(B139,'Zebrik W'!$B$7:$L$1001,11,0)))","v":""}]
[134,"Vojtech Hajek",1987,"M","Mladá Boleslav","CZ/C1",17921,3,"","",null,null,{"$f":"IF(ISERROR(VLOOKUP(B140,'Zebrik W'!$B$7:$L$1001,11,0)),\"\",IF(VLOOKUP(B140,'Zebrik W'!$B$7:$L$1001,11,0)=0,\"--\",VLOOKUP(B140,'Zebrik W'!$B$7:$L$1001,11,0)))","v":""}]
[135,"Pavel Derda",1952,"M","Dvůr Králové","CZ/C2",17915,3,"","",null,null,{"$f":"IF(ISERROR(VLOOKUP(B141,'Zebrik W'!$B$7:$L$1001,11,0)),\"\",IF(VLOOKUP(B141,'Zebrik W'!$B$7:$L$1001,11,0)=0,\"--\",VLOOKUP(B141,'Zebrik W'!$B$7:$L$1001,11,0)))","v":""}]
[136,"Josef Novotny",1983,"M","Přibyslav","CZ/C2",17899,2,"","",null,null,{"$f":"IF(ISERROR(VLOOKUP(B142,'Zebrik W'!$B$7:$L$1001,11,0)),\"\",IF(VLOOKUP(B142,'Zebrik W'!$B$7:$L$1001,11,0)=0,\"--\",VLOOKUP(B142,'Zebrik W'!$B$7:$L$1001,11,0)))","v":""}]
[137,"Martin Valenta",1969,"M","Toužim","CZ/C1",17832,3,"","",null,null,{"$f":"IF(ISERROR(VLOOKUP(B143,'Zebrik W'!$B$7:$L$1001,11,0)),\"\",IF(VLOOKUP(B143,'Zebrik W'!$B$7:$L$1001,11,0)=0,\"--\",VLOOKUP(B143,'Zebrik W'!$B$7:$L$1001,11,0)))","v":""}]
[138,"Martin Koci",1975,"M","Ústí nad Orlicí","CZ/C2",17737,3,"","",null,null,{"$f":"IF(ISERROR(VLOOKUP(B144,'Zebrik W'!$B$7:$L$1001,11,0)),\"\",IF(VLOOKUP(B144,'Zebrik W'!$B$7:$L$1001,11,0)=0,\"--\",VLOOKUP(B144,'Zebrik W'!$B$7:$L$1001,11,0)))","v":""}]
[139,"Petr Jiranek 63",1962,"M","Toužim","CZ/C1",17561,3,"","",null,null,{"$f":"IF(ISERROR(VLOOKUP(B145,'Zebrik W'!$B$7:$L$1001,11,0)),\"\",IF(VLOOKUP(B145,'Zebrik W'!$B$7:$L$1001,11,0)=0,\"--\",VLOOKUP(B145,'Zebrik W'!$B$7:$L$1001,11,0)))","v":""}]
[140,"Ladislav Prokes",1954,"M","Vrchlabí","CZ/C2",17519,3,"","",null,null,{"$f":"IF(ISERROR(VLOOKUP(B146,'Zebrik W'!$B$7:$L$1001,11,0)),\"\",IF(VLOOKUP(B146,'Zebrik W'!$B$7:$L$1001,11,0)=0,\"--\",VLOOKUP(B146,'Zebrik W'!$B$7:$L$1001,11,0)))","v":""}]
[141,"Martin Ficnar",1971,"M","Šumperk","CZ/M",17427,2,"","",null,null,{"$f":"IF(ISERROR(VLOOKUP(B147,'Zebrik W'!$B$7:$L$1001,11,0)),\"\",IF(VLOOKUP(B147,'Zebrik W'!$B$7:$L$1001,11,0)=0,\"--\",VLOOKUP(B147,'Zebrik W'!$B$7:$L$1001,11,0)))","v":""}]
[142,"Lukas Maly",1998,"M","Vysoké Mýto","CZ/C2",17368,3,"Junior v roce 2021","Junior v roce 2022",null,null,{"$f":"IF(ISERROR(VLOOKUP(B148,'Zebrik W'!$B$7:$L$1001,11,0)),\"\",IF(VLOOKUP(B148,'Zebrik W'!$B$7:$L$1001,11,0)=0,\"--\",VLOOKUP(B148,'Zebrik W'!$B$7:$L$1001,11,0)))","v":""}]
[143,"Michal Kodousek",1983,"M","Jaroměř","CZ/C2",17297,2,"","",null,null,{"$f":"IF(ISERROR(VLOOKUP(B149,'Zebrik W'!$B$7:$L$1001,11,0)),\"\",IF(VLOOKUP(B149,'Zebrik W'!$B$7:$L$1001,11,0)=0,\"--\",VLOOKUP(B149,'Zebrik W'!$B$7:$L$1001,11,0)))","v":""}]
[144,"Martin Cicvarek",1966,"M","Liberec","CZ/C2",17228,3,"","",null,null,{"$f":"IF(ISERROR(VLOOKUP(B150,'Zebrik W'!$B$7:$L$1001,11,0)),\"\",IF(VLOOKUP(B150,'Zebrik W'!$B$7:$L$1001,11,0)=0,\"--\",VLOOKUP(B150,'Zebrik W'!$B$7:$L$1001,11,0)))","v":""}]
[145,"Jan Oscatka",1990,"M","Jaroměř","CZ/C2",17223,3,"","",null,null,{"$f":"IF(ISERROR(VLOOKUP(B151,'Zebrik W'!$B$7:$L$1001,11,0)),\"\",IF(VLOOKUP(B151,'Zebrik W'!$B$7:$L$1001,11,0)=0,\"--\",VLOOKUP(B151,'Zebrik W'!$B$7:$L$1001,11,0)))","v":""}]
[146,"Jiri Slemr",1979,"M","Vysoké Mýto","CZ/C2",17207,3,"","",null,null,{"$f":"IF(ISERROR(VLOOKUP(B152,'Zebrik W'!$B$7:$L$1001,11,0)),\"\",IF(VLOOKUP(B152,'Zebrik W'!$B$7:$L$1001,11,0)=0,\"--\",VLOOKUP(B152,'Zebrik W'!$B$7:$L$1001,11,0)))","v":""}]
[147,"Jaroslav Sima",1972,"M","Chomutov","CZ/C2",17188,3,"","",null,null,{"$f":"IF(ISERROR(VLOOKUP(B153,'Zebrik W'!$B$7:$L$1001,11,0)),\"\",IF(VLOOKUP(B153,'Zebrik W'!$B$7:$L$1001,11,0)=0,\"--\",VLOOKUP(B153,'Zebrik W'!$B$7:$L$1001,11,0)))","v":""}]
[148,"Eva Cerna",1964,"F","Příbram","CZ/C1",17187,3,"","",null,null,{"$f":"IF(ISERROR(VLOOKUP(B154,'Zebrik W'!$B$7:$L$1001,11,0)),\"\",IF(VLOOKUP(B154,'Zebrik W'!$B$7:$L$1001,11,0)=0,\"--\",VLOOKUP(B154,'Zebrik W'!$B$7:$L$1001,11,0)))","v":"--"}]
[149,"Petr Starek",1974,"M","Zbraslavice","CZ/C1",17136,3,"","",null,null,{"$f":"IF(ISERROR(VLOOKUP(B155,'Zebrik W'!$B$7:$L$1001,11,0)),\"\",IF(VLOOKUP(B155,'Zebrik W'!$B$7:$L$1001,11,0)=0,\"--\",VLOOKUP(B155,'Zebrik W'!$B$7:$L$1001,11,0)))","v":""}]
[150,"Lukas Plocek",1990,"M","Mladá Boleslav","CZ/C1",17124,3,"","",null,null,{"$f":"IF(ISERROR(VLOOKUP(B156,'Zebrik W'!$B$7:$L$1001,11,0)),\"\",IF(VLOOKUP(B156,'Zebrik W'!$B$7:$L$1001,11,0)=0,\"--\",VLOOKUP(B156,'Zebrik W'!$B$7:$L$1001,11,0)))","v":""}]
[151,"Martin Picka",1974,"M","Tábor","CZ/C1",17057,3,"","",null,null,{"$f":"IF(ISERROR(VLOOKUP(B157,'Zebrik W'!$B$7:$L$1001,11,0)),\"\",IF(VLOOKUP(B157,'Zebrik W'!$B$7:$L$1001,11,0)=0,\"--\",VLOOKUP(B157,'Zebrik W'!$B$7:$L$1001,11,0)))","v":""}]
[152,"Tomas Profeld",1964,"M","Jičín","CZ/C2",17030,3,"","",null,null,{"$f":"IF(ISERROR(VLOOKUP(B158,'Zebrik W'!$B$7:$L$1001,11,0)),\"\",IF(VLOOKUP(B158,'Zebrik W'!$B$7:$L$1001,11,0)=0,\"--\",VLOOKUP(B158,'Zebrik W'!$B$7:$L$1001,11,0)))","v":""}]
[153,"Petr Hofman",1984,"M","Letňany","CZ/C1",16948,2,"","",null,null,{"$f":"IF(ISERROR(VLOOKUP(B159,'Zebrik W'!$B$7:$L$1001,11,0)),\"\",IF(VLOOKUP(B159,'Zebrik W'!$B$7:$L$1001,11,0)=0,\"--\",VLOOKUP(B159,'Zebrik W'!$B$7:$L$1001,11,0)))","v":""}]
[154,"Jaromir Vlk",1959,"M","Šumperk","CZ/M",16896,3,"","",null,null,{"$f":"IF(ISERROR(VLOOKUP(B160,'Zebrik W'!$B$7:$L$1001,11,0)),\"\",IF(VLOOKUP(B160,'Zebrik W'!$B$7:$L$1001,11,0)=0,\"--\",VLOOKUP(B160,'Zebrik W'!$B$7:$L$1001,11,0)))","v":""}]
[155,"Tomas Moravec",2000,"M","Žamberk","CZ/C2",16828,3,"Junior v roce 2021","Junior v roce 2022",null,null,{"$f":"IF(ISERROR(VLOOKUP(B161,'Zebrik W'!$B$7:$L$1001,11,0)),\"\",IF(VLOOKUP(B161,'Zebrik W'!$B$7:$L$1001,11,0)=0,\"--\",VLOOKUP(B161,'Zebrik W'!$B$7:$L$1001,11,0)))","v":""}]
[156,"Petr Babak",1973,"M","Hořice","CZ/C2",16802,3,"","",null,null,{"$f":"IF(ISERROR(VLOOKUP(B162,'Zebrik W'!$B$7:$L$1001,11,0)),\"\",IF(VLOOKUP(B162,'Zebrik W'!$B$7:$L$1001,11,0)=0,\"--\",VLOOKUP(B162,'Zebrik W'!$B$7:$L$1001,11,0)))","v":""}]
[157,"Jiri Maier 99",1999,"M","Raná","CZ/C2",16770,3,"Junior v roce 2021","Junior v roce 2022",null,null,{"$f":"IF(ISERROR(VLOOKUP(B163,'Zebrik W'!$B$7:$L$1001,11,0)),\"\",IF(VLOOKUP(B163,'Zebrik W'!$B$7:$L$1001,11,0)=0,\"--\",VLOOKUP(B163,'Zebrik W'!$B$7:$L$1001,11,0)))","v":""}]
[158,"Katerina Vojtova",1983,"F","Slaný","CZ/C1",16756,3,"","",null,null,{"$f":"IF(ISERROR(VLOOKUP(B164,'Zebrik W'!$B$7:$L$1001,11,0)),\"\",IF(VLOOKUP(B164,'Zebrik W'!$B$7:$L$1001,11,0)=0,\"--\",VLOOKUP(B164,'Zebrik W'!$B$7:$L$1001,11,0)))","v":"--"}]
[159,"Petr Fisar",1974,"M","Ústí nad Orlicí","CZ/C2",16726,3,"","",null,null,{"$f":"IF(ISERROR(VLOOKUP(B165,'Zebrik W'!$B$7:$L$1001,11,0)),\"\",IF(VLOOKUP(B165,'Zebrik W'!$B$7:$L$1001,11,0)=0,\"--\",VLOOKUP(B165,'Zebrik W'!$B$7:$L$1001,11,0)))","v":""}]
[160,"Tomas Mezera",1973,"M","Raná","CZ/C2",16524,3,"","",null,null,{"$f":"IF(ISERROR(VLOOKUP(B166,'Zebrik W'!$B$7:$L$1001,11,0)),\"\",IF(VLOOKUP(B166,'Zebrik W'!$B$7:$L$1001,11,0)=0,\"--\",VLOOKUP(B166,'Zebrik W'!$B$7:$L$1001,11,0)))","v":""}]
[161,"David Popovsky",1976,"M","Rakovník","CZ/C1",16487,3,"","",null,null,{"$f":"IF(ISERROR(VLOOKUP(B167,'Zebrik W'!$B$7:$L$1001,11,0)),\"\",IF(VLOOKUP(B167,'Zebrik W'!$B$7:$L$1001,11,0)=0,\"--\",VLOOKUP(B167,'Zebrik W'!$B$7:$L$1001,11,0)))","v":""}]
[162,"Michaela Rendlova",2004,"F","Toužim","CZ/C1",16480,3,"Junior v roce 2021","Junior v roce 2022",null,null,{"$f":"IF(ISERROR(VLOOKUP(B168,'Zebrik W'!$B$7:$L$1001,11,0)),\"\",IF(VLOOKUP(B168,'Zebrik W'!$B$7:$L$1001,11,0)=0,\"--\",VLOOKUP(B168,'Zebrik W'!$B$7:$L$1001,11,0)))","v":"--"}]
[163,"Jan Beran",1999,"M","Kladno","CZ/C1",16426,3,"Junior v roce 2021","Junior v roce 2022",null,null,{"$f":"IF(ISERROR(VLOOKUP(B169,'Zebrik W'!$B$7:$L$1001,11,0)),\"\",IF(VLOOKUP(B169,'Zebrik W'!$B$7:$L$1001,11,0)=0,\"--\",VLOOKUP(B169,'Zebrik W'!$B$7:$L$1001,11,0)))","v":""}]
[164,"Peter Kaspar",1980,"M","Vyškov","CZ/M",16386,3,"","",null,null,{"$f":"IF(ISERROR(VLOOKUP(B170,'Zebrik W'!$B$7:$L$1001,11,0)),\"\",IF(VLOOKUP(B170,'Zebrik W'!$B$7:$L$1001,11,0)=0,\"--\",VLOOKUP(B170,'Zebrik W'!$B$7:$L$1001,11,0)))","v":""}]
[165,"Dalibor Pek",1968,"M","Raná","CZ/C2",16380,3,"","",null,null,{"$f":"IF(ISERROR(VLOOKUP(B171,'Zebrik W'!$B$7:$L$1001,11,0)),\"\",IF(VLOOKUP(B171,'Zebrik W'!$B$7:$L$1001,11,0)=0,\"--\",VLOOKUP(B171,'Zebrik W'!$B$7:$L$1001,11,0)))","v":""}]
[166,"Petr Rozhon",1972,"M","Hosín","CZ/C1",16347,3,{"$f":"IF(C172=\"(prázdné)\",\"\",IF(($I$4-C172)>25,\"\",\"Junior v roce \"&$I$4))","v":""},{"$f":"IF(C172=\"(prázdné)\",\"\",IF(($J$4-C172)>25,\"\",\"Junior v roce \"&$J$4))","v":""},null,null,{"$f":"IF(ISERROR(VLOOKUP(B172,'Zebrik W'!$B$7:$L$1001,11,0)),\"\",IF(VLOOKUP(B172,'Zebrik W'!$B$7:$L$1001,11,0)=0,\"--\",VLOOKUP(B172,'Zebrik W'!$B$7:$L$1001,11,0)))","v":""}]
[167,"Michal Cechmanek",1978,"M","Luhačovice","CZ/M",16175,2,"","",null,null,{"$f":"IF(ISERROR(VLOOKUP(B173,'Zebrik W'!$B$7:$L$1001,11,0)),\"\",IF(VLOOKUP(B173,'Zebrik W'!$B$7:$L$1001,11,0)=0,\"--\",VLOOKUP(B173,'Zebrik W'!$B$7:$L$1001,11,0)))","v":""}]
[168,"Jaromir Hendrych",1954,"M","Raná","CZ/C2",16054,3,"","",null,null,{"$f":"IF(ISERROR(VLOOKUP(B174,'Zebrik W'!$B$7:$L$1001,11,0)),\"\",IF(VLOOKUP(B174,'Zebrik W'!$B$7:$L$1001,11,0)=0,\"--\",VLOOKUP(B174,'Zebrik W'!$B$7:$L$1001,11,0)))","v":""}]
[169,"Josef Novak",1981,"M","Kunovice","CZ/M",15875,2,"","",null,null,{"$f":"IF(ISERROR(VLOOKUP(B175,'Zebrik W'!$B$7:$L$1001,11,0)),\"\",IF(VLOOKUP(B175,'Zebrik W'!$B$7:$L$1001,11,0)=0,\"--\",VLOOKUP(B175,'Zebrik W'!$B$7:$L$1001,11,0)))","v":""}]
[170,"Daniel Novak",1971,"M","Letkov","CZ/C1",15831,2,"","",null,null,{"$f":"IF(ISERROR(VLOOKUP(B176,'Zebrik W'!$B$7:$L$1001,11,0)),\"\",IF(VLOOKUP(B176,'Zebrik W'!$B$7:$L$1001,11,0)=0,\"--\",VLOOKUP(B176,'Zebrik W'!$B$7:$L$1001,11,0)))","v":""}]
[171,"Josef Hlusek",1993,"M","Kunovice","CZ/M",15576,3,"","",null,null,{"$f":"IF(ISERROR(VLOOKUP(B177,'Zebrik W'!$B$7:$L$1001,11,0)),\"\",IF(VLOOKUP(B177,'Zebrik W'!$B$7:$L$1001,11,0)=0,\"--\",VLOOKUP(B177,'Zebrik W'!$B$7:$L$1001,11,0)))","v":""}]
[172,"Pavel Zima",1979,"M","Břeclav","CZ/M",15481,2,"","",null,null,{"$f":"IF(ISERROR(VLOOKUP(B178,'Zebrik W'!$B$7:$L$1001,11,0)),\"\",IF(VLOOKUP(B178,'Zebrik W'!$B$7:$L$1001,11,0)=0,\"--\",VLOOKUP(B178,'Zebrik W'!$B$7:$L$1001,11,0)))","v":""}]
[173,"Radoslav Pur",1973,"M","Hosín","CZ/C1",15364,3,"","",null,null,{"$f":"IF(ISERROR(VLOOKUP(B179,'Zebrik W'!$B$7:$L$1001,11,0)),\"\",IF(VLOOKUP(B179,'Zebrik W'!$B$7:$L$1001,11,0)=0,\"--\",VLOOKUP(B179,'Zebrik W'!$B$7:$L$1001,11,0)))","v":""}]
[174,"Krystof Mimra",1992,"M","Most","CZ/C2",15228,3,"","",null,null,{"$f":"IF(ISERROR(VLOOKUP(B180,'Zebrik W'!$B$7:$L$1001,11,0)),\"\",IF(VLOOKUP(B180,'Zebrik W'!$B$7:$L$1001,11,0)=0,\"--\",VLOOKUP(B180,'Zebrik W'!$B$7:$L$1001,11,0)))","v":""}]
[175,"Jiri Pelucha",1984,"M","Frýdlant","CZ/M",15220,3,"","",null,null,{"$f":"IF(ISERROR(VLOOKUP(B181,'Zebrik W'!$B$7:$L$1001,11,0)),\"\",IF(VLOOKUP(B181,'Zebrik W'!$B$7:$L$1001,11,0)=0,\"--\",VLOOKUP(B181,'Zebrik W'!$B$7:$L$1001,11,0)))","v":""}]
[176,"Eduard Svoboda",1957,"M","Raná","CZ/C2",15195,3,"","",null,null,{"$f":"IF(ISERROR(VLOOKUP(B182,'Zebrik W'!$B$7:$L$1001,11,0)),\"\",IF(VLOOKUP(B182,'Zebrik W'!$B$7:$L$1001,11,0)=0,\"--\",VLOOKUP(B182,'Zebrik W'!$B$7:$L$1001,11,0)))","v":""}]
[177,"Michal Hemrle",1974,"M","Česká Lípa","CZ/C2",15192,3,"","",null,null,{"$f":"IF(ISERROR(VLOOKUP(B183,'Zebrik W'!$B$7:$L$1001,11,0)),\"\",IF(VLOOKUP(B183,'Zebrik W'!$B$7:$L$1001,11,0)=0,\"--\",VLOOKUP(B183,'Zebrik W'!$B$7:$L$1001,11,0)))","v":""}]
[178,"Antonin Novotny",1972,"M","Luhačovice","CZ/M",15107,2,"","",null,null,{"$f":"IF(ISERROR(VLOOKUP(B184,'Zebrik W'!$B$7:$L$1001,11,0)),\"\",IF(VLOOKUP(B184,'Zebrik W'!$B$7:$L$1001,11,0)=0,\"--\",VLOOKUP(B184,'Zebrik W'!$B$7:$L$1001,11,0)))","v":""}]
[179,"Petr Kolomaznik",1981,"M","Šumperk","CZ/M",15100,2,"","",null,null,{"$f":"IF(ISERROR(VLOOKUP(B185,'Zebrik W'!$B$7:$L$1001,11,0)),\"\",IF(VLOOKUP(B185,'Zebrik W'!$B$7:$L$1001,11,0)=0,\"--\",VLOOKUP(B185,'Zebrik W'!$B$7:$L$1001,11,0)))","v":""}]
[180,"Jan Sustr 76",1976,"M","Raná","CZ/C2",15086,3,"","",null,null,{"$f":"IF(ISERROR(VLOOKUP(B186,'Zebrik W'!$B$7:$L$1001,11,0)),\"\",IF(VLOOKUP(B186,'Zebrik W'!$B$7:$L$1001,11,0)=0,\"--\",VLOOKUP(B186,'Zebrik W'!$B$7:$L$1001,11,0)))","v":""}]
[181,"Josef Kolman",1983,"M","Letňany","CZ/C1",15081,2,"","",null,null,{"$f":"IF(ISERROR(VLOOKUP(B187,'Zebrik W'!$B$7:$L$1001,11,0)),\"\",IF(VLOOKUP(B187,'Zebrik W'!$B$7:$L$1001,11,0)=0,\"--\",VLOOKUP(B187,'Zebrik W'!$B$7:$L$1001,11,0)))","v":""}]
[182,"Michal Krupicka",1975,"M","Most","CZ/C2",15075,2,"","",null,null,{"$f":"IF(ISERROR(VLOOKUP(B188,'Zebrik W'!$B$7:$L$1001,11,0)),\"\",IF(VLOOKUP(B188,'Zebrik W'!$B$7:$L$1001,11,0)=0,\"--\",VLOOKUP(B188,'Zebrik W'!$B$7:$L$1001,11,0)))","v":""}]
[183,"Jan Florian",1992,"M","Zbraslavice","CZ/C1",14994,3,"","",null,null,{"$f":"IF(ISERROR(VLOOKUP(B189,'Zebrik W'!$B$7:$L$1001,11,0)),\"\",IF(VLOOKUP(B189,'Zebrik W'!$B$7:$L$1001,11,0)=0,\"--\",VLOOKUP(B189,'Zebrik W'!$B$7:$L$1001,11,0)))","v":""}]
[184,"David Zapletal",1970,"M","Mladá Boleslav","CZ/C1",14978,3,"","",null,null,{"$f":"IF(ISERROR(VLOOKUP(B190,'Zebrik W'!$B$7:$L$1001,11,0)),\"\",IF(VLOOKUP(B190,'Zebrik W'!$B$7:$L$1001,11,0)=0,\"--\",VLOOKUP(B190,'Zebrik W'!$B$7:$L$1001,11,0)))","v":""}]
[185,"Tomas Jung",1950,"M","Zbraslavice","CZ/C1",14842,3,"","",null,null,{"$f":"IF(ISERROR(VLOOKUP(B191,'Zebrik W'!$B$7:$L$1001,11,0)),\"\",IF(VLOOKUP(B191,'Zebrik W'!$B$7:$L$1001,11,0)=0,\"--\",VLOOKUP(B191,'Zebrik W'!$B$7:$L$1001,11,0)))","v":""}]
[186,"Martin Grmela",1989,"M","Zbraslavice","CZ/C1",14779,3,"","",null,null,{"$f":"IF(ISERROR(VLOOKUP(B192,'Zebrik W'!$B$7:$L$1001,11,0)),\"\",IF(VLOOKUP(B192,'Zebrik W'!$B$7:$L$1001,11,0)=0,\"--\",VLOOKUP(B192,'Zebrik W'!$B$7:$L$1001,11,0)))","v":""}]
[187,"Oldrich Slavicek",1959,"M","Hronov","CZ/C2",14752,2,"","",null,null,{"$f":"IF(ISERROR(VLOOKUP(B193,'Zebrik W'!$B$7:$L$1001,11,0)),\"\",IF(VLOOKUP(B193,'Zebrik W'!$B$7:$L$1001,11,0)=0,\"--\",VLOOKUP(B193,'Zebrik W'!$B$7:$L$1001,11,0)))","v":""}]
[188,"Jan Sindelar",1946,"M","Kunovice","CZ/M",14539,2,"","",null,null,{"$f":"IF(ISERROR(VLOOKUP(B194,'Zebrik W'!$B$7:$L$1001,11,0)),\"\",IF(VLOOKUP(B194,'Zebrik W'!$B$7:$L$1001,11,0)=0,\"--\",VLOOKUP(B194,'Zebrik W'!$B$7:$L$1001,11,0)))","v":""}]
[189,"Michal Cupak",1991,"M","Medlánky","CZ/M",14411,2,"","",null,null,{"$f":"IF(ISERROR(VLOOKUP(B195,'Zebrik W'!$B$7:$L$1001,11,0)),\"\",IF(VLOOKUP(B195,'Zebrik W'!$B$7:$L$1001,11,0)=0,\"--\",VLOOKUP(B195,'Zebrik W'!$B$7:$L$1001,11,0)))","v":""}]
[190,"Michal Kratochvil",1984,"M","Slaný","CZ/C1",14378,2,"","",null,null,{"$f":"IF(ISERROR(VLOOKUP(B196,'Zebrik W'!$B$7:$L$1001,11,0)),\"\",IF(VLOOKUP(B196,'Zebrik W'!$B$7:$L$1001,11,0)=0,\"--\",VLOOKUP(B196,'Zebrik W'!$B$7:$L$1001,11,0)))","v":""}]
[191,"Vaclav Svoboda",1970,"M","Letkov","CZ/C1",14366,3,"","",null,null,{"$f":"IF(ISERROR(VLOOKUP(B197,'Zebrik W'!$B$7:$L$1001,11,0)),\"\",IF(VLOOKUP(B197,'Zebrik W'!$B$7:$L$1001,11,0)=0,\"--\",VLOOKUP(B197,'Zebrik W'!$B$7:$L$1001,11,0)))","v":""}]
[192,"Tomas Hynek",2002,"M","Dvůr Králové","CZ/C2",14352,3,"Junior v roce 2021","Junior v roce 2022",null,null,{"$f":"IF(ISERROR(VLOOKUP(B198,'Zebrik W'!$B$7:$L$1001,11,0)),\"\",IF(VLOOKUP(B198,'Zebrik W'!$B$7:$L$1001,11,0)=0,\"--\",VLOOKUP(B198,'Zebrik W'!$B$7:$L$1001,11,0)))","v":""}]
[{"$f":"RANK(G199,G:G)","v":193},"Marek Pechar",1995,"M","Chrudim","CZ/C2",14313,3,"","",null,null,{"$f":"IF(ISERROR(VLOOKUP(B199,'Zebrik W'!$B$7:$L$1001,11,0)),\"\",IF(VLOOKUP(B199,'Zebrik W'!$B$7:$L$1001,11,0)=0,\"--\",VLOOKUP(B199,'Zebrik W'!$B$7:$L$1001,11,0)))","v":""}]
[194,"Vojtech Pivonka",1976,"M","Vrchlabí","CZ/C2",14291,2,"","",null,null,{"$f":"IF(ISERROR(VLOOKUP(B200,'Zebrik W'!$B$7:$L$1001,11,0)),\"\",IF(VLOOKUP(B200,'Zebrik W'!$B$7:$L$1001,11,0)=0,\"--\",VLOOKUP(B200,'Zebrik W'!$B$7:$L$1001,11,0)))","v":""}]
[195,"Karel Horalek",1976,"M","Olomouc","CZ/M",14243,3,"","",null,null,{"$f":"IF(ISERROR(VLOOKUP(B201,'Zebrik W'!$B$7:$L$1001,11,0)),\"\",IF(VLOOKUP(B201,'Zebrik W'!$B$7:$L$1001,11,0)=0,\"--\",VLOOKUP(B201,'Zebrik W'!$B$7:$L$1001,11,0)))","v":""}]
[196,"Jan Beranek",1976,"M","Jihlava","CZ/M",14239,2,"","",null,null,{"$f":"IF(ISERROR(VLOOKUP(B202,'Zebrik W'!$B$7:$L$1001,11,0)),\"\",IF(VLOOKUP(B202,'Zebrik W'!$B$7:$L$1001,11,0)=0,\"--\",VLOOKUP(B202,'Zebrik W'!$B$7:$L$1001,11,0)))","v":""}]
[197,"Petr Malcek",1965,"M","Letňany","CZ/C1",14097,3,"","",null,null,{"$f":"IF(ISERROR(VLOOKUP(B203,'Zebrik W'!$B$7:$L$1001,11,0)),\"\",IF(VLOOKUP(B203,'Zebrik W'!$B$7:$L$1001,11,0)=0,\"--\",VLOOKUP(B203,'Zebrik W'!$B$7:$L$1001,11,0)))","v":""}]
[198,"Daniel Suchy",1995,"M","Hranice","CZ/M",14049,2,"","",null,null,{"$f":"IF(ISERROR(VLOOKUP(B204,'Zebrik W'!$B$7:$L$1001,11,0)),\"\",IF(VLOOKUP(B204,'Zebrik W'!$B$7:$L$1001,11,0)=0,\"--\",VLOOKUP(B204,'Zebrik W'!$B$7:$L$1001,11,0)))","v":""}]
[199,"Petr Havrlant",1965,"M","Šumperk","CZ/M",14017,2,"","",null,null,{"$f":"IF(ISERROR(VLOOKUP(B205,'Zebrik W'!$B$7:$L$1001,11,0)),\"\",IF(VLOOKUP(B205,'Zebrik W'!$B$7:$L$1001,11,0)=0,\"--\",VLOOKUP(B205,'Zebrik W'!$B$7:$L$1001,11,0)))","v":""}]
[200,"Michael Fik",1972,"M","Strakonice","CZ/C1",13994,2,"","",null,null,{"$f":"IF(ISERROR(VLOOKUP(B206,'Zebrik W'!$B$7:$L$1001,11,0)),\"\",IF(VLOOKUP(B206,'Zebrik W'!$B$7:$L$1001,11,0)=0,\"--\",VLOOKUP(B206,'Zebrik W'!$B$7:$L$1001,11,0)))","v":""}]
[201,"Daniel Dvorak",1980,"M","Letkov","CZ/C1",13966,2,"","",null,null,{"$f":"IF(ISERROR(VLOOKUP(B207,'Zebrik W'!$B$7:$L$1001,11,0)),\"\",IF(VLOOKUP(B207,'Zebrik W'!$B$7:$L$1001,11,0)=0,\"--\",VLOOKUP(B207,'Zebrik W'!$B$7:$L$1001,11,0)))","v":""}]
[202,"Josef Kreutzer",1992,"M","Letkov","CZ/C1",13919,3,"","",null,null,{"$f":"IF(ISERROR(VLOOKUP(B208,'Zebrik W'!$B$7:$L$1001,11,0)),\"\",IF(VLOOKUP(B208,'Zebrik W'!$B$7:$L$1001,11,0)=0,\"--\",VLOOKUP(B208,'Zebrik W'!$B$7:$L$1001,11,0)))","v":""}]
[203,"Jan Rott",1962,"M","Hronov","CZ/C2",13890,3,"","",null,null,{"$f":"IF(ISERROR(VLOOKUP(B209,'Zebrik W'!$B$7:$L$1001,11,0)),\"\",IF(VLOOKUP(B209,'Zebrik W'!$B$7:$L$1001,11,0)=0,\"--\",VLOOKUP(B209,'Zebrik W'!$B$7:$L$1001,11,0)))","v":""}]
[204,"Martin Vnoucek",1972,"M","Vlašim","CZ/C1",13876,2,"","",null,null,{"$f":"IF(ISERROR(VLOOKUP(B210,'Zebrik W'!$B$7:$L$1001,11,0)),\"\",IF(VLOOKUP(B210,'Zebrik W'!$B$7:$L$1001,11,0)=0,\"--\",VLOOKUP(B210,'Zebrik W'!$B$7:$L$1001,11,0)))","v":""}]
[205,"Milos Matejka",1956,"M","Beroun","CZ/C1",13793,2,"","",null,null,{"$f":"IF(ISERROR(VLOOKUP(B211,'Zebrik W'!$B$7:$L$1001,11,0)),\"\",IF(VLOOKUP(B211,'Zebrik W'!$B$7:$L$1001,11,0)=0,\"--\",VLOOKUP(B211,'Zebrik W'!$B$7:$L$1001,11,0)))","v":""}]
[206,"Jaroslav Cempirek 77",1977,"M","Jihlava","CZ/M",13789,2,"","",null,null,{"$f":"IF(ISERROR(VLOOKUP(B212,'Zebrik W'!$B$7:$L$1001,11,0)),\"\",IF(VLOOKUP(B212,'Zebrik W'!$B$7:$L$1001,11,0)=0,\"--\",VLOOKUP(B212,'Zebrik W'!$B$7:$L$1001,11,0)))","v":""}]
[207,"Anna Bordovska",1989,"F","Mladá Boleslav","CZ/C1",13697,2,"","",null,null,{"$f":"IF(ISERROR(VLOOKUP(B213,'Zebrik W'!$B$7:$L$1001,11,0)),\"\",IF(VLOOKUP(B213,'Zebrik W'!$B$7:$L$1001,11,0)=0,\"--\",VLOOKUP(B213,'Zebrik W'!$B$7:$L$1001,11,0)))","v":"--"}]
[208,"Jiri Fousek",1990,"M","Raná","CZ/C2",13652,2,"","",null,null,{"$f":"IF(ISERROR(VLOOKUP(B214,'Zebrik W'!$B$7:$L$1001,11,0)),\"\",IF(VLOOKUP(B214,'Zebrik W'!$B$7:$L$1001,11,0)=0,\"--\",VLOOKUP(B214,'Zebrik W'!$B$7:$L$1001,11,0)))","v":""}]
[209,"Pavel Liska",1965,"M","Roudnice","CZ/C2",13651,2,"","",null,null,{"$f":"IF(ISERROR(VLOOKUP(B215,'Zebrik W'!$B$7:$L$1001,11,0)),\"\",IF(VLOOKUP(B215,'Zebrik W'!$B$7:$L$1001,11,0)=0,\"--\",VLOOKUP(B215,'Zebrik W'!$B$7:$L$1001,11,0)))","v":""}]
[210,"Radovan Otto",1968,"M","Ústí nad Labem","CZ/C2",13611,2,"","",null,null,{"$f":"IF(ISERROR(VLOOKUP(B216,'Zebrik W'!$B$7:$L$1001,11,0)),\"\",IF(VLOOKUP(B216,'Zebrik W'!$B$7:$L$1001,11,0)=0,\"--\",VLOOKUP(B216,'Zebrik W'!$B$7:$L$1001,11,0)))","v":""}]
[211,"Jan Kantor",1983,"M","Letňany","CZ/C1",13582,2,"","",null,null,{"$f":"IF(ISERROR(VLOOKUP(B217,'Zebrik W'!$B$7:$L$1001,11,0)),\"\",IF(VLOOKUP(B217,'Zebrik W'!$B$7:$L$1001,11,0)=0,\"--\",VLOOKUP(B217,'Zebrik W'!$B$7:$L$1001,11,0)))","v":""}]
[212,"Miroslav Stepan",1955,"M","Žamberk","CZ/C2",13495,2,"","",null,null,{"$f":"IF(ISERROR(VLOOKUP(B218,'Zebrik W'!$B$7:$L$1001,11,0)),\"\",IF(VLOOKUP(B218,'Zebrik W'!$B$7:$L$1001,11,0)=0,\"--\",VLOOKUP(B218,'Zebrik W'!$B$7:$L$1001,11,0)))","v":""}]
[213,"Martin Kriz",1968,"M","Přibyslav","CZ/C2",13479,3,"","",null,null,{"$f":"IF(ISERROR(VLOOKUP(B219,'Zebrik W'!$B$7:$L$1001,11,0)),\"\",IF(VLOOKUP(B219,'Zebrik W'!$B$7:$L$1001,11,0)=0,\"--\",VLOOKUP(B219,'Zebrik W'!$B$7:$L$1001,11,0)))","v":""}]
[214,"Radek Zima 75",1975,"M","Břeclav","CZ/M",13437,2,"","",null,null,{"$f":"IF(ISERROR(VLOOKUP(B220,'Zebrik W'!$B$7:$L$1001,11,0)),\"\",IF(VLOOKUP(B220,'Zebrik W'!$B$7:$L$1001,11,0)=0,\"--\",VLOOKUP(B220,'Zebrik W'!$B$7:$L$1001,11,0)))","v":""}]
[215,"Jaromir Jedlicka",1972,"M","Letňany","CZ/C1",13295,2,"","",null,null,{"$f":"IF(ISERROR(VLOOKUP(B221,'Zebrik W'!$B$7:$L$1001,11,0)),\"\",IF(VLOOKUP(B221,'Zebrik W'!$B$7:$L$1001,11,0)=0,\"--\",VLOOKUP(B221,'Zebrik W'!$B$7:$L$1001,11,0)))","v":""}]
[216,"Roman Schotli",1970,"M","Hranice","CZ/M",13220,2,"","",null,null,{"$f":"IF(ISERROR(VLOOKUP(B222,'Zebrik W'!$B$7:$L$1001,11,0)),\"\",IF(VLOOKUP(B222,'Zebrik W'!$B$7:$L$1001,11,0)=0,\"--\",VLOOKUP(B222,'Zebrik W'!$B$7:$L$1001,11,0)))","v":""}]
[217,"Pavel Trojan",1960,"M","Chrudim","CZ/C2",13117,2,"","",null,null,{"$f":"IF(ISERROR(VLOOKUP(B223,'Zebrik W'!$B$7:$L$1001,11,0)),\"\",IF(VLOOKUP(B223,'Zebrik W'!$B$7:$L$1001,11,0)=0,\"--\",VLOOKUP(B223,'Zebrik W'!$B$7:$L$1001,11,0)))","v":""}]
[218,"Petr Kolacek",1965,"M","Šumperk","CZ/M",13097,2,"","",null,null,{"$f":"IF(ISERROR(VLOOKUP(B224,'Zebrik W'!$B$7:$L$1001,11,0)),\"\",IF(VLOOKUP(B224,'Zebrik W'!$B$7:$L$1001,11,0)=0,\"--\",VLOOKUP(B224,'Zebrik W'!$B$7:$L$1001,11,0)))","v":""}]
[219,"Petr Rygl",1966,"M","Jičín","CZ/C2",12944,2,"","",null,null,{"$f":"IF(ISERROR(VLOOKUP(B225,'Zebrik W'!$B$7:$L$1001,11,0)),\"\",IF(VLOOKUP(B225,'Zebrik W'!$B$7:$L$1001,11,0)=0,\"--\",VLOOKUP(B225,'Zebrik W'!$B$7:$L$1001,11,0)))","v":""}]
[220,"Tomas Ptacovsky",1981,"M","Letňany","CZ/C1",12923,2,"","",null,null,{"$f":"IF(ISERROR(VLOOKUP(B226,'Zebrik W'!$B$7:$L$1001,11,0)),\"\",IF(VLOOKUP(B226,'Zebrik W'!$B$7:$L$1001,11,0)=0,\"--\",VLOOKUP(B226,'Zebrik W'!$B$7:$L$1001,11,0)))","v":""}]
[221,"Vit Prokop",1987,"M","Medlánky","CZ/M",12902,3,"","",null,null,{"$f":"IF(ISERROR(VLOOKUP(B227,'Zebrik W'!$B$7:$L$1001,11,0)),\"\",IF(VLOOKUP(B227,'Zebrik W'!$B$7:$L$1001,11,0)=0,\"--\",VLOOKUP(B227,'Zebrik W'!$B$7:$L$1001,11,0)))","v":""}]
[222,"Oldrich Houzvicka",1975,"M","Frýdlant","CZ/M",12894,2,"","",null,null,{"$f":"IF(ISERROR(VLOOKUP(B228,'Zebrik W'!$B$7:$L$1001,11,0)),\"\",IF(VLOOKUP(B228,'Zebrik W'!$B$7:$L$1001,11,0)=0,\"--\",VLOOKUP(B228,'Zebrik W'!$B$7:$L$1001,11,0)))","v":""}]
[223,"Pavel Haluza",1966,"M","Prostějov","CZ/M",12726,3,"","",null,null,{"$f":"IF(ISERROR(VLOOKUP(B229,'Zebrik W'!$B$7:$L$1001,11,0)),\"\",IF(VLOOKUP(B229,'Zebrik W'!$B$7:$L$1001,11,0)=0,\"--\",VLOOKUP(B229,'Zebrik W'!$B$7:$L$1001,11,0)))","v":""}]
[224,"Radek Tobolka",1977,"M","Jičín","CZ/C2",12720,2,"","",null,null,{"$f":"IF(ISERROR(VLOOKUP(B230,'Zebrik W'!$B$7:$L$1001,11,0)),\"\",IF(VLOOKUP(B230,'Zebrik W'!$B$7:$L$1001,11,0)=0,\"--\",VLOOKUP(B230,'Zebrik W'!$B$7:$L$1001,11,0)))","v":""}]
[225,"Jana Mezerova",1975,"F","Raná","CZ/C2",12654,3,"","",null,null,{"$f":"IF(ISERROR(VLOOKUP(B231,'Zebrik W'!$B$7:$L$1001,11,0)),\"\",IF(VLOOKUP(B231,'Zebrik W'!$B$7:$L$1001,11,0)=0,\"--\",VLOOKUP(B231,'Zebrik W'!$B$7:$L$1001,11,0)))","v":"--"}]
[226,"Jaroslav Hot",1965,"M","Toužim","CZ/C1",12586,2,"","",null,null,{"$f":"IF(ISERROR(VLOOKUP(B232,'Zebrik W'!$B$7:$L$1001,11,0)),\"\",IF(VLOOKUP(B232,'Zebrik W'!$B$7:$L$1001,11,0)=0,\"--\",VLOOKUP(B232,'Zebrik W'!$B$7:$L$1001,11,0)))","v":""}]
[227,"David Tejnora",1982,"M","Kolín","CZ/C1",12577,2,"","",null,null,{"$f":"IF(ISERROR(VLOOKUP(B233,'Zebrik W'!$B$7:$L$1001,11,0)),\"\",IF(VLOOKUP(B233,'Zebrik W'!$B$7:$L$1001,11,0)=0,\"--\",VLOOKUP(B233,'Zebrik W'!$B$7:$L$1001,11,0)))","v":""}]
[228,"Filip Vita",2001,"M","Kroměříž","CZ/M",12534,3,"Junior v roce 2021","Junior v roce 2022",null,null,{"$f":"IF(ISERROR(VLOOKUP(B234,'Zebrik W'!$B$7:$L$1001,11,0)),\"\",IF(VLOOKUP(B234,'Zebrik W'!$B$7:$L$1001,11,0)=0,\"--\",VLOOKUP(B234,'Zebrik W'!$B$7:$L$1001,11,0)))","v":""}]
[229,"Lukas Capek",1992,"M","Letňany","CZ/C1",12500,2,"","",null,null,{"$f":"IF(ISERROR(VLOOKUP(B235,'Zebrik W'!$B$7:$L$1001,11,0)),\"\",IF(VLOOKUP(B235,'Zebrik W'!$B$7:$L$1001,11,0)=0,\"--\",VLOOKUP(B235,'Zebrik W'!$B$7:$L$1001,11,0)))","v":""}]
[230,"Tibor Hezina",2002,"M","Křižanov","CZ/M",12472,2,{"$f":"IF(C236=\"(prázdné)\",\"\",IF(($I$4-C236)>25,\"\",\"Junior v roce \"&$I$4))","v":"Junior v roce 2021"},{"$f":"IF(C236=\"(prázdné)\",\"\",IF(($J$4-C236)>25,\"\",\"Junior v roce \"&$J$4))","v":"Junior v roce 2022"},null,null,{"$f":"IF(ISERROR(VLOOKUP(B236,'Zebrik W'!$B$7:$L$1001,11,0)),\"\",IF(VLOOKUP(B236,'Zebrik W'!$B$7:$L$1001,11,0)=0,\"--\",VLOOKUP(B236,'Zebrik W'!$B$7:$L$1001,11,0)))","v":""}]
[231,"Kamil Sohr",1973,"M","Šumperk","CZ/M",12399,2,"","",null,null,{"$f":"IF(ISERROR(VLOOKUP(B237,'Zebrik W'!$B$7:$L$1001,11,0)),\"\",IF(VLOOKUP(B237,'Zebrik W'!$B$7:$L$1001,11,0)=0,\"--\",VLOOKUP(B237,'Zebrik W'!$B$7:$L$1001,11,0)))","v":""}]
[232,"Sarka Lochova",1966,"F","Šumperk","CZ/M",12200,3,"","",null,null,{"$f":"IF(ISERROR(VLOOKUP(B238,'Zebrik W'!$B$7:$L$1001,11,0)),\"\",IF(VLOOKUP(B238,'Zebrik W'!$B$7:$L$1001,11,0)=0,\"--\",VLOOKUP(B238,'Zebrik W'!$B$7:$L$1001,11,0)))","v":"--"}]
[233,"Yvona Vyhnankova",1963,"F","Olomouc","CZ/M",12176,3,"","",null,null,{"$f":"IF(ISERROR(VLOOKUP(B239,'Zebrik W'!$B$7:$L$1001,11,0)),\"\",IF(VLOOKUP(B239,'Zebrik W'!$B$7:$L$1001,11,0)=0,\"--\",VLOOKUP(B239,'Zebrik W'!$B$7:$L$1001,11,0)))","v":"--"}]
[234,"Matous Schmidt",1981,"M","Letňany","CZ/C1",12161,2,"","",null,null,{"$f":"IF(ISERROR(VLOOKUP(B240,'Zebrik W'!$B$7:$L$1001,11,0)),\"\",IF(VLOOKUP(B240,'Zebrik W'!$B$7:$L$1001,11,0)=0,\"--\",VLOOKUP(B240,'Zebrik W'!$B$7:$L$1001,11,0)))","v":""}]
[235,"Roman Cerny",1971,"M","Hranice","CZ/M",12159,3,"","",null,null,{"$f":"IF(ISERROR(VLOOKUP(B241,'Zebrik W'!$B$7:$L$1001,11,0)),\"\",IF(VLOOKUP(B241,'Zebrik W'!$B$7:$L$1001,11,0)=0,\"--\",VLOOKUP(B241,'Zebrik W'!$B$7:$L$1001,11,0)))","v":""}]
[236,"Vladimir Prihoda",1953,"M","Kralupy","CZ/C1",11994,2,"","",null,null,{"$f":"IF(ISERROR(VLOOKUP(B242,'Zebrik W'!$B$7:$L$1001,11,0)),\"\",IF(VLOOKUP(B242,'Zebrik W'!$B$7:$L$1001,11,0)=0,\"--\",VLOOKUP(B242,'Zebrik W'!$B$7:$L$1001,11,0)))","v":""}]
[237,"Tomas Seifert",1972,"M","Raná","CZ/C2",11977,3,"","",null,null,{"$f":"IF(ISERROR(VLOOKUP(B243,'Zebrik W'!$B$7:$L$1001,11,0)),\"\",IF(VLOOKUP(B243,'Zebrik W'!$B$7:$L$1001,11,0)=0,\"--\",VLOOKUP(B243,'Zebrik W'!$B$7:$L$1001,11,0)))","v":""}]
[238,"Martin Stepanek",1987,"M","Moravská Třebová","CZ/M",11889,2,"","",null,null,{"$f":"IF(ISERROR(VLOOKUP(B244,'Zebrik W'!$B$7:$L$1001,11,0)),\"\",IF(VLOOKUP(B244,'Zebrik W'!$B$7:$L$1001,11,0)=0,\"--\",VLOOKUP(B244,'Zebrik W'!$B$7:$L$1001,11,0)))","v":""}]
[239,"Libor Danhel",1966,"M","Kunovice","CZ/M",11870,3,"","",null,null,{"$f":"IF(ISERROR(VLOOKUP(B245,'Zebrik W'!$B$7:$L$1001,11,0)),\"\",IF(VLOOKUP(B245,'Zebrik W'!$B$7:$L$1001,11,0)=0,\"--\",VLOOKUP(B245,'Zebrik W'!$B$7:$L$1001,11,0)))","v":""}]
[240,"Slavomir Piskaty 58",1958,"M","Kunovice","CZ/M",11821,3,"","",null,null,{"$f":"IF(ISERROR(VLOOKUP(B246,'Zebrik W'!$B$7:$L$1001,11,0)),\"\",IF(VLOOKUP(B246,'Zebrik W'!$B$7:$L$1001,11,0)=0,\"--\",VLOOKUP(B246,'Zebrik W'!$B$7:$L$1001,11,0)))","v":""}]
[241,"Vladimir Jirka",1965,"M","Zábřeh","CZ/M",11758,2,"","",null,null,{"$f":"IF(ISERROR(VLOOKUP(B247,'Zebrik W'!$B$7:$L$1001,11,0)),\"\",IF(VLOOKUP(B247,'Zebrik W'!$B$7:$L$1001,11,0)=0,\"--\",VLOOKUP(B247,'Zebrik W'!$B$7:$L$1001,11,0)))","v":""}]
[242,"Ondrej Blaha",1976,"M","Letňany","CZ/C1",11698,2,"","",null,null,{"$f":"IF(ISERROR(VLOOKUP(B248,'Zebrik W'!$B$7:$L$1001,11,0)),\"\",IF(VLOOKUP(B248,'Zebrik W'!$B$7:$L$1001,11,0)=0,\"--\",VLOOKUP(B248,'Zebrik W'!$B$7:$L$1001,11,0)))","v":""}]
[243,"Jakub Kohn",1992,"M","Prostějov","CZ/M",11675,2,"","",null,null,{"$f":"IF(ISERROR(VLOOKUP(B249,'Zebrik W'!$B$7:$L$1001,11,0)),\"\",IF(VLOOKUP(B249,'Zebrik W'!$B$7:$L$1001,11,0)=0,\"--\",VLOOKUP(B249,'Zebrik W'!$B$7:$L$1001,11,0)))","v":""}]
[243,"Ales Holoubek",1966,"M","Jičín","CZ/C2",11675,3,"","",null,null,{"$f":"IF(ISERROR(VLOOKUP(B250,'Zebrik W'!$B$7:$L$1001,11,0)),\"\",IF(VLOOKUP(B250,'Zebrik W'!$B$7:$L$1001,11,0)=0,\"--\",VLOOKUP(B250,'Zebrik W'!$B$7:$L$1001,11,0)))","v":""}]
[245,"Olga Mokosova",1970,"F","Jihlava","CZ/M",11581,3,"","",null,null,{"$f":"IF(ISERROR(VLOOKUP(B251,'Zebrik W'!$B$7:$L$1001,11,0)),\"\",IF(VLOOKUP(B251,'Zebrik W'!$B$7:$L$1001,11,0)=0,\"--\",VLOOKUP(B251,'Zebrik W'!$B$7:$L$1001,11,0)))","v":"--"}]
[246,"Matej Krestes",1986,"M","Slaný","CZ/C1",11554,3,"","",null,null,{"$f":"IF(ISERROR(VLOOKUP(B252,'Zebrik W'!$B$7:$L$1001,11,0)),\"\",IF(VLOOKUP(B252,'Zebrik W'!$B$7:$L$1001,11,0)=0,\"--\",VLOOKUP(B252,'Zebrik W'!$B$7:$L$1001,11,0)))","v":""}]
[247,"Martin Piskacek",1991,"M","Křižanov","CZ/M",11534,2,"","",null,null,{"$f":"IF(ISERROR(VLOOKUP(B253,'Zebrik W'!$B$7:$L$1001,11,0)),\"\",IF(VLOOKUP(B253,'Zebrik W'!$B$7:$L$1001,11,0)=0,\"--\",VLOOKUP(B253,'Zebrik W'!$B$7:$L$1001,11,0)))","v":""}]
[248,"Jan Zanda",1983,"M","Letkov","CZ/C1",11510,3,"","",null,null,{"$f":"IF(ISERROR(VLOOKUP(B254,'Zebrik W'!$B$7:$L$1001,11,0)),\"\",IF(VLOOKUP(B254,'Zebrik W'!$B$7:$L$1001,11,0)=0,\"--\",VLOOKUP(B254,'Zebrik W'!$B$7:$L$1001,11,0)))","v":""}]
[249,"Michal Coufal",1999,"M","Jičín","CZ/C2",11498,3,"Junior v roce 2021","Junior v roce 2022",null,null,{"$f":"IF(ISERROR(VLOOKUP(B255,'Zebrik W'!$B$7:$L$1001,11,0)),\"\",IF(VLOOKUP(B255,'Zebrik W'!$B$7:$L$1001,11,0)=0,\"--\",VLOOKUP(B255,'Zebrik W'!$B$7:$L$1001,11,0)))","v":""}]
[250,"Jiri Cincera",1966,"M","Toužim","CZ/C1",11495,3,"","",null,null,{"$f":"IF(ISERROR(VLOOKUP(B256,'Zebrik W'!$B$7:$L$1001,11,0)),\"\",IF(VLOOKUP(B256,'Zebrik W'!$B$7:$L$1001,11,0)=0,\"--\",VLOOKUP(B256,'Zebrik W'!$B$7:$L$1001,11,0)))","v":""}]
[251,"Jiri Vondracek",1989,"M","Kladno","CZ/C1",11344,2,"","",null,null,{"$f":"IF(ISERROR(VLOOKUP(B257,'Zebrik W'!$B$7:$L$1001,11,0)),\"\",IF(VLOOKUP(B257,'Zebrik W'!$B$7:$L$1001,11,0)=0,\"--\",VLOOKUP(B257,'Zebrik W'!$B$7:$L$1001,11,0)))","v":""}]
[252,"Martin Pekar",1973,"M","Šumperk","CZ/M",11285,2,"","",null,null,{"$f":"IF(ISERROR(VLOOKUP(B258,'Zebrik W'!$B$7:$L$1001,11,0)),\"\",IF(VLOOKUP(B258,'Zebrik W'!$B$7:$L$1001,11,0)=0,\"--\",VLOOKUP(B258,'Zebrik W'!$B$7:$L$1001,11,0)))","v":""}]
[253,"Miloslav Cindr",1974,"M","Ústí nad Orlicí","CZ/C2",11227,3,"","",null,null,{"$f":"IF(ISERROR(VLOOKUP(B259,'Zebrik W'!$B$7:$L$1001,11,0)),\"\",IF(VLOOKUP(B259,'Zebrik W'!$B$7:$L$1001,11,0)=0,\"--\",VLOOKUP(B259,'Zebrik W'!$B$7:$L$1001,11,0)))","v":""}]
[254,"Rostislav Stryk",1972,"M","Frýdlant","CZ/M",11151,2,"","",null,null,{"$f":"IF(ISERROR(VLOOKUP(B260,'Zebrik W'!$B$7:$L$1001,11,0)),\"\",IF(VLOOKUP(B260,'Zebrik W'!$B$7:$L$1001,11,0)=0,\"--\",VLOOKUP(B260,'Zebrik W'!$B$7:$L$1001,11,0)))","v":""}]
[255,"Jan Smekal",1976,"M","Zbraslavice","CZ/C1",11137,2,"","",null,null,{"$f":"IF(ISERROR(VLOOKUP(B261,'Zebrik W'!$B$7:$L$1001,11,0)),\"\",IF(VLOOKUP(B261,'Zebrik W'!$B$7:$L$1001,11,0)=0,\"--\",VLOOKUP(B261,'Zebrik W'!$B$7:$L$1001,11,0)))","v":""}]
[256,"Stanislav Doskocil",1978,"M","Medlánky","CZ/M",11001,3,"","",null,null,{"$f":"IF(ISERROR(VLOOKUP(B262,'Zebrik W'!$B$7:$L$1001,11,0)),\"\",IF(VLOOKUP(B262,'Zebrik W'!$B$7:$L$1001,11,0)=0,\"--\",VLOOKUP(B262,'Zebrik W'!$B$7:$L$1001,11,0)))","v":""}]
[{"$f":"RANK(G263,G:G)","v":257},"Matej Plch",1987,"M","Letkov","CZ/C1",10941,2,"","",null,null,{"$f":"IF(ISERROR(VLOOKUP(B263,'Zebrik W'!$B$7:$L$1001,11,0)),\"\",IF(VLOOKUP(B263,'Zebrik W'!$B$7:$L$1001,11,0)=0,\"--\",VLOOKUP(B263,'Zebrik W'!$B$7:$L$1001,11,0)))","v":""}]
[258,"Antonin Pilat",1971,"M","Vyškov","CZ/M",10921,3,"","",null,null,{"$f":"IF(ISERROR(VLOOKUP(B264,'Zebrik W'!$B$7:$L$1001,11,0)),\"\",IF(VLOOKUP(B264,'Zebrik W'!$B$7:$L$1001,11,0)=0,\"--\",VLOOKUP(B264,'Zebrik W'!$B$7:$L$1001,11,0)))","v":""}]
[259,"Ivan Kuzelka",1945,"M","Havlíčkův Brod","CZ/C2",10905,2,"","",null,null,{"$f":"IF(ISERROR(VLOOKUP(B265,'Zebrik W'!$B$7:$L$1001,11,0)),\"\",IF(VLOOKUP(B265,'Zebrik W'!$B$7:$L$1001,11,0)=0,\"--\",VLOOKUP(B265,'Zebrik W'!$B$7:$L$1001,11,0)))","v":""}]
[260,"Lubomir Doupal",1975,"M","Kroměříž","CZ/M",10759,3,"","",null,null,{"$f":"IF(ISERROR(VLOOKUP(B266,'Zebrik W'!$B$7:$L$1001,11,0)),\"\",IF(VLOOKUP(B266,'Zebrik W'!$B$7:$L$1001,11,0)=0,\"--\",VLOOKUP(B266,'Zebrik W'!$B$7:$L$1001,11,0)))","v":""}]
[261,"Antonin Kutalek",1943,"M","Zábřeh","CZ/M",10756,3,"","",null,null,{"$f":"IF(ISERROR(VLOOKUP(B267,'Zebrik W'!$B$7:$L$1001,11,0)),\"\",IF(VLOOKUP(B267,'Zebrik W'!$B$7:$L$1001,11,0)=0,\"--\",VLOOKUP(B267,'Zebrik W'!$B$7:$L$1001,11,0)))","v":""}]
[262,"Juraj Dudas",1990,"M","Křižanov","CZ/M",10732,2,"","",null,null,{"$f":"IF(ISERROR(VLOOKUP(B268,'Zebrik W'!$B$7:$L$1001,11,0)),\"\",IF(VLOOKUP(B268,'Zebrik W'!$B$7:$L$1001,11,0)=0,\"--\",VLOOKUP(B268,'Zebrik W'!$B$7:$L$1001,11,0)))","v":""}]
[263,"Linda Vasatova",1990,"F","Mladá Boleslav","CZ/C1",10710,3,"","",null,null,{"$f":"IF(ISERROR(VLOOKUP(B269,'Zebrik W'!$B$7:$L$1001,11,0)),\"\",IF(VLOOKUP(B269,'Zebrik W'!$B$7:$L$1001,11,0)=0,\"--\",VLOOKUP(B269,'Zebrik W'!$B$7:$L$1001,11,0)))","v":"--"}]
[264,"Slavomir Tanglmajer",1966,"M","Chomutov","CZ/C2",10631,3,"","",null,null,{"$f":"IF(ISERROR(VLOOKUP(B270,'Zebrik W'!$B$7:$L$1001,11,0)),\"\",IF(VLOOKUP(B270,'Zebrik W'!$B$7:$L$1001,11,0)=0,\"--\",VLOOKUP(B270,'Zebrik W'!$B$7:$L$1001,11,0)))","v":""}]
[265,"Petr Tax",1968,"M","Jičín","CZ/C2",10623,2,"","",null,null,{"$f":"IF(ISERROR(VLOOKUP(B271,'Zebrik W'!$B$7:$L$1001,11,0)),\"\",IF(VLOOKUP(B271,'Zebrik W'!$B$7:$L$1001,11,0)=0,\"--\",VLOOKUP(B271,'Zebrik W'!$B$7:$L$1001,11,0)))","v":""}]
[266,"Jiri Suchomel",1950,"M","Broumov","CZ/C2",10544,3,"","",null,null,{"$f":"IF(ISERROR(VLOOKUP(B272,'Zebrik W'!$B$7:$L$1001,11,0)),\"\",IF(VLOOKUP(B272,'Zebrik W'!$B$7:$L$1001,11,0)=0,\"--\",VLOOKUP(B272,'Zebrik W'!$B$7:$L$1001,11,0)))","v":""}]
[267,"Petr Velek",1975,"M","GAC Benešov","CZ/C1",10505,3,"","",null,null,{"$f":"IF(ISERROR(VLOOKUP(B273,'Zebrik W'!$B$7:$L$1001,11,0)),\"\",IF(VLOOKUP(B273,'Zebrik W'!$B$7:$L$1001,11,0)=0,\"--\",VLOOKUP(B273,'Zebrik W'!$B$7:$L$1001,11,0)))","v":""}]
[268,"Lubomir Papezik",1951,"M","Luhačovice","CZ/M",10185,3,"","",null,null,{"$f":"IF(ISERROR(VLOOKUP(B274,'Zebrik W'!$B$7:$L$1001,11,0)),\"\",IF(VLOOKUP(B274,'Zebrik W'!$B$7:$L$1001,11,0)=0,\"--\",VLOOKUP(B274,'Zebrik W'!$B$7:$L$1001,11,0)))","v":""}]
[269,"Vilem Riha",1990,"M","Letňany","CZ/C1",10070,2,"","",null,null,{"$f":"IF(ISERROR(VLOOKUP(B275,'Zebrik W'!$B$7:$L$1001,11,0)),\"\",IF(VLOOKUP(B275,'Zebrik W'!$B$7:$L$1001,11,0)=0,\"--\",VLOOKUP(B275,'Zebrik W'!$B$7:$L$1001,11,0)))","v":""}]
[270,"Rostislav Broz",1968,"M","Vrchlabí","CZ/C2",10066,2,"","",null,null,{"$f":"IF(ISERROR(VLOOKUP(B276,'Zebrik W'!$B$7:$L$1001,11,0)),\"\",IF(VLOOKUP(B276,'Zebrik W'!$B$7:$L$1001,11,0)=0,\"--\",VLOOKUP(B276,'Zebrik W'!$B$7:$L$1001,11,0)))","v":""}]
[271,"Martin Suchy",1969,"M","Hranice","CZ/M",10025,2,"","",null,null,{"$f":"IF(ISERROR(VLOOKUP(B277,'Zebrik W'!$B$7:$L$1001,11,0)),\"\",IF(VLOOKUP(B277,'Zebrik W'!$B$7:$L$1001,11,0)=0,\"--\",VLOOKUP(B277,'Zebrik W'!$B$7:$L$1001,11,0)))","v":""}]
[272,"Tomas Ditrt",1969,"M","Podhořany","CZ/C2",10021,3,"","",null,null,{"$f":"IF(ISERROR(VLOOKUP(B278,'Zebrik W'!$B$7:$L$1001,11,0)),\"\",IF(VLOOKUP(B278,'Zebrik W'!$B$7:$L$1001,11,0)=0,\"--\",VLOOKUP(B278,'Zebrik W'!$B$7:$L$1001,11,0)))","v":""}]
[273,"Martin Soucek",1975,"M","Mladá Boleslav","CZ/C1",9980,2,"","",null,null,{"$f":"IF(ISERROR(VLOOKUP(B279,'Zebrik W'!$B$7:$L$1001,11,0)),\"\",IF(VLOOKUP(B279,'Zebrik W'!$B$7:$L$1001,11,0)=0,\"--\",VLOOKUP(B279,'Zebrik W'!$B$7:$L$1001,11,0)))","v":""}]
[274,"Frantisek Kriz",1961,"M","Toužim","CZ/C1",9965,3,"","",null,null,{"$f":"IF(ISERROR(VLOOKUP(B280,'Zebrik W'!$B$7:$L$1001,11,0)),\"\",IF(VLOOKUP(B280,'Zebrik W'!$B$7:$L$1001,11,0)=0,\"--\",VLOOKUP(B280,'Zebrik W'!$B$7:$L$1001,11,0)))","v":""}]
[275,"Jan Pokluda",1973,"M","Šumperk","CZ/M",9810,2,"","",null,null,{"$f":"IF(ISERROR(VLOOKUP(B281,'Zebrik W'!$B$7:$L$1001,11,0)),\"\",IF(VLOOKUP(B281,'Zebrik W'!$B$7:$L$1001,11,0)=0,\"--\",VLOOKUP(B281,'Zebrik W'!$B$7:$L$1001,11,0)))","v":""}]
[276,"Petr Hybner",1951,"M","Liberec","CZ/C2",9749,2,"","",null,null,{"$f":"IF(ISERROR(VLOOKUP(B282,'Zebrik W'!$B$7:$L$1001,11,0)),\"\",IF(VLOOKUP(B282,'Zebrik W'!$B$7:$L$1001,11,0)=0,\"--\",VLOOKUP(B282,'Zebrik W'!$B$7:$L$1001,11,0)))","v":""}]
[277,"Jiri Hodan",1959,"M","Zbraslavice","CZ/C1",9601,3,"","",null,null,{"$f":"IF(ISERROR(VLOOKUP(B283,'Zebrik W'!$B$7:$L$1001,11,0)),\"\",IF(VLOOKUP(B283,'Zebrik W'!$B$7:$L$1001,11,0)=0,\"--\",VLOOKUP(B283,'Zebrik W'!$B$7:$L$1001,11,0)))","v":""}]
[278,"Lukas Petrzela",1987,"M","Olomouc","CZ/M",9577,2,"","",null,null,{"$f":"IF(ISERROR(VLOOKUP(B284,'Zebrik W'!$B$7:$L$1001,11,0)),\"\",IF(VLOOKUP(B284,'Zebrik W'!$B$7:$L$1001,11,0)=0,\"--\",VLOOKUP(B284,'Zebrik W'!$B$7:$L$1001,11,0)))","v":""}]
[279,"Martin Zvonicek",1972,"M","Raná","CZ/C2",9477,2,"","",null,null,{"$f":"IF(ISERROR(VLOOKUP(B285,'Zebrik W'!$B$7:$L$1001,11,0)),\"\",IF(VLOOKUP(B285,'Zebrik W'!$B$7:$L$1001,11,0)=0,\"--\",VLOOKUP(B285,'Zebrik W'!$B$7:$L$1001,11,0)))","v":""}]
[280,"Vaclav Sehnal",1962,"M","Kolín","CZ/C1",9389,2,"","",null,null,{"$f":"IF(ISERROR(VLOOKUP(B286,'Zebrik W'!$B$7:$L$1001,11,0)),\"\",IF(VLOOKUP(B286,'Zebrik W'!$B$7:$L$1001,11,0)=0,\"--\",VLOOKUP(B286,'Zebrik W'!$B$7:$L$1001,11,0)))","v":""}]
[281,"Petr Doubek",1974,"M","Kralupy","CZ/C1",9375,2,"","",null,null,{"$f":"IF(ISERROR(VLOOKUP(B287,'Zebrik W'!$B$7:$L$1001,11,0)),\"\",IF(VLOOKUP(B287,'Zebrik W'!$B$7:$L$1001,11,0)=0,\"--\",VLOOKUP(B287,'Zebrik W'!$B$7:$L$1001,11,0)))","v":""}]
[282,"Karel Knotek",1961,"M","Soběslav","CZ/C1",9198,2,"","",null,null,{"$f":"IF(ISERROR(VLOOKUP(B288,'Zebrik W'!$B$7:$L$1001,11,0)),\"\",IF(VLOOKUP(B288,'Zebrik W'!$B$7:$L$1001,11,0)=0,\"--\",VLOOKUP(B288,'Zebrik W'!$B$7:$L$1001,11,0)))","v":""}]
[283,"Lukas Kotek",1994,"M","Frýdlant","CZ/M",9197,3,"","",null,null,{"$f":"IF(ISERROR(VLOOKUP(B289,'Zebrik W'!$B$7:$L$1001,11,0)),\"\",IF(VLOOKUP(B289,'Zebrik W'!$B$7:$L$1001,11,0)=0,\"--\",VLOOKUP(B289,'Zebrik W'!$B$7:$L$1001,11,0)))","v":""}]
[284,"Ivo Burda",1962,"M","Zbraslavice","CZ/C1",9168,2,"","",null,null,{"$f":"IF(ISERROR(VLOOKUP(B290,'Zebrik W'!$B$7:$L$1001,11,0)),\"\",IF(VLOOKUP(B290,'Zebrik W'!$B$7:$L$1001,11,0)=0,\"--\",VLOOKUP(B290,'Zebrik W'!$B$7:$L$1001,11,0)))","v":""}]
[285,"Oldrich Bartonik",1961,"M","Luhačovice","CZ/M",9048,2,"","",null,null,{"$f":"IF(ISERROR(VLOOKUP(B291,'Zebrik W'!$B$7:$L$1001,11,0)),\"\",IF(VLOOKUP(B291,'Zebrik W'!$B$7:$L$1001,11,0)=0,\"--\",VLOOKUP(B291,'Zebrik W'!$B$7:$L$1001,11,0)))","v":""}]
[286,"Karel Policky",1950,"M","Kolín","CZ/C1",9005,3,"","",null,null,{"$f":"IF(ISERROR(VLOOKUP(B292,'Zebrik W'!$B$7:$L$1001,11,0)),\"\",IF(VLOOKUP(B292,'Zebrik W'!$B$7:$L$1001,11,0)=0,\"--\",VLOOKUP(B292,'Zebrik W'!$B$7:$L$1001,11,0)))","v":""}]
[287,"Jarmila Zatykova",1959,"F","Kralupy","CZ/C1",8906,2,"","",null,null,{"$f":"IF(ISERROR(VLOOKUP(B293,'Zebrik W'!$B$7:$L$1001,11,0)),\"\",IF(VLOOKUP(B293,'Zebrik W'!$B$7:$L$1001,11,0)=0,\"--\",VLOOKUP(B293,'Zebrik W'!$B$7:$L$1001,11,0)))","v":"--"}]
[288,"Vaclav Petru",1974,"M","Letňany","CZ/C1",8786,2,"","",null,null,{"$f":"IF(ISERROR(VLOOKUP(B294,'Zebrik W'!$B$7:$L$1001,11,0)),\"\",IF(VLOOKUP(B294,'Zebrik W'!$B$7:$L$1001,11,0)=0,\"--\",VLOOKUP(B294,'Zebrik W'!$B$7:$L$1001,11,0)))","v":""}]
[289,"Oldrich Hlavacek",1973,"M","Medlánky","CZ/M",8754,2,"","",null,null,{"$f":"IF(ISERROR(VLOOKUP(B295,'Zebrik W'!$B$7:$L$1001,11,0)),\"\",IF(VLOOKUP(B295,'Zebrik W'!$B$7:$L$1001,11,0)=0,\"--\",VLOOKUP(B295,'Zebrik W'!$B$7:$L$1001,11,0)))","v":""}]
[290,"Marek Malinsky",1985,"M","Chrudim","CZ/C2",8753,2,"","",null,null,{"$f":"IF(ISERROR(VLOOKUP(B296,'Zebrik W'!$B$7:$L$1001,11,0)),\"\",IF(VLOOKUP(B296,'Zebrik W'!$B$7:$L$1001,11,0)=0,\"--\",VLOOKUP(B296,'Zebrik W'!$B$7:$L$1001,11,0)))","v":""}]
[291,"David Rozporka",1994,"M","Hronov","CZ/C2",8568,2,"","",null,null,{"$f":"IF(ISERROR(VLOOKUP(B297,'Zebrik W'!$B$7:$L$1001,11,0)),\"\",IF(VLOOKUP(B297,'Zebrik W'!$B$7:$L$1001,11,0)=0,\"--\",VLOOKUP(B297,'Zebrik W'!$B$7:$L$1001,11,0)))","v":""}]
[292,"Petr Vodicka",1965,"M","Jaroměř","CZ/C2",8567,1,"","",null,null,{"$f":"IF(ISERROR(VLOOKUP(B298,'Zebrik W'!$B$7:$L$1001,11,0)),\"\",IF(VLOOKUP(B298,'Zebrik W'!$B$7:$L$1001,11,0)=0,\"--\",VLOOKUP(B298,'Zebrik W'!$B$7:$L$1001,11,0)))","v":""}]
[293,"Ondrej Dvorak 87",1987,"M","Raná","CZ/C2",8547,1,"","",null,null,{"$f":"IF(ISERROR(VLOOKUP(B299,'Zebrik W'!$B$7:$L$1001,11,0)),\"\",IF(VLOOKUP(B299,'Zebrik W'!$B$7:$L$1001,11,0)=0,\"--\",VLOOKUP(B299,'Zebrik W'!$B$7:$L$1001,11,0)))","v":""}]
[294,"Jiri Dockal",1982,"M","Letňany","CZ/C1",8502,2,{"$f":"IF(C300=\"(prázdné)\",\"\",IF(($I$4-C300)>25,\"\",\"Junior v roce \"&$I$4))","v":""},{"$f":"IF(C300=\"(prázdné)\",\"\",IF(($J$4-C300)>25,\"\",\"Junior v roce \"&$J$4))","v":""},null,null,{"$f":"IF(ISERROR(VLOOKUP(B300,'Zebrik W'!$B$7:$L$1001,11,0)),\"\",IF(VLOOKUP(B300,'Zebrik W'!$B$7:$L$1001,11,0)=0,\"--\",VLOOKUP(B300,'Zebrik W'!$B$7:$L$1001,11,0)))","v":""}]
[295,"Jan Matejovsky",1972,"M","Hranice","CZ/M",8498,3,"","",null,null,{"$f":"IF(ISERROR(VLOOKUP(B301,'Zebrik W'!$B$7:$L$1001,11,0)),\"\",IF(VLOOKUP(B301,'Zebrik W'!$B$7:$L$1001,11,0)=0,\"--\",VLOOKUP(B301,'Zebrik W'!$B$7:$L$1001,11,0)))","v":""}]
[296,"Jakub Malik",1999,"M","Letňany","CZ/C1",8361,2,"Junior v roce 2021","Junior v roce 2022",null,null,{"$f":"IF(ISERROR(VLOOKUP(B302,'Zebrik W'!$B$7:$L$1001,11,0)),\"\",IF(VLOOKUP(B302,'Zebrik W'!$B$7:$L$1001,11,0)=0,\"--\",VLOOKUP(B302,'Zebrik W'!$B$7:$L$1001,11,0)))","v":""}]
[297,"Miroslav Trybucek",1965,"M","Jičín","CZ/C2",8305,2,"","",null,null,{"$f":"IF(ISERROR(VLOOKUP(B303,'Zebrik W'!$B$7:$L$1001,11,0)),\"\",IF(VLOOKUP(B303,'Zebrik W'!$B$7:$L$1001,11,0)=0,\"--\",VLOOKUP(B303,'Zebrik W'!$B$7:$L$1001,11,0)))","v":""}]
[298,"Petr Frycek",1960,"M","Most","CZ/C2",8248,2,"","",null,null,{"$f":"IF(ISERROR(VLOOKUP(B304,'Zebrik W'!$B$7:$L$1001,11,0)),\"\",IF(VLOOKUP(B304,'Zebrik W'!$B$7:$L$1001,11,0)=0,\"--\",VLOOKUP(B304,'Zebrik W'!$B$7:$L$1001,11,0)))","v":""}]
[299,"Sabina Vitova",1998,"F","Kroměříž","CZ/M",8133,3,"Junior v roce 2021","Junior v roce 2022",null,null,{"$f":"IF(ISERROR(VLOOKUP(B305,'Zebrik W'!$B$7:$L$1001,11,0)),\"\",IF(VLOOKUP(B305,'Zebrik W'!$B$7:$L$1001,11,0)=0,\"--\",VLOOKUP(B305,'Zebrik W'!$B$7:$L$1001,11,0)))","v":"--"}]
[300,"Jan Hejret",1976,"M","Jaroměř","CZ/C2",8000,1,"","",null,null,{"$f":"IF(ISERROR(VLOOKUP(B306,'Zebrik W'!$B$7:$L$1001,11,0)),\"\",IF(VLOOKUP(B306,'Zebrik W'!$B$7:$L$1001,11,0)=0,\"--\",VLOOKUP(B306,'Zebrik W'!$B$7:$L$1001,11,0)))","v":""}]
[301,"Jiri Klicnar",1965,"M","Medlánky","CZ/M",7960,2,"","",null,null,{"$f":"IF(ISERROR(VLOOKUP(B307,'Zebrik W'!$B$7:$L$1001,11,0)),\"\",IF(VLOOKUP(B307,'Zebrik W'!$B$7:$L$1001,11,0)=0,\"--\",VLOOKUP(B307,'Zebrik W'!$B$7:$L$1001,11,0)))","v":""}]
[302,"Tomas Hlavacek",1984,"M","Mladá Boleslav","CZ/C1",7929,2,"","",null,null,{"$f":"IF(ISERROR(VLOOKUP(B308,'Zebrik W'!$B$7:$L$1001,11,0)),\"\",IF(VLOOKUP(B308,'Zebrik W'!$B$7:$L$1001,11,0)=0,\"--\",VLOOKUP(B308,'Zebrik W'!$B$7:$L$1001,11,0)))","v":""}]
[303,"Jan Hlavacek",1965,"M","Rakovník","CZ/C1",7750,1,"","",null,null,{"$f":"IF(ISERROR(VLOOKUP(B309,'Zebrik W'!$B$7:$L$1001,11,0)),\"\",IF(VLOOKUP(B309,'Zebrik W'!$B$7:$L$1001,11,0)=0,\"--\",VLOOKUP(B309,'Zebrik W'!$B$7:$L$1001,11,0)))","v":""}]
[304,"Vaclav Kysilka",1979,"M","GAC Benešov","CZ/C1",7734,2,"","",null,null,{"$f":"IF(ISERROR(VLOOKUP(B310,'Zebrik W'!$B$7:$L$1001,11,0)),\"\",IF(VLOOKUP(B310,'Zebrik W'!$B$7:$L$1001,11,0)=0,\"--\",VLOOKUP(B310,'Zebrik W'!$B$7:$L$1001,11,0)))","v":""}]
[305,"Milos Hrabe",1979,"M","Letňany","CZ/C1",7725,3,"","",null,null,{"$f":"IF(ISERROR(VLOOKUP(B311,'Zebrik W'!$B$7:$L$1001,11,0)),\"\",IF(VLOOKUP(B311,'Zebrik W'!$B$7:$L$1001,11,0)=0,\"--\",VLOOKUP(B311,'Zebrik W'!$B$7:$L$1001,11,0)))","v":""}]
[306,"Josef Rydl",1940,"M","Turnov","CZ/C2",7700,1,"","",null,null,{"$f":"IF(ISERROR(VLOOKUP(B312,'Zebrik W'!$B$7:$L$1001,11,0)),\"\",IF(VLOOKUP(B312,'Zebrik W'!$B$7:$L$1001,11,0)=0,\"--\",VLOOKUP(B312,'Zebrik W'!$B$7:$L$1001,11,0)))","v":""}]
[307,"Vaclav Zak",1962,"M","GAC Benešov","CZ/C1",7536,2,"","",null,null,{"$f":"IF(ISERROR(VLOOKUP(B313,'Zebrik W'!$B$7:$L$1001,11,0)),\"\",IF(VLOOKUP(B313,'Zebrik W'!$B$7:$L$1001,11,0)=0,\"--\",VLOOKUP(B313,'Zebrik W'!$B$7:$L$1001,11,0)))","v":""}]
[308,"Petr Brezina",1963,"M","Frýdlant","CZ/M",7533,3,"","",null,null,{"$f":"IF(ISERROR(VLOOKUP(B314,'Zebrik W'!$B$7:$L$1001,11,0)),\"\",IF(VLOOKUP(B314,'Zebrik W'!$B$7:$L$1001,11,0)=0,\"--\",VLOOKUP(B314,'Zebrik W'!$B$7:$L$1001,11,0)))","v":""}]
[309,"Roman Stoklasa",1984,"M","Medlánky","CZ/M",7487,1,"","",null,null,{"$f":"IF(ISERROR(VLOOKUP(B315,'Zebrik W'!$B$7:$L$1001,11,0)),\"\",IF(VLOOKUP(B315,'Zebrik W'!$B$7:$L$1001,11,0)=0,\"--\",VLOOKUP(B315,'Zebrik W'!$B$7:$L$1001,11,0)))","v":""}]
[310,"Jan Pazour",1979,"M","Dvůr Králové","CZ/C2",7451,2,"","",null,null,{"$f":"IF(ISERROR(VLOOKUP(B316,'Zebrik W'!$B$7:$L$1001,11,0)),\"\",IF(VLOOKUP(B316,'Zebrik W'!$B$7:$L$1001,11,0)=0,\"--\",VLOOKUP(B316,'Zebrik W'!$B$7:$L$1001,11,0)))","v":""}]
[311,"Miroslav Major",1968,"M","Kralupy","CZ/C1",7445,2,"","",null,null,{"$f":"IF(ISERROR(VLOOKUP(B317,'Zebrik W'!$B$7:$L$1001,11,0)),\"\",IF(VLOOKUP(B317,'Zebrik W'!$B$7:$L$1001,11,0)=0,\"--\",VLOOKUP(B317,'Zebrik W'!$B$7:$L$1001,11,0)))","v":""}]
[312,"Kristina Santruckova",1996,"F","Podhořany","CZ/C2",7396,3,"Junior v roce 2021","",null,null,{"$f":"IF(ISERROR(VLOOKUP(B318,'Zebrik W'!$B$7:$L$1001,11,0)),\"\",IF(VLOOKUP(B318,'Zebrik W'!$B$7:$L$1001,11,0)=0,\"--\",VLOOKUP(B318,'Zebrik W'!$B$7:$L$1001,11,0)))","v":"--"}]
[313,"Michal Janda",1972,"M","Broumov","CZ/C2",7376,1,"","",null,null,{"$f":"IF(ISERROR(VLOOKUP(B319,'Zebrik W'!$B$7:$L$1001,11,0)),\"\",IF(VLOOKUP(B319,'Zebrik W'!$B$7:$L$1001,11,0)=0,\"--\",VLOOKUP(B319,'Zebrik W'!$B$7:$L$1001,11,0)))","v":""}]
[314,"Ilja Kopacek",1943,"M","Jičín","CZ/C2",7300,1,"","",null,null,{"$f":"IF(ISERROR(VLOOKUP(B320,'Zebrik W'!$B$7:$L$1001,11,0)),\"\",IF(VLOOKUP(B320,'Zebrik W'!$B$7:$L$1001,11,0)=0,\"--\",VLOOKUP(B320,'Zebrik W'!$B$7:$L$1001,11,0)))","v":""}]
[315,"Tomas Prikryl",1973,"M","Vyškov","CZ/M",7243,1,"","",null,null,{"$f":"IF(ISERROR(VLOOKUP(B321,'Zebrik W'!$B$7:$L$1001,11,0)),\"\",IF(VLOOKUP(B321,'Zebrik W'!$B$7:$L$1001,11,0)=0,\"--\",VLOOKUP(B321,'Zebrik W'!$B$7:$L$1001,11,0)))","v":""}]
[316,"Roman Michalek",1974,"M","Toužim","CZ/C1",7131,3,"","",null,null,{"$f":"IF(ISERROR(VLOOKUP(B322,'Zebrik W'!$B$7:$L$1001,11,0)),\"\",IF(VLOOKUP(B322,'Zebrik W'!$B$7:$L$1001,11,0)=0,\"--\",VLOOKUP(B322,'Zebrik W'!$B$7:$L$1001,11,0)))","v":""}]
[317,"Jan Nyc",1943,"M","Dvůr Králové","CZ/C2",7055,1,"","",null,null,{"$f":"IF(ISERROR(VLOOKUP(B323,'Zebrik W'!$B$7:$L$1001,11,0)),\"\",IF(VLOOKUP(B323,'Zebrik W'!$B$7:$L$1001,11,0)=0,\"--\",VLOOKUP(B323,'Zebrik W'!$B$7:$L$1001,11,0)))","v":""}]
[318,"Michal Buryan",1977,"M","Vysoké Mýto","CZ/C2",7023,1,"","",null,null,{"$f":"IF(ISERROR(VLOOKUP(B324,'Zebrik W'!$B$7:$L$1001,11,0)),\"\",IF(VLOOKUP(B324,'Zebrik W'!$B$7:$L$1001,11,0)=0,\"--\",VLOOKUP(B324,'Zebrik W'!$B$7:$L$1001,11,0)))","v":""}]
[319,"Pavel Svoboda",1938,"M","Letňany","CZ/C1",7020,1,"","",null,null,{"$f":"IF(ISERROR(VLOOKUP(B325,'Zebrik W'!$B$7:$L$1001,11,0)),\"\",IF(VLOOKUP(B325,'Zebrik W'!$B$7:$L$1001,11,0)=0,\"--\",VLOOKUP(B325,'Zebrik W'!$B$7:$L$1001,11,0)))","v":""}]
[320,"Jaroslav Potmesil",1964,"M","Zbraslavice","CZ/C1",7017,2,"","",null,null,{"$f":"IF(ISERROR(VLOOKUP(B326,'Zebrik W'!$B$7:$L$1001,11,0)),\"\",IF(VLOOKUP(B326,'Zebrik W'!$B$7:$L$1001,11,0)=0,\"--\",VLOOKUP(B326,'Zebrik W'!$B$7:$L$1001,11,0)))","v":""}]
[{"$f":"RANK(G327,G:G)","v":321},"Zbynek Fuksa",1956,"M","Jičín","CZ/C2",6998,1,"","",null,null,{"$f":"IF(ISERROR(VLOOKUP(B327,'Zebrik W'!$B$7:$L$1001,11,0)),\"\",IF(VLOOKUP(B327,'Zebrik W'!$B$7:$L$1001,11,0)=0,\"--\",VLOOKUP(B327,'Zebrik W'!$B$7:$L$1001,11,0)))","v":""}]
[321,"Martin Nejezchleb",1979,"M","Plzeň Bory","CZ/C1",6998,2,"","",null,null,{"$f":"IF(ISERROR(VLOOKUP(B328,'Zebrik W'!$B$7:$L$1001,11,0)),\"\",IF(VLOOKUP(B328,'Zebrik W'!$B$7:$L$1001,11,0)=0,\"--\",VLOOKUP(B328,'Zebrik W'!$B$7:$L$1001,11,0)))","v":""}]
[323,"Lukas Kriz",2003,"M","Křižanov","CZ/M",6953,1,"Junior v roce 2021","Junior v roce 2022",null,null,{"$f":"IF(ISERROR(VLOOKUP(B329,'Zebrik W'!$B$7:$L$1001,11,0)),\"\",IF(VLOOKUP(B329,'Zebrik W'!$B$7:$L$1001,11,0)=0,\"--\",VLOOKUP(B329,'Zebrik W'!$B$7:$L$1001,11,0)))","v":""}]
[324,"Jaroslav Rapac",1977,"M","Dvůr Králové","CZ/C2",6906,1,"","",null,null,{"$f":"IF(ISERROR(VLOOKUP(B330,'Zebrik W'!$B$7:$L$1001,11,0)),\"\",IF(VLOOKUP(B330,'Zebrik W'!$B$7:$L$1001,11,0)=0,\"--\",VLOOKUP(B330,'Zebrik W'!$B$7:$L$1001,11,0)))","v":""}]
[325,"Zbynek Bican",1961,"M","Raná","CZ/C2",6848,2,"","",null,null,{"$f":"IF(ISERROR(VLOOKUP(B331,'Zebrik W'!$B$7:$L$1001,11,0)),\"\",IF(VLOOKUP(B331,'Zebrik W'!$B$7:$L$1001,11,0)=0,\"--\",VLOOKUP(B331,'Zebrik W'!$B$7:$L$1001,11,0)))","v":""}]
[326,"Leos Strnadek",1983,"M","Hodkovice","CZ/C2",6845,1,"","",null,null,{"$f":"IF(ISERROR(VLOOKUP(B332,'Zebrik W'!$B$7:$L$1001,11,0)),\"\",IF(VLOOKUP(B332,'Zebrik W'!$B$7:$L$1001,11,0)=0,\"--\",VLOOKUP(B332,'Zebrik W'!$B$7:$L$1001,11,0)))","v":""}]
[327,"Vladimir Abraham",1962,"M","Raná","CZ/C2",6782,1,"","",null,null,{"$f":"IF(ISERROR(VLOOKUP(B333,'Zebrik W'!$B$7:$L$1001,11,0)),\"\",IF(VLOOKUP(B333,'Zebrik W'!$B$7:$L$1001,11,0)=0,\"--\",VLOOKUP(B333,'Zebrik W'!$B$7:$L$1001,11,0)))","v":""}]
[328,"Vladimir Spilka",1940,"M","Hranice","CZ/M",6767,3,"","",null,null,{"$f":"IF(ISERROR(VLOOKUP(B334,'Zebrik W'!$B$7:$L$1001,11,0)),\"\",IF(VLOOKUP(B334,'Zebrik W'!$B$7:$L$1001,11,0)=0,\"--\",VLOOKUP(B334,'Zebrik W'!$B$7:$L$1001,11,0)))","v":""}]
[329,"Jan Sponer",1988,"M","Medlánky","CZ/M",6655,1,"","",null,null,{"$f":"IF(ISERROR(VLOOKUP(B335,'Zebrik W'!$B$7:$L$1001,11,0)),\"\",IF(VLOOKUP(B335,'Zebrik W'!$B$7:$L$1001,11,0)=0,\"--\",VLOOKUP(B335,'Zebrik W'!$B$7:$L$1001,11,0)))","v":""}]
[330,"Vaclav Hruza",1965,"M","Břeclav","CZ/M",6634,2,"","",null,null,{"$f":"IF(ISERROR(VLOOKUP(B336,'Zebrik W'!$B$7:$L$1001,11,0)),\"\",IF(VLOOKUP(B336,'Zebrik W'!$B$7:$L$1001,11,0)=0,\"--\",VLOOKUP(B336,'Zebrik W'!$B$7:$L$1001,11,0)))","v":""}]
[331,"Pavel Simek",1957,"M","Vyškov","CZ/M",6594,2,"","",null,null,{"$f":"IF(ISERROR(VLOOKUP(B337,'Zebrik W'!$B$7:$L$1001,11,0)),\"\",IF(VLOOKUP(B337,'Zebrik W'!$B$7:$L$1001,11,0)=0,\"--\",VLOOKUP(B337,'Zebrik W'!$B$7:$L$1001,11,0)))","v":""}]
[332,"Frantisek Pycha",1972,"M","Chrudim","CZ/C2",6589,1,"","",null,null,{"$f":"IF(ISERROR(VLOOKUP(B338,'Zebrik W'!$B$7:$L$1001,11,0)),\"\",IF(VLOOKUP(B338,'Zebrik W'!$B$7:$L$1001,11,0)=0,\"--\",VLOOKUP(B338,'Zebrik W'!$B$7:$L$1001,11,0)))","v":""}]
[333,"Tomas Novak",1974,"M","Česká Lípa","CZ/C2",6560,1,"","",null,null,{"$f":"IF(ISERROR(VLOOKUP(B339,'Zebrik W'!$B$7:$L$1001,11,0)),\"\",IF(VLOOKUP(B339,'Zebrik W'!$B$7:$L$1001,11,0)=0,\"--\",VLOOKUP(B339,'Zebrik W'!$B$7:$L$1001,11,0)))","v":""}]
[334,"Martin Markl",1960,"M","Kolín","CZ/C1",6554,2,"","",null,null,{"$f":"IF(ISERROR(VLOOKUP(B340,'Zebrik W'!$B$7:$L$1001,11,0)),\"\",IF(VLOOKUP(B340,'Zebrik W'!$B$7:$L$1001,11,0)=0,\"--\",VLOOKUP(B340,'Zebrik W'!$B$7:$L$1001,11,0)))","v":""}]
[335,"Antonin Bordovsky",1951,"M","Krnov","CZ/M",6477,1,"","",null,null,{"$f":"IF(ISERROR(VLOOKUP(B341,'Zebrik W'!$B$7:$L$1001,11,0)),\"\",IF(VLOOKUP(B341,'Zebrik W'!$B$7:$L$1001,11,0)=0,\"--\",VLOOKUP(B341,'Zebrik W'!$B$7:$L$1001,11,0)))","v":""}]
[336,"Jiri Skarka",1965,"M","Chomutov","CZ/C2",6467,2,"","",null,null,{"$f":"IF(ISERROR(VLOOKUP(B342,'Zebrik W'!$B$7:$L$1001,11,0)),\"\",IF(VLOOKUP(B342,'Zebrik W'!$B$7:$L$1001,11,0)=0,\"--\",VLOOKUP(B342,'Zebrik W'!$B$7:$L$1001,11,0)))","v":""}]
[337,"Tomas Malik",1972,"M","Letňany","CZ/C1",6426,1,"","",null,null,{"$f":"IF(ISERROR(VLOOKUP(B343,'Zebrik W'!$B$7:$L$1001,11,0)),\"\",IF(VLOOKUP(B343,'Zebrik W'!$B$7:$L$1001,11,0)=0,\"--\",VLOOKUP(B343,'Zebrik W'!$B$7:$L$1001,11,0)))","v":""}]
[338,"Vaclav Halek",1966,"M","Toužim","CZ/C1",6407,3,"","",null,null,{"$f":"IF(ISERROR(VLOOKUP(B344,'Zebrik W'!$B$7:$L$1001,11,0)),\"\",IF(VLOOKUP(B344,'Zebrik W'!$B$7:$L$1001,11,0)=0,\"--\",VLOOKUP(B344,'Zebrik W'!$B$7:$L$1001,11,0)))","v":""}]
[339,"Ondrej Sindelar",1979,"M","Mladá Boleslav","CZ/C1",6337,1,"","",null,null,{"$f":"IF(ISERROR(VLOOKUP(B345,'Zebrik W'!$B$7:$L$1001,11,0)),\"\",IF(VLOOKUP(B345,'Zebrik W'!$B$7:$L$1001,11,0)=0,\"--\",VLOOKUP(B345,'Zebrik W'!$B$7:$L$1001,11,0)))","v":""}]
[340,"Jiri Vavrina",1958,"M","Kyjov","CZ/M",6278,1,"","",null,null,{"$f":"IF(ISERROR(VLOOKUP(B346,'Zebrik W'!$B$7:$L$1001,11,0)),\"\",IF(VLOOKUP(B346,'Zebrik W'!$B$7:$L$1001,11,0)=0,\"--\",VLOOKUP(B346,'Zebrik W'!$B$7:$L$1001,11,0)))","v":""}]
[341,"Martin Chovan",1973,"M","Zbraslavice","CZ/C1",6246,1,"","",null,null,{"$f":"IF(ISERROR(VLOOKUP(B347,'Zebrik W'!$B$7:$L$1001,11,0)),\"\",IF(VLOOKUP(B347,'Zebrik W'!$B$7:$L$1001,11,0)=0,\"--\",VLOOKUP(B347,'Zebrik W'!$B$7:$L$1001,11,0)))","v":""}]
[342,"Tereza Novakova",1993,"F","Chrudim","CZ/C2",6223,2,"","",null,null,{"$f":"IF(ISERROR(VLOOKUP(B348,'Zebrik W'!$B$7:$L$1001,11,0)),\"\",IF(VLOOKUP(B348,'Zebrik W'!$B$7:$L$1001,11,0)=0,\"--\",VLOOKUP(B348,'Zebrik W'!$B$7:$L$1001,11,0)))","v":"--"}]
[343,"Lukas Volek",2004,"M","Hodkovice","CZ/C2",6222,1,"Junior v roce 2021","Junior v roce 2022",null,null,{"$f":"IF(ISERROR(VLOOKUP(B349,'Zebrik W'!$B$7:$L$1001,11,0)),\"\",IF(VLOOKUP(B349,'Zebrik W'!$B$7:$L$1001,11,0)=0,\"--\",VLOOKUP(B349,'Zebrik W'!$B$7:$L$1001,11,0)))","v":""}]
[344,"Karel Ertl",1939,"M","LK Břeclav","CZ/M",6189,3,"","",null,null,{"$f":"IF(ISERROR(VLOOKUP(B350,'Zebrik W'!$B$7:$L$1001,11,0)),\"\",IF(VLOOKUP(B350,'Zebrik W'!$B$7:$L$1001,11,0)=0,\"--\",VLOOKUP(B350,'Zebrik W'!$B$7:$L$1001,11,0)))","v":""}]
[345,"Radim Vadasz",1989,"M","Soběslav","CZ/C1",6166,1,"","",null,null,{"$f":"IF(ISERROR(VLOOKUP(B351,'Zebrik W'!$B$7:$L$1001,11,0)),\"\",IF(VLOOKUP(B351,'Zebrik W'!$B$7:$L$1001,11,0)=0,\"--\",VLOOKUP(B351,'Zebrik W'!$B$7:$L$1001,11,0)))","v":""}]
[346,"Michaela Sirmerova",2000,"F","Jihlava","CZ/M",6083,2,"Junior v roce 2021","Junior v roce 2022",null,null,{"$f":"IF(ISERROR(VLOOKUP(B352,'Zebrik W'!$B$7:$L$1001,11,0)),\"\",IF(VLOOKUP(B352,'Zebrik W'!$B$7:$L$1001,11,0)=0,\"--\",VLOOKUP(B352,'Zebrik W'!$B$7:$L$1001,11,0)))","v":"--"}]
[347,"Carsten Tietz",1966,"M","Hronov","CZ/C2",6066,1,"","",null,null,{"$f":"IF(ISERROR(VLOOKUP(B353,'Zebrik W'!$B$7:$L$1001,11,0)),\"\",IF(VLOOKUP(B353,'Zebrik W'!$B$7:$L$1001,11,0)=0,\"--\",VLOOKUP(B353,'Zebrik W'!$B$7:$L$1001,11,0)))","v":""}]
[348,"Jan Zdvorak",1980,"M","Roudnice","CZ/C2",6040,2,"","",null,null,{"$f":"IF(ISERROR(VLOOKUP(B354,'Zebrik W'!$B$7:$L$1001,11,0)),\"\",IF(VLOOKUP(B354,'Zebrik W'!$B$7:$L$1001,11,0)=0,\"--\",VLOOKUP(B354,'Zebrik W'!$B$7:$L$1001,11,0)))","v":""}]
[349,"Jindrich Hala",1989,"M","Rakovník","CZ/C1",6015,1,"","",null,null,{"$f":"IF(ISERROR(VLOOKUP(B355,'Zebrik W'!$B$7:$L$1001,11,0)),\"\",IF(VLOOKUP(B355,'Zebrik W'!$B$7:$L$1001,11,0)=0,\"--\",VLOOKUP(B355,'Zebrik W'!$B$7:$L$1001,11,0)))","v":""}]
[350,"Rudolf Jung",1954,"M","Zbraslavice","CZ/C1",6003,2,"","",null,null,{"$f":"IF(ISERROR(VLOOKUP(B356,'Zebrik W'!$B$7:$L$1001,11,0)),\"\",IF(VLOOKUP(B356,'Zebrik W'!$B$7:$L$1001,11,0)=0,\"--\",VLOOKUP(B356,'Zebrik W'!$B$7:$L$1001,11,0)))","v":""}]
[351,"Jan Kristof",1962,"M","Frýdlant","CZ/M",5943,2,"","",null,null,{"$f":"IF(ISERROR(VLOOKUP(B357,'Zebrik W'!$B$7:$L$1001,11,0)),\"\",IF(VLOOKUP(B357,'Zebrik W'!$B$7:$L$1001,11,0)=0,\"--\",VLOOKUP(B357,'Zebrik W'!$B$7:$L$1001,11,0)))","v":""}]
[352,"Monika Jiraskova",1994,"F","Hronov","CZ/C2",5926,1,"","",null,null,{"$f":"IF(ISERROR(VLOOKUP(B358,'Zebrik W'!$B$7:$L$1001,11,0)),\"\",IF(VLOOKUP(B358,'Zebrik W'!$B$7:$L$1001,11,0)=0,\"--\",VLOOKUP(B358,'Zebrik W'!$B$7:$L$1001,11,0)))","v":"--"}]
[353,"Petr Vlasak",1974,"M","Medlánky","CZ/M",5919,2,"","",null,null,{"$f":"IF(ISERROR(VLOOKUP(B359,'Zebrik W'!$B$7:$L$1001,11,0)),\"\",IF(VLOOKUP(B359,'Zebrik W'!$B$7:$L$1001,11,0)=0,\"--\",VLOOKUP(B359,'Zebrik W'!$B$7:$L$1001,11,0)))","v":""}]
[354,"Petr Gebauer",1999,"M","Mladá Boleslav","CZ/C1",5916,1,"Junior v roce 2021","Junior v roce 2022",null,null,{"$f":"IF(ISERROR(VLOOKUP(B360,'Zebrik W'!$B$7:$L$1001,11,0)),\"\",IF(VLOOKUP(B360,'Zebrik W'!$B$7:$L$1001,11,0)=0,\"--\",VLOOKUP(B360,'Zebrik W'!$B$7:$L$1001,11,0)))","v":""}]
[355,"Antonin Teichmann",1965,"M","Hronov","CZ/C2",5902,1,"","",null,null,{"$f":"IF(ISERROR(VLOOKUP(B361,'Zebrik W'!$B$7:$L$1001,11,0)),\"\",IF(VLOOKUP(B361,'Zebrik W'!$B$7:$L$1001,11,0)=0,\"--\",VLOOKUP(B361,'Zebrik W'!$B$7:$L$1001,11,0)))","v":""}]
[356,"Ludek Souhrada",1974,"M","Raná","CZ/C2",5753,1,"","",null,null,{"$f":"IF(ISERROR(VLOOKUP(B362,'Zebrik W'!$B$7:$L$1001,11,0)),\"\",IF(VLOOKUP(B362,'Zebrik W'!$B$7:$L$1001,11,0)=0,\"--\",VLOOKUP(B362,'Zebrik W'!$B$7:$L$1001,11,0)))","v":""}]
[357,"Pavel Opat",1975,"M","Rakovník","CZ/C1",5730,1,"","",null,null,{"$f":"IF(ISERROR(VLOOKUP(B363,'Zebrik W'!$B$7:$L$1001,11,0)),\"\",IF(VLOOKUP(B363,'Zebrik W'!$B$7:$L$1001,11,0)=0,\"--\",VLOOKUP(B363,'Zebrik W'!$B$7:$L$1001,11,0)))","v":""}]
[358,"Jiri Donat",1983,"M","Chrudim","CZ/C2",5546,3,{"$f":"IF(C364=\"(prázdné)\",\"\",IF(($I$4-C364)>25,\"\",\"Junior v roce \"&$I$4))","v":""},{"$f":"IF(C364=\"(prázdné)\",\"\",IF(($J$4-C364)>25,\"\",\"Junior v roce \"&$J$4))","v":""},null,null,{"$f":"IF(ISERROR(VLOOKUP(B364,'Zebrik W'!$B$7:$L$1001,11,0)),\"\",IF(VLOOKUP(B364,'Zebrik W'!$B$7:$L$1001,11,0)=0,\"--\",VLOOKUP(B364,'Zebrik W'!$B$7:$L$1001,11,0)))","v":""}]
[359,"Zuzana Markesova",2001,"F","Medlánky","CZ/M",5533,2,"Junior v roce 2021","Junior v roce 2022",null,null,{"$f":"IF(ISERROR(VLOOKUP(B365,'Zebrik W'!$B$7:$L$1001,11,0)),\"\",IF(VLOOKUP(B365,'Zebrik W'!$B$7:$L$1001,11,0)=0,\"--\",VLOOKUP(B365,'Zebrik W'!$B$7:$L$1001,11,0)))","v":"--"}]
[360,"Jaroslav Vancata",1985,"M","Raná","CZ/C2",5515,1,"","",null,null,{"$f":"IF(ISERROR(VLOOKUP(B366,'Zebrik W'!$B$7:$L$1001,11,0)),\"\",IF(VLOOKUP(B366,'Zebrik W'!$B$7:$L$1001,11,0)=0,\"--\",VLOOKUP(B366,'Zebrik W'!$B$7:$L$1001,11,0)))","v":""}]
[361,"Barbora Kubickova",1993,"F","Medlánky","CZ/M",5434,1,"","",null,null,{"$f":"IF(ISERROR(VLOOKUP(B367,'Zebrik W'!$B$7:$L$1001,11,0)),\"\",IF(VLOOKUP(B367,'Zebrik W'!$B$7:$L$1001,11,0)=0,\"--\",VLOOKUP(B367,'Zebrik W'!$B$7:$L$1001,11,0)))","v":"--"}]
[362,"Jan Mareth",1979,"M","Frýdlant","CZ/M",5390,1,"","",null,null,{"$f":"IF(ISERROR(VLOOKUP(B368,'Zebrik W'!$B$7:$L$1001,11,0)),\"\",IF(VLOOKUP(B368,'Zebrik W'!$B$7:$L$1001,11,0)=0,\"--\",VLOOKUP(B368,'Zebrik W'!$B$7:$L$1001,11,0)))","v":""}]
[363,"Jiri Hula",1973,"M","Slaný","CZ/C1",5344,1,"","",null,null,{"$f":"IF(ISERROR(VLOOKUP(B369,'Zebrik W'!$B$7:$L$1001,11,0)),\"\",IF(VLOOKUP(B369,'Zebrik W'!$B$7:$L$1001,11,0)=0,\"--\",VLOOKUP(B369,'Zebrik W'!$B$7:$L$1001,11,0)))","v":""}]
[364,"Jan Kostka",1996,"M","Kladno","CZ/C1",5326,1,"Junior v roce 2021","",null,null,{"$f":"IF(ISERROR(VLOOKUP(B370,'Zebrik W'!$B$7:$L$1001,11,0)),\"\",IF(VLOOKUP(B370,'Zebrik W'!$B$7:$L$1001,11,0)=0,\"--\",VLOOKUP(B370,'Zebrik W'!$B$7:$L$1001,11,0)))","v":""}]
[365,"Miroslav Cervenka",1980,"M","Křižanov","CZ/M",5275,1,"","",null,null,{"$f":"IF(ISERROR(VLOOKUP(B371,'Zebrik W'!$B$7:$L$1001,11,0)),\"\",IF(VLOOKUP(B371,'Zebrik W'!$B$7:$L$1001,11,0)=0,\"--\",VLOOKUP(B371,'Zebrik W'!$B$7:$L$1001,11,0)))","v":""}]
[366,"Albrecht Beat",1953,"M","Šumperk","CZ/M",5250,2,"","",null,null,{"$f":"IF(ISERROR(VLOOKUP(B372,'Zebrik W'!$B$7:$L$1001,11,0)),\"\",IF(VLOOKUP(B372,'Zebrik W'!$B$7:$L$1001,11,0)=0,\"--\",VLOOKUP(B372,'Zebrik W'!$B$7:$L$1001,11,0)))","v":""}]
[367,"Jakub Koudelka",2000,"M","Křižanov","CZ/M",5240,2,"Junior v roce 2021","Junior v roce 2022",null,null,{"$f":"IF(ISERROR(VLOOKUP(B373,'Zebrik W'!$B$7:$L$1001,11,0)),\"\",IF(VLOOKUP(B373,'Zebrik W'!$B$7:$L$1001,11,0)=0,\"--\",VLOOKUP(B373,'Zebrik W'!$B$7:$L$1001,11,0)))","v":""}]
[368,"Rostislav Fric",1973,"M","Raná","CZ/C2",5238,1,"","",null,null,{"$f":"IF(ISERROR(VLOOKUP(B374,'Zebrik W'!$B$7:$L$1001,11,0)),\"\",IF(VLOOKUP(B374,'Zebrik W'!$B$7:$L$1001,11,0)=0,\"--\",VLOOKUP(B374,'Zebrik W'!$B$7:$L$1001,11,0)))","v":""}]
[369,"Stepan Obrovsky",1990,"M","Frýdlant","CZ/M",5105,1,"","",null,null,{"$f":"IF(ISERROR(VLOOKUP(B375,'Zebrik W'!$B$7:$L$1001,11,0)),\"\",IF(VLOOKUP(B375,'Zebrik W'!$B$7:$L$1001,11,0)=0,\"--\",VLOOKUP(B375,'Zebrik W'!$B$7:$L$1001,11,0)))","v":""}]
[370,"Stanislav John",1974,"M","Hosín","CZ/C1",5077,2,"","",null,null,{"$f":"IF(ISERROR(VLOOKUP(B376,'Zebrik W'!$B$7:$L$1001,11,0)),\"\",IF(VLOOKUP(B376,'Zebrik W'!$B$7:$L$1001,11,0)=0,\"--\",VLOOKUP(B376,'Zebrik W'!$B$7:$L$1001,11,0)))","v":""}]
[371,"Martin Krizovic",1971,"M","Přibyslav","CZ/C2",5000,1,"","",null,null,{"$f":"IF(ISERROR(VLOOKUP(B377,'Zebrik W'!$B$7:$L$1001,11,0)),\"\",IF(VLOOKUP(B377,'Zebrik W'!$B$7:$L$1001,11,0)=0,\"--\",VLOOKUP(B377,'Zebrik W'!$B$7:$L$1001,11,0)))","v":""}]
[372,"Jan Heroudek",1970,"M","Rakovník","CZ/C1",4990,1,"","",null,null,{"$f":"IF(ISERROR(VLOOKUP(B378,'Zebrik W'!$B$7:$L$1001,11,0)),\"\",IF(VLOOKUP(B378,'Zebrik W'!$B$7:$L$1001,11,0)=0,\"--\",VLOOKUP(B378,'Zebrik W'!$B$7:$L$1001,11,0)))","v":""}]
[373,"Roman Lengal",1987,"M","Břeclav","CZ/M",4981,1,"","",null,null,{"$f":"IF(ISERROR(VLOOKUP(B379,'Zebrik W'!$B$7:$L$1001,11,0)),\"\",IF(VLOOKUP(B379,'Zebrik W'!$B$7:$L$1001,11,0)=0,\"--\",VLOOKUP(B379,'Zebrik W'!$B$7:$L$1001,11,0)))","v":""}]
[374,"Michal Maly",1982,"M","Broumov","CZ/C2",4931,1,"","",null,null,{"$f":"IF(ISERROR(VLOOKUP(B380,'Zebrik W'!$B$7:$L$1001,11,0)),\"\",IF(VLOOKUP(B380,'Zebrik W'!$B$7:$L$1001,11,0)=0,\"--\",VLOOKUP(B380,'Zebrik W'!$B$7:$L$1001,11,0)))","v":""}]
[375,"Petr Kyzivat",1970,"M","Jičín","CZ/C2",4919,1,"","",null,null,{"$f":"IF(ISERROR(VLOOKUP(B381,'Zebrik W'!$B$7:$L$1001,11,0)),\"\",IF(VLOOKUP(B381,'Zebrik W'!$B$7:$L$1001,11,0)=0,\"--\",VLOOKUP(B381,'Zebrik W'!$B$7:$L$1001,11,0)))","v":""}]
[376,"Marek Loukota",2000,"M","Letkov","CZ/C1",4889,1,"Junior v roce 2021","Junior v roce 2022",null,null,{"$f":"IF(ISERROR(VLOOKUP(B382,'Zebrik W'!$B$7:$L$1001,11,0)),\"\",IF(VLOOKUP(B382,'Zebrik W'!$B$7:$L$1001,11,0)=0,\"--\",VLOOKUP(B382,'Zebrik W'!$B$7:$L$1001,11,0)))","v":""}]
[377,"Tereza Krcilova Spalenkova",1981,"F","Raná","CZ/C2",4805,2,"","",null,null,{"$f":"IF(ISERROR(VLOOKUP(B383,'Zebrik W'!$B$7:$L$1001,11,0)),\"\",IF(VLOOKUP(B383,'Zebrik W'!$B$7:$L$1001,11,0)=0,\"--\",VLOOKUP(B383,'Zebrik W'!$B$7:$L$1001,11,0)))","v":"--"}]
[378,"Petr Kohr",1970,"M","Raná","CZ/C2",4775,1,"","",null,null,{"$f":"IF(ISERROR(VLOOKUP(B384,'Zebrik W'!$B$7:$L$1001,11,0)),\"\",IF(VLOOKUP(B384,'Zebrik W'!$B$7:$L$1001,11,0)=0,\"--\",VLOOKUP(B384,'Zebrik W'!$B$7:$L$1001,11,0)))","v":""}]
[379,"Pavel Koudelka",1973,"M","Křižanov","CZ/M",4761,1,"","",null,null,{"$f":"IF(ISERROR(VLOOKUP(B385,'Zebrik W'!$B$7:$L$1001,11,0)),\"\",IF(VLOOKUP(B385,'Zebrik W'!$B$7:$L$1001,11,0)=0,\"--\",VLOOKUP(B385,'Zebrik W'!$B$7:$L$1001,11,0)))","v":""}]
[380,"Michal Nutil",1966,"M","Náchod","CZ/C2",4757,1,"","",null,null,{"$f":"IF(ISERROR(VLOOKUP(B386,'Zebrik W'!$B$7:$L$1001,11,0)),\"\",IF(VLOOKUP(B386,'Zebrik W'!$B$7:$L$1001,11,0)=0,\"--\",VLOOKUP(B386,'Zebrik W'!$B$7:$L$1001,11,0)))","v":""}]
[381,"Lukas Zemek",1994,"M","Letkov","CZ/C1",4677,2,"","",null,null,{"$f":"IF(ISERROR(VLOOKUP(B387,'Zebrik W'!$B$7:$L$1001,11,0)),\"\",IF(VLOOKUP(B387,'Zebrik W'!$B$7:$L$1001,11,0)=0,\"--\",VLOOKUP(B387,'Zebrik W'!$B$7:$L$1001,11,0)))","v":""}]
[382,"Frantisek Brozman",1960,"M","Tachov","CZ/C1",4662,3,"","",null,null,{"$f":"IF(ISERROR(VLOOKUP(B388,'Zebrik W'!$B$7:$L$1001,11,0)),\"\",IF(VLOOKUP(B388,'Zebrik W'!$B$7:$L$1001,11,0)=0,\"--\",VLOOKUP(B388,'Zebrik W'!$B$7:$L$1001,11,0)))","v":""}]
[383,"Ondrej Hart",1990,"M","Letňany","CZ/C1",4658,1,"","",null,null,{"$f":"IF(ISERROR(VLOOKUP(B389,'Zebrik W'!$B$7:$L$1001,11,0)),\"\",IF(VLOOKUP(B389,'Zebrik W'!$B$7:$L$1001,11,0)=0,\"--\",VLOOKUP(B389,'Zebrik W'!$B$7:$L$1001,11,0)))","v":""}]
[384,"Michal Vranek",1993,"M","Hosín","CZ/C1",4638,1,"","",null,null,{"$f":"IF(ISERROR(VLOOKUP(B390,'Zebrik W'!$B$7:$L$1001,11,0)),\"\",IF(VLOOKUP(B390,'Zebrik W'!$B$7:$L$1001,11,0)=0,\"--\",VLOOKUP(B390,'Zebrik W'!$B$7:$L$1001,11,0)))","v":""}]
[{"$f":"RANK(G391,G:G)","v":385},"Jaroslav Nedorost",1986,"M","Letňany","CZ/C1",4625,2,"","",null,null,{"$f":"IF(ISERROR(VLOOKUP(B391,'Zebrik W'!$B$7:$L$1001,11,0)),\"\",IF(VLOOKUP(B391,'Zebrik W'!$B$7:$L$1001,11,0)=0,\"--\",VLOOKUP(B391,'Zebrik W'!$B$7:$L$1001,11,0)))","v":""}]
[386,"Vit Grossmann",1977,"M","Hranice","CZ/M",4607,2,"","",null,null,{"$f":"IF(ISERROR(VLOOKUP(B392,'Zebrik W'!$B$7:$L$1001,11,0)),\"\",IF(VLOOKUP(B392,'Zebrik W'!$B$7:$L$1001,11,0)=0,\"--\",VLOOKUP(B392,'Zebrik W'!$B$7:$L$1001,11,0)))","v":""}]
[387,"Daniela Frankova",1997,"M","Jaroměř","CZ/C2",4520,1,"Junior v roce 2021","Junior v roce 2022",null,null,{"$f":"IF(ISERROR(VLOOKUP(B393,'Zebrik W'!$B$7:$L$1001,11,0)),\"\",IF(VLOOKUP(B393,'Zebrik W'!$B$7:$L$1001,11,0)=0,\"--\",VLOOKUP(B393,'Zebrik W'!$B$7:$L$1001,11,0)))","v":""}]
[388,"Radek Hamrla",1973,"M","Vyškov","CZ/M",4447,1,"","",null,null,{"$f":"IF(ISERROR(VLOOKUP(B394,'Zebrik W'!$B$7:$L$1001,11,0)),\"\",IF(VLOOKUP(B394,'Zebrik W'!$B$7:$L$1001,11,0)=0,\"--\",VLOOKUP(B394,'Zebrik W'!$B$7:$L$1001,11,0)))","v":""}]
[389,"David Krcil",1976,"M","Raná","CZ/C2",4411,2,"","",null,null,{"$f":"IF(ISERROR(VLOOKUP(B395,'Zebrik W'!$B$7:$L$1001,11,0)),\"\",IF(VLOOKUP(B395,'Zebrik W'!$B$7:$L$1001,11,0)=0,\"--\",VLOOKUP(B395,'Zebrik W'!$B$7:$L$1001,11,0)))","v":""}]
[390,"Miroslav Mancik",1976,"M","Kyjov","CZ/M",4334,1,"","",null,null,{"$f":"IF(ISERROR(VLOOKUP(B396,'Zebrik W'!$B$7:$L$1001,11,0)),\"\",IF(VLOOKUP(B396,'Zebrik W'!$B$7:$L$1001,11,0)=0,\"--\",VLOOKUP(B396,'Zebrik W'!$B$7:$L$1001,11,0)))","v":""}]
[391,"Viktor Becan",1979,"M","GAC Benešov","CZ/C1",4301,1,"","",null,null,{"$f":"IF(ISERROR(VLOOKUP(B397,'Zebrik W'!$B$7:$L$1001,11,0)),\"\",IF(VLOOKUP(B397,'Zebrik W'!$B$7:$L$1001,11,0)=0,\"--\",VLOOKUP(B397,'Zebrik W'!$B$7:$L$1001,11,0)))","v":""}]
[392,"Petr Vezda",1974,"M","Medlánky","CZ/M",4300,1,"","",null,null,{"$f":"IF(ISERROR(VLOOKUP(B398,'Zebrik W'!$B$7:$L$1001,11,0)),\"\",IF(VLOOKUP(B398,'Zebrik W'!$B$7:$L$1001,11,0)=0,\"--\",VLOOKUP(B398,'Zebrik W'!$B$7:$L$1001,11,0)))","v":""}]
[393,"Lukas Hykl",1985,"M","Kolín","CZ/C1",4262,2,"","",null,null,{"$f":"IF(ISERROR(VLOOKUP(B399,'Zebrik W'!$B$7:$L$1001,11,0)),\"\",IF(VLOOKUP(B399,'Zebrik W'!$B$7:$L$1001,11,0)=0,\"--\",VLOOKUP(B399,'Zebrik W'!$B$7:$L$1001,11,0)))","v":""}]
[394,"Jan Adam",2002,"M","Podhořany","CZ/C2",4253,1,"Junior v roce 2021","Junior v roce 2022",null,null,{"$f":"IF(ISERROR(VLOOKUP(B400,'Zebrik W'!$B$7:$L$1001,11,0)),\"\",IF(VLOOKUP(B400,'Zebrik W'!$B$7:$L$1001,11,0)=0,\"--\",VLOOKUP(B400,'Zebrik W'!$B$7:$L$1001,11,0)))","v":""}]
[395,"Petr Valenta 76",1976,"M","Jaroměř","CZ/C2",4211,1,"","",null,null,{"$f":"IF(ISERROR(VLOOKUP(B401,'Zebrik W'!$B$7:$L$1001,11,0)),\"\",IF(VLOOKUP(B401,'Zebrik W'!$B$7:$L$1001,11,0)=0,\"--\",VLOOKUP(B401,'Zebrik W'!$B$7:$L$1001,11,0)))","v":""}]
[396,"Radim Zielinski",1969,"M","Frýdlant","CZ/M",4159,1,"","",null,null,{"$f":"IF(ISERROR(VLOOKUP(B402,'Zebrik W'!$B$7:$L$1001,11,0)),\"\",IF(VLOOKUP(B402,'Zebrik W'!$B$7:$L$1001,11,0)=0,\"--\",VLOOKUP(B402,'Zebrik W'!$B$7:$L$1001,11,0)))","v":""}]
[397,"Lukas Zach",1987,"M","Vyškov","CZ/M",4118,2,"","",null,null,{"$f":"IF(ISERROR(VLOOKUP(B403,'Zebrik W'!$B$7:$L$1001,11,0)),\"\",IF(VLOOKUP(B403,'Zebrik W'!$B$7:$L$1001,11,0)=0,\"--\",VLOOKUP(B403,'Zebrik W'!$B$7:$L$1001,11,0)))","v":""}]
[398,"Martin Tison",2000,"M","Hosín","CZ/C1",3999,1,"Junior v roce 2021","Junior v roce 2022",null,null,{"$f":"IF(ISERROR(VLOOKUP(B404,'Zebrik W'!$B$7:$L$1001,11,0)),\"\",IF(VLOOKUP(B404,'Zebrik W'!$B$7:$L$1001,11,0)=0,\"--\",VLOOKUP(B404,'Zebrik W'!$B$7:$L$1001,11,0)))","v":""}]
[399,"Lukas Jezek",1975,"M","Jičín","CZ/C2",3989,1,"","",null,null,{"$f":"IF(ISERROR(VLOOKUP(B405,'Zebrik W'!$B$7:$L$1001,11,0)),\"\",IF(VLOOKUP(B405,'Zebrik W'!$B$7:$L$1001,11,0)=0,\"--\",VLOOKUP(B405,'Zebrik W'!$B$7:$L$1001,11,0)))","v":""}]
[400,"Petr Cernicky",1974,"M","Toužim","CZ/C1",3984,2,"","",null,null,{"$f":"IF(ISERROR(VLOOKUP(B406,'Zebrik W'!$B$7:$L$1001,11,0)),\"\",IF(VLOOKUP(B406,'Zebrik W'!$B$7:$L$1001,11,0)=0,\"--\",VLOOKUP(B406,'Zebrik W'!$B$7:$L$1001,11,0)))","v":""}]
[401,"Milos Novotny",1973,"M","Hronov","CZ/C2",3960,2,"","",null,null,{"$f":"IF(ISERROR(VLOOKUP(B407,'Zebrik W'!$B$7:$L$1001,11,0)),\"\",IF(VLOOKUP(B407,'Zebrik W'!$B$7:$L$1001,11,0)=0,\"--\",VLOOKUP(B407,'Zebrik W'!$B$7:$L$1001,11,0)))","v":""}]
[402,"Lukas Fronek",1989,"M","Kyjov","CZ/M",3924,1,"","",null,null,{"$f":"IF(ISERROR(VLOOKUP(B408,'Zebrik W'!$B$7:$L$1001,11,0)),\"\",IF(VLOOKUP(B408,'Zebrik W'!$B$7:$L$1001,11,0)=0,\"--\",VLOOKUP(B408,'Zebrik W'!$B$7:$L$1001,11,0)))","v":""}]
[403,"Katerina Vancurova",2002,"F","Hranice","CZ/M",3912,1,"Junior v roce 2021","Junior v roce 2022",null,null,{"$f":"IF(ISERROR(VLOOKUP(B409,'Zebrik W'!$B$7:$L$1001,11,0)),\"\",IF(VLOOKUP(B409,'Zebrik W'!$B$7:$L$1001,11,0)=0,\"--\",VLOOKUP(B409,'Zebrik W'!$B$7:$L$1001,11,0)))","v":"--"}]
[404,"Jan Cerveny",1984,"M","Jaroměř","CZ/C2",3843,1,"","",null,null,{"$f":"IF(ISERROR(VLOOKUP(B410,'Zebrik W'!$B$7:$L$1001,11,0)),\"\",IF(VLOOKUP(B410,'Zebrik W'!$B$7:$L$1001,11,0)=0,\"--\",VLOOKUP(B410,'Zebrik W'!$B$7:$L$1001,11,0)))","v":""}]
[405,"Matej Jelinek",1999,"M","Hronov","CZ/C2",3834,1,"Junior v roce 2021","Junior v roce 2022",null,null,{"$f":"IF(ISERROR(VLOOKUP(B411,'Zebrik W'!$B$7:$L$1001,11,0)),\"\",IF(VLOOKUP(B411,'Zebrik W'!$B$7:$L$1001,11,0)=0,\"--\",VLOOKUP(B411,'Zebrik W'!$B$7:$L$1001,11,0)))","v":""}]
[406,"Bedrich Honzicek",1972,"M","Letňany","CZ/C1",3832,1,"","",null,null,{"$f":"IF(ISERROR(VLOOKUP(B412,'Zebrik W'!$B$7:$L$1001,11,0)),\"\",IF(VLOOKUP(B412,'Zebrik W'!$B$7:$L$1001,11,0)=0,\"--\",VLOOKUP(B412,'Zebrik W'!$B$7:$L$1001,11,0)))","v":""}]
[407,"Karel Kotlan",1957,"M","Medlánky","CZ/M",3811,1,"","",null,null,{"$f":"IF(ISERROR(VLOOKUP(B413,'Zebrik W'!$B$7:$L$1001,11,0)),\"\",IF(VLOOKUP(B413,'Zebrik W'!$B$7:$L$1001,11,0)=0,\"--\",VLOOKUP(B413,'Zebrik W'!$B$7:$L$1001,11,0)))","v":""}]
[408,"Pavel Brodsky",1992,"M","Hořice","CZ/C2",3775,1,"","",null,null,{"$f":"IF(ISERROR(VLOOKUP(B414,'Zebrik W'!$B$7:$L$1001,11,0)),\"\",IF(VLOOKUP(B414,'Zebrik W'!$B$7:$L$1001,11,0)=0,\"--\",VLOOKUP(B414,'Zebrik W'!$B$7:$L$1001,11,0)))","v":""}]
[409,"Jiri Janda",1966,"M","Letňany","CZ/C1",3766,2,"","",null,null,{"$f":"IF(ISERROR(VLOOKUP(B415,'Zebrik W'!$B$7:$L$1001,11,0)),\"\",IF(VLOOKUP(B415,'Zebrik W'!$B$7:$L$1001,11,0)=0,\"--\",VLOOKUP(B415,'Zebrik W'!$B$7:$L$1001,11,0)))","v":""}]
[410,"Pavel Kuriscak",1987,"M","Beroun","CZ/C1",3762,1,"","",null,null,{"$f":"IF(ISERROR(VLOOKUP(B416,'Zebrik W'!$B$7:$L$1001,11,0)),\"\",IF(VLOOKUP(B416,'Zebrik W'!$B$7:$L$1001,11,0)=0,\"--\",VLOOKUP(B416,'Zebrik W'!$B$7:$L$1001,11,0)))","v":""}]
[411,"Ludek Mikl",1963,"M","Kroměříž","CZ/M",3758,2,"","",null,null,{"$f":"IF(ISERROR(VLOOKUP(B417,'Zebrik W'!$B$7:$L$1001,11,0)),\"\",IF(VLOOKUP(B417,'Zebrik W'!$B$7:$L$1001,11,0)=0,\"--\",VLOOKUP(B417,'Zebrik W'!$B$7:$L$1001,11,0)))","v":""}]
[412,"Jiri Slouka",1967,"M","Medlánky","CZ/M",3674,1,"","",null,null,{"$f":"IF(ISERROR(VLOOKUP(B418,'Zebrik W'!$B$7:$L$1001,11,0)),\"\",IF(VLOOKUP(B418,'Zebrik W'!$B$7:$L$1001,11,0)=0,\"--\",VLOOKUP(B418,'Zebrik W'!$B$7:$L$1001,11,0)))","v":""}]
[413,"Josef Andrasovsky",1954,"M","Jaroměř","CZ/C2",3632,1,"","",null,null,{"$f":"IF(ISERROR(VLOOKUP(B419,'Zebrik W'!$B$7:$L$1001,11,0)),\"\",IF(VLOOKUP(B419,'Zebrik W'!$B$7:$L$1001,11,0)=0,\"--\",VLOOKUP(B419,'Zebrik W'!$B$7:$L$1001,11,0)))","v":""}]
[414,"Jiri Tomicek",1947,"M","Dvůr Králové","CZ/C2",3630,2,"","",null,null,{"$f":"IF(ISERROR(VLOOKUP(B420,'Zebrik W'!$B$7:$L$1001,11,0)),\"\",IF(VLOOKUP(B420,'Zebrik W'!$B$7:$L$1001,11,0)=0,\"--\",VLOOKUP(B420,'Zebrik W'!$B$7:$L$1001,11,0)))","v":""}]
[415,"Petr Seibrt",1974,"M","Náchod","CZ/C2",3600,1,"","",null,null,{"$f":"IF(ISERROR(VLOOKUP(B421,'Zebrik W'!$B$7:$L$1001,11,0)),\"\",IF(VLOOKUP(B421,'Zebrik W'!$B$7:$L$1001,11,0)=0,\"--\",VLOOKUP(B421,'Zebrik W'!$B$7:$L$1001,11,0)))","v":""}]
[416,"Ludek Kluger",1963,"M","Tábor","CZ/C1",3520,1,"","",null,null,{"$f":"IF(ISERROR(VLOOKUP(B422,'Zebrik W'!$B$7:$L$1001,11,0)),\"\",IF(VLOOKUP(B422,'Zebrik W'!$B$7:$L$1001,11,0)=0,\"--\",VLOOKUP(B422,'Zebrik W'!$B$7:$L$1001,11,0)))","v":""}]
[417,"Leos Nosek",1958,"M","Vyškov","CZ/M",3505,3,"","",null,null,{"$f":"IF(ISERROR(VLOOKUP(B423,'Zebrik W'!$B$7:$L$1001,11,0)),\"\",IF(VLOOKUP(B423,'Zebrik W'!$B$7:$L$1001,11,0)=0,\"--\",VLOOKUP(B423,'Zebrik W'!$B$7:$L$1001,11,0)))","v":""}]
[418,"Jan Konecny",1972,"M","Rakovník","CZ/C1",3501,2,"","",null,null,{"$f":"IF(ISERROR(VLOOKUP(B424,'Zebrik W'!$B$7:$L$1001,11,0)),\"\",IF(VLOOKUP(B424,'Zebrik W'!$B$7:$L$1001,11,0)=0,\"--\",VLOOKUP(B424,'Zebrik W'!$B$7:$L$1001,11,0)))","v":""}]
[419,"Jan Cibulka",2002,"M","Letňany","CZ/C1",3424,1,"Junior v roce 2021","Junior v roce 2022",null,null,{"$f":"IF(ISERROR(VLOOKUP(B425,'Zebrik W'!$B$7:$L$1001,11,0)),\"\",IF(VLOOKUP(B425,'Zebrik W'!$B$7:$L$1001,11,0)=0,\"--\",VLOOKUP(B425,'Zebrik W'!$B$7:$L$1001,11,0)))","v":""}]
[420,"Pavel Sulc",1976,"M","Hodkovice","CZ/C2",3390,1,"","",null,null,{"$f":"IF(ISERROR(VLOOKUP(B426,'Zebrik W'!$B$7:$L$1001,11,0)),\"\",IF(VLOOKUP(B426,'Zebrik W'!$B$7:$L$1001,11,0)=0,\"--\",VLOOKUP(B426,'Zebrik W'!$B$7:$L$1001,11,0)))","v":""}]
[421,"Jan Camr",2002,"M","Jaroměř","CZ/C2",3284,1,"Junior v roce 2021","Junior v roce 2022",null,null,{"$f":"IF(ISERROR(VLOOKUP(B427,'Zebrik W'!$B$7:$L$1001,11,0)),\"\",IF(VLOOKUP(B427,'Zebrik W'!$B$7:$L$1001,11,0)=0,\"--\",VLOOKUP(B427,'Zebrik W'!$B$7:$L$1001,11,0)))","v":""}]
[422,"Jaroslav Kares",1962,"M","Olomouc","CZ/M",3267,1,{"$f":"IF(C428=\"(prázdné)\",\"\",IF(($I$4-C428)>25,\"\",\"Junior v roce \"&$I$4))","v":""},{"$f":"IF(C428=\"(prázdné)\",\"\",IF(($J$4-C428)>25,\"\",\"Junior v roce \"&$J$4))","v":""},null,null,{"$f":"IF(ISERROR(VLOOKUP(B428,'Zebrik W'!$B$7:$L$1001,11,0)),\"\",IF(VLOOKUP(B428,'Zebrik W'!$B$7:$L$1001,11,0)=0,\"--\",VLOOKUP(B428,'Zebrik W'!$B$7:$L$1001,11,0)))","v":""}]
[423,"Radmila Horacek Filakovska",1963,"F","Dvůr Králové","CZ/C2",3202,1,"","",null,null,{"$f":"IF(ISERROR(VLOOKUP(B429,'Zebrik W'!$B$7:$L$1001,11,0)),\"\",IF(VLOOKUP(B429,'Zebrik W'!$B$7:$L$1001,11,0)=0,\"--\",VLOOKUP(B429,'Zebrik W'!$B$7:$L$1001,11,0)))","v":"--"}]
[424,"Zuzana Kutilkova",1993,"F","Křižanov","CZ/M",3164,1,"","",null,null,{"$f":"IF(ISERROR(VLOOKUP(B430,'Zebrik W'!$B$7:$L$1001,11,0)),\"\",IF(VLOOKUP(B430,'Zebrik W'!$B$7:$L$1001,11,0)=0,\"--\",VLOOKUP(B430,'Zebrik W'!$B$7:$L$1001,11,0)))","v":"--"}]
[425,"Michal Vopalensky",1974,"M","Letňany","CZ/C1",3085,1,"","",null,null,{"$f":"IF(ISERROR(VLOOKUP(B431,'Zebrik W'!$B$7:$L$1001,11,0)),\"\",IF(VLOOKUP(B431,'Zebrik W'!$B$7:$L$1001,11,0)=0,\"--\",VLOOKUP(B431,'Zebrik W'!$B$7:$L$1001,11,0)))","v":""}]
[426,"Jaroslav Cejka",1952,"M","Letkov","CZ/C1",3034,1,"","",null,null,{"$f":"IF(ISERROR(VLOOKUP(B432,'Zebrik W'!$B$7:$L$1001,11,0)),\"\",IF(VLOOKUP(B432,'Zebrik W'!$B$7:$L$1001,11,0)=0,\"--\",VLOOKUP(B432,'Zebrik W'!$B$7:$L$1001,11,0)))","v":""}]
[427,"Ivan Ladr",1940,"M","Dvůr Králové","CZ/C2",2995,1,"","",null,null,{"$f":"IF(ISERROR(VLOOKUP(B433,'Zebrik W'!$B$7:$L$1001,11,0)),\"\",IF(VLOOKUP(B433,'Zebrik W'!$B$7:$L$1001,11,0)=0,\"--\",VLOOKUP(B433,'Zebrik W'!$B$7:$L$1001,11,0)))","v":""}]
[428,"Bohumil Rikal",1946,"M","Hronov","CZ/C2",2959,1,"","",null,null,{"$f":"IF(ISERROR(VLOOKUP(B434,'Zebrik W'!$B$7:$L$1001,11,0)),\"\",IF(VLOOKUP(B434,'Zebrik W'!$B$7:$L$1001,11,0)=0,\"--\",VLOOKUP(B434,'Zebrik W'!$B$7:$L$1001,11,0)))","v":""}]
[429,"Petra Diepoldova",1978,"F","Vysoké Mýto","CZ/C2",2947,1,"","",null,null,{"$f":"IF(ISERROR(VLOOKUP(B435,'Zebrik W'!$B$7:$L$1001,11,0)),\"\",IF(VLOOKUP(B435,'Zebrik W'!$B$7:$L$1001,11,0)=0,\"--\",VLOOKUP(B435,'Zebrik W'!$B$7:$L$1001,11,0)))","v":"--"}]
[430,"Teodor Skoda",1998,"M","Hronov","CZ/C2",2895,1,"Junior v roce 2021","Junior v roce 2022",null,null,{"$f":"IF(ISERROR(VLOOKUP(B436,'Zebrik W'!$B$7:$L$1001,11,0)),\"\",IF(VLOOKUP(B436,'Zebrik W'!$B$7:$L$1001,11,0)=0,\"--\",VLOOKUP(B436,'Zebrik W'!$B$7:$L$1001,11,0)))","v":""}]
[431,"Vaclav Hrdina",1984,"M","Letkov","CZ/C1",2887,2,"","",null,null,{"$f":"IF(ISERROR(VLOOKUP(B437,'Zebrik W'!$B$7:$L$1001,11,0)),\"\",IF(VLOOKUP(B437,'Zebrik W'!$B$7:$L$1001,11,0)=0,\"--\",VLOOKUP(B437,'Zebrik W'!$B$7:$L$1001,11,0)))","v":""}]
[432,"Milos Rejzl",1962,"M","Klatovy","CZ/C1",2819,2,"","",null,null,{"$f":"IF(ISERROR(VLOOKUP(B438,'Zebrik W'!$B$7:$L$1001,11,0)),\"\",IF(VLOOKUP(B438,'Zebrik W'!$B$7:$L$1001,11,0)=0,\"--\",VLOOKUP(B438,'Zebrik W'!$B$7:$L$1001,11,0)))","v":""}]
[433,"Tomas Ohera",1977,"M","Letňany","CZ/C1",2764,1,"","",null,null,{"$f":"IF(ISERROR(VLOOKUP(B439,'Zebrik W'!$B$7:$L$1001,11,0)),\"\",IF(VLOOKUP(B439,'Zebrik W'!$B$7:$L$1001,11,0)=0,\"--\",VLOOKUP(B439,'Zebrik W'!$B$7:$L$1001,11,0)))","v":""}]
[434,"Milada Moudra",1991,"F","Hodkovice","CZ/C2",2743,1,"","",null,null,{"$f":"IF(ISERROR(VLOOKUP(B440,'Zebrik W'!$B$7:$L$1001,11,0)),\"\",IF(VLOOKUP(B440,'Zebrik W'!$B$7:$L$1001,11,0)=0,\"--\",VLOOKUP(B440,'Zebrik W'!$B$7:$L$1001,11,0)))","v":"--"}]
[435,"Jiri Krofta",1988,"M","Hosín","CZ/C1",2598,1,"","",null,null,{"$f":"IF(ISERROR(VLOOKUP(B441,'Zebrik W'!$B$7:$L$1001,11,0)),\"\",IF(VLOOKUP(B441,'Zebrik W'!$B$7:$L$1001,11,0)=0,\"--\",VLOOKUP(B441,'Zebrik W'!$B$7:$L$1001,11,0)))","v":""}]
[436,"Vojtech Kostejn",1974,"M","Hodkovice","CZ/C2",2483,1,"","",null,null,{"$f":"IF(ISERROR(VLOOKUP(B442,'Zebrik W'!$B$7:$L$1001,11,0)),\"\",IF(VLOOKUP(B442,'Zebrik W'!$B$7:$L$1001,11,0)=0,\"--\",VLOOKUP(B442,'Zebrik W'!$B$7:$L$1001,11,0)))","v":""}]
[437,"Martin Svacina",1965,"M","Frýdlant","CZ/M",2433,2,"","",null,null,{"$f":"IF(ISERROR(VLOOKUP(B443,'Zebrik W'!$B$7:$L$1001,11,0)),\"\",IF(VLOOKUP(B443,'Zebrik W'!$B$7:$L$1001,11,0)=0,\"--\",VLOOKUP(B443,'Zebrik W'!$B$7:$L$1001,11,0)))","v":""}]
[438,"Jiri Pixa",1968,"M","Slaný","CZ/C1",2409,1,"","",null,null,{"$f":"IF(ISERROR(VLOOKUP(B444,'Zebrik W'!$B$7:$L$1001,11,0)),\"\",IF(VLOOKUP(B444,'Zebrik W'!$B$7:$L$1001,11,0)=0,\"--\",VLOOKUP(B444,'Zebrik W'!$B$7:$L$1001,11,0)))","v":""}]
[439,"Vaclav Ochotny",1966,"M","Kunovice","CZ/M",2340,1,"","",null,null,{"$f":"IF(ISERROR(VLOOKUP(B445,'Zebrik W'!$B$7:$L$1001,11,0)),\"\",IF(VLOOKUP(B445,'Zebrik W'!$B$7:$L$1001,11,0)=0,\"--\",VLOOKUP(B445,'Zebrik W'!$B$7:$L$1001,11,0)))","v":""}]
[440,"Frantisek Suna",1983,"M","Hosín","CZ/C1",2325,1,"","",null,null,{"$f":"IF(ISERROR(VLOOKUP(B446,'Zebrik W'!$B$7:$L$1001,11,0)),\"\",IF(VLOOKUP(B446,'Zebrik W'!$B$7:$L$1001,11,0)=0,\"--\",VLOOKUP(B446,'Zebrik W'!$B$7:$L$1001,11,0)))","v":""}]
[441,"Radek Laga",1997,"M","Kunovice","CZ/M",2249,1,"Junior v roce 2021","Junior v roce 2022",null,null,{"$f":"IF(ISERROR(VLOOKUP(B447,'Zebrik W'!$B$7:$L$1001,11,0)),\"\",IF(VLOOKUP(B447,'Zebrik W'!$B$7:$L$1001,11,0)=0,\"--\",VLOOKUP(B447,'Zebrik W'!$B$7:$L$1001,11,0)))","v":""}]
[442,"Jiri Kohoutek",1983,"M","Olomouc","CZ/M",2164,1,"","",null,null,{"$f":"IF(ISERROR(VLOOKUP(B448,'Zebrik W'!$B$7:$L$1001,11,0)),\"\",IF(VLOOKUP(B448,'Zebrik W'!$B$7:$L$1001,11,0)=0,\"--\",VLOOKUP(B448,'Zebrik W'!$B$7:$L$1001,11,0)))","v":""}]
[443,"Pavel Svrcek",1972,"M","Frýdlant","CZ/M",2104,2,"","",null,null,{"$f":"IF(ISERROR(VLOOKUP(B449,'Zebrik W'!$B$7:$L$1001,11,0)),\"\",IF(VLOOKUP(B449,'Zebrik W'!$B$7:$L$1001,11,0)=0,\"--\",VLOOKUP(B449,'Zebrik W'!$B$7:$L$1001,11,0)))","v":""}]
[444,"Stanislav Vrabec",1975,"M","Česká Lípa","CZ/C2",2102,1,"","",null,null,{"$f":"IF(ISERROR(VLOOKUP(B450,'Zebrik W'!$B$7:$L$1001,11,0)),\"\",IF(VLOOKUP(B450,'Zebrik W'!$B$7:$L$1001,11,0)=0,\"--\",VLOOKUP(B450,'Zebrik W'!$B$7:$L$1001,11,0)))","v":""}]
[445,"Tomas Holenda",1956,"M","Havlíčkův Brod","CZ/C2",2096,1,"","",null,null,{"$f":"IF(ISERROR(VLOOKUP(B451,'Zebrik W'!$B$7:$L$1001,11,0)),\"\",IF(VLOOKUP(B451,'Zebrik W'!$B$7:$L$1001,11,0)=0,\"--\",VLOOKUP(B451,'Zebrik W'!$B$7:$L$1001,11,0)))","v":""}]
[446,"Petr Omelka",1970,"M","Vyškov","CZ/M",2088,2,"","",null,null,{"$f":"IF(ISERROR(VLOOKUP(B452,'Zebrik W'!$B$7:$L$1001,11,0)),\"\",IF(VLOOKUP(B452,'Zebrik W'!$B$7:$L$1001,11,0)=0,\"--\",VLOOKUP(B452,'Zebrik W'!$B$7:$L$1001,11,0)))","v":""}]
[447,"Eliska Bohunovska",2001,"F","Hranice","CZ/M",2073,1,"Junior v roce 2021","Junior v roce 2022",null,null,{"$f":"IF(ISERROR(VLOOKUP(B453,'Zebrik W'!$B$7:$L$1001,11,0)),\"\",IF(VLOOKUP(B453,'Zebrik W'!$B$7:$L$1001,11,0)=0,\"--\",VLOOKUP(B453,'Zebrik W'!$B$7:$L$1001,11,0)))","v":"--"}]
[448,"Petr Sochor",1986,"M","Hosín","CZ/C1",1975,1,"","",null,null,{"$f":"IF(ISERROR(VLOOKUP(B454,'Zebrik W'!$B$7:$L$1001,11,0)),\"\",IF(VLOOKUP(B454,'Zebrik W'!$B$7:$L$1001,11,0)=0,\"--\",VLOOKUP(B454,'Zebrik W'!$B$7:$L$1001,11,0)))","v":""}]
[{"$f":"RANK(G455,G:G)","v":449},"Michal Posluzny",1968,"M","Medlánky","CZ/M",1930,1,"","",null,null,{"$f":"IF(ISERROR(VLOOKUP(B455,'Zebrik W'!$B$7:$L$1001,11,0)),\"\",IF(VLOOKUP(B455,'Zebrik W'!$B$7:$L$1001,11,0)=0,\"--\",VLOOKUP(B455,'Zebrik W'!$B$7:$L$1001,11,0)))","v":""}]
[450,"Dusan Sys",1977,"M","Šumperk","CZ/M",1923,1,"","",null,null,{"$f":"IF(ISERROR(VLOOKUP(B456,'Zebrik W'!$B$7:$L$1001,11,0)),\"\",IF(VLOOKUP(B456,'Zebrik W'!$B$7:$L$1001,11,0)=0,\"--\",VLOOKUP(B456,'Zebrik W'!$B$7:$L$1001,11,0)))","v":""}]
[451,"Michal Linhart",1982,"M","Vyškov","CZ/M",1775,1,"","",null,null,{"$f":"IF(ISERROR(VLOOKUP(B457,'Zebrik W'!$B$7:$L$1001,11,0)),\"\",IF(VLOOKUP(B457,'Zebrik W'!$B$7:$L$1001,11,0)=0,\"--\",VLOOKUP(B457,'Zebrik W'!$B$7:$L$1001,11,0)))","v":""}]
[452,"Vladimir Fousek",1964,"M","Raná","CZ/C2",1762,1,"","",null,null,{"$f":"IF(ISERROR(VLOOKUP(B458,'Zebrik W'!$B$7:$L$1001,11,0)),\"\",IF(VLOOKUP(B458,'Zebrik W'!$B$7:$L$1001,11,0)=0,\"--\",VLOOKUP(B458,'Zebrik W'!$B$7:$L$1001,11,0)))","v":""}]
[453,"Jan Jindra",1981,"M","Roudnice","CZ/C2",1673,1,"","",null,null,{"$f":"IF(ISERROR(VLOOKUP(B459,'Zebrik W'!$B$7:$L$1001,11,0)),\"\",IF(VLOOKUP(B459,'Zebrik W'!$B$7:$L$1001,11,0)=0,\"--\",VLOOKUP(B459,'Zebrik W'!$B$7:$L$1001,11,0)))","v":""}]
[454,"Martin Vana",1979,"M","Mladá Boleslav","CZ/C1",1520,1,"","",null,null,{"$f":"IF(ISERROR(VLOOKUP(B460,'Zebrik W'!$B$7:$L$1001,11,0)),\"\",IF(VLOOKUP(B460,'Zebrik W'!$B$7:$L$1001,11,0)=0,\"--\",VLOOKUP(B460,'Zebrik W'!$B$7:$L$1001,11,0)))","v":""}]
[454,"Martin Marek",1967,"M","Roudnice","CZ/C2",1520,1,"","",null,null,{"$f":"IF(ISERROR(VLOOKUP(B461,'Zebrik W'!$B$7:$L$1001,11,0)),\"\",IF(VLOOKUP(B461,'Zebrik W'!$B$7:$L$1001,11,0)=0,\"--\",VLOOKUP(B461,'Zebrik W'!$B$7:$L$1001,11,0)))","v":""}]
[456,"Jan Horky",1968,"M","Medlánky","CZ/M",1287,1,"","",null,null,{"$f":"IF(ISERROR(VLOOKUP(B462,'Zebrik W'!$B$7:$L$1001,11,0)),\"\",IF(VLOOKUP(B462,'Zebrik W'!$B$7:$L$1001,11,0)=0,\"--\",VLOOKUP(B462,'Zebrik W'!$B$7:$L$1001,11,0)))","v":""}]
[457,"Martin Benesovsky",1900,"M","Kolín","CZ/C1",1279,1,"","",null,null,{"$f":"IF(ISERROR(VLOOKUP(B463,'Zebrik W'!$B$7:$L$1001,11,0)),\"\",IF(VLOOKUP(B463,'Zebrik W'!$B$7:$L$1001,11,0)=0,\"--\",VLOOKUP(B463,'Zebrik W'!$B$7:$L$1001,11,0)))","v":""}]
[458,"Viktor Zimcik",1976,"M","Kunovice","CZ/M",1258,1,"","",null,null,{"$f":"IF(ISERROR(VLOOKUP(B464,'Zebrik W'!$B$7:$L$1001,11,0)),\"\",IF(VLOOKUP(B464,'Zebrik W'!$B$7:$L$1001,11,0)=0,\"--\",VLOOKUP(B464,'Zebrik W'!$B$7:$L$1001,11,0)))","v":""}]
[459,"Stanislava Zemlickova",2000,"F","Vyškov","CZ/M",1246,1,"Junior v roce 2021","Junior v roce 2022",null,null,{"$f":"IF(ISERROR(VLOOKUP(B465,'Zebrik W'!$B$7:$L$1001,11,0)),\"\",IF(VLOOKUP(B465,'Zebrik W'!$B$7:$L$1001,11,0)=0,\"--\",VLOOKUP(B465,'Zebrik W'!$B$7:$L$1001,11,0)))","v":"--"}]
[460,"Jan Podhrazsky",1976,"M","Šumperk","CZ/M",1120,1,"","",null,null,{"$f":"IF(ISERROR(VLOOKUP(B466,'Zebrik W'!$B$7:$L$1001,11,0)),\"\",IF(VLOOKUP(B466,'Zebrik W'!$B$7:$L$1001,11,0)=0,\"--\",VLOOKUP(B466,'Zebrik W'!$B$7:$L$1001,11,0)))","v":""}]
[461,"Christof Madoery",1958,"M","Šumperk","CZ/M",1113,1,"","",null,null,{"$f":"IF(ISERROR(VLOOKUP(B467,'Zebrik W'!$B$7:$L$1001,11,0)),\"\",IF(VLOOKUP(B467,'Zebrik W'!$B$7:$L$1001,11,0)=0,\"--\",VLOOKUP(B467,'Zebrik W'!$B$7:$L$1001,11,0)))","v":""}]
[462,"Martin Adamec",1971,"M","Medlánky","CZ/M",1005,1,"","",null,null,{"$f":"IF(ISERROR(VLOOKUP(B468,'Zebrik W'!$B$7:$L$1001,11,0)),\"\",IF(VLOOKUP(B468,'Zebrik W'!$B$7:$L$1001,11,0)=0,\"--\",VLOOKUP(B468,'Zebrik W'!$B$7:$L$1001,11,0)))","v":""}]
[463,"Libor Kovarnik",1968,"M","Mladá Boleslav","CZ/C1",1000,1,"","",null,null,{"$f":"IF(ISERROR(VLOOKUP(B469,'Zebrik W'!$B$7:$L$1001,11,0)),\"\",IF(VLOOKUP(B469,'Zebrik W'!$B$7:$L$1001,11,0)=0,\"--\",VLOOKUP(B469,'Zebrik W'!$B$7:$L$1001,11,0)))","v":""}]
[464,"Bohumir Zajdl",1950,"M","Dvůr Králové","CZ/C2",992,1]
[465,"Tim Raasch",2000,"M","Polička","CZ/C2",897,1]
[466,"Jan Mittner",1986,"M","Zbraslavice","CZ/C1",834,1]
[467,"Zbynek Kuchta",1976,"M","Klatovy","CZ/C1",830,1]
[468,"Michal Richter",1983,"M","Kolín","CZ/C1",746,1]
[469,"Pavel Handl",1971,"M","Kroměříž","CZ/M",347,1]
[470,"Pavel Foldyna",1976,"M","Frýdlant","CZ/M",221,1]
[471,"Jan Turek",1987,"M","Toužim","CZ/C1",138,1]
[]
[]
[{"$f":"Soutez!B154","v":"Schváleno Plachtařskou komisí AeČR dne xx.yy.2020 v ZZZZ"}]

{"sheet":"Zebrik W","index":8,"n_rows":46,"n_cols":13,"rows_kept":46,"cut":false,"hidden":false,"merged":[]}
[null,{"$f":"\"Ženský Žebřík pilotek plachtařek PK AeČR \"&A6","v":"Ženský Žebřík pilotek plachtařek PK AeČR 2020"},null,null,null,null,null,null,{"$f":"'Zebrik G'!I1","v":"2020-11-23"},"Rev.",{"$f":"'Zebrik G'!K1","v":"02"},{"$f":"'Zebrik G'!L1","v":"Doplněno WWGC 2020 Lake Keepit, opraveny chyby"}]
[]
[null,"W","x",null,null,null,null,null,"Juniorka v roce:","Juniorka v roce:",{"$f":"\"W Repre družstvo \"&I4","v":"W Repre družstvo 2021"},{"$f":"\"W Repre výběr \"&I4","v":"W Repre výběr 2021"},"Poznámka"]
[null,null,null,null,null,null,null,null,{"$f":"A6+1","v":2021},{"$f":"A6+2","v":2022},"(WRD)","(WRV)"]
["Pořadí",null,null,null,null,null,"Data",null,{"$f":"COUNTIF(I7:I498,\"Juniorka v roce \"&$I$4)","v":8},{"$f":"COUNTIF(J7:J498,\"Juniorka v roce \"&$J$4)","v":7},{"$f":"COUNTIF(K7:K498,\"WRD \"&$I$4)","v":0},{"$f":"COUNTIF(L7:L498,\"WRV \"&$I$4)","v":9},{"$f":"COUNTIF(M7:M498,\"<>\")","v":0}]
[{"$f":"'Zebrik G'!A6","v":2020},"Jméno","Rok narození","M/F","Aeroklub","Region","Součet z Bi×Kinp","Počet W"]
[{"$f":"RANK(G7,G:G)","v":1},"Alena Netusilova",1970,"F","Zbraslavice","CZ/C1",27973,3,{"$f":"IF(C7=\"(prázdné)\",\"\",IF(($I$4-C7)>25,\"\",\"Juniorka v roce \"&$I$4))","v":""},{"$f":"IF(C7=\"(prázdné)\",\"\",IF(($J$4-C7)>25,\"\",\"Juniorka v roce \"&$J$4))","v":""},null,"WRV 2021"]
[2,"Dana Novakova",1965,"F","Mladá Boleslav","CZ/C1",27896,3,{"$f":"IF(C8=\"(prázdné)\",\"\",IF(($I$4-C8)>25,\"\",\"Juniorka v roce \"&$I$4))","v":""},{"$f":"IF(C8=\"(prázdné)\",\"\",IF(($J$4-C8)>25,\"\",\"Juniorka v roce \"&$J$4))","v":""},null,"WRV 2021"]
[3,"Jana Veprekova",1961,"F","Dvůr Králové","CZ/C2",26854,3,"","",null,"WRV 2021"]
[4,"Hana Treslova",1991,"F","Raná","CZ/C2",26531,3,"","",null,"WRV 2021"]
[5,"Barbora Moravcova",1994,"F","Zbraslavice","CZ/C1",25849,3,"","",null,"WRV 2021"]
[6,"Jana Treslova",1963,"F","Raná","CZ/C2",24987,3,"","",null,"WRV 2021"]
[7,"Lenka Kuthanova",1960,"F","Tábor","CZ/C1",24788,3,"","",null,"WRV 2021"]
[8,"Klara Teichmannova",1993,"F","Hronov","CZ/C2",24311,3,"","",null,"WRV 2021"]
[9,"Petra Piskata",1989,"F","Luhačovice","CZ/M",23179,3,"","",null,"WRV 2021"]
[10,"Tereza Koubkova",1999,"F","Vysoké Mýto","CZ/C2",22136,3,"Juniorka v roce 2021","Juniorka v roce 2022"]
[11,"Michaela Krizova",2001,"F","Přibyslav","CZ/C2",20248,3,"Juniorka v roce 2021","Juniorka v roce 2022"]
[12,"Pavlina Horackova",1965,"F","Šumperk","CZ/M",19414,3,"",""]
[13,"Eva Cerna",1964,"F","Příbram","CZ/C1",18319,3,"",""]
[14,"Katerina Vojtova",1983,"F","Slaný","CZ/C1",16756,3,"",""]
[15,"Michaela Rendlova",2004,"F","Toužim","CZ/C1",16480,3,"Juniorka v roce 2021","Juniorka v roce 2022"]
[16,"Anna Bordovska",1989,"F","Mladá Boleslav","CZ/C1",13697,2,"",""]
[17,"Jana Mezerova",1975,"F","Raná","CZ/C2",12654,3,"",""]
[18,"Sarka Lochova",1966,"F","Šumperk","CZ/M",12200,3,"",""]
[19,"Yvona Vyhnankova",1963,"F","Olomouc","CZ/M",12176,3,"",""]
[20,"Olga Mokosova",1970,"F","Jihlava","CZ/M",11581,3,"",""]
[21,"Linda Vasatova",1990,"F","Mladá Boleslav","CZ/C1",10710,3,"",""]
[22,"Jarmila Zatykova",1959,"F","Kralupy","CZ/C1",8906,2,"",""]
[23,"Sabina Vitova",1998,"F","Kroměříž","CZ/M",8133,3,"Juniorka v roce 2021","Juniorka v roce 2022"]
[24,"Kristina Santruckova",1996,"F","Podhořany","CZ/C2",7396,3,"Juniorka v roce 2021",""]
[25,"Tereza Novakova",1993,"F","Chrudim","CZ/C2",6223,2,"",""]
[26,"Michaela Sirmerova",2000,"F","Jihlava","CZ/M",6083,2,"Juniorka v roce 2021","Juniorka v roce 2022"]
[27,"Monika Jiraskova",1994,"F","Hronov","CZ/C2",5926,1,"",""]
[28,"Zuzana Markesova",2001,"F","Medlánky","CZ/M",5533,2,"Juniorka v roce 2021","Juniorka v roce 2022"]
[29,"Barbora Kubickova",1993,"F","Medlánky","CZ/M",5434,1,"",""]
[30,"Tereza Krcilova Spalenkova",1981,"F","Raná","CZ/C2",4805,2,"",""]
[31,"Katerina Vancurova",2002,"F","Hranice","CZ/M",3912,1,"Juniorka v roce 2021","Juniorka v roce 2022"]
[32,"Radmila Horacek Filakovska",1963,"F","Dvůr Králové","CZ/C2",3202,1,"",""]
[33,"Zuzana Kutilkova",1993,"F","Křižanov","CZ/M",3164,1,"",""]
[34,"Petra Diepoldova",1978,"F","Vysoké Mýto","CZ/C2",2947,1,"",""]
[35,"Milada Moudra",1991,"F","Hodkovice","CZ/C2",2743,1,"",""]
[36,"Eliska Bohunovska",2001,"F","Hranice","CZ/M",2073,1]
[37,"Stanislava Zemlickova",2000,"F","Vyškov","CZ/M",1246,1]
[]
[]
[{"$f":"Soutez!B154","v":"Schváleno Plachtařskou komisí AeČR dne xx.yy.2020 v ZZZZ"}]

{"sheet":"KB PMRg 2018","index":9,"n_rows":58,"n_cols":13,"rows_kept":58,"cut":false,"hidden":false,"merged":[[0,0,0,12]]}
["PMRg 2018 - Hodkovice - Korigované body"]
["Pořadí v KB","Jméno","Rok narození","M/F","Aeroklub","Region","Soutěž","Pořadí ve třídě","Body ve třídě","Bi","Typ","CN","Junior"]
[{"$f":"RANK(J3,J:J)","v":1},"Marek Pechanec",{"$f":"VLOOKUP(B3,Pilot,2,0)","v":1970},{"$f":"VLOOKUP(B3,Pilot,5,0)","v":"M"},{"$f":"VLOOKUP(B3,Pilot,3,0)","v":"Luhačovice"},{"$f":"VLOOKUP(B3,Pilot,4,0)","v":"CZ/M"},"PMRg 2018 - Klub",1,6509,10000,"std. cirrus","SJ",{"$f":"IF(ISERROR(VLOOKUP(B3,Pilot,6,0)),\"Není v databázi\",VLOOKUP(B3,Pilot,6,0))","v":""}]
[1,"Jan Louda",1986,"M","Mladá Boleslav","CZ/C1","PMRg 2018 - Kombi",1,7195,10000,"Ventus a 15m WL 500kg (voda)","FW",""]
[3,"Zdenek Boruvka 86",1986,"M","Jičín","CZ/C2","PMRg 2018 - Klub",2,6377,9772,"Std. Cirrus","BJ",""]
[4,"Karel Novak",1993,"M","Mladá Boleslav","CZ/C1","PMRg 2018 - Klub",3,6342,9649,"std. cirrus","DI",""]
[5,"Karel Mares",1974,"M","Slaný","CZ/C1","PMRg 2018 - Kombi",2,6865,9491,"LS-8b, LS-8-18, LS-8t /18m","YF",""]
[6,"Daniel Ryba",1994,"M","Dvůr Králové","CZ/C2","PMRg 2018 - Klub",4,6268,9484,"ASW-19B","L7",""]
[7,"Petr Panek",1975,"M","Dvůr Králové","CZ/C2","PMRg 2018 - Klub",5,6208,9333,"std. cirrus","YU",""]
[8,"Jana Veprekova",1961,"F","Dvůr Králové","CZ/C2","PMRg 2018 - Kombi",3,6818,9258,"LS 8,a,b,s,st,18 15m (voda)","W8",""]
[9,"Hana Treslova",1991,"F","Raná","CZ/C2","PMRg 2018 - Kombi",4,6765,9019,"LS 8,a,b,s,st,18 15m (voda)","FX",""]
[10,"Vaclav Marel",1974,"M","Jaroměř","CZ/C2","PMRg 2018 - Klub",6,5949,8969,"Std. Cirrus","IF",""]
[11,"Dana Novakova",1965,"F","Mladá Boleslav","CZ/C1","PMRg 2018 - Kombi",5,6742,8809,"LS 8,a,b,s,st,18 15m (voda)","AU",""]
[12,"Jan Ratz",1987,"M","Zbraslavice","CZ/C1","PMRg 2018 - Klub",7,5857,8785,"Std. Cirrus","REX",""]
[13,"Jana Treslova",1963,"F","Raná","CZ/C2","PMRg 2018 - Kombi",6,6716,8596,"LS 8,a,b,s,st,18 15m (voda)","EU",""]
[14,"Lukas Koukal",1991,"M","Letkov","CZ/C1","PMRg 2018 - Klub",8,5526,8343,"ASW-15B","T1",""]
[15,"Jiri Kusbach",1959,"M","Luhačovice","CZ/M","PMRg 2018 - Kombi",7,6510,8209,"KKB-18E FES (voda)","B",""]
[16,"Jan Vavrin",1987,"M","Vysoké Mýto","CZ/C2","PMRg 2018 - Klub",9,5438,8162,"ASW-15B","IG",""]
[17,"Vojtech Novotny",1992,"M","Kralupy","CZ/C1","PMRg 2018 - Klub",10,5418,8055,"LS-1f","EF",""]
[18,"Radek Zima 78",1978,"M","Hodkovice","CZ/C2","PMRg 2018 - Kombi",8,6481,7993,"Ventus b /15m WL -500 kg","7F",""]
[19,"Lukas Plocek",1990,"M","Mladá Boleslav","CZ/C1","PMRg 2018 - Klub",11,5400,7950,"ASW-19B","AH",""]
[20,"Michal Krupicka",1975,"M","Most","CZ/C2","PMRg 2018 - Klub",12,5390,7854,"Std. Cirrus","K",""]
[21,"Marek Svancara",1976,"M","GAC Benešov","CZ/C1","PMRg 2018 - Klub",13,5343,7717,"Std. Cirrus","GT",""]
[22,"Jan Zahradka",1981,"M","Hodkovice","CZ/C2","PMRg 2018 - Klub",14,5324,7611,"Std. Cirrus","AR",""]
[23,"Jan Smaha",1958,"M","Česká Lípa","CZ/C2","PMRg 2018 - Klub",15,5255,7451,"ASW-15B","CW",""]
[24,"Petr Hotovy",1958,"M","Česká Lípa","CZ/C2","PMRg 2018 - Kombi",9,6061,7397,"JS-1A,B,C,BTJ,CTJ 18m (voda)","IGC",""]
[25,"Jan Hruska",1988,"M","Tábor","CZ/C1","PMRg 2018 - Klub",16,5175,7280,"ASW-15B","LF",""]
[26,"Vojtech Hajek",1987,"M","Mladá Boleslav","CZ/C1","PMRg 2018 - Klub",17,5122,7137,"Std. Cirrus","BW",""]
[27,"Ladislav Prokes",1954,"M","Vrchlabí","CZ/C2","PMRg 2018 - Kombi",10,5935,7087,"Discus b","VR",""]
[28,"Antonin Novotny",1972,"M","Luhačovice","CZ/M","PMRg 2018 - Klub",18,5057,6981,"Std. Cirrus","SP",""]
[29,"Jaroslav Buryan",1953,"M","Zábřeh","CZ/M","PMRg 2018 - Kombi",11,5901,6866,"ASW-20(A)+F 15m+W (voda)","NS",""]
[30,"Ondrej Sindelar",1979,"M","Mladá Boleslav","CZ/C1","PMRg 2018 - Klub",19,4881,6706,"ASW-19B","OI",""]
[31,"Jakub Kohn",1992,"M","Prostějov","CZ/M","PMRg 2018 - Klub",20,4714,6441,"ASW-15B","FK",""]
[32,"Ladislav Jozsa",1981,"M","Medlánky","CZ/M","PMRg 2018 - Klub",21,4708,6349,"Std. Cirrus","LJ",""]
[{"$f":"RANK(J35,J:J)","v":33},"Jindrich Hruska",1986,{"$f":"VLOOKUP(B35,Pilot,5,0)","v":"M"},"Soběslav","CZ/C1","PMRg 2018 - Klub",22,4616,6164,"ASW-15","ASW",{"$f":"IF(ISERROR(VLOOKUP(B35,Pilot,6,0)),\"Není v databázi\",VLOOKUP(B35,Pilot,6,0))","v":""}]
[34,"Pavlina Horackova",1965,"F","Šumperk","CZ/M","PMRg 2018 - Klub",23,4590,6051,"SZD-48 Jantar Std. 2(3)","SU",""]
[35,"Jan Vozeh",1995,"M","Rakovník","CZ/C1","PMRg 2018 - Klub",24,4499,5867,"std. cirrus","OG",""]
[36,"Miroslav Koci",1961,"M","Žamberk","CZ/C2","PMRg 2018 - Kombi",12,4877,5682,"Ventusy: 2cx, 2cxm, 2cxt /18m -600 kg","E8",""]
[37,"David Sachl",1978,"M","Kralupy","CZ/C1","PMRg 2018 - Klub",25,4374,5647,"DG-300","BK",""]
[38,"Vilem Riha",1990,"M","Letňany","CZ/C1","PMRg 2018 - Klub",26,4300,5482,"Std. Cirrus","UB",""]
[39,"Karel Knotek",1961,"M","Soběslav","CZ/C1","PMRg 2018 - Klub",27,4163,5248,"ASW-19","SO",""]
[40,"Martin Kriz",1968,"M","Přibyslav","CZ/C2","PMRg 2018 - Klub",28,4085,5079,"ASW-15B","BE",""]
[41,"Slavomir Piskaty 58",1958,"M","Kunovice","CZ/M","PMRg 2018 - Kombi",13,4380,5011,"Discus b +W(voda)","KAL",""]
[42,"Martin Cicvarek",1966,"M","Liberec","CZ/C2","PMRg 2018 - Kombi",14,4248,4695,"DG-400 17m","AC",""]
[43,"Pavel Liska",1965,"M","Roudnice","CZ/C2","PMRg 2018 - Klub",29,3725,4606,"ASW-19B","RCE",""]
[44,"Tereza Koubkova",1999,"F","Vysoké Mýto","CZ/C2","PMRg 2018 - Klub",30,3668,4459,"Std. Cirrus","WY","Junior v roce 2021"]
[45,"Karel Policky",1950,"M","Kolín","CZ/C1","PMRg 2018 - Klub",31,3427,4114,"VSO-10",47,""]
[46,"Petr Frycek",1960,"M","Most","CZ/C2","PMRg 2018 - Kombi",15,3737,4011,"Nimbus 3 (25,5m,700kg)(voda)","F",""]
[47,"Ondrej Dvorak 98",1998,"M","Mladá Boleslav","CZ/C1","PMRg 2018 - Klub",32,3377,3975,"ASW-15B","MB","Junior v roce 2021"]
[48,"Pavel Sulc",1976,"M","Hodkovice","CZ/C2","PMRg 2018 - Klub",33,3096,3587,"Std. Cirrus","AC",""]
[49,"Milada Moudra",1991,"F","Hodkovice","CZ/C2","PMRg 2018 - Klub",34,2540,2903,"ASW-19B","XP",""]
[50,"Antonin Kutalek",1943,"M","Zábřeh","CZ/M","PMRg 2018 - Kombi",16,2610,2727,"Mini-Nimbus c (voda)","GL",""]
[51,"Leos Strnadek",1983,"M","Hodkovice","CZ/C2","PMRg 2018 - Klub",35,2113,2358,"ASW-19B","XZ",""]
[52,"Olga Mokosova",1970,"F","Jihlava","CZ/M","PMRg 2018 - Kombi",17,2309,2246,"LS 6c 18m+W (voda)","MM",""]
[53,"Petr Lonsky",1965,"M","Toužim","CZ/C1","PMRg 2018 - Klub",36,638,686,"Cirrus VTC","JP",""]
[]
[]
["Schváleno Plachtařskou komisí AeČR dne 4.11.2018 ve Vysokém Mýtě"]

{"sheet":"KB PMRg 2019","index":10,"n_rows":42,"n_cols":13,"rows_kept":42,"cut":false,"hidden":false,"merged":[[0,0,0,12]]}
["PMRg 2019 - Vysoké Mýto - Korigované body"]
["Pořadí v KB","Jméno","Rok narození","M/F","Aeroklub","Region","Soutěž","Pořadí ve třídě","Body ve třídě","Bi","Typ","CN","Junior"]
[{"$f":"RANK(J3,J:J)","v":1},"Karel Novak",{"$f":"VLOOKUP(B3,Pilot,2,0)","v":1993},{"$f":"VLOOKUP(B3,Pilot,5,0)","v":"M"},{"$f":"VLOOKUP(B3,Pilot,3,0)","v":"Mladá Boleslav"},{"$f":"VLOOKUP(B3,Pilot,4,0)","v":"CZ/C1"},"PMRg 2019 - Klub",1,7016,10000,"Std. Cirrus","DI",{"$f":"IF(ISERROR(VLOOKUP(B3,Pilot,6,0)),\"Není v databázi\",VLOOKUP(B3,Pilot,6,0))","v":""}]
[1,"Jan Louda",1986,"M","Mladá Boleslav","CZ/C1","PMRg 2019 - Kombi",1,6191,10000,"Ventus a 15m WL 500kg (voda)","FW",""]
[3,"Karel Mares",1974,"M","Slaný","CZ/C1","PMRg 2019 - Kombi",2,6041,9580,"Ventus b 16.6m WL","7F",""]
[4,"Michal Lesinger",1966,"M","Moravská Třebová","CZ/M","PMRg 2019 - Klub",2,6536,9391,"ASW-19B","LL",""]
[5,"Vojtech Novotny",1992,"M","Kralupy","CZ/C1","PMRg 2019 - Klub",3,6445,9169,"LS 1f","EF",""]
[6,"Hana Treslova",1991,"F","Raná","CZ/C2","PMRg 2019 - Kombi",3,5887,9156,"LS 8 15m (voda)","AU",""]
[7,"Jiri Stepanek",1956,"M","Moravská Třebová","CZ/M","PMRg 2019 - Klub",4,6307,8901,"ASW-15B","LE",""]
[8,"Zdenek Boruvka 54",1954,"M","Jičín","CZ/C2","PMRg 2019 - Kombi",4,5813,8823,"LS 8 15m (voda)","ZB",""]
[9,"Jan Zahradka",1981,"M","Hodkovice","CZ/C2","PMRg 2019 - Klub",5,6168,8632,"Std. Cirrus","AR",""]
[10,"Dana Novakova",1965,"F","Mladá Boleslav","CZ/C1","PMRg 2019 - Kombi",5,5693,8437,"LS 8 15m (voda)","FX",""]
[11,"Zdenek Boruvka 86",1986,"M","Jičín","CZ/C2","PMRg 2019 - Klub",6,6082,8416,"Std. Cirrus","BJ",""]
[12,"Michal Krupicka",1975,"M","Most","CZ/C2","PMRg 2019 - Klub",7,5981,8185,"Std. Cirrus","K",""]
[13,"Jan Vavrin",1987,"M","Vysoké Mýto","CZ/C2","PMRg 2019 - Klub",8,5958,8031,"ASW-15B","IG",""]
[14,"Miroslav Koci",1961,"M","Žamberk","CZ/C2","PMRg 2019 - Kombi",6,5213,7644,"Ventus 2cxm 18m 565kg (voda)","E8",""]
[15,"Tereza Koubkova",1999,"F","Vysoké Mýto","CZ/C2","PMRg 2019 - Klub",9,5495,7439,"Std. Cirrus","WY","Junior v roce 2021"]
[16,"Vaclav Marel",1974,"M","Jaroměř","CZ/C2","PMRg 2019 - Klub",10,5399,7213,"Std. Cirrus","IF",""]
[17,"Jana Treslova",1963,"F","Raná","CZ/C2","PMRg 2019 - Kombi",7,5029,7186,"JS-3, TJ 18m (voda)","ZE",""]
[18,"Jindrich Hruska",1986,"M","Soběslav","CZ/C1","PMRg 2019 - Klub",11,5336,7019,"303 Mosquito","UFO",""]
[19,"Jan Vozeh",1995,"M","Rakovník","CZ/C1","PMRg 2019 - Klub",12,5287,6840,"Std. Cirrus","OG",""]
[20,"Jiri Slemr",1979,"M","Vysoké Mýto","CZ/C2","PMRg 2019 - Kombi",8,4840,6722,"Discus b (voda)",65,""]
[21,"Lukas Plocek",1990,"M","Mladá Boleslav","CZ/C1","PMRg 2019 - Klub",13,5284,6707,"ASW-19B","AH",""]
[22,"Pavlina Horackova",1965,"F","Šumperk","CZ/M","PMRg 2019 - Klub",14,5256,6548,"SZD-48 Jantar Std. 2(3)","SU",""]
[23,"Lenka Kuthanova",1960,"F","Tábor","CZ/C1","PMRg 2019 - Kombi",9,4767,6390,"JS-1C (TJ) 18m EVO","LX",""]
[24,"Jan Smaha",1958,"M","Česká Lípa","CZ/C2","PMRg 2019 - Klub",15,4916,6079,"ASW-15B","CW",""]
[25,"Martin Stepanek",1987,"M","Moravská Třebová","CZ/M","PMRg 2019 - Klub",16,4840,5872,"ASW-15B","ZP",""]
[26,"Barbora Kubickova",1993,"F","Medlánky","CZ/M","PMRg 2019 - Kombi",10,4477,5812,"LAK 17 A 18m WL","BI",""]
[27,"Lukas Maly",1998,"M","Vysoké Mýto","CZ/C2","PMRg 2019 - Klub",17,4697,5599,"ASW-15B","AM","Junior v roce 2021"]
[28,"Ladislav Jozsa",1981,"M","Medlánky","CZ/M","PMRg 2019 - Klub",18,4541,5313,"Std. Cirrus","LJ",""]
[29,"Vaclav Zak",1962,"M","GAC Benešov","CZ/C1","PMRg 2019 - Klub",19,4256,4898,"Std. Cirrus","TS",""]
[30,"Petr Frycek",1960,"M","Most","CZ/C2","PMRg 2019 - Kombi",11,3755,4746,"Nimbus 3 (25,5m, 700kg) (voda)","F",""]
[31,"Karel Knotek",1961,"M","Soběslav","CZ/C1","PMRg 2019 - Klub",20,4021,4534,"ASW-19","SO",""]
[32,"Slavomir Piskaty 58",1958,"M","Kunovice","CZ/M","PMRg 2019 - Kombi",12,3547,4260,"Discus b (voda) WL","KAL",""]
[33,"Josef Hlusek",1993,"M","Kunovice","CZ/M","PMRg 2019 - Klub",21,3831,4214,"Std. Cirrus G","WO",""]
[34,"Jan Florian",1992,"M","Zbraslavice","CZ/C1","PMRg 2019 - Klub",22,3824,4076,"Std. Cirrus","C1",""]
[35,"Ladislav Prokes",1954,"M","Vrchlabí","CZ/C2","PMRg 2019 - Kombi",13,3314,3747,"Discus b (voda)","VR",""]
[36,"Petr Velek",1975,"M","GAC Benešov","CZ/C1","PMRg 2019 - Klub",23,3398,3521,"LS 1c","I",""]
[37,"Kristina Santruckova",1996,"F","Podhořany","CZ/C2","PMRg 2019 - Klub",24,2941,2934,"ASW-15B WL","KS","Junior v roce 2021"]
[]
[]
["Schváleno Plachtařskou komisí AeČR dne 10.11.2019 ve Vysokém Mýtě"]

{"sheet":"KB PMRg 2020","index":11,"n_rows":70,"n_cols":13,"rows_kept":70,"cut":false,"hidden":false,"merged":[[0,0,0,12]]}
["PMRg 2020 - Hosín - Korigované body"]
["Pořadí v KB","Jméno","Rok narození","M/F","Aeroklub","Region","Soutěž","Pořadí ve třídě","Body ve třídě","Bi","Typ","CN","Junior"]
[{"$f":"RANK(J3,J:J)","v":1},"Michal Lesinger",1966,"M","Moravská Třebová","CZ/M","PMRg 2020 - Klub",1,4243,10000,"ASW 19B","LL",{"$f":"IF(ISERROR(VLOOKUP(B3,Pilot,6,0)),\"Není v databázi\",VLOOKUP(B3,Pilot,6,0))","v":""}]
[1,"Danes Grula",1961,"M","Medlánky","CZ/M","PMRg 2020 - Kombi",1,4243,10000,"ASG29E","DX",""]
[3,"Zdenek Boruvka 86",1986,"M","Jičín","CZ/C2","PMRg 2020 - Klub",2,4134,9690,"STD. CIRRUS","BJ",""]
[4,"Petr Hotovy",1958,"M","Česká Lípa","CZ/C2","PMRg 2020 - Kombi",2,4106,9501,"JS1B 18m","IGC",""]
[5,"Josef Busek",1967,"M","Hosín","CZ/C1","PMRg 2020 - Kombi",3,3900,8889,"Duodiscus X 750kg","BB",""]
[6,"Jan Zahradka",1981,"M","Hodkovice","CZ/C2","PMRg 2020 - Klub",3,3619,8710,"Std. Cirrus","AR",""]
[7,"Marek Svancara",1976,"M","GAC Benešov","CZ/C1","PMRg 2020 - Klub",4,3499,8381,"Std. Cirrus","GT",""]
[8,"Michael Fik",1972,"M","Strakonice","CZ/C1","PMRg 2020 - Kombi",4,3722,8322,"Ventus C 17,6","GE",""]
[9,"Jan Stastny",2003,"M","Medlánky","CZ/M","PMRg 2020 - Klub",5,3276,7883,"ASW-15B","TW","Junior v roce 2021"]
[10,"Jindrich Hruska",1986,"M","Soběslav","CZ/C1","PMRg 2020 - Klub",6,3243,7698,"Mosquito","UFO",""]
[11,"Hana Treslova",1991,"F","Raná","CZ/C2","PMRg 2020 - Kombi",5,3460,7617,"Ventus 2ax","AX",""]
[12,"Jiri Vondracek",1989,"M","Kladno","CZ/C1","PMRg 2020 - Klub",7,3122,7368,"ASW-15B","2P",""]
[13,"Jaromir Macoun",1999,"M","Jičín","CZ/C2","PMRg 2020 - Kombi",6,3413,7267,"LS 8","EU","Junior v roce 2021"]
[14,"Vladimir Hammer",2000,"M","Letkov","CZ/C1","PMRg 2020 - Klub",8,3106,7211,"Std. Cirrus","XII","Junior v roce 2021"]
[15,"Miloslav Hulmak",1963,"M","Hosín","CZ/C1","PMRg 2020 - Klub",9,3030,6955,"ASW15B","HH",""]
[16,"Jaromir Pauer",1974,"M","Hosín","CZ/C1","PMRg 2020 - Kombi",7,3293,6796,"Ventus C 17,6m","XE",""]
[17,"Pavlina Horackova",1965,"F","Šumperk","CZ/M","PMRg 2020 - Klub",10,2891,6596,"SZD 48 Jantar Std. 2","SU",""]
[18,"Karel Novak",1993,"M","Mladá Boleslav","CZ/C1","PMRg 2020 - Kombi",8,3255,6461,"JS-3","XM",""]
[19,"Jan Florian",1992,"M","Zbraslavice","CZ/C1","PMRg 2020 - Klub",11,2831,6366,"Std. Cirrus","C1",""]
[20,"Tomas Hulmak",1999,"M","Hosín","CZ/C1","PMRg 2020 - Klub",12,2823,6223,"ASW-15B","XI","Junior v roce 2021"]
[21,"Jiri Holcman",1976,"M","Hosín","CZ/C1","PMRg 2020 - Klub",13,2717,5917,"ASW-19","BO",""]
[22,"Petr Rozhon",1972,"M","Hosín","CZ/C1","PMRg 2020 - Klub",14,2611,5612,"vso-10",9,""]
[23,"Pavel Koudelka",1973,"M","Křižanov","CZ/M","PMRg 2020 - Klub",15,2442,5203,"Std.Cirrus","ICQ",""]
[24,"Michal Vranek",1993,"M","Hosín","CZ/C1","PMRg 2020 - Klub",16,2440,5069,"DG-100","8W",""]
[25,"Jan Beran",1999,"M","Kladno","CZ/C1","PMRg 2020 - Klub",17,2275,4666,"ASW 19","HB","Junior v roce 2021"]
[26,"Jaroslav Potmesil",1964,"M","Zbraslavice","CZ/C1","PMRg 2020 - Kombi",9,2273,4568,"304TS TwinShark","DL",""]
[27,"Martin Tison",2000,"M","Hosín","CZ/C1","PMRg 2020 - Klub",18,2175,4371,"ASW-15B","EZ","Junior v roce 2021"]
[28,"Petr Velek",1975,"M","GAC Benešov","CZ/C1","PMRg 2020 - Klub",19,2138,4179,"DG400","HX",""]
[29,"Lukas Plocek",1990,"M","Mladá Boleslav","CZ/C1","PMRg 2020 - Klub",20,1896,3650,"ASW-19B","AH",""]
[30,"Radek Zima 78",1978,"M","Hodkovice","CZ/C2","PMRg 2020 - Kombi",10,1751,3434,"Ventus b 16,6m 430kg WL","7F",""]
[31,"Vaclav Zak",1962,"M","GAC Benešov","CZ/C1","PMRg 2020 - Klub",21,1721,3231,"Std. Cirrus","TS",""]
[32,"Jiri Krofta",1988,"M","Hosín","CZ/C1","PMRg 2020 - Klub",22,1563,2839,"Std. Cirrus","2U",""]
[33,"Frantisek Suna",1983,"M","Hosín","CZ/C1","PMRg 2020 - Klub",23,1461,2541,"DG-100",78,""]
[34,"Jan Kohout",1970,"M","Žamberk","CZ/C2","PMRg 2020 - Kombi",11,1320,2450,"LS8a","SK",""]
[35,"Petr Sochor",1986,"M","Hosín","CZ/C1","PMRg 2020 - Klub",24,1308,2158,"ASW15B","6Y",""]
[36,"Radoslav Pur",1973,"M","Hosín","CZ/C1","PMRg 2020 - Kombi",12,1147,1892,"DG-200","EK",""]
[]
[]
["Schváleno Plachtařskou komisí AeČR dne xx.yy.2020 v ZZZZ"]
[]
[]
[]
[]
[]
[]
[]
[]
[]
[]
[]
[]
[]
[]
[]
[]
[]
[]
[]
[]
[]
[]
[]
[]
[]
[]
[]
[]
["Schváleno Plachtařskou komisí AeČR dne xx.yy.2020 v ZZZZ"]

{"sheet":"N PMČR 2021","index":12,"n_rows":132,"n_cols":17,"rows_kept":132,"cut":false,"hidden":false,"merged":[[42,1,42,7],[7,1,7,7],[72,1,72,7],[73,1,73,7],[126,1,126,7],[104,1,104,7],[128,1,128,7],[74,1,74,7],[121,1,121,7],[124,1,124,7],[125,1,125,7],[122,1,122,7]]}
[null,"Nominace na PMČR 2021",null,null,null,null,null,"Kontrola:","Počet","Počet","Nominace","Počet","Nominace","M:","F:","M+F:"]
["No","Jméno","Aeroklub","Rok narození","M/F","Junior","No",null,"PMČR","PMRg","PMRg","PMČRj","PMČRj",{"$f":"COUNTIF(E:E,\"M\")","v":83},{"$f":"COUNTIF(E:E,\"F\")","v":12},{"$f":"N2+O2","v":95},"S náhradníky"]
["6.6.5.","Nominace na PMČR - všeobecně (dle SŘ ZM9)",null,null,null,null,null,null,null,null,null,null,"Celkem řádně nominováno:",{"$f":"N2-COUNTIF(E62:E66,\"M\")-COUNTIF(E112:E120,\"M\")","v":69},{"$f":"O2-COUNTIF(E62:E66,\"F\")-COUNTIF(E112:E120,\"F\")","v":12},{"$f":"N3+O3","v":81},"Bez náhradníků"]
[null,"Na PMČR nominuje PK minimálně 80 pilotů/pilotek a příslušný počet náhradníků pro stanovená nominační kritéria."]
[null,"PMČR se mohou zúčastnit pouze soutěžící nominovaní dle jednotlivých bodů odstavců 6.6.6., 6.6.7. a 6.6.8."]
[null,"Pořadatel soutěže nemůže doplnit soutěžící na základě jiných kritérií."]
["6.6.6.","Řádná nominace - Na PMČR jsou nominováni"]
["6.6.6.1.","všichni členové reprezentačního výběru (RV) ČR stanoveného pro daný soutěžní ročník (bez náhradníků)"]
[1,"Pavel Louzecky",{"$f":"VLOOKUP(B9,Pilot!A:C,3,0)","v":"Přibyslav"},{"$f":"VLOOKUP(B9,Pilot!A:B,2,0)","v":1957},{"$f":"VLOOKUP(B9,Pilot!A:E,5,0)","v":"M"},{"$f":"VLOOKUP(B9,Pilot!A:F,6,0)","v":""},{"$f":"A9","v":1},null,{"$f":"COUNTIF(B:B,B9)","v":1},{"$f":"IF(COUNTIF('N PMRg 2021'!B:B,B9)=0,\"-\",COUNTIF('N PMRg 2021'!B:B,B9))","v":"-"},{"$f":"IF(ISERROR(VLOOKUP(B9,'N PMRg 2021'!B:G,6,0)),\"-\",VLOOKUP(B9,'N PMRg 2021'!B:G,6,0))","v":"-"},{"$f":"IF(COUNTIF('N PMČRj 2021'!B:B,B9)=0,\"-\",COUNTIF('N PMČRj 2021'!B:B,B9))","v":"-"},{"$f":"IF(ISERROR(VLOOKUP(B9,'N PMČRj 2021'!B:G,6,0)),\"-\",VLOOKUP(B9,'N PMČRj 2021'!B:G,6,0))","v":"-"}]
[{"$f":"A9+1","v":2},"David Mach",{"$f":"VLOOKUP(B10,Pilot!A:C,3,0)","v":"Hronov"},{"$f":"VLOOKUP(B10,Pilot!A:B,2,0)","v":1994},{"$f":"VLOOKUP(B10,Pilot!A:E,5,0)","v":"M"},{"$f":"VLOOKUP(B10,Pilot!A:F,6,0)","v":""},{"$f":"A10","v":2},null,1,{"$f":"IF(COUNTIF('N PMRg 2021'!B:B,B10)=0,\"-\",COUNTIF('N PMRg 2021'!B:B,B10))","v":"-"},{"$f":"IF(ISERROR(VLOOKUP(B10,'N PMRg 2021'!B:G,6,0)),\"-\",VLOOKUP(B10,'N PMRg 2021'!B:G,6,0))","v":"-"},{"$f":"IF(COUNTIF('N PMČRj 2021'!B:B,B10)=0,\"-\",COUNTIF('N PMČRj 2021'!B:B,B10))","v":"-"},{"$f":"IF(ISERROR(VLOOKUP(B10,'N PMČRj 2021'!B:G,6,0)),\"-\",VLOOKUP(B10,'N PMČRj 2021'!B:G,6,0))","v":"-"}]
[{"$f":"A10+1","v":3},"Miloslav Cink",{"$f":"VLOOKUP(B11,Pilot!A:C,3,0)","v":"Letkov"},{"$f":"VLOOKUP(B11,Pilot!A:B,2,0)","v":1987},{"$f":"VLOOKUP(B11,Pilot!A:E,5,0)","v":"M"},{"$f":"VLOOKUP(B11,Pilot!A:F,6,0)","v":""},3,null,1,{"$f":"IF(COUNTIF('N PMRg 2021'!B:B,B11)=0,\"-\",COUNTIF('N PMRg 2021'!B:B,B11))","v":"-"},{"$f":"IF(ISERROR(VLOOKUP(B11,'N PMRg 2021'!B:G,6,0)),\"-\",VLOOKUP(B11,'N PMRg 2021'!B:G,6,0))","v":"-"},{"$f":"IF(COUNTIF('N PMČRj 2021'!B:B,B11)=0,\"-\",COUNTIF('N PMČRj 2021'!B:B,B11))","v":"-"},{"$f":"IF(ISERROR(VLOOKUP(B11,'N PMČRj 2021'!B:G,6,0)),\"-\",VLOOKUP(B11,'N PMČRj 2021'!B:G,6,0))","v":"-"}]
[4,"Tomas Suchanek",{"$f":"VLOOKUP(B12,Pilot!A:C,3,0)","v":"GAC Benešov"},{"$f":"VLOOKUP(B12,Pilot!A:B,2,0)","v":1964},{"$f":"VLOOKUP(B12,Pilot!A:E,5,0)","v":"M"},{"$f":"VLOOKUP(B12,Pilot!A:F,6,0)","v":""},4,null,1,{"$f":"IF(COUNTIF('N PMRg 2021'!B:B,B12)=0,\"-\",COUNTIF('N PMRg 2021'!B:B,B12))","v":"-"},{"$f":"IF(ISERROR(VLOOKUP(B12,'N PMRg 2021'!B:G,6,0)),\"-\",VLOOKUP(B12,'N PMRg 2021'!B:G,6,0))","v":"-"},{"$f":"IF(COUNTIF('N PMČRj 2021'!B:B,B12)=0,\"-\",COUNTIF('N PMČRj 2021'!B:B,B12))","v":"-"},{"$f":"IF(ISERROR(VLOOKUP(B12,'N PMČRj 2021'!B:G,6,0)),\"-\",VLOOKUP(B12,'N PMČRj 2021'!B:G,6,0))","v":"-"}]
[5,"Radek Krejcirik",{"$f":"VLOOKUP(B13,Pilot!A:C,3,0)","v":"Hranice"},{"$f":"VLOOKUP(B13,Pilot!A:B,2,0)","v":1991},{"$f":"VLOOKUP(B13,Pilot!A:E,5,0)","v":"M"},{"$f":"VLOOKUP(B13,Pilot!A:F,6,0)","v":""},5,null,1,{"$f":"IF(COUNTIF('N PMRg 2021'!B:B,B13)=0,\"-\",COUNTIF('N PMRg 2021'!B:B,B13))","v":"-"},{"$f":"IF(ISERROR(VLOOKUP(B13,'N PMRg 2021'!B:G,6,0)),\"-\",VLOOKUP(B13,'N PMRg 2021'!B:G,6,0))","v":"-"},{"$f":"IF(COUNTIF('N PMČRj 2021'!B:B,B13)=0,\"-\",COUNTIF('N PMČRj 2021'!B:B,B13))","v":"-"},{"$f":"IF(ISERROR(VLOOKUP(B13,'N PMČRj 2021'!B:G,6,0)),\"-\",VLOOKUP(B13,'N PMČRj 2021'!B:G,6,0))","v":"-"}]
[6,"Petr Koutny",{"$f":"VLOOKUP(B14,Pilot!A:C,3,0)","v":"Křižanov"},{"$f":"VLOOKUP(B14,Pilot!A:B,2,0)","v":1971},{"$f":"VLOOKUP(B14,Pilot!A:E,5,0)","v":"M"},{"$f":"VLOOKUP(B14,Pilot!A:F,6,0)","v":""},6,null,1,{"$f":"IF(COUNTIF('N PMRg 2021'!B:B,B14)=0,\"-\",COUNTIF('N PMRg 2021'!B:B,B14))","v":"-"},{"$f":"IF(ISERROR(VLOOKUP(B14,'N PMRg 2021'!B:G,6,0)),\"-\",VLOOKUP(B14,'N PMRg 2021'!B:G,6,0))","v":"-"},{"$f":"IF(COUNTIF('N PMČRj 2021'!B:B,B14)=0,\"-\",COUNTIF('N PMČRj 2021'!B:B,B14))","v":"-"},{"$f":"IF(ISERROR(VLOOKUP(B14,'N PMČRj 2021'!B:G,6,0)),\"-\",VLOOKUP(B14,'N PMČRj 2021'!B:G,6,0))","v":"-"}]
[7,"Roman Mracek",{"$f":"VLOOKUP(B15,Pilot!A:C,3,0)","v":"Letkov"},{"$f":"VLOOKUP(B15,Pilot!A:B,2,0)","v":1980},{"$f":"VLOOKUP(B15,Pilot!A:E,5,0)","v":"M"},{"$f":"VLOOKUP(B15,Pilot!A:F,6,0)","v":""},7,null,1,{"$f":"IF(COUNTIF('N PMRg 2021'!B:B,B15)=0,\"-\",COUNTIF('N PMRg 2021'!B:B,B15))","v":"-"},{"$f":"IF(ISERROR(VLOOKUP(B15,'N PMRg 2021'!B:G,6,0)),\"-\",VLOOKUP(B15,'N PMRg 2021'!B:G,6,0))","v":"-"},{"$f":"IF(COUNTIF('N PMČRj 2021'!B:B,B15)=0,\"-\",COUNTIF('N PMČRj 2021'!B:B,B15))","v":"-"},{"$f":"IF(ISERROR(VLOOKUP(B15,'N PMČRj 2021'!B:G,6,0)),\"-\",VLOOKUP(B15,'N PMČRj 2021'!B:G,6,0))","v":"-"}]
[8,"Ivan Novak",{"$f":"VLOOKUP(B16,Pilot!A:C,3,0)","v":"Mladá Boleslav"},{"$f":"VLOOKUP(B16,Pilot!A:B,2,0)","v":1962},{"$f":"VLOOKUP(B16,Pilot!A:E,5,0)","v":"M"},{"$f":"VLOOKUP(B16,Pilot!A:F,6,0)","v":""},8,null,1,{"$f":"IF(COUNTIF('N PMRg 2021'!B:B,B16)=0,\"-\",COUNTIF('N PMRg 2021'!B:B,B16))","v":"-"},{"$f":"IF(ISERROR(VLOOKUP(B16,'N PMRg 2021'!B:G,6,0)),\"-\",VLOOKUP(B16,'N PMRg 2021'!B:G,6,0))","v":"-"},{"$f":"IF(COUNTIF('N PMČRj 2021'!B:B,B16)=0,\"-\",COUNTIF('N PMČRj 2021'!B:B,B16))","v":"-"},{"$f":"IF(ISERROR(VLOOKUP(B16,'N PMČRj 2021'!B:G,6,0)),\"-\",VLOOKUP(B16,'N PMČRj 2021'!B:G,6,0))","v":"-"}]
[9,"Jaroslav Tomana",{"$f":"VLOOKUP(B17,Pilot!A:C,3,0)","v":"Zbraslavice"},{"$f":"VLOOKUP(B17,Pilot!A:B,2,0)","v":1975},{"$f":"VLOOKUP(B17,Pilot!A:E,5,0)","v":"M"},{"$f":"VLOOKUP(B17,Pilot!A:F,6,0)","v":""},9,null,1,{"$f":"IF(COUNTIF('N PMRg 2021'!B:B,B17)=0,\"-\",COUNTIF('N PMRg 2021'!B:B,B17))","v":"-"},{"$f":"IF(ISERROR(VLOOKUP(B17,'N PMRg 2021'!B:G,6,0)),\"-\",VLOOKUP(B17,'N PMRg 2021'!B:G,6,0))","v":"-"},{"$f":"IF(COUNTIF('N PMČRj 2021'!B:B,B17)=0,\"-\",COUNTIF('N PMČRj 2021'!B:B,B17))","v":"-"},{"$f":"IF(ISERROR(VLOOKUP(B17,'N PMČRj 2021'!B:G,6,0)),\"-\",VLOOKUP(B17,'N PMČRj 2021'!B:G,6,0))","v":"-"}]
[10,"Petr Tichy",{"$f":"VLOOKUP(B18,Pilot!A:C,3,0)","v":"Zbraslavice"},{"$f":"VLOOKUP(B18,Pilot!A:B,2,0)","v":1973},{"$f":"VLOOKUP(B18,Pilot!A:E,5,0)","v":"M"},{"$f":"VLOOKUP(B18,Pilot!A:F,6,0)","v":""},{"$f":"A18","v":10},null,1,{"$f":"IF(COUNTIF('N PMRg 2021'!B:B,B18)=0,\"-\",COUNTIF('N PMRg 2021'!B:B,B18))","v":"-"},{"$f":"IF(ISERROR(VLOOKUP(B18,'N PMRg 2021'!B:G,6,0)),\"-\",VLOOKUP(B18,'N PMRg 2021'!B:G,6,0))","v":"-"},{"$f":"IF(COUNTIF('N PMČRj 2021'!B:B,B18)=0,\"-\",COUNTIF('N PMČRj 2021'!B:B,B18))","v":"-"},{"$f":"IF(ISERROR(VLOOKUP(B18,'N PMČRj 2021'!B:G,6,0)),\"-\",VLOOKUP(B18,'N PMČRj 2021'!B:G,6,0))","v":"-"}]
[11,"Karel Novak",{"$f":"VLOOKUP(B19,Pilot!A:C,3,0)","v":"Mladá Boleslav"},{"$f":"VLOOKUP(B19,Pilot!A:B,2,0)","v":1993},{"$f":"VLOOKUP(B19,Pilot!A:E,5,0)","v":"M"},{"$f":"VLOOKUP(B19,Pilot!A:F,6,0)","v":""},11,null,1,{"$f":"IF(COUNTIF('N PMRg 2021'!B:B,B19)=0,\"-\",COUNTIF('N PMRg 2021'!B:B,B19))","v":"-"},{"$f":"IF(ISERROR(VLOOKUP(B19,'N PMRg 2021'!B:G,6,0)),\"-\",VLOOKUP(B19,'N PMRg 2021'!B:G,6,0))","v":"-"},{"$f":"IF(COUNTIF('N PMČRj 2021'!B:B,B19)=0,\"-\",COUNTIF('N PMČRj 2021'!B:B,B19))","v":"-"},{"$f":"IF(ISERROR(VLOOKUP(B19,'N PMČRj 2021'!B:G,6,0)),\"-\",VLOOKUP(B19,'N PMČRj 2021'!B:G,6,0))","v":"-"}]
[12,"Michal Lesinger",{"$f":"VLOOKUP(B20,Pilot!A:C,3,0)","v":"Moravská Třebová"},{"$f":"VLOOKUP(B20,Pilot!A:B,2,0)","v":1966},{"$f":"VLOOKUP(B20,Pilot!A:E,5,0)","v":"M"},{"$f":"VLOOKUP(B20,Pilot!A:F,6,0)","v":""},12,null,1,{"$f":"IF(COUNTIF('N PMRg 2021'!B:B,B20)=0,\"-\",COUNTIF('N PMRg 2021'!B:B,B20))","v":"-"},{"$f":"IF(ISERROR(VLOOKUP(B20,'N PMRg 2021'!B:G,6,0)),\"-\",VLOOKUP(B20,'N PMRg 2021'!B:G,6,0))","v":"-"},{"$f":"IF(COUNTIF('N PMČRj 2021'!B:B,B20)=0,\"-\",COUNTIF('N PMČRj 2021'!B:B,B20))","v":"-"},{"$f":"IF(ISERROR(VLOOKUP(B20,'N PMČRj 2021'!B:G,6,0)),\"-\",VLOOKUP(B20,'N PMČRj 2021'!B:G,6,0))","v":"-"}]
[13,"Ondrej Bordovsky",{"$f":"VLOOKUP(B21,Pilot!A:C,3,0)","v":"Krnov"},{"$f":"VLOOKUP(B21,Pilot!A:B,2,0)","v":1983},{"$f":"VLOOKUP(B21,Pilot!A:E,5,0)","v":"M"},{"$f":"VLOOKUP(B21,Pilot!A:F,6,0)","v":""},{"$f":"A21","v":13},null,1,{"$f":"IF(COUNTIF('N PMRg 2021'!B:B,B21)=0,\"-\",COUNTIF('N PMRg 2021'!B:B,B21))","v":"-"},{"$f":"IF(ISERROR(VLOOKUP(B21,'N PMRg 2021'!B:G,6,0)),\"-\",VLOOKUP(B21,'N PMRg 2021'!B:G,6,0))","v":"-"},{"$f":"IF(COUNTIF('N PMČRj 2021'!B:B,B21)=0,\"-\",COUNTIF('N PMČRj 2021'!B:B,B21))","v":"-"},{"$f":"IF(ISERROR(VLOOKUP(B21,'N PMČRj 2021'!B:G,6,0)),\"-\",VLOOKUP(B21,'N PMČRj 2021'!B:G,6,0))","v":"-"}]
[14,"Jan Pavlik",{"$f":"VLOOKUP(B22,Pilot!A:C,3,0)","v":"Křižanov"},{"$f":"VLOOKUP(B22,Pilot!A:B,2,0)","v":1987},{"$f":"VLOOKUP(B22,Pilot!A:E,5,0)","v":"M"},{"$f":"VLOOKUP(B22,Pilot!A:F,6,0)","v":""},14,null,1,{"$f":"IF(COUNTIF('N PMRg 2021'!B:B,B22)=0,\"-\",COUNTIF('N PMRg 2021'!B:B,B22))","v":"-"},{"$f":"IF(ISERROR(VLOOKUP(B22,'N PMRg 2021'!B:G,6,0)),\"-\",VLOOKUP(B22,'N PMRg 2021'!B:G,6,0))","v":"-"},{"$f":"IF(COUNTIF('N PMČRj 2021'!B:B,B22)=0,\"-\",COUNTIF('N PMČRj 2021'!B:B,B22))","v":"-"},{"$f":"IF(ISERROR(VLOOKUP(B22,'N PMČRj 2021'!B:G,6,0)),\"-\",VLOOKUP(B22,'N PMČRj 2021'!B:G,6,0))","v":"-"}]
[15,"Ondrej Dupal",{"$f":"VLOOKUP(B23,Pilot!A:C,3,0)","v":"GAC Benešov"},{"$f":"VLOOKUP(B23,Pilot!A:B,2,0)","v":1966},{"$f":"VLOOKUP(B23,Pilot!A:E,5,0)","v":"M"},{"$f":"VLOOKUP(B23,Pilot!A:F,6,0)","v":""},15,null,1,{"$f":"IF(COUNTIF('N PMRg 2021'!B:B,B23)=0,\"-\",COUNTIF('N PMRg 2021'!B:B,B23))","v":"-"},{"$f":"IF(ISERROR(VLOOKUP(B23,'N PMRg 2021'!B:G,6,0)),\"-\",VLOOKUP(B23,'N PMRg 2021'!B:G,6,0))","v":"-"},{"$f":"IF(COUNTIF('N PMČRj 2021'!B:B,B23)=0,\"-\",COUNTIF('N PMČRj 2021'!B:B,B23))","v":"-"},{"$f":"IF(ISERROR(VLOOKUP(B23,'N PMČRj 2021'!B:G,6,0)),\"-\",VLOOKUP(B23,'N PMČRj 2021'!B:G,6,0))","v":"-"}]
[16,"Jan Louda",{"$f":"VLOOKUP(B24,Pilot!A:C,3,0)","v":"Mladá Boleslav"},{"$f":"VLOOKUP(B24,Pilot!A:B,2,0)","v":1986},{"$f":"VLOOKUP(B24,Pilot!A:E,5,0)","v":"M"},{"$f":"VLOOKUP(B24,Pilot!A:F,6,0)","v":""},16,null,1,{"$f":"IF(COUNTIF('N PMRg 2021'!B:B,B24)=0,\"-\",COUNTIF('N PMRg 2021'!B:B,B24))","v":"-"},{"$f":"IF(ISERROR(VLOOKUP(B24,'N PMRg 2021'!B:G,6,0)),\"-\",VLOOKUP(B24,'N PMRg 2021'!B:G,6,0))","v":"-"},{"$f":"IF(COUNTIF('N PMČRj 2021'!B:B,B24)=0,\"-\",COUNTIF('N PMČRj 2021'!B:B,B24))","v":"-"},{"$f":"IF(ISERROR(VLOOKUP(B24,'N PMČRj 2021'!B:G,6,0)),\"-\",VLOOKUP(B24,'N PMČRj 2021'!B:G,6,0))","v":"-"}]
[17,"Jan Ratz",{"$f":"VLOOKUP(B25,Pilot!A:C,3,0)","v":"Zbraslavice"},{"$f":"VLOOKUP(B25,Pilot!A:B,2,0)","v":1987},{"$f":"VLOOKUP(B25,Pilot!A:E,5,0)","v":"M"},{"$f":"VLOOKUP(B25,Pilot!A:F,6,0)","v":""},17,null,1,{"$f":"IF(COUNTIF('N PMRg 2021'!B:B,B25)=0,\"-\",COUNTIF('N PMRg 2021'!B:B,B25))","v":"-"},{"$f":"IF(ISERROR(VLOOKUP(B25,'N PMRg 2021'!B:G,6,0)),\"-\",VLOOKUP(B25,'N PMRg 2021'!B:G,6,0))","v":"-"},{"$f":"IF(COUNTIF('N PMČRj 2021'!B:B,B25)=0,\"-\",COUNTIF('N PMČRj 2021'!B:B,B25))","v":"-"},{"$f":"IF(ISERROR(VLOOKUP(B25,'N PMČRj 2021'!B:G,6,0)),\"-\",VLOOKUP(B25,'N PMČRj 2021'!B:G,6,0))","v":"-"}]
[18,"Danes Grula",{"$f":"VLOOKUP(B26,Pilot!A:C,3,0)","v":"Medlánky"},{"$f":"VLOOKUP(B26,Pilot!A:B,2,0)","v":1961},{"$f":"VLOOKUP(B26,Pilot!A:E,5,0)","v":"M"},{"$f":"VLOOKUP(B26,Pilot!A:F,6,0)","v":""},18,null,1,{"$f":"IF(COUNTIF('N PMRg 2021'!B:B,B26)=0,\"-\",COUNTIF('N PMRg 2021'!B:B,B26))","v":"-"},{"$f":"IF(ISERROR(VLOOKUP(B26,'N PMRg 2021'!B:G,6,0)),\"-\",VLOOKUP(B26,'N PMRg 2021'!B:G,6,0))","v":"-"},{"$f":"IF(COUNTIF('N PMČRj 2021'!B:B,B26)=0,\"-\",COUNTIF('N PMČRj 2021'!B:B,B26))","v":"-"},{"$f":"IF(ISERROR(VLOOKUP(B26,'N PMČRj 2021'!B:G,6,0)),\"-\",VLOOKUP(B26,'N PMČRj 2021'!B:G,6,0))","v":"-"}]
[19,"Daniel Ryba",{"$f":"VLOOKUP(B27,Pilot!A:C,3,0)","v":"Dvůr Králové"},{"$f":"VLOOKUP(B27,Pilot!A:B,2,0)","v":1994},{"$f":"VLOOKUP(B27,Pilot!A:E,5,0)","v":"M"},{"$f":"VLOOKUP(B27,Pilot!A:F,6,0)","v":""},19,null,1,{"$f":"IF(COUNTIF('N PMRg 2021'!B:B,B27)=0,\"-\",COUNTIF('N PMRg 2021'!B:B,B27))","v":"-"},{"$f":"IF(ISERROR(VLOOKUP(B27,'N PMRg 2021'!B:G,6,0)),\"-\",VLOOKUP(B27,'N PMRg 2021'!B:G,6,0))","v":"-"},{"$f":"IF(COUNTIF('N PMČRj 2021'!B:B,B27)=0,\"-\",COUNTIF('N PMČRj 2021'!B:B,B27))","v":"-"},{"$f":"IF(ISERROR(VLOOKUP(B27,'N PMČRj 2021'!B:G,6,0)),\"-\",VLOOKUP(B27,'N PMČRj 2021'!B:G,6,0))","v":"-"}]
[20,"Alena Netusilova",{"$f":"VLOOKUP(B28,Pilot!A:C,3,0)","v":"Zbraslavice"},{"$f":"VLOOKUP(B28,Pilot!A:B,2,0)","v":1970},{"$f":"VLOOKUP(B28,Pilot!A:E,5,0)","v":"F"},{"$f":"VLOOKUP(B28,Pilot!A:F,6,0)","v":""},20,null,1,{"$f":"IF(COUNTIF('N PMRg 2021'!B:B,B28)=0,\"-\",COUNTIF('N PMRg 2021'!B:B,B28))","v":"-"},{"$f":"IF(ISERROR(VLOOKUP(B28,'N PMRg 2021'!B:G,6,0)),\"-\",VLOOKUP(B28,'N PMRg 2021'!B:G,6,0))","v":"-"},{"$f":"IF(COUNTIF('N PMČRj 2021'!B:B,B28)=0,\"-\",COUNTIF('N PMČRj 2021'!B:B,B28))","v":"-"},{"$f":"IF(ISERROR(VLOOKUP(B28,'N PMČRj 2021'!B:G,6,0)),\"-\",VLOOKUP(B28,'N PMČRj 2021'!B:G,6,0))","v":"-"}]
[21,"Jan Zapletal",{"$f":"VLOOKUP(B29,Pilot!A:C,3,0)","v":"Břeclav"},{"$f":"VLOOKUP(B29,Pilot!A:B,2,0)","v":1997},{"$f":"VLOOKUP(B29,Pilot!A:E,5,0)","v":"M"},{"$f":"VLOOKUP(B29,Pilot!A:F,6,0)","v":"Junior v roce 2021"},21,null,1,{"$f":"IF(COUNTIF('N PMRg 2021'!B:B,B29)=0,\"-\",COUNTIF('N PMRg 2021'!B:B,B29))","v":"-"},{"$f":"IF(ISERROR(VLOOKUP(B29,'N PMRg 2021'!B:G,6,0)),\"-\",VLOOKUP(B29,'N PMRg 2021'!B:G,6,0))","v":"-"},{"$f":"IF(COUNTIF('N PMČRj 2021'!B:B,B29)=0,\"-\",COUNTIF('N PMČRj 2021'!B:B,B29))","v":1},{"$f":"IF(ISERROR(VLOOKUP(B29,'N PMČRj 2021'!B:G,6,0)),\"-\",VLOOKUP(B29,'N PMČRj 2021'!B:G,6,0))","v":1}]
[22,"Dana Novakova",{"$f":"VLOOKUP(B30,Pilot!A:C,3,0)","v":"Mladá Boleslav"},{"$f":"VLOOKUP(B30,Pilot!A:B,2,0)","v":1965},{"$f":"VLOOKUP(B30,Pilot!A:E,5,0)","v":"F"},{"$f":"VLOOKUP(B30,Pilot!A:F,6,0)","v":""},22,null,1,{"$f":"IF(COUNTIF('N PMRg 2021'!B:B,B30)=0,\"-\",COUNTIF('N PMRg 2021'!B:B,B30))","v":"-"},{"$f":"IF(ISERROR(VLOOKUP(B30,'N PMRg 2021'!B:G,6,0)),\"-\",VLOOKUP(B30,'N PMRg 2021'!B:G,6,0))","v":"-"},{"$f":"IF(COUNTIF('N PMČRj 2021'!B:B,B30)=0,\"-\",COUNTIF('N PMČRj 2021'!B:B,B30))","v":"-"},{"$f":"IF(ISERROR(VLOOKUP(B30,'N PMČRj 2021'!B:G,6,0)),\"-\",VLOOKUP(B30,'N PMČRj 2021'!B:G,6,0))","v":"-"}]
[23,"Jaromir Macoun",{"$f":"VLOOKUP(B31,Pilot!A:C,3,0)","v":"Jičín"},{"$f":"VLOOKUP(B31,Pilot!A:B,2,0)","v":1999},{"$f":"VLOOKUP(B31,Pilot!A:E,5,0)","v":"M"},{"$f":"VLOOKUP(B31,Pilot!A:F,6,0)","v":"Junior v roce 2021"},23,null,1,{"$f":"IF(COUNTIF('N PMRg 2021'!B:B,B31)=0,\"-\",COUNTIF('N PMRg 2021'!B:B,B31))","v":"-"},{"$f":"IF(ISERROR(VLOOKUP(B31,'N PMRg 2021'!B:G,6,0)),\"-\",VLOOKUP(B31,'N PMRg 2021'!B:G,6,0))","v":"-"},{"$f":"IF(COUNTIF('N PMČRj 2021'!B:B,B31)=0,\"-\",COUNTIF('N PMČRj 2021'!B:B,B31))","v":1},{"$f":"IF(ISERROR(VLOOKUP(B31,'N PMČRj 2021'!B:G,6,0)),\"-\",VLOOKUP(B31,'N PMČRj 2021'!B:G,6,0))","v":2}]
[24,"Barbora Moravcova",{"$f":"VLOOKUP(B32,Pilot!A:C,3,0)","v":"Zbraslavice"},{"$f":"VLOOKUP(B32,Pilot!A:B,2,0)","v":1994},{"$f":"VLOOKUP(B32,Pilot!A:E,5,0)","v":"F"},{"$f":"VLOOKUP(B32,Pilot!A:F,6,0)","v":""},24,null,1,{"$f":"IF(COUNTIF('N PMRg 2021'!B:B,B32)=0,\"-\",COUNTIF('N PMRg 2021'!B:B,B32))","v":"-"},{"$f":"IF(ISERROR(VLOOKUP(B32,'N PMRg 2021'!B:G,6,0)),\"-\",VLOOKUP(B32,'N PMRg 2021'!B:G,6,0))","v":"-"},{"$f":"IF(COUNTIF('N PMČRj 2021'!B:B,B32)=0,\"-\",COUNTIF('N PMČRj 2021'!B:B,B32))","v":"-"},{"$f":"IF(ISERROR(VLOOKUP(B32,'N PMČRj 2021'!B:G,6,0)),\"-\",VLOOKUP(B32,'N PMČRj 2021'!B:G,6,0))","v":"-"}]
[25,"Jana Veprekova",{"$f":"VLOOKUP(B33,Pilot!A:C,3,0)","v":"Dvůr Králové"},{"$f":"VLOOKUP(B33,Pilot!A:B,2,0)","v":1961},{"$f":"VLOOKUP(B33,Pilot!A:E,5,0)","v":"F"},{"$f":"VLOOKUP(B33,Pilot!A:F,6,0)","v":""},25,null,1,{"$f":"IF(COUNTIF('N PMRg 2021'!B:B,B33)=0,\"-\",COUNTIF('N PMRg 2021'!B:B,B33))","v":"-"},{"$f":"IF(ISERROR(VLOOKUP(B33,'N PMRg 2021'!B:G,6,0)),\"-\",VLOOKUP(B33,'N PMRg 2021'!B:G,6,0))","v":"-"},{"$f":"IF(COUNTIF('N PMČRj 2021'!B:B,B33)=0,\"-\",COUNTIF('N PMČRj 2021'!B:B,B33))","v":"-"},{"$f":"IF(ISERROR(VLOOKUP(B33,'N PMČRj 2021'!B:G,6,0)),\"-\",VLOOKUP(B33,'N PMČRj 2021'!B:G,6,0))","v":"-"}]
[26,"Hana Treslova",{"$f":"VLOOKUP(B34,Pilot!A:C,3,0)","v":"Raná"},{"$f":"VLOOKUP(B34,Pilot!A:B,2,0)","v":1991},{"$f":"VLOOKUP(B34,Pilot!A:E,5,0)","v":"F"},{"$f":"VLOOKUP(B34,Pilot!A:F,6,0)","v":""},{"$f":"A34","v":26},null,1,{"$f":"IF(COUNTIF('N PMRg 2021'!B:B,B34)=0,\"-\",COUNTIF('N PMRg 2021'!B:B,B34))","v":"-"},{"$f":"IF(ISERROR(VLOOKUP(B34,'N PMRg 2021'!B:G,6,0)),\"-\",VLOOKUP(B34,'N PMRg 2021'!B:G,6,0))","v":"-"},{"$f":"IF(COUNTIF('N PMČRj 2021'!B:B,B34)=0,\"-\",COUNTIF('N PMČRj 2021'!B:B,B34))","v":"-"},{"$f":"IF(ISERROR(VLOOKUP(B34,'N PMČRj 2021'!B:G,6,0)),\"-\",VLOOKUP(B34,'N PMČRj 2021'!B:G,6,0))","v":"-"}]
[27,"Jana Treslova",{"$f":"VLOOKUP(B35,Pilot!A:C,3,0)","v":"Raná"},{"$f":"VLOOKUP(B35,Pilot!A:B,2,0)","v":1963},{"$f":"VLOOKUP(B35,Pilot!A:E,5,0)","v":"F"},{"$f":"VLOOKUP(B35,Pilot!A:F,6,0)","v":""},27,null,1,{"$f":"IF(COUNTIF('N PMRg 2021'!B:B,B35)=0,\"-\",COUNTIF('N PMRg 2021'!B:B,B35))","v":"-"},{"$f":"IF(ISERROR(VLOOKUP(B35,'N PMRg 2021'!B:G,6,0)),\"-\",VLOOKUP(B35,'N PMRg 2021'!B:G,6,0))","v":"-"},{"$f":"IF(COUNTIF('N PMČRj 2021'!B:B,B35)=0,\"-\",COUNTIF('N PMČRj 2021'!B:B,B35))","v":"-"},{"$f":"IF(ISERROR(VLOOKUP(B35,'N PMČRj 2021'!B:G,6,0)),\"-\",VLOOKUP(B35,'N PMČRj 2021'!B:G,6,0))","v":"-"}]
[28,"Lenka Kuthanova",{"$f":"VLOOKUP(B36,Pilot!A:C,3,0)","v":"Tábor"},{"$f":"VLOOKUP(B36,Pilot!A:B,2,0)","v":1960},{"$f":"VLOOKUP(B36,Pilot!A:E,5,0)","v":"F"},{"$f":"VLOOKUP(B36,Pilot!A:F,6,0)","v":""},28,null,1,{"$f":"IF(COUNTIF('N PMRg 2021'!B:B,B36)=0,\"-\",COUNTIF('N PMRg 2021'!B:B,B36))","v":"-"},{"$f":"IF(ISERROR(VLOOKUP(B36,'N PMRg 2021'!B:G,6,0)),\"-\",VLOOKUP(B36,'N PMRg 2021'!B:G,6,0))","v":"-"},{"$f":"IF(COUNTIF('N PMČRj 2021'!B:B,B36)=0,\"-\",COUNTIF('N PMČRj 2021'!B:B,B36))","v":"-"},{"$f":"IF(ISERROR(VLOOKUP(B36,'N PMČRj 2021'!B:G,6,0)),\"-\",VLOOKUP(B36,'N PMČRj 2021'!B:G,6,0))","v":"-"}]
[29,"Vit Morkovsky",{"$f":"VLOOKUP(B37,Pilot!A:C,3,0)","v":"Polička"},{"$f":"VLOOKUP(B37,Pilot!A:B,2,0)","v":2000},{"$f":"VLOOKUP(B37,Pilot!A:E,5,0)","v":"M"},{"$f":"VLOOKUP(B37,Pilot!A:F,6,0)","v":"Junior v roce 2021"},29,null,1,{"$f":"IF(COUNTIF('N PMRg 2021'!B:B,B37)=0,\"-\",COUNTIF('N PMRg 2021'!B:B,B37))","v":"-"},{"$f":"IF(ISERROR(VLOOKUP(B37,'N PMRg 2021'!B:G,6,0)),\"-\",VLOOKUP(B37,'N PMRg 2021'!B:G,6,0))","v":"-"},{"$f":"IF(COUNTIF('N PMČRj 2021'!B:B,B37)=0,\"-\",COUNTIF('N PMČRj 2021'!B:B,B37))","v":1},{"$f":"IF(ISERROR(VLOOKUP(B37,'N PMČRj 2021'!B:G,6,0)),\"-\",VLOOKUP(B37,'N PMČRj 2021'!B:G,6,0))","v":3}]
[30,"Klara Teichmannova",{"$f":"VLOOKUP(B38,Pilot!A:C,3,0)","v":"Hronov"},{"$f":"VLOOKUP(B38,Pilot!A:B,2,0)","v":1993},{"$f":"VLOOKUP(B38,Pilot!A:E,5,0)","v":"F"},{"$f":"VLOOKUP(B38,Pilot!A:F,6,0)","v":""},30,null,1,{"$f":"IF(COUNTIF('N PMRg 2021'!B:B,B38)=0,\"-\",COUNTIF('N PMRg 2021'!B:B,B38))","v":"-"},{"$f":"IF(ISERROR(VLOOKUP(B38,'N PMRg 2021'!B:G,6,0)),\"-\",VLOOKUP(B38,'N PMRg 2021'!B:G,6,0))","v":"-"},{"$f":"IF(COUNTIF('N PMČRj 2021'!B:B,B38)=0,\"-\",COUNTIF('N PMČRj 2021'!B:B,B38))","v":"-"},{"$f":"IF(ISERROR(VLOOKUP(B38,'N PMČRj 2021'!B:G,6,0)),\"-\",VLOOKUP(B38,'N PMČRj 2021'!B:G,6,0))","v":"-"}]
[31,"Petra Piskata",{"$f":"VLOOKUP(B39,Pilot!A:C,3,0)","v":"Luhačovice"},{"$f":"VLOOKUP(B39,Pilot!A:B,2,0)","v":1989},{"$f":"VLOOKUP(B39,Pilot!A:E,5,0)","v":"F"},{"$f":"VLOOKUP(B39,Pilot!A:F,6,0)","v":""},{"$f":"A39","v":31},null,1,{"$f":"IF(COUNTIF('N PMRg 2021'!B:B,B39)=0,\"-\",COUNTIF('N PMRg 2021'!B:B,B39))","v":"-"},{"$f":"IF(ISERROR(VLOOKUP(B39,'N PMRg 2021'!B:G,6,0)),\"-\",VLOOKUP(B39,'N PMRg 2021'!B:G,6,0))","v":"-"},{"$f":"IF(COUNTIF('N PMČRj 2021'!B:B,B39)=0,\"-\",COUNTIF('N PMČRj 2021'!B:B,B39))","v":"-"},{"$f":"IF(ISERROR(VLOOKUP(B39,'N PMČRj 2021'!B:G,6,0)),\"-\",VLOOKUP(B39,'N PMČRj 2021'!B:G,6,0))","v":"-"}]
[32,"Ivan Tvrdik",{"$f":"VLOOKUP(B40,Pilot!A:C,3,0)","v":"Letňany"},{"$f":"VLOOKUP(B40,Pilot!A:B,2,0)","v":1997},{"$f":"VLOOKUP(B40,Pilot!A:E,5,0)","v":"M"},{"$f":"VLOOKUP(B40,Pilot!A:F,6,0)","v":"Junior v roce 2021"},32,null,1,{"$f":"IF(COUNTIF('N PMRg 2021'!B:B,B40)=0,\"-\",COUNTIF('N PMRg 2021'!B:B,B40))","v":"-"},{"$f":"IF(ISERROR(VLOOKUP(B40,'N PMRg 2021'!B:G,6,0)),\"-\",VLOOKUP(B40,'N PMRg 2021'!B:G,6,0))","v":"-"},{"$f":"IF(COUNTIF('N PMČRj 2021'!B:B,B40)=0,\"-\",COUNTIF('N PMČRj 2021'!B:B,B40))","v":1},{"$f":"IF(ISERROR(VLOOKUP(B40,'N PMČRj 2021'!B:G,6,0)),\"-\",VLOOKUP(B40,'N PMČRj 2021'!B:G,6,0))","v":4}]
[33,"Tereza Koubkova",{"$f":"VLOOKUP(B41,Pilot!A:C,3,0)","v":"Vysoké Mýto"},{"$f":"VLOOKUP(B41,Pilot!A:B,2,0)","v":1999},{"$f":"VLOOKUP(B41,Pilot!A:E,5,0)","v":"F"},{"$f":"VLOOKUP(B41,Pilot!A:F,6,0)","v":"Junior v roce 2021"},33,null,1,{"$f":"IF(COUNTIF('N PMRg 2021'!B:B,B41)=0,\"-\",COUNTIF('N PMRg 2021'!B:B,B41))","v":"-"},{"$f":"IF(ISERROR(VLOOKUP(B41,'N PMRg 2021'!B:G,6,0)),\"-\",VLOOKUP(B41,'N PMRg 2021'!B:G,6,0))","v":"-"},{"$f":"IF(COUNTIF('N PMČRj 2021'!B:B,B41)=0,\"-\",COUNTIF('N PMČRj 2021'!B:B,B41))","v":1},{"$f":"IF(ISERROR(VLOOKUP(B41,'N PMČRj 2021'!B:G,6,0)),\"-\",VLOOKUP(B41,'N PMČRj 2021'!B:G,6,0))","v":5}]
[34,"Michaela Krizova",{"$f":"VLOOKUP(B42,Pilot!A:C,3,0)","v":"Přibyslav"},{"$f":"VLOOKUP(B42,Pilot!A:B,2,0)","v":2001},{"$f":"VLOOKUP(B42,Pilot!A:E,5,0)","v":"F"},{"$f":"VLOOKUP(B42,Pilot!A:F,6,0)","v":"Junior v roce 2021"},34,null,1,{"$f":"IF(COUNTIF('N PMRg 2021'!B:B,B42)=0,\"-\",COUNTIF('N PMRg 2021'!B:B,B42))","v":"-"},{"$f":"IF(ISERROR(VLOOKUP(B42,'N PMRg 2021'!B:G,6,0)),\"-\",VLOOKUP(B42,'N PMRg 2021'!B:G,6,0))","v":"-"},{"$f":"IF(COUNTIF('N PMČRj 2021'!B:B,B42)=0,\"-\",COUNTIF('N PMČRj 2021'!B:B,B42))","v":1},{"$f":"IF(ISERROR(VLOOKUP(B42,'N PMČRj 2021'!B:G,6,0)),\"-\",VLOOKUP(B42,'N PMČRj 2021'!B:G,6,0))","v":6}]
["6.6.6.2.","další soutěžící, kteří se umístili v konečném pořadí na posledním platném PMČR ve své třídě nejhůře v první polovině celkového pořadí (bez náhradníků)\n"]
[null,"PMČR 2020 - Tábor - Klub"]
[{"$f":"MAX(A9:A43)+1","v":35},"Pavel Trybenekr",{"$f":"VLOOKUP(B45,Pilot!A:C,3,0)","v":"Hořice"},{"$f":"VLOOKUP(B45,Pilot!A:B,2,0)","v":1990},{"$f":"VLOOKUP(B45,Pilot!A:E,5,0)","v":"M"},{"$f":"VLOOKUP(B45,Pilot!A:F,6,0)","v":""},{"$f":"A45","v":35},null,{"$f":"COUNTIF(B:B,B45)","v":1},{"$f":"IF(COUNTIF('N PMRg 2021'!B:B,B45)=0,\"-\",COUNTIF('N PMRg 2021'!B:B,B45))","v":"-"},{"$f":"IF(ISERROR(VLOOKUP(B45,'N PMRg 2021'!B:G,6,0)),\"-\",VLOOKUP(B45,'N PMRg 2021'!B:G,6,0))","v":"-"},{"$f":"IF(COUNTIF('N PMČRj 2021'!B:B,B45)=0,\"-\",COUNTIF('N PMČRj 2021'!B:B,B45))","v":"-"},{"$f":"IF(ISERROR(VLOOKUP(B45,'N PMČRj 2021'!B:G,6,0)),\"-\",VLOOKUP(B45,'N PMČRj 2021'!B:G,6,0))","v":"-"}]
[{"$f":"A45+1","v":36},"Pavel Rericha",{"$f":"VLOOKUP(B46,Pilot!A:C,3,0)","v":"Moravská Třebová"},{"$f":"VLOOKUP(B46,Pilot!A:B,2,0)","v":1967},{"$f":"VLOOKUP(B46,Pilot!A:E,5,0)","v":"M"},{"$f":"VLOOKUP(B46,Pilot!A:F,6,0)","v":""},{"$f":"A46","v":36},null,{"$f":"COUNTIF(B:B,B46)","v":1},{"$f":"IF(COUNTIF('N PMRg 2021'!B:B,B46)=0,\"-\",COUNTIF('N PMRg 2021'!B:B,B46))","v":"-"},{"$f":"IF(ISERROR(VLOOKUP(B46,'N PMRg 2021'!B:G,6,0)),\"-\",VLOOKUP(B46,'N PMRg 2021'!B:G,6,0))","v":"-"},{"$f":"IF(COUNTIF('N PMČRj 2021'!B:B,B46)=0,\"-\",COUNTIF('N PMČRj 2021'!B:B,B46))","v":"-"},{"$f":"IF(ISERROR(VLOOKUP(B46,'N PMČRj 2021'!B:G,6,0)),\"-\",VLOOKUP(B46,'N PMČRj 2021'!B:G,6,0))","v":"-"}]
[null,"PMČR 2020 - Tábor - Kombi 15m"]
[{"$f":"A46+1","v":37},"Jiri Kusbach",{"$f":"VLOOKUP(B48,Pilot!A:C,3,0)","v":"Luhačovice"},{"$f":"VLOOKUP(B48,Pilot!A:B,2,0)","v":1959},{"$f":"VLOOKUP(B48,Pilot!A:E,5,0)","v":"M"},{"$f":"VLOOKUP(B48,Pilot!A:F,6,0)","v":""},{"$f":"A48","v":37},null,{"$f":"COUNTIF(B:B,B48)","v":1},{"$f":"IF(COUNTIF('N PMRg 2021'!B:B,B48)=0,\"-\",COUNTIF('N PMRg 2021'!B:B,B48))","v":"-"},{"$f":"IF(ISERROR(VLOOKUP(B48,'N PMRg 2021'!B:G,6,0)),\"-\",VLOOKUP(B48,'N PMRg 2021'!B:G,6,0))","v":"-"},{"$f":"IF(COUNTIF('N PMČRj 2021'!B:B,B48)=0,\"-\",COUNTIF('N PMČRj 2021'!B:B,B48))","v":"-"},{"$f":"IF(ISERROR(VLOOKUP(B48,'N PMČRj 2021'!B:G,6,0)),\"-\",VLOOKUP(B48,'N PMČRj 2021'!B:G,6,0))","v":"-"}]
[{"$f":"A48+1","v":38},"Petr Krejcirik",{"$f":"VLOOKUP(B49,Pilot!A:C,3,0)","v":"Hranice"},{"$f":"VLOOKUP(B49,Pilot!A:B,2,0)","v":1960},{"$f":"VLOOKUP(B49,Pilot!A:E,5,0)","v":"M"},{"$f":"VLOOKUP(B49,Pilot!A:F,6,0)","v":""},{"$f":"A49","v":38},null,{"$f":"COUNTIF(B:B,B49)","v":1},{"$f":"IF(COUNTIF('N PMRg 2021'!B:B,B49)=0,\"-\",COUNTIF('N PMRg 2021'!B:B,B49))","v":"-"},{"$f":"IF(ISERROR(VLOOKUP(B49,'N PMRg 2021'!B:G,6,0)),\"-\",VLOOKUP(B49,'N PMRg 2021'!B:G,6,0))","v":"-"},{"$f":"IF(COUNTIF('N PMČRj 2021'!B:B,B49)=0,\"-\",COUNTIF('N PMČRj 2021'!B:B,B49))","v":"-"},{"$f":"IF(ISERROR(VLOOKUP(B49,'N PMČRj 2021'!B:G,6,0)),\"-\",VLOOKUP(B49,'N PMČRj 2021'!B:G,6,0))","v":"-"}]
[{"$f":"A49+1","v":39},"Jan Kotan",{"$f":"VLOOKUP(B50,Pilot!A:C,3,0)","v":"Letňany"},{"$f":"VLOOKUP(B50,Pilot!A:B,2,0)","v":1982},{"$f":"VLOOKUP(B50,Pilot!A:E,5,0)","v":"M"},{"$f":"VLOOKUP(B50,Pilot!A:F,6,0)","v":""},{"$f":"A50","v":39},null,{"$f":"COUNTIF(B:B,B50)","v":1},{"$f":"IF(COUNTIF('N PMRg 2021'!B:B,B50)=0,\"-\",COUNTIF('N PMRg 2021'!B:B,B50))","v":"-"},{"$f":"IF(ISERROR(VLOOKUP(B50,'N PMRg 2021'!B:G,6,0)),\"-\",VLOOKUP(B50,'N PMRg 2021'!B:G,6,0))","v":"-"},{"$f":"IF(COUNTIF('N PMČRj 2021'!B:B,B50)=0,\"-\",COUNTIF('N PMČRj 2021'!B:B,B50))","v":"-"},{"$f":"IF(ISERROR(VLOOKUP(B50,'N PMČRj 2021'!B:G,6,0)),\"-\",VLOOKUP(B50,'N PMČRj 2021'!B:G,6,0))","v":"-"}]
[40,"Jan Vavrin",{"$f":"VLOOKUP(B51,Pilot!A:C,3,0)","v":"Vysoké Mýto"},{"$f":"VLOOKUP(B51,Pilot!A:B,2,0)","v":1987},{"$f":"VLOOKUP(B51,Pilot!A:E,5,0)","v":"M"},{"$f":"VLOOKUP(B51,Pilot!A:F,6,0)","v":""},40,null,{"$f":"COUNTIF(B:B,B51)","v":1},{"$f":"IF(COUNTIF('N PMRg 2021'!B:B,B51)=0,\"-\",COUNTIF('N PMRg 2021'!B:B,B51))","v":"-"},{"$f":"IF(ISERROR(VLOOKUP(B51,'N PMRg 2021'!B:G,6,0)),\"-\",VLOOKUP(B51,'N PMRg 2021'!B:G,6,0))","v":"-"},{"$f":"IF(COUNTIF('N PMČRj 2021'!B:B,B51)=0,\"-\",COUNTIF('N PMČRj 2021'!B:B,B51))","v":"-"},{"$f":"IF(ISERROR(VLOOKUP(B51,'N PMČRj 2021'!B:G,6,0)),\"-\",VLOOKUP(B51,'N PMČRj 2021'!B:G,6,0))","v":"-"}]
[null,"PMČR 2020 - Tábor - Kombi Open"]
[{"$f":"A51+1","v":41},"Radek Kucirek",{"$f":"VLOOKUP(B53,Pilot!A:C,3,0)","v":"Havlíčkův Brod"},{"$f":"VLOOKUP(B53,Pilot!A:B,2,0)","v":1973},{"$f":"VLOOKUP(B53,Pilot!A:E,5,0)","v":"M"},{"$f":"VLOOKUP(B53,Pilot!A:F,6,0)","v":""},41,null,{"$f":"COUNTIF(B:B,B53)","v":1},{"$f":"IF(COUNTIF('N PMRg 2021'!B:B,B53)=0,\"-\",COUNTIF('N PMRg 2021'!B:B,B53))","v":"-"},{"$f":"IF(ISERROR(VLOOKUP(B53,'N PMRg 2021'!B:G,6,0)),\"-\",VLOOKUP(B53,'N PMRg 2021'!B:G,6,0))","v":"-"},{"$f":"IF(COUNTIF('N PMČRj 2021'!B:B,B53)=0,\"-\",COUNTIF('N PMČRj 2021'!B:B,B53))","v":"-"},{"$f":"IF(ISERROR(VLOOKUP(B53,'N PMČRj 2021'!B:G,6,0)),\"-\",VLOOKUP(B53,'N PMČRj 2021'!B:G,6,0))","v":"-"}]
[42,"Tomas Rendla",{"$f":"VLOOKUP(B54,Pilot!A:C,3,0)","v":"Zbraslavice"},{"$f":"VLOOKUP(B54,Pilot!A:B,2,0)","v":1973},{"$f":"VLOOKUP(B54,Pilot!A:E,5,0)","v":"M"},{"$f":"VLOOKUP(B54,Pilot!A:F,6,0)","v":""},{"$f":"A54","v":42},null,{"$f":"COUNTIF(B:B,B54)","v":1},{"$f":"IF(COUNTIF('N PMRg 2021'!B:B,B54)=0,\"-\",COUNTIF('N PMRg 2021'!B:B,B54))","v":"-"},{"$f":"IF(ISERROR(VLOOKUP(B54,'N PMRg 2021'!B:G,6,0)),\"-\",VLOOKUP(B54,'N PMRg 2021'!B:G,6,0))","v":"-"},{"$f":"IF(COUNTIF('N PMČRj 2021'!B:B,B54)=0,\"-\",COUNTIF('N PMČRj 2021'!B:B,B54))","v":"-"},{"$f":"IF(ISERROR(VLOOKUP(B54,'N PMČRj 2021'!B:G,6,0)),\"-\",VLOOKUP(B54,'N PMČRj 2021'!B:G,6,0))","v":"-"}]
["6.6.6.3.","prvních 5 soutěžících z posledního platného PMČRj mimo RV (+ 5 náhradníků)"]
[null,"PMČRj 2020 - Zbraslavice - Klub"]
[{"$f":"MAX(A44:A55)+1","v":43},"Jan Viskot",{"$f":"VLOOKUP(B57,Pilot!A:C,3,0)","v":"Břeclav"},{"$f":"VLOOKUP(B57,Pilot!A:B,2,0)","v":1995},{"$f":"VLOOKUP(B57,Pilot!A:E,5,0)","v":"M"},{"$f":"VLOOKUP(B57,Pilot!A:F,6,0)","v":""},{"$f":"A57","v":43},null,{"$f":"COUNTIF(B:B,B57)","v":1},{"$f":"IF(COUNTIF('N PMRg 2021'!B:B,B57)=0,\"-\",COUNTIF('N PMRg 2021'!B:B,B57))","v":"-"},{"$f":"IF(ISERROR(VLOOKUP(B57,'N PMRg 2021'!B:G,6,0)),\"-\",VLOOKUP(B57,'N PMRg 2021'!B:G,6,0))","v":"-"},{"$f":"IF(COUNTIF('N PMČRj 2021'!B:B,B57)=0,\"-\",COUNTIF('N PMČRj 2021'!B:B,B57))","v":"-"},{"$f":"IF(ISERROR(VLOOKUP(B57,'N PMČRj 2021'!B:G,6,0)),\"-\",VLOOKUP(B57,'N PMČRj 2021'!B:G,6,0))","v":"-"}]
[{"$f":"A57+1","v":44},"Tibor Hezina",{"$f":"VLOOKUP(B58,Pilot!A:C,3,0)","v":"Křižanov"},{"$f":"VLOOKUP(B58,Pilot!A:B,2,0)","v":2002},{"$f":"VLOOKUP(B58,Pilot!A:E,5,0)","v":"M"},{"$f":"VLOOKUP(B58,Pilot!A:F,6,0)","v":"Junior v roce 2021"},44,null,1,{"$f":"IF(COUNTIF('N PMRg 2021'!B:B,B58)=0,\"-\",COUNTIF('N PMRg 2021'!B:B,B58))","v":"-"},{"$f":"IF(ISERROR(VLOOKUP(B58,'N PMRg 2021'!B:G,6,0)),\"-\",VLOOKUP(B58,'N PMRg 2021'!B:G,6,0))","v":"-"},{"$f":"IF(COUNTIF('N PMČRj 2021'!B:B,B58)=0,\"-\",COUNTIF('N PMČRj 2021'!B:B,B58))","v":1},{"$f":"IF(ISERROR(VLOOKUP(B58,'N PMČRj 2021'!B:G,6,0)),\"-\",VLOOKUP(B58,'N PMČRj 2021'!B:G,6,0))","v":9}]
[{"$f":"A58+1","v":45},"Jan Stastny",{"$f":"VLOOKUP(B59,Pilot!A:C,3,0)","v":"Medlánky"},{"$f":"VLOOKUP(B59,Pilot!A:B,2,0)","v":2003},{"$f":"VLOOKUP(B59,Pilot!A:E,5,0)","v":"M"},{"$f":"VLOOKUP(B59,Pilot!A:F,6,0)","v":"Junior v roce 2021"},45,null,1,{"$f":"IF(COUNTIF('N PMRg 2021'!B:B,B59)=0,\"-\",COUNTIF('N PMRg 2021'!B:B,B59))","v":"-"},{"$f":"IF(ISERROR(VLOOKUP(B59,'N PMRg 2021'!B:G,6,0)),\"-\",VLOOKUP(B59,'N PMRg 2021'!B:G,6,0))","v":"-"},{"$f":"IF(COUNTIF('N PMČRj 2021'!B:B,B59)=0,\"-\",COUNTIF('N PMČRj 2021'!B:B,B59))","v":1},{"$f":"IF(ISERROR(VLOOKUP(B59,'N PMČRj 2021'!B:G,6,0)),\"-\",VLOOKUP(B59,'N PMČRj 2021'!B:G,6,0))","v":10}]
[{"$f":"A59+1","v":46},"Tomas Jilek",{"$f":"VLOOKUP(B60,Pilot!A:C,3,0)","v":"Raná"},{"$f":"VLOOKUP(B60,Pilot!A:B,2,0)","v":1995},{"$f":"VLOOKUP(B60,Pilot!A:E,5,0)","v":"M"},{"$f":"VLOOKUP(B60,Pilot!A:F,6,0)","v":""},46,null,1,{"$f":"IF(COUNTIF('N PMRg 2021'!B:B,B60)=0,\"-\",COUNTIF('N PMRg 2021'!B:B,B60))","v":"-"},{"$f":"IF(ISERROR(VLOOKUP(B60,'N PMRg 2021'!B:G,6,0)),\"-\",VLOOKUP(B60,'N PMRg 2021'!B:G,6,0))","v":"-"},{"$f":"IF(COUNTIF('N PMČRj 2021'!B:B,B60)=0,\"-\",COUNTIF('N PMČRj 2021'!B:B,B60))","v":"-"},{"$f":"IF(ISERROR(VLOOKUP(B60,'N PMČRj 2021'!B:G,6,0)),\"-\",VLOOKUP(B60,'N PMČRj 2021'!B:G,6,0))","v":"-"}]
[{"$f":"A60+1","v":47},"Daniel Suchy",{"$f":"VLOOKUP(B61,Pilot!A:C,3,0)","v":"Hranice"},{"$f":"VLOOKUP(B61,Pilot!A:B,2,0)","v":1995},{"$f":"VLOOKUP(B61,Pilot!A:E,5,0)","v":"M"},{"$f":"VLOOKUP(B61,Pilot!A:F,6,0)","v":""},47,null,1,{"$f":"IF(COUNTIF('N PMRg 2021'!B:B,B61)=0,\"-\",COUNTIF('N PMRg 2021'!B:B,B61))","v":"-"},{"$f":"IF(ISERROR(VLOOKUP(B61,'N PMRg 2021'!B:G,6,0)),\"-\",VLOOKUP(B61,'N PMRg 2021'!B:G,6,0))","v":"-"},{"$f":"IF(COUNTIF('N PMČRj 2021'!B:B,B61)=0,\"-\",COUNTIF('N PMČRj 2021'!B:B,B61))","v":"-"},{"$f":"IF(ISERROR(VLOOKUP(B61,'N PMČRj 2021'!B:G,6,0)),\"-\",VLOOKUP(B61,'N PMČRj 2021'!B:G,6,0))","v":"-"}]
["N1","Tomas Hulmak",{"$f":"VLOOKUP(B62,Pilot!A:C,3,0)","v":"Hosín"},{"$f":"VLOOKUP(B62,Pilot!A:B,2,0)","v":1999},{"$f":"VLOOKUP(B62,Pilot!A:E,5,0)","v":"M"},{"$f":"VLOOKUP(B62,Pilot!A:F,6,0)","v":"Junior v roce 2021"},"N1",null,1,{"$f":"IF(COUNTIF('N PMRg 2021'!B:B,B62)=0,\"-\",COUNTIF('N PMRg 2021'!B:B,B62))","v":"-"},{"$f":"IF(ISERROR(VLOOKUP(B62,'N PMRg 2021'!B:G,6,0)),\"-\",VLOOKUP(B62,'N PMRg 2021'!B:G,6,0))","v":"-"},{"$f":"IF(COUNTIF('N PMČRj 2021'!B:B,B62)=0,\"-\",COUNTIF('N PMČRj 2021'!B:B,B62))","v":1},{"$f":"IF(ISERROR(VLOOKUP(B62,'N PMČRj 2021'!B:G,6,0)),\"-\",VLOOKUP(B62,'N PMČRj 2021'!B:G,6,0))","v":11}]
["N2","Lukas Kriz",{"$f":"VLOOKUP(B63,Pilot!A:C,3,0)","v":"Křižanov"},{"$f":"VLOOKUP(B63,Pilot!A:B,2,0)","v":2003},{"$f":"VLOOKUP(B63,Pilot!A:E,5,0)","v":"M"},{"$f":"VLOOKUP(B63,Pilot!A:F,6,0)","v":"Junior v roce 2021"},"N2",null,1,{"$f":"IF(COUNTIF('N PMRg 2021'!B:B,B63)=0,\"-\",COUNTIF('N PMRg 2021'!B:B,B63))","v":"-"},{"$f":"IF(ISERROR(VLOOKUP(B63,'N PMRg 2021'!B:G,6,0)),\"-\",VLOOKUP(B63,'N PMRg 2021'!B:G,6,0))","v":"-"},{"$f":"IF(COUNTIF('N PMČRj 2021'!B:B,B63)=0,\"-\",COUNTIF('N PMČRj 2021'!B:B,B63))","v":1},{"$f":"IF(ISERROR(VLOOKUP(B63,'N PMČRj 2021'!B:G,6,0)),\"-\",VLOOKUP(B63,'N PMČRj 2021'!B:G,6,0))","v":12}]
["N3","Tomas Kulhavy",{"$f":"VLOOKUP(B64,Pilot!A:C,3,0)","v":"Liberec"},{"$f":"VLOOKUP(B64,Pilot!A:B,2,0)","v":2001},{"$f":"VLOOKUP(B64,Pilot!A:E,5,0)","v":"M"},{"$f":"VLOOKUP(B64,Pilot!A:F,6,0)","v":"Junior v roce 2021"},"N3",null,1,{"$f":"IF(COUNTIF('N PMRg 2021'!B:B,B64)=0,\"-\",COUNTIF('N PMRg 2021'!B:B,B64))","v":"-"},{"$f":"IF(ISERROR(VLOOKUP(B64,'N PMRg 2021'!B:G,6,0)),\"-\",VLOOKUP(B64,'N PMRg 2021'!B:G,6,0))","v":"-"},{"$f":"IF(COUNTIF('N PMČRj 2021'!B:B,B64)=0,\"-\",COUNTIF('N PMČRj 2021'!B:B,B64))","v":1},{"$f":"IF(ISERROR(VLOOKUP(B64,'N PMČRj 2021'!B:G,6,0)),\"-\",VLOOKUP(B64,'N PMČRj 2021'!B:G,6,0))","v":13}]
["N4","Lukas Maly",{"$f":"VLOOKUP(B65,Pilot!A:C,3,0)","v":"Vysoké Mýto"},{"$f":"VLOOKUP(B65,Pilot!A:B,2,0)","v":1998},{"$f":"VLOOKUP(B65,Pilot!A:E,5,0)","v":"M"},{"$f":"VLOOKUP(B65,Pilot!A:F,6,0)","v":"Junior v roce 2021"},"N4",null,1,{"$f":"IF(COUNTIF('N PMRg 2021'!B:B,B65)=0,\"-\",COUNTIF('N PMRg 2021'!B:B,B65))","v":"-"},{"$f":"IF(ISERROR(VLOOKUP(B65,'N PMRg 2021'!B:G,6,0)),\"-\",VLOOKUP(B65,'N PMRg 2021'!B:G,6,0))","v":"-"},{"$f":"IF(COUNTIF('N PMČRj 2021'!B:B,B65)=0,\"-\",COUNTIF('N PMČRj 2021'!B:B,B65))","v":1},{"$f":"IF(ISERROR(VLOOKUP(B65,'N PMČRj 2021'!B:G,6,0)),\"-\",VLOOKUP(B65,'N PMČRj 2021'!B:G,6,0))","v":14}]
["N5","Vladimir Hammer",{"$f":"VLOOKUP(B66,Pilot!A:C,3,0)","v":"Letkov"},{"$f":"VLOOKUP(B66,Pilot!A:B,2,0)","v":2000},{"$f":"VLOOKUP(B66,Pilot!A:E,5,0)","v":"M"},{"$f":"VLOOKUP(B66,Pilot!A:F,6,0)","v":"Junior v roce 2021"},"N5",null,1,{"$f":"IF(COUNTIF('N PMRg 2021'!B:B,B66)=0,\"-\",COUNTIF('N PMRg 2021'!B:B,B66))","v":"-"},{"$f":"IF(ISERROR(VLOOKUP(B66,'N PMRg 2021'!B:G,6,0)),\"-\",VLOOKUP(B66,'N PMRg 2021'!B:G,6,0))","v":"-"},{"$f":"IF(COUNTIF('N PMČRj 2021'!B:B,B66)=0,\"-\",COUNTIF('N PMČRj 2021'!B:B,B66))","v":1},{"$f":"IF(ISERROR(VLOOKUP(B66,'N PMČRj 2021'!B:G,6,0)),\"-\",VLOOKUP(B66,'N PMČRj 2021'!B:G,6,0))","v":15}]
["6.6.6.4.","5 soutěžících může navrhnout PK podle jiných kritérií dle odstavce 9. (bez náhradníků)"]
["81.","-",{"$f":"VLOOKUP(B68,Pilot!A:C,3,0)","v":" "},{"$f":"VLOOKUP(B68,Pilot!A:B,2,0)","v":" "},{"$f":"VLOOKUP(B68,Pilot!A:E,5,0)","v":" "},{"$f":"VLOOKUP(B68,Pilot!A:F,6,0)","v":" "},{"$f":"A68","v":"81."},null,{"$f":"COUNTIF(B:B,B68)","v":5},{"$f":"IF(COUNTIF('N PMRg 2021'!B:B,B68)=0,\"-\",COUNTIF('N PMRg 2021'!B:B,B68))","v":60},{"$f":"IF(ISERROR(VLOOKUP(B68,'N PMRg 2021'!B:G,6,0)),\"-\",VLOOKUP(B68,'N PMRg 2021'!B:G,6,0))","v":"-"},{"$f":"IF(COUNTIF('N PMČRj 2021'!B:B,B68)=0,\"-\",COUNTIF('N PMČRj 2021'!B:B,B68))","v":40},{"$f":"IF(ISERROR(VLOOKUP(B68,'N PMČRj 2021'!B:G,6,0)),\"-\",VLOOKUP(B68,'N PMČRj 2021'!B:G,6,0))","v":16}]
["82.","-",{"$f":"VLOOKUP(B69,Pilot!A:C,3,0)","v":" "},{"$f":"VLOOKUP(B69,Pilot!A:B,2,0)","v":" "},{"$f":"VLOOKUP(B69,Pilot!A:E,5,0)","v":" "},{"$f":"VLOOKUP(B69,Pilot!A:F,6,0)","v":" "},{"$f":"A69","v":"82."},null,{"$f":"COUNTIF(B:B,B69)","v":5},{"$f":"IF(COUNTIF('N PMRg 2021'!B:B,B69)=0,\"-\",COUNTIF('N PMRg 2021'!B:B,B69))","v":60},{"$f":"IF(ISERROR(VLOOKUP(B69,'N PMRg 2021'!B:G,6,0)),\"-\",VLOOKUP(B69,'N PMRg 2021'!B:G,6,0))","v":"-"},{"$f":"IF(COUNTIF('N PMČRj 2021'!B:B,B69)=0,\"-\",COUNTIF('N PMČRj 2021'!B:B,B69))","v":40},{"$f":"IF(ISERROR(VLOOKUP(B69,'N PMČRj 2021'!B:G,6,0)),\"-\",VLOOKUP(B69,'N PMČRj 2021'!B:G,6,0))","v":16}]
["83.","-",{"$f":"VLOOKUP(B70,Pilot!A:C,3,0)","v":" "},{"$f":"VLOOKUP(B70,Pilot!A:B,2,0)","v":" "},{"$f":"VLOOKUP(B70,Pilot!A:E,5,0)","v":" "},{"$f":"VLOOKUP(B70,Pilot!A:F,6,0)","v":" "},{"$f":"A70","v":"83."},null,{"$f":"COUNTIF(B:B,B70)","v":5},{"$f":"IF(COUNTIF('N PMRg 2021'!B:B,B70)=0,\"-\",COUNTIF('N PMRg 2021'!B:B,B70))","v":60},{"$f":"IF(ISERROR(VLOOKUP(B70,'N PMRg 2021'!B:G,6,0)),\"-\",VLOOKUP(B70,'N PMRg 2021'!B:G,6,0))","v":"-"},{"$f":"IF(COUNTIF('N PMČRj 2021'!B:B,B70)=0,\"-\",COUNTIF('N PMČRj 2021'!B:B,B70))","v":40},{"$f":"IF(ISERROR(VLOOKUP(B70,'N PMČRj 2021'!B:G,6,0)),\"-\",VLOOKUP(B70,'N PMČRj 2021'!B:G,6,0))","v":16}]
["84.","-",{"$f":"VLOOKUP(B71,Pilot!A:C,3,0)","v":" "},{"$f":"VLOOKUP(B71,Pilot!A:B,2,0)","v":" "},{"$f":"VLOOKUP(B71,Pilot!A:E,5,0)","v":" "},{"$f":"VLOOKUP(B71,Pilot!A:F,6,0)","v":" "},{"$f":"A71","v":"84."},null,{"$f":"COUNTIF(B:B,B71)","v":5},{"$f":"IF(COUNTIF('N PMRg 2021'!B:B,B71)=0,\"-\",COUNTIF('N PMRg 2021'!B:B,B71))","v":60},{"$f":"IF(ISERROR(VLOOKUP(B71,'N PMRg 2021'!B:G,6,0)),\"-\",VLOOKUP(B71,'N PMRg 2021'!B:G,6,0))","v":"-"},{"$f":"IF(COUNTIF('N PMČRj 2021'!B:B,B71)=0,\"-\",COUNTIF('N PMČRj 2021'!B:B,B71))","v":40},{"$f":"IF(ISERROR(VLOOKUP(B71,'N PMČRj 2021'!B:G,6,0)),\"-\",VLOOKUP(B71,'N PMČRj 2021'!B:G,6,0))","v":16}]
["85.","-",{"$f":"VLOOKUP(B72,Pilot!A:C,3,0)","v":" "},{"$f":"VLOOKUP(B72,Pilot!A:B,2,0)","v":" "},{"$f":"VLOOKUP(B72,Pilot!A:E,5,0)","v":" "},{"$f":"VLOOKUP(B72,Pilot!A:F,6,0)","v":" "},{"$f":"A72","v":"85."},null,{"$f":"COUNTIF(B:B,B72)","v":5},{"$f":"IF(COUNTIF('N PMRg 2021'!B:B,B72)=0,\"-\",COUNTIF('N PMRg 2021'!B:B,B72))","v":60},{"$f":"IF(ISERROR(VLOOKUP(B72,'N PMRg 2021'!B:G,6,0)),\"-\",VLOOKUP(B72,'N PMRg 2021'!B:G,6,0))","v":"-"},{"$f":"IF(COUNTIF('N PMČRj 2021'!B:B,B72)=0,\"-\",COUNTIF('N PMČRj 2021'!B:B,B72))","v":40},{"$f":"IF(ISERROR(VLOOKUP(B72,'N PMČRj 2021'!B:G,6,0)),\"-\",VLOOKUP(B72,'N PMČRj 2021'!B:G,6,0))","v":16}]
["6.6.6.5.","ostatní soutěžící z posledního platného PMRg v pořadí podle umístění, do naplnění celkového počtu nominovaných 80 dle 6.6.5. (+ 10 náhradníků)"]
["6.6.6.6.","Je-li PMRg pořádáno ve více třídách, a/nebo ve více regionech, pak jsou na PMČR nominováni soutěžící podle korigovaných bodů z jednotlivých tříd/regionů do naplnění celkového počtu nominovaných dle 6.6.5."]
["6.6.6.7.","V případě neplatnosti některé ze soutěžních tříd posledního PMRg budou pro výpočet korigovaných bodů použity výsledky z posledního platného PMRg v dané třídě."]
[null,"PMRg 2020 - Hosín - Korigované body"]
[{"$f":"MAX(A57:A73)+1","v":48},"Zdenek Boruvka 86",{"$f":"VLOOKUP(B77,Pilot!A:C,3,0)","v":"Jičín"},{"$f":"VLOOKUP(B77,Pilot!A:B,2,0)","v":1986},{"$f":"VLOOKUP(B77,Pilot!A:E,5,0)","v":"M"},{"$f":"VLOOKUP(B77,Pilot!A:F,6,0)","v":""},{"$f":"A77","v":48},null,{"$f":"COUNTIF(B:B,B77)","v":1},{"$f":"IF(COUNTIF('N PMRg 2021'!B:B,B77)=0,\"-\",COUNTIF('N PMRg 2021'!B:B,B77))","v":"-"},{"$f":"IF(ISERROR(VLOOKUP(B77,'N PMRg 2021'!B:G,6,0)),\"-\",VLOOKUP(B77,'N PMRg 2021'!B:G,6,0))","v":"-"},{"$f":"IF(COUNTIF('N PMČRj 2021'!B:B,B77)=0,\"-\",COUNTIF('N PMČRj 2021'!B:B,B77))","v":"-"},{"$f":"IF(ISERROR(VLOOKUP(B77,'N PMČRj 2021'!B:G,6,0)),\"-\",VLOOKUP(B77,'N PMČRj 2021'!B:G,6,0))","v":"-"}]
[{"$f":"A77+1","v":49},"Petr Hotovy",{"$f":"VLOOKUP(B78,Pilot!A:C,3,0)","v":"Česká Lípa"},{"$f":"VLOOKUP(B78,Pilot!A:B,2,0)","v":1958},{"$f":"VLOOKUP(B78,Pilot!A:E,5,0)","v":"M"},{"$f":"VLOOKUP(B78,Pilot!A:F,6,0)","v":""},49,null,1,{"$f":"IF(COUNTIF('N PMRg 2021'!B:B,B78)=0,\"-\",COUNTIF('N PMRg 2021'!B:B,B78))","v":"-"},{"$f":"IF(ISERROR(VLOOKUP(B78,'N PMRg 2021'!B:G,6,0)),\"-\",VLOOKUP(B78,'N PMRg 2021'!B:G,6,0))","v":"-"},{"$f":"IF(COUNTIF('N PMČRj 2021'!B:B,B78)=0,\"-\",COUNTIF('N PMČRj 2021'!B:B,B78))","v":"-"},{"$f":"IF(ISERROR(VLOOKUP(B78,'N PMČRj 2021'!B:G,6,0)),\"-\",VLOOKUP(B78,'N PMČRj 2021'!B:G,6,0))","v":"-"}]
[{"$f":"A78+1","v":50},"Josef Busek",{"$f":"VLOOKUP(B79,Pilot!A:C,3,0)","v":"Hosín"},{"$f":"VLOOKUP(B79,Pilot!A:B,2,0)","v":1967},{"$f":"VLOOKUP(B79,Pilot!A:E,5,0)","v":"M"},{"$f":"VLOOKUP(B79,Pilot!A:F,6,0)","v":""},50,null,1,{"$f":"IF(COUNTIF('N PMRg 2021'!B:B,B79)=0,\"-\",COUNTIF('N PMRg 2021'!B:B,B79))","v":"-"},{"$f":"IF(ISERROR(VLOOKUP(B79,'N PMRg 2021'!B:G,6,0)),\"-\",VLOOKUP(B79,'N PMRg 2021'!B:G,6,0))","v":"-"},{"$f":"IF(COUNTIF('N PMČRj 2021'!B:B,B79)=0,\"-\",COUNTIF('N PMČRj 2021'!B:B,B79))","v":"-"},{"$f":"IF(ISERROR(VLOOKUP(B79,'N PMČRj 2021'!B:G,6,0)),\"-\",VLOOKUP(B79,'N PMČRj 2021'!B:G,6,0))","v":"-"}]
[{"$f":"A79+1","v":51},"Jan Zahradka",{"$f":"VLOOKUP(B80,Pilot!A:C,3,0)","v":"Hodkovice"},{"$f":"VLOOKUP(B80,Pilot!A:B,2,0)","v":1981},{"$f":"VLOOKUP(B80,Pilot!A:E,5,0)","v":"M"},{"$f":"VLOOKUP(B80,Pilot!A:F,6,0)","v":""},51,null,1,{"$f":"IF(COUNTIF('N PMRg 2021'!B:B,B80)=0,\"-\",COUNTIF('N PMRg 2021'!B:B,B80))","v":"-"},{"$f":"IF(ISERROR(VLOOKUP(B80,'N PMRg 2021'!B:G,6,0)),\"-\",VLOOKUP(B80,'N PMRg 2021'!B:G,6,0))","v":"-"},{"$f":"IF(COUNTIF('N PMČRj 2021'!B:B,B80)=0,\"-\",COUNTIF('N PMČRj 2021'!B:B,B80))","v":"-"},{"$f":"IF(ISERROR(VLOOKUP(B80,'N PMČRj 2021'!B:G,6,0)),\"-\",VLOOKUP(B80,'N PMČRj 2021'!B:G,6,0))","v":"-"}]
[{"$f":"A80+1","v":52},"Marek Svancara",{"$f":"VLOOKUP(B81,Pilot!A:C,3,0)","v":"GAC Benešov"},{"$f":"VLOOKUP(B81,Pilot!A:B,2,0)","v":1976},{"$f":"VLOOKUP(B81,Pilot!A:E,5,0)","v":"M"},{"$f":"VLOOKUP(B81,Pilot!A:F,6,0)","v":""},52,null,1,{"$f":"IF(COUNTIF('N PMRg 2021'!B:B,B81)=0,\"-\",COUNTIF('N PMRg 2021'!B:B,B81))","v":"-"},{"$f":"IF(ISERROR(VLOOKUP(B81,'N PMRg 2021'!B:G,6,0)),\"-\",VLOOKUP(B81,'N PMRg 2021'!B:G,6,0))","v":"-"},{"$f":"IF(COUNTIF('N PMČRj 2021'!B:B,B81)=0,\"-\",COUNTIF('N PMČRj 2021'!B:B,B81))","v":"-"},{"$f":"IF(ISERROR(VLOOKUP(B81,'N PMČRj 2021'!B:G,6,0)),\"-\",VLOOKUP(B81,'N PMČRj 2021'!B:G,6,0))","v":"-"}]
[53,"Michael Fik",{"$f":"VLOOKUP(B82,Pilot!A:C,3,0)","v":"Strakonice"},{"$f":"VLOOKUP(B82,Pilot!A:B,2,0)","v":1972},{"$f":"VLOOKUP(B82,Pilot!A:E,5,0)","v":"M"},{"$f":"VLOOKUP(B82,Pilot!A:F,6,0)","v":""},53,null,1,{"$f":"IF(COUNTIF('N PMRg 2021'!B:B,B82)=0,\"-\",COUNTIF('N PMRg 2021'!B:B,B82))","v":"-"},{"$f":"IF(ISERROR(VLOOKUP(B82,'N PMRg 2021'!B:G,6,0)),\"-\",VLOOKUP(B82,'N PMRg 2021'!B:G,6,0))","v":"-"},{"$f":"IF(COUNTIF('N PMČRj 2021'!B:B,B82)=0,\"-\",COUNTIF('N PMČRj 2021'!B:B,B82))","v":"-"},{"$f":"IF(ISERROR(VLOOKUP(B82,'N PMČRj 2021'!B:G,6,0)),\"-\",VLOOKUP(B82,'N PMČRj 2021'!B:G,6,0))","v":"-"}]
[54,"Jindrich Hruska",{"$f":"VLOOKUP(B83,Pilot!A:C,3,0)","v":"Soběslav"},{"$f":"VLOOKUP(B83,Pilot!A:B,2,0)","v":1986},{"$f":"VLOOKUP(B83,Pilot!A:E,5,0)","v":"M"},{"$f":"VLOOKUP(B83,Pilot!A:F,6,0)","v":""},54,null,1,{"$f":"IF(COUNTIF('N PMRg 2021'!B:B,B83)=0,\"-\",COUNTIF('N PMRg 2021'!B:B,B83))","v":"-"},{"$f":"IF(ISERROR(VLOOKUP(B83,'N PMRg 2021'!B:G,6,0)),\"-\",VLOOKUP(B83,'N PMRg 2021'!B:G,6,0))","v":"-"},{"$f":"IF(COUNTIF('N PMČRj 2021'!B:B,B83)=0,\"-\",COUNTIF('N PMČRj 2021'!B:B,B83))","v":"-"},{"$f":"IF(ISERROR(VLOOKUP(B83,'N PMČRj 2021'!B:G,6,0)),\"-\",VLOOKUP(B83,'N PMČRj 2021'!B:G,6,0))","v":"-"}]
[55,"Jiri Vondracek",{"$f":"VLOOKUP(B84,Pilot!A:C,3,0)","v":"Kladno"},{"$f":"VLOOKUP(B84,Pilot!A:B,2,0)","v":1989},{"$f":"VLOOKUP(B84,Pilot!A:E,5,0)","v":"M"},{"$f":"VLOOKUP(B84,Pilot!A:F,6,0)","v":""},55,null,1,{"$f":"IF(COUNTIF('N PMRg 2021'!B:B,B84)=0,\"-\",COUNTIF('N PMRg 2021'!B:B,B84))","v":"-"},{"$f":"IF(ISERROR(VLOOKUP(B84,'N PMRg 2021'!B:G,6,0)),\"-\",VLOOKUP(B84,'N PMRg 2021'!B:G,6,0))","v":"-"},{"$f":"IF(COUNTIF('N PMČRj 2021'!B:B,B84)=0,\"-\",COUNTIF('N PMČRj 2021'!B:B,B84))","v":"-"},{"$f":"IF(ISERROR(VLOOKUP(B84,'N PMČRj 2021'!B:G,6,0)),\"-\",VLOOKUP(B84,'N PMČRj 2021'!B:G,6,0))","v":"-"}]
[56,"Miloslav Hulmak",{"$f":"VLOOKUP(B85,Pilot!A:C,3,0)","v":"Hosín"},{"$f":"VLOOKUP(B85,Pilot!A:B,2,0)","v":1963},{"$f":"VLOOKUP(B85,Pilot!A:E,5,0)","v":"M"},{"$f":"VLOOKUP(B85,Pilot!A:F,6,0)","v":""},56,null,1,{"$f":"IF(COUNTIF('N PMRg 2021'!B:B,B85)=0,\"-\",COUNTIF('N PMRg 2021'!B:B,B85))","v":"-"},{"$f":"IF(ISERROR(VLOOKUP(B85,'N PMRg 2021'!B:G,6,0)),\"-\",VLOOKUP(B85,'N PMRg 2021'!B:G,6,0))","v":"-"},{"$f":"IF(COUNTIF('N PMČRj 2021'!B:B,B85)=0,\"-\",COUNTIF('N PMČRj 2021'!B:B,B85))","v":"-"},{"$f":"IF(ISERROR(VLOOKUP(B85,'N PMČRj 2021'!B:G,6,0)),\"-\",VLOOKUP(B85,'N PMČRj 2021'!B:G,6,0))","v":"-"}]
[57,"Jaromir Pauer",{"$f":"VLOOKUP(B86,Pilot!A:C,3,0)","v":"Hosín"},{"$f":"VLOOKUP(B86,Pilot!A:B,2,0)","v":1974},{"$f":"VLOOKUP(B86,Pilot!A:E,5,0)","v":"M"},{"$f":"VLOOKUP(B86,Pilot!A:F,6,0)","v":""},57,null,1,{"$f":"IF(COUNTIF('N PMRg 2021'!B:B,B86)=0,\"-\",COUNTIF('N PMRg 2021'!B:B,B86))","v":"-"},{"$f":"IF(ISERROR(VLOOKUP(B86,'N PMRg 2021'!B:G,6,0)),\"-\",VLOOKUP(B86,'N PMRg 2021'!B:G,6,0))","v":"-"},{"$f":"IF(COUNTIF('N PMČRj 2021'!B:B,B86)=0,\"-\",COUNTIF('N PMČRj 2021'!B:B,B86))","v":"-"},{"$f":"IF(ISERROR(VLOOKUP(B86,'N PMČRj 2021'!B:G,6,0)),\"-\",VLOOKUP(B86,'N PMČRj 2021'!B:G,6,0))","v":"-"}]
[58,"Pavlina Horackova",{"$f":"VLOOKUP(B87,Pilot!A:C,3,0)","v":"Šumperk"},{"$f":"VLOOKUP(B87,Pilot!A:B,2,0)","v":1965},{"$f":"VLOOKUP(B87,Pilot!A:E,5,0)","v":"F"},{"$f":"VLOOKUP(B87,Pilot!A:F,6,0)","v":""},58,null,1,{"$f":"IF(COUNTIF('N PMRg 2021'!B:B,B87)=0,\"-\",COUNTIF('N PMRg 2021'!B:B,B87))","v":"-"},{"$f":"IF(ISERROR(VLOOKUP(B87,'N PMRg 2021'!B:G,6,0)),\"-\",VLOOKUP(B87,'N PMRg 2021'!B:G,6,0))","v":"-"},{"$f":"IF(COUNTIF('N PMČRj 2021'!B:B,B87)=0,\"-\",COUNTIF('N PMČRj 2021'!B:B,B87))","v":"-"},{"$f":"IF(ISERROR(VLOOKUP(B87,'N PMČRj 2021'!B:G,6,0)),\"-\",VLOOKUP(B87,'N PMČRj 2021'!B:G,6,0))","v":"-"}]
[59,"Jan Florian",{"$f":"VLOOKUP(B88,Pilot!A:C,3,0)","v":"Zbraslavice"},{"$f":"VLOOKUP(B88,Pilot!A:B,2,0)","v":1992},{"$f":"VLOOKUP(B88,Pilot!A:E,5,0)","v":"M"},{"$f":"VLOOKUP(B88,Pilot!A:F,6,0)","v":""},59,null,1,{"$f":"IF(COUNTIF('N PMRg 2021'!B:B,B88)=0,\"-\",COUNTIF('N PMRg 2021'!B:B,B88))","v":"-"},{"$f":"IF(ISERROR(VLOOKUP(B88,'N PMRg 2021'!B:G,6,0)),\"-\",VLOOKUP(B88,'N PMRg 2021'!B:G,6,0))","v":"-"},{"$f":"IF(COUNTIF('N PMČRj 2021'!B:B,B88)=0,\"-\",COUNTIF('N PMČRj 2021'!B:B,B88))","v":"-"},{"$f":"IF(ISERROR(VLOOKUP(B88,'N PMČRj 2021'!B:G,6,0)),\"-\",VLOOKUP(B88,'N PMČRj 2021'!B:G,6,0))","v":"-"}]
[60,"Jiri Holcman",{"$f":"VLOOKUP(B89,Pilot!A:C,3,0)","v":"Hosín"},{"$f":"VLOOKUP(B89,Pilot!A:B,2,0)","v":1976},{"$f":"VLOOKUP(B89,Pilot!A:E,5,0)","v":"M"},{"$f":"VLOOKUP(B89,Pilot!A:F,6,0)","v":""},60,null,1,{"$f":"IF(COUNTIF('N PMRg 2021'!B:B,B89)=0,\"-\",COUNTIF('N PMRg 2021'!B:B,B89))","v":"-"},{"$f":"IF(ISERROR(VLOOKUP(B89,'N PMRg 2021'!B:G,6,0)),\"-\",VLOOKUP(B89,'N PMRg 2021'!B:G,6,0))","v":"-"},{"$f":"IF(COUNTIF('N PMČRj 2021'!B:B,B89)=0,\"-\",COUNTIF('N PMČRj 2021'!B:B,B89))","v":"-"},{"$f":"IF(ISERROR(VLOOKUP(B89,'N PMČRj 2021'!B:G,6,0)),\"-\",VLOOKUP(B89,'N PMČRj 2021'!B:G,6,0))","v":"-"}]
[61,"Petr Rozhon",{"$f":"VLOOKUP(B90,Pilot!A:C,3,0)","v":"Hosín"},{"$f":"VLOOKUP(B90,Pilot!A:B,2,0)","v":1972},{"$f":"VLOOKUP(B90,Pilot!A:E,5,0)","v":"M"},{"$f":"VLOOKUP(B90,Pilot!A:F,6,0)","v":""},61,null,1,{"$f":"IF(COUNTIF('N PMRg 2021'!B:B,B90)=0,\"-\",COUNTIF('N PMRg 2021'!B:B,B90))","v":"-"},{"$f":"IF(ISERROR(VLOOKUP(B90,'N PMRg 2021'!B:G,6,0)),\"-\",VLOOKUP(B90,'N PMRg 2021'!B:G,6,0))","v":"-"},{"$f":"IF(COUNTIF('N PMČRj 2021'!B:B,B90)=0,\"-\",COUNTIF('N PMČRj 2021'!B:B,B90))","v":"-"},{"$f":"IF(ISERROR(VLOOKUP(B90,'N PMČRj 2021'!B:G,6,0)),\"-\",VLOOKUP(B90,'N PMČRj 2021'!B:G,6,0))","v":"-"}]
[62,"Pavel Koudelka",{"$f":"VLOOKUP(B91,Pilot!A:C,3,0)","v":"Křižanov"},{"$f":"VLOOKUP(B91,Pilot!A:B,2,0)","v":1973},{"$f":"VLOOKUP(B91,Pilot!A:E,5,0)","v":"M"},{"$f":"VLOOKUP(B91,Pilot!A:F,6,0)","v":""},62,null,1,{"$f":"IF(COUNTIF('N PMRg 2021'!B:B,B91)=0,\"-\",COUNTIF('N PMRg 2021'!B:B,B91))","v":"-"},{"$f":"IF(ISERROR(VLOOKUP(B91,'N PMRg 2021'!B:G,6,0)),\"-\",VLOOKUP(B91,'N PMRg 2021'!B:G,6,0))","v":"-"},{"$f":"IF(COUNTIF('N PMČRj 2021'!B:B,B91)=0,\"-\",COUNTIF('N PMČRj 2021'!B:B,B91))","v":"-"},{"$f":"IF(ISERROR(VLOOKUP(B91,'N PMČRj 2021'!B:G,6,0)),\"-\",VLOOKUP(B91,'N PMČRj 2021'!B:G,6,0))","v":"-"}]
[63,"Michal Vranek",{"$f":"VLOOKUP(B92,Pilot!A:C,3,0)","v":"Hosín"},{"$f":"VLOOKUP(B92,Pilot!A:B,2,0)","v":1993},{"$f":"VLOOKUP(B92,Pilot!A:E,5,0)","v":"M"},{"$f":"VLOOKUP(B92,Pilot!A:F,6,0)","v":""},63,null,1,{"$f":"IF(COUNTIF('N PMRg 2021'!B:B,B92)=0,\"-\",COUNTIF('N PMRg 2021'!B:B,B92))","v":"-"},{"$f":"IF(ISERROR(VLOOKUP(B92,'N PMRg 2021'!B:G,6,0)),\"-\",VLOOKUP(B92,'N PMRg 2021'!B:G,6,0))","v":"-"},{"$f":"IF(COUNTIF('N PMČRj 2021'!B:B,B92)=0,\"-\",COUNTIF('N PMČRj 2021'!B:B,B92))","v":"-"},{"$f":"IF(ISERROR(VLOOKUP(B92,'N PMČRj 2021'!B:G,6,0)),\"-\",VLOOKUP(B92,'N PMČRj 2021'!B:G,6,0))","v":"-"}]
[64,"Jan Beran",{"$f":"VLOOKUP(B93,Pilot!A:C,3,0)","v":"Kladno"},{"$f":"VLOOKUP(B93,Pilot!A:B,2,0)","v":1999},{"$f":"VLOOKUP(B93,Pilot!A:E,5,0)","v":"M"},{"$f":"VLOOKUP(B93,Pilot!A:F,6,0)","v":"Junior v roce 2021"},64,null,1,{"$f":"IF(COUNTIF('N PMRg 2021'!B:B,B93)=0,\"-\",COUNTIF('N PMRg 2021'!B:B,B93))","v":"-"},{"$f":"IF(ISERROR(VLOOKUP(B93,'N PMRg 2021'!B:G,6,0)),\"-\",VLOOKUP(B93,'N PMRg 2021'!B:G,6,0))","v":"-"},{"$f":"IF(COUNTIF('N PMČRj 2021'!B:B,B93)=0,\"-\",COUNTIF('N PMČRj 2021'!B:B,B93))","v":"-"},{"$f":"IF(ISERROR(VLOOKUP(B93,'N PMČRj 2021'!B:G,6,0)),\"-\",VLOOKUP(B93,'N PMČRj 2021'!B:G,6,0))","v":"-"}]
[65,"Jaroslav Potmesil",{"$f":"VLOOKUP(B94,Pilot!A:C,3,0)","v":"Zbraslavice"},{"$f":"VLOOKUP(B94,Pilot!A:B,2,0)","v":1964},{"$f":"VLOOKUP(B94,Pilot!A:E,5,0)","v":"M"},{"$f":"VLOOKUP(B94,Pilot!A:F,6,0)","v":""},65,null,1,{"$f":"IF(COUNTIF('N PMRg 2021'!B:B,B94)=0,\"-\",COUNTIF('N PMRg 2021'!B:B,B94))","v":"-"},{"$f":"IF(ISERROR(VLOOKUP(B94,'N PMRg 2021'!B:G,6,0)),\"-\",VLOOKUP(B94,'N PMRg 2021'!B:G,6,0))","v":"-"},{"$f":"IF(COUNTIF('N PMČRj 2021'!B:B,B94)=0,\"-\",COUNTIF('N PMČRj 2021'!B:B,B94))","v":"-"},{"$f":"IF(ISERROR(VLOOKUP(B94,'N PMČRj 2021'!B:G,6,0)),\"-\",VLOOKUP(B94,'N PMČRj 2021'!B:G,6,0))","v":"-"}]
[66,"Martin Tison",{"$f":"VLOOKUP(B95,Pilot!A:C,3,0)","v":"Hosín"},{"$f":"VLOOKUP(B95,Pilot!A:B,2,0)","v":2000},{"$f":"VLOOKUP(B95,Pilot!A:E,5,0)","v":"M"},{"$f":"VLOOKUP(B95,Pilot!A:F,6,0)","v":"Junior v roce 2021"},66,null,1,{"$f":"IF(COUNTIF('N PMRg 2021'!B:B,B95)=0,\"-\",COUNTIF('N PMRg 2021'!B:B,B95))","v":"-"},{"$f":"IF(ISERROR(VLOOKUP(B95,'N PMRg 2021'!B:G,6,0)),\"-\",VLOOKUP(B95,'N PMRg 2021'!B:G,6,0))","v":"-"},{"$f":"IF(COUNTIF('N PMČRj 2021'!B:B,B95)=0,\"-\",COUNTIF('N PMČRj 2021'!B:B,B95))","v":"-"},{"$f":"IF(ISERROR(VLOOKUP(B95,'N PMČRj 2021'!B:G,6,0)),\"-\",VLOOKUP(B95,'N PMČRj 2021'!B:G,6,0))","v":"-"}]
[67,"Petr Velek",{"$f":"VLOOKUP(B96,Pilot!A:C,3,0)","v":"GAC Benešov"},{"$f":"VLOOKUP(B96,Pilot!A:B,2,0)","v":1975},{"$f":"VLOOKUP(B96,Pilot!A:E,5,0)","v":"M"},{"$f":"VLOOKUP(B96,Pilot!A:F,6,0)","v":""},{"$f":"A96","v":67},null,1,{"$f":"IF(COUNTIF('N PMRg 2021'!B:B,B96)=0,\"-\",COUNTIF('N PMRg 2021'!B:B,B96))","v":"-"},{"$f":"IF(ISERROR(VLOOKUP(B96,'N PMRg 2021'!B:G,6,0)),\"-\",VLOOKUP(B96,'N PMRg 2021'!B:G,6,0))","v":"-"},{"$f":"IF(COUNTIF('N PMČRj 2021'!B:B,B96)=0,\"-\",COUNTIF('N PMČRj 2021'!B:B,B96))","v":"-"},{"$f":"IF(ISERROR(VLOOKUP(B96,'N PMČRj 2021'!B:G,6,0)),\"-\",VLOOKUP(B96,'N PMČRj 2021'!B:G,6,0))","v":"-"}]
[68,"Lukas Plocek",{"$f":"VLOOKUP(B97,Pilot!A:C,3,0)","v":"Mladá Boleslav"},{"$f":"VLOOKUP(B97,Pilot!A:B,2,0)","v":1990},{"$f":"VLOOKUP(B97,Pilot!A:E,5,0)","v":"M"},{"$f":"VLOOKUP(B97,Pilot!A:F,6,0)","v":""},68,null,1,{"$f":"IF(COUNTIF('N PMRg 2021'!B:B,B97)=0,\"-\",COUNTIF('N PMRg 2021'!B:B,B97))","v":"-"},{"$f":"IF(ISERROR(VLOOKUP(B97,'N PMRg 2021'!B:G,6,0)),\"-\",VLOOKUP(B97,'N PMRg 2021'!B:G,6,0))","v":"-"},{"$f":"IF(COUNTIF('N PMČRj 2021'!B:B,B97)=0,\"-\",COUNTIF('N PMČRj 2021'!B:B,B97))","v":"-"},{"$f":"IF(ISERROR(VLOOKUP(B97,'N PMČRj 2021'!B:G,6,0)),\"-\",VLOOKUP(B97,'N PMČRj 2021'!B:G,6,0))","v":"-"}]
[69,"Radek Zima 78",{"$f":"VLOOKUP(B98,Pilot!A:C,3,0)","v":"Hodkovice"},{"$f":"VLOOKUP(B98,Pilot!A:B,2,0)","v":1978},{"$f":"VLOOKUP(B98,Pilot!A:E,5,0)","v":"M"},{"$f":"VLOOKUP(B98,Pilot!A:F,6,0)","v":""},{"$f":"A98","v":69},null,1,{"$f":"IF(COUNTIF('N PMRg 2021'!B:B,B98)=0,\"-\",COUNTIF('N PMRg 2021'!B:B,B98))","v":"-"},{"$f":"IF(ISERROR(VLOOKUP(B98,'N PMRg 2021'!B:G,6,0)),\"-\",VLOOKUP(B98,'N PMRg 2021'!B:G,6,0))","v":"-"},{"$f":"IF(COUNTIF('N PMČRj 2021'!B:B,B98)=0,\"-\",COUNTIF('N PMČRj 2021'!B:B,B98))","v":"-"},{"$f":"IF(ISERROR(VLOOKUP(B98,'N PMČRj 2021'!B:G,6,0)),\"-\",VLOOKUP(B98,'N PMČRj 2021'!B:G,6,0))","v":"-"}]
[70,"Vaclav Zak",{"$f":"VLOOKUP(B99,Pilot!A:C,3,0)","v":"GAC Benešov"},{"$f":"VLOOKUP(B99,Pilot!A:B,2,0)","v":1962},{"$f":"VLOOKUP(B99,Pilot!A:E,5,0)","v":"M"},{"$f":"VLOOKUP(B99,Pilot!A:F,6,0)","v":""},70,null,1,{"$f":"IF(COUNTIF('N PMRg 2021'!B:B,B99)=0,\"-\",COUNTIF('N PMRg 2021'!B:B,B99))","v":"-"},{"$f":"IF(ISERROR(VLOOKUP(B99,'N PMRg 2021'!B:G,6,0)),\"-\",VLOOKUP(B99,'N PMRg 2021'!B:G,6,0))","v":"-"},{"$f":"IF(COUNTIF('N PMČRj 2021'!B:B,B99)=0,\"-\",COUNTIF('N PMČRj 2021'!B:B,B99))","v":"-"},{"$f":"IF(ISERROR(VLOOKUP(B99,'N PMČRj 2021'!B:G,6,0)),\"-\",VLOOKUP(B99,'N PMČRj 2021'!B:G,6,0))","v":"-"}]
[71,"Jiri Krofta",{"$f":"VLOOKUP(B100,Pilot!A:C,3,0)","v":"Hosín"},{"$f":"VLOOKUP(B100,Pilot!A:B,2,0)","v":1988},{"$f":"VLOOKUP(B100,Pilot!A:E,5,0)","v":"M"},{"$f":"VLOOKUP(B100,Pilot!A:F,6,0)","v":""},71,null,1,{"$f":"IF(COUNTIF('N PMRg 2021'!B:B,B100)=0,\"-\",COUNTIF('N PMRg 2021'!B:B,B100))","v":"-"},{"$f":"IF(ISERROR(VLOOKUP(B100,'N PMRg 2021'!B:G,6,0)),\"-\",VLOOKUP(B100,'N PMRg 2021'!B:G,6,0))","v":"-"},{"$f":"IF(COUNTIF('N PMČRj 2021'!B:B,B100)=0,\"-\",COUNTIF('N PMČRj 2021'!B:B,B100))","v":"-"},{"$f":"IF(ISERROR(VLOOKUP(B100,'N PMČRj 2021'!B:G,6,0)),\"-\",VLOOKUP(B100,'N PMČRj 2021'!B:G,6,0))","v":"-"}]
[72,"Frantisek Suna",{"$f":"VLOOKUP(B101,Pilot!A:C,3,0)","v":"Hosín"},{"$f":"VLOOKUP(B101,Pilot!A:B,2,0)","v":1983},{"$f":"VLOOKUP(B101,Pilot!A:E,5,0)","v":"M"},{"$f":"VLOOKUP(B101,Pilot!A:F,6,0)","v":""},72,null,1,{"$f":"IF(COUNTIF('N PMRg 2021'!B:B,B101)=0,\"-\",COUNTIF('N PMRg 2021'!B:B,B101))","v":"-"},{"$f":"IF(ISERROR(VLOOKUP(B101,'N PMRg 2021'!B:G,6,0)),\"-\",VLOOKUP(B101,'N PMRg 2021'!B:G,6,0))","v":"-"},{"$f":"IF(COUNTIF('N PMČRj 2021'!B:B,B101)=0,\"-\",COUNTIF('N PMČRj 2021'!B:B,B101))","v":"-"},{"$f":"IF(ISERROR(VLOOKUP(B101,'N PMČRj 2021'!B:G,6,0)),\"-\",VLOOKUP(B101,'N PMČRj 2021'!B:G,6,0))","v":"-"}]
[73,"Jan Kohout",{"$f":"VLOOKUP(B102,Pilot!A:C,3,0)","v":"Žamberk"},{"$f":"VLOOKUP(B102,Pilot!A:B,2,0)","v":1970},{"$f":"VLOOKUP(B102,Pilot!A:E,5,0)","v":"M"},{"$f":"VLOOKUP(B102,Pilot!A:F,6,0)","v":""},73,null,1,{"$f":"IF(COUNTIF('N PMRg 2021'!B:B,B102)=0,\"-\",COUNTIF('N PMRg 2021'!B:B,B102))","v":"-"},{"$f":"IF(ISERROR(VLOOKUP(B102,'N PMRg 2021'!B:G,6,0)),\"-\",VLOOKUP(B102,'N PMRg 2021'!B:G,6,0))","v":"-"},{"$f":"IF(COUNTIF('N PMČRj 2021'!B:B,B102)=0,\"-\",COUNTIF('N PMČRj 2021'!B:B,B102))","v":"-"},{"$f":"IF(ISERROR(VLOOKUP(B102,'N PMČRj 2021'!B:G,6,0)),\"-\",VLOOKUP(B102,'N PMČRj 2021'!B:G,6,0))","v":"-"}]
[74,"Petr Sochor",{"$f":"VLOOKUP(B103,Pilot!A:C,3,0)","v":"Hosín"},{"$f":"VLOOKUP(B103,Pilot!A:B,2,0)","v":1986},{"$f":"VLOOKUP(B103,Pilot!A:E,5,0)","v":"M"},{"$f":"VLOOKUP(B103,Pilot!A:F,6,0)","v":""},74,null,1,{"$f":"IF(COUNTIF('N PMRg 2021'!B:B,B103)=0,\"-\",COUNTIF('N PMRg 2021'!B:B,B103))","v":"-"},{"$f":"IF(ISERROR(VLOOKUP(B103,'N PMRg 2021'!B:G,6,0)),\"-\",VLOOKUP(B103,'N PMRg 2021'!B:G,6,0))","v":"-"},{"$f":"IF(COUNTIF('N PMČRj 2021'!B:B,B103)=0,\"-\",COUNTIF('N PMČRj 2021'!B:B,B103))","v":"-"},{"$f":"IF(ISERROR(VLOOKUP(B103,'N PMČRj 2021'!B:G,6,0)),\"-\",VLOOKUP(B103,'N PMČRj 2021'!B:G,6,0))","v":"-"}]
[75,"Radoslav Pur",{"$f":"VLOOKUP(B104,Pilot!A:C,3,0)","v":"Hosín"},{"$f":"VLOOKUP(B104,Pilot!A:B,2,0)","v":1973},{"$f":"VLOOKUP(B104,Pilot!A:E,5,0)","v":"M"},{"$f":"VLOOKUP(B104,Pilot!A:F,6,0)","v":""},75,null,1,{"$f":"IF(COUNTIF('N PMRg 2021'!B:B,B104)=0,\"-\",COUNTIF('N PMRg 2021'!B:B,B104))","v":"-"},{"$f":"IF(ISERROR(VLOOKUP(B104,'N PMRg 2021'!B:G,6,0)),\"-\",VLOOKUP(B104,'N PMRg 2021'!B:G,6,0))","v":"-"},{"$f":"IF(COUNTIF('N PMČRj 2021'!B:B,B104)=0,\"-\",COUNTIF('N PMČRj 2021'!B:B,B104))","v":"-"},{"$f":"IF(ISERROR(VLOOKUP(B104,'N PMČRj 2021'!B:G,6,0)),\"-\",VLOOKUP(B104,'N PMČRj 2021'!B:G,6,0))","v":"-"}]
["6.6.6.8.","ostatní soutěžící z posledního platného Všeobecného žebříku v pořadí podle umístění, do naplnění celkového počtu nominovaných dle 6.6.5. (+ 10 náhradníků)."]
[{"$f":"A104+1","v":76},"Lubomir Motl",{"$f":"VLOOKUP(B106,Pilot!A:C,3,0)","v":"Kyjov"},{"$f":"VLOOKUP(B106,Pilot!A:B,2,0)","v":1959},{"$f":"VLOOKUP(B106,Pilot!A:E,5,0)","v":"M"},{"$f":"VLOOKUP(B106,Pilot!A:F,6,0)","v":""},76,null,{"$f":"COUNTIF(B:B,B106)","v":1},{"$f":"IF(COUNTIF('N PMRg 2021'!B:B,B106)=0,\"-\",COUNTIF('N PMRg 2021'!B:B,B106))","v":"-"},{"$f":"IF(ISERROR(VLOOKUP(B106,'N PMRg 2021'!B:G,6,0)),\"-\",VLOOKUP(B106,'N PMRg 2021'!B:G,6,0))","v":"-"},{"$f":"IF(COUNTIF('N PMČRj 2021'!B:B,B106)=0,\"-\",COUNTIF('N PMČRj 2021'!B:B,B106))","v":"-"},{"$f":"IF(ISERROR(VLOOKUP(B106,'N PMČRj 2021'!B:G,6,0)),\"-\",VLOOKUP(B106,'N PMČRj 2021'!B:G,6,0))","v":"-"}]
[77,"Ivan Harasta 65",{"$f":"VLOOKUP(B107,Pilot!A:C,3,0)","v":"Toužim"},{"$f":"VLOOKUP(B107,Pilot!A:B,2,0)","v":1965},{"$f":"VLOOKUP(B107,Pilot!A:E,5,0)","v":"M"},{"$f":"VLOOKUP(B107,Pilot!A:F,6,0)","v":""},{"$f":"A107","v":77},null,1,{"$f":"IF(COUNTIF('N PMRg 2021'!B:B,B107)=0,\"-\",COUNTIF('N PMRg 2021'!B:B,B107))","v":"-"},{"$f":"IF(ISERROR(VLOOKUP(B107,'N PMRg 2021'!B:G,6,0)),\"-\",VLOOKUP(B107,'N PMRg 2021'!B:G,6,0))","v":"-"},{"$f":"IF(COUNTIF('N PMČRj 2021'!B:B,B107)=0,\"-\",COUNTIF('N PMČRj 2021'!B:B,B107))","v":"-"},{"$f":"IF(ISERROR(VLOOKUP(B107,'N PMČRj 2021'!B:G,6,0)),\"-\",VLOOKUP(B107,'N PMČRj 2021'!B:G,6,0))","v":"-"}]
[78,"Jan Boruvka",{"$f":"VLOOKUP(B108,Pilot!A:C,3,0)","v":"Jičín"},{"$f":"VLOOKUP(B108,Pilot!A:B,2,0)","v":1984},{"$f":"VLOOKUP(B108,Pilot!A:E,5,0)","v":"M"},{"$f":"VLOOKUP(B108,Pilot!A:F,6,0)","v":""},78,null,1,{"$f":"IF(COUNTIF('N PMRg 2021'!B:B,B108)=0,\"-\",COUNTIF('N PMRg 2021'!B:B,B108))","v":"-"},{"$f":"IF(ISERROR(VLOOKUP(B108,'N PMRg 2021'!B:G,6,0)),\"-\",VLOOKUP(B108,'N PMRg 2021'!B:G,6,0))","v":"-"},{"$f":"IF(COUNTIF('N PMČRj 2021'!B:B,B108)=0,\"-\",COUNTIF('N PMČRj 2021'!B:B,B108))","v":"-"},{"$f":"IF(ISERROR(VLOOKUP(B108,'N PMČRj 2021'!B:G,6,0)),\"-\",VLOOKUP(B108,'N PMČRj 2021'!B:G,6,0))","v":"-"}]
[79,"Frantisek Vancura",{"$f":"VLOOKUP(B109,Pilot!A:C,3,0)","v":"Hranice"},{"$f":"VLOOKUP(B109,Pilot!A:B,2,0)","v":1966},{"$f":"VLOOKUP(B109,Pilot!A:E,5,0)","v":"M"},{"$f":"VLOOKUP(B109,Pilot!A:F,6,0)","v":""},79,null,1,{"$f":"IF(COUNTIF('N PMRg 2021'!B:B,B109)=0,\"-\",COUNTIF('N PMRg 2021'!B:B,B109))","v":"-"},{"$f":"IF(ISERROR(VLOOKUP(B109,'N PMRg 2021'!B:G,6,0)),\"-\",VLOOKUP(B109,'N PMRg 2021'!B:G,6,0))","v":"-"},{"$f":"IF(COUNTIF('N PMČRj 2021'!B:B,B109)=0,\"-\",COUNTIF('N PMČRj 2021'!B:B,B109))","v":"-"},{"$f":"IF(ISERROR(VLOOKUP(B109,'N PMČRj 2021'!B:G,6,0)),\"-\",VLOOKUP(B109,'N PMČRj 2021'!B:G,6,0))","v":"-"}]
[80,"Marek Blatak",{"$f":"VLOOKUP(B110,Pilot!A:C,3,0)","v":"Šumperk"},{"$f":"VLOOKUP(B110,Pilot!A:B,2,0)","v":1969},{"$f":"VLOOKUP(B110,Pilot!A:E,5,0)","v":"M"},{"$f":"VLOOKUP(B110,Pilot!A:F,6,0)","v":""},{"$f":"A110","v":80},null,1,{"$f":"IF(COUNTIF('N PMRg 2021'!B:B,B110)=0,\"-\",COUNTIF('N PMRg 2021'!B:B,B110))","v":"-"},{"$f":"IF(ISERROR(VLOOKUP(B110,'N PMRg 2021'!B:G,6,0)),\"-\",VLOOKUP(B110,'N PMRg 2021'!B:G,6,0))","v":"-"},{"$f":"IF(COUNTIF('N PMČRj 2021'!B:B,B110)=0,\"-\",COUNTIF('N PMČRj 2021'!B:B,B110))","v":"-"},{"$f":"IF(ISERROR(VLOOKUP(B110,'N PMČRj 2021'!B:G,6,0)),\"-\",VLOOKUP(B110,'N PMČRj 2021'!B:G,6,0))","v":"-"}]
["N1","Lukas Koukal",{"$f":"VLOOKUP(B111,Pilot!A:C,3,0)","v":"Letkov"},{"$f":"VLOOKUP(B111,Pilot!A:B,2,0)","v":1991},{"$f":"VLOOKUP(B111,Pilot!A:E,5,0)","v":"M"},{"$f":"VLOOKUP(B111,Pilot!A:F,6,0)","v":""},{"$f":"A111","v":"N1"},null,1,{"$f":"IF(COUNTIF('N PMRg 2021'!B:B,B111)=0,\"-\",COUNTIF('N PMRg 2021'!B:B,B111))","v":"-"},{"$f":"IF(ISERROR(VLOOKUP(B111,'N PMRg 2021'!B:G,6,0)),\"-\",VLOOKUP(B111,'N PMRg 2021'!B:G,6,0))","v":"-"},{"$f":"IF(COUNTIF('N PMČRj 2021'!B:B,B111)=0,\"-\",COUNTIF('N PMČRj 2021'!B:B,B111))","v":"-"},{"$f":"IF(ISERROR(VLOOKUP(B111,'N PMČRj 2021'!B:G,6,0)),\"-\",VLOOKUP(B111,'N PMČRj 2021'!B:G,6,0))","v":"-"}]
["N2","Vojtech Novotny",{"$f":"VLOOKUP(B112,Pilot!A:C,3,0)","v":"Kralupy"},{"$f":"VLOOKUP(B112,Pilot!A:B,2,0)","v":1992},{"$f":"VLOOKUP(B112,Pilot!A:E,5,0)","v":"M"},{"$f":"VLOOKUP(B112,Pilot!A:F,6,0)","v":""},"N2",null,1,{"$f":"IF(COUNTIF('N PMRg 2021'!B:B,B112)=0,\"-\",COUNTIF('N PMRg 2021'!B:B,B112))","v":"-"},{"$f":"IF(ISERROR(VLOOKUP(B112,'N PMRg 2021'!B:G,6,0)),\"-\",VLOOKUP(B112,'N PMRg 2021'!B:G,6,0))","v":"-"},{"$f":"IF(COUNTIF('N PMČRj 2021'!B:B,B112)=0,\"-\",COUNTIF('N PMČRj 2021'!B:B,B112))","v":"-"},{"$f":"IF(ISERROR(VLOOKUP(B112,'N PMČRj 2021'!B:G,6,0)),\"-\",VLOOKUP(B112,'N PMČRj 2021'!B:G,6,0))","v":"-"}]
["N3","Jindrich Svorc",{"$f":"VLOOKUP(B113,Pilot!A:C,3,0)","v":"Letňany"},{"$f":"VLOOKUP(B113,Pilot!A:B,2,0)","v":1978},{"$f":"VLOOKUP(B113,Pilot!A:E,5,0)","v":"M"},{"$f":"VLOOKUP(B113,Pilot!A:F,6,0)","v":""},"N3",null,1,{"$f":"IF(COUNTIF('N PMRg 2021'!B:B,B113)=0,\"-\",COUNTIF('N PMRg 2021'!B:B,B113))","v":"-"},{"$f":"IF(ISERROR(VLOOKUP(B113,'N PMRg 2021'!B:G,6,0)),\"-\",VLOOKUP(B113,'N PMRg 2021'!B:G,6,0))","v":"-"},{"$f":"IF(COUNTIF('N PMČRj 2021'!B:B,B113)=0,\"-\",COUNTIF('N PMČRj 2021'!B:B,B113))","v":"-"},{"$f":"IF(ISERROR(VLOOKUP(B113,'N PMČRj 2021'!B:G,6,0)),\"-\",VLOOKUP(B113,'N PMČRj 2021'!B:G,6,0))","v":"-"}]
["N4","Zdenek Balcarek",{"$f":"VLOOKUP(B114,Pilot!A:C,3,0)","v":"Kroměříž"},{"$f":"VLOOKUP(B114,Pilot!A:B,2,0)","v":1967},{"$f":"VLOOKUP(B114,Pilot!A:E,5,0)","v":"M"},{"$f":"VLOOKUP(B114,Pilot!A:F,6,0)","v":""},"N4",null,1,{"$f":"IF(COUNTIF('N PMRg 2021'!B:B,B114)=0,\"-\",COUNTIF('N PMRg 2021'!B:B,B114))","v":1},{"$f":"IF(ISERROR(VLOOKUP(B114,'N PMRg 2021'!B:G,6,0)),\"-\",VLOOKUP(B114,'N PMRg 2021'!B:G,6,0))","v":2},{"$f":"IF(COUNTIF('N PMČRj 2021'!B:B,B114)=0,\"-\",COUNTIF('N PMČRj 2021'!B:B,B114))","v":"-"},{"$f":"IF(ISERROR(VLOOKUP(B114,'N PMČRj 2021'!B:G,6,0)),\"-\",VLOOKUP(B114,'N PMČRj 2021'!B:G,6,0))","v":"-"}]
["N5","Karel Benisek 76",{"$f":"VLOOKUP(B115,Pilot!A:C,3,0)","v":"Toužim"},{"$f":"VLOOKUP(B115,Pilot!A:B,2,0)","v":1976},{"$f":"VLOOKUP(B115,Pilot!A:E,5,0)","v":"M"},{"$f":"VLOOKUP(B115,Pilot!A:F,6,0)","v":""},"N5",null,1,{"$f":"IF(COUNTIF('N PMRg 2021'!B:B,B115)=0,\"-\",COUNTIF('N PMRg 2021'!B:B,B115))","v":"-"},{"$f":"IF(ISERROR(VLOOKUP(B115,'N PMRg 2021'!B:G,6,0)),\"-\",VLOOKUP(B115,'N PMRg 2021'!B:G,6,0))","v":"-"},{"$f":"IF(COUNTIF('N PMČRj 2021'!B:B,B115)=0,\"-\",COUNTIF('N PMČRj 2021'!B:B,B115))","v":"-"},{"$f":"IF(ISERROR(VLOOKUP(B115,'N PMČRj 2021'!B:G,6,0)),\"-\",VLOOKUP(B115,'N PMČRj 2021'!B:G,6,0))","v":"-"}]
["N6","Petr Jiranek 91",{"$f":"VLOOKUP(B116,Pilot!A:C,3,0)","v":"Toužim"},{"$f":"VLOOKUP(B116,Pilot!A:B,2,0)","v":1991},{"$f":"VLOOKUP(B116,Pilot!A:E,5,0)","v":"M"},{"$f":"VLOOKUP(B116,Pilot!A:F,6,0)","v":""},"N6",null,1,{"$f":"IF(COUNTIF('N PMRg 2021'!B:B,B116)=0,\"-\",COUNTIF('N PMRg 2021'!B:B,B116))","v":"-"},{"$f":"IF(ISERROR(VLOOKUP(B116,'N PMRg 2021'!B:G,6,0)),\"-\",VLOOKUP(B116,'N PMRg 2021'!B:G,6,0))","v":"-"},{"$f":"IF(COUNTIF('N PMČRj 2021'!B:B,B116)=0,\"-\",COUNTIF('N PMČRj 2021'!B:B,B116))","v":"-"},{"$f":"IF(ISERROR(VLOOKUP(B116,'N PMČRj 2021'!B:G,6,0)),\"-\",VLOOKUP(B116,'N PMČRj 2021'!B:G,6,0))","v":"-"}]
["N7","Petr Panek",{"$f":"VLOOKUP(B117,Pilot!A:C,3,0)","v":"Dvůr Králové"},{"$f":"VLOOKUP(B117,Pilot!A:B,2,0)","v":1975},{"$f":"VLOOKUP(B117,Pilot!A:E,5,0)","v":"M"},{"$f":"VLOOKUP(B117,Pilot!A:F,6,0)","v":""},"N7",null,1,{"$f":"IF(COUNTIF('N PMRg 2021'!B:B,B117)=0,\"-\",COUNTIF('N PMRg 2021'!B:B,B117))","v":1},{"$f":"IF(ISERROR(VLOOKUP(B117,'N PMRg 2021'!B:G,6,0)),\"-\",VLOOKUP(B117,'N PMRg 2021'!B:G,6,0))","v":9},{"$f":"IF(COUNTIF('N PMČRj 2021'!B:B,B117)=0,\"-\",COUNTIF('N PMČRj 2021'!B:B,B117))","v":"-"},{"$f":"IF(ISERROR(VLOOKUP(B117,'N PMČRj 2021'!B:G,6,0)),\"-\",VLOOKUP(B117,'N PMČRj 2021'!B:G,6,0))","v":"-"}]
["N8","Zdenek Boruvka 54",{"$f":"VLOOKUP(B118,Pilot!A:C,3,0)","v":"Jičín"},{"$f":"VLOOKUP(B118,Pilot!A:B,2,0)","v":1954},{"$f":"VLOOKUP(B118,Pilot!A:E,5,0)","v":"M"},{"$f":"VLOOKUP(B118,Pilot!A:F,6,0)","v":""},"N8",null,1,{"$f":"IF(COUNTIF('N PMRg 2021'!B:B,B118)=0,\"-\",COUNTIF('N PMRg 2021'!B:B,B118))","v":1},{"$f":"IF(ISERROR(VLOOKUP(B118,'N PMRg 2021'!B:G,6,0)),\"-\",VLOOKUP(B118,'N PMRg 2021'!B:G,6,0))","v":7},{"$f":"IF(COUNTIF('N PMČRj 2021'!B:B,B118)=0,\"-\",COUNTIF('N PMČRj 2021'!B:B,B118))","v":"-"},{"$f":"IF(ISERROR(VLOOKUP(B118,'N PMČRj 2021'!B:G,6,0)),\"-\",VLOOKUP(B118,'N PMČRj 2021'!B:G,6,0))","v":"-"}]
["N9","Martin Urner",{"$f":"VLOOKUP(B119,Pilot!A:C,3,0)","v":"Letňany"},{"$f":"VLOOKUP(B119,Pilot!A:B,2,0)","v":1974},{"$f":"VLOOKUP(B119,Pilot!A:E,5,0)","v":"M"},{"$f":"VLOOKUP(B119,Pilot!A:F,6,0)","v":""},"N9",null,1,{"$f":"IF(COUNTIF('N PMRg 2021'!B:B,B119)=0,\"-\",COUNTIF('N PMRg 2021'!B:B,B119))","v":"-"},{"$f":"IF(ISERROR(VLOOKUP(B119,'N PMRg 2021'!B:G,6,0)),\"-\",VLOOKUP(B119,'N PMRg 2021'!B:G,6,0))","v":"-"},{"$f":"IF(COUNTIF('N PMČRj 2021'!B:B,B119)=0,\"-\",COUNTIF('N PMČRj 2021'!B:B,B119))","v":"-"},{"$f":"IF(ISERROR(VLOOKUP(B119,'N PMČRj 2021'!B:G,6,0)),\"-\",VLOOKUP(B119,'N PMČRj 2021'!B:G,6,0))","v":"-"}]
["N10","Marek Pechanec",{"$f":"VLOOKUP(B120,Pilot!A:C,3,0)","v":"Luhačovice"},{"$f":"VLOOKUP(B120,Pilot!A:B,2,0)","v":1970},{"$f":"VLOOKUP(B120,Pilot!A:E,5,0)","v":"M"},{"$f":"VLOOKUP(B120,Pilot!A:F,6,0)","v":""},"N10",null,1,{"$f":"IF(COUNTIF('N PMRg 2021'!B:B,B120)=0,\"-\",COUNTIF('N PMRg 2021'!B:B,B120))","v":"-"},{"$f":"IF(ISERROR(VLOOKUP(B120,'N PMRg 2021'!B:G,6,0)),\"-\",VLOOKUP(B120,'N PMRg 2021'!B:G,6,0))","v":"-"},{"$f":"IF(COUNTIF('N PMČRj 2021'!B:B,B120)=0,\"-\",COUNTIF('N PMČRj 2021'!B:B,B120))","v":"-"},{"$f":"IF(ISERROR(VLOOKUP(B120,'N PMČRj 2021'!B:G,6,0)),\"-\",VLOOKUP(B120,'N PMČRj 2021'!B:G,6,0))","v":"-"}]
["6.6.7.","Nominace zahraničních účastníků"]
[null,"PMČR se mohou zúčastnit zahraniční účastníci pouze v případě, že nebude omezen počet řádně nominovaných soutěžících z ČR a soutěžící splňuje podmínky odstavce 6.1. a 6.6.1. SŘ."]
[null,"V případě pořádání společného PMČR s plachtařským mistrovstvím některého ze suverénních států může PK stanovit zvláštní pravidla pro nominaci."]
["6.6.8.","Volná nominace"]
[null,"Volnou nominaci je možné využít pouze v tom případě, že pilot na PMČR nepostupuje podle žádného z bodů odstavce 6.6.6."]
[null,"Umožňuje-li to kapacita pořádajícího letiště, mohou se z členů AeČR mimo řádně nominovaných do soutěže přihlásit také piloti/pilotky, kteří se:"]
["6.6.8.1.","v posledních 3 letech před rokem konání soutěže zúčastnili MS, ME, WAG nebo Světové Grand Prix jako velitel kluzáku,"]
["6.6.8.2.","umístili v aktuálním Všeobecném Žebříku do 100. místa,"]
["6.6.8.3.","Při větším počtu přihlášek, než je kapacita letiště Pořadatele, rozhoduje o přijetí do soutěže pořadí soutěžícího v aktuálním Všeobecném Žebříku s podmínkou zaplacení vkladu v termínu stanoveném Pořadatelem."]
[]
[]
["Schváleno Plachtařskou komisí AeČR dne xx.yy.2020 v ZZZZ"]

{"sheet":"N PMRg 2021","index":13,"n_rows":93,"n_cols":17,"rows_kept":93,"cut":false,"hidden":false,"merged":[[5,1,5,7],[25,1,25,7],[26,1,26,7],[29,1,29,7]]}
[null,"Nominace na PMRg 2021",null,null,null,null,null,"Kontrola:","Počet","Počet","Nominace","Počet","Nominace","M:","F:","M+F:"]
["No","Jméno","Aeroklub","Rok narození","M/F","Junior","No",null,"PMRg","PMČR","PMČR","PMČRj","PMČRj",{"$f":"COUNTIF(E:E,\"M\")","v":14},{"$f":"COUNTIF(E:E,\"F\")","v":2},{"$f":"N2+O2","v":16},"S náhradníky"]
["6.8.5.","Nominace na PMRg (dle SŘ ZM9)",null,null,null,null,null,null,null,null,null,null,"Celkem řádně nominováno:",{"$f":"N2-COUNTIF(E75:E83,\"M\")","v":14},{"$f":"O2-COUNTIF(E80:E83,\"F\")","v":2},{"$f":"N3+O3","v":16},"Bez náhradníků"]
[null,"Na PMRg nominuje PK minimálně 60 pilotů/pilotek a příslušný počet náhradníků pro stanovená nominační kritéria."]
[null,"Na PMRg jsou nominováni:"]
["6.8.5.1.","všichni soutěžící z posledního platného PMČR, kteří nepostoupili na PMČR v roce konání PMRg (bez náhradníků)"]
[null,"PMČR 2020 - Tábor - Klub"]
[1,"Jan Hruska",{"$f":"VLOOKUP(B8,Pilot!A:C,3,0)","v":"Tábor"},{"$f":"VLOOKUP(B8,Pilot!A:C,2,0)","v":1988},{"$f":"VLOOKUP(B8,Pilot!A:E,5,0)","v":"M"},{"$f":"VLOOKUP(B8,Pilot!A:F,6,0)","v":""},{"$f":"A8","v":1},null,{"$f":"COUNTIF(B:B,B8)","v":1},{"$f":"IF(COUNTIF('N PMČR 2021'!B:B,B8)=0,\"-\",COUNTIF('N PMČR 2021'!B:B,B8))","v":"-"},{"$f":"IF(ISERROR(VLOOKUP(B8,'N PMČR 2021'!B:G,6,0)),\"-\",VLOOKUP(B8,'N PMČR 2021'!B:G,6,0))","v":"-"},{"$f":"IF(COUNTIF('N PMČRj 2021'!B:B,B8)=0,\"-\",COUNTIF('N PMČRj 2021'!B:B,B8))","v":"-"},{"$f":"IF(ISERROR(VLOOKUP(B8,'N PMČRj 2021'!B:G,6,0)),\"-\",VLOOKUP(B8,'N PMČRj 2021'!B:G,6,0))","v":"-"}]
[{"$f":"A8+1","v":2},"Zdenek Balcarek",{"$f":"VLOOKUP(B9,Pilot!A:C,3,0)","v":"Kroměříž"},{"$f":"VLOOKUP(B9,Pilot!A:C,2,0)","v":1967},{"$f":"VLOOKUP(B9,Pilot!A:E,5,0)","v":"M"},{"$f":"VLOOKUP(B9,Pilot!A:F,6,0)","v":""},2,null,1,{"$f":"IF(COUNTIF('N PMČR 2021'!B:B,B9)=0,\"-\",COUNTIF('N PMČR 2021'!B:B,B9))","v":1},{"$f":"IF(ISERROR(VLOOKUP(B9,'N PMČR 2021'!B:G,6,0)),\"-\",VLOOKUP(B9,'N PMČR 2021'!B:G,6,0))","v":"N4"},{"$f":"IF(COUNTIF('N PMČRj 2021'!B:B,B9)=0,\"-\",COUNTIF('N PMČRj 2021'!B:B,B9))","v":"-"},{"$f":"IF(ISERROR(VLOOKUP(B9,'N PMČRj 2021'!B:G,6,0)),\"-\",VLOOKUP(B9,'N PMČRj 2021'!B:G,6,0))","v":"-"}]
[3,"Jiri Stepanek",{"$f":"VLOOKUP(B10,Pilot!A:C,3,0)","v":"Moravská Třebová"},{"$f":"VLOOKUP(B10,Pilot!A:C,2,0)","v":1956},{"$f":"VLOOKUP(B10,Pilot!A:E,5,0)","v":"M"},{"$f":"VLOOKUP(B10,Pilot!A:F,6,0)","v":""},3,null,1,{"$f":"IF(COUNTIF('N PMČR 2021'!B:B,B10)=0,\"-\",COUNTIF('N PMČR 2021'!B:B,B10))","v":"-"},{"$f":"IF(ISERROR(VLOOKUP(B10,'N PMČR 2021'!B:G,6,0)),\"-\",VLOOKUP(B10,'N PMČR 2021'!B:G,6,0))","v":"-"},{"$f":"IF(COUNTIF('N PMČRj 2021'!B:B,B10)=0,\"-\",COUNTIF('N PMČRj 2021'!B:B,B10))","v":"-"},{"$f":"IF(ISERROR(VLOOKUP(B10,'N PMČRj 2021'!B:G,6,0)),\"-\",VLOOKUP(B10,'N PMČRj 2021'!B:G,6,0))","v":"-"}]
[4,"Martin Stepanek",{"$f":"VLOOKUP(B11,Pilot!A:C,3,0)","v":"Moravská Třebová"},{"$f":"VLOOKUP(B11,Pilot!A:C,2,0)","v":1987},{"$f":"VLOOKUP(B11,Pilot!A:E,5,0)","v":"M"},{"$f":"VLOOKUP(B11,Pilot!A:F,6,0)","v":""},4,null,1,{"$f":"IF(COUNTIF('N PMČR 2021'!B:B,B11)=0,\"-\",COUNTIF('N PMČR 2021'!B:B,B11))","v":"-"},{"$f":"IF(ISERROR(VLOOKUP(B11,'N PMČR 2021'!B:G,6,0)),\"-\",VLOOKUP(B11,'N PMČR 2021'!B:G,6,0))","v":"-"},{"$f":"IF(COUNTIF('N PMČRj 2021'!B:B,B11)=0,\"-\",COUNTIF('N PMČRj 2021'!B:B,B11))","v":"-"},{"$f":"IF(ISERROR(VLOOKUP(B11,'N PMČRj 2021'!B:G,6,0)),\"-\",VLOOKUP(B11,'N PMČRj 2021'!B:G,6,0))","v":"-"}]
[5,"Petr Stepanek",{"$f":"VLOOKUP(B12,Pilot!A:C,3,0)","v":"Moravská Třebová"},{"$f":"VLOOKUP(B12,Pilot!A:C,2,0)","v":1989},{"$f":"VLOOKUP(B12,Pilot!A:E,5,0)","v":"M"},{"$f":"VLOOKUP(B12,Pilot!A:F,6,0)","v":""},5,null,1,{"$f":"IF(COUNTIF('N PMČR 2021'!B:B,B12)=0,\"-\",COUNTIF('N PMČR 2021'!B:B,B12))","v":"-"},{"$f":"IF(ISERROR(VLOOKUP(B12,'N PMČR 2021'!B:G,6,0)),\"-\",VLOOKUP(B12,'N PMČR 2021'!B:G,6,0))","v":"-"},{"$f":"IF(COUNTIF('N PMČRj 2021'!B:B,B12)=0,\"-\",COUNTIF('N PMČRj 2021'!B:B,B12))","v":"-"},{"$f":"IF(ISERROR(VLOOKUP(B12,'N PMČRj 2021'!B:G,6,0)),\"-\",VLOOKUP(B12,'N PMČRj 2021'!B:G,6,0))","v":"-"}]
[6,"Tomas Moravec",{"$f":"VLOOKUP(B13,Pilot!A:C,3,0)","v":"Žamberk"},{"$f":"VLOOKUP(B13,Pilot!A:C,2,0)","v":2000},{"$f":"VLOOKUP(B13,Pilot!A:E,5,0)","v":"M"},{"$f":"VLOOKUP(B13,Pilot!A:F,6,0)","v":"Junior v roce 2021"},6,null,1,{"$f":"IF(COUNTIF('N PMČR 2021'!B:B,B13)=0,\"-\",COUNTIF('N PMČR 2021'!B:B,B13))","v":"-"},{"$f":"IF(ISERROR(VLOOKUP(B13,'N PMČR 2021'!B:G,6,0)),\"-\",VLOOKUP(B13,'N PMČR 2021'!B:G,6,0))","v":"-"},{"$f":"IF(COUNTIF('N PMČRj 2021'!B:B,B13)=0,\"-\",COUNTIF('N PMČRj 2021'!B:B,B13))","v":1},{"$f":"IF(ISERROR(VLOOKUP(B13,'N PMČRj 2021'!B:G,6,0)),\"-\",VLOOKUP(B13,'N PMČRj 2021'!B:G,6,0))","v":7}]
[null,"PMČR 2020 - Tábor - Kombi 15m"]
[{"$f":"A13+1","v":7},"Zdenek Boruvka 54",{"$f":"VLOOKUP(B15,Pilot!A:C,3,0)","v":"Jičín"},{"$f":"VLOOKUP(B15,Pilot!A:C,2,0)","v":1954},{"$f":"VLOOKUP(B15,Pilot!A:E,5,0)","v":"M"},{"$f":"VLOOKUP(B15,Pilot!A:F,6,0)","v":""},{"$f":"A15","v":7},null,{"$f":"COUNTIF(B:B,B15)","v":1},{"$f":"IF(COUNTIF('N PMČR 2021'!B:B,B15)=0,\"-\",COUNTIF('N PMČR 2021'!B:B,B15))","v":1},{"$f":"IF(ISERROR(VLOOKUP(B15,'N PMČR 2021'!B:G,6,0)),\"-\",VLOOKUP(B15,'N PMČR 2021'!B:G,6,0))","v":"N8"},{"$f":"IF(COUNTIF('N PMČRj 2021'!B:B,B15)=0,\"-\",COUNTIF('N PMČRj 2021'!B:B,B15))","v":"-"},{"$f":"IF(ISERROR(VLOOKUP(B15,'N PMČRj 2021'!B:G,6,0)),\"-\",VLOOKUP(B15,'N PMČRj 2021'!B:G,6,0))","v":"-"}]
[8,"Jan Horak",{"$f":"VLOOKUP(B16,Pilot!A:C,3,0)","v":"Zbraslavice"},{"$f":"VLOOKUP(B16,Pilot!A:C,2,0)","v":1971},{"$f":"VLOOKUP(B16,Pilot!A:E,5,0)","v":"M"},{"$f":"VLOOKUP(B16,Pilot!A:F,6,0)","v":""},{"$f":"A16","v":8},null,{"$f":"COUNTIF(B:B,B16)","v":1},{"$f":"IF(COUNTIF('N PMČR 2021'!B:B,B16)=0,\"-\",COUNTIF('N PMČR 2021'!B:B,B16))","v":"-"},{"$f":"IF(ISERROR(VLOOKUP(B16,'N PMČR 2021'!B:G,6,0)),\"-\",VLOOKUP(B16,'N PMČR 2021'!B:G,6,0))","v":"-"},{"$f":"IF(COUNTIF('N PMČRj 2021'!B:B,B16)=0,\"-\",COUNTIF('N PMČRj 2021'!B:B,B16))","v":"-"},{"$f":"IF(ISERROR(VLOOKUP(B16,'N PMČRj 2021'!B:G,6,0)),\"-\",VLOOKUP(B16,'N PMČRj 2021'!B:G,6,0))","v":"-"}]
[null,"PMČR 2020 - Tábor - Kombi Open"]
[{"$f":"A16+1","v":9},"Petr Panek",{"$f":"VLOOKUP(B18,Pilot!A:C,3,0)","v":"Dvůr Králové"},{"$f":"VLOOKUP(B18,Pilot!A:C,2,0)","v":1975},{"$f":"VLOOKUP(B18,Pilot!A:E,5,0)","v":"M"},{"$f":"VLOOKUP(B18,Pilot!A:F,6,0)","v":""},{"$f":"A18","v":9},null,{"$f":"COUNTIF(B:B,B18)","v":1},{"$f":"IF(COUNTIF('N PMČR 2021'!B:B,B18)=0,\"-\",COUNTIF('N PMČR 2021'!B:B,B18))","v":1},{"$f":"IF(ISERROR(VLOOKUP(B18,'N PMČR 2021'!B:G,6,0)),\"-\",VLOOKUP(B18,'N PMČR 2021'!B:G,6,0))","v":"N7"},{"$f":"IF(COUNTIF('N PMČRj 2021'!B:B,B18)=0,\"-\",COUNTIF('N PMČRj 2021'!B:B,B18))","v":"-"},{"$f":"IF(ISERROR(VLOOKUP(B18,'N PMČRj 2021'!B:G,6,0)),\"-\",VLOOKUP(B18,'N PMČRj 2021'!B:G,6,0))","v":"-"}]
[10,"Michaela Rendlova",{"$f":"VLOOKUP(B19,Pilot!A:C,3,0)","v":"Toužim"},{"$f":"VLOOKUP(B19,Pilot!A:C,2,0)","v":2004},{"$f":"VLOOKUP(B19,Pilot!A:E,5,0)","v":"F"},{"$f":"VLOOKUP(B19,Pilot!A:F,6,0)","v":"Junior v roce 2021"},10,null,1,{"$f":"IF(COUNTIF('N PMČR 2021'!B:B,B19)=0,\"-\",COUNTIF('N PMČR 2021'!B:B,B19))","v":"-"},{"$f":"IF(ISERROR(VLOOKUP(B19,'N PMČR 2021'!B:G,6,0)),\"-\",VLOOKUP(B19,'N PMČR 2021'!B:G,6,0))","v":"-"},{"$f":"IF(COUNTIF('N PMČRj 2021'!B:B,B19)=0,\"-\",COUNTIF('N PMČRj 2021'!B:B,B19))","v":1},{"$f":"IF(ISERROR(VLOOKUP(B19,'N PMČRj 2021'!B:G,6,0)),\"-\",VLOOKUP(B19,'N PMČRj 2021'!B:G,6,0))","v":8}]
[11,"Martin Hrivna",{"$f":"VLOOKUP(B20,Pilot!A:C,3,0)","v":"Zbraslavice"},{"$f":"VLOOKUP(B20,Pilot!A:C,2,0)","v":1978},{"$f":"VLOOKUP(B20,Pilot!A:E,5,0)","v":"M"},{"$f":"VLOOKUP(B20,Pilot!A:F,6,0)","v":""},11,null,1,{"$f":"IF(COUNTIF('N PMČR 2021'!B:B,B20)=0,\"-\",COUNTIF('N PMČR 2021'!B:B,B20))","v":"-"},{"$f":"IF(ISERROR(VLOOKUP(B20,'N PMČR 2021'!B:G,6,0)),\"-\",VLOOKUP(B20,'N PMČR 2021'!B:G,6,0))","v":"-"},{"$f":"IF(COUNTIF('N PMČRj 2021'!B:B,B20)=0,\"-\",COUNTIF('N PMČRj 2021'!B:B,B20))","v":"-"},{"$f":"IF(ISERROR(VLOOKUP(B20,'N PMČRj 2021'!B:G,6,0)),\"-\",VLOOKUP(B20,'N PMČRj 2021'!B:G,6,0))","v":"-"}]
[12,"Martin Picka",{"$f":"VLOOKUP(B21,Pilot!A:C,3,0)","v":"Tábor"},{"$f":"VLOOKUP(B21,Pilot!A:C,2,0)","v":1974},{"$f":"VLOOKUP(B21,Pilot!A:E,5,0)","v":"M"},{"$f":"VLOOKUP(B21,Pilot!A:F,6,0)","v":""},12,null,1,{"$f":"IF(COUNTIF('N PMČR 2021'!B:B,B21)=0,\"-\",COUNTIF('N PMČR 2021'!B:B,B21))","v":"-"},{"$f":"IF(ISERROR(VLOOKUP(B21,'N PMČR 2021'!B:G,6,0)),\"-\",VLOOKUP(B21,'N PMČR 2021'!B:G,6,0))","v":"-"},{"$f":"IF(COUNTIF('N PMČRj 2021'!B:B,B21)=0,\"-\",COUNTIF('N PMČRj 2021'!B:B,B21))","v":"-"},{"$f":"IF(ISERROR(VLOOKUP(B21,'N PMČRj 2021'!B:G,6,0)),\"-\",VLOOKUP(B21,'N PMČRj 2021'!B:G,6,0))","v":"-"}]
[13,"Petr Bartak",{"$f":"VLOOKUP(B22,Pilot!A:C,3,0)","v":"Letkov"},{"$f":"VLOOKUP(B22,Pilot!A:C,2,0)","v":1984},{"$f":"VLOOKUP(B22,Pilot!A:E,5,0)","v":"M"},{"$f":"VLOOKUP(B22,Pilot!A:F,6,0)","v":""},13,null,1,{"$f":"IF(COUNTIF('N PMČR 2021'!B:B,B22)=0,\"-\",COUNTIF('N PMČR 2021'!B:B,B22))","v":"-"},{"$f":"IF(ISERROR(VLOOKUP(B22,'N PMČR 2021'!B:G,6,0)),\"-\",VLOOKUP(B22,'N PMČR 2021'!B:G,6,0))","v":"-"},{"$f":"IF(COUNTIF('N PMČRj 2021'!B:B,B22)=0,\"-\",COUNTIF('N PMČRj 2021'!B:B,B22))","v":"-"},{"$f":"IF(ISERROR(VLOOKUP(B22,'N PMČRj 2021'!B:G,6,0)),\"-\",VLOOKUP(B22,'N PMČRj 2021'!B:G,6,0))","v":"-"}]
[14,"Eva Cerna",{"$f":"VLOOKUP(B23,Pilot!A:C,3,0)","v":"Příbram"},{"$f":"VLOOKUP(B23,Pilot!A:C,2,0)","v":1964},{"$f":"VLOOKUP(B23,Pilot!A:E,5,0)","v":"F"},{"$f":"VLOOKUP(B23,Pilot!A:F,6,0)","v":""},14,null,1,{"$f":"IF(COUNTIF('N PMČR 2021'!B:B,B23)=0,\"-\",COUNTIF('N PMČR 2021'!B:B,B23))","v":"-"},{"$f":"IF(ISERROR(VLOOKUP(B23,'N PMČR 2021'!B:G,6,0)),\"-\",VLOOKUP(B23,'N PMČR 2021'!B:G,6,0))","v":"-"},{"$f":"IF(COUNTIF('N PMČRj 2021'!B:B,B23)=0,\"-\",COUNTIF('N PMČRj 2021'!B:B,B23))","v":"-"},{"$f":"IF(ISERROR(VLOOKUP(B23,'N PMČRj 2021'!B:G,6,0)),\"-\",VLOOKUP(B23,'N PMČRj 2021'!B:G,6,0))","v":"-"}]
[15,"Karel Mares",{"$f":"VLOOKUP(B24,Pilot!A:C,3,0)","v":"Slaný"},{"$f":"VLOOKUP(B24,Pilot!A:C,2,0)","v":1974},{"$f":"VLOOKUP(B24,Pilot!A:E,5,0)","v":"M"},{"$f":"VLOOKUP(B24,Pilot!A:F,6,0)","v":""},15,null,1,{"$f":"IF(COUNTIF('N PMČR 2021'!B:B,B24)=0,\"-\",COUNTIF('N PMČR 2021'!B:B,B24))","v":"-"},{"$f":"IF(ISERROR(VLOOKUP(B24,'N PMČR 2021'!B:G,6,0)),\"-\",VLOOKUP(B24,'N PMČR 2021'!B:G,6,0))","v":"-"},{"$f":"IF(COUNTIF('N PMČRj 2021'!B:B,B24)=0,\"-\",COUNTIF('N PMČRj 2021'!B:B,B24))","v":"-"},{"$f":"IF(ISERROR(VLOOKUP(B24,'N PMČRj 2021'!B:G,6,0)),\"-\",VLOOKUP(B24,'N PMČRj 2021'!B:G,6,0))","v":"-"}]
[16,"Vaclav Svoboda",{"$f":"VLOOKUP(B25,Pilot!A:C,3,0)","v":"Letkov"},{"$f":"VLOOKUP(B25,Pilot!A:C,2,0)","v":1970},{"$f":"VLOOKUP(B25,Pilot!A:E,5,0)","v":"M"},{"$f":"VLOOKUP(B25,Pilot!A:F,6,0)","v":""},16,null,1,{"$f":"IF(COUNTIF('N PMČR 2021'!B:B,B25)=0,\"-\",COUNTIF('N PMČR 2021'!B:B,B25))","v":"-"},{"$f":"IF(ISERROR(VLOOKUP(B25,'N PMČR 2021'!B:G,6,0)),\"-\",VLOOKUP(B25,'N PMČR 2021'!B:G,6,0))","v":"-"},{"$f":"IF(COUNTIF('N PMČRj 2021'!B:B,B25)=0,\"-\",COUNTIF('N PMČRj 2021'!B:B,B25))","v":"-"},{"$f":"IF(ISERROR(VLOOKUP(B25,'N PMČRj 2021'!B:G,6,0)),\"-\",VLOOKUP(B25,'N PMČRj 2021'!B:G,6,0))","v":"-"}]
["6.8.5.2.","prvních 10 soutěžících z posledního platného PMRg, kteří nepostoupili na PMČR v roce konání PMRg, v pořadí podle korigovaných bodů ze všech tříd (bez náhradníků)"]
[null,"V případě neplatnosti některé ze soutěžních tříd posledního PMRg budou pro výpočet korigovaných bodů použity výsledky z posledního platného PMRg v dané třídě."]
[null,"PMRg 2019 - Vysoké Mýto - Korigované body"]
["-","-",null,{"$f":"VLOOKUP(B29,Pilot!A:C,2,0)","v":" "},{"$f":"VLOOKUP(B29,Pilot!A:E,5,0)","v":" "},{"$f":"VLOOKUP(B29,Pilot!A:F,6,0)","v":" "},{"$f":"A29","v":"-"},null,{"$f":"COUNTIF(B:B,B29)","v":60},{"$f":"IF(COUNTIF('N PMČR 2021'!B:B,B29)=0,\"-\",COUNTIF('N PMČR 2021'!B:B,B29))","v":5},{"$f":"IF(ISERROR(VLOOKUP(B29,'N PMČR 2021'!B:G,6,0)),\"-\",VLOOKUP(B29,'N PMČR 2021'!B:G,6,0))","v":"81."},{"$f":"IF(COUNTIF('N PMČRj 2021'!B:B,B29)=0,\"-\",COUNTIF('N PMČRj 2021'!B:B,B29))","v":40},{"$f":"IF(ISERROR(VLOOKUP(B29,'N PMČRj 2021'!B:G,6,0)),\"-\",VLOOKUP(B29,'N PMČRj 2021'!B:G,6,0))","v":16}]
["6.8.5.3.","soutěžící z regionů Čechy 1, Čechy 2 a Morava v pořadí podle celkového umístění v CPS-INT předcházejícího roku konání PMRg do naplnění celkového počtu minimálně 60 nominovaných (+ 10 náhradníků)"]
[{"$f":"MAX(A8:A30)+1","v":17},"-",{"$f":"VLOOKUP(B31,Pilot!A:C,3,0)","v":" "},{"$f":"VLOOKUP(B31,Pilot!A:C,2,0)","v":" "},{"$f":"VLOOKUP(B31,Pilot!A:E,5,0)","v":" "},{"$f":"VLOOKUP(B31,Pilot!A:F,6,0)","v":" "},{"$f":"A31","v":17},null,{"$f":"COUNTIF(B:B,B31)","v":60},{"$f":"IF(COUNTIF('N PMČR 2021'!B:B,B31)=0,\"-\",COUNTIF('N PMČR 2021'!B:B,B31))","v":5},{"$f":"IF(ISERROR(VLOOKUP(B31,'N PMČR 2021'!B:G,6,0)),\"-\",VLOOKUP(B31,'N PMČR 2021'!B:G,6,0))","v":"81."},{"$f":"IF(COUNTIF('N PMČRj 2021'!B:B,B31)=0,\"-\",COUNTIF('N PMČRj 2021'!B:B,B31))","v":40},{"$f":"IF(ISERROR(VLOOKUP(B31,'N PMČRj 2021'!B:G,6,0)),\"-\",VLOOKUP(B31,'N PMČRj 2021'!B:G,6,0))","v":16}]
[{"$f":"A31+1","v":18},"-",{"$f":"VLOOKUP(B32,Pilot!A:C,3,0)","v":" "},{"$f":"VLOOKUP(B32,Pilot!A:C,2,0)","v":" "},{"$f":"VLOOKUP(B32,Pilot!A:E,5,0)","v":" "},{"$f":"VLOOKUP(B32,Pilot!A:F,6,0)","v":" "},18,null,60,{"$f":"IF(COUNTIF('N PMČR 2021'!B:B,B32)=0,\"-\",COUNTIF('N PMČR 2021'!B:B,B32))","v":5},{"$f":"IF(ISERROR(VLOOKUP(B32,'N PMČR 2021'!B:G,6,0)),\"-\",VLOOKUP(B32,'N PMČR 2021'!B:G,6,0))","v":"81."},{"$f":"IF(COUNTIF('N PMČRj 2021'!B:B,B32)=0,\"-\",COUNTIF('N PMČRj 2021'!B:B,B32))","v":40},{"$f":"IF(ISERROR(VLOOKUP(B32,'N PMČRj 2021'!B:G,6,0)),\"-\",VLOOKUP(B32,'N PMČRj 2021'!B:G,6,0))","v":16}]
[{"$f":"A32+1","v":19},"-",{"$f":"VLOOKUP(B33,Pilot!A:C,3,0)","v":" "},{"$f":"VLOOKUP(B33,Pilot!A:C,2,0)","v":" "},{"$f":"VLOOKUP(B33,Pilot!A:E,5,0)","v":" "},{"$f":"VLOOKUP(B33,Pilot!A:F,6,0)","v":" "},19,null,60,{"$f":"IF(COUNTIF('N PMČR 2021'!B:B,B33)=0,\"-\",COUNTIF('N PMČR 2021'!B:B,B33))","v":5},{"$f":"IF(ISERROR(VLOOKUP(B33,'N PMČR 2021'!B:G,6,0)),\"-\",VLOOKUP(B33,'N PMČR 2021'!B:G,6,0))","v":"81."},{"$f":"IF(COUNTIF('N PMČRj 2021'!B:B,B33)=0,\"-\",COUNTIF('N PMČRj 2021'!B:B,B33))","v":40},{"$f":"IF(ISERROR(VLOOKUP(B33,'N PMČRj 2021'!B:G,6,0)),\"-\",VLOOKUP(B33,'N PMČRj 2021'!B:G,6,0))","v":16}]
[20,"-",{"$f":"VLOOKUP(B34,Pilot!A:C,3,0)","v":" "},{"$f":"VLOOKUP(B34,Pilot!A:C,2,0)","v":" "},{"$f":"VLOOKUP(B34,Pilot!A:E,5,0)","v":" "},{"$f":"VLOOKUP(B34,Pilot!A:F,6,0)","v":" "},20,null,60,{"$f":"IF(COUNTIF('N PMČR 2021'!B:B,B34)=0,\"-\",COUNTIF('N PMČR 2021'!B:B,B34))","v":5},{"$f":"IF(ISERROR(VLOOKUP(B34,'N PMČR 2021'!B:G,6,0)),\"-\",VLOOKUP(B34,'N PMČR 2021'!B:G,6,0))","v":"81."},{"$f":"IF(COUNTIF('N PMČRj 2021'!B:B,B34)=0,\"-\",COUNTIF('N PMČRj 2021'!B:B,B34))","v":40},{"$f":"IF(ISERROR(VLOOKUP(B34,'N PMČRj 2021'!B:G,6,0)),\"-\",VLOOKUP(B34,'N PMČRj 2021'!B:G,6,0))","v":16}]
[21,"-",{"$f":"VLOOKUP(B35,Pilot!A:C,3,0)","v":" "},{"$f":"VLOOKUP(B35,Pilot!A:C,2,0)","v":" "},{"$f":"VLOOKUP(B35,Pilot!A:E,5,0)","v":" "},{"$f":"VLOOKUP(B35,Pilot!A:F,6,0)","v":" "},21,null,60,{"$f":"IF(COUNTIF('N PMČR 2021'!B:B,B35)=0,\"-\",COUNTIF('N PMČR 2021'!B:B,B35))","v":5},{"$f":"IF(ISERROR(VLOOKUP(B35,'N PMČR 2021'!B:G,6,0)),\"-\",VLOOKUP(B35,'N PMČR 2021'!B:G,6,0))","v":"81."},{"$f":"IF(COUNTIF('N PMČRj 2021'!B:B,B35)=0,\"-\",COUNTIF('N PMČRj 2021'!B:B,B35))","v":40},{"$f":"IF(ISERROR(VLOOKUP(B35,'N PMČRj 2021'!B:G,6,0)),\"-\",VLOOKUP(B35,'N PMČRj 2021'!B:G,6,0))","v":16}]
[22,"-",{"$f":"VLOOKUP(B36,Pilot!A:C,3,0)","v":" "},{"$f":"VLOOKUP(B36,Pilot!A:C,2,0)","v":" "},{"$f":"VLOOKUP(B36,Pilot!A:E,5,0)","v":" "},{"$f":"VLOOKUP(B36,Pilot!A:F,6,0)","v":" "},22,null,60,{"$f":"IF(COUNTIF('N PMČR 2021'!B:B,B36)=0,\"-\",COUNTIF('N PMČR 2021'!B:B,B36))","v":5},{"$f":"IF(ISERROR(VLOOKUP(B36,'N PMČR 2021'!B:G,6,0)),\"-\",VLOOKUP(B36,'N PMČR 2021'!B:G,6,0))","v":"81."},{"$f":"IF(COUNTIF('N PMČRj 2021'!B:B,B36)=0,\"-\",COUNTIF('N PMČRj 2021'!B:B,B36))","v":40},{"$f":"IF(ISERROR(VLOOKUP(B36,'N PMČRj 2021'!B:G,6,0)),\"-\",VLOOKUP(B36,'N PMČRj 2021'!B:G,6,0))","v":16}]
[23,"-",{"$f":"VLOOKUP(B37,Pilot!A:C,3,0)","v":" "},{"$f":"VLOOKUP(B37,Pilot!A:C,2,0)","v":" "},{"$f":"VLOOKUP(B37,Pilot!A:E,5,0)","v":" "},{"$f":"VLOOKUP(B37,Pilot!A:F,6,0)","v":" "},23,null,60,{"$f":"IF(COUNTIF('N PMČR 2021'!B:B,B37)=0,\"-\",COUNTIF('N PMČR 2021'!B:B,B37))","v":5},{"$f":"IF(ISERROR(VLOOKUP(B37,'N PMČR 2021'!B:G,6,0)),\"-\",VLOOKUP(B37,'N PMČR 2021'!B:G,6,0))","v":"81."},{"$f":"IF(COUNTIF('N PMČRj 2021'!B:B,B37)=0,\"-\",COUNTIF('N PMČRj 2021'!B:B,B37))","v":40},{"$f":"IF(ISERROR(VLOOKUP(B37,'N PMČRj 2021'!B:G,6,0)),\"-\",VLOOKUP(B37,'N PMČRj 2021'!B:G,6,0))","v":16}]
[24,"-",{"$f":"VLOOKUP(B38,Pilot!A:C,3,0)","v":" "},{"$f":"VLOOKUP(B38,Pilot!A:C,2,0)","v":" "},{"$f":"VLOOKUP(B38,Pilot!A:E,5,0)","v":" "},{"$f":"VLOOKUP(B38,Pilot!A:F,6,0)","v":" "},24,null,60,{"$f":"IF(COUNTIF('N PMČR 2021'!B:B,B38)=0,\"-\",COUNTIF('N PMČR 2021'!B:B,B38))","v":5},{"$f":"IF(ISERROR(VLOOKUP(B38,'N PMČR 2021'!B:G,6,0)),\"-\",VLOOKUP(B38,'N PMČR 2021'!B:G,6,0))","v":"81."},{"$f":"IF(COUNTIF('N PMČRj 2021'!B:B,B38)=0,\"-\",COUNTIF('N PMČRj 2021'!B:B,B38))","v":40},{"$f":"IF(ISERROR(VLOOKUP(B38,'N PMČRj 2021'!B:G,6,0)),\"-\",VLOOKUP(B38,'N PMČRj 2021'!B:G,6,0))","v":16}]
[25,"-",{"$f":"VLOOKUP(B39,Pilot!A:C,3,0)","v":" "},{"$f":"VLOOKUP(B39,Pilot!A:C,2,0)","v":" "},{"$f":"VLOOKUP(B39,Pilot!A:E,5,0)","v":" "},{"$f":"VLOOKUP(B39,Pilot!A:F,6,0)","v":" "},25,null,60,{"$f":"IF(COUNTIF('N PMČR 2021'!B:B,B39)=0,\"-\",COUNTIF('N PMČR 2021'!B:B,B39))","v":5},{"$f":"IF(ISERROR(VLOOKUP(B39,'N PMČR 2021'!B:G,6,0)),\"-\",VLOOKUP(B39,'N PMČR 2021'!B:G,6,0))","v":"81."},{"$f":"IF(COUNTIF('N PMČRj 2021'!B:B,B39)=0,\"-\",COUNTIF('N PMČRj 2021'!B:B,B39))","v":40},{"$f":"IF(ISERROR(VLOOKUP(B39,'N PMČRj 2021'!B:G,6,0)),\"-\",VLOOKUP(B39,'N PMČRj 2021'!B:G,6,0))","v":16}]
[26,"-",{"$f":"VLOOKUP(B40,Pilot!A:C,3,0)","v":" "},{"$f":"VLOOKUP(B40,Pilot!A:C,2,0)","v":" "},{"$f":"VLOOKUP(B40,Pilot!A:E,5,0)","v":" "},{"$f":"VLOOKUP(B40,Pilot!A:F,6,0)","v":" "},26,null,60,{"$f":"IF(COUNTIF('N PMČR 2021'!B:B,B40)=0,\"-\",COUNTIF('N PMČR 2021'!B:B,B40))","v":5},{"$f":"IF(ISERROR(VLOOKUP(B40,'N PMČR 2021'!B:G,6,0)),\"-\",VLOOKUP(B40,'N PMČR 2021'!B:G,6,0))","v":"81."},{"$f":"IF(COUNTIF('N PMČRj 2021'!B:B,B40)=0,\"-\",COUNTIF('N PMČRj 2021'!B:B,B40))","v":40},{"$f":"IF(ISERROR(VLOOKUP(B40,'N PMČRj 2021'!B:G,6,0)),\"-\",VLOOKUP(B40,'N PMČRj 2021'!B:G,6,0))","v":16}]
[27,"-",{"$f":"VLOOKUP(B41,Pilot!A:C,3,0)","v":" "},{"$f":"VLOOKUP(B41,Pilot!A:C,2,0)","v":" "},{"$f":"VLOOKUP(B41,Pilot!A:E,5,0)","v":" "},{"$f":"VLOOKUP(B41,Pilot!A:F,6,0)","v":" "},27,null,60,{"$f":"IF(COUNTIF('N PMČR 2021'!B:B,B41)=0,\"-\",COUNTIF('N PMČR 2021'!B:B,B41))","v":5},{"$f":"IF(ISERROR(VLOOKUP(B41,'N PMČR 2021'!B:G,6,0)),\"-\",VLOOKUP(B41,'N PMČR 2021'!B:G,6,0))","v":"81."},{"$f":"IF(COUNTIF('N PMČRj 2021'!B:B,B41)=0,\"-\",COUNTIF('N PMČRj 2021'!B:B,B41))","v":40},{"$f":"IF(ISERROR(VLOOKUP(B41,'N PMČRj 2021'!B:G,6,0)),\"-\",VLOOKUP(B41,'N PMČRj 2021'!B:G,6,0))","v":16}]
[28,"-",{"$f":"VLOOKUP(B42,Pilot!A:C,3,0)","v":" "},{"$f":"VLOOKUP(B42,Pilot!A:C,2,0)","v":" "},{"$f":"VLOOKUP(B42,Pilot!A:E,5,0)","v":" "},{"$f":"VLOOKUP(B42,Pilot!A:F,6,0)","v":" "},28,null,60,{"$f":"IF(COUNTIF('N PMČR 2021'!B:B,B42)=0,\"-\",COUNTIF('N PMČR 2021'!B:B,B42))","v":5},{"$f":"IF(ISERROR(VLOOKUP(B42,'N PMČR 2021'!B:G,6,0)),\"-\",VLOOKUP(B42,'N PMČR 2021'!B:G,6,0))","v":"81."},{"$f":"IF(COUNTIF('N PMČRj 2021'!B:B,B42)=0,\"-\",COUNTIF('N PMČRj 2021'!B:B,B42))","v":40},{"$f":"IF(ISERROR(VLOOKUP(B42,'N PMČRj 2021'!B:G,6,0)),\"-\",VLOOKUP(B42,'N PMČRj 2021'!B:G,6,0))","v":16}]
[29,"-",{"$f":"VLOOKUP(B43,Pilot!A:C,3,0)","v":" "},{"$f":"VLOOKUP(B43,Pilot!A:C,2,0)","v":" "},{"$f":"VLOOKUP(B43,Pilot!A:E,5,0)","v":" "},{"$f":"VLOOKUP(B43,Pilot!A:F,6,0)","v":" "},29,null,60,{"$f":"IF(COUNTIF('N PMČR 2021'!B:B,B43)=0,\"-\",COUNTIF('N PMČR 2021'!B:B,B43))","v":5},{"$f":"IF(ISERROR(VLOOKUP(B43,'N PMČR 2021'!B:G,6,0)),\"-\",VLOOKUP(B43,'N PMČR 2021'!B:G,6,0))","v":"81."},{"$f":"IF(COUNTIF('N PMČRj 2021'!B:B,B43)=0,\"-\",COUNTIF('N PMČRj 2021'!B:B,B43))","v":40},{"$f":"IF(ISERROR(VLOOKUP(B43,'N PMČRj 2021'!B:G,6,0)),\"-\",VLOOKUP(B43,'N PMČRj 2021'!B:G,6,0))","v":16}]
[30,"-",{"$f":"VLOOKUP(B44,Pilot!A:C,3,0)","v":" "},{"$f":"VLOOKUP(B44,Pilot!A:C,2,0)","v":" "},{"$f":"VLOOKUP(B44,Pilot!A:E,5,0)","v":" "},{"$f":"VLOOKUP(B44,Pilot!A:F,6,0)","v":" "},30,null,60,{"$f":"IF(COUNTIF('N PMČR 2021'!B:B,B44)=0,\"-\",COUNTIF('N PMČR 2021'!B:B,B44))","v":5},{"$f":"IF(ISERROR(VLOOKUP(B44,'N PMČR 2021'!B:G,6,0)),\"-\",VLOOKUP(B44,'N PMČR 2021'!B:G,6,0))","v":"81."},{"$f":"IF(COUNTIF('N PMČRj 2021'!B:B,B44)=0,\"-\",COUNTIF('N PMČRj 2021'!B:B,B44))","v":40},{"$f":"IF(ISERROR(VLOOKUP(B44,'N PMČRj 2021'!B:G,6,0)),\"-\",VLOOKUP(B44,'N PMČRj 2021'!B:G,6,0))","v":16}]
[31,"-",{"$f":"VLOOKUP(B45,Pilot!A:C,3,0)","v":" "},{"$f":"VLOOKUP(B45,Pilot!A:C,2,0)","v":" "},{"$f":"VLOOKUP(B45,Pilot!A:E,5,0)","v":" "},{"$f":"VLOOKUP(B45,Pilot!A:F,6,0)","v":" "},31,null,60,{"$f":"IF(COUNTIF('N PMČR 2021'!B:B,B45)=0,\"-\",COUNTIF('N PMČR 2021'!B:B,B45))","v":5},{"$f":"IF(ISERROR(VLOOKUP(B45,'N PMČR 2021'!B:G,6,0)),\"-\",VLOOKUP(B45,'N PMČR 2021'!B:G,6,0))","v":"81."},{"$f":"IF(COUNTIF('N PMČRj 2021'!B:B,B45)=0,\"-\",COUNTIF('N PMČRj 2021'!B:B,B45))","v":40},{"$f":"IF(ISERROR(VLOOKUP(B45,'N PMČRj 2021'!B:G,6,0)),\"-\",VLOOKUP(B45,'N PMČRj 2021'!B:G,6,0))","v":16}]
[32,"-",{"$f":"VLOOKUP(B46,Pilot!A:C,3,0)","v":" "},{"$f":"VLOOKUP(B46,Pilot!A:C,2,0)","v":" "},{"$f":"VLOOKUP(B46,Pilot!A:E,5,0)","v":" "},{"$f":"VLOOKUP(B46,Pilot!A:F,6,0)","v":" "},32,null,60,{"$f":"IF(COUNTIF('N PMČR 2021'!B:B,B46)=0,\"-\",COUNTIF('N PMČR 2021'!B:B,B46))","v":5},{"$f":"IF(ISERROR(VLOOKUP(B46,'N PMČR 2021'!B:G,6,0)),\"-\",VLOOKUP(B46,'N PMČR 2021'!B:G,6,0))","v":"81."},{"$f":"IF(COUNTIF('N PMČRj 2021'!B:B,B46)=0,\"-\",COUNTIF('N PMČRj 2021'!B:B,B46))","v":40},{"$f":"IF(ISERROR(VLOOKUP(B46,'N PMČRj 2021'!B:G,6,0)),\"-\",VLOOKUP(B46,'N PMČRj 2021'!B:G,6,0))","v":16}]
[33,"-",{"$f":"VLOOKUP(B47,Pilot!A:C,3,0)","v":" "},{"$f":"VLOOKUP(B47,Pilot!A:C,2,0)","v":" "},{"$f":"VLOOKUP(B47,Pilot!A:E,5,0)","v":" "},{"$f":"VLOOKUP(B47,Pilot!A:F,6,0)","v":" "},33,null,60,{"$f":"IF(COUNTIF('N PMČR 2021'!B:B,B47)=0,\"-\",COUNTIF('N PMČR 2021'!B:B,B47))","v":5},{"$f":"IF(ISERROR(VLOOKUP(B47,'N PMČR 2021'!B:G,6,0)),\"-\",VLOOKUP(B47,'N PMČR 2021'!B:G,6,0))","v":"81."},{"$f":"IF(COUNTIF('N PMČRj 2021'!B:B,B47)=0,\"-\",COUNTIF('N PMČRj 2021'!B:B,B47))","v":40},{"$f":"IF(ISERROR(VLOOKUP(B47,'N PMČRj 2021'!B:G,6,0)),\"-\",VLOOKUP(B47,'N PMČRj 2021'!B:G,6,0))","v":16}]
[34,"-",{"$f":"VLOOKUP(B48,Pilot!A:C,3,0)","v":" "},{"$f":"VLOOKUP(B48,Pilot!A:C,2,0)","v":" "},{"$f":"VLOOKUP(B48,Pilot!A:E,5,0)","v":" "},{"$f":"VLOOKUP(B48,Pilot!A:F,6,0)","v":" "},34,null,60,{"$f":"IF(COUNTIF('N PMČR 2021'!B:B,B48)=0,\"-\",COUNTIF('N PMČR 2021'!B:B,B48))","v":5},{"$f":"IF(ISERROR(VLOOKUP(B48,'N PMČR 2021'!B:G,6,0)),\"-\",VLOOKUP(B48,'N PMČR 2021'!B:G,6,0))","v":"81."},{"$f":"IF(COUNTIF('N PMČRj 2021'!B:B,B48)=0,\"-\",COUNTIF('N PMČRj 2021'!B:B,B48))","v":40},{"$f":"IF(ISERROR(VLOOKUP(B48,'N PMČRj 2021'!B:G,6,0)),\"-\",VLOOKUP(B48,'N PMČRj 2021'!B:G,6,0))","v":16}]
[35,"-",{"$f":"VLOOKUP(B49,Pilot!A:C,3,0)","v":" "},{"$f":"VLOOKUP(B49,Pilot!A:C,2,0)","v":" "},{"$f":"VLOOKUP(B49,Pilot!A:E,5,0)","v":" "},{"$f":"VLOOKUP(B49,Pilot!A:F,6,0)","v":" "},35,null,60,{"$f":"IF(COUNTIF('N PMČR 2021'!B:B,B49)=0,\"-\",COUNTIF('N PMČR 2021'!B:B,B49))","v":5},{"$f":"IF(ISERROR(VLOOKUP(B49,'N PMČR 2021'!B:G,6,0)),\"-\",VLOOKUP(B49,'N PMČR 2021'!B:G,6,0))","v":"81."},{"$f":"IF(COUNTIF('N PMČRj 2021'!B:B,B49)=0,\"-\",COUNTIF('N PMČRj 2021'!B:B,B49))","v":40},{"$f":"IF(ISERROR(VLOOKUP(B49,'N PMČRj 2021'!B:G,6,0)),\"-\",VLOOKUP(B49,'N PMČRj 2021'!B:G,6,0))","v":16}]
[36,"-",{"$f":"VLOOKUP(B50,Pilot!A:C,3,0)","v":" "},{"$f":"VLOOKUP(B50,Pilot!A:C,2,0)","v":" "},{"$f":"VLOOKUP(B50,Pilot!A:E,5,0)","v":" "},{"$f":"VLOOKUP(B50,Pilot!A:F,6,0)","v":" "},{"$f":"A50","v":36},null,60,{"$f":"IF(COUNTIF('N PMČR 2021'!B:B,B50)=0,\"-\",COUNTIF('N PMČR 2021'!B:B,B50))","v":5},{"$f":"IF(ISERROR(VLOOKUP(B50,'N PMČR 2021'!B:G,6,0)),\"-\",VLOOKUP(B50,'N PMČR 2021'!B:G,6,0))","v":"81."},{"$f":"IF(COUNTIF('N PMČRj 2021'!B:B,B50)=0,\"-\",COUNTIF('N PMČRj 2021'!B:B,B50))","v":40},{"$f":"IF(ISERROR(VLOOKUP(B50,'N PMČRj 2021'!B:G,6,0)),\"-\",VLOOKUP(B50,'N PMČRj 2021'!B:G,6,0))","v":16}]
[37,"-",{"$f":"VLOOKUP(B51,Pilot!A:C,3,0)","v":" "},{"$f":"VLOOKUP(B51,Pilot!A:C,2,0)","v":" "},{"$f":"VLOOKUP(B51,Pilot!A:E,5,0)","v":" "},{"$f":"VLOOKUP(B51,Pilot!A:F,6,0)","v":" "},37,null,60,{"$f":"IF(COUNTIF('N PMČR 2021'!B:B,B51)=0,\"-\",COUNTIF('N PMČR 2021'!B:B,B51))","v":5},{"$f":"IF(ISERROR(VLOOKUP(B51,'N PMČR 2021'!B:G,6,0)),\"-\",VLOOKUP(B51,'N PMČR 2021'!B:G,6,0))","v":"81."},{"$f":"IF(COUNTIF('N PMČRj 2021'!B:B,B51)=0,\"-\",COUNTIF('N PMČRj 2021'!B:B,B51))","v":40},{"$f":"IF(ISERROR(VLOOKUP(B51,'N PMČRj 2021'!B:G,6,0)),\"-\",VLOOKUP(B51,'N PMČRj 2021'!B:G,6,0))","v":16}]
[38,"-",{"$f":"VLOOKUP(B52,Pilot!A:C,3,0)","v":" "},{"$f":"VLOOKUP(B52,Pilot!A:C,2,0)","v":" "},{"$f":"VLOOKUP(B52,Pilot!A:E,5,0)","v":" "},{"$f":"VLOOKUP(B52,Pilot!A:F,6,0)","v":" "},38,null,60,{"$f":"IF(COUNTIF('N PMČR 2021'!B:B,B52)=0,\"-\",COUNTIF('N PMČR 2021'!B:B,B52))","v":5},{"$f":"IF(ISERROR(VLOOKUP(B52,'N PMČR 2021'!B:G,6,0)),\"-\",VLOOKUP(B52,'N PMČR 2021'!B:G,6,0))","v":"81."},{"$f":"IF(COUNTIF('N PMČRj 2021'!B:B,B52)=0,\"-\",COUNTIF('N PMČRj 2021'!B:B,B52))","v":40},{"$f":"IF(ISERROR(VLOOKUP(B52,'N PMČRj 2021'!B:G,6,0)),\"-\",VLOOKUP(B52,'N PMČRj 2021'!B:G,6,0))","v":16}]
[39,"-",{"$f":"VLOOKUP(B53,Pilot!A:C,3,0)","v":" "},{"$f":"VLOOKUP(B53,Pilot!A:C,2,0)","v":" "},{"$f":"VLOOKUP(B53,Pilot!A:E,5,0)","v":" "},{"$f":"VLOOKUP(B53,Pilot!A:F,6,0)","v":" "},39,null,60,{"$f":"IF(COUNTIF('N PMČR 2021'!B:B,B53)=0,\"-\",COUNTIF('N PMČR 2021'!B:B,B53))","v":5},{"$f":"IF(ISERROR(VLOOKUP(B53,'N PMČR 2021'!B:G,6,0)),\"-\",VLOOKUP(B53,'N PMČR 2021'!B:G,6,0))","v":"81."},{"$f":"IF(COUNTIF('N PMČRj 2021'!B:B,B53)=0,\"-\",COUNTIF('N PMČRj 2021'!B:B,B53))","v":40},{"$f":"IF(ISERROR(VLOOKUP(B53,'N PMČRj 2021'!B:G,6,0)),\"-\",VLOOKUP(B53,'N PMČRj 2021'!B:G,6,0))","v":16}]
[40,"-",{"$f":"VLOOKUP(B54,Pilot!A:C,3,0)","v":" "},{"$f":"VLOOKUP(B54,Pilot!A:C,2,0)","v":" "},{"$f":"VLOOKUP(B54,Pilot!A:E,5,0)","v":" "},{"$f":"VLOOKUP(B54,Pilot!A:F,6,0)","v":" "},40,null,60,{"$f":"IF(COUNTIF('N PMČR 2021'!B:B,B54)=0,\"-\",COUNTIF('N PMČR 2021'!B:B,B54))","v":5},{"$f":"IF(ISERROR(VLOOKUP(B54,'N PMČR 2021'!B:G,6,0)),\"-\",VLOOKUP(B54,'N PMČR 2021'!B:G,6,0))","v":"81."},{"$f":"IF(COUNTIF('N PMČRj 2021'!B:B,B54)=0,\"-\",COUNTIF('N PMČRj 2021'!B:B,B54))","v":40},{"$f":"IF(ISERROR(VLOOKUP(B54,'N PMČRj 2021'!B:G,6,0)),\"-\",VLOOKUP(B54,'N PMČRj 2021'!B:G,6,0))","v":16}]
[41,"-",{"$f":"VLOOKUP(B55,Pilot!A:C,3,0)","v":" "},{"$f":"VLOOKUP(B55,Pilot!A:C,2,0)","v":" "},{"$f":"VLOOKUP(B55,Pilot!A:E,5,0)","v":" "},{"$f":"VLOOKUP(B55,Pilot!A:F,6,0)","v":" "},41,null,60,{"$f":"IF(COUNTIF('N PMČR 2021'!B:B,B55)=0,\"-\",COUNTIF('N PMČR 2021'!B:B,B55))","v":5},{"$f":"IF(ISERROR(VLOOKUP(B55,'N PMČR 2021'!B:G,6,0)),\"-\",VLOOKUP(B55,'N PMČR 2021'!B:G,6,0))","v":"81."},{"$f":"IF(COUNTIF('N PMČRj 2021'!B:B,B55)=0,\"-\",COUNTIF('N PMČRj 2021'!B:B,B55))","v":40},{"$f":"IF(ISERROR(VLOOKUP(B55,'N PMČRj 2021'!B:G,6,0)),\"-\",VLOOKUP(B55,'N PMČRj 2021'!B:G,6,0))","v":16}]
[42,"-",{"$f":"VLOOKUP(B56,Pilot!A:C,3,0)","v":" "},{"$f":"VLOOKUP(B56,Pilot!A:C,2,0)","v":" "},{"$f":"VLOOKUP(B56,Pilot!A:E,5,0)","v":" "},{"$f":"VLOOKUP(B56,Pilot!A:F,6,0)","v":" "},{"$f":"A56","v":42},null,60,{"$f":"IF(COUNTIF('N PMČR 2021'!B:B,B56)=0,\"-\",COUNTIF('N PMČR 2021'!B:B,B56))","v":5},{"$f":"IF(ISERROR(VLOOKUP(B56,'N PMČR 2021'!B:G,6,0)),\"-\",VLOOKUP(B56,'N PMČR 2021'!B:G,6,0))","v":"81."},{"$f":"IF(COUNTIF('N PMČRj 2021'!B:B,B56)=0,\"-\",COUNTIF('N PMČRj 2021'!B:B,B56))","v":40},{"$f":"IF(ISERROR(VLOOKUP(B56,'N PMČRj 2021'!B:G,6,0)),\"-\",VLOOKUP(B56,'N PMČRj 2021'!B:G,6,0))","v":16}]
[43,"-",{"$f":"VLOOKUP(B57,Pilot!A:C,3,0)","v":" "},{"$f":"VLOOKUP(B57,Pilot!A:C,2,0)","v":" "},{"$f":"VLOOKUP(B57,Pilot!A:E,5,0)","v":" "},{"$f":"VLOOKUP(B57,Pilot!A:F,6,0)","v":" "},43,null,60,{"$f":"IF(COUNTIF('N PMČR 2021'!B:B,B57)=0,\"-\",COUNTIF('N PMČR 2021'!B:B,B57))","v":5},{"$f":"IF(ISERROR(VLOOKUP(B57,'N PMČR 2021'!B:G,6,0)),\"-\",VLOOKUP(B57,'N PMČR 2021'!B:G,6,0))","v":"81."},{"$f":"IF(COUNTIF('N PMČRj 2021'!B:B,B57)=0,\"-\",COUNTIF('N PMČRj 2021'!B:B,B57))","v":40},{"$f":"IF(ISERROR(VLOOKUP(B57,'N PMČRj 2021'!B:G,6,0)),\"-\",VLOOKUP(B57,'N PMČRj 2021'!B:G,6,0))","v":16}]
[44,"-",{"$f":"VLOOKUP(B58,Pilot!A:C,3,0)","v":" "},{"$f":"VLOOKUP(B58,Pilot!A:C,2,0)","v":" "},{"$f":"VLOOKUP(B58,Pilot!A:E,5,0)","v":" "},{"$f":"VLOOKUP(B58,Pilot!A:F,6,0)","v":" "},44,null,60,{"$f":"IF(COUNTIF('N PMČR 2021'!B:B,B58)=0,\"-\",COUNTIF('N PMČR 2021'!B:B,B58))","v":5},{"$f":"IF(ISERROR(VLOOKUP(B58,'N PMČR 2021'!B:G,6,0)),\"-\",VLOOKUP(B58,'N PMČR 2021'!B:G,6,0))","v":"81."},{"$f":"IF(COUNTIF('N PMČRj 2021'!B:B,B58)=0,\"-\",COUNTIF('N PMČRj 2021'!B:B,B58))","v":40},{"$f":"IF(ISERROR(VLOOKUP(B58,'N PMČRj 2021'!B:G,6,0)),\"-\",VLOOKUP(B58,'N PMČRj 2021'!B:G,6,0))","v":16}]
[45,"-",{"$f":"VLOOKUP(B59,Pilot!A:C,3,0)","v":" "},{"$f":"VLOOKUP(B59,Pilot!A:C,2,0)","v":" "},{"$f":"VLOOKUP(B59,Pilot!A:E,5,0)","v":" "},{"$f":"VLOOKUP(B59,Pilot!A:F,6,0)","v":" "},45,null,60,{"$f":"IF(COUNTIF('N PMČR 2021'!B:B,B59)=0,\"-\",COUNTIF('N PMČR 2021'!B:B,B59))","v":5},{"$f":"IF(ISERROR(VLOOKUP(B59,'N PMČR 2021'!B:G,6,0)),\"-\",VLOOKUP(B59,'N PMČR 2021'!B:G,6,0))","v":"81."},{"$f":"IF(COUNTIF('N PMČRj 2021'!B:B,B59)=0,\"-\",COUNTIF('N PMČRj 2021'!B:B,B59))","v":40},{"$f":"IF(ISERROR(VLOOKUP(B59,'N PMČRj 2021'!B:G,6,0)),\"-\",VLOOKUP(B59,'N PMČRj 2021'!B:G,6,0))","v":16}]
[46,"-",{"$f":"VLOOKUP(B60,Pilot!A:C,3,0)","v":" "},{"$f":"VLOOKUP(B60,Pilot!A:C,2,0)","v":" "},{"$f":"VLOOKUP(B60,Pilot!A:E,5,0)","v":" "},{"$f":"VLOOKUP(B60,Pilot!A:F,6,0)","v":" "},46,null,60,{"$f":"IF(COUNTIF('N PMČR 2021'!B:B,B60)=0,\"-\",COUNTIF('N PMČR 2021'!B:B,B60))","v":5},{"$f":"IF(ISERROR(VLOOKUP(B60,'N PMČR 2021'!B:G,6,0)),\"-\",VLOOKUP(B60,'N PMČR 2021'!B:G,6,0))","v":"81."},{"$f":"IF(COUNTIF('N PMČRj 2021'!B:B,B60)=0,\"-\",COUNTIF('N PMČRj 2021'!B:B,B60))","v":40},{"$f":"IF(ISERROR(VLOOKUP(B60,'N PMČRj 2021'!B:G,6,0)),\"-\",VLOOKUP(B60,'N PMČRj 2021'!B:G,6,0))","v":16}]
[47,"-",{"$f":"VLOOKUP(B61,Pilot!A:C,3,0)","v":" "},{"$f":"VLOOKUP(B61,Pilot!A:C,2,0)","v":" "},{"$f":"VLOOKUP(B61,Pilot!A:E,5,0)","v":" "},{"$f":"VLOOKUP(B61,Pilot!A:F,6,0)","v":" "},{"$f":"A61","v":47},null,60,{"$f":"IF(COUNTIF('N PMČR 2021'!B:B,B61)=0,\"-\",COUNTIF('N PMČR 2021'!B:B,B61))","v":5},{"$f":"IF(ISERROR(VLOOKUP(B61,'N PMČR 2021'!B:G,6,0)),\"-\",VLOOKUP(B61,'N PMČR 2021'!B:G,6,0))","v":"81."},{"$f":"IF(COUNTIF('N PMČRj 2021'!B:B,B61)=0,\"-\",COUNTIF('N PMČRj 2021'!B:B,B61))","v":40},{"$f":"IF(ISERROR(VLOOKUP(B61,'N PMČRj 2021'!B:G,6,0)),\"-\",VLOOKUP(B61,'N PMČRj 2021'!B:G,6,0))","v":16}]
[48,"-",{"$f":"VLOOKUP(B62,Pilot!A:C,3,0)","v":" "},{"$f":"VLOOKUP(B62,Pilot!A:C,2,0)","v":" "},{"$f":"VLOOKUP(B62,Pilot!A:E,5,0)","v":" "},{"$f":"VLOOKUP(B62,Pilot!A:F,6,0)","v":" "},48,null,60,{"$f":"IF(COUNTIF('N PMČR 2021'!B:B,B62)=0,\"-\",COUNTIF('N PMČR 2021'!B:B,B62))","v":5},{"$f":"IF(ISERROR(VLOOKUP(B62,'N PMČR 2021'!B:G,6,0)),\"-\",VLOOKUP(B62,'N PMČR 2021'!B:G,6,0))","v":"81."},{"$f":"IF(COUNTIF('N PMČRj 2021'!B:B,B62)=0,\"-\",COUNTIF('N PMČRj 2021'!B:B,B62))","v":40},{"$f":"IF(ISERROR(VLOOKUP(B62,'N PMČRj 2021'!B:G,6,0)),\"-\",VLOOKUP(B62,'N PMČRj 2021'!B:G,6,0))","v":16}]
[49,"-",{"$f":"VLOOKUP(B63,Pilot!A:C,3,0)","v":" "},{"$f":"VLOOKUP(B63,Pilot!A:C,2,0)","v":" "},{"$f":"VLOOKUP(B63,Pilot!A:E,5,0)","v":" "},{"$f":"VLOOKUP(B63,Pilot!A:F,6,0)","v":" "},49,null,{"$f":"COUNTIF(B:B,B63)","v":60},{"$f":"IF(COUNTIF('N PMČR 2021'!B:B,B63)=0,\"-\",COUNTIF('N PMČR 2021'!B:B,B63))","v":5},{"$f":"IF(ISERROR(VLOOKUP(B63,'N PMČR 2021'!B:G,6,0)),\"-\",VLOOKUP(B63,'N PMČR 2021'!B:G,6,0))","v":"81."},{"$f":"IF(COUNTIF('N PMČRj 2021'!B:B,B63)=0,\"-\",COUNTIF('N PMČRj 2021'!B:B,B63))","v":40},{"$f":"IF(ISERROR(VLOOKUP(B63,'N PMČRj 2021'!B:G,6,0)),\"-\",VLOOKUP(B63,'N PMČRj 2021'!B:G,6,0))","v":16}]
[50,"-",{"$f":"VLOOKUP(B64,Pilot!A:C,3,0)","v":" "},{"$f":"VLOOKUP(B64,Pilot!A:C,2,0)","v":" "},{"$f":"VLOOKUP(B64,Pilot!A:E,5,0)","v":" "},{"$f":"VLOOKUP(B64,Pilot!A:F,6,0)","v":" "},50,null,60,{"$f":"IF(COUNTIF('N PMČR 2021'!B:B,B64)=0,\"-\",COUNTIF('N PMČR 2021'!B:B,B64))","v":5},{"$f":"IF(ISERROR(VLOOKUP(B64,'N PMČR 2021'!B:G,6,0)),\"-\",VLOOKUP(B64,'N PMČR 2021'!B:G,6,0))","v":"81."},{"$f":"IF(COUNTIF('N PMČRj 2021'!B:B,B64)=0,\"-\",COUNTIF('N PMČRj 2021'!B:B,B64))","v":40},{"$f":"IF(ISERROR(VLOOKUP(B64,'N PMČRj 2021'!B:G,6,0)),\"-\",VLOOKUP(B64,'N PMČRj 2021'!B:G,6,0))","v":16}]
[51,"-",{"$f":"VLOOKUP(B65,Pilot!A:C,3,0)","v":" "},{"$f":"VLOOKUP(B65,Pilot!A:C,2,0)","v":" "},{"$f":"VLOOKUP(B65,Pilot!A:E,5,0)","v":" "},{"$f":"VLOOKUP(B65,Pilot!A:F,6,0)","v":" "},51,null,60,{"$f":"IF(COUNTIF('N PMČR 2021'!B:B,B65)=0,\"-\",COUNTIF('N PMČR 2021'!B:B,B65))","v":5},{"$f":"IF(ISERROR(VLOOKUP(B65,'N PMČR 2021'!B:G,6,0)),\"-\",VLOOKUP(B65,'N PMČR 2021'!B:G,6,0))","v":"81."},{"$f":"IF(COUNTIF('N PMČRj 2021'!B:B,B65)=0,\"-\",COUNTIF('N PMČRj 2021'!B:B,B65))","v":40},{"$f":"IF(ISERROR(VLOOKUP(B65,'N PMČRj 2021'!B:G,6,0)),\"-\",VLOOKUP(B65,'N PMČRj 2021'!B:G,6,0))","v":16}]
[52,"-",{"$f":"VLOOKUP(B66,Pilot!A:C,3,0)","v":" "},{"$f":"VLOOKUP(B66,Pilot!A:C,2,0)","v":" "},{"$f":"VLOOKUP(B66,Pilot!A:E,5,0)","v":" "},{"$f":"VLOOKUP(B66,Pilot!A:F,6,0)","v":" "},52,null,60,{"$f":"IF(COUNTIF('N PMČR 2021'!B:B,B66)=0,\"-\",COUNTIF('N PMČR 2021'!B:B,B66))","v":5},{"$f":"IF(ISERROR(VLOOKUP(B66,'N PMČR 2021'!B:G,6,0)),\"-\",VLOOKUP(B66,'N PMČR 2021'!B:G,6,0))","v":"81."},{"$f":"IF(COUNTIF('N PMČRj 2021'!B:B,B66)=0,\"-\",COUNTIF('N PMČRj 2021'!B:B,B66))","v":40},{"$f":"IF(ISERROR(VLOOKUP(B66,'N PMČRj 2021'!B:G,6,0)),\"-\",VLOOKUP(B66,'N PMČRj 2021'!B:G,6,0))","v":16}]
[53,"-",{"$f":"VLOOKUP(B67,Pilot!A:C,3,0)","v":" "},{"$f":"VLOOKUP(B67,Pilot!A:C,2,0)","v":" "},{"$f":"VLOOKUP(B67,Pilot!A:E,5,0)","v":" "},{"$f":"VLOOKUP(B67,Pilot!A:F,6,0)","v":" "},53,null,60,{"$f":"IF(COUNTIF('N PMČR 2021'!B:B,B67)=0,\"-\",COUNTIF('N PMČR 2021'!B:B,B67))","v":5},{"$f":"IF(ISERROR(VLOOKUP(B67,'N PMČR 2021'!B:G,6,0)),\"-\",VLOOKUP(B67,'N PMČR 2021'!B:G,6,0))","v":"81."},{"$f":"IF(COUNTIF('N PMČRj 2021'!B:B,B67)=0,\"-\",COUNTIF('N PMČRj 2021'!B:B,B67))","v":40},{"$f":"IF(ISERROR(VLOOKUP(B67,'N PMČRj 2021'!B:G,6,0)),\"-\",VLOOKUP(B67,'N PMČRj 2021'!B:G,6,0))","v":16}]
[54,"-",{"$f":"VLOOKUP(B68,Pilot!A:C,3,0)","v":" "},{"$f":"VLOOKUP(B68,Pilot!A:C,2,0)","v":" "},{"$f":"VLOOKUP(B68,Pilot!A:E,5,0)","v":" "},{"$f":"VLOOKUP(B68,Pilot!A:F,6,0)","v":" "},54,null,60,{"$f":"IF(COUNTIF('N PMČR 2021'!B:B,B68)=0,\"-\",COUNTIF('N PMČR 2021'!B:B,B68))","v":5},{"$f":"IF(ISERROR(VLOOKUP(B68,'N PMČR 2021'!B:G,6,0)),\"-\",VLOOKUP(B68,'N PMČR 2021'!B:G,6,0))","v":"81."},{"$f":"IF(COUNTIF('N PMČRj 2021'!B:B,B68)=0,\"-\",COUNTIF('N PMČRj 2021'!B:B,B68))","v":40},{"$f":"IF(ISERROR(VLOOKUP(B68,'N PMČRj 2021'!B:G,6,0)),\"-\",VLOOKUP(B68,'N PMČRj 2021'!B:G,6,0))","v":16}]
[55,"-",{"$f":"VLOOKUP(B69,Pilot!A:C,3,0)","v":" "},{"$f":"VLOOKUP(B69,Pilot!A:C,2,0)","v":" "},{"$f":"VLOOKUP(B69,Pilot!A:E,5,0)","v":" "},{"$f":"VLOOKUP(B69,Pilot!A:F,6,0)","v":" "},55,null,60,{"$f":"IF(COUNTIF('N PMČR 2021'!B:B,B69)=0,\"-\",COUNTIF('N PMČR 2021'!B:B,B69))","v":5},{"$f":"IF(ISERROR(VLOOKUP(B69,'N PMČR 2021'!B:G,6,0)),\"-\",VLOOKUP(B69,'N PMČR 2021'!B:G,6,0))","v":"81."},{"$f":"IF(COUNTIF('N PMČRj 2021'!B:B,B69)=0,\"-\",COUNTIF('N PMČRj 2021'!B:B,B69))","v":40},{"$f":"IF(ISERROR(VLOOKUP(B69,'N PMČRj 2021'!B:G,6,0)),\"-\",VLOOKUP(B69,'N PMČRj 2021'!B:G,6,0))","v":16}]
[56,"-",{"$f":"VLOOKUP(B70,Pilot!A:C,3,0)","v":" "},{"$f":"VLOOKUP(B70,Pilot!A:C,2,0)","v":" "},{"$f":"VLOOKUP(B70,Pilot!A:E,5,0)","v":" "},{"$f":"VLOOKUP(B70,Pilot!A:F,6,0)","v":" "},56,null,60,{"$f":"IF(COUNTIF('N PMČR 2021'!B:B,B70)=0,\"-\",COUNTIF('N PMČR 2021'!B:B,B70))","v":5},{"$f":"IF(ISERROR(VLOOKUP(B70,'N PMČR 2021'!B:G,6,0)),\"-\",VLOOKUP(B70,'N PMČR 2021'!B:G,6,0))","v":"81."},{"$f":"IF(COUNTIF('N PMČRj 2021'!B:B,B70)=0,\"-\",COUNTIF('N PMČRj 2021'!B:B,B70))","v":40},{"$f":"IF(ISERROR(VLOOKUP(B70,'N PMČRj 2021'!B:G,6,0)),\"-\",VLOOKUP(B70,'N PMČRj 2021'!B:G,6,0))","v":16}]
[57,"-",{"$f":"VLOOKUP(B71,Pilot!A:C,3,0)","v":" "},{"$f":"VLOOKUP(B71,Pilot!A:C,2,0)","v":" "},{"$f":"VLOOKUP(B71,Pilot!A:E,5,0)","v":" "},{"$f":"VLOOKUP(B71,Pilot!A:F,6,0)","v":" "},57,null,60,{"$f":"IF(COUNTIF('N PMČR 2021'!B:B,B71)=0,\"-\",COUNTIF('N PMČR 2021'!B:B,B71))","v":5},{"$f":"IF(ISERROR(VLOOKUP(B71,'N PMČR 2021'!B:G,6,0)),\"-\",VLOOKUP(B71,'N PMČR 2021'!B:G,6,0))","v":"81."},{"$f":"IF(COUNTIF('N PMČRj 2021'!B:B,B71)=0,\"-\",COUNTIF('N PMČRj 2021'!B:B,B71))","v":40},{"$f":"IF(ISERROR(VLOOKUP(B71,'N PMČRj 2021'!B:G,6,0)),\"-\",VLOOKUP(B71,'N PMČRj 2021'!B:G,6,0))","v":16}]
[58,"-",{"$f":"VLOOKUP(B72,Pilot!A:C,3,0)","v":" "},{"$f":"VLOOKUP(B72,Pilot!A:C,2,0)","v":" "},{"$f":"VLOOKUP(B72,Pilot!A:E,5,0)","v":" "},{"$f":"VLOOKUP(B72,Pilot!A:F,6,0)","v":" "},58,null,60,{"$f":"IF(COUNTIF('N PMČR 2021'!B:B,B72)=0,\"-\",COUNTIF('N PMČR 2021'!B:B,B72))","v":5},{"$f":"IF(ISERROR(VLOOKUP(B72,'N PMČR 2021'!B:G,6,0)),\"-\",VLOOKUP(B72,'N PMČR 2021'!B:G,6,0))","v":"81."},{"$f":"IF(COUNTIF('N PMČRj 2021'!B:B,B72)=0,\"-\",COUNTIF('N PMČRj 2021'!B:B,B72))","v":40},{"$f":"IF(ISERROR(VLOOKUP(B72,'N PMČRj 2021'!B:G,6,0)),\"-\",VLOOKUP(B72,'N PMČRj 2021'!B:G,6,0))","v":16}]
[59,"-",{"$f":"VLOOKUP(B73,Pilot!A:C,3,0)","v":" "},{"$f":"VLOOKUP(B73,Pilot!A:C,2,0)","v":" "},{"$f":"VLOOKUP(B73,Pilot!A:E,5,0)","v":" "},{"$f":"VLOOKUP(B73,Pilot!A:F,6,0)","v":" "},59,null,60,{"$f":"IF(COUNTIF('N PMČR 2021'!B:B,B73)=0,\"-\",COUNTIF('N PMČR 2021'!B:B,B73))","v":5},{"$f":"IF(ISERROR(VLOOKUP(B73,'N PMČR 2021'!B:G,6,0)),\"-\",VLOOKUP(B73,'N PMČR 2021'!B:G,6,0))","v":"81."},{"$f":"IF(COUNTIF('N PMČRj 2021'!B:B,B73)=0,\"-\",COUNTIF('N PMČRj 2021'!B:B,B73))","v":40},{"$f":"IF(ISERROR(VLOOKUP(B73,'N PMČRj 2021'!B:G,6,0)),\"-\",VLOOKUP(B73,'N PMČRj 2021'!B:G,6,0))","v":16}]
[60,"-",{"$f":"VLOOKUP(B74,Pilot!A:C,3,0)","v":" "},{"$f":"VLOOKUP(B74,Pilot!A:C,2,0)","v":" "},{"$f":"VLOOKUP(B74,Pilot!A:E,5,0)","v":" "},{"$f":"VLOOKUP(B74,Pilot!A:F,6,0)","v":" "},60,null,60,{"$f":"IF(COUNTIF('N PMČR 2021'!B:B,B74)=0,\"-\",COUNTIF('N PMČR 2021'!B:B,B74))","v":5},{"$f":"IF(ISERROR(VLOOKUP(B74,'N PMČR 2021'!B:G,6,0)),\"-\",VLOOKUP(B74,'N PMČR 2021'!B:G,6,0))","v":"81."},{"$f":"IF(COUNTIF('N PMČRj 2021'!B:B,B74)=0,\"-\",COUNTIF('N PMČRj 2021'!B:B,B74))","v":40},{"$f":"IF(ISERROR(VLOOKUP(B74,'N PMČRj 2021'!B:G,6,0)),\"-\",VLOOKUP(B74,'N PMČRj 2021'!B:G,6,0))","v":16}]
["N1","-",{"$f":"VLOOKUP(B75,Pilot!A:C,3,0)","v":" "},{"$f":"VLOOKUP(B75,Pilot!A:C,2,0)","v":" "},{"$f":"VLOOKUP(B75,Pilot!A:E,5,0)","v":" "},{"$f":"VLOOKUP(B75,Pilot!A:F,6,0)","v":" "},"N1",null,60,{"$f":"IF(COUNTIF('N PMČR 2021'!B:B,B75)=0,\"-\",COUNTIF('N PMČR 2021'!B:B,B75))","v":5},{"$f":"IF(ISERROR(VLOOKUP(B75,'N PMČR 2021'!B:G,6,0)),\"-\",VLOOKUP(B75,'N PMČR 2021'!B:G,6,0))","v":"81."},{"$f":"IF(COUNTIF('N PMČRj 2021'!B:B,B75)=0,\"-\",COUNTIF('N PMČRj 2021'!B:B,B75))","v":40},{"$f":"IF(ISERROR(VLOOKUP(B75,'N PMČRj 2021'!B:G,6,0)),\"-\",VLOOKUP(B75,'N PMČRj 2021'!B:G,6,0))","v":16}]
["N2","-",{"$f":"VLOOKUP(B76,Pilot!A:C,3,0)","v":" "},{"$f":"VLOOKUP(B76,Pilot!A:C,2,0)","v":" "},{"$f":"VLOOKUP(B76,Pilot!A:E,5,0)","v":" "},{"$f":"VLOOKUP(B76,Pilot!A:F,6,0)","v":" "},"N2",null,60,{"$f":"IF(COUNTIF('N PMČR 2021'!B:B,B76)=0,\"-\",COUNTIF('N PMČR 2021'!B:B,B76))","v":5},{"$f":"IF(ISERROR(VLOOKUP(B76,'N PMČR 2021'!B:G,6,0)),\"-\",VLOOKUP(B76,'N PMČR 2021'!B:G,6,0))","v":"81."},{"$f":"IF(COUNTIF('N PMČRj 2021'!B:B,B76)=0,\"-\",COUNTIF('N PMČRj 2021'!B:B,B76))","v":40},{"$f":"IF(ISERROR(VLOOKUP(B76,'N PMČRj 2021'!B:G,6,0)),\"-\",VLOOKUP(B76,'N PMČRj 2021'!B:G,6,0))","v":16}]
["N3","-",{"$f":"VLOOKUP(B77,Pilot!A:C,3,0)","v":" "},{"$f":"VLOOKUP(B77,Pilot!A:C,2,0)","v":" "},{"$f":"VLOOKUP(B77,Pilot!A:E,5,0)","v":" "},{"$f":"VLOOKUP(B77,Pilot!A:F,6,0)","v":" "},"N3",null,60,{"$f":"IF(COUNTIF('N PMČR 2021'!B:B,B77)=0,\"-\",COUNTIF('N PMČR 2021'!B:B,B77))","v":5},{"$f":"IF(ISERROR(VLOOKUP(B77,'N PMČR 2021'!B:G,6,0)),\"-\",VLOOKUP(B77,'N PMČR 2021'!B:G,6,0))","v":"81."},{"$f":"IF(COUNTIF('N PMČRj 2021'!B:B,B77)=0,\"-\",COUNTIF('N PMČRj 2021'!B:B,B77))","v":40},{"$f":"IF(ISERROR(VLOOKUP(B77,'N PMČRj 2021'!B:G,6,0)),\"-\",VLOOKUP(B77,'N PMČRj 2021'!B:G,6,0))","v":16}]
["N4","-",{"$f":"VLOOKUP(B78,Pilot!A:C,3,0)","v":" "},{"$f":"VLOOKUP(B78,Pilot!A:C,2,0)","v":" "},{"$f":"VLOOKUP(B78,Pilot!A:E,5,0)","v":" "},{"$f":"VLOOKUP(B78,Pilot!A:F,6,0)","v":" "},"N4",null,60,{"$f":"IF(COUNTIF('N PMČR 2021'!B:B,B78)=0,\"-\",COUNTIF('N PMČR 2021'!B:B,B78))","v":5},{"$f":"IF(ISERROR(VLOOKUP(B78,'N PMČR 2021'!B:G,6,0)),\"-\",VLOOKUP(B78,'N PMČR 2021'!B:G,6,0))","v":"81."},{"$f":"IF(COUNTIF('N PMČRj 2021'!B:B,B78)=0,\"-\",COUNTIF('N PMČRj 2021'!B:B,B78))","v":40},{"$f":"IF(ISERROR(VLOOKUP(B78,'N PMČRj 2021'!B:G,6,0)),\"-\",VLOOKUP(B78,'N PMČRj 2021'!B:G,6,0))","v":16}]
["N5","-",{"$f":"VLOOKUP(B79,Pilot!A:C,3,0)","v":" "},{"$f":"VLOOKUP(B79,Pilot!A:C,2,0)","v":" "},{"$f":"VLOOKUP(B79,Pilot!A:E,5,0)","v":" "},{"$f":"VLOOKUP(B79,Pilot!A:F,6,0)","v":" "},"N5",null,60,{"$f":"IF(COUNTIF('N PMČR 2021'!B:B,B79)=0,\"-\",COUNTIF('N PMČR 2021'!B:B,B79))","v":5},{"$f":"IF(ISERROR(VLOOKUP(B79,'N PMČR 2021'!B:G,6,0)),\"-\",VLOOKUP(B79,'N PMČR 2021'!B:G,6,0))","v":"81."},{"$f":"IF(COUNTIF('N PMČRj 2021'!B:B,B79)=0,\"-\",COUNTIF('N PMČRj 2021'!B:B,B79))","v":40},{"$f":"IF(ISERROR(VLOOKUP(B79,'N PMČRj 2021'!B:G,6,0)),\"-\",VLOOKUP(B79,'N PMČRj 2021'!B:G,6,0))","v":16}]
["N6","-",{"$f":"VLOOKUP(B80,Pilot!A:C,3,0)","v":" "},{"$f":"VLOOKUP(B80,Pilot!A:C,2,0)","v":" "},{"$f":"VLOOKUP(B80,Pilot!A:E,5,0)","v":" "},{"$f":"VLOOKUP(B80,Pilot!A:F,6,0)","v":" "},"N6",null,60,{"$f":"IF(COUNTIF('N PMČR 2021'!B:B,B80)=0,\"-\",COUNTIF('N PMČR 2021'!B:B,B80))","v":5},{"$f":"IF(ISERROR(VLOOKUP(B80,'N PMČR 2021'!B:G,6,0)),\"-\",VLOOKUP(B80,'N PMČR 2021'!B:G,6,0))","v":"81."},{"$f":"IF(COUNTIF('N PMČRj 2021'!B:B,B80)=0,\"-\",COUNTIF('N PMČRj 2021'!B:B,B80))","v":40},{"$f":"IF(ISERROR(VLOOKUP(B80,'N PMČRj 2021'!B:G,6,0)),\"-\",VLOOKUP(B80,'N PMČRj 2021'!B:G,6,0))","v":16}]
["N7","-",{"$f":"VLOOKUP(B81,Pilot!A:C,3,0)","v":" "},{"$f":"VLOOKUP(B81,Pilot!A:C,2,0)","v":" "},{"$f":"VLOOKUP(B81,Pilot!A:E,5,0)","v":" "},{"$f":"VLOOKUP(B81,Pilot!A:F,6,0)","v":" "},"N7",null,60,{"$f":"IF(COUNTIF('N PMČR 2021'!B:B,B81)=0,\"-\",COUNTIF('N PMČR 2021'!B:B,B81))","v":5},{"$f":"IF(ISERROR(VLOOKUP(B81,'N PMČR 2021'!B:G,6,0)),\"-\",VLOOKUP(B81,'N PMČR 2021'!B:G,6,0))","v":"81."},{"$f":"IF(COUNTIF('N PMČRj 2021'!B:B,B81)=0,\"-\",COUNTIF('N PMČRj 2021'!B:B,B81))","v":40},{"$f":"IF(ISERROR(VLOOKUP(B81,'N PMČRj 2021'!B:G,6,0)),\"-\",VLOOKUP(B81,'N PMČRj 2021'!B:G,6,0))","v":16}]
["N8","-",{"$f":"VLOOKUP(B82,Pilot!A:C,3,0)","v":" "},{"$f":"VLOOKUP(B82,Pilot!A:C,2,0)","v":" "},{"$f":"VLOOKUP(B82,Pilot!A:E,5,0)","v":" "},{"$f":"VLOOKUP(B82,Pilot!A:F,6,0)","v":" "},"N8",null,60,{"$f":"IF(COUNTIF('N PMČR 2021'!B:B,B82)=0,\"-\",COUNTIF('N PMČR 2021'!B:B,B82))","v":5},{"$f":"IF(ISERROR(VLOOKUP(B82,'N PMČR 2021'!B:G,6,0)),\"-\",VLOOKUP(B82,'N PMČR 2021'!B:G,6,0))","v":"81."},{"$f":"IF(COUNTIF('N PMČRj 2021'!B:B,B82)=0,\"-\",COUNTIF('N PMČRj 2021'!B:B,B82))","v":40},{"$f":"IF(ISERROR(VLOOKUP(B82,'N PMČRj 2021'!B:G,6,0)),\"-\",VLOOKUP(B82,'N PMČRj 2021'!B:G,6,0))","v":16}]
["N9","-",{"$f":"VLOOKUP(B83,Pilot!A:C,3,0)","v":" "},{"$f":"VLOOKUP(B83,Pilot!A:C,2,0)","v":" "},{"$f":"VLOOKUP(B83,Pilot!A:E,5,0)","v":" "},{"$f":"VLOOKUP(B83,Pilot!A:F,6,0)","v":" "},"N9",null,60,{"$f":"IF(COUNTIF('N PMČR 2021'!B:B,B83)=0,\"-\",COUNTIF('N PMČR 2021'!B:B,B83))","v":5},{"$f":"IF(ISERROR(VLOOKUP(B83,'N PMČR 2021'!B:G,6,0)),\"-\",VLOOKUP(B83,'N PMČR 2021'!B:G,6,0))","v":"81."},{"$f":"IF(COUNTIF('N PMČRj 2021'!B:B,B83)=0,\"-\",COUNTIF('N PMČRj 2021'!B:B,B83))","v":40},{"$f":"IF(ISERROR(VLOOKUP(B83,'N PMČRj 2021'!B:G,6,0)),\"-\",VLOOKUP(B83,'N PMČRj 2021'!B:G,6,0))","v":16}]
["N10","-",{"$f":"VLOOKUP(B84,Pilot!A:C,3,0)","v":" "},{"$f":"VLOOKUP(B84,Pilot!A:C,2,0)","v":" "},{"$f":"VLOOKUP(B84,Pilot!A:E,5,0)","v":" "},{"$f":"VLOOKUP(B84,Pilot!A:F,6,0)","v":" "},{"$f":"A84","v":"N10"},null,60,{"$f":"IF(COUNTIF('N PMČR 2021'!B:B,B84)=0,\"-\",COUNTIF('N PMČR 2021'!B:B,B84))","v":5},{"$f":"IF(ISERROR(VLOOKUP(B84,'N PMČR 2021'!B:G,6,0)),\"-\",VLOOKUP(B84,'N PMČR 2021'!B:G,6,0))","v":"81."},{"$f":"IF(COUNTIF('N PMČRj 2021'!B:B,B84)=0,\"-\",COUNTIF('N PMČRj 2021'!B:B,B84))","v":40},{"$f":"IF(ISERROR(VLOOKUP(B84,'N PMČRj 2021'!B:G,6,0)),\"-\",VLOOKUP(B84,'N PMČRj 2021'!B:G,6,0))","v":16}]
["6.8.5.4.","další soutěžící může navrhnout PK podle jiných kritérií dle odstavce 9. SŘ"]
["-","-",{"$f":"VLOOKUP(B86,Pilot!A:C,3,0)","v":" "},{"$f":"VLOOKUP(B86,Pilot!A:C,2,0)","v":" "},{"$f":"VLOOKUP(B86,Pilot!A:E,5,0)","v":" "},{"$f":"VLOOKUP(B86,Pilot!A:F,6,0)","v":" "},{"$f":"A86","v":"-"},null,{"$f":"COUNTIF(B:B,B86)","v":60},{"$f":"IF(COUNTIF('N PMČR 2021'!B:B,B86)=0,\"-\",COUNTIF('N PMČR 2021'!B:B,B86))","v":5},{"$f":"IF(ISERROR(VLOOKUP(B86,'N PMČR 2021'!B:G,6,0)),\"-\",VLOOKUP(B86,'N PMČR 2021'!B:G,6,0))","v":"81."},{"$f":"IF(COUNTIF('N PMČRj 2021'!B:B,B86)=0,\"-\",COUNTIF('N PMČRj 2021'!B:B,B86))","v":40},{"$f":"IF(ISERROR(VLOOKUP(B86,'N PMČRj 2021'!B:G,6,0)),\"-\",VLOOKUP(B86,'N PMČRj 2021'!B:G,6,0))","v":16}]
["-","-",{"$f":"VLOOKUP(B87,Pilot!A:C,3,0)","v":" "},{"$f":"VLOOKUP(B87,Pilot!A:C,2,0)","v":" "},{"$f":"VLOOKUP(B87,Pilot!A:E,5,0)","v":" "},{"$f":"VLOOKUP(B87,Pilot!A:F,6,0)","v":" "},{"$f":"A87","v":"-"},null,{"$f":"COUNTIF(B:B,B87)","v":60},{"$f":"IF(COUNTIF('N PMČR 2021'!B:B,B87)=0,\"-\",COUNTIF('N PMČR 2021'!B:B,B87))","v":5},{"$f":"IF(ISERROR(VLOOKUP(B87,'N PMČR 2021'!B:G,6,0)),\"-\",VLOOKUP(B87,'N PMČR 2021'!B:G,6,0))","v":"81."},{"$f":"IF(COUNTIF('N PMČRj 2021'!B:B,B87)=0,\"-\",COUNTIF('N PMČRj 2021'!B:B,B87))","v":40},{"$f":"IF(ISERROR(VLOOKUP(B87,'N PMČRj 2021'!B:G,6,0)),\"-\",VLOOKUP(B87,'N PMČRj 2021'!B:G,6,0))","v":16}]
["-","-",{"$f":"VLOOKUP(B88,Pilot!A:C,3,0)","v":" "},{"$f":"VLOOKUP(B88,Pilot!A:C,2,0)","v":" "},{"$f":"VLOOKUP(B88,Pilot!A:E,5,0)","v":" "},{"$f":"VLOOKUP(B88,Pilot!A:F,6,0)","v":" "},{"$f":"A88","v":"-"},null,{"$f":"COUNTIF(B:B,B88)","v":60},{"$f":"IF(COUNTIF('N PMČR 2021'!B:B,B88)=0,\"-\",COUNTIF('N PMČR 2021'!B:B,B88))","v":5},{"$f":"IF(ISERROR(VLOOKUP(B88,'N PMČR 2021'!B:G,6,0)),\"-\",VLOOKUP(B88,'N PMČR 2021'!B:G,6,0))","v":"81."},{"$f":"IF(COUNTIF('N PMČRj 2021'!B:B,B88)=0,\"-\",COUNTIF('N PMČRj 2021'!B:B,B88))","v":40},{"$f":"IF(ISERROR(VLOOKUP(B88,'N PMČRj 2021'!B:G,6,0)),\"-\",VLOOKUP(B88,'N PMČRj 2021'!B:G,6,0))","v":16}]
["-","-",{"$f":"VLOOKUP(B89,Pilot!A:C,3,0)","v":" "},{"$f":"VLOOKUP(B89,Pilot!A:C,2,0)","v":" "},{"$f":"VLOOKUP(B89,Pilot!A:E,5,0)","v":" "},{"$f":"VLOOKUP(B89,Pilot!A:F,6,0)","v":" "},{"$f":"A89","v":"-"},null,{"$f":"COUNTIF(B:B,B89)","v":60},{"$f":"IF(COUNTIF('N PMČR 2021'!B:B,B89)=0,\"-\",COUNTIF('N PMČR 2021'!B:B,B89))","v":5},{"$f":"IF(ISERROR(VLOOKUP(B89,'N PMČR 2021'!B:G,6,0)),\"-\",VLOOKUP(B89,'N PMČR 2021'!B:G,6,0))","v":"81."},{"$f":"IF(COUNTIF('N PMČRj 2021'!B:B,B89)=0,\"-\",COUNTIF('N PMČRj 2021'!B:B,B89))","v":40},{"$f":"IF(ISERROR(VLOOKUP(B89,'N PMČRj 2021'!B:G,6,0)),\"-\",VLOOKUP(B89,'N PMČRj 2021'!B:G,6,0))","v":16}]
["-","-",{"$f":"VLOOKUP(B90,Pilot!A:C,3,0)","v":" "},{"$f":"VLOOKUP(B90,Pilot!A:C,2,0)","v":" "},{"$f":"VLOOKUP(B90,Pilot!A:E,5,0)","v":" "},{"$f":"VLOOKUP(B90,Pilot!A:F,6,0)","v":" "},{"$f":"A90","v":"-"},null,{"$f":"COUNTIF(B:B,B90)","v":60},{"$f":"IF(COUNTIF('N PMČR 2021'!B:B,B90)=0,\"-\",COUNTIF('N PMČR 2021'!B:B,B90))","v":5},{"$f":"IF(ISERROR(VLOOKUP(B90,'N PMČR 2021'!B:G,6,0)),\"-\",VLOOKUP(B90,'N PMČR 2021'!B:G,6,0))","v":"81."},{"$f":"IF(COUNTIF('N PMČRj 2021'!B:B,B90)=0,\"-\",COUNTIF('N PMČRj 2021'!B:B,B90))","v":40},{"$f":"IF(ISERROR(VLOOKUP(B90,'N PMČRj 2021'!B:G,6,0)),\"-\",VLOOKUP(B90,'N PMČRj 2021'!B:G,6,0))","v":16}]
[]
[]
["Schváleno Plachtařskou komisí AeČR dne xx.yy.2020 v ZZZZ"]

{"sheet":"N PMČRj 2021","index":14,"n_rows":79,"n_cols":17,"rows_kept":79,"cut":false,"hidden":false,"merged":[[17,1,17,7],[26,1,26,7],[73,1,73,7]]}
[null,"Nominace na PMČRj 2021",null,null,null,null,null,"Kontrola:","Počet","Počet","Nominace","Počet","Nominace","M:","F:","M+F:"]
["No","Jméno","Aeroklub","Rok narození","M/F","Junior","No",null,"PMČRj","PMČR","PMČR","PMRg","PMRg",{"$f":"COUNTIF(E:E,\"M\")","v":12},{"$f":"COUNTIF(E:E,\"F\")","v":3},{"$f":"N2+O2","v":15},"S náhradníky"]
["6.7.5.","Nominace na PMČRj (dle SŘ ZM9)",null,null,null,null,null,null,null,null,null,null,"Celkem řádně nominováno:",{"$f":"N2-COUNTIF(E53:E57,\"M\")","v":12},{"$f":"O2-COUNTIF(E53:E57,\"F\")","v":3},{"$f":"N3+O3","v":15},"Bez náhradníků"]
[null,"Na PMČRj nominuje PK celkem 40 pilotů/pilotek a stanovený počet náhradníků pro každé nominační kritérium."]
[null,"Na PMČRj jsou nominováni soutěžící splňující statut juniora:"]
[null,"Na PMČRj jsou nominováni soutěžící (splňující statut juniora):"]
["6.7.5.1.","všichni členové reprezentačního výběru ČR (bez náhradníků)"]
[1,"Jan Zapletal",{"$f":"VLOOKUP(B8,Pilot!A:C,3,0)","v":"Břeclav"},{"$f":"VLOOKUP(B8,Pilot!A:C,2,0)","v":1997},{"$f":"VLOOKUP(B8,Pilot!A:E,5,0)","v":"M"},{"$f":"VLOOKUP(B8,Pilot!A:F,6,0)","v":"Junior v roce 2021"},{"$f":"A8","v":1},null,{"$f":"COUNTIF(B:B,B8)","v":1},{"$f":"IF(COUNTIF('N PMČR 2021'!B:B,B8)=0,\"-\",COUNTIF('N PMČR 2021'!B:B,B8))","v":1},{"$f":"IF(ISERROR(VLOOKUP(B8,'N PMČR 2021'!B:G,6,0)),\"-\",VLOOKUP(B8,'N PMČR 2021'!B:G,6,0))","v":21},{"$f":"IF(COUNTIF('N PMRg 2021'!B:B,B8)=0,\"-\",COUNTIF('N PMRg 2021'!B:B,B8))","v":"-"},{"$f":"IF(ISERROR(VLOOKUP(B8,'N PMRg 2021'!B:G,6,0)),\"-\",VLOOKUP(B8,'N PMRg 2021'!B:G,6,0))","v":"-"}]
[2,"Jaromir Macoun",{"$f":"VLOOKUP(B9,Pilot!A:C,3,0)","v":"Jičín"},{"$f":"VLOOKUP(B9,Pilot!A:C,2,0)","v":1999},{"$f":"VLOOKUP(B9,Pilot!A:E,5,0)","v":"M"},{"$f":"VLOOKUP(B9,Pilot!A:F,6,0)","v":"Junior v roce 2021"},2,null,1,{"$f":"IF(COUNTIF('N PMČR 2021'!B:B,B9)=0,\"-\",COUNTIF('N PMČR 2021'!B:B,B9))","v":1},{"$f":"IF(ISERROR(VLOOKUP(B9,'N PMČR 2021'!B:G,6,0)),\"-\",VLOOKUP(B9,'N PMČR 2021'!B:G,6,0))","v":23},{"$f":"IF(COUNTIF('N PMRg 2021'!B:B,B9)=0,\"-\",COUNTIF('N PMRg 2021'!B:B,B9))","v":"-"},{"$f":"IF(ISERROR(VLOOKUP(B9,'N PMRg 2021'!B:G,6,0)),\"-\",VLOOKUP(B9,'N PMRg 2021'!B:G,6,0))","v":"-"}]
[3,"Vit Morkovsky",{"$f":"VLOOKUP(B10,Pilot!A:C,3,0)","v":"Polička"},{"$f":"VLOOKUP(B10,Pilot!A:C,2,0)","v":2000},{"$f":"VLOOKUP(B10,Pilot!A:E,5,0)","v":"M"},{"$f":"VLOOKUP(B10,Pilot!A:F,6,0)","v":"Junior v roce 2021"},3,null,1,{"$f":"IF(COUNTIF('N PMČR 2021'!B:B,B10)=0,\"-\",COUNTIF('N PMČR 2021'!B:B,B10))","v":1},{"$f":"IF(ISERROR(VLOOKUP(B10,'N PMČR 2021'!B:G,6,0)),\"-\",VLOOKUP(B10,'N PMČR 2021'!B:G,6,0))","v":29},{"$f":"IF(COUNTIF('N PMRg 2021'!B:B,B10)=0,\"-\",COUNTIF('N PMRg 2021'!B:B,B10))","v":"-"},{"$f":"IF(ISERROR(VLOOKUP(B10,'N PMRg 2021'!B:G,6,0)),\"-\",VLOOKUP(B10,'N PMRg 2021'!B:G,6,0))","v":"-"}]
[4,"Ivan Tvrdik",{"$f":"VLOOKUP(B11,Pilot!A:C,3,0)","v":"Letňany"},{"$f":"VLOOKUP(B11,Pilot!A:C,2,0)","v":1997},{"$f":"VLOOKUP(B11,Pilot!A:E,5,0)","v":"M"},{"$f":"VLOOKUP(B11,Pilot!A:F,6,0)","v":"Junior v roce 2021"},4,null,1,{"$f":"IF(COUNTIF('N PMČR 2021'!B:B,B11)=0,\"-\",COUNTIF('N PMČR 2021'!B:B,B11))","v":1},{"$f":"IF(ISERROR(VLOOKUP(B11,'N PMČR 2021'!B:G,6,0)),\"-\",VLOOKUP(B11,'N PMČR 2021'!B:G,6,0))","v":32},{"$f":"IF(COUNTIF('N PMRg 2021'!B:B,B11)=0,\"-\",COUNTIF('N PMRg 2021'!B:B,B11))","v":"-"},{"$f":"IF(ISERROR(VLOOKUP(B11,'N PMRg 2021'!B:G,6,0)),\"-\",VLOOKUP(B11,'N PMRg 2021'!B:G,6,0))","v":"-"}]
[5,"Tereza Koubkova",{"$f":"VLOOKUP(B12,Pilot!A:C,3,0)","v":"Vysoké Mýto"},{"$f":"VLOOKUP(B12,Pilot!A:C,2,0)","v":1999},{"$f":"VLOOKUP(B12,Pilot!A:E,5,0)","v":"F"},{"$f":"VLOOKUP(B12,Pilot!A:F,6,0)","v":"Junior v roce 2021"},5,null,1,{"$f":"IF(COUNTIF('N PMČR 2021'!B:B,B12)=0,\"-\",COUNTIF('N PMČR 2021'!B:B,B12))","v":1},{"$f":"IF(ISERROR(VLOOKUP(B12,'N PMČR 2021'!B:G,6,0)),\"-\",VLOOKUP(B12,'N PMČR 2021'!B:G,6,0))","v":33},{"$f":"IF(COUNTIF('N PMRg 2021'!B:B,B12)=0,\"-\",COUNTIF('N PMRg 2021'!B:B,B12))","v":"-"},{"$f":"IF(ISERROR(VLOOKUP(B12,'N PMRg 2021'!B:G,6,0)),\"-\",VLOOKUP(B12,'N PMRg 2021'!B:G,6,0))","v":"-"}]
[6,"Michaela Krizova",{"$f":"VLOOKUP(B13,Pilot!A:C,3,0)","v":"Přibyslav"},{"$f":"VLOOKUP(B13,Pilot!A:C,2,0)","v":2001},{"$f":"VLOOKUP(B13,Pilot!A:E,5,0)","v":"F"},{"$f":"VLOOKUP(B13,Pilot!A:F,6,0)","v":"Junior v roce 2021"},6,null,1,{"$f":"IF(COUNTIF('N PMČR 2021'!B:B,B13)=0,\"-\",COUNTIF('N PMČR 2021'!B:B,B13))","v":1},{"$f":"IF(ISERROR(VLOOKUP(B13,'N PMČR 2021'!B:G,6,0)),\"-\",VLOOKUP(B13,'N PMČR 2021'!B:G,6,0))","v":34},{"$f":"IF(COUNTIF('N PMRg 2021'!B:B,B13)=0,\"-\",COUNTIF('N PMRg 2021'!B:B,B13))","v":"-"},{"$f":"IF(ISERROR(VLOOKUP(B13,'N PMRg 2021'!B:G,6,0)),\"-\",VLOOKUP(B13,'N PMRg 2021'!B:G,6,0))","v":"-"}]
["6.7.5.2.","všichni soutěžící - účastníci posledního platného PMČR (bez náhradníků)"]
[null,"PMČR 2020 - Tábor - Klub, Kombi 15m, Kombi Open"]
[{"$f":"MAX(A8:A14)+1","v":7},"Tomas Moravec",{"$f":"VLOOKUP(B16,Pilot!A:C,3,0)","v":"Žamberk"},{"$f":"VLOOKUP(B16,Pilot!A:C,2,0)","v":2000},{"$f":"VLOOKUP(B16,Pilot!A:E,5,0)","v":"M"},{"$f":"VLOOKUP(B16,Pilot!A:F,6,0)","v":"Junior v roce 2021"},{"$f":"A16","v":7},null,{"$f":"COUNTIF(B:B,B16)","v":1},{"$f":"IF(COUNTIF('N PMČR 2021'!B:B,B16)=0,\"-\",COUNTIF('N PMČR 2021'!B:B,B16))","v":"-"},{"$f":"IF(ISERROR(VLOOKUP(B16,'N PMČR 2021'!B:G,6,0)),\"-\",VLOOKUP(B16,'N PMČR 2021'!B:G,6,0))","v":"-"},{"$f":"IF(COUNTIF('N PMRg 2021'!B:B,B16)=0,\"-\",COUNTIF('N PMRg 2021'!B:B,B16))","v":1},{"$f":"IF(ISERROR(VLOOKUP(B16,'N PMRg 2021'!B:G,6,0)),\"-\",VLOOKUP(B16,'N PMRg 2021'!B:G,6,0))","v":6}]
[{"$f":"A16+1","v":8},"Michaela Rendlova",{"$f":"VLOOKUP(B17,Pilot!A:C,3,0)","v":"Toužim"},{"$f":"VLOOKUP(B17,Pilot!A:C,2,0)","v":2004},{"$f":"VLOOKUP(B17,Pilot!A:E,5,0)","v":"F"},{"$f":"VLOOKUP(B17,Pilot!A:F,6,0)","v":"Junior v roce 2021"},{"$f":"A17","v":8},null,{"$f":"COUNTIF(B:B,B17)","v":1},{"$f":"IF(COUNTIF('N PMČR 2021'!B:B,B17)=0,\"-\",COUNTIF('N PMČR 2021'!B:B,B17))","v":"-"},{"$f":"IF(ISERROR(VLOOKUP(B17,'N PMČR 2021'!B:G,6,0)),\"-\",VLOOKUP(B17,'N PMČR 2021'!B:G,6,0))","v":"-"},{"$f":"IF(COUNTIF('N PMRg 2021'!B:B,B17)=0,\"-\",COUNTIF('N PMRg 2021'!B:B,B17))","v":1},{"$f":"IF(ISERROR(VLOOKUP(B17,'N PMRg 2021'!B:G,6,0)),\"-\",VLOOKUP(B17,'N PMRg 2021'!B:G,6,0))","v":10}]
["6.7.5.3.","další soutěžící, kteří se umístili v konečném pořadí na posledním platném PMČRj ve své třídě nejhůře v první polovině celkového pořadí pilotů ČR (bez náhradníků)"]
[null,"PMČRj 2020 - Zbraslavice - Klub"]
[{"$f":"MAX(A8:A18)+1","v":9},"Tibor Hezina",{"$f":"VLOOKUP(B20,Pilot!A:C,3,0)","v":"Křižanov"},{"$f":"VLOOKUP(B20,Pilot!A:C,2,0)","v":2002},{"$f":"VLOOKUP(B20,Pilot!A:E,5,0)","v":"M"},{"$f":"VLOOKUP(B20,Pilot!A:F,6,0)","v":"Junior v roce 2021"},{"$f":"A20","v":9},null,{"$f":"COUNTIF(B:B,B20)","v":1},{"$f":"IF(COUNTIF('N PMČR 2021'!B:B,B20)=0,\"-\",COUNTIF('N PMČR 2021'!B:B,B20))","v":1},{"$f":"IF(ISERROR(VLOOKUP(B20,'N PMČR 2021'!B:G,6,0)),\"-\",VLOOKUP(B20,'N PMČR 2021'!B:G,6,0))","v":44},{"$f":"IF(COUNTIF('N PMRg 2021'!B:B,B20)=0,\"-\",COUNTIF('N PMRg 2021'!B:B,B20))","v":"-"},{"$f":"IF(ISERROR(VLOOKUP(B20,'N PMRg 2021'!B:G,6,0)),\"-\",VLOOKUP(B20,'N PMRg 2021'!B:G,6,0))","v":"-"}]
[{"$f":"A20+1","v":10},"Jan Stastny",{"$f":"VLOOKUP(B21,Pilot!A:C,3,0)","v":"Medlánky"},{"$f":"VLOOKUP(B21,Pilot!A:C,2,0)","v":2003},{"$f":"VLOOKUP(B21,Pilot!A:E,5,0)","v":"M"},{"$f":"VLOOKUP(B21,Pilot!A:F,6,0)","v":"Junior v roce 2021"},10,null,1,{"$f":"IF(COUNTIF('N PMČR 2021'!B:B,B21)=0,\"-\",COUNTIF('N PMČR 2021'!B:B,B21))","v":1},{"$f":"IF(ISERROR(VLOOKUP(B21,'N PMČR 2021'!B:G,6,0)),\"-\",VLOOKUP(B21,'N PMČR 2021'!B:G,6,0))","v":45},{"$f":"IF(COUNTIF('N PMRg 2021'!B:B,B21)=0,\"-\",COUNTIF('N PMRg 2021'!B:B,B21))","v":"-"},{"$f":"IF(ISERROR(VLOOKUP(B21,'N PMRg 2021'!B:G,6,0)),\"-\",VLOOKUP(B21,'N PMRg 2021'!B:G,6,0))","v":"-"}]
[11,"Tomas Hulmak",{"$f":"VLOOKUP(B22,Pilot!A:C,3,0)","v":"Hosín"},{"$f":"VLOOKUP(B22,Pilot!A:C,2,0)","v":1999},{"$f":"VLOOKUP(B22,Pilot!A:E,5,0)","v":"M"},{"$f":"VLOOKUP(B22,Pilot!A:F,6,0)","v":"Junior v roce 2021"},11,null,1,{"$f":"IF(COUNTIF('N PMČR 2021'!B:B,B22)=0,\"-\",COUNTIF('N PMČR 2021'!B:B,B22))","v":1},{"$f":"IF(ISERROR(VLOOKUP(B22,'N PMČR 2021'!B:G,6,0)),\"-\",VLOOKUP(B22,'N PMČR 2021'!B:G,6,0))","v":"N1"},{"$f":"IF(COUNTIF('N PMRg 2021'!B:B,B22)=0,\"-\",COUNTIF('N PMRg 2021'!B:B,B22))","v":"-"},{"$f":"IF(ISERROR(VLOOKUP(B22,'N PMRg 2021'!B:G,6,0)),\"-\",VLOOKUP(B22,'N PMRg 2021'!B:G,6,0))","v":"-"}]
[12,"Lukas Kriz",{"$f":"VLOOKUP(B23,Pilot!A:C,3,0)","v":"Křižanov"},{"$f":"VLOOKUP(B23,Pilot!A:C,2,0)","v":2003},{"$f":"VLOOKUP(B23,Pilot!A:E,5,0)","v":"M"},{"$f":"VLOOKUP(B23,Pilot!A:F,6,0)","v":"Junior v roce 2021"},12,null,1,{"$f":"IF(COUNTIF('N PMČR 2021'!B:B,B23)=0,\"-\",COUNTIF('N PMČR 2021'!B:B,B23))","v":1},{"$f":"IF(ISERROR(VLOOKUP(B23,'N PMČR 2021'!B:G,6,0)),\"-\",VLOOKUP(B23,'N PMČR 2021'!B:G,6,0))","v":"N2"},{"$f":"IF(COUNTIF('N PMRg 2021'!B:B,B23)=0,\"-\",COUNTIF('N PMRg 2021'!B:B,B23))","v":"-"},{"$f":"IF(ISERROR(VLOOKUP(B23,'N PMRg 2021'!B:G,6,0)),\"-\",VLOOKUP(B23,'N PMRg 2021'!B:G,6,0))","v":"-"}]
[13,"Tomas Kulhavy",{"$f":"VLOOKUP(B24,Pilot!A:C,3,0)","v":"Liberec"},{"$f":"VLOOKUP(B24,Pilot!A:C,2,0)","v":2001},{"$f":"VLOOKUP(B24,Pilot!A:E,5,0)","v":"M"},{"$f":"VLOOKUP(B24,Pilot!A:F,6,0)","v":"Junior v roce 2021"},13,null,1,{"$f":"IF(COUNTIF('N PMČR 2021'!B:B,B24)=0,\"-\",COUNTIF('N PMČR 2021'!B:B,B24))","v":1},{"$f":"IF(ISERROR(VLOOKUP(B24,'N PMČR 2021'!B:G,6,0)),\"-\",VLOOKUP(B24,'N PMČR 2021'!B:G,6,0))","v":"N3"},{"$f":"IF(COUNTIF('N PMRg 2021'!B:B,B24)=0,\"-\",COUNTIF('N PMRg 2021'!B:B,B24))","v":"-"},{"$f":"IF(ISERROR(VLOOKUP(B24,'N PMRg 2021'!B:G,6,0)),\"-\",VLOOKUP(B24,'N PMRg 2021'!B:G,6,0))","v":"-"}]
[14,"Lukas Maly",{"$f":"VLOOKUP(B25,Pilot!A:C,3,0)","v":"Vysoké Mýto"},{"$f":"VLOOKUP(B25,Pilot!A:C,2,0)","v":1998},{"$f":"VLOOKUP(B25,Pilot!A:E,5,0)","v":"M"},{"$f":"VLOOKUP(B25,Pilot!A:F,6,0)","v":"Junior v roce 2021"},{"$f":"A25","v":14},null,1,{"$f":"IF(COUNTIF('N PMČR 2021'!B:B,B25)=0,\"-\",COUNTIF('N PMČR 2021'!B:B,B25))","v":1},{"$f":"IF(ISERROR(VLOOKUP(B25,'N PMČR 2021'!B:G,6,0)),\"-\",VLOOKUP(B25,'N PMČR 2021'!B:G,6,0))","v":"N4"},{"$f":"IF(COUNTIF('N PMRg 2021'!B:B,B25)=0,\"-\",COUNTIF('N PMRg 2021'!B:B,B25))","v":"-"},{"$f":"IF(ISERROR(VLOOKUP(B25,'N PMRg 2021'!B:G,6,0)),\"-\",VLOOKUP(B25,'N PMRg 2021'!B:G,6,0))","v":"-"}]
[15,"Vladimir Hammer",{"$f":"VLOOKUP(B26,Pilot!A:C,3,0)","v":"Letkov"},{"$f":"VLOOKUP(B26,Pilot!A:C,2,0)","v":2000},{"$f":"VLOOKUP(B26,Pilot!A:E,5,0)","v":"M"},{"$f":"VLOOKUP(B26,Pilot!A:F,6,0)","v":"Junior v roce 2021"},15,null,1,{"$f":"IF(COUNTIF('N PMČR 2021'!B:B,B26)=0,\"-\",COUNTIF('N PMČR 2021'!B:B,B26))","v":1},{"$f":"IF(ISERROR(VLOOKUP(B26,'N PMČR 2021'!B:G,6,0)),\"-\",VLOOKUP(B26,'N PMČR 2021'!B:G,6,0))","v":"N5"},{"$f":"IF(COUNTIF('N PMRg 2021'!B:B,B26)=0,\"-\",COUNTIF('N PMRg 2021'!B:B,B26))","v":"-"},{"$f":"IF(ISERROR(VLOOKUP(B26,'N PMRg 2021'!B:G,6,0)),\"-\",VLOOKUP(B26,'N PMRg 2021'!B:G,6,0))","v":"-"}]
["6.7.5.4.","ostatní soutěžící nominuje PK v pořadí podle umístění v CPS-INT předchozího roku do naplnění celkového počtu 40 nominovaných (+ 5 náhradníků)"]
[{"$f":"MAX(A20:A27)+1","v":16},"-",{"$f":"VLOOKUP(B28,Pilot!A:C,3,0)","v":" "},{"$f":"VLOOKUP(B28,Pilot!A:C,2,0)","v":" "},{"$f":"VLOOKUP(B28,Pilot!A:E,5,0)","v":" "},{"$f":"VLOOKUP(B28,Pilot!A:F,6,0)","v":" "},{"$f":"A28","v":16},null,{"$f":"COUNTIF(B:B,B28)","v":40},{"$f":"IF(COUNTIF('N PMČR 2021'!B:B,B28)=0,\"-\",COUNTIF('N PMČR 2021'!B:B,B28))","v":5},{"$f":"IF(ISERROR(VLOOKUP(B28,'N PMČR 2021'!B:G,6,0)),\"-\",VLOOKUP(B28,'N PMČR 2021'!B:G,6,0))","v":"81."},{"$f":"IF(COUNTIF('N PMRg 2021'!B:B,B28)=0,\"-\",COUNTIF('N PMRg 2021'!B:B,B28))","v":60},{"$f":"IF(ISERROR(VLOOKUP(B28,'N PMRg 2021'!B:G,6,0)),\"-\",VLOOKUP(B28,'N PMRg 2021'!B:G,6,0))","v":"-"}]
[{"$f":"A28+1","v":17},"-",{"$f":"VLOOKUP(B29,Pilot!A:C,3,0)","v":" "},{"$f":"VLOOKUP(B29,Pilot!A:C,2,0)","v":" "},{"$f":"VLOOKUP(B29,Pilot!A:E,5,0)","v":" "},{"$f":"VLOOKUP(B29,Pilot!A:F,6,0)","v":" "},17,null,40,{"$f":"IF(COUNTIF('N PMČR 2021'!B:B,B29)=0,\"-\",COUNTIF('N PMČR 2021'!B:B,B29))","v":5},{"$f":"IF(ISERROR(VLOOKUP(B29,'N PMČR 2021'!B:G,6,0)),\"-\",VLOOKUP(B29,'N PMČR 2021'!B:G,6,0))","v":"81."},{"$f":"IF(COUNTIF('N PMRg 2021'!B:B,B29)=0,\"-\",COUNTIF('N PMRg 2021'!B:B,B29))","v":60},{"$f":"IF(ISERROR(VLOOKUP(B29,'N PMRg 2021'!B:G,6,0)),\"-\",VLOOKUP(B29,'N PMRg 2021'!B:G,6,0))","v":"-"}]
[{"$f":"A29+1","v":18},"-",{"$f":"VLOOKUP(B30,Pilot!A:C,3,0)","v":" "},{"$f":"VLOOKUP(B30,Pilot!A:C,2,0)","v":" "},{"$f":"VLOOKUP(B30,Pilot!A:E,5,0)","v":" "},{"$f":"VLOOKUP(B30,Pilot!A:F,6,0)","v":" "},18,null,40,{"$f":"IF(COUNTIF('N PMČR 2021'!B:B,B30)=0,\"-\",COUNTIF('N PMČR 2021'!B:B,B30))","v":5},{"$f":"IF(ISERROR(VLOOKUP(B30,'N PMČR 2021'!B:G,6,0)),\"-\",VLOOKUP(B30,'N PMČR 2021'!B:G,6,0))","v":"81."},{"$f":"IF(COUNTIF('N PMRg 2021'!B:B,B30)=0,\"-\",COUNTIF('N PMRg 2021'!B:B,B30))","v":60},{"$f":"IF(ISERROR(VLOOKUP(B30,'N PMRg 2021'!B:G,6,0)),\"-\",VLOOKUP(B30,'N PMRg 2021'!B:G,6,0))","v":"-"}]
[19,"-",{"$f":"VLOOKUP(B31,Pilot!A:C,3,0)","v":" "},{"$f":"VLOOKUP(B31,Pilot!A:C,2,0)","v":" "},{"$f":"VLOOKUP(B31,Pilot!A:E,5,0)","v":" "},{"$f":"VLOOKUP(B31,Pilot!A:F,6,0)","v":" "},19,null,40,{"$f":"IF(COUNTIF('N PMČR 2021'!B:B,B31)=0,\"-\",COUNTIF('N PMČR 2021'!B:B,B31))","v":5},{"$f":"IF(ISERROR(VLOOKUP(B31,'N PMČR 2021'!B:G,6,0)),\"-\",VLOOKUP(B31,'N PMČR 2021'!B:G,6,0))","v":"81."},{"$f":"IF(COUNTIF('N PMRg 2021'!B:B,B31)=0,\"-\",COUNTIF('N PMRg 2021'!B:B,B31))","v":60},{"$f":"IF(ISERROR(VLOOKUP(B31,'N PMRg 2021'!B:G,6,0)),\"-\",VLOOKUP(B31,'N PMRg 2021'!B:G,6,0))","v":"-"}]
[20,"-",{"$f":"VLOOKUP(B32,Pilot!A:C,3,0)","v":" "},{"$f":"VLOOKUP(B32,Pilot!A:C,2,0)","v":" "},{"$f":"VLOOKUP(B32,Pilot!A:E,5,0)","v":" "},{"$f":"VLOOKUP(B32,Pilot!A:F,6,0)","v":" "},20,null,40,{"$f":"IF(COUNTIF('N PMČR 2021'!B:B,B32)=0,\"-\",COUNTIF('N PMČR 2021'!B:B,B32))","v":5},{"$f":"IF(ISERROR(VLOOKUP(B32,'N PMČR 2021'!B:G,6,0)),\"-\",VLOOKUP(B32,'N PMČR 2021'!B:G,6,0))","v":"81."},{"$f":"IF(COUNTIF('N PMRg 2021'!B:B,B32)=0,\"-\",COUNTIF('N PMRg 2021'!B:B,B32))","v":60},{"$f":"IF(ISERROR(VLOOKUP(B32,'N PMRg 2021'!B:G,6,0)),\"-\",VLOOKUP(B32,'N PMRg 2021'!B:G,6,0))","v":"-"}]
[21,"-",{"$f":"VLOOKUP(B33,Pilot!A:C,3,0)","v":" "},{"$f":"VLOOKUP(B33,Pilot!A:C,2,0)","v":" "},{"$f":"VLOOKUP(B33,Pilot!A:E,5,0)","v":" "},{"$f":"VLOOKUP(B33,Pilot!A:F,6,0)","v":" "},21,null,40,{"$f":"IF(COUNTIF('N PMČR 2021'!B:B,B33)=0,\"-\",COUNTIF('N PMČR 2021'!B:B,B33))","v":5},{"$f":"IF(ISERROR(VLOOKUP(B33,'N PMČR 2021'!B:G,6,0)),\"-\",VLOOKUP(B33,'N PMČR 2021'!B:G,6,0))","v":"81."},{"$f":"IF(COUNTIF('N PMRg 2021'!B:B,B33)=0,\"-\",COUNTIF('N PMRg 2021'!B:B,B33))","v":60},{"$f":"IF(ISERROR(VLOOKUP(B33,'N PMRg 2021'!B:G,6,0)),\"-\",VLOOKUP(B33,'N PMRg 2021'!B:G,6,0))","v":"-"}]
[22,"-",{"$f":"VLOOKUP(B34,Pilot!A:C,3,0)","v":" "},{"$f":"VLOOKUP(B34,Pilot!A:C,2,0)","v":" "},{"$f":"VLOOKUP(B34,Pilot!A:E,5,0)","v":" "},{"$f":"VLOOKUP(B34,Pilot!A:F,6,0)","v":" "},22,null,40,{"$f":"IF(COUNTIF('N PMČR 2021'!B:B,B34)=0,\"-\",COUNTIF('N PMČR 2021'!B:B,B34))","v":5},{"$f":"IF(ISERROR(VLOOKUP(B34,'N PMČR 2021'!B:G,6,0)),\"-\",VLOOKUP(B34,'N PMČR 2021'!B:G,6,0))","v":"81."},{"$f":"IF(COUNTIF('N PMRg 2021'!B:B,B34)=0,\"-\",COUNTIF('N PMRg 2021'!B:B,B34))","v":60},{"$f":"IF(ISERROR(VLOOKUP(B34,'N PMRg 2021'!B:G,6,0)),\"-\",VLOOKUP(B34,'N PMRg 2021'!B:G,6,0))","v":"-"}]
[23,"-",{"$f":"VLOOKUP(B35,Pilot!A:C,3,0)","v":" "},{"$f":"VLOOKUP(B35,Pilot!A:C,2,0)","v":" "},{"$f":"VLOOKUP(B35,Pilot!A:E,5,0)","v":" "},{"$f":"VLOOKUP(B35,Pilot!A:F,6,0)","v":" "},23,null,40,{"$f":"IF(COUNTIF('N PMČR 2021'!B:B,B35)=0,\"-\",COUNTIF('N PMČR 2021'!B:B,B35))","v":5},{"$f":"IF(ISERROR(VLOOKUP(B35,'N PMČR 2021'!B:G,6,0)),\"-\",VLOOKUP(B35,'N PMČR 2021'!B:G,6,0))","v":"81."},{"$f":"IF(COUNTIF('N PMRg 2021'!B:B,B35)=0,\"-\",COUNTIF('N PMRg 2021'!B:B,B35))","v":60},{"$f":"IF(ISERROR(VLOOKUP(B35,'N PMRg 2021'!B:G,6,0)),\"-\",VLOOKUP(B35,'N PMRg 2021'!B:G,6,0))","v":"-"}]
[24,"-",{"$f":"VLOOKUP(B36,Pilot!A:C,3,0)","v":" "},{"$f":"VLOOKUP(B36,Pilot!A:C,2,0)","v":" "},{"$f":"VLOOKUP(B36,Pilot!A:E,5,0)","v":" "},{"$f":"VLOOKUP(B36,Pilot!A:F,6,0)","v":" "},24,null,40,{"$f":"IF(COUNTIF('N PMČR 2021'!B:B,B36)=0,\"-\",COUNTIF('N PMČR 2021'!B:B,B36))","v":5},{"$f":"IF(ISERROR(VLOOKUP(B36,'N PMČR 2021'!B:G,6,0)),\"-\",VLOOKUP(B36,'N PMČR 2021'!B:G,6,0))","v":"81."},{"$f":"IF(COUNTIF('N PMRg 2021'!B:B,B36)=0,\"-\",COUNTIF('N PMRg 2021'!B:B,B36))","v":60},{"$f":"IF(ISERROR(VLOOKUP(B36,'N PMRg 2021'!B:G,6,0)),\"-\",VLOOKUP(B36,'N PMRg 2021'!B:G,6,0))","v":"-"}]
[25,"-",{"$f":"VLOOKUP(B37,Pilot!A:C,3,0)","v":" "},{"$f":"VLOOKUP(B37,Pilot!A:C,2,0)","v":" "},{"$f":"VLOOKUP(B37,Pilot!A:E,5,0)","v":" "},{"$f":"VLOOKUP(B37,Pilot!A:F,6,0)","v":" "},25,null,40,{"$f":"IF(COUNTIF('N PMČR 2021'!B:B,B37)=0,\"-\",COUNTIF('N PMČR 2021'!B:B,B37))","v":5},{"$f":"IF(ISERROR(VLOOKUP(B37,'N PMČR 2021'!B:G,6,0)),\"-\",VLOOKUP(B37,'N PMČR 2021'!B:G,6,0))","v":"81."},{"$f":"IF(COUNTIF('N PMRg 2021'!B:B,B37)=0,\"-\",COUNTIF('N PMRg 2021'!B:B,B37))","v":60},{"$f":"IF(ISERROR(VLOOKUP(B37,'N PMRg 2021'!B:G,6,0)),\"-\",VLOOKUP(B37,'N PMRg 2021'!B:G,6,0))","v":"-"}]
[26,"-",{"$f":"VLOOKUP(B38,Pilot!A:C,3,0)","v":" "},{"$f":"VLOOKUP(B38,Pilot!A:C,2,0)","v":" "},{"$f":"VLOOKUP(B38,Pilot!A:E,5,0)","v":" "},{"$f":"VLOOKUP(B38,Pilot!A:F,6,0)","v":" "},{"$f":"A38","v":26},null,40,{"$f":"IF(COUNTIF('N PMČR 2021'!B:B,B38)=0,\"-\",COUNTIF('N PMČR 2021'!B:B,B38))","v":5},{"$f":"IF(ISERROR(VLOOKUP(B38,'N PMČR 2021'!B:G,6,0)),\"-\",VLOOKUP(B38,'N PMČR 2021'!B:G,6,0))","v":"81."},{"$f":"IF(COUNTIF('N PMRg 2021'!B:B,B38)=0,\"-\",COUNTIF('N PMRg 2021'!B:B,B38))","v":60},{"$f":"IF(ISERROR(VLOOKUP(B38,'N PMRg 2021'!B:G,6,0)),\"-\",VLOOKUP(B38,'N PMRg 2021'!B:G,6,0))","v":"-"}]
[27,"-",{"$f":"VLOOKUP(B39,Pilot!A:C,3,0)","v":" "},{"$f":"VLOOKUP(B39,Pilot!A:C,2,0)","v":" "},{"$f":"VLOOKUP(B39,Pilot!A:E,5,0)","v":" "},{"$f":"VLOOKUP(B39,Pilot!A:F,6,0)","v":" "},27,null,40,{"$f":"IF(COUNTIF('N PMČR 2021'!B:B,B39)=0,\"-\",COUNTIF('N PMČR 2021'!B:B,B39))","v":5},{"$f":"IF(ISERROR(VLOOKUP(B39,'N PMČR 2021'!B:G,6,0)),\"-\",VLOOKUP(B39,'N PMČR 2021'!B:G,6,0))","v":"81."},{"$f":"IF(COUNTIF('N PMRg 2021'!B:B,B39)=0,\"-\",COUNTIF('N PMRg 2021'!B:B,B39))","v":60},{"$f":"IF(ISERROR(VLOOKUP(B39,'N PMRg 2021'!B:G,6,0)),\"-\",VLOOKUP(B39,'N PMRg 2021'!B:G,6,0))","v":"-"}]
[28,"-",{"$f":"VLOOKUP(B40,Pilot!A:C,3,0)","v":" "},{"$f":"VLOOKUP(B40,Pilot!A:C,2,0)","v":" "},{"$f":"VLOOKUP(B40,Pilot!A:E,5,0)","v":" "},{"$f":"VLOOKUP(B40,Pilot!A:F,6,0)","v":" "},28,null,40,{"$f":"IF(COUNTIF('N PMČR 2021'!B:B,B40)=0,\"-\",COUNTIF('N PMČR 2021'!B:B,B40))","v":5},{"$f":"IF(ISERROR(VLOOKUP(B40,'N PMČR 2021'!B:G,6,0)),\"-\",VLOOKUP(B40,'N PMČR 2021'!B:G,6,0))","v":"81."},{"$f":"IF(COUNTIF('N PMRg 2021'!B:B,B40)=0,\"-\",COUNTIF('N PMRg 2021'!B:B,B40))","v":60},{"$f":"IF(ISERROR(VLOOKUP(B40,'N PMRg 2021'!B:G,6,0)),\"-\",VLOOKUP(B40,'N PMRg 2021'!B:G,6,0))","v":"-"}]
[29,"-",{"$f":"VLOOKUP(B41,Pilot!A:C,3,0)","v":" "},{"$f":"VLOOKUP(B41,Pilot!A:C,2,0)","v":" "},{"$f":"VLOOKUP(B41,Pilot!A:E,5,0)","v":" "},{"$f":"VLOOKUP(B41,Pilot!A:F,6,0)","v":" "},29,null,40,{"$f":"IF(COUNTIF('N PMČR 2021'!B:B,B41)=0,\"-\",COUNTIF('N PMČR 2021'!B:B,B41))","v":5},{"$f":"IF(ISERROR(VLOOKUP(B41,'N PMČR 2021'!B:G,6,0)),\"-\",VLOOKUP(B41,'N PMČR 2021'!B:G,6,0))","v":"81."},{"$f":"IF(COUNTIF('N PMRg 2021'!B:B,B41)=0,\"-\",COUNTIF('N PMRg 2021'!B:B,B41))","v":60},{"$f":"IF(ISERROR(VLOOKUP(B41,'N PMRg 2021'!B:G,6,0)),\"-\",VLOOKUP(B41,'N PMRg 2021'!B:G,6,0))","v":"-"}]
[30,"-",{"$f":"VLOOKUP(B42,Pilot!A:C,3,0)","v":" "},{"$f":"VLOOKUP(B42,Pilot!A:C,2,0)","v":" "},{"$f":"VLOOKUP(B42,Pilot!A:E,5,0)","v":" "},{"$f":"VLOOKUP(B42,Pilot!A:F,6,0)","v":" "},30,null,40,{"$f":"IF(COUNTIF('N PMČR 2021'!B:B,B42)=0,\"-\",COUNTIF('N PMČR 2021'!B:B,B42))","v":5},{"$f":"IF(ISERROR(VLOOKUP(B42,'N PMČR 2021'!B:G,6,0)),\"-\",VLOOKUP(B42,'N PMČR 2021'!B:G,6,0))","v":"81."},{"$f":"IF(COUNTIF('N PMRg 2021'!B:B,B42)=0,\"-\",COUNTIF('N PMRg 2021'!B:B,B42))","v":60},{"$f":"IF(ISERROR(VLOOKUP(B42,'N PMRg 2021'!B:G,6,0)),\"-\",VLOOKUP(B42,'N PMRg 2021'!B:G,6,0))","v":"-"}]
[31,"-",{"$f":"VLOOKUP(B43,Pilot!A:C,3,0)","v":" "},{"$f":"VLOOKUP(B43,Pilot!A:C,2,0)","v":" "},{"$f":"VLOOKUP(B43,Pilot!A:E,5,0)","v":" "},{"$f":"VLOOKUP(B43,Pilot!A:F,6,0)","v":" "},31,null,40,{"$f":"IF(COUNTIF('N PMČR 2021'!B:B,B43)=0,\"-\",COUNTIF('N PMČR 2021'!B:B,B43))","v":5},{"$f":"IF(ISERROR(VLOOKUP(B43,'N PMČR 2021'!B:G,6,0)),\"-\",VLOOKUP(B43,'N PMČR 2021'!B:G,6,0))","v":"81."},{"$f":"IF(COUNTIF('N PMRg 2021'!B:B,B43)=0,\"-\",COUNTIF('N PMRg 2021'!B:B,B43))","v":60},{"$f":"IF(ISERROR(VLOOKUP(B43,'N PMRg 2021'!B:G,6,0)),\"-\",VLOOKUP(B43,'N PMRg 2021'!B:G,6,0))","v":"-"}]
[32,"-",{"$f":"VLOOKUP(B44,Pilot!A:C,3,0)","v":" "},{"$f":"VLOOKUP(B44,Pilot!A:C,2,0)","v":" "},{"$f":"VLOOKUP(B44,Pilot!A:E,5,0)","v":" "},{"$f":"VLOOKUP(B44,Pilot!A:F,6,0)","v":" "},32,null,40,{"$f":"IF(COUNTIF('N PMČR 2021'!B:B,B44)=0,\"-\",COUNTIF('N PMČR 2021'!B:B,B44))","v":5},{"$f":"IF(ISERROR(VLOOKUP(B44,'N PMČR 2021'!B:G,6,0)),\"-\",VLOOKUP(B44,'N PMČR 2021'!B:G,6,0))","v":"81."},{"$f":"IF(COUNTIF('N PMRg 2021'!B:B,B44)=0,\"-\",COUNTIF('N PMRg 2021'!B:B,B44))","v":60},{"$f":"IF(ISERROR(VLOOKUP(B44,'N PMRg 2021'!B:G,6,0)),\"-\",VLOOKUP(B44,'N PMRg 2021'!B:G,6,0))","v":"-"}]
[33,"-",{"$f":"VLOOKUP(B45,Pilot!A:C,3,0)","v":" "},{"$f":"VLOOKUP(B45,Pilot!A:C,2,0)","v":" "},{"$f":"VLOOKUP(B45,Pilot!A:E,5,0)","v":" "},{"$f":"VLOOKUP(B45,Pilot!A:F,6,0)","v":" "},{"$f":"A45","v":33},null,40,{"$f":"IF(COUNTIF('N PMČR 2021'!B:B,B45)=0,\"-\",COUNTIF('N PMČR 2021'!B:B,B45))","v":5},{"$f":"IF(ISERROR(VLOOKUP(B45,'N PMČR 2021'!B:G,6,0)),\"-\",VLOOKUP(B45,'N PMČR 2021'!B:G,6,0))","v":"81."},{"$f":"IF(COUNTIF('N PMRg 2021'!B:B,B45)=0,\"-\",COUNTIF('N PMRg 2021'!B:B,B45))","v":60},{"$f":"IF(ISERROR(VLOOKUP(B45,'N PMRg 2021'!B:G,6,0)),\"-\",VLOOKUP(B45,'N PMRg 2021'!B:G,6,0))","v":"-"}]
[34,"-",{"$f":"VLOOKUP(B46,Pilot!A:C,3,0)","v":" "},{"$f":"VLOOKUP(B46,Pilot!A:C,2,0)","v":" "},{"$f":"VLOOKUP(B46,Pilot!A:E,5,0)","v":" "},{"$f":"VLOOKUP(B46,Pilot!A:F,6,0)","v":" "},34,null,40,{"$f":"IF(COUNTIF('N PMČR 2021'!B:B,B46)=0,\"-\",COUNTIF('N PMČR 2021'!B:B,B46))","v":5},{"$f":"IF(ISERROR(VLOOKUP(B46,'N PMČR 2021'!B:G,6,0)),\"-\",VLOOKUP(B46,'N PMČR 2021'!B:G,6,0))","v":"81."},{"$f":"IF(COUNTIF('N PMRg 2021'!B:B,B46)=0,\"-\",COUNTIF('N PMRg 2021'!B:B,B46))","v":60},{"$f":"IF(ISERROR(VLOOKUP(B46,'N PMRg 2021'!B:G,6,0)),\"-\",VLOOKUP(B46,'N PMRg 2021'!B:G,6,0))","v":"-"}]
[35,"-",{"$f":"VLOOKUP(B47,Pilot!A:C,3,0)","v":" "},{"$f":"VLOOKUP(B47,Pilot!A:C,2,0)","v":" "},{"$f":"VLOOKUP(B47,Pilot!A:E,5,0)","v":" "},{"$f":"VLOOKUP(B47,Pilot!A:F,6,0)","v":" "},35,null,40,{"$f":"IF(COUNTIF('N PMČR 2021'!B:B,B47)=0,\"-\",COUNTIF('N PMČR 2021'!B:B,B47))","v":5},{"$f":"IF(ISERROR(VLOOKUP(B47,'N PMČR 2021'!B:G,6,0)),\"-\",VLOOKUP(B47,'N PMČR 2021'!B:G,6,0))","v":"81."},{"$f":"IF(COUNTIF('N PMRg 2021'!B:B,B47)=0,\"-\",COUNTIF('N PMRg 2021'!B:B,B47))","v":60},{"$f":"IF(ISERROR(VLOOKUP(B47,'N PMRg 2021'!B:G,6,0)),\"-\",VLOOKUP(B47,'N PMRg 2021'!B:G,6,0))","v":"-"}]
[36,"-",{"$f":"VLOOKUP(B48,Pilot!A:C,3,0)","v":" "},{"$f":"VLOOKUP(B48,Pilot!A:C,2,0)","v":" "},{"$f":"VLOOKUP(B48,Pilot!A:E,5,0)","v":" "},{"$f":"VLOOKUP(B48,Pilot!A:F,6,0)","v":" "},36,null,40,{"$f":"IF(COUNTIF('N PMČR 2021'!B:B,B48)=0,\"-\",COUNTIF('N PMČR 2021'!B:B,B48))","v":5},{"$f":"IF(ISERROR(VLOOKUP(B48,'N PMČR 2021'!B:G,6,0)),\"-\",VLOOKUP(B48,'N PMČR 2021'!B:G,6,0))","v":"81."},{"$f":"IF(COUNTIF('N PMRg 2021'!B:B,B48)=0,\"-\",COUNTIF('N PMRg 2021'!B:B,B48))","v":60},{"$f":"IF(ISERROR(VLOOKUP(B48,'N PMRg 2021'!B:G,6,0)),\"-\",VLOOKUP(B48,'N PMRg 2021'!B:G,6,0))","v":"-"}]
[37,"-",{"$f":"VLOOKUP(B49,Pilot!A:C,3,0)","v":" "},{"$f":"VLOOKUP(B49,Pilot!A:C,2,0)","v":" "},{"$f":"VLOOKUP(B49,Pilot!A:E,5,0)","v":" "},{"$f":"VLOOKUP(B49,Pilot!A:F,6,0)","v":" "},{"$f":"A49","v":37},null,40,{"$f":"IF(COUNTIF('N PMČR 2021'!B:B,B49)=0,\"-\",COUNTIF('N PMČR 2021'!B:B,B49))","v":5},{"$f":"IF(ISERROR(VLOOKUP(B49,'N PMČR 2021'!B:G,6,0)),\"-\",VLOOKUP(B49,'N PMČR 2021'!B:G,6,0))","v":"81."},{"$f":"IF(COUNTIF('N PMRg 2021'!B:B,B49)=0,\"-\",COUNTIF('N PMRg 2021'!B:B,B49))","v":60},{"$f":"IF(ISERROR(VLOOKUP(B49,'N PMRg 2021'!B:G,6,0)),\"-\",VLOOKUP(B49,'N PMRg 2021'!B:G,6,0))","v":"-"}]
[38,"-",{"$f":"VLOOKUP(B50,Pilot!A:C,3,0)","v":" "},{"$f":"VLOOKUP(B50,Pilot!A:C,2,0)","v":" "},{"$f":"VLOOKUP(B50,Pilot!A:E,5,0)","v":" "},{"$f":"VLOOKUP(B50,Pilot!A:F,6,0)","v":" "},{"$f":"A50","v":38},null,40,{"$f":"IF(COUNTIF('N PMČR 2021'!B:B,B50)=0,\"-\",COUNTIF('N PMČR 2021'!B:B,B50))","v":5},{"$f":"IF(ISERROR(VLOOKUP(B50,'N PMČR 2021'!B:G,6,0)),\"-\",VLOOKUP(B50,'N PMČR 2021'!B:G,6,0))","v":"81."},{"$f":"IF(COUNTIF('N PMRg 2021'!B:B,B50)=0,\"-\",COUNTIF('N PMRg 2021'!B:B,B50))","v":60},{"$f":"IF(ISERROR(VLOOKUP(B50,'N PMRg 2021'!B:G,6,0)),\"-\",VLOOKUP(B50,'N PMRg 2021'!B:G,6,0))","v":"-"}]
[39,"-",{"$f":"VLOOKUP(B51,Pilot!A:C,3,0)","v":" "},{"$f":"VLOOKUP(B51,Pilot!A:C,2,0)","v":" "},{"$f":"VLOOKUP(B51,Pilot!A:E,5,0)","v":" "},{"$f":"VLOOKUP(B51,Pilot!A:F,6,0)","v":" "},{"$f":"A51","v":39},null,{"$f":"COUNTIF(B:B,B51)","v":40},{"$f":"IF(COUNTIF('N PMČR 2021'!B:B,B51)=0,\"-\",COUNTIF('N PMČR 2021'!B:B,B51))","v":5},{"$f":"IF(ISERROR(VLOOKUP(B51,'N PMČR 2021'!B:G,6,0)),\"-\",VLOOKUP(B51,'N PMČR 2021'!B:G,6,0))","v":"81."},{"$f":"IF(COUNTIF('N PMRg 2021'!B:B,B51)=0,\"-\",COUNTIF('N PMRg 2021'!B:B,B51))","v":60},{"$f":"IF(ISERROR(VLOOKUP(B51,'N PMRg 2021'!B:G,6,0)),\"-\",VLOOKUP(B51,'N PMRg 2021'!B:G,6,0))","v":"-"}]
[40,"-",{"$f":"VLOOKUP(B52,Pilot!A:C,3,0)","v":" "},{"$f":"VLOOKUP(B52,Pilot!A:C,2,0)","v":" "},{"$f":"VLOOKUP(B52,Pilot!A:E,5,0)","v":" "},{"$f":"VLOOKUP(B52,Pilot!A:F,6,0)","v":" "},40,null,40,{"$f":"IF(COUNTIF('N PMČR 2021'!B:B,B52)=0,\"-\",COUNTIF('N PMČR 2021'!B:B,B52))","v":5},{"$f":"IF(ISERROR(VLOOKUP(B52,'N PMČR 2021'!B:G,6,0)),\"-\",VLOOKUP(B52,'N PMČR 2021'!B:G,6,0))","v":"81."},{"$f":"IF(COUNTIF('N PMRg 2021'!B:B,B52)=0,\"-\",COUNTIF('N PMRg 2021'!B:B,B52))","v":60},{"$f":"IF(ISERROR(VLOOKUP(B52,'N PMRg 2021'!B:G,6,0)),\"-\",VLOOKUP(B52,'N PMRg 2021'!B:G,6,0))","v":"-"}]
["N1","-",{"$f":"VLOOKUP(B53,Pilot!A:C,3,0)","v":" "},{"$f":"VLOOKUP(B53,Pilot!A:C,2,0)","v":" "},{"$f":"VLOOKUP(B53,Pilot!A:E,5,0)","v":" "},{"$f":"VLOOKUP(B53,Pilot!A:F,6,0)","v":" "},"N1",null,{"$f":"COUNTIF(B:B,B53)","v":40},{"$f":"IF(COUNTIF('N PMČR 2021'!B:B,B53)=0,\"-\",COUNTIF('N PMČR 2021'!B:B,B53))","v":5},{"$f":"IF(ISERROR(VLOOKUP(B53,'N PMČR 2021'!B:G,6,0)),\"-\",VLOOKUP(B53,'N PMČR 2021'!B:G,6,0))","v":"81."},{"$f":"IF(COUNTIF('N PMRg 2021'!B:B,B53)=0,\"-\",COUNTIF('N PMRg 2021'!B:B,B53))","v":60},{"$f":"IF(ISERROR(VLOOKUP(B53,'N PMRg 2021'!B:G,6,0)),\"-\",VLOOKUP(B53,'N PMRg 2021'!B:G,6,0))","v":"-"}]
["N2","-",{"$f":"VLOOKUP(B54,Pilot!A:C,3,0)","v":" "},{"$f":"VLOOKUP(B54,Pilot!A:C,2,0)","v":" "},{"$f":"VLOOKUP(B54,Pilot!A:E,5,0)","v":" "},{"$f":"VLOOKUP(B54,Pilot!A:F,6,0)","v":" "},"N2",null,{"$f":"COUNTIF(B:B,B54)","v":40},{"$f":"IF(COUNTIF('N PMČR 2021'!B:B,B54)=0,\"-\",COUNTIF('N PMČR 2021'!B:B,B54))","v":5},{"$f":"IF(ISERROR(VLOOKUP(B54,'N PMČR 2021'!B:G,6,0)),\"-\",VLOOKUP(B54,'N PMČR 2021'!B:G,6,0))","v":"81."},{"$f":"IF(COUNTIF('N PMRg 2021'!B:B,B54)=0,\"-\",COUNTIF('N PMRg 2021'!B:B,B54))","v":60},{"$f":"IF(ISERROR(VLOOKUP(B54,'N PMRg 2021'!B:G,6,0)),\"-\",VLOOKUP(B54,'N PMRg 2021'!B:G,6,0))","v":"-"}]
["N3","-",{"$f":"VLOOKUP(B55,Pilot!A:C,3,0)","v":" "},{"$f":"VLOOKUP(B55,Pilot!A:C,2,0)","v":" "},{"$f":"VLOOKUP(B55,Pilot!A:E,5,0)","v":" "},{"$f":"VLOOKUP(B55,Pilot!A:F,6,0)","v":" "},"N3",null,{"$f":"COUNTIF(B:B,B55)","v":40},{"$f":"IF(COUNTIF('N PMČR 2021'!B:B,B55)=0,\"-\",COUNTIF('N PMČR 2021'!B:B,B55))","v":5},{"$f":"IF(ISERROR(VLOOKUP(B55,'N PMČR 2021'!B:G,6,0)),\"-\",VLOOKUP(B55,'N PMČR 2021'!B:G,6,0))","v":"81."},{"$f":"IF(COUNTIF('N PMRg 2021'!B:B,B55)=0,\"-\",COUNTIF('N PMRg 2021'!B:B,B55))","v":60},{"$f":"IF(ISERROR(VLOOKUP(B55,'N PMRg 2021'!B:G,6,0)),\"-\",VLOOKUP(B55,'N PMRg 2021'!B:G,6,0))","v":"-"}]
["N4","-",{"$f":"VLOOKUP(B56,Pilot!A:C,3,0)","v":" "},{"$f":"VLOOKUP(B56,Pilot!A:C,2,0)","v":" "},{"$f":"VLOOKUP(B56,Pilot!A:E,5,0)","v":" "},{"$f":"VLOOKUP(B56,Pilot!A:F,6,0)","v":" "},"N4",null,{"$f":"COUNTIF(B:B,B56)","v":40},{"$f":"IF(COUNTIF('N PMČR 2021'!B:B,B56)=0,\"-\",COUNTIF('N PMČR 2021'!B:B,B56))","v":5},{"$f":"IF(ISERROR(VLOOKUP(B56,'N PMČR 2021'!B:G,6,0)),\"-\",VLOOKUP(B56,'N PMČR 2021'!B:G,6,0))","v":"81."},{"$f":"IF(COUNTIF('N PMRg 2021'!B:B,B56)=0,\"-\",COUNTIF('N PMRg 2021'!B:B,B56))","v":60},{"$f":"IF(ISERROR(VLOOKUP(B56,'N PMRg 2021'!B:G,6,0)),\"-\",VLOOKUP(B56,'N PMRg 2021'!B:G,6,0))","v":"-"}]
["N5","-",{"$f":"VLOOKUP(B57,Pilot!A:C,3,0)","v":" "},{"$f":"VLOOKUP(B57,Pilot!A:C,2,0)","v":" "},{"$f":"VLOOKUP(B57,Pilot!A:E,5,0)","v":" "},{"$f":"VLOOKUP(B57,Pilot!A:F,6,0)","v":" "},"N5",null,{"$f":"COUNTIF(B:B,B57)","v":40},{"$f":"IF(COUNTIF('N PMČR 2021'!B:B,B57)=0,\"-\",COUNTIF('N PMČR 2021'!B:B,B57))","v":5},{"$f":"IF(ISERROR(VLOOKUP(B57,'N PMČR 2021'!B:G,6,0)),\"-\",VLOOKUP(B57,'N PMČR 2021'!B:G,6,0))","v":"81."},{"$f":"IF(COUNTIF('N PMRg 2021'!B:B,B57)=0,\"-\",COUNTIF('N PMRg 2021'!B:B,B57))","v":60},{"$f":"IF(ISERROR(VLOOKUP(B57,'N PMRg 2021'!B:G,6,0)),\"-\",VLOOKUP(B57,'N PMRg 2021'!B:G,6,0))","v":"-"}]
["6.7.5.5.","akademici, kteří nesplňují statut juniora, mají na PMČRj rezervováno 5 soutěžních míst nad rámec nominace stanovené bodem 6.7.5.4."]
["-","-",{"$f":"VLOOKUP(B59,Pilot!A:C,3,0)","v":" "},{"$f":"VLOOKUP(B59,Pilot!A:C,2,0)","v":" "},{"$f":"VLOOKUP(B59,Pilot!A:E,5,0)","v":" "},{"$f":"VLOOKUP(B59,Pilot!A:F,6,0)","v":" "},{"$f":"A59","v":"-"},null,{"$f":"COUNTIF(B:B,B59)","v":40},{"$f":"IF(COUNTIF('N PMČR 2021'!B:B,B59)=0,\"-\",COUNTIF('N PMČR 2021'!B:B,B59))","v":5},{"$f":"IF(ISERROR(VLOOKUP(B59,'N PMČR 2021'!B:G,6,0)),\"-\",VLOOKUP(B59,'N PMČR 2021'!B:G,6,0))","v":"81."},{"$f":"IF(COUNTIF('N PMRg 2021'!B:B,B59)=0,\"-\",COUNTIF('N PMRg 2021'!B:B,B59))","v":60},{"$f":"IF(ISERROR(VLOOKUP(B59,'N PMRg 2021'!B:G,6,0)),\"-\",VLOOKUP(B59,'N PMRg 2021'!B:G,6,0))","v":"-"}]
["-","-",{"$f":"VLOOKUP(B60,Pilot!A:C,3,0)","v":" "},{"$f":"VLOOKUP(B60,Pilot!A:C,2,0)","v":" "},{"$f":"VLOOKUP(B60,Pilot!A:E,5,0)","v":" "},{"$f":"VLOOKUP(B60,Pilot!A:F,6,0)","v":" "},{"$f":"A60","v":"-"},null,{"$f":"COUNTIF(B:B,B60)","v":40},{"$f":"IF(COUNTIF('N PMČR 2021'!B:B,B60)=0,\"-\",COUNTIF('N PMČR 2021'!B:B,B60))","v":5},{"$f":"IF(ISERROR(VLOOKUP(B60,'N PMČR 2021'!B:G,6,0)),\"-\",VLOOKUP(B60,'N PMČR 2021'!B:G,6,0))","v":"81."},{"$f":"IF(COUNTIF('N PMRg 2021'!B:B,B60)=0,\"-\",COUNTIF('N PMRg 2021'!B:B,B60))","v":60},{"$f":"IF(ISERROR(VLOOKUP(B60,'N PMRg 2021'!B:G,6,0)),\"-\",VLOOKUP(B60,'N PMRg 2021'!B:G,6,0))","v":"-"}]
["-","-",{"$f":"VLOOKUP(B61,Pilot!A:C,3,0)","v":" "},{"$f":"VLOOKUP(B61,Pilot!A:C,2,0)","v":" "},{"$f":"VLOOKUP(B61,Pilot!A:E,5,0)","v":" "},{"$f":"VLOOKUP(B61,Pilot!A:F,6,0)","v":" "},{"$f":"A61","v":"-"},null,{"$f":"COUNTIF(B:B,B61)","v":40},{"$f":"IF(COUNTIF('N PMČR 2021'!B:B,B61)=0,\"-\",COUNTIF('N PMČR 2021'!B:B,B61))","v":5},{"$f":"IF(ISERROR(VLOOKUP(B61,'N PMČR 2021'!B:G,6,0)),\"-\",VLOOKUP(B61,'N PMČR 2021'!B:G,6,0))","v":"81."},{"$f":"IF(COUNTIF('N PMRg 2021'!B:B,B61)=0,\"-\",COUNTIF('N PMRg 2021'!B:B,B61))","v":60},{"$f":"IF(ISERROR(VLOOKUP(B61,'N PMRg 2021'!B:G,6,0)),\"-\",VLOOKUP(B61,'N PMRg 2021'!B:G,6,0))","v":"-"}]
["-","-",{"$f":"VLOOKUP(B62,Pilot!A:C,3,0)","v":" "},{"$f":"VLOOKUP(B62,Pilot!A:C,2,0)","v":" "},{"$f":"VLOOKUP(B62,Pilot!A:E,5,0)","v":" "},{"$f":"VLOOKUP(B62,Pilot!A:F,6,0)","v":" "},{"$f":"A62","v":"-"},null,{"$f":"COUNTIF(B:B,B62)","v":40},{"$f":"IF(COUNTIF('N PMČR 2021'!B:B,B62)=0,\"-\",COUNTIF('N PMČR 2021'!B:B,B62))","v":5},{"$f":"IF(ISERROR(VLOOKUP(B62,'N PMČR 2021'!B:G,6,0)),\"-\",VLOOKUP(B62,'N PMČR 2021'!B:G,6,0))","v":"81."},{"$f":"IF(COUNTIF('N PMRg 2021'!B:B,B62)=0,\"-\",COUNTIF('N PMRg 2021'!B:B,B62))","v":60},{"$f":"IF(ISERROR(VLOOKUP(B62,'N PMRg 2021'!B:G,6,0)),\"-\",VLOOKUP(B62,'N PMRg 2021'!B:G,6,0))","v":"-"}]
["-","-",{"$f":"VLOOKUP(B63,Pilot!A:C,3,0)","v":" "},{"$f":"VLOOKUP(B63,Pilot!A:C,2,0)","v":" "},{"$f":"VLOOKUP(B63,Pilot!A:E,5,0)","v":" "},{"$f":"VLOOKUP(B63,Pilot!A:F,6,0)","v":" "},{"$f":"A63","v":"-"},null,{"$f":"COUNTIF(B:B,B63)","v":40},{"$f":"IF(COUNTIF('N PMČR 2021'!B:B,B63)=0,\"-\",COUNTIF('N PMČR 2021'!B:B,B63))","v":5},{"$f":"IF(ISERROR(VLOOKUP(B63,'N PMČR 2021'!B:G,6,0)),\"-\",VLOOKUP(B63,'N PMČR 2021'!B:G,6,0))","v":"81."},{"$f":"IF(COUNTIF('N PMRg 2021'!B:B,B63)=0,\"-\",COUNTIF('N PMRg 2021'!B:B,B63))","v":60},{"$f":"IF(ISERROR(VLOOKUP(B63,'N PMRg 2021'!B:G,6,0)),\"-\",VLOOKUP(B63,'N PMRg 2021'!B:G,6,0))","v":"-"}]
["6.7.5.6.","další soutěžící může navrhnout PK podle jiných kritérií dle odstavce 9. SŘ"]
["-","-",{"$f":"VLOOKUP(B65,Pilot!A:C,3,0)","v":" "},{"$f":"VLOOKUP(B65,Pilot!A:C,2,0)","v":" "},{"$f":"VLOOKUP(B65,Pilot!A:E,5,0)","v":" "},{"$f":"VLOOKUP(B65,Pilot!A:F,6,0)","v":" "},{"$f":"A65","v":"-"},null,{"$f":"COUNTIF(B:B,B65)","v":40},{"$f":"IF(COUNTIF('N PMČR 2021'!B:B,B65)=0,\"-\",COUNTIF('N PMČR 2021'!B:B,B65))","v":5},{"$f":"IF(ISERROR(VLOOKUP(B65,'N PMČR 2021'!B:G,6,0)),\"-\",VLOOKUP(B65,'N PMČR 2021'!B:G,6,0))","v":"81."},{"$f":"IF(COUNTIF('N PMRg 2021'!B:B,B65)=0,\"-\",COUNTIF('N PMRg 2021'!B:B,B65))","v":60},{"$f":"IF(ISERROR(VLOOKUP(B65,'N PMRg 2021'!B:G,6,0)),\"-\",VLOOKUP(B65,'N PMRg 2021'!B:G,6,0))","v":"-"}]
["-","-",{"$f":"VLOOKUP(B66,Pilot!A:C,3,0)","v":" "},{"$f":"VLOOKUP(B66,Pilot!A:C,2,0)","v":" "},{"$f":"VLOOKUP(B66,Pilot!A:E,5,0)","v":" "},{"$f":"VLOOKUP(B66,Pilot!A:F,6,0)","v":" "},{"$f":"A66","v":"-"},null,{"$f":"COUNTIF(B:B,B66)","v":40},{"$f":"IF(COUNTIF('N PMČR 2021'!B:B,B66)=0,\"-\",COUNTIF('N PMČR 2021'!B:B,B66))","v":5},{"$f":"IF(ISERROR(VLOOKUP(B66,'N PMČR 2021'!B:G,6,0)),\"-\",VLOOKUP(B66,'N PMČR 2021'!B:G,6,0))","v":"81."},{"$f":"IF(COUNTIF('N PMRg 2021'!B:B,B66)=0,\"-\",COUNTIF('N PMRg 2021'!B:B,B66))","v":60},{"$f":"IF(ISERROR(VLOOKUP(B66,'N PMRg 2021'!B:G,6,0)),\"-\",VLOOKUP(B66,'N PMRg 2021'!B:G,6,0))","v":"-"}]
["-","-",{"$f":"VLOOKUP(B67,Pilot!A:C,3,0)","v":" "},{"$f":"VLOOKUP(B67,Pilot!A:C,2,0)","v":" "},{"$f":"VLOOKUP(B67,Pilot!A:E,5,0)","v":" "},{"$f":"VLOOKUP(B67,Pilot!A:F,6,0)","v":" "},{"$f":"A67","v":"-"},null,{"$f":"COUNTIF(B:B,B67)","v":40},{"$f":"IF(COUNTIF('N PMČR 2021'!B:B,B67)=0,\"-\",COUNTIF('N PMČR 2021'!B:B,B67))","v":5},{"$f":"IF(ISERROR(VLOOKUP(B67,'N PMČR 2021'!B:G,6,0)),\"-\",VLOOKUP(B67,'N PMČR 2021'!B:G,6,0))","v":"81."},{"$f":"IF(COUNTIF('N PMRg 2021'!B:B,B67)=0,\"-\",COUNTIF('N PMRg 2021'!B:B,B67))","v":60},{"$f":"IF(ISERROR(VLOOKUP(B67,'N PMRg 2021'!B:G,6,0)),\"-\",VLOOKUP(B67,'N PMRg 2021'!B:G,6,0))","v":"-"}]
["-","-",{"$f":"VLOOKUP(B68,Pilot!A:C,3,0)","v":" "},{"$f":"VLOOKUP(B68,Pilot!A:C,2,0)","v":" "},{"$f":"VLOOKUP(B68,Pilot!A:E,5,0)","v":" "},{"$f":"VLOOKUP(B68,Pilot!A:F,6,0)","v":" "},{"$f":"A68","v":"-"},null,{"$f":"COUNTIF(B:B,B68)","v":40},{"$f":"IF(COUNTIF('N PMČR 2021'!B:B,B68)=0,\"-\",COUNTIF('N PMČR 2021'!B:B,B68))","v":5},{"$f":"IF(ISERROR(VLOOKUP(B68,'N PMČR 2021'!B:G,6,0)),\"-\",VLOOKUP(B68,'N PMČR 2021'!B:G,6,0))","v":"81."},{"$f":"IF(COUNTIF('N PMRg 2021'!B:B,B68)=0,\"-\",COUNTIF('N PMRg 2021'!B:B,B68))","v":60},{"$f":"IF(ISERROR(VLOOKUP(B68,'N PMRg 2021'!B:G,6,0)),\"-\",VLOOKUP(B68,'N PMRg 2021'!B:G,6,0))","v":"-"}]
["-","-",{"$f":"VLOOKUP(B69,Pilot!A:C,3,0)","v":" "},{"$f":"VLOOKUP(B69,Pilot!A:C,2,0)","v":" "},{"$f":"VLOOKUP(B69,Pilot!A:E,5,0)","v":" "},{"$f":"VLOOKUP(B69,Pilot!A:F,6,0)","v":" "},{"$f":"A69","v":"-"},null,{"$f":"COUNTIF(B:B,B69)","v":40},{"$f":"IF(COUNTIF('N PMČR 2021'!B:B,B69)=0,\"-\",COUNTIF('N PMČR 2021'!B:B,B69))","v":5},{"$f":"IF(ISERROR(VLOOKUP(B69,'N PMČR 2021'!B:G,6,0)),\"-\",VLOOKUP(B69,'N PMČR 2021'!B:G,6,0))","v":"81."},{"$f":"IF(COUNTIF('N PMRg 2021'!B:B,B69)=0,\"-\",COUNTIF('N PMRg 2021'!B:B,B69))","v":60},{"$f":"IF(ISERROR(VLOOKUP(B69,'N PMRg 2021'!B:G,6,0)),\"-\",VLOOKUP(B69,'N PMRg 2021'!B:G,6,0))","v":"-"}]
[]
["6.7.6.","Statut juniora"]
[null,"Za juniora jsou považování všichni soutěžící, kteří dovrší maximálně 25 let v kalendářním roce konání soutěže."]
["6.7.6.","Statut akademika"]
[null,"Za akademika jsou považováni všichni soutěžící, kteří jsou řádnými studenty (vlastní platný studijní index) pregraduálního prezenčního, kombinovaného, nebo postgraduálního studia. Dále absolventi jakéhokoliv vysokoškolského studia do 1 roku po promoci."]
[null,"Týká se pouze Vysokých škol registrovaných u MŠMT."]
[null,"Účast akademiků na PMČRj je omezena dovršením maximálně 28 let v kalendářním roce konání soutěže."]
[]
[]
["Schváleno Plachtařskou komisí AeČR dne xx.yy.2020 v ZZZZ"]